{"text_format":"1","workbook":"xlsx","n_sheets":21,"sheets":["MENU","ABOUT","NAMES","SEED","GAMES","RESULTS","RESULTS DATA","SCORES","BLOCK","SCORECARD","PLAYER","WORLD RANKING RESULTS","HANDICAP CARD","AHS1","HANDICAPS","PUBLISHING","MISC","BLOCK SCHEDULE","SCHEDULE","WAIT","TABLE"],"not_rendered":{"charts":0,"images":20,"macros":1,"external_links":0,"defined_names":504,"comments":0,"pivot_tables":0},"unopened":[],"bounds":{"document_bytes":16777216,"sheet_cells":100000,"rows_first":2000,"rows_last":500,"rows_between":2000,"halvings":0,"cell_chars":16384,"cell_head_chars":4096},"cells_cut":0,"cells_raw":0,"read":"whole","date_system":"1900"}

{"sheet":"MENU","index":0,"n_rows":43,"n_cols":2,"rows_kept":43,"cut":false,"hidden":false,"merged":[[42,1,42,13],[44,6,44,16]]}
[]
[]
[]
[]
[]
[]
[]
[]
[]
[]
[]
[]
[]
[]
[]
[]
[]
[]
[]
[]
[]
[]
[]
[]
[]
[]
[]
[]
[]
[]
[]
[]
[]
[]
[]
[]
[]
[]
[]
[]
[]
[]
[null,"© Roger Buddle"]

{"sheet":"ABOUT","index":1,"n_rows":160,"n_cols":14,"rows_kept":160,"cut":false,"hidden":false,"merged":[]}
[]
[]
[]
[]
[]
[]
[]
[]
[]
[]
[]
[]
[]
[]
[]
[]
[]
[]
[]
[]
[]
[]
[]
[]
[]
[]
[]
[]
[]
[]
[]
[]
[]
[]
[]
[]
[]
[]
[]
[]
[]
[]
[]
[]
[]
[]
[]
[]
[]
[]
[]
[]
[]
[]
[]
[]
[]
[]
[]
[]
[]
[]
[]
[]
[]
[]
[]
[]
[]
[]
[]
[]
[]
[]
[]
[]
[]
[]
[]
[]
[]
[]
[]
[]
[]
[]
[]
[]
[]
[]
[]
[]
[]
[]
[]
[]
[]
[]
[]
[]
[]
[]
[]
[]
[]
[]
[]
[]
[]
[]
[]
[]
[]
[]
[]
[]
[]
[]
[]
[]
[]
[]
[]
[]
[]
[]
[]
[]
[]
[]
[]
[]
[]
[]
[]
[]
[]
[]
[]
[]
[]
[]
[]
[]
[]
[]
[]
[]
[]
[]
[]
[]
[]
[]
[]
[]
[]
[]
[]
[null,null,null,null,null,null,null,null,null,null,null,null,null," "]

{"sheet":"NAMES","index":2,"n_rows":214,"n_cols":18,"rows_kept":214,"cut":false,"hidden":true,"merged":[]}
[]
[]
[null,null,null,"<- For Handicap Play insert an X here"]
[]
[null,null,null,"<- For Doubles insert an X here",null,null,null,null,null,null,null,null,null,null,null,"TEST DATA",null,"INITIAL DATA"]
[null,null,null,null,{"$f":"IF(C5=\"X\",\" & \",\" \")","v":" "}]
["TOURNAMENT NAME",null,"Tournament","<- Enter tournament name",null,null,null,null,null,null,null,null,null,null,null,"Tournament",null,"Tournament"]
["GROUP NAME",null,"Singles","<- Enter name of Group",null,null,null,null,null,null,null,null,null,null,null,"Singles",null,"Singles"]
["TOURNAMENT DATE",null,"Date",null,null,null,null,null,null,null,null,null,null,null,null,"Date",null,"Date"]
["BLOCK 1 NAME",null,"BLOCK 1","<- Enter name of Block",null,null,null,null,null,null,null,null,null,null,null,"BLOCK 1",null,"BLOCK 1"]
["SEED 1 - First Name",null,"Block 1",null,null,null,null,null,null,null,null,null,null,null,null,"Block 1",null,"Block 1"]
["Last Name",null,"Player 1",null,null,null,null,null,null,null,null,null,null,null,null,"Player 1",null,"Player 1"]
["ID Number"]
["Handicap",null,null,null,null,null,null,null,null,null,null,null,null,null,null,1]
["Index",null,null,null,null,null,null,null,null,null,null,null,null,null,null,1900]
["SEED 2 - First Name",null,"Block 1",null,null,null,null,null,null,null,null,null,null,null,null,"Block 1",null,"Block 1"]
["Last Name",null,"Player 2",null,null,null,null,null,null,null,null,null,null,null,null,"Player 2",null,"Player 2"]
["ID Number"]
["Handicap",null,null,null,null,null,null,null,null,null,null,null,null,null,null,2]
["Index",null,null,null,null,null,null,null,null,null,null,null,null,null,null,1800]
["SEED 3 - First Name",null,"Block 1",null,"Notes entered below will appear at the bottom of each player's sheet.",null,null,null,null,null,null,null,null,null,null,"Block 1",null,"Block 1"]
["Last Name",null,"Player 3","Note 1->","Time limit 2.5 hours, Turn After Bell (61.1.6). Quadway hoops (3 11/16\"), Dawson International balls",null,null,null,null,null,null,null,null,null,null,"Player 3",null,"Player 3"]
["ID Number",null,null,"Note 2->","Games may start early. Please be at the venue at least 30 minutes earlier than the scheduled start time."]
["Handicap",null,null,"Note 3->","Entry Fee $40 will be invoiced by email. Please pay by EFT using the invoice No. as reference.",null,null,null,null,null,null,null,null,null,null,3]
["Index",null,null,"Note 4->","Players please assist with setting and clearing courts.",null,null,null,null,null,null,null,null,null,null,1700]
["SEED 4 - First Name",null,"Block 1",null,null,null,null,null,null,null,null,null,null,null,null,"Block 1",null,"Block 1"]
["Last Name",null,"Player 4",null,"To hide the notes use spaces not deletes. A delete shows as a \"0\".",null,null,null,null,null,null,null,null,null,null,"Player 4",null,"Player 4"]
["ID Number"]
["Handicap",null,null,null,null,null,null,null,null,null,null,null,null,null,null,4]
["Index",null,null,null,null,null,null,null,null,null,null,null,null,null,null,1600]
["SEED 5 - First Name",null,"Block 1",null,null,null,null,null,null,null,null,null,null,null,null,"Block 1",null,"Block 1"]
["Last Name",null,"Player 5",null,null,null,null,null,null,null,null,null,null,null,null,"Player 5",null,"Player 5"]
["ID Number"]
["Handicap",null,null,null,null,null,null,null,null,null,null,null,null,null,null,5]
["Index",null,null,null,null,null,null,null,null,null,null,null,null,null,null,1500]
["SEED 6 - First Name",null,"Block 1",null,null,null,null,null,null,null,null,null,null,null,null,"Block 1",null,"Block 1"]
["Last Name",null,"Player 6",null,null,null,null,null,null,null,null,null,null,null,null,"Player 6",null,"Player 6"]
["ID Number"]
["Handicap",null,null,null,null,null,null,null,null,null,null,null,null,null,null,6]
["Index",null,null,null,null,null,null,null,null,null,null,null,null,null,null,1450]
["SEED 7 - First Name",null,"Block 1",null,null,null,null,null,null,null,null,null,null,null,null,"Block 1",null,"Block 1"]
["Last Name",null,"Player 7",null,null,null,null,null,null,null,null,null,null,null,null,"Player 7",null,"Player 7"]
["ID Number"]
["Handicap",null,null,null,null,null,null,null,null,null,null,null,null,null,null,7]
["Index",null,null,null,null,null,null,null,null,null,null,null,null,null,null,1400]
["SEED 8 - First Name",null,"Bye",null,null,null,null,null,null,null,null,null,null,null,null,"Bye",null,"Bye"]
["Last Name"]
["ID Number"]
["Handicap"]
["Index"]
["BLOCK 2 NAME",null,"BLOCK 2","<- Enter name of Block",null,null,null,null,null,null,null,null,null,null,null,"BLOCK 2",null,"BLOCK 2"]
["SEED 1 - First Name",null,"Block 2",null,null,null,null,null,null,null,null,null,null,null,null,"Block 2",null,"Block 2"]
["Last Name",null,"Player 1",null,null,null,null,null,null,null,null,null,null,null,null,"Player 1",null,"Player 1"]
["ID Number"]
["Handicap",null,null,null,null,null,null,null,null,null,null,null,null,null,null,1]
["Index",null,null,null,null,null,null,null,null,null,null,null,null,null,null,1900]
["SEED 2 - First Name",null,"Block 2",null,null,null,null,null,null,null,null,null,null,null,null,"Block 2",null,"Block 2"]
["Last Name",null,"Player 2",null,null,null,null,null,null,null,null,null,null,null,null,"Player 2",null,"Player 2"]
["ID Number"]
["Handicap",null,null,null,null,null,null,null,null,null,null,null,null,null,null,2]
["Index",null,null,null,null,null,null,null,null,null,null,null,null,null,null,1800]
["SEED 3 - First Name",null,"Block 2",null,null,null,null,null,null,null,null,null,null,null,null,"Block 2",null,"Block 2"]
["Last Name",null,"Player 3",null,null,null,null,null,null,null,null,null,null,null,null,"Player 3",null,"Player 3"]
["ID Number"]
["Handicap",null,null,null,null,null,null,null,null,null,null,null,null,null,null,3]
["Index",null,null,null,null,null,null,null,null,null,null,null,null,null,null,1700]
["SEED 4 - First Name",null,"Block 2",null,null,null,null,null,null,null,null,null,null,null,null,"Block 2",null,"Block 2"]
["Last Name",null,"Player 4",null,null,null,null,null,null,null,null,null,null,null,null,"Player 4",null,"Player 4"]
["ID Number"]
["Handicap",null,null,null,null,null,null,null,null,null,null,null,null,null,null,4]
["Index",null,null,null,null,null,null,null,null,null,null,null,null,null,null,1600]
["SEED 5 - First Name",null,"Block 2",null,null,null,null,null,null,null,null,null,null,null,null,"Block 2",null,"Block 2"]
["Last Name",null,"Player 5",null,null,null,null,null,null,null,null,null,null,null,null,"Player 5",null,"Player 5"]
["ID Number"]
["Handicap",null,null,null,null,null,null,null,null,null,null,null,null,null,null,5]
["Index",null,null,null,null,null,null,null,null,null,null,null,null,null,null,1500]
["SEED 6 - First Name",null,"Block 2",null,null,null,null,null,null,null,null,null,null,null,null,"Block 2",null,"Block 2"]
["Last Name",null,"Player 6",null,null,null,null,null,null,null,null,null,null,null,null,"Player 6",null,"Player 6"]
["ID Number"]
["Handicap",null,null,null,null,null,null,null,null,null,null,null,null,null,null,6]
["Index",null,null,null,null,null,null,null,null,null,null,null,null,null,null,1450]
["SEED 7 - First Name",null,"Block 2",null,null,null,null,null,null,null,null,null,null,null,null,"Block 2",null,"Block 2"]
["Last Name",null,"Player 7",null,null,null,null,null,null,null,null,null,null,null,null,"Player 7",null,"Player 7"]
["ID Number"]
["Handicap",null,null,null,null,null,null,null,null,null,null,null,null,null,null,7]
["Index",null,null,null,null,null,null,null,null,null,null,null,null,null,null,1400]
["SEED 8 - First Name",null,"Bye",null,null,null,null,null,null,null,null,null,null,null,null,"Bye",null,"Bye"]
["Last Name"]
["ID Number"]
["Handicap"]
["Index"]
["BLOCK 3 NAME",null,"BLOCK 3","<- Enter name of Block",null,null,null,null,null,null,null,null,null,null,null,"BLOCK 3",null,"BLOCK 3"]
["SEED 1 - First Name",null,"Block 3",null,null,null,null,null,null,null,null,null,null,null,null,"Block 3",null,"Block 3"]
["Last Name",null,"Player 1",null,null,null,null,null,null,null,null,null,null,null,null,"Player 1",null,"Player 1"]
["ID Number"]
["Handicap",null,null,null,null,null,null,null,null,null,null,null,null,null,null,1]
["Index",null,null,null,null,null,null,null,null,null,null,null,null,null,null,1900]
["SEED 2 - First Name",null,"Block 3",null,null,null,null,null,null,null,null,null,null,null,null,"Block 3",null,"Block 3"]
["Last Name",null,"Player 2",null,null,null,null,null,null,null,null,null,null,null,null,"Player 2",null,"Player 2"]
["ID Number"]
["Handicap",null,null,null,null,null,null,null,null,null,null,null,null,null,null,2]
["Index",null,null,null,null,null,null,null,null,null,null,null,null,null,null,1800]
["SEED 3 - First Name",null,"Block 3",null,null,null,null,null,null,null,null,null,null,null,null,"Block 3",null,"Block 3"]
["Last Name",null,"Player 3",null,null,null,null,null,null,null,null,null,null,null,null,"Player 3",null,"Player 3"]
["ID Number"]
["Handicap",null,null,null,null,null,null,null,null,null,null,null,null,null,null,3]
["Index",null,null,null,null,null,null,null,null,null,null,null,null,null,null,1700]
["SEED 4 - First Name",null,"Block 3",null,null,null,null,null,null,null,null,null,null,null,null,"Block 3",null,"Block 3"]
["Last Name",null,"Player 4",null,null,null,null,null,null,null,null,null,null,null,null,"Player 4",null,"Player 4"]
["ID Number"]
["Handicap",null,null,null,null,null,null,null,null,null,null,null,null,null,null,4]
["Index",null,null,null,null,null,null,null,null,null,null,null,null,null,null,1600]
["SEED 5 - First Name",null,"Block 3",null,null,null,null,null,null,null,null,null,null,null,null,"Block 3",null,"Block 3"]
["Last Name",null,"Player 5",null,null,null,null,null,null,null,null,null,null,null,null,"Player 5",null,"Player 5"]
["ID Number"]
["Handicap",null,null,null,null,null,null,null,null,null,null,null,null,null,null,5]
["Index",null,null,null,null,null,null,null,null,null,null,null,null,null,null,1500]
["SEED 6 - First Name",null,"Block 3",null,null,null,null,null,null,null,null,null,null,null,null,"Block 3",null,"Block 3"]
["Last Name",null,"Player 6",null,null,null,null,null,null,null,null,null,null,null,null,"Player 6",null,"Player 6"]
["ID Number"]
["Handicap",null,null,null,null,null,null,null,null,null,null,null,null,null,null,6]
["Index",null,null,null,null,null,null,null,null,null,null,null,null,null,null,1450]
["SEED 7 - First Name",null,"Block 3",null,null,null,null,null,null,null,null,null,null,null,null,"Block 3",null,"Block 3"]
["Last Name",null,"Player 7",null,null,null,null,null,null,null,null,null,null,null,null,"Player 7",null,"Player 7"]
["ID Number"]
["Handicap",null,null,null,null,null,null,null,null,null,null,null,null,null,null,7]
["Index",null,null,null,null,null,null,null,null,null,null,null,null,null,null,1400]
["SEED 8 - First Name",null,"Bye",null,null,null,null,null,null,null,null,null,null,null,null,"Bye",null,"Bye"]
["Last Name"]
["ID Number"]
["Handicap"]
["Index"]
["BLOCK 4 NAME",null,"BLOCK 4","<- Enter name of Block",null,null,null,null,null,null,null,null,null,null,null,"BLOCK 4",null,"BLOCK 4"]
["SEED 1 - First Name",null,"Block 4",null,null,null,null,null,null,null,null,null,null,null,null,"Block 4",null,"Block 4"]
["Last Name",null,"Player 1",null,null,null,null,null,null,null,null,null,null,null,null,"Player 1",null,"Player 1"]
["ID Number"]
["Handicap",null,null,null,null,null,null,null,null,null,null,null,null,null,null,1]
["Index",null,null,null,null,null,null,null,null,null,null,null,null,null,null,1900]
["SEED 2 - First Name",null,"Block 4",null,null,null,null,null,null,null,null,null,null,null,null,"Block 4",null,"Block 4"]
["Last Name",null,"Player 2",null,null,null,null,null,null,null,null,null,null,null,null,"Player 2",null,"Player 2"]
["ID Number"]
["Handicap",null,null,null,null,null,null,null,null,null,null,null,null,null,null,2]
["Index",null,null,null,null,null,null,null,null,null,null,null,null,null,null,1800]
["SEED 3 - First Name",null,"Block 4",null,null,null,null,null,null,null,null,null,null,null,null,"Block 4",null,"Block 4"]
["Last Name",null,"Player 3",null,null,null,null,null,null,null,null,null,null,null,null,"Player 3",null,"Player 3"]
["ID Number"]
["Handicap",null,null,null,null,null,null,null,null,null,null,null,null,null,null,3]
["Index",null,null,null,null,null,null,null,null,null,null,null,null,null,null,1700]
["SEED 4 - First Name",null,"Block 4",null,null,null,null,null,null,null,null,null,null,null,null,"Block 4",null,"Block 4"]
["Last Name",null,"Player 4",null,null,null,null,null,null,null,null,null,null,null,null,"Player 4",null,"Player 4"]
["ID Number"]
["Handicap",null,null,null,null,null,null,null,null,null,null,null,null,null,null,4]
["Index",null,null,null,null,null,null,null,null,null,null,null,null,null,null,1600]
["SEED 5 - First Name",null,"Block 4",null,null,null,null,null,null,null,null,null,null,null,null,"Block 4",null,"Block 4"]
["Last Name",null,"Player 5",null,null,null,null,null,null,null,null,null,null,null,null,"Player 5",null,"Player 5"]
["ID Number"]
["Handicap",null,null,null,null,null,null,null,null,null,null,null,null,null,null,5]
["Index",null,null,null,null,null,null,null,null,null,null,null,null,null,null,1500]
["SEED 6 - First Name",null,"Block 4",null,null,null,null,null,null,null,null,null,null,null,null,"Block 4",null,"Block 4"]
["Last Name",null,"Player 6",null,null,null,null,null,null,null,null,null,null,null,null,"Player 6",null,"Player 6"]
["Index"]
["Handicap",null,null,null,null,null,null,null,null,null,null,null,null,null,null,6]
["Index",null,null,null,null,null,null,null,null,null,null,null,null,null,null,1450]
["SEED 7 - First Name",null,"Block 4",null,null,null,null,null,null,null,null,null,null,null,null,"Block 4",null,"Block 4"]
["Last Name",null,"Player 7",null,null,null,null,null,null,null,null,null,null,null,null,"Player 7",null,"Player 7"]
["ID Number"]
["Handicap",null,null,null,null,null,null,null,null,null,null,null,null,null,null,7]
["Index",null,null,null,null,null,null,null,null,null,null,null,null,null,null,1400]
["SEED 8 - First Name",null,"Bye",null,null,null,null,null,null,null,null,null,null,null,null,"Bye",null,"Bye"]
["Last Name"]
["ID Number"]
["Handicap"]
["Index"]
["BLOCK 5 NAME",null,"BLOCK 5","<- Enter name of Block",null,null,null,null,null,null,null,null,null,null,null,"BLOCK 5",null,"BLOCK 5"]
["SEED 1 - First Name",null,"Block 5",null,null,null,null,null,null,null,null,null,null,null,null,"Block 5",null,"Block 5"]
["Last Name",null,"Player 1",null,null,null,null,null,null,null,null,null,null,null,null,"Player 1",null,"Player 1"]
["ID Number"]
["Handicap",null,null,null,null,null,null,null,null,null,null,null,null,null,null,1]
["Index",null,null,null,null,null,null,null,null,null,null,null,null,null,null,1900]
["SEED 2 - First Name",null,"Block 5",null,null,null,null,null,null,null,null,null,null,null,null,"Block 5",null,"Block 5"]
["Last Name",null,"Player 2",null,null,null,null,null,null,null,null,null,null,null,null,"Player 2",null,"Player 2"]
["ID Number"]
["Handicap",null,null,null,null,null,null,null,null,null,null,null,null,null,null,2]
["Index",null,null,null,null,null,null,null,null,null,null,null,null,null,null,1800]
["SEED 3 - First Name",null,"Block 5",null,null,null,null,null,null,null,null,null,null,null,null,"Block 5",null,"Block 5"]
["Last Name",null,"Player 3",null,null,null,null,null,null,null,null,null,null,null,null,"Player 3",null,"Player 3"]
["ID Number"]
["Handicap",null,null,null,null,null,null,null,null,null,null,null,null,null,null,3]
["Index",null,null,null,null,null,null,null,null,null,null,null,null,null,null,1700]
["SEED 4 - First Name",null,"Block 5",null,null,null,null,null,null,null,null,null,null,null,null,"Block 5",null,"Block 5"]
["Last Name",null,"Player 4",null,null,null,null,null,null,null,null,null,null,null,null,"Player 4",null,"Player 4"]
["ID Number"]
["Handicap",null,null,null,null,null,null,null,null,null,null,null,null,null,null,4]
["Index",null,null,null,null,null,null,null,null,null,null,null,null,null,null,1600]
["SEED 5 - First Name",null,"Block 5",null,null,null,null,null,null,null,null,null,null,null,null,"Block 5",null,"Block 5"]
["Last Name",null,"Player 5",null,null,null,null,null,null,null,null,null,null,null,null,"Player 5",null,"Player 5"]
["ID Number"]
["Handicap",null,null,null,null,null,null,null,null,null,null,null,null,null,null,5]
["Index",null,null,null,null,null,null,null,null,null,null,null,null,null,null,1500]
["SEED 6 - First Name",null,"Block 5",null,null,null,null,null,null,null,null,null,null,null,null,"Block 5",null,"Block 5"]
["Last Name",null,"Player 6",null,null,null,null,null,null,null,null,null,null,null,null,"Player 6",null,"Player 6"]
["ID Number"]
["Handicap",null,null,null,null,null,null,null,null,null,null,null,null,null,null,6]
["Index",null,null,null,null,null,null,null,null,null,null,null,null,null,null,1450]
["SEED 7 - First Name",null,"Block 5",null,null,null,null,null,null,null,null,null,null,null,null,"Block 5",null,"Block 5"]
["Last Name",null,"Player 7",null,null,null,null,null,null,null,null,null,null,null,null,"Player 7",null,"Player 7"]
["ID Number"]
["Handicap",null,null,null,null,null,null,null,null,null,null,null,null,null,null,7]
["Index",null,null,null,null,null,null,null,null,null,null,null,null,null,null,1400]
["SEED 8 - First Name",null,"Bye",null,null,null,null,null,null,null,null,null,null,null,null,"Bye",null,"Bye"]
["Last Name"]
["ID Number"]
["Handicap"]
["Index"]

{"sheet":"SEED","index":3,"n_rows":38,"n_cols":10,"rows_kept":38,"cut":false,"hidden":false,"merged":[]}
[null,null,null,null,null,{"$f":"NAMES!C7","v":"Tournament"}]
[null,null,null,null,null,{"$f":"NAMES!C8","v":"Singles"}]
[]
[null,null,null,{"$f":"NAMES!C10","v":"BLOCK 1"},null,null,null,null,{"$f":"NAMES!C51","v":"BLOCK 2"}]
[null,"ID","INDEX","NAME","H/CAP",null,"ID","INDEX","NAME","H/CAP"]
[null,{"$f":"NAMES!$C$13","v":0},{"$f":"NAMES!$C$15","v":0},{"$f":"\" \"&NAMES!C11&NAMES!$E$6&NAMES!C12","v":" Block 1 Player 1"},{"$f":"NAMES!C14","v":0},null,{"$f":"NAMES!$C$54","v":0},{"$f":"NAMES!$C$56","v":0},{"$f":"\" \"&NAMES!C52&NAMES!$E$6&NAMES!C53","v":" Block 2 Player 1"},{"$f":"NAMES!C55","v":0}]
[null,{"$f":"NAMES!$C$18","v":0},{"$f":"NAMES!$C$20","v":0},{"$f":"\" \"&NAMES!C16&NAMES!$E$6&NAMES!C17","v":" Block 1 Player 2"},{"$f":"NAMES!C19","v":0},null,{"$f":"NAMES!$C$59","v":0},{"$f":"NAMES!$C$61","v":0},{"$f":"\" \"&NAMES!C57&NAMES!$E$6&NAMES!C58","v":" Block 2 Player 2"},{"$f":"NAMES!C60","v":0}]
[null,{"$f":"NAMES!$C$23","v":0},{"$f":"NAMES!$C$25","v":0},{"$f":"\" \"&NAMES!C21&NAMES!$E$6&NAMES!C22","v":" Block 1 Player 3"},{"$f":"NAMES!C24","v":0},null,{"$f":"NAMES!$C$64","v":0},{"$f":"NAMES!$C$66","v":0},{"$f":"\" \"&NAMES!C62&NAMES!$E$6&NAMES!C63","v":" Block 2 Player 3"},{"$f":"NAMES!C65","v":0}]
[null,{"$f":"NAMES!$C$28","v":0},{"$f":"NAMES!$C$30","v":0},{"$f":"\" \"&NAMES!C26&NAMES!$E$6&NAMES!C27","v":" Block 1 Player 4"},{"$f":"NAMES!C29","v":0},null,{"$f":"NAMES!$C$69","v":0},{"$f":"NAMES!$C$71","v":0},{"$f":"\" \"&NAMES!C67&NAMES!$E$6&NAMES!C68","v":" Block 2 Player 4"},{"$f":"NAMES!C70","v":0}]
[null,{"$f":"NAMES!$C$33","v":0},{"$f":"NAMES!$C$35","v":0},{"$f":"\" \"&NAMES!C31&NAMES!$E$6&NAMES!C32","v":" Block 1 Player 5"},{"$f":"NAMES!C34","v":0},null,{"$f":"NAMES!$C$74","v":0},{"$f":"NAMES!$C$76","v":0},{"$f":"\" \"&NAMES!C72&NAMES!$E$6&NAMES!C73","v":" Block 2 Player 5"},{"$f":"NAMES!C75","v":0}]
[null,{"$f":"NAMES!$C$38","v":0},{"$f":"NAMES!$C$40","v":0},{"$f":"\" \"&NAMES!C36&NAMES!$E$6&NAMES!C37","v":" Block 1 Player 6"},{"$f":"NAMES!C39","v":0},null,{"$f":"NAMES!$C$79","v":0},{"$f":"NAMES!$C$81","v":0},{"$f":"\" \"&NAMES!C77&NAMES!$E$6&NAMES!C78","v":" Block 2 Player 6"},{"$f":"NAMES!C80","v":0}]
[null,{"$f":"NAMES!$C$43","v":0},{"$f":"NAMES!$C$45","v":0},{"$f":"\" \"&NAMES!C41&NAMES!$E$6&NAMES!C42","v":" Block 1 Player 7"},{"$f":"NAMES!C44","v":0},null,{"$f":"NAMES!$C$84","v":0},{"$f":"NAMES!$C$86","v":0},{"$f":"\" \"&NAMES!C82&NAMES!$E$6&NAMES!C83","v":" Block 2 Player 7"},{"$f":"NAMES!C85","v":0}]
[null,{"$f":"NAMES!$C$48","v":0},{"$f":"NAMES!$C$50","v":0},{"$f":"\" \"&NAMES!C46&NAMES!$E$6&NAMES!C47","v":" Bye "},{"$f":"NAMES!C49","v":0},null,{"$f":"NAMES!$C$89","v":0},{"$f":"NAMES!$C$91","v":0},{"$f":"\" \"&NAMES!C87&NAMES!$E$6&NAMES!C88","v":" Bye "},{"$f":"NAMES!C90","v":0}]
[null,null,null,"Average Handicap",{"$f":"IF(ISERR(AVERAGE(E6:E13)),\" \",AVERAGE(E6:E13))","v":0},null,null,null,"Average Handicap",{"$f":"IF(ISERR(AVERAGE(J6:J13)),\" \",AVERAGE(J6:J13))","v":0}]
[]
[null,null,null,{"$f":"NAMES!C92","v":"BLOCK 3"},null,null,null,null,{"$f":"NAMES!C133","v":"BLOCK 4"}]
[null,"ID","INDEX","NAME","H/CAP",null,"ID","INDEX","NAME","H/CAP"]
[null,{"$f":"NAMES!$C$95","v":0},{"$f":"NAMES!$C$97","v":0},{"$f":"\" \"&NAMES!C93&NAMES!$E$6&NAMES!C94","v":" Block 3 Player 1"},{"$f":"NAMES!C96","v":0},null,{"$f":"NAMES!$C$136","v":0},{"$f":"NAMES!$C$138","v":0},{"$f":"\" \"&NAMES!C134&NAMES!$E$6&NAMES!C135","v":" Block 4 Player 1"},{"$f":"NAMES!C137","v":0}]
[null,{"$f":"NAMES!$C$100","v":0},{"$f":"NAMES!$C$102","v":0},{"$f":"\" \"&NAMES!C98&NAMES!$E$6&NAMES!C99","v":" Block 3 Player 2"},{"$f":"NAMES!C101","v":0},null,{"$f":"NAMES!$C$141","v":0},{"$f":"NAMES!$C$143","v":0},{"$f":"\" \"&NAMES!C139&NAMES!$E$6&NAMES!C140","v":" Block 4 Player 2"},{"$f":"NAMES!C142","v":0}]
[null,{"$f":"NAMES!$C$105","v":0},{"$f":"NAMES!$C$107","v":0},{"$f":"\" \"&NAMES!C103&NAMES!$E$6&NAMES!C104","v":" Block 3 Player 3"},{"$f":"NAMES!C106","v":0},null,{"$f":"NAMES!$C$146","v":0},{"$f":"NAMES!$C$148","v":0},{"$f":"\" \"&NAMES!C144&NAMES!$E$6&NAMES!C145","v":" Block 4 Player 3"},{"$f":"NAMES!C147","v":0}]
[null,{"$f":"NAMES!$C$110","v":0},{"$f":"NAMES!$C$112","v":0},{"$f":"\" \"&NAMES!C108&NAMES!$E$6&NAMES!C109","v":" Block 3 Player 4"},{"$f":"NAMES!C111","v":0},null,{"$f":"NAMES!$C$151","v":0},{"$f":"NAMES!$C$153","v":0},{"$f":"\" \"&NAMES!C149&NAMES!$E$6&NAMES!C150","v":" Block 4 Player 4"},{"$f":"NAMES!C152","v":0}]
[null,{"$f":"NAMES!$C$115","v":0},{"$f":"NAMES!$C$117","v":0},{"$f":"\" \"&NAMES!C113&NAMES!$E$6&NAMES!C114","v":" Block 3 Player 5"},{"$f":"NAMES!C116","v":0},null,{"$f":"NAMES!$C$156","v":0},{"$f":"NAMES!$C$158","v":0},{"$f":"\" \"&NAMES!C154&NAMES!$E$6&NAMES!C155","v":" Block 4 Player 5"},{"$f":"NAMES!C157","v":0}]
[null,{"$f":"NAMES!$C$120","v":0},{"$f":"NAMES!$C$122","v":0},{"$f":"\" \"&NAMES!C118&NAMES!$E$6&NAMES!C119","v":" Block 3 Player 6"},{"$f":"NAMES!C121","v":0},null,{"$f":"NAMES!$C$161","v":0},{"$f":"NAMES!$C$163","v":0},{"$f":"\" \"&NAMES!C159&NAMES!$E$6&NAMES!C160","v":" Block 4 Player 6"},{"$f":"NAMES!C162","v":0}]
[null,{"$f":"NAMES!$C$125","v":0},{"$f":"NAMES!$C$127","v":0},{"$f":"\" \"&NAMES!C123&NAMES!$E$6&NAMES!C124","v":" Block 3 Player 7"},{"$f":"NAMES!C126","v":0},null,{"$f":"NAMES!$C$166","v":0},{"$f":"NAMES!$C$168","v":0},{"$f":"\" \"&NAMES!C164&NAMES!$E$6&NAMES!C165","v":" Block 4 Player 7"},{"$f":"NAMES!C167","v":0}]
[null,{"$f":"NAMES!$C$130","v":0},{"$f":"NAMES!$C$132","v":0},{"$f":"\" \"&NAMES!C128&NAMES!$E$6&NAMES!C129","v":" Bye "},{"$f":"NAMES!C131","v":0},null,{"$f":"NAMES!$C$171","v":0},{"$f":"NAMES!$C$173","v":0},{"$f":"\" \"&NAMES!C169&NAMES!$E$6&NAMES!C170","v":" Bye "},{"$f":"NAMES!C172","v":0}]
[null,null,null,"Average Handicap",{"$f":"IF(ISERR(AVERAGE(E18:E25)),\" \",AVERAGE(E18:E25))","v":0},null,null,null,"Average Handicap",{"$f":"IF(ISERR(AVERAGE(J18:J25)),\" \",AVERAGE(J18:J25))","v":0}]
[]
[null,null,null,{"$f":"NAMES!$C$174","v":"BLOCK 5"}]
[null,"ID","INDEX","NAME","H/CAP"]
[null,{"$f":"NAMES!$C$177","v":0},{"$f":"NAMES!$C$179","v":0},{"$f":"\" \"&NAMES!C175&NAMES!$E$6&NAMES!C176","v":" Block 5 Player 1"},{"$f":"NAMES!$C$178","v":0}]
[null,{"$f":"NAMES!$C$182","v":0},{"$f":"NAMES!$C$184","v":0},{"$f":"\" \"&NAMES!C180&NAMES!$E$6&NAMES!C181","v":" Block 5 Player 2"},{"$f":"NAMES!$C$183","v":0}]
[null,{"$f":"NAMES!$C$187","v":0},{"$f":"NAMES!$C$189","v":0},{"$f":"\" \"&NAMES!C185&NAMES!$E$6&NAMES!C186","v":" Block 5 Player 3"},{"$f":"NAMES!$C$188","v":0}]
[null,{"$f":"NAMES!$C$192","v":0},{"$f":"NAMES!$C$194","v":0},{"$f":"\" \"&NAMES!C190&NAMES!$E$6&NAMES!C191","v":" Block 5 Player 4"},{"$f":"NAMES!$C$193","v":0}]
[null,{"$f":"NAMES!$C$197","v":0},{"$f":"NAMES!$C$199","v":0},{"$f":"\" \"&NAMES!C195&NAMES!$E$6&NAMES!C196","v":" Block 5 Player 5"},{"$f":"NAMES!$C$198","v":0}]
[null,{"$f":"NAMES!$C$202","v":0},{"$f":"NAMES!$C$204","v":0},{"$f":"\" \"&NAMES!C200&NAMES!$E$6&NAMES!C201","v":" Block 5 Player 6"},{"$f":"NAMES!$C$203","v":0}]
[null,{"$f":"NAMES!$C$207","v":0},{"$f":"NAMES!$C$209","v":0},{"$f":"\" \"&NAMES!C205&NAMES!$E$6&NAMES!C206","v":" Block 5 Player 7"},{"$f":"NAMES!$C$208","v":0}]
[null,{"$f":"NAMES!$C$212","v":0},{"$f":"NAMES!$C$214","v":0},{"$f":"\" \"&NAMES!C210&NAMES!$E$6&NAMES!C211","v":" Bye "},{"$f":"NAMES!$C$213","v":0}]
[null,null,null,"Average Handicap",{"$f":"IF(ISERR(AVERAGE(E30:E37)),\" \",AVERAGE(E30:E37))","v":0}]

{"sheet":"GAMES","index":4,"n_rows":156,"n_cols":11,"rows_kept":156,"cut":false,"hidden":false,"merged":[[3,9,3,10]]}
[]
[]
[null,{"$f":"SEED!D4","v":"BLOCK 1"},null,null,{"$f":"SEED!F2","v":"Singles"}]
[null,"TIME","DAY","COURT",null,null,null,null,null,"TEST DATA"]
[1,null,null,null,{"$f":"SEED!D6","v":" Block 1 Player 1"},"vs",{"$f":"SEED!D8","v":" Block 1 Player 3"},null,null,"08:00:00","2014-02-12"]
[2,null,null,null,{"$f":"SEED!D7","v":" Block 1 Player 2"},"vs",{"$f":"SEED!D9","v":" Block 1 Player 4"},null,null,"08:00:00","2014-02-12"]
[3,null,null,"--",{"$f":"SEED!D13","v":" Bye "},"vs",{"$f":"SEED!D10","v":" Block 1 Player 5"},null,null,"08:00:00","2014-02-12"]
[4,null,null,null,{"$f":"SEED!D12","v":" Block 1 Player 7"},"vs",{"$f":"SEED!D11","v":" Block 1 Player 6"},null,null,"08:00:00","2014-02-12"]
[5,null,null,null,{"$f":"SEED!D6","v":" Block 1 Player 1"},"vs",{"$f":"SEED!D9","v":" Block 1 Player 4"},null,null,"11:00:00","2014-02-12"]
[6,null,null,null,{"$f":"SEED!D8","v":" Block 1 Player 3"},"vs",{"$f":"SEED!D10","v":" Block 1 Player 5"},null,null,"11:00:00","2014-02-12"]
[7,null,null,null,{"$f":"SEED!D7","v":" Block 1 Player 2"},"vs",{"$f":"SEED!D11","v":" Block 1 Player 6"},null,null,"11:00:00","2014-02-12"]
[8,null,null,"--",{"$f":"SEED!D13","v":" Bye "},"vs",{"$f":"SEED!D12","v":" Block 1 Player 7"},null,null,"11:00:00","2014-02-12"]
[9,null,null,null,{"$f":"SEED!D6","v":" Block 1 Player 1"},"vs",{"$f":"SEED!D10","v":" Block 1 Player 5"},null,null,"13:00:00","2014-02-12"]
[10,null,null,null,{"$f":"SEED!D9","v":" Block 1 Player 4"},"vs",{"$f":"SEED!D11","v":" Block 1 Player 6"},null,null,"13:00:00","2014-02-12"]
[11,null,null,null,{"$f":"SEED!D8","v":" Block 1 Player 3"},"vs",{"$f":"SEED!D12","v":" Block 1 Player 7"},null,null,"13:00:00","2014-02-12"]
[12,null,null,"--",{"$f":"SEED!D7","v":" Block 1 Player 2"},"vs",{"$f":"SEED!D13","v":" Bye "},null,null,"13:00:00","2014-02-12"]
[13,null,null,null,{"$f":"SEED!D6","v":" Block 1 Player 1"},"vs",{"$f":"SEED!D11","v":" Block 1 Player 6"},null,null,"08:00:00","2014-02-13"]
[14,null,null,null,{"$f":"SEED!D10","v":" Block 1 Player 5"},"vs",{"$f":"SEED!D12","v":" Block 1 Player 7"},null,null,"08:00:00","2014-02-13"]
[15,null,null,"--",{"$f":"SEED!D9","v":" Block 1 Player 4"},"vs",{"$f":"SEED!D13","v":" Bye "},null,null,"08:00:00","2014-02-13"]
[16,null,null,null,{"$f":"SEED!D8","v":" Block 1 Player 3"},"vs",{"$f":"SEED!D7","v":" Block 1 Player 2"},null,null,"08:00:00","2014-02-13"]
[17,null,null,null,{"$f":"SEED!D6","v":" Block 1 Player 1"},"vs",{"$f":"SEED!D12","v":" Block 1 Player 7"},null,null,"11:00:00","2014-02-13"]
[18,null,null,"--",{"$f":"SEED!D11","v":" Block 1 Player 6"},"vs",{"$f":"SEED!D13","v":" Bye "},null,null,"11:00:00","2014-02-13"]
[19,null,null,null,{"$f":"SEED!D10","v":" Block 1 Player 5"},"vs",{"$f":"SEED!D7","v":" Block 1 Player 2"},null,null,"11:00:00","2014-02-13"]
[20,null,null,null,{"$f":"SEED!D9","v":" Block 1 Player 4"},"vs",{"$f":"SEED!D8","v":" Block 1 Player 3"},null,null,"11:00:00","2014-02-13"]
[21,null,null,"--",{"$f":"SEED!D6","v":" Block 1 Player 1"},"vs",{"$f":"SEED!D13","v":" Bye "},null,null,"13:00:00","2014-02-13"]
[22,null,null,null,{"$f":"SEED!D12","v":" Block 1 Player 7"},"vs",{"$f":"SEED!D7","v":" Block 1 Player 2"},null,null,"13:00:00","2014-02-13"]
[23,null,null,null,{"$f":"SEED!D11","v":" Block 1 Player 6"},"vs",{"$f":"SEED!D8","v":" Block 1 Player 3"},null,null,"13:00:00","2014-02-13"]
[24,null,null,null,{"$f":"SEED!D10","v":" Block 1 Player 5"},"vs",{"$f":"SEED!D9","v":" Block 1 Player 4"},null,null,"13:00:00","2014-02-13"]
[25,null,null,null,{"$f":"SEED!D6","v":" Block 1 Player 1"},"vs",{"$f":"SEED!D7","v":" Block 1 Player 2"},null,null,"08:00:00","2014-02-14"]
[26,null,null,"--",{"$f":"SEED!D13","v":" Bye "},"vs",{"$f":"SEED!D8","v":" Block 1 Player 3"},null,null,"08:00:00","2014-02-14"]
[27,null,null,null,{"$f":"SEED!D12","v":" Block 1 Player 7"},"vs",{"$f":"SEED!D9","v":" Block 1 Player 4"},null,null,"08:00:00","2014-02-14"]
[28,null,null,null,{"$f":"SEED!D11","v":" Block 1 Player 6"},"vs",{"$f":"SEED!D10","v":" Block 1 Player 5"},null,null,"08:00:00","2014-02-14"]
[]
[null,{"$f":"SEED!I4","v":"BLOCK 2"},null,null,{"$f":"SEED!F2","v":"Singles"}]
[null,"TIME","DAY","COURT"]
[29,null,null,null,{"$f":"SEED!I6","v":" Block 2 Player 1"},"vs",{"$f":"SEED!I8","v":" Block 2 Player 3"}]
[30,null,null,null,{"$f":"SEED!I7","v":" Block 2 Player 2"},"vs",{"$f":"SEED!I9","v":" Block 2 Player 4"}]
[31,null,null,"--",{"$f":"SEED!I13","v":" Bye "},"vs",{"$f":"SEED!I10","v":" Block 2 Player 5"}]
[32,null,null,null,{"$f":"SEED!I12","v":" Block 2 Player 7"},"vs",{"$f":"SEED!I11","v":" Block 2 Player 6"}]
[33,null,null,null,{"$f":"SEED!I6","v":" Block 2 Player 1"},"vs",{"$f":"SEED!I9","v":" Block 2 Player 4"}]
[34,null,null,null,{"$f":"SEED!I8","v":" Block 2 Player 3"},"vs",{"$f":"SEED!I10","v":" Block 2 Player 5"}]
[35,null,null,null,{"$f":"SEED!I7","v":" Block 2 Player 2"},"vs",{"$f":"SEED!I11","v":" Block 2 Player 6"}]
[36,null,null,"--",{"$f":"SEED!I13","v":" Bye "},"vs",{"$f":"SEED!I12","v":" Block 2 Player 7"}]
[37,null,null,null,{"$f":"SEED!I6","v":" Block 2 Player 1"},"vs",{"$f":"SEED!I10","v":" Block 2 Player 5"}]
[38,null,null,null,{"$f":"SEED!I9","v":" Block 2 Player 4"},"vs",{"$f":"SEED!I11","v":" Block 2 Player 6"}]
[39,null,null,null,{"$f":"SEED!I8","v":" Block 2 Player 3"},"vs",{"$f":"SEED!I12","v":" Block 2 Player 7"}]
[40,null,null,"--",{"$f":"SEED!I7","v":" Block 2 Player 2"},"vs",{"$f":"SEED!I13","v":" Bye "}]
[41,null,null,null,{"$f":"SEED!I6","v":" Block 2 Player 1"},"vs",{"$f":"SEED!I11","v":" Block 2 Player 6"}]
[42,null,null,null,{"$f":"SEED!I10","v":" Block 2 Player 5"},"vs",{"$f":"SEED!I12","v":" Block 2 Player 7"}]
[43,null,null,"--",{"$f":"SEED!I9","v":" Block 2 Player 4"},"vs",{"$f":"SEED!I13","v":" Bye "}]
[44,null,null,null,{"$f":"SEED!I8","v":" Block 2 Player 3"},"vs",{"$f":"SEED!I7","v":" Block 2 Player 2"}]
[45,null,null,null,{"$f":"SEED!I6","v":" Block 2 Player 1"},"vs",{"$f":"SEED!I12","v":" Block 2 Player 7"}]
[46,null,null,"--",{"$f":"SEED!I11","v":" Block 2 Player 6"},"vs",{"$f":"SEED!I13","v":" Bye "}]
[47,null,null,null,{"$f":"SEED!I10","v":" Block 2 Player 5"},"vs",{"$f":"SEED!I7","v":" Block 2 Player 2"}]
[48,null,null,null,{"$f":"SEED!I9","v":" Block 2 Player 4"},"vs",{"$f":"SEED!I8","v":" Block 2 Player 3"}]
[49,null,null,"--",{"$f":"SEED!I6","v":" Block 2 Player 1"},"vs",{"$f":"SEED!I13","v":" Bye "}]
[50,null,null,null,{"$f":"SEED!I12","v":" Block 2 Player 7"},"vs",{"$f":"SEED!I7","v":" Block 2 Player 2"}]
[51,null,null,null,{"$f":"SEED!I11","v":" Block 2 Player 6"},"vs",{"$f":"SEED!I8","v":" Block 2 Player 3"}]
[52,null,null,null,{"$f":"SEED!I10","v":" Block 2 Player 5"},"vs",{"$f":"SEED!I9","v":" Block 2 Player 4"}]
[53,null,null,null,{"$f":"SEED!I6","v":" Block 2 Player 1"},"vs",{"$f":"SEED!I7","v":" Block 2 Player 2"}]
[54,null,null,"--",{"$f":"SEED!I13","v":" Bye "},"vs",{"$f":"SEED!I8","v":" Block 2 Player 3"}]
[55,null,null,null,{"$f":"SEED!I12","v":" Block 2 Player 7"},"vs",{"$f":"SEED!I9","v":" Block 2 Player 4"}]
[56,null,null,null,{"$f":"SEED!I11","v":" Block 2 Player 6"},"vs",{"$f":"SEED!I10","v":" Block 2 Player 5"}]
[]
[null,{"$f":"SEED!D16","v":"BLOCK 3"},null,null,{"$f":"SEED!F2","v":"Singles"}]
[null,"TIME","DAY","COURT",".",".","."]
[57,null,null,null,{"$f":"SEED!D18","v":" Block 3 Player 1"},"vs",{"$f":"SEED!D20","v":" Block 3 Player 3"}]
[58,null,null,null,{"$f":"SEED!D19","v":" Block 3 Player 2"},"vs",{"$f":"SEED!D21","v":" Block 3 Player 4"}]
[59,null,null,"--",{"$f":"SEED!D25","v":" Bye "},"vs",{"$f":"SEED!D22","v":" Block 3 Player 5"}]
[60,null,null,null,{"$f":"SEED!D24","v":" Block 3 Player 7"},"vs",{"$f":"SEED!D23","v":" Block 3 Player 6"}]
[61,null,null,null,{"$f":"SEED!D18","v":" Block 3 Player 1"},"vs",{"$f":"SEED!D21","v":" Block 3 Player 4"}]
[62,null,null,null,{"$f":"SEED!D20","v":" Block 3 Player 3"},"vs",{"$f":"SEED!D22","v":" Block 3 Player 5"}]
[63,null,null,null,{"$f":"SEED!D19","v":" Block 3 Player 2"},"vs",{"$f":"SEED!D23","v":" Block 3 Player 6"}]
[64,null,null,"--",{"$f":"SEED!D25","v":" Bye "},"vs",{"$f":"SEED!D24","v":" Block 3 Player 7"}]
[65,null,null,null,{"$f":"SEED!D18","v":" Block 3 Player 1"},"vs",{"$f":"SEED!D22","v":" Block 3 Player 5"}]
[66,null,null,null,{"$f":"SEED!D21","v":" Block 3 Player 4"},"vs",{"$f":"SEED!D23","v":" Block 3 Player 6"}]
[67,null,null,null,{"$f":"SEED!D20","v":" Block 3 Player 3"},"vs",{"$f":"SEED!D24","v":" Block 3 Player 7"}]
[68,null,null,"--",{"$f":"SEED!D19","v":" Block 3 Player 2"},"vs",{"$f":"SEED!D25","v":" Bye "}]
[69,null,null,null,{"$f":"SEED!D18","v":" Block 3 Player 1"},"vs",{"$f":"SEED!D23","v":" Block 3 Player 6"}]
[70,null,null,null,{"$f":"SEED!D22","v":" Block 3 Player 5"},"vs",{"$f":"SEED!D24","v":" Block 3 Player 7"}]
[71,null,null,"--",{"$f":"SEED!D21","v":" Block 3 Player 4"},"vs",{"$f":"SEED!D25","v":" Bye "}]
[72,null,null,null,{"$f":"SEED!D20","v":" Block 3 Player 3"},"vs",{"$f":"SEED!D19","v":" Block 3 Player 2"}]
[73,null,null,null,{"$f":"SEED!D18","v":" Block 3 Player 1"},"vs",{"$f":"SEED!D24","v":" Block 3 Player 7"}]
[74,null,null,"--",{"$f":"SEED!D23","v":" Block 3 Player 6"},"vs",{"$f":"SEED!D25","v":" Bye "}]
[75,null,null,null,{"$f":"SEED!D22","v":" Block 3 Player 5"},"vs",{"$f":"SEED!D19","v":" Block 3 Player 2"}]
[76,null,null,null,{"$f":"SEED!D21","v":" Block 3 Player 4"},"vs",{"$f":"SEED!D20","v":" Block 3 Player 3"}]
[77,null,null,"--",{"$f":"SEED!D18","v":" Block 3 Player 1"},"vs",{"$f":"SEED!D25","v":" Bye "}]
[78,null,null,null,{"$f":"SEED!D24","v":" Block 3 Player 7"},"vs",{"$f":"SEED!D19","v":" Block 3 Player 2"}]
[79,null,null,null,{"$f":"SEED!D23","v":" Block 3 Player 6"},"vs",{"$f":"SEED!D20","v":" Block 3 Player 3"}]
[80,null,null,null,{"$f":"SEED!D22","v":" Block 3 Player 5"},"vs",{"$f":"SEED!D21","v":" Block 3 Player 4"}]
[81,null,null,null,{"$f":"SEED!D18","v":" Block 3 Player 1"},"vs",{"$f":"SEED!D19","v":" Block 3 Player 2"}]
[82,null,null,"--",{"$f":"SEED!D25","v":" Bye "},"vs",{"$f":"SEED!D20","v":" Block 3 Player 3"}]
[83,null,null,null,{"$f":"SEED!D24","v":" Block 3 Player 7"},"vs",{"$f":"SEED!D21","v":" Block 3 Player 4"}]
[84,null,null,null,{"$f":"SEED!D23","v":" Block 3 Player 6"},"vs",{"$f":"SEED!D22","v":" Block 3 Player 5"}]
[]
[null,{"$f":"SEED!I16","v":"BLOCK 4"},null,null,{"$f":"SEED!F2","v":"Singles"}]
[null,"TIME","DAY","COURT"]
[85,null,null,null,{"$f":"SEED!I18","v":" Block 4 Player 1"},"vs",{"$f":"SEED!I20","v":" Block 4 Player 3"}]
[86,null,null,null,{"$f":"SEED!I19","v":" Block 4 Player 2"},"vs",{"$f":"SEED!I21","v":" Block 4 Player 4"}]
[87,null,null,"--",{"$f":"SEED!I25","v":" Bye "},"vs",{"$f":"SEED!I22","v":" Block 4 Player 5"}]
[88,null,null,null,{"$f":"SEED!I24","v":" Block 4 Player 7"},"vs",{"$f":"SEED!I23","v":" Block 4 Player 6"}]
[89,null,null,null,{"$f":"SEED!I18","v":" Block 4 Player 1"},"vs",{"$f":"SEED!I21","v":" Block 4 Player 4"}]
[90,null,null,null,{"$f":"SEED!I20","v":" Block 4 Player 3"},"vs",{"$f":"SEED!I22","v":" Block 4 Player 5"}]
[91,null,null,null,{"$f":"SEED!I19","v":" Block 4 Player 2"},"vs",{"$f":"SEED!I23","v":" Block 4 Player 6"}]
[92,null,null,"--",{"$f":"SEED!I25","v":" Bye "},"vs",{"$f":"SEED!I24","v":" Block 4 Player 7"}]
[93,null,null,null,{"$f":"SEED!I18","v":" Block 4 Player 1"},"vs",{"$f":"SEED!I22","v":" Block 4 Player 5"}]
[94,null,null,null,{"$f":"SEED!I21","v":" Block 4 Player 4"},"vs",{"$f":"SEED!I23","v":" Block 4 Player 6"}]
[95,null,null,null,{"$f":"SEED!I20","v":" Block 4 Player 3"},"vs",{"$f":"SEED!I24","v":" Block 4 Player 7"}]
[96,null,null,"--",{"$f":"SEED!I19","v":" Block 4 Player 2"},"vs",{"$f":"SEED!I25","v":" Bye "}]
[97,null,null,null,{"$f":"SEED!I18","v":" Block 4 Player 1"},"vs",{"$f":"SEED!I23","v":" Block 4 Player 6"}]
[98,null,null,null,{"$f":"SEED!I22","v":" Block 4 Player 5"},"vs",{"$f":"SEED!I24","v":" Block 4 Player 7"}]
[99,null,null,"--",{"$f":"SEED!I21","v":" Block 4 Player 4"},"vs",{"$f":"SEED!I25","v":" Bye "}]
[100,null,null,null,{"$f":"SEED!I20","v":" Block 4 Player 3"},"vs",{"$f":"SEED!I19","v":" Block 4 Player 2"}]
[101,null,null,null,{"$f":"SEED!I18","v":" Block 4 Player 1"},"vs",{"$f":"SEED!I24","v":" Block 4 Player 7"}]
[102,null,null,"--",{"$f":"SEED!I23","v":" Block 4 Player 6"},"vs",{"$f":"SEED!I25","v":" Bye "}]
[103,null,null,null,{"$f":"SEED!I22","v":" Block 4 Player 5"},"vs",{"$f":"SEED!I19","v":" Block 4 Player 2"}]
[104,null,null,null,{"$f":"SEED!I21","v":" Block 4 Player 4"},"vs",{"$f":"SEED!I20","v":" Block 4 Player 3"}]
[105,null,null,"--",{"$f":"SEED!I18","v":" Block 4 Player 1"},"vs",{"$f":"SEED!I25","v":" Bye "}]
[106,null,null,null,{"$f":"SEED!I24","v":" Block 4 Player 7"},"vs",{"$f":"SEED!I19","v":" Block 4 Player 2"}]
[107,null,null,null,{"$f":"SEED!I23","v":" Block 4 Player 6"},"vs",{"$f":"SEED!I20","v":" Block 4 Player 3"}]
[108,null,null,null,{"$f":"SEED!I22","v":" Block 4 Player 5"},"vs",{"$f":"SEED!I21","v":" Block 4 Player 4"}]
[109,null,null,null,{"$f":"SEED!I18","v":" Block 4 Player 1"},"vs",{"$f":"SEED!I19","v":" Block 4 Player 2"}]
[110,null,null,"--",{"$f":"SEED!I25","v":" Bye "},"vs",{"$f":"SEED!I20","v":" Block 4 Player 3"}]
[111,null,null,null,{"$f":"SEED!I24","v":" Block 4 Player 7"},"vs",{"$f":"SEED!I21","v":" Block 4 Player 4"}]
[112,null,null,null,{"$f":"SEED!I23","v":" Block 4 Player 6"},"vs",{"$f":"SEED!I22","v":" Block 4 Player 5"}]
[]
[null,{"$f":"SEED!D28","v":"BLOCK 5"},null,null,{"$f":"SEED!F2","v":"Singles"}]
[null,"TIME","DAY","COURT"]
[113,null,null,null,{"$f":"SEED!D30","v":" Block 5 Player 1"},"vs",{"$f":"SEED!D32","v":" Block 5 Player 3"}]
[114,null,null,null,{"$f":"SEED!D31","v":" Block 5 Player 2"},"vs",{"$f":"SEED!D33","v":" Block 5 Player 4"}]
[115,null,null,"--",{"$f":"SEED!D37","v":" Bye "},"vs",{"$f":"SEED!D34","v":" Block 5 Player 5"}]
[116,null,null,null,{"$f":"SEED!D36","v":" Block 5 Player 7"},"vs",{"$f":"SEED!D35","v":" Block 5 Player 6"}]
[117,null,null,null,{"$f":"SEED!D30","v":" Block 5 Player 1"},"vs",{"$f":"SEED!D33","v":" Block 5 Player 4"}]
[118,null,null,null,{"$f":"SEED!D32","v":" Block 5 Player 3"},"vs",{"$f":"SEED!D34","v":" Block 5 Player 5"}]
[119,null,null,null,{"$f":"SEED!D31","v":" Block 5 Player 2"},"vs",{"$f":"SEED!D35","v":" Block 5 Player 6"}]
[120,null,null,"--",{"$f":"SEED!D37","v":" Bye "},"vs",{"$f":"SEED!D36","v":" Block 5 Player 7"}]
[121,null,null,null,{"$f":"SEED!D30","v":" Block 5 Player 1"},"vs",{"$f":"SEED!D34","v":" Block 5 Player 5"}]
[122,null,null,null,{"$f":"SEED!D33","v":" Block 5 Player 4"},"vs",{"$f":"SEED!D35","v":" Block 5 Player 6"}]
[123,null,null,null,{"$f":"SEED!D32","v":" Block 5 Player 3"},"vs",{"$f":"SEED!D36","v":" Block 5 Player 7"}]
[124,null,null,"--",{"$f":"SEED!D31","v":" Block 5 Player 2"},"vs",{"$f":"SEED!D37","v":" Bye "}]
[125,null,null,null,{"$f":"SEED!D30","v":" Block 5 Player 1"},"vs",{"$f":"SEED!D35","v":" Block 5 Player 6"}]
[126,null,null,null,{"$f":"SEED!D34","v":" Block 5 Player 5"},"vs",{"$f":"SEED!D36","v":" Block 5 Player 7"}]
[127,null,null,"--",{"$f":"SEED!D33","v":" Block 5 Player 4"},"vs",{"$f":"SEED!D37","v":" Bye "}]
[128,null,null,null,{"$f":"SEED!D32","v":" Block 5 Player 3"},"vs",{"$f":"SEED!D31","v":" Block 5 Player 2"}]
[129,null,null,null,{"$f":"SEED!D30","v":" Block 5 Player 1"},"vs",{"$f":"SEED!D36","v":" Block 5 Player 7"}]
[130,null,null,"--",{"$f":"SEED!D35","v":" Block 5 Player 6"},"vs",{"$f":"SEED!D37","v":" Bye "}]
[131,null,null,null,{"$f":"SEED!D34","v":" Block 5 Player 5"},"vs",{"$f":"SEED!D31","v":" Block 5 Player 2"}]
[132,null,null,null,{"$f":"SEED!D33","v":" Block 5 Player 4"},"vs",{"$f":"SEED!D32","v":" Block 5 Player 3"}]
[133,null,null,"--",{"$f":"SEED!D30","v":" Block 5 Player 1"},"vs",{"$f":"SEED!D37","v":" Bye "}]
[134,null,null,null,{"$f":"SEED!D36","v":" Block 5 Player 7"},"vs",{"$f":"SEED!D31","v":" Block 5 Player 2"}]
[135,null,null,null,{"$f":"SEED!D35","v":" Block 5 Player 6"},"vs",{"$f":"SEED!D32","v":" Block 5 Player 3"}]
[136,null,null,null,{"$f":"SEED!D34","v":" Block 5 Player 5"},"vs",{"$f":"SEED!D33","v":" Block 5 Player 4"}]
[137,null,null,null,{"$f":"SEED!D30","v":" Block 5 Player 1"},"vs",{"$f":"SEED!D31","v":" Block 5 Player 2"}]
[138,null,null,"--",{"$f":"SEED!D37","v":" Bye "},"vs",{"$f":"SEED!D32","v":" Block 5 Player 3"}]
[139,null,null,null,{"$f":"SEED!D36","v":" Block 5 Player 7"},"vs",{"$f":"SEED!D33","v":" Block 5 Player 4"}]
[140,null,null,null,{"$f":"SEED!D35","v":" Block 5 Player 6"},"vs",{"$f":"SEED!D34","v":" Block 5 Player 5"}]

{"sheet":"RESULTS","index":5,"n_rows":120,"n_cols":18,"rows_kept":120,"cut":false,"hidden":true,"merged":[]}
[]
[]
[]
[null,{"$f":"GAMES!$E$3","v":"Singles"},null,null,null,{"$f":"GAMES!B3","v":"BLOCK 1"},null,null,null,null,null,null,null,null,null,"Peel LU Table"]
[null,null,{"$f":"SEED!D6","v":" Block 1 Player 1"},{"$f":"'RESULTS DATA'!D4","v":-1E-3},{"$f":"'RESULTS DATA'!E4","v":-1E-3},null,{"$f":"SEED!D8","v":" Block 1 Player 3"},{"$f":"'RESULTS DATA'!D24","v":-1E-3},{"$f":"'RESULTS DATA'!E24","v":-1E-3},null,{"$f":"SEED!D6","v":" Block 1 Player 1"},{"$f":"'RESULTS DATA'!D44","v":-1E-3},{"$f":"'RESULTS DATA'!E44","v":-1E-3},null,null,"tp"]
[null,null,{"$f":"SEED!D8","v":" Block 1 Player 3"},{"$f":"'RESULTS DATA'!D5","v":-1E-3},{"$f":"'RESULTS DATA'!E5","v":-1E-3},null,{"$f":"SEED!D12","v":" Block 1 Player 7"},{"$f":"'RESULTS DATA'!D25","v":-1E-3},{"$f":"'RESULTS DATA'!E25","v":-1E-3},null,{"$f":"SEED!D13","v":" Bye "},{"$f":"'RESULTS DATA'!D45","v":-1E-3},{"$f":"'RESULTS DATA'!E45","v":-1E-3},null,null,"stp"]
[null,null,{"$f":"SEED!D7","v":" Block 1 Player 2"},{"$f":"'RESULTS DATA'!D6","v":-1E-3},{"$f":"'RESULTS DATA'!E6","v":-1E-3},null,{"$f":"SEED!D7","v":" Block 1 Player 2"},{"$f":"'RESULTS DATA'!D26","v":-1E-3},{"$f":"'RESULTS DATA'!E26","v":-1E-3},null,{"$f":"SEED!D12","v":" Block 1 Player 7"},{"$f":"'RESULTS DATA'!D46","v":-1E-3},{"$f":"'RESULTS DATA'!E46","v":-1E-3},null,null,"stop"]
[null,null,{"$f":"SEED!D9","v":" Block 1 Player 4"},{"$f":"'RESULTS DATA'!D7","v":-1E-3},{"$f":"'RESULTS DATA'!E7","v":-1E-3},null,{"$f":"SEED!D13","v":" Bye "},{"$f":"'RESULTS DATA'!D27","v":-1E-3},{"$f":"'RESULTS DATA'!E27","v":-1E-3},null,{"$f":"SEED!D7","v":" Block 1 Player 2"},{"$f":"'RESULTS DATA'!D47","v":-1E-3},{"$f":"'RESULTS DATA'!E47","v":-1E-3},null,null,"tpo"]
[null,null,{"$f":"SEED!D13","v":" Bye "},{"$f":"'RESULTS DATA'!D8","v":-1E-3},{"$f":"'RESULTS DATA'!E8","v":-1E-3},null,{"$f":"SEED!D6","v":" Block 1 Player 1"},{"$f":"'RESULTS DATA'!D28","v":-1E-3},{"$f":"'RESULTS DATA'!E28","v":-1E-3},null,{"$f":"SEED!D11","v":" Block 1 Player 6"},{"$f":"'RESULTS DATA'!D48","v":-1E-3},{"$f":"'RESULTS DATA'!E48","v":-1E-3},null,null,"otp"]
[null,null,{"$f":"SEED!D10","v":" Block 1 Player 5"},{"$f":"'RESULTS DATA'!D9","v":-1E-3},{"$f":"'RESULTS DATA'!E9","v":-1E-3},null,{"$f":"SEED!D11","v":" Block 1 Player 6"},{"$f":"'RESULTS DATA'!D29","v":-1E-3},{"$f":"'RESULTS DATA'!E29","v":-1E-3},null,{"$f":"SEED!D8","v":" Block 1 Player 3"},{"$f":"'RESULTS DATA'!D49","v":-1E-3},{"$f":"'RESULTS DATA'!E49","v":-1E-3},null,null,"oqp"]
[null,null,{"$f":"SEED!D12","v":" Block 1 Player 7"},{"$f":"'RESULTS DATA'!D10","v":-1E-3},{"$f":"'RESULTS DATA'!E10","v":-1E-3},null,{"$f":"SEED!D10","v":" Block 1 Player 5"},{"$f":"'RESULTS DATA'!D30","v":-1E-3},{"$f":"'RESULTS DATA'!E30","v":-1E-3},null,{"$f":"SEED!D10","v":" Block 1 Player 5"},{"$f":"'RESULTS DATA'!D50","v":-1E-3},{"$f":"'RESULTS DATA'!E50","v":-1E-3},null,null,"qp"]
[null,null,{"$f":"SEED!D11","v":" Block 1 Player 6"},{"$f":"'RESULTS DATA'!D11","v":-1E-3},{"$f":"'RESULTS DATA'!E11","v":-1E-3},null,{"$f":"SEED!D12","v":" Block 1 Player 7"},{"$f":"'RESULTS DATA'!D31","v":-1E-3},{"$f":"'RESULTS DATA'!E31","v":-1E-3},null,{"$f":"SEED!D9","v":" Block 1 Player 4"},{"$f":"'RESULTS DATA'!D51","v":-1E-3},{"$f":"'RESULTS DATA'!E51","v":-1E-3},null,null,"qpo"]
[null,null,{"$f":"SEED!D6","v":" Block 1 Player 1"},{"$f":"'RESULTS DATA'!D12","v":-1E-3},{"$f":"'RESULTS DATA'!E12","v":-1E-3},null,{"$f":"SEED!D9","v":" Block 1 Player 4"},{"$f":"'RESULTS DATA'!D32","v":-1E-3},{"$f":"'RESULTS DATA'!E32","v":-1E-3},null,{"$f":"SEED!D6","v":" Block 1 Player 1"},{"$f":"'RESULTS DATA'!D52","v":-1E-3},{"$f":"'RESULTS DATA'!E52","v":-1E-3},null,null,"sqp"]
[null,null,{"$f":"SEED!D9","v":" Block 1 Player 4"},{"$f":"'RESULTS DATA'!D13","v":-1E-3},{"$f":"'RESULTS DATA'!E13","v":-1E-3},null,{"$f":"SEED!D13","v":" Bye "},{"$f":"'RESULTS DATA'!D33","v":-1E-3},{"$f":"'RESULTS DATA'!E33","v":-1E-3},null,{"$f":"SEED!D7","v":" Block 1 Player 2"},{"$f":"'RESULTS DATA'!D53","v":-1E-3},{"$f":"'RESULTS DATA'!E53","v":-1E-3},null,null,"oqnp"]
[null,null,{"$f":"SEED!D8","v":" Block 1 Player 3"},{"$f":"'RESULTS DATA'!D14","v":-1E-3},{"$f":"'RESULTS DATA'!E14","v":-1E-3},null,{"$f":"SEED!D8","v":" Block 1 Player 3"},{"$f":"'RESULTS DATA'!D34","v":-1E-3},{"$f":"'RESULTS DATA'!E34","v":-1E-3},null,{"$f":"SEED!D13","v":" Bye "},{"$f":"'RESULTS DATA'!D54","v":-1E-3},{"$f":"'RESULTS DATA'!E54","v":-1E-3},null,null,"qnp"]
[null,null,{"$f":"SEED!D10","v":" Block 1 Player 5"},{"$f":"'RESULTS DATA'!D15","v":-1E-3},{"$f":"'RESULTS DATA'!E15","v":-1E-3},null,{"$f":"SEED!D7","v":" Block 1 Player 2"},{"$f":"'RESULTS DATA'!D35","v":-1E-3},{"$f":"'RESULTS DATA'!E35","v":-1E-3},null,{"$f":"SEED!D8","v":" Block 1 Player 3"},{"$f":"'RESULTS DATA'!D55","v":-1E-3},{"$f":"'RESULTS DATA'!E55","v":-1E-3},null,null,"qnpo"]
[null,null,{"$f":"SEED!D7","v":" Block 1 Player 2"},{"$f":"'RESULTS DATA'!D16","v":-1E-3},{"$f":"'RESULTS DATA'!E16","v":-1E-3},null,{"$f":"SEED!D6","v":" Block 1 Player 1"},{"$f":"'RESULTS DATA'!D36","v":-1E-3},{"$f":"'RESULTS DATA'!E36","v":-1E-3},null,{"$f":"SEED!D12","v":" Block 1 Player 7"},{"$f":"'RESULTS DATA'!D56","v":-1E-3},{"$f":"'RESULTS DATA'!E56","v":-1E-3},null,null,"osxp"]
[null,null,{"$f":"SEED!D11","v":" Block 1 Player 6"},{"$f":"'RESULTS DATA'!D17","v":-1E-3},{"$f":"'RESULTS DATA'!E17","v":-1E-3},null,{"$f":"SEED!D12","v":" Block 1 Player 7"},{"$f":"'RESULTS DATA'!D37","v":-1E-3},{"$f":"'RESULTS DATA'!E37","v":-1E-3},null,{"$f":"SEED!D9","v":" Block 1 Player 4"},{"$f":"'RESULTS DATA'!D57","v":-1E-3},{"$f":"'RESULTS DATA'!E57","v":-1E-3},null,null,"sxp"]
[null,null,{"$f":"SEED!D13","v":" Bye "},{"$f":"'RESULTS DATA'!D18","v":-1E-3},{"$f":"'RESULTS DATA'!E18","v":-1E-3},null,{"$f":"SEED!D11","v":" Block 1 Player 6"},{"$f":"'RESULTS DATA'!D38","v":-1E-3},{"$f":"'RESULTS DATA'!E38","v":-1E-3},null,{"$f":"SEED!D11","v":" Block 1 Player 6"},{"$f":"'RESULTS DATA'!D58","v":-1E-3},{"$f":"'RESULTS DATA'!E58","v":-1E-3},null,null,"ssxp"]
[null,null,{"$f":"SEED!D12","v":" Block 1 Player 7"},{"$f":"'RESULTS DATA'!D19","v":-1E-3},{"$f":"'RESULTS DATA'!E19","v":-1E-3},null,{"$f":"SEED!D13","v":" Bye "},{"$f":"'RESULTS DATA'!D39","v":-1E-3},{"$f":"'RESULTS DATA'!E39","v":-1E-3},null,{"$f":"SEED!D10","v":" Block 1 Player 5"},{"$f":"'RESULTS DATA'!D59","v":-1E-3},{"$f":"'RESULTS DATA'!E59","v":-1E-3},null,null,"sxpo"]
[null,null,{"$f":"SEED!D6","v":" Block 1 Player 1"},{"$f":"'RESULTS DATA'!D20","v":-1E-3},{"$f":"'RESULTS DATA'!E20","v":-1E-3},null,{"$f":"SEED!D10","v":" Block 1 Player 5"},{"$f":"'RESULTS DATA'!D40","v":-1E-3},{"$f":"'RESULTS DATA'!E40","v":-1E-3},null,null,null,null,null,null,"spp"]
[null,null,{"$f":"SEED!D10","v":" Block 1 Player 5"},{"$f":"'RESULTS DATA'!D21","v":-1E-3},{"$f":"'RESULTS DATA'!E21","v":-1E-3},null,{"$f":"SEED!D7","v":" Block 1 Player 2"},{"$f":"'RESULTS DATA'!D41","v":-1E-3},{"$f":"'RESULTS DATA'!E41","v":-1E-3},null,null,null,null,null,null,"octp"]
[null,null,{"$f":"SEED!D9","v":" Block 1 Player 4"},{"$f":"'RESULTS DATA'!D22","v":-1E-3},{"$f":"'RESULTS DATA'!E22","v":-1E-3},null,{"$f":"SEED!D9","v":" Block 1 Player 4"},{"$f":"'RESULTS DATA'!D42","v":-1E-3},{"$f":"'RESULTS DATA'!E42","v":-1E-3},null,null,null,null,null,null,"nnp"]
[null,null,{"$f":"SEED!D11","v":" Block 1 Player 6"},{"$f":"'RESULTS DATA'!D23","v":-1E-3},{"$f":"'RESULTS DATA'!E23","v":-1E-3},null,{"$f":"SEED!D8","v":" Block 1 Player 3"},{"$f":"'RESULTS DATA'!D43","v":-1E-3},{"$f":"'RESULTS DATA'!E43","v":-1E-3},null,null,null,null,null,null,"dcp"]
[]
[null,null,null,null,null,null,null,null,null,null,null,null,null,null,"FirstTime","YES"]
[null,null,null,null,null,null,null,null,null,null,null,null,null,null,"NumberOfBlocks",5]
[null,{"$f":"GAMES!E34","v":"Singles"},null,null,null,{"$f":"GAMES!B34","v":"BLOCK 2"}]
[null,null,{"$f":"SEED!I6","v":" Block 2 Player 1"},{"$f":"'RESULTS DATA'!H4","v":-1E-3},{"$f":"'RESULTS DATA'!I4","v":-1E-3},null,{"$f":"SEED!I8","v":" Block 2 Player 3"},{"$f":"'RESULTS DATA'!H24","v":-1E-3},{"$f":"'RESULTS DATA'!I24","v":-1E-3},null,{"$f":"SEED!I6","v":" Block 2 Player 1"},{"$f":"'RESULTS DATA'!H44","v":-1E-3},{"$f":"'RESULTS DATA'!I44","v":-1E-3}]
[null,null,{"$f":"SEED!I8","v":" Block 2 Player 3"},{"$f":"'RESULTS DATA'!H5","v":-1E-3},{"$f":"'RESULTS DATA'!I5","v":-1E-3},null,{"$f":"SEED!I12","v":" Block 2 Player 7"},{"$f":"'RESULTS DATA'!H25","v":-1E-3},{"$f":"'RESULTS DATA'!I25","v":-1E-3},null,{"$f":"SEED!I13","v":" Bye "},{"$f":"'RESULTS DATA'!H45","v":-1E-3},{"$f":"'RESULTS DATA'!I45","v":-1E-3}]
[null,null,{"$f":"SEED!I7","v":" Block 2 Player 2"},{"$f":"'RESULTS DATA'!H6","v":-1E-3},{"$f":"'RESULTS DATA'!I6","v":-1E-3},null,{"$f":"SEED!I7","v":" Block 2 Player 2"},{"$f":"'RESULTS DATA'!H26","v":-1E-3},{"$f":"'RESULTS DATA'!I26","v":-1E-3},null,{"$f":"SEED!I12","v":" Block 2 Player 7"},{"$f":"'RESULTS DATA'!H46","v":-1E-3},{"$f":"'RESULTS DATA'!I46","v":-1E-3}]
[null,null,{"$f":"SEED!I9","v":" Block 2 Player 4"},{"$f":"'RESULTS DATA'!H7","v":-1E-3},{"$f":"'RESULTS DATA'!I7","v":-1E-3},null,{"$f":"SEED!I13","v":" Bye "},{"$f":"'RESULTS DATA'!H27","v":-1E-3},{"$f":"'RESULTS DATA'!I27","v":-1E-3},null,{"$f":"SEED!I7","v":" Block 2 Player 2"},{"$f":"'RESULTS DATA'!H47","v":-1E-3},{"$f":"'RESULTS DATA'!I47","v":-1E-3}]
[null,null,{"$f":"SEED!I13","v":" Bye "},{"$f":"'RESULTS DATA'!H8","v":-1E-3},{"$f":"'RESULTS DATA'!I8","v":-1E-3},null,{"$f":"SEED!I6","v":" Block 2 Player 1"},{"$f":"'RESULTS DATA'!H28","v":-1E-3},{"$f":"'RESULTS DATA'!I28","v":-1E-3},null,{"$f":"SEED!I11","v":" Block 2 Player 6"},{"$f":"'RESULTS DATA'!H48","v":-1E-3},{"$f":"'RESULTS DATA'!I48","v":-1E-3}]
[null,null,{"$f":"SEED!I10","v":" Block 2 Player 5"},{"$f":"'RESULTS DATA'!H9","v":-1E-3},{"$f":"'RESULTS DATA'!I9","v":-1E-3},null,{"$f":"SEED!I11","v":" Block 2 Player 6"},{"$f":"'RESULTS DATA'!H29","v":-1E-3},{"$f":"'RESULTS DATA'!I29","v":-1E-3},null,{"$f":"SEED!I8","v":" Block 2 Player 3"},{"$f":"'RESULTS DATA'!H49","v":-1E-3},{"$f":"'RESULTS DATA'!I49","v":-1E-3}]
[null,null,{"$f":"SEED!I12","v":" Block 2 Player 7"},{"$f":"'RESULTS DATA'!H10","v":-1E-3},{"$f":"'RESULTS DATA'!I10","v":-1E-3},null,{"$f":"SEED!I10","v":" Block 2 Player 5"},{"$f":"'RESULTS DATA'!H30","v":-1E-3},{"$f":"'RESULTS DATA'!I30","v":-1E-3},null,{"$f":"SEED!I10","v":" Block 2 Player 5"},{"$f":"'RESULTS DATA'!H50","v":-1E-3},{"$f":"'RESULTS DATA'!I50","v":-1E-3}]
[null,null,{"$f":"SEED!I11","v":" Block 2 Player 6"},{"$f":"'RESULTS DATA'!H11","v":-1E-3},{"$f":"'RESULTS DATA'!I11","v":-1E-3},null,{"$f":"SEED!I12","v":" Block 2 Player 7"},{"$f":"'RESULTS DATA'!H31","v":-1E-3},{"$f":"'RESULTS DATA'!I31","v":-1E-3},null,{"$f":"SEED!I9","v":" Block 2 Player 4"},{"$f":"'RESULTS DATA'!H51","v":-1E-3},{"$f":"'RESULTS DATA'!I51","v":-1E-3}]
[null,null,{"$f":"SEED!I6","v":" Block 2 Player 1"},{"$f":"'RESULTS DATA'!H12","v":-1E-3},{"$f":"'RESULTS DATA'!I12","v":-1E-3},null,{"$f":"SEED!I9","v":" Block 2 Player 4"},{"$f":"'RESULTS DATA'!H32","v":-1E-3},{"$f":"'RESULTS DATA'!I32","v":-1E-3},null,{"$f":"SEED!I6","v":" Block 2 Player 1"},{"$f":"'RESULTS DATA'!H52","v":-1E-3},{"$f":"'RESULTS DATA'!I52","v":-1E-3}]
[null,null,{"$f":"SEED!I9","v":" Block 2 Player 4"},{"$f":"'RESULTS DATA'!H13","v":-1E-3},{"$f":"'RESULTS DATA'!I13","v":-1E-3},null,{"$f":"SEED!I13","v":" Bye "},{"$f":"'RESULTS DATA'!H33","v":-1E-3},{"$f":"'RESULTS DATA'!I33","v":-1E-3},null,{"$f":"SEED!I7","v":" Block 2 Player 2"},{"$f":"'RESULTS DATA'!H53","v":-1E-3},{"$f":"'RESULTS DATA'!I53","v":-1E-3}]
[null,null,{"$f":"SEED!I8","v":" Block 2 Player 3"},{"$f":"'RESULTS DATA'!H14","v":-1E-3},{"$f":"'RESULTS DATA'!I14","v":-1E-3},null,{"$f":"SEED!I8","v":" Block 2 Player 3"},{"$f":"'RESULTS DATA'!H34","v":-1E-3},{"$f":"'RESULTS DATA'!I34","v":-1E-3},null,{"$f":"SEED!I13","v":" Bye "},{"$f":"'RESULTS DATA'!H54","v":-1E-3},{"$f":"'RESULTS DATA'!I54","v":-1E-3}]
[null,null,{"$f":"SEED!I10","v":" Block 2 Player 5"},{"$f":"'RESULTS DATA'!H15","v":-1E-3},{"$f":"'RESULTS DATA'!I15","v":-1E-3},null,{"$f":"SEED!I7","v":" Block 2 Player 2"},{"$f":"'RESULTS DATA'!H35","v":-1E-3},{"$f":"'RESULTS DATA'!I35","v":-1E-3},null,{"$f":"SEED!I8","v":" Block 2 Player 3"},{"$f":"'RESULTS DATA'!H55","v":-1E-3},{"$f":"'RESULTS DATA'!I55","v":-1E-3}]
[null,null,{"$f":"SEED!I7","v":" Block 2 Player 2"},{"$f":"'RESULTS DATA'!H16","v":-1E-3},{"$f":"'RESULTS DATA'!I16","v":-1E-3},null,{"$f":"SEED!I6","v":" Block 2 Player 1"},{"$f":"'RESULTS DATA'!H36","v":-1E-3},{"$f":"'RESULTS DATA'!I36","v":-1E-3},null,{"$f":"SEED!I12","v":" Block 2 Player 7"},{"$f":"'RESULTS DATA'!H56","v":-1E-3},{"$f":"'RESULTS DATA'!I56","v":-1E-3}]
[null,null,{"$f":"SEED!I11","v":" Block 2 Player 6"},{"$f":"'RESULTS DATA'!H17","v":-1E-3},{"$f":"'RESULTS DATA'!I17","v":-1E-3},null,{"$f":"SEED!I12","v":" Block 2 Player 7"},{"$f":"'RESULTS DATA'!H37","v":-1E-3},{"$f":"'RESULTS DATA'!I37","v":-1E-3},null,{"$f":"SEED!I9","v":" Block 2 Player 4"},{"$f":"'RESULTS DATA'!H57","v":-1E-3},{"$f":"'RESULTS DATA'!I57","v":-1E-3}]
[null,null,{"$f":"SEED!I13","v":" Bye "},{"$f":"'RESULTS DATA'!H18","v":-1E-3},{"$f":"'RESULTS DATA'!I18","v":-1E-3},null,{"$f":"SEED!I11","v":" Block 2 Player 6"},{"$f":"'RESULTS DATA'!H38","v":-1E-3},{"$f":"'RESULTS DATA'!I38","v":-1E-3},null,{"$f":"SEED!I11","v":" Block 2 Player 6"},{"$f":"'RESULTS DATA'!H58","v":-1E-3},{"$f":"'RESULTS DATA'!I58","v":-1E-3}]
[null,null,{"$f":"SEED!I12","v":" Block 2 Player 7"},{"$f":"'RESULTS DATA'!H19","v":-1E-3},{"$f":"'RESULTS DATA'!I19","v":-1E-3},null,{"$f":"SEED!I13","v":" Bye "},{"$f":"'RESULTS DATA'!H39","v":-1E-3},{"$f":"'RESULTS DATA'!I39","v":-1E-3},null,{"$f":"SEED!I10","v":" Block 2 Player 5"},{"$f":"'RESULTS DATA'!H59","v":-1E-3},{"$f":"'RESULTS DATA'!I59","v":-1E-3}]
[null,null,{"$f":"SEED!I6","v":" Block 2 Player 1"},{"$f":"'RESULTS DATA'!H20","v":-1E-3},{"$f":"'RESULTS DATA'!I20","v":-1E-3},null,{"$f":"SEED!I10","v":" Block 2 Player 5"},{"$f":"'RESULTS DATA'!H40","v":-1E-3},{"$f":"'RESULTS DATA'!I40","v":-1E-3}]
[null,null,{"$f":"SEED!I10","v":" Block 2 Player 5"},{"$f":"'RESULTS DATA'!H21","v":-1E-3},{"$f":"'RESULTS DATA'!I21","v":-1E-3},null,{"$f":"SEED!I7","v":" Block 2 Player 2"},{"$f":"'RESULTS DATA'!H41","v":-1E-3},{"$f":"'RESULTS DATA'!I41","v":-1E-3}]
[null,null,{"$f":"SEED!I9","v":" Block 2 Player 4"},{"$f":"'RESULTS DATA'!H22","v":-1E-3},{"$f":"'RESULTS DATA'!I22","v":-1E-3},null,{"$f":"SEED!I9","v":" Block 2 Player 4"},{"$f":"'RESULTS DATA'!H42","v":-1E-3},{"$f":"'RESULTS DATA'!I42","v":-1E-3}]
[null,null,{"$f":"SEED!I11","v":" Block 2 Player 6"},{"$f":"'RESULTS DATA'!H23","v":-1E-3},{"$f":"'RESULTS DATA'!I23","v":-1E-3},null,{"$f":"SEED!I8","v":" Block 2 Player 3"},{"$f":"'RESULTS DATA'!H43","v":-1E-3},{"$f":"'RESULTS DATA'!I43","v":-1E-3}]
[]
[]
[]
[null,{"$f":"GAMES!E65","v":"Singles"},null,null,null,{"$f":"GAMES!B65","v":"BLOCK 3"}]
[null,null,{"$f":"SEED!D18","v":" Block 3 Player 1"},{"$f":"'RESULTS DATA'!L4","v":-1E-3},{"$f":"'RESULTS DATA'!M4","v":-1E-3},null,{"$f":"SEED!D20","v":" Block 3 Player 3"},{"$f":"'RESULTS DATA'!L24","v":-1E-3},{"$f":"'RESULTS DATA'!M24","v":-1E-3},null,{"$f":"SEED!D18","v":" Block 3 Player 1"},{"$f":"'RESULTS DATA'!L44","v":-1E-3},{"$f":"'RESULTS DATA'!M44","v":-1E-3}]
[null,null,{"$f":"SEED!D20","v":" Block 3 Player 3"},{"$f":"'RESULTS DATA'!L5","v":-1E-3},{"$f":"'RESULTS DATA'!M5","v":-1E-3},null,{"$f":"SEED!D24","v":" Block 3 Player 7"},{"$f":"'RESULTS DATA'!L25","v":-1E-3},{"$f":"'RESULTS DATA'!M25","v":-1E-3},null,{"$f":"SEED!D25","v":" Bye "},{"$f":"'RESULTS DATA'!L45","v":-1E-3},{"$f":"'RESULTS DATA'!M45","v":-1E-3}]
[null,null,{"$f":"SEED!D19","v":" Block 3 Player 2"},{"$f":"'RESULTS DATA'!L6","v":-1E-3},{"$f":"'RESULTS DATA'!M6","v":-1E-3},null,{"$f":"SEED!D19","v":" Block 3 Player 2"},{"$f":"'RESULTS DATA'!L26","v":-1E-3},{"$f":"'RESULTS DATA'!M26","v":-1E-3},null,{"$f":"SEED!D24","v":" Block 3 Player 7"},{"$f":"'RESULTS DATA'!L46","v":-1E-3},{"$f":"'RESULTS DATA'!M46","v":-1E-3}]
[null,null,{"$f":"SEED!D21","v":" Block 3 Player 4"},{"$f":"'RESULTS DATA'!L7","v":-1E-3},{"$f":"'RESULTS DATA'!M7","v":-1E-3},null,{"$f":"SEED!D25","v":" Bye "},{"$f":"'RESULTS DATA'!L27","v":-1E-3},{"$f":"'RESULTS DATA'!M27","v":-1E-3},null,{"$f":"SEED!D19","v":" Block 3 Player 2"},{"$f":"'RESULTS DATA'!L47","v":-1E-3},{"$f":"'RESULTS DATA'!M47","v":-1E-3}]
[null,null,{"$f":"SEED!D25","v":" Bye "},{"$f":"'RESULTS DATA'!L8","v":-1E-3},{"$f":"'RESULTS DATA'!M8","v":-1E-3},null,{"$f":"SEED!D18","v":" Block 3 Player 1"},{"$f":"'RESULTS DATA'!L28","v":-1E-3},{"$f":"'RESULTS DATA'!M28","v":-1E-3},null,{"$f":"SEED!D23","v":" Block 3 Player 6"},{"$f":"'RESULTS DATA'!L48","v":-1E-3},{"$f":"'RESULTS DATA'!M48","v":-1E-3}]
[null,null,{"$f":"SEED!D22","v":" Block 3 Player 5"},{"$f":"'RESULTS DATA'!L9","v":-1E-3},{"$f":"'RESULTS DATA'!M9","v":-1E-3},null,{"$f":"SEED!D23","v":" Block 3 Player 6"},{"$f":"'RESULTS DATA'!L29","v":-1E-3},{"$f":"'RESULTS DATA'!M29","v":-1E-3},null,{"$f":"SEED!D20","v":" Block 3 Player 3"},{"$f":"'RESULTS DATA'!L49","v":-1E-3},{"$f":"'RESULTS DATA'!M49","v":-1E-3}]
[null,null,{"$f":"SEED!D24","v":" Block 3 Player 7"},{"$f":"'RESULTS DATA'!L10","v":-1E-3},{"$f":"'RESULTS DATA'!M10","v":-1E-3},null,{"$f":"SEED!D22","v":" Block 3 Player 5"},{"$f":"'RESULTS DATA'!L30","v":-1E-3},{"$f":"'RESULTS DATA'!M30","v":-1E-3},null,{"$f":"SEED!D22","v":" Block 3 Player 5"},{"$f":"'RESULTS DATA'!L50","v":-1E-3},{"$f":"'RESULTS DATA'!M50","v":-1E-3}]
[null,null,{"$f":"SEED!D23","v":" Block 3 Player 6"},{"$f":"'RESULTS DATA'!L11","v":-1E-3},{"$f":"'RESULTS DATA'!M11","v":-1E-3},null,{"$f":"SEED!D24","v":" Block 3 Player 7"},{"$f":"'RESULTS DATA'!L31","v":-1E-3},{"$f":"'RESULTS DATA'!M31","v":-1E-3},null,{"$f":"SEED!D21","v":" Block 3 Player 4"},{"$f":"'RESULTS DATA'!L51","v":-1E-3},{"$f":"'RESULTS DATA'!M51","v":-1E-3}]
[null,null,{"$f":"SEED!D18","v":" Block 3 Player 1"},{"$f":"'RESULTS DATA'!L12","v":-1E-3},{"$f":"'RESULTS DATA'!M12","v":-1E-3},null,{"$f":"SEED!D21","v":" Block 3 Player 4"},{"$f":"'RESULTS DATA'!L32","v":-1E-3},{"$f":"'RESULTS DATA'!M32","v":-1E-3},null,{"$f":"SEED!D18","v":" Block 3 Player 1"},{"$f":"'RESULTS DATA'!L52","v":-1E-3},{"$f":"'RESULTS DATA'!M52","v":-1E-3}]
[null,null,{"$f":"SEED!D21","v":" Block 3 Player 4"},{"$f":"'RESULTS DATA'!L13","v":-1E-3},{"$f":"'RESULTS DATA'!M13","v":-1E-3},null,{"$f":"SEED!D25","v":" Bye "},{"$f":"'RESULTS DATA'!L33","v":-1E-3},{"$f":"'RESULTS DATA'!M33","v":-1E-3},null,{"$f":"SEED!D19","v":" Block 3 Player 2"},{"$f":"'RESULTS DATA'!L53","v":-1E-3},{"$f":"'RESULTS DATA'!M53","v":-1E-3}]
[null,null,{"$f":"SEED!D20","v":" Block 3 Player 3"},{"$f":"'RESULTS DATA'!L14","v":-1E-3},{"$f":"'RESULTS DATA'!M14","v":-1E-3},null,{"$f":"SEED!D20","v":" Block 3 Player 3"},{"$f":"'RESULTS DATA'!L34","v":-1E-3},{"$f":"'RESULTS DATA'!M34","v":-1E-3},null,{"$f":"SEED!D25","v":" Bye "},{"$f":"'RESULTS DATA'!L54","v":-1E-3},{"$f":"'RESULTS DATA'!M54","v":-1E-3}]
[null,null,{"$f":"SEED!D22","v":" Block 3 Player 5"},{"$f":"'RESULTS DATA'!L15","v":-1E-3},{"$f":"'RESULTS DATA'!M15","v":-1E-3},null,{"$f":"SEED!D19","v":" Block 3 Player 2"},{"$f":"'RESULTS DATA'!L35","v":-1E-3},{"$f":"'RESULTS DATA'!M35","v":-1E-3},null,{"$f":"SEED!D20","v":" Block 3 Player 3"},{"$f":"'RESULTS DATA'!L55","v":-1E-3},{"$f":"'RESULTS DATA'!M55","v":-1E-3}]
[null,null,{"$f":"SEED!D19","v":" Block 3 Player 2"},{"$f":"'RESULTS DATA'!L16","v":-1E-3},{"$f":"'RESULTS DATA'!M16","v":-1E-3},null,{"$f":"SEED!D18","v":" Block 3 Player 1"},{"$f":"'RESULTS DATA'!L36","v":-1E-3},{"$f":"'RESULTS DATA'!M36","v":-1E-3},null,{"$f":"SEED!D24","v":" Block 3 Player 7"},{"$f":"'RESULTS DATA'!L56","v":-1E-3},{"$f":"'RESULTS DATA'!M56","v":-1E-3}]
[null,null,{"$f":"SEED!D23","v":" Block 3 Player 6"},{"$f":"'RESULTS DATA'!L17","v":-1E-3},{"$f":"'RESULTS DATA'!M17","v":-1E-3},null,{"$f":"SEED!D24","v":" Block 3 Player 7"},{"$f":"'RESULTS DATA'!L37","v":-1E-3},{"$f":"'RESULTS DATA'!M37","v":-1E-3},null,{"$f":"SEED!D21","v":" Block 3 Player 4"},{"$f":"'RESULTS DATA'!L57","v":-1E-3},{"$f":"'RESULTS DATA'!M57","v":-1E-3}]
[null,null,{"$f":"SEED!D25","v":" Bye "},{"$f":"'RESULTS DATA'!L18","v":-1E-3},{"$f":"'RESULTS DATA'!M18","v":-1E-3},null,{"$f":"SEED!D23","v":" Block 3 Player 6"},{"$f":"'RESULTS DATA'!L38","v":-1E-3},{"$f":"'RESULTS DATA'!M38","v":-1E-3},null,{"$f":"SEED!D23","v":" Block 3 Player 6"},{"$f":"'RESULTS DATA'!L58","v":-1E-3},{"$f":"'RESULTS DATA'!M58","v":-1E-3}]
[null,null,{"$f":"SEED!D24","v":" Block 3 Player 7"},{"$f":"'RESULTS DATA'!L19","v":-1E-3},{"$f":"'RESULTS DATA'!M19","v":-1E-3},null,{"$f":"SEED!D25","v":" Bye "},{"$f":"'RESULTS DATA'!L39","v":-1E-3},{"$f":"'RESULTS DATA'!M39","v":-1E-3},null,{"$f":"SEED!D22","v":" Block 3 Player 5"},{"$f":"'RESULTS DATA'!L59","v":-1E-3},{"$f":"'RESULTS DATA'!M59","v":-1E-3}]
[null,null,{"$f":"SEED!D18","v":" Block 3 Player 1"},{"$f":"'RESULTS DATA'!L20","v":-1E-3},{"$f":"'RESULTS DATA'!M20","v":-1E-3},null,{"$f":"SEED!D22","v":" Block 3 Player 5"},{"$f":"'RESULTS DATA'!L40","v":-1E-3},{"$f":"'RESULTS DATA'!M40","v":-1E-3}]
[null,null,{"$f":"SEED!D22","v":" Block 3 Player 5"},{"$f":"'RESULTS DATA'!L21","v":-1E-3},{"$f":"'RESULTS DATA'!M21","v":-1E-3},null,{"$f":"SEED!D19","v":" Block 3 Player 2"},{"$f":"'RESULTS DATA'!L41","v":-1E-3},{"$f":"'RESULTS DATA'!M41","v":-1E-3}]
[null,null,{"$f":"SEED!D21","v":" Block 3 Player 4"},{"$f":"'RESULTS DATA'!L22","v":-1E-3},{"$f":"'RESULTS DATA'!M22","v":-1E-3},null,{"$f":"SEED!D21","v":" Block 3 Player 4"},{"$f":"'RESULTS DATA'!L42","v":-1E-3},{"$f":"'RESULTS DATA'!M42","v":-1E-3}]
[null,null,{"$f":"SEED!D23","v":" Block 3 Player 6"},{"$f":"'RESULTS DATA'!L23","v":-1E-3},{"$f":"'RESULTS DATA'!M23","v":-1E-3},null,{"$f":"SEED!D20","v":" Block 3 Player 3"},{"$f":"'RESULTS DATA'!L43","v":-1E-3},{"$f":"'RESULTS DATA'!M43","v":-1E-3}]
[]
[]
[]
[null,{"$f":"GAMES!E96","v":"Singles"},null,null,null,{"$f":"GAMES!B96","v":"BLOCK 4"}]
[null,null,{"$f":"SEED!I18","v":" Block 4 Player 1"},{"$f":"'RESULTS DATA'!P4","v":-1E-3},{"$f":"'RESULTS DATA'!Q4","v":-1E-3},null,{"$f":"SEED!I20","v":" Block 4 Player 3"},{"$f":"'RESULTS DATA'!P24","v":-1E-3},{"$f":"'RESULTS DATA'!Q24","v":-1E-3},null,{"$f":"SEED!I18","v":" Block 4 Player 1"},{"$f":"'RESULTS DATA'!P44","v":-1E-3},{"$f":"'RESULTS DATA'!Q44","v":-1E-3}]
[null,null,{"$f":"SEED!I20","v":" Block 4 Player 3"},{"$f":"'RESULTS DATA'!P5","v":-1E-3},{"$f":"'RESULTS DATA'!Q5","v":-1E-3},null,{"$f":"SEED!I24","v":" Block 4 Player 7"},{"$f":"'RESULTS DATA'!P25","v":-1E-3},{"$f":"'RESULTS DATA'!Q25","v":-1E-3},null,{"$f":"SEED!I25","v":" Bye "},{"$f":"'RESULTS DATA'!P45","v":-1E-3},{"$f":"'RESULTS DATA'!Q45","v":-1E-3}]
[null,null,{"$f":"SEED!I19","v":" Block 4 Player 2"},{"$f":"'RESULTS DATA'!P6","v":-1E-3},{"$f":"'RESULTS DATA'!Q6","v":-1E-3},null,{"$f":"SEED!I19","v":" Block 4 Player 2"},{"$f":"'RESULTS DATA'!P26","v":-1E-3},{"$f":"'RESULTS DATA'!Q26","v":-1E-3},null,{"$f":"SEED!I24","v":" Block 4 Player 7"},{"$f":"'RESULTS DATA'!P46","v":-1E-3},{"$f":"'RESULTS DATA'!Q46","v":-1E-3}]
[null,null,{"$f":"SEED!I21","v":" Block 4 Player 4"},{"$f":"'RESULTS DATA'!P7","v":-1E-3},{"$f":"'RESULTS DATA'!Q7","v":-1E-3},null,{"$f":"SEED!I25","v":" Bye "},{"$f":"'RESULTS DATA'!P27","v":-1E-3},{"$f":"'RESULTS DATA'!Q27","v":-1E-3},null,{"$f":"SEED!I19","v":" Block 4 Player 2"},{"$f":"'RESULTS DATA'!P47","v":-1E-3},{"$f":"'RESULTS DATA'!Q47","v":-1E-3}]
[null,null,{"$f":"SEED!I25","v":" Bye "},{"$f":"'RESULTS DATA'!P8","v":-1E-3},{"$f":"'RESULTS DATA'!Q8","v":-1E-3},null,{"$f":"SEED!I18","v":" Block 4 Player 1"},{"$f":"'RESULTS DATA'!P28","v":-1E-3},{"$f":"'RESULTS DATA'!Q28","v":-1E-3},null,{"$f":"SEED!I23","v":" Block 4 Player 6"},{"$f":"'RESULTS DATA'!P48","v":-1E-3},{"$f":"'RESULTS DATA'!Q48","v":-1E-3}]
[null,null,{"$f":"SEED!I22","v":" Block 4 Player 5"},{"$f":"'RESULTS DATA'!P9","v":-1E-3},{"$f":"'RESULTS DATA'!Q9","v":-1E-3},null,{"$f":"SEED!I23","v":" Block 4 Player 6"},{"$f":"'RESULTS DATA'!P29","v":-1E-3},{"$f":"'RESULTS DATA'!Q29","v":-1E-3},null,{"$f":"SEED!I20","v":" Block 4 Player 3"},{"$f":"'RESULTS DATA'!P49","v":-1E-3},{"$f":"'RESULTS DATA'!Q49","v":-1E-3},null,null,null,null,"```"]
[null,null,{"$f":"SEED!I24","v":" Block 4 Player 7"},{"$f":"'RESULTS DATA'!P10","v":-1E-3},{"$f":"'RESULTS DATA'!Q10","v":-1E-3},null,{"$f":"SEED!I22","v":" Block 4 Player 5"},{"$f":"'RESULTS DATA'!P30","v":-1E-3},{"$f":"'RESULTS DATA'!Q30","v":-1E-3},null,{"$f":"SEED!I22","v":" Block 4 Player 5"},{"$f":"'RESULTS DATA'!P50","v":-1E-3},{"$f":"'RESULTS DATA'!Q50","v":-1E-3}]
[null,null,{"$f":"SEED!I23","v":" Block 4 Player 6"},{"$f":"'RESULTS DATA'!P11","v":-1E-3},{"$f":"'RESULTS DATA'!Q11","v":-1E-3},null,{"$f":"SEED!I24","v":" Block 4 Player 7"},{"$f":"'RESULTS DATA'!P31","v":-1E-3},{"$f":"'RESULTS DATA'!Q31","v":-1E-3},null,{"$f":"SEED!I21","v":" Block 4 Player 4"},{"$f":"'RESULTS DATA'!P51","v":-1E-3},{"$f":"'RESULTS DATA'!Q51","v":-1E-3}]
[null,null,{"$f":"SEED!I18","v":" Block 4 Player 1"},{"$f":"'RESULTS DATA'!P12","v":-1E-3},{"$f":"'RESULTS DATA'!Q12","v":-1E-3},null,{"$f":"SEED!I21","v":" Block 4 Player 4"},{"$f":"'RESULTS DATA'!P32","v":-1E-3},{"$f":"'RESULTS DATA'!Q32","v":-1E-3},null,{"$f":"SEED!I18","v":" Block 4 Player 1"},{"$f":"'RESULTS DATA'!P52","v":-1E-3},{"$f":"'RESULTS DATA'!Q52","v":-1E-3}]
[null,null,{"$f":"SEED!I21","v":" Block 4 Player 4"},{"$f":"'RESULTS DATA'!P13","v":-1E-3},{"$f":"'RESULTS DATA'!Q13","v":-1E-3},null,{"$f":"SEED!I25","v":" Bye "},{"$f":"'RESULTS DATA'!P33","v":-1E-3},{"$f":"'RESULTS DATA'!Q33","v":-1E-3},null,{"$f":"SEED!I19","v":" Block 4 Player 2"},{"$f":"'RESULTS DATA'!P53","v":-1E-3},{"$f":"'RESULTS DATA'!Q53","v":-1E-3}]
[null,null,{"$f":"SEED!I20","v":" Block 4 Player 3"},{"$f":"'RESULTS DATA'!P14","v":-1E-3},{"$f":"'RESULTS DATA'!Q14","v":-1E-3},null,{"$f":"SEED!I20","v":" Block 4 Player 3"},{"$f":"'RESULTS DATA'!P34","v":-1E-3},{"$f":"'RESULTS DATA'!Q34","v":-1E-3},null,{"$f":"SEED!I25","v":" Bye "},{"$f":"'RESULTS DATA'!P54","v":-1E-3},{"$f":"'RESULTS DATA'!Q54","v":-1E-3}]
[null,null,{"$f":"SEED!I22","v":" Block 4 Player 5"},{"$f":"'RESULTS DATA'!P15","v":-1E-3},{"$f":"'RESULTS DATA'!Q15","v":-1E-3},null,{"$f":"SEED!I19","v":" Block 4 Player 2"},{"$f":"'RESULTS DATA'!P35","v":-1E-3},{"$f":"'RESULTS DATA'!Q35","v":-1E-3},null,{"$f":"SEED!I20","v":" Block 4 Player 3"},{"$f":"'RESULTS DATA'!P55","v":-1E-3},{"$f":"'RESULTS DATA'!Q55","v":-1E-3}]
[null,null,{"$f":"SEED!I19","v":" Block 4 Player 2"},{"$f":"'RESULTS DATA'!P16","v":-1E-3},{"$f":"'RESULTS DATA'!Q16","v":-1E-3},null,{"$f":"SEED!I18","v":" Block 4 Player 1"},{"$f":"'RESULTS DATA'!P36","v":-1E-3},{"$f":"'RESULTS DATA'!Q36","v":-1E-3},null,{"$f":"SEED!I24","v":" Block 4 Player 7"},{"$f":"'RESULTS DATA'!P56","v":-1E-3},{"$f":"'RESULTS DATA'!Q56","v":-1E-3}]
[null,null,{"$f":"SEED!I23","v":" Block 4 Player 6"},{"$f":"'RESULTS DATA'!P17","v":-1E-3},{"$f":"'RESULTS DATA'!Q17","v":-1E-3},null,{"$f":"SEED!I24","v":" Block 4 Player 7"},{"$f":"'RESULTS DATA'!P37","v":-1E-3},{"$f":"'RESULTS DATA'!Q37","v":-1E-3},null,{"$f":"SEED!I21","v":" Block 4 Player 4"},{"$f":"'RESULTS DATA'!P57","v":-1E-3},{"$f":"'RESULTS DATA'!Q57","v":-1E-3}]
[null,null,{"$f":"SEED!I25","v":" Bye "},{"$f":"'RESULTS DATA'!P18","v":-1E-3},{"$f":"'RESULTS DATA'!Q18","v":-1E-3},null,{"$f":"SEED!I23","v":" Block 4 Player 6"},{"$f":"'RESULTS DATA'!P38","v":-1E-3},{"$f":"'RESULTS DATA'!Q38","v":-1E-3},null,{"$f":"SEED!I23","v":" Block 4 Player 6"},{"$f":"'RESULTS DATA'!P58","v":-1E-3},{"$f":"'RESULTS DATA'!Q58","v":-1E-3}]
[null,null,{"$f":"SEED!I24","v":" Block 4 Player 7"},{"$f":"'RESULTS DATA'!P19","v":-1E-3},{"$f":"'RESULTS DATA'!Q19","v":-1E-3},null,{"$f":"SEED!I25","v":" Bye "},{"$f":"'RESULTS DATA'!P39","v":-1E-3},{"$f":"'RESULTS DATA'!Q39","v":-1E-3},null,{"$f":"SEED!I22","v":" Block 4 Player 5"},{"$f":"'RESULTS DATA'!P59","v":-1E-3},{"$f":"'RESULTS DATA'!Q59","v":-1E-3}]
[null,null,{"$f":"SEED!I18","v":" Block 4 Player 1"},{"$f":"'RESULTS DATA'!P20","v":-1E-3},{"$f":"'RESULTS DATA'!Q20","v":-1E-3},null,{"$f":"SEED!I22","v":" Block 4 Player 5"},{"$f":"'RESULTS DATA'!P40","v":-1E-3},{"$f":"'RESULTS DATA'!Q40","v":-1E-3}]
[null,null,{"$f":"SEED!I22","v":" Block 4 Player 5"},{"$f":"'RESULTS DATA'!P21","v":-1E-3},{"$f":"'RESULTS DATA'!Q21","v":-1E-3},null,{"$f":"SEED!I19","v":" Block 4 Player 2"},{"$f":"'RESULTS DATA'!P41","v":-1E-3},{"$f":"'RESULTS DATA'!Q41","v":-1E-3}]
[null,null,{"$f":"SEED!I21","v":" Block 4 Player 4"},{"$f":"'RESULTS DATA'!P22","v":-1E-3},{"$f":"'RESULTS DATA'!Q22","v":-1E-3},null,{"$f":"SEED!I21","v":" Block 4 Player 4"},{"$f":"'RESULTS DATA'!P42","v":-1E-3},{"$f":"'RESULTS DATA'!Q42","v":-1E-3}]
[null,null,{"$f":"SEED!I23","v":" Block 4 Player 6"},{"$f":"'RESULTS DATA'!P23","v":-1E-3},{"$f":"'RESULTS DATA'!Q23","v":-1E-3},null,{"$f":"SEED!I20","v":" Block 4 Player 3"},{"$f":"'RESULTS DATA'!P43","v":-1E-3},{"$f":"'RESULTS DATA'!Q43","v":-1E-3}]
[]
[]
[]
[null,{"$f":"SEED!F2","v":"Singles"},null,null,null,{"$f":"GAMES!B127","v":"BLOCK 5"}]
[null,null,{"$f":"SEED!D30","v":" Block 5 Player 1"},{"$f":"'RESULTS DATA'!T4","v":-1E-3},{"$f":"'RESULTS DATA'!U4","v":-1E-3},null,{"$f":"SEED!D32","v":" Block 5 Player 3"},{"$f":"'RESULTS DATA'!T24","v":-1E-3},{"$f":"'RESULTS DATA'!U24","v":-1E-3},null,{"$f":"SEED!D30","v":" Block 5 Player 1"},{"$f":"'RESULTS DATA'!T44","v":-1E-3},{"$f":"'RESULTS DATA'!U44","v":-1E-3}]
[null,null,{"$f":"SEED!D32","v":" Block 5 Player 3"},{"$f":"'RESULTS DATA'!T5","v":-1E-3},{"$f":"'RESULTS DATA'!U5","v":-1E-3},null,{"$f":"SEED!D36","v":" Block 5 Player 7"},{"$f":"'RESULTS DATA'!T25","v":-1E-3},{"$f":"'RESULTS DATA'!U25","v":-1E-3},null,{"$f":"SEED!D37","v":" Bye "},{"$f":"'RESULTS DATA'!T45","v":-1E-3},{"$f":"'RESULTS DATA'!U45","v":-1E-3}]
[null,null,{"$f":"SEED!D31","v":" Block 5 Player 2"},{"$f":"'RESULTS DATA'!T6","v":-1E-3},{"$f":"'RESULTS DATA'!U6","v":-1E-3},null,{"$f":"SEED!D31","v":" Block 5 Player 2"},{"$f":"'RESULTS DATA'!T26","v":-1E-3},{"$f":"'RESULTS DATA'!U26","v":-1E-3},null,{"$f":"SEED!D36","v":" Block 5 Player 7"},{"$f":"'RESULTS DATA'!T46","v":-1E-3},{"$f":"'RESULTS DATA'!U46","v":-1E-3}]
[null,null,{"$f":"SEED!D33","v":" Block 5 Player 4"},{"$f":"'RESULTS DATA'!T7","v":-1E-3},{"$f":"'RESULTS DATA'!U7","v":-1E-3},null,{"$f":"SEED!D37","v":" Bye "},{"$f":"'RESULTS DATA'!T27","v":-1E-3},{"$f":"'RESULTS DATA'!U27","v":-1E-3},null,{"$f":"SEED!D31","v":" Block 5 Player 2"},{"$f":"'RESULTS DATA'!T47","v":-1E-3},{"$f":"'RESULTS DATA'!U47","v":-1E-3}]
[null,null,{"$f":"SEED!D37","v":" Bye "},{"$f":"'RESULTS DATA'!T8","v":-1E-3},{"$f":"'RESULTS DATA'!U8","v":-1E-3},null,{"$f":"SEED!D30","v":" Block 5 Player 1"},{"$f":"'RESULTS DATA'!T28","v":-1E-3},{"$f":"'RESULTS DATA'!U28","v":-1E-3},null,{"$f":"SEED!D35","v":" Block 5 Player 6"},{"$f":"'RESULTS DATA'!T48","v":-1E-3},{"$f":"'RESULTS DATA'!U48","v":-1E-3}]
[null,null,{"$f":"SEED!D34","v":" Block 5 Player 5"},{"$f":"'RESULTS DATA'!T9","v":-1E-3},{"$f":"'RESULTS DATA'!U9","v":-1E-3},null,{"$f":"SEED!D35","v":" Block 5 Player 6"},{"$f":"'RESULTS DATA'!T29","v":-1E-3},{"$f":"'RESULTS DATA'!U29","v":-1E-3},null,{"$f":"SEED!D32","v":" Block 5 Player 3"},{"$f":"'RESULTS DATA'!T49","v":-1E-3},{"$f":"'RESULTS DATA'!U49","v":-1E-3}]
[null,null,{"$f":"SEED!D36","v":" Block 5 Player 7"},{"$f":"'RESULTS DATA'!T10","v":-1E-3},{"$f":"'RESULTS DATA'!U10","v":-1E-3},null,{"$f":"SEED!D34","v":" Block 5 Player 5"},{"$f":"'RESULTS DATA'!T30","v":-1E-3},{"$f":"'RESULTS DATA'!U30","v":-1E-3},null,{"$f":"SEED!D34","v":" Block 5 Player 5"},{"$f":"'RESULTS DATA'!T50","v":-1E-3},{"$f":"'RESULTS DATA'!U50","v":-1E-3}]
[null,null,{"$f":"SEED!D35","v":" Block 5 Player 6"},{"$f":"'RESULTS DATA'!T11","v":-1E-3},{"$f":"'RESULTS DATA'!U11","v":-1E-3},null,{"$f":"SEED!D36","v":" Block 5 Player 7"},{"$f":"'RESULTS DATA'!T31","v":-1E-3},{"$f":"'RESULTS DATA'!U31","v":-1E-3},null,{"$f":"SEED!D33","v":" Block 5 Player 4"},{"$f":"'RESULTS DATA'!T51","v":-1E-3},{"$f":"'RESULTS DATA'!U51","v":-1E-3}]
[null,null,{"$f":"SEED!D30","v":" Block 5 Player 1"},{"$f":"'RESULTS DATA'!T12","v":-1E-3},{"$f":"'RESULTS DATA'!U12","v":-1E-3},null,{"$f":"SEED!D33","v":" Block 5 Player 4"},{"$f":"'RESULTS DATA'!T32","v":-1E-3},{"$f":"'RESULTS DATA'!U32","v":-1E-3},null,{"$f":"SEED!D30","v":" Block 5 Player 1"},{"$f":"'RESULTS DATA'!T52","v":-1E-3},{"$f":"'RESULTS DATA'!U52","v":-1E-3}]
[null,null,{"$f":"SEED!D33","v":" Block 5 Player 4"},{"$f":"'RESULTS DATA'!T13","v":-1E-3},{"$f":"'RESULTS DATA'!U13","v":-1E-3},null,{"$f":"SEED!D37","v":" Bye "},{"$f":"'RESULTS DATA'!T33","v":-1E-3},{"$f":"'RESULTS DATA'!U33","v":-1E-3},null,{"$f":"SEED!D31","v":" Block 5 Player 2"},{"$f":"'RESULTS DATA'!T53","v":-1E-3},{"$f":"'RESULTS DATA'!U53","v":-1E-3}]
[null,null,{"$f":"SEED!D32","v":" Block 5 Player 3"},{"$f":"'RESULTS DATA'!T14","v":-1E-3},{"$f":"'RESULTS DATA'!U14","v":-1E-3},null,{"$f":"SEED!D32","v":" Block 5 Player 3"},{"$f":"'RESULTS DATA'!T34","v":-1E-3},{"$f":"'RESULTS DATA'!U34","v":-1E-3},null,{"$f":"SEED!D37","v":" Bye "},{"$f":"'RESULTS DATA'!T54","v":-1E-3},{"$f":"'RESULTS DATA'!U54","v":-1E-3}]
[null,null,{"$f":"SEED!D34","v":" Block 5 Player 5"},{"$f":"'RESULTS DATA'!T15","v":-1E-3},{"$f":"'RESULTS DATA'!U15","v":-1E-3},null,{"$f":"SEED!D31","v":" Block 5 Player 2"},{"$f":"'RESULTS DATA'!T35","v":-1E-3},{"$f":"'RESULTS DATA'!U35","v":-1E-3},null,{"$f":"SEED!D32","v":" Block 5 Player 3"},{"$f":"'RESULTS DATA'!T55","v":-1E-3},{"$f":"'RESULTS DATA'!U55","v":-1E-3}]
[null,null,{"$f":"SEED!D31","v":" Block 5 Player 2"},{"$f":"'RESULTS DATA'!T16","v":-1E-3},{"$f":"'RESULTS DATA'!U16","v":-1E-3},null,{"$f":"SEED!D30","v":" Block 5 Player 1"},{"$f":"'RESULTS DATA'!T36","v":-1E-3},{"$f":"'RESULTS DATA'!U36","v":-1E-3},null,{"$f":"SEED!D36","v":" Block 5 Player 7"},{"$f":"'RESULTS DATA'!T56","v":-1E-3},{"$f":"'RESULTS DATA'!U56","v":-1E-3}]
[null,null,{"$f":"SEED!D35","v":" Block 5 Player 6"},{"$f":"'RESULTS DATA'!T17","v":-1E-3},{"$f":"'RESULTS DATA'!U17","v":-1E-3},null,{"$f":"SEED!D36","v":" Block 5 Player 7"},{"$f":"'RESULTS DATA'!T37","v":-1E-3},{"$f":"'RESULTS DATA'!U37","v":-1E-3},null,{"$f":"SEED!D33","v":" Block 5 Player 4"},{"$f":"'RESULTS DATA'!T57","v":-1E-3},{"$f":"'RESULTS DATA'!U57","v":-1E-3}]
[null,null,{"$f":"SEED!D37","v":" Bye "},{"$f":"'RESULTS DATA'!T18","v":-1E-3},{"$f":"'RESULTS DATA'!U18","v":-1E-3},null,{"$f":"SEED!D35","v":" Block 5 Player 6"},{"$f":"'RESULTS DATA'!T38","v":-1E-3},{"$f":"'RESULTS DATA'!U38","v":-1E-3},null,{"$f":"SEED!D35","v":" Block 5 Player 6"},{"$f":"'RESULTS DATA'!T58","v":-1E-3},{"$f":"'RESULTS DATA'!U58","v":-1E-3}]
[null,null,{"$f":"SEED!D36","v":" Block 5 Player 7"},{"$f":"'RESULTS DATA'!T19","v":-1E-3},{"$f":"'RESULTS DATA'!U19","v":-1E-3},null,{"$f":"SEED!D37","v":" Bye "},{"$f":"'RESULTS DATA'!T39","v":-1E-3},{"$f":"'RESULTS DATA'!U39","v":-1E-3},null,{"$f":"SEED!D34","v":" Block 5 Player 5"},{"$f":"'RESULTS DATA'!T59","v":-1E-3},{"$f":"'RESULTS DATA'!U59","v":-1E-3}]
[null,null,{"$f":"SEED!D30","v":" Block 5 Player 1"},{"$f":"'RESULTS DATA'!T20","v":-1E-3},{"$f":"'RESULTS DATA'!U20","v":-1E-3},null,{"$f":"SEED!D34","v":" Block 5 Player 5"},{"$f":"'RESULTS DATA'!T40","v":-1E-3},{"$f":"'RESULTS DATA'!U40","v":-1E-3}]
[null,null,{"$f":"SEED!D34","v":" Block 5 Player 5"},{"$f":"'RESULTS DATA'!T21","v":-1E-3},{"$f":"'RESULTS DATA'!U21","v":-1E-3},null,{"$f":"SEED!D31","v":" Block 5 Player 2"},{"$f":"'RESULTS DATA'!T41","v":-1E-3},{"$f":"'RESULTS DATA'!U41","v":-1E-3}]
[null,null,{"$f":"SEED!D33","v":" Block 5 Player 4"},{"$f":"'RESULTS DATA'!T22","v":-1E-3},{"$f":"'RESULTS DATA'!U22","v":-1E-3},null,{"$f":"SEED!D33","v":" Block 5 Player 4"},{"$f":"'RESULTS DATA'!T42","v":-1E-3},{"$f":"'RESULTS DATA'!U42","v":-1E-3}]
[null,null,{"$f":"SEED!D35","v":" Block 5 Player 6"},{"$f":"'RESULTS DATA'!T23","v":-1E-3},{"$f":"'RESULTS DATA'!U23","v":-1E-3},null,{"$f":"SEED!D32","v":" Block 5 Player 3"},{"$f":"'RESULTS DATA'!T43","v":-1E-3},{"$f":"'RESULTS DATA'!U43","v":-1E-3}]

{"sheet":"RESULTS DATA","index":6,"n_rows":59,"n_cols":23,"rows_kept":59,"cut":false,"hidden":true,"merged":[]}
[]
[]
[null,"BLOCK 1",null,null,null,"BLOCK 2",null,null,null,"BLOCK 3",null,null,null,"BLOCK 4",null,null,null,"BLOCK 5",null,null,null,null,"Test Data"]
[null,{"$f":"SEED!D6","v":" Block 1 Player 1"},{"$f":"RESULTS!C5","v":" Block 1 Player 1"},-1E-3,-1E-3,{"$f":"SEED!I6","v":" Block 2 Player 1"},{"$f":"RESULTS!C29","v":" Block 2 Player 1"},-1E-3,-1E-3,{"$f":"SEED!D18","v":" Block 3 Player 1"},{"$f":"RESULTS!C53","v":" Block 3 Player 1"},-1E-3,-1E-3,{"$f":"SEED!I18","v":" Block 4 Player 1"},{"$f":"RESULTS!C77","v":" Block 4 Player 1"},-1E-3,-1E-3,{"$f":"SEED!D30","v":" Block 5 Player 1"},{"$f":"RESULTS!C101","v":" Block 5 Player 1"},-1E-3,-1E-3,null,1]
[null,{"$f":"SEED!D7","v":" Block 1 Player 2"},{"$f":"RESULTS!C6","v":" Block 1 Player 3"},-1E-3,-1E-3,{"$f":"SEED!I7","v":" Block 2 Player 2"},{"$f":"RESULTS!C30","v":" Block 2 Player 3"},-1E-3,-1E-3,{"$f":"SEED!D19","v":" Block 3 Player 2"},{"$f":"RESULTS!C54","v":" Block 3 Player 3"},-1E-3,-1E-3,{"$f":"SEED!I19","v":" Block 4 Player 2"},{"$f":"RESULTS!C78","v":" Block 4 Player 3"},-1E-3,-1E-3,{"$f":"SEED!D31","v":" Block 5 Player 2"},{"$f":"RESULTS!C102","v":" Block 5 Player 3"},-1E-3,-1E-3,null,3]
[null,{"$f":"SEED!D8","v":" Block 1 Player 3"},{"$f":"RESULTS!C7","v":" Block 1 Player 2"},-1E-3,-1E-3,{"$f":"SEED!I8","v":" Block 2 Player 3"},{"$f":"RESULTS!C31","v":" Block 2 Player 2"},-1E-3,-1E-3,{"$f":"SEED!D20","v":" Block 3 Player 3"},{"$f":"RESULTS!C55","v":" Block 3 Player 2"},-1E-3,-1E-3,{"$f":"SEED!I20","v":" Block 4 Player 3"},{"$f":"RESULTS!C79","v":" Block 4 Player 2"},-1E-3,-1E-3,{"$f":"SEED!D32","v":" Block 5 Player 3"},{"$f":"RESULTS!C103","v":" Block 5 Player 2"},-1E-3,-1E-3,null,2]
[null,{"$f":"SEED!D9","v":" Block 1 Player 4"},{"$f":"RESULTS!C8","v":" Block 1 Player 4"},-1E-3,-1E-3,{"$f":"SEED!I9","v":" Block 2 Player 4"},{"$f":"RESULTS!C32","v":" Block 2 Player 4"},-1E-3,-1E-3,{"$f":"SEED!D21","v":" Block 3 Player 4"},{"$f":"RESULTS!C56","v":" Block 3 Player 4"},-1E-3,-1E-3,{"$f":"SEED!I21","v":" Block 4 Player 4"},{"$f":"RESULTS!C80","v":" Block 4 Player 4"},-1E-3,-1E-3,{"$f":"SEED!D33","v":" Block 5 Player 4"},{"$f":"RESULTS!C104","v":" Block 5 Player 4"},-1E-3,-1E-3,null,4]
[null,{"$f":"SEED!D10","v":" Block 1 Player 5"},{"$f":"RESULTS!C9","v":" Bye "},-1E-3,-1E-3,{"$f":"SEED!I10","v":" Block 2 Player 5"},{"$f":"RESULTS!C33","v":" Bye "},-1E-3,-1E-3,{"$f":"SEED!D22","v":" Block 3 Player 5"},{"$f":"RESULTS!C57","v":" Bye "},-1E-3,-1E-3,{"$f":"SEED!I22","v":" Block 4 Player 5"},{"$f":"RESULTS!C81","v":" Bye "},-1E-3,-1E-3,{"$f":"SEED!D34","v":" Block 5 Player 5"},{"$f":"RESULTS!C105","v":" Bye "},-1E-3,-1E-3,null,-1E-3]
[null,{"$f":"SEED!D11","v":" Block 1 Player 6"},{"$f":"RESULTS!C10","v":" Block 1 Player 5"},-1E-3,-1E-3,{"$f":"SEED!I11","v":" Block 2 Player 6"},{"$f":"RESULTS!C34","v":" Block 2 Player 5"},-1E-3,-1E-3,{"$f":"SEED!D23","v":" Block 3 Player 6"},{"$f":"RESULTS!C58","v":" Block 3 Player 5"},-1E-3,-1E-3,{"$f":"SEED!I23","v":" Block 4 Player 6"},{"$f":"RESULTS!C82","v":" Block 4 Player 5"},-1E-3,-1E-3,{"$f":"SEED!D35","v":" Block 5 Player 6"},{"$f":"RESULTS!C106","v":" Block 5 Player 5"},-1E-3,-1E-3,null,-1E-3]
[null,{"$f":"SEED!D12","v":" Block 1 Player 7"},{"$f":"RESULTS!C11","v":" Block 1 Player 7"},-1E-3,-1E-3,{"$f":"SEED!I12","v":" Block 2 Player 7"},{"$f":"RESULTS!C35","v":" Block 2 Player 7"},-1E-3,-1E-3,{"$f":"SEED!D24","v":" Block 3 Player 7"},{"$f":"RESULTS!C59","v":" Block 3 Player 7"},-1E-3,-1E-3,{"$f":"SEED!I24","v":" Block 4 Player 7"},{"$f":"RESULTS!C83","v":" Block 4 Player 7"},-1E-3,-1E-3,{"$f":"SEED!D36","v":" Block 5 Player 7"},{"$f":"RESULTS!C107","v":" Block 5 Player 7"},-1E-3,-1E-3,null,7]
[null,{"$f":"SEED!D13","v":" Bye "},{"$f":"RESULTS!C12","v":" Block 1 Player 6"},-1E-3,-1E-3,{"$f":"SEED!I13","v":" Bye "},{"$f":"RESULTS!C36","v":" Block 2 Player 6"},-1E-3,-1E-3,{"$f":"SEED!D25","v":" Bye "},{"$f":"RESULTS!C60","v":" Block 3 Player 6"},-1E-3,-1E-3,{"$f":"SEED!I25","v":" Bye "},{"$f":"RESULTS!C84","v":" Block 4 Player 6"},-1E-3,-1E-3,{"$f":"SEED!D37","v":" Bye "},{"$f":"RESULTS!C108","v":" Block 5 Player 6"},-1E-3,-1E-3,null,6]
["NumberOfGames",28,{"$f":"RESULTS!C13","v":" Block 1 Player 1"},-1E-3,-1E-3,null,{"$f":"RESULTS!C37","v":" Block 2 Player 1"},-1E-3,-1E-3,null,{"$f":"RESULTS!C61","v":" Block 3 Player 1"},-1E-3,-1E-3,null,{"$f":"RESULTS!C85","v":" Block 4 Player 1"},-1E-3,-1E-3,null,{"$f":"RESULTS!C109","v":" Block 5 Player 1"},-1E-3,-1E-3,null,1]
["Block1Selection1",5,{"$f":"RESULTS!C14","v":" Block 1 Player 4"},-1E-3,-1E-3,8,{"$f":"RESULTS!C38","v":" Block 2 Player 4"},-1E-3,-1E-3,1,{"$f":"RESULTS!C62","v":" Block 3 Player 4"},-1E-3,-1E-3,2,{"$f":"RESULTS!C86","v":" Block 4 Player 4"},-1E-3,-1E-3,8,{"$f":"RESULTS!C110","v":" Block 5 Player 4"},-1E-3,-1E-3,null,4]
["Block1Selection2",6,{"$f":"RESULTS!C15","v":" Block 1 Player 3"},-1E-3,-1E-3,2,{"$f":"RESULTS!C39","v":" Block 2 Player 3"},-1E-3,-1E-3,8,{"$f":"RESULTS!C63","v":" Block 3 Player 3"},-1E-3,-1E-3,3,{"$f":"RESULTS!C87","v":" Block 4 Player 3"},-1E-3,-1E-3,1,{"$f":"RESULTS!C111","v":" Block 5 Player 3"},-1E-3,-1E-3,null,3]
["Block1Player1Name",{"$f":"INDEX(B4:B11,Block1Selection1)","v":" Block 1 Player 5"},{"$f":"RESULTS!C16","v":" Block 1 Player 5"},-1E-3,-1E-3,{"$f":"INDEX(F4:F11,Block2Selection1)","v":" Bye "},{"$f":"RESULTS!C40","v":" Block 2 Player 5"},-1E-3,-1E-3,{"$f":"INDEX(J4:J11,Block3Selection1)","v":" Block 3 Player 1"},{"$f":"RESULTS!C64","v":" Block 3 Player 5"},-1E-3,-1E-3,{"$f":"INDEX(N4:N11,Block4Selection1)","v":" Block 4 Player 2"},{"$f":"RESULTS!C88","v":" Block 4 Player 5"},-1E-3,-1E-3,{"$f":"INDEX(R4:R11,Block5Selection1)","v":" Bye "},{"$f":"RESULTS!C112","v":" Block 5 Player 5"},-1E-3,-1E-3,null,5]
["Block1Player2Name",{"$f":"INDEX(B4:B11,Block1Selection2)","v":" Block 1 Player 6"},{"$f":"RESULTS!C17","v":" Block 1 Player 2"},-1E-3,-1E-3,{"$f":"INDEX(F4:F11,Block2Selection2)","v":" Block 2 Player 2"},{"$f":"RESULTS!C41","v":" Block 2 Player 2"},-1E-3,-1E-3,{"$f":"INDEX(J4:J11,Block3Selection2)","v":" Bye "},{"$f":"RESULTS!C65","v":" Block 3 Player 2"},-1E-3,-1E-3,{"$f":"INDEX(N4:N11,Block4Selection2)","v":" Block 4 Player 3"},{"$f":"RESULTS!C89","v":" Block 4 Player 2"},-1E-3,-1E-3,{"$f":"INDEX(R4:R11,Block5Selection2)","v":" Block 5 Player 1"},{"$f":"RESULTS!C113","v":" Block 5 Player 2"},-1E-3,-1E-3,null,2]
[null,null,{"$f":"RESULTS!C18","v":" Block 1 Player 6"},-1E-3,-1E-3,null,{"$f":"RESULTS!C42","v":" Block 2 Player 6"},-1E-3,-1E-3,null,{"$f":"RESULTS!C66","v":" Block 3 Player 6"},-1E-3,-1E-3,null,{"$f":"RESULTS!C90","v":" Block 4 Player 6"},-1E-3,-1E-3,null,{"$f":"RESULTS!C114","v":" Block 5 Player 6"},-1E-3,-1E-3,null,6]
[null,null,{"$f":"RESULTS!C19","v":" Bye "},-1E-3,-1E-3,null,{"$f":"RESULTS!C43","v":" Bye "},-1E-3,-1E-3,null,{"$f":"RESULTS!C67","v":" Bye "},-1E-3,-1E-3,null,{"$f":"RESULTS!C91","v":" Bye "},-1E-3,-1E-3,null,{"$f":"RESULTS!C115","v":" Bye "},-1E-3,-1E-3,null,-1E-3]
[null,null,{"$f":"RESULTS!C20","v":" Block 1 Player 7"},-1E-3,-1E-3,null,{"$f":"RESULTS!C44","v":" Block 2 Player 7"},-1E-3,-1E-3,null,{"$f":"RESULTS!C68","v":" Block 3 Player 7"},-1E-3,-1E-3,null,{"$f":"RESULTS!C92","v":" Block 4 Player 7"},-1E-3,-1E-3,null,{"$f":"RESULTS!C116","v":" Block 5 Player 7"},-1E-3,-1E-3,null,-1E-3]
[null,null,{"$f":"RESULTS!C21","v":" Block 1 Player 1"},-1E-3,-1E-3,null,{"$f":"RESULTS!C45","v":" Block 2 Player 1"},-1E-3,-1E-3,null,{"$f":"RESULTS!C69","v":" Block 3 Player 1"},-1E-3,-1E-3,null,{"$f":"RESULTS!C93","v":" Block 4 Player 1"},-1E-3,-1E-3,null,{"$f":"RESULTS!C117","v":" Block 5 Player 1"},-1E-3,-1E-3,null,1]
[null,null,{"$f":"RESULTS!C22","v":" Block 1 Player 5"},-1E-3,-1E-3,null,{"$f":"RESULTS!C46","v":" Block 2 Player 5"},-1E-3,-1E-3,null,{"$f":"RESULTS!C70","v":" Block 3 Player 5"},-1E-3,-1E-3,null,{"$f":"RESULTS!C94","v":" Block 4 Player 5"},-1E-3,-1E-3,null,{"$f":"RESULTS!C118","v":" Block 5 Player 5"},-1E-3,-1E-3,null,5]
[null,null,{"$f":"RESULTS!C23","v":" Block 1 Player 4"},-1E-3,-1E-3,null,{"$f":"RESULTS!C47","v":" Block 2 Player 4"},-1E-3,-1E-3,null,{"$f":"RESULTS!C71","v":" Block 3 Player 4"},-1E-3,-1E-3,null,{"$f":"RESULTS!C95","v":" Block 4 Player 4"},-1E-3,-1E-3,null,{"$f":"RESULTS!C119","v":" Block 5 Player 4"},-1E-3,-1E-3,null,4]
[null,null,{"$f":"RESULTS!C24","v":" Block 1 Player 6"},-1E-3,-1E-3,null,{"$f":"RESULTS!C48","v":" Block 2 Player 6"},-1E-3,-1E-3,null,{"$f":"RESULTS!C72","v":" Block 3 Player 6"},-1E-3,-1E-3,null,{"$f":"RESULTS!C96","v":" Block 4 Player 6"},-1E-3,-1E-3,null,{"$f":"RESULTS!C120","v":" Block 5 Player 6"},-1E-3,-1E-3,null,6]
[null,null,{"$f":"RESULTS!G5","v":" Block 1 Player 3"},-1E-3,-1E-3,null,{"$f":"RESULTS!G29","v":" Block 2 Player 3"},-1E-3,-1E-3,null,{"$f":"RESULTS!G53","v":" Block 3 Player 3"},-1E-3,-1E-3,null,{"$f":"RESULTS!G77","v":" Block 4 Player 3"},-1E-3,-1E-3,null,{"$f":"RESULTS!G101","v":" Block 5 Player 3"},-1E-3,-1E-3,null,3]
[null,null,{"$f":"RESULTS!G6","v":" Block 1 Player 7"},-1E-3,-1E-3,null,{"$f":"RESULTS!G30","v":" Block 2 Player 7"},-1E-3,-1E-3,null,{"$f":"RESULTS!G54","v":" Block 3 Player 7"},-1E-3,-1E-3,null,{"$f":"RESULTS!G78","v":" Block 4 Player 7"},-1E-3,-1E-3,null,{"$f":"RESULTS!G102","v":" Block 5 Player 7"},-1E-3,-1E-3,null,7]
[null,null,{"$f":"RESULTS!G7","v":" Block 1 Player 2"},-1E-3,-1E-3,null,{"$f":"RESULTS!G31","v":" Block 2 Player 2"},-1E-3,-1E-3,null,{"$f":"RESULTS!G55","v":" Block 3 Player 2"},-1E-3,-1E-3,null,{"$f":"RESULTS!G79","v":" Block 4 Player 2"},-1E-3,-1E-3,null,{"$f":"RESULTS!G103","v":" Block 5 Player 2"},-1E-3,-1E-3,null,-1E-3]
[null,null,{"$f":"RESULTS!G8","v":" Bye "},-1E-3,-1E-3,null,{"$f":"RESULTS!G32","v":" Bye "},-1E-3,-1E-3,null,{"$f":"RESULTS!G56","v":" Bye "},-1E-3,-1E-3,null,{"$f":"RESULTS!G80","v":" Bye "},-1E-3,-1E-3,null,{"$f":"RESULTS!G104","v":" Bye "},-1E-3,-1E-3,null,-1E-3]
[null,null,{"$f":"RESULTS!G9","v":" Block 1 Player 1"},-1E-3,-1E-3,null,{"$f":"RESULTS!G33","v":" Block 2 Player 1"},-1E-3,-1E-3,null,{"$f":"RESULTS!G57","v":" Block 3 Player 1"},-1E-3,-1E-3,null,{"$f":"RESULTS!G81","v":" Block 4 Player 1"},-1E-3,-1E-3,null,{"$f":"RESULTS!G105","v":" Block 5 Player 1"},-1E-3,-1E-3,null,1]
[null,null,{"$f":"RESULTS!G10","v":" Block 1 Player 6"},-1E-3,-1E-3,null,{"$f":"RESULTS!G34","v":" Block 2 Player 6"},-1E-3,-1E-3,null,{"$f":"RESULTS!G58","v":" Block 3 Player 6"},-1E-3,-1E-3,null,{"$f":"RESULTS!G82","v":" Block 4 Player 6"},-1E-3,-1E-3,null,{"$f":"RESULTS!G106","v":" Block 5 Player 6"},-1E-3,-1E-3,null,6]
[null,null,{"$f":"RESULTS!G11","v":" Block 1 Player 5"},-1E-3,-1E-3,null,{"$f":"RESULTS!G35","v":" Block 2 Player 5"},-1E-3,-1E-3,null,{"$f":"RESULTS!G59","v":" Block 3 Player 5"},-1E-3,-1E-3,null,{"$f":"RESULTS!G83","v":" Block 4 Player 5"},-1E-3,-1E-3,null,{"$f":"RESULTS!G107","v":" Block 5 Player 5"},-1E-3,-1E-3,null,5]
[null,null,{"$f":"RESULTS!G12","v":" Block 1 Player 7"},-1E-3,-1E-3,null,{"$f":"RESULTS!G36","v":" Block 2 Player 7"},-1E-3,-1E-3,null,{"$f":"RESULTS!G60","v":" Block 3 Player 7"},-1E-3,-1E-3,null,{"$f":"RESULTS!G84","v":" Block 4 Player 7"},-1E-3,-1E-3,null,{"$f":"RESULTS!G108","v":" Block 5 Player 7"},-1E-3,-1E-3,null,7]
[null,null,{"$f":"RESULTS!G13","v":" Block 1 Player 4"},-1E-3,-1E-3,null,{"$f":"RESULTS!G37","v":" Block 2 Player 4"},-1E-3,-1E-3,null,{"$f":"RESULTS!G61","v":" Block 3 Player 4"},-1E-3,-1E-3,null,{"$f":"RESULTS!G85","v":" Block 4 Player 4"},-1E-3,-1E-3,null,{"$f":"RESULTS!G109","v":" Block 5 Player 4"},-1E-3,-1E-3,null,-1E-3]
[null,null,{"$f":"RESULTS!G14","v":" Bye "},-1E-3,-1E-3,null,{"$f":"RESULTS!G38","v":" Bye "},-1E-3,-1E-3,null,{"$f":"RESULTS!G62","v":" Bye "},-1E-3,-1E-3,null,{"$f":"RESULTS!G86","v":" Bye "},-1E-3,-1E-3,null,{"$f":"RESULTS!G110","v":" Bye "},-1E-3,-1E-3,null,-1E-3]
[null,null,{"$f":"RESULTS!G15","v":" Block 1 Player 3"},-1E-3,-1E-3,null,{"$f":"RESULTS!G39","v":" Block 2 Player 3"},-1E-3,-1E-3,null,{"$f":"RESULTS!G63","v":" Block 3 Player 3"},-1E-3,-1E-3,null,{"$f":"RESULTS!G87","v":" Block 4 Player 3"},-1E-3,-1E-3,null,{"$f":"RESULTS!G111","v":" Block 5 Player 3"},-1E-3,-1E-3,null,3]
[null,null,{"$f":"RESULTS!G16","v":" Block 1 Player 2"},-1E-3,-1E-3,null,{"$f":"RESULTS!G40","v":" Block 2 Player 2"},-1E-3,-1E-3,null,{"$f":"RESULTS!G64","v":" Block 3 Player 2"},-1E-3,-1E-3,null,{"$f":"RESULTS!G88","v":" Block 4 Player 2"},-1E-3,-1E-3,null,{"$f":"RESULTS!G112","v":" Block 5 Player 2"},-1E-3,-1E-3,null,2]
[null,null,{"$f":"RESULTS!G17","v":" Block 1 Player 1"},-1E-3,-1E-3,null,{"$f":"RESULTS!G41","v":" Block 2 Player 1"},-1E-3,-1E-3,null,{"$f":"RESULTS!G65","v":" Block 3 Player 1"},-1E-3,-1E-3,null,{"$f":"RESULTS!G89","v":" Block 4 Player 1"},-1E-3,-1E-3,null,{"$f":"RESULTS!G113","v":" Block 5 Player 1"},-1E-3,-1E-3,null,1]
[null,null,{"$f":"RESULTS!G18","v":" Block 1 Player 7"},-1E-3,-1E-3,null,{"$f":"RESULTS!G42","v":" Block 2 Player 7"},-1E-3,-1E-3,null,{"$f":"RESULTS!G66","v":" Block 3 Player 7"},-1E-3,-1E-3,null,{"$f":"RESULTS!G90","v":" Block 4 Player 7"},-1E-3,-1E-3,null,{"$f":"RESULTS!G114","v":" Block 5 Player 7"},-1E-3,-1E-3,null,7]
[null,null,{"$f":"RESULTS!G19","v":" Block 1 Player 6"},-1E-3,-1E-3,null,{"$f":"RESULTS!G43","v":" Block 2 Player 6"},-1E-3,-1E-3,null,{"$f":"RESULTS!G67","v":" Block 3 Player 6"},-1E-3,-1E-3,null,{"$f":"RESULTS!G91","v":" Block 4 Player 6"},-1E-3,-1E-3,null,{"$f":"RESULTS!G115","v":" Block 5 Player 6"},-1E-3,-1E-3,null,-1E-3]
[null,null,{"$f":"RESULTS!G20","v":" Bye "},-1E-3,-1E-3,null,{"$f":"RESULTS!G44","v":" Bye "},-1E-3,-1E-3,null,{"$f":"RESULTS!G68","v":" Bye "},-1E-3,-1E-3,null,{"$f":"RESULTS!G92","v":" Bye "},-1E-3,-1E-3,null,{"$f":"RESULTS!G116","v":" Bye "},-1E-3,-1E-3,null,-1E-3]
[null,null,{"$f":"RESULTS!G21","v":" Block 1 Player 5"},-1E-3,-1E-3,null,{"$f":"RESULTS!G45","v":" Block 2 Player 5"},-1E-3,-1E-3,null,{"$f":"RESULTS!G69","v":" Block 3 Player 5"},-1E-3,-1E-3,null,{"$f":"RESULTS!G93","v":" Block 4 Player 5"},-1E-3,-1E-3,null,{"$f":"RESULTS!G117","v":" Block 5 Player 5"},-1E-3,-1E-3,null,5]
[null,null,{"$f":"RESULTS!G22","v":" Block 1 Player 2"},-1E-3,-1E-3,null,{"$f":"RESULTS!G46","v":" Block 2 Player 2"},-1E-3,-1E-3,null,{"$f":"RESULTS!G70","v":" Block 3 Player 2"},-1E-3,-1E-3,null,{"$f":"RESULTS!G94","v":" Block 4 Player 2"},-1E-3,-1E-3,null,{"$f":"RESULTS!G118","v":" Block 5 Player 2"},-1E-3,-1E-3,null,2]
[null,null,{"$f":"RESULTS!G23","v":" Block 1 Player 4"},-1E-3,-1E-3,null,{"$f":"RESULTS!G47","v":" Block 2 Player 4"},-1E-3,-1E-3,null,{"$f":"RESULTS!G71","v":" Block 3 Player 4"},-1E-3,-1E-3,null,{"$f":"RESULTS!G95","v":" Block 4 Player 4"},-1E-3,-1E-3,null,{"$f":"RESULTS!G119","v":" Block 5 Player 4"},-1E-3,-1E-3,null,4]
[null,null,{"$f":"RESULTS!G24","v":" Block 1 Player 3"},-1E-3,-1E-3,null,{"$f":"RESULTS!G48","v":" Block 2 Player 3"},-1E-3,-1E-3,null,{"$f":"RESULTS!G72","v":" Block 3 Player 3"},-1E-3,-1E-3,null,{"$f":"RESULTS!G96","v":" Block 4 Player 3"},-1E-3,-1E-3,null,{"$f":"RESULTS!G120","v":" Block 5 Player 3"},-1E-3,-1E-3,null,3]
[null,null,{"$f":"RESULTS!K5","v":" Block 1 Player 1"},-1E-3,-1E-3,null,{"$f":"RESULTS!K29","v":" Block 2 Player 1"},-1E-3,-1E-3,null,{"$f":"RESULTS!K53","v":" Block 3 Player 1"},-1E-3,-1E-3,null,{"$f":"RESULTS!K77","v":" Block 4 Player 1"},-1E-3,-1E-3,null,{"$f":"RESULTS!K101","v":" Block 5 Player 1"},-1E-3,-1E-3,null,-1E-3]
[null,null,{"$f":"RESULTS!K6","v":" Bye "},-1E-3,-1E-3,null,{"$f":"RESULTS!K30","v":" Bye "},-1E-3,-1E-3,null,{"$f":"RESULTS!K54","v":" Bye "},-1E-3,-1E-3,null,{"$f":"RESULTS!K78","v":" Bye "},-1E-3,-1E-3,null,{"$f":"RESULTS!K102","v":" Bye "},-1E-3,-1E-3,null,-1E-3]
[null,null,{"$f":"RESULTS!K7","v":" Block 1 Player 7"},-1E-3,-1E-3,null,{"$f":"RESULTS!K31","v":" Block 2 Player 7"},-1E-3,-1E-3,null,{"$f":"RESULTS!K55","v":" Block 3 Player 7"},-1E-3,-1E-3,null,{"$f":"RESULTS!K79","v":" Block 4 Player 7"},-1E-3,-1E-3,null,{"$f":"RESULTS!K103","v":" Block 5 Player 7"},-1E-3,-1E-3,null,7]
[null,null,{"$f":"RESULTS!K8","v":" Block 1 Player 2"},-1E-3,-1E-3,null,{"$f":"RESULTS!K32","v":" Block 2 Player 2"},-1E-3,-1E-3,null,{"$f":"RESULTS!K56","v":" Block 3 Player 2"},-1E-3,-1E-3,null,{"$f":"RESULTS!K80","v":" Block 4 Player 2"},-1E-3,-1E-3,null,{"$f":"RESULTS!K104","v":" Block 5 Player 2"},-1E-3,-1E-3,null,2]
[null,null,{"$f":"RESULTS!K9","v":" Block 1 Player 6"},-1E-3,-1E-3,null,{"$f":"RESULTS!K33","v":" Block 2 Player 6"},-1E-3,-1E-3,null,{"$f":"RESULTS!K57","v":" Block 3 Player 6"},-1E-3,-1E-3,null,{"$f":"RESULTS!K81","v":" Block 4 Player 6"},-1E-3,-1E-3,null,{"$f":"RESULTS!K105","v":" Block 5 Player 6"},-1E-3,-1E-3,null,6]
[null,null,{"$f":"RESULTS!K10","v":" Block 1 Player 3"},-1E-3,-1E-3,null,{"$f":"RESULTS!K34","v":" Block 2 Player 3"},-1E-3,-1E-3,null,{"$f":"RESULTS!K58","v":" Block 3 Player 3"},-1E-3,-1E-3,null,{"$f":"RESULTS!K82","v":" Block 4 Player 3"},-1E-3,-1E-3,null,{"$f":"RESULTS!K106","v":" Block 5 Player 3"},-1E-3,-1E-3,null,3]
[null,null,{"$f":"RESULTS!K11","v":" Block 1 Player 5"},-1E-3,-1E-3,null,{"$f":"RESULTS!K35","v":" Block 2 Player 5"},-1E-3,-1E-3,null,{"$f":"RESULTS!K59","v":" Block 3 Player 5"},-1E-3,-1E-3,null,{"$f":"RESULTS!K83","v":" Block 4 Player 5"},-1E-3,-1E-3,null,{"$f":"RESULTS!K107","v":" Block 5 Player 5"},-1E-3,-1E-3,null,5]
[null,null,{"$f":"RESULTS!K12","v":" Block 1 Player 4"},-1E-3,-1E-3,null,{"$f":"RESULTS!K36","v":" Block 2 Player 4"},-1E-3,-1E-3,null,{"$f":"RESULTS!K60","v":" Block 3 Player 4"},-1E-3,-1E-3,null,{"$f":"RESULTS!K84","v":" Block 4 Player 4"},-1E-3,-1E-3,null,{"$f":"RESULTS!K108","v":" Block 5 Player 4"},-1E-3,-1E-3,null,4]
[null,null,{"$f":"RESULTS!K13","v":" Block 1 Player 1"},-1E-3,-1E-3,null,{"$f":"RESULTS!K37","v":" Block 2 Player 1"},-1E-3,-1E-3,null,{"$f":"RESULTS!K61","v":" Block 3 Player 1"},-1E-3,-1E-3,null,{"$f":"RESULTS!K85","v":" Block 4 Player 1"},-1E-3,-1E-3,null,{"$f":"RESULTS!K109","v":" Block 5 Player 1"},-1E-3,-1E-3,null,1]
[null,null,{"$f":"RESULTS!K14","v":" Block 1 Player 2"},-1E-3,-1E-3,null,{"$f":"RESULTS!K38","v":" Block 2 Player 2"},-1E-3,-1E-3,null,{"$f":"RESULTS!K62","v":" Block 3 Player 2"},-1E-3,-1E-3,null,{"$f":"RESULTS!K86","v":" Block 4 Player 2"},-1E-3,-1E-3,null,{"$f":"RESULTS!K110","v":" Block 5 Player 2"},-1E-3,-1E-3,null,2]
[null,null,{"$f":"RESULTS!K15","v":" Bye "},-1E-3,-1E-3,null,{"$f":"RESULTS!K39","v":" Bye "},-1E-3,-1E-3,null,{"$f":"RESULTS!K63","v":" Bye "},-1E-3,-1E-3,null,{"$f":"RESULTS!K87","v":" Bye "},-1E-3,-1E-3,null,{"$f":"RESULTS!K111","v":" Bye "},-1E-3,-1E-3,null,-1E-3]
[null,null,{"$f":"RESULTS!K16","v":" Block 1 Player 3"},-1E-3,-1E-3,null,{"$f":"RESULTS!K40","v":" Block 2 Player 3"},-1E-3,-1E-3,null,{"$f":"RESULTS!K64","v":" Block 3 Player 3"},-1E-3,-1E-3,null,{"$f":"RESULTS!K88","v":" Block 4 Player 3"},-1E-3,-1E-3,null,{"$f":"RESULTS!K112","v":" Block 5 Player 3"},-1E-3,-1E-3,null,-1E-3]
[null,null,{"$f":"RESULTS!K17","v":" Block 1 Player 7"},-1E-3,-1E-3,null,{"$f":"RESULTS!K41","v":" Block 2 Player 7"},-1E-3,-1E-3,null,{"$f":"RESULTS!K65","v":" Block 3 Player 7"},-1E-3,-1E-3,null,{"$f":"RESULTS!K89","v":" Block 4 Player 7"},-1E-3,-1E-3,null,{"$f":"RESULTS!K113","v":" Block 5 Player 7"},-1E-3,-1E-3,null,7]
[null,null,{"$f":"RESULTS!K18","v":" Block 1 Player 4"},-1E-3,-1E-3,null,{"$f":"RESULTS!K42","v":" Block 2 Player 4"},-1E-3,-1E-3,null,{"$f":"RESULTS!K66","v":" Block 3 Player 4"},-1E-3,-1E-3,null,{"$f":"RESULTS!K90","v":" Block 4 Player 4"},-1E-3,-1E-3,null,{"$f":"RESULTS!K114","v":" Block 5 Player 4"},-1E-3,-1E-3,null,4]
[null,null,{"$f":"RESULTS!K19","v":" Block 1 Player 6"},-1E-3,-1E-3,null,{"$f":"RESULTS!K43","v":" Block 2 Player 6"},-1E-3,-1E-3,null,{"$f":"RESULTS!K67","v":" Block 3 Player 6"},-1E-3,-1E-3,null,{"$f":"RESULTS!K91","v":" Block 4 Player 6"},-1E-3,-1E-3,null,{"$f":"RESULTS!K115","v":" Block 5 Player 6"},-1E-3,-1E-3,null,6]
[null,null,{"$f":"RESULTS!K20","v":" Block 1 Player 5"},-1E-3,-1E-3,null,{"$f":"RESULTS!K44","v":" Block 2 Player 5"},-1E-3,-1E-3,null,{"$f":"RESULTS!K68","v":" Block 3 Player 5"},-1E-3,-1E-3,null,{"$f":"RESULTS!K92","v":" Block 4 Player 5"},-1E-3,-1E-3,null,{"$f":"RESULTS!K116","v":" Block 5 Player 5"},-1E-3,-1E-3,null,5]

{"sheet":"SCORES","index":7,"n_rows":351,"n_cols":12,"rows_kept":351,"cut":false,"hidden":false,"merged":[]}
[]
[]
[]
[null,{"$f":"RESULTS!$F$4 & \"   COURT \"&GAMES!$D$5","v":"BLOCK 1   COURT "},null,"SCORES",null,{"$f":"RESULTS!$F$4 & \"   COURT \"&GAMES!$D$15","v":"BLOCK 1   COURT "},null,"SCORES",null,{"$f":"RESULTS!$F$4 & \"   COURT \"&GAMES!$D$25","v":"BLOCK 1   COURT --"},null,"SCORES"]
[null,{"$f":"RESULTS!C5","v":" Block 1 Player 1"},null,{"$f":"RESULTS!D5","v":-1E-3},null,{"$f":"RESULTS!G5","v":" Block 1 Player 3"},null,{"$f":"RESULTS!H5","v":-1E-3},null,{"$f":"RESULTS!K5","v":" Block 1 Player 1"},null,{"$f":"RESULTS!L5","v":-1E-3}]
[null,{"$f":"GAMES!C5+GAMES!B5","v":"00:00:00"},null,null,null,{"$f":"GAMES!C15+GAMES!B15","v":"00:00:00"},null,null,null,{"$f":"GAMES!C25+GAMES!B25","v":"00:00:00"}]
[null,{"$f":"RESULTS!C6","v":" Block 1 Player 3"},null,{"$f":"RESULTS!D6","v":-1E-3},null,{"$f":"RESULTS!G6","v":" Block 1 Player 7"},null,{"$f":"RESULTS!H6","v":-1E-3},null,{"$f":"RESULTS!K6","v":" Bye "},null,{"$f":"RESULTS!L6","v":-1E-3}]
[null,"INITIALS",null,null,null,"INITIALS",null,null,null,"INITIALS"]
[]
[]
[null,{"$f":"RESULTS!$F$4 & \"   COURT \"&GAMES!$D$6","v":"BLOCK 1   COURT "},null,"SCORES",null,{"$f":"RESULTS!$F$4 & \"   COURT \"&GAMES!$D$16","v":"BLOCK 1   COURT --"},null,"SCORES",null,{"$f":"RESULTS!$F$4 & \"   COURT \"&GAMES!$D$26","v":"BLOCK 1   COURT "},null,"SCORES"]
[null,{"$f":"RESULTS!C7","v":" Block 1 Player 2"},null,{"$f":"RESULTS!D7","v":-1E-3},null,{"$f":"RESULTS!G7","v":" Block 1 Player 2"},null,{"$f":"RESULTS!H7","v":-1E-3},null,{"$f":"RESULTS!K7","v":" Block 1 Player 7"},null,{"$f":"RESULTS!L7","v":-1E-3}]
[null,{"$f":"GAMES!C6+GAMES!B6","v":"00:00:00"},null,null,null,{"$f":"GAMES!C16+GAMES!B16","v":"00:00:00"},null,null,null,{"$f":"GAMES!C26+GAMES!B26","v":"00:00:00"}]
[null,{"$f":"RESULTS!C8","v":" Block 1 Player 4"},null,{"$f":"RESULTS!D8","v":-1E-3},null,{"$f":"RESULTS!G8","v":" Bye "},null,{"$f":"RESULTS!H8","v":-1E-3},null,{"$f":"RESULTS!K8","v":" Block 1 Player 2"},null,{"$f":"RESULTS!L8","v":-1E-3}]
[null,"INITIALS",null,null,null,"INITIALS",null,null,null,"INITIALS"]
[]
[]
[null,{"$f":"RESULTS!$F$4 & \"   COURT \"&GAMES!$D$7","v":"BLOCK 1   COURT --"},null,"SCORES",null,{"$f":"RESULTS!$F$4 & \"   COURT \"&GAMES!$D$17","v":"BLOCK 1   COURT "},null,"SCORES",null,{"$f":"RESULTS!$F$4 & \"   COURT \"&GAMES!$D$27","v":"BLOCK 1   COURT "},null,"SCORES"]
[null,{"$f":"RESULTS!C9","v":" Bye "},null,{"$f":"RESULTS!D9","v":-1E-3},null,{"$f":"RESULTS!G9","v":" Block 1 Player 1"},null,{"$f":"RESULTS!H9","v":-1E-3},null,{"$f":"RESULTS!K9","v":" Block 1 Player 6"},null,{"$f":"RESULTS!L9","v":-1E-3}]
[null,{"$f":"GAMES!C7+GAMES!B7","v":"00:00:00"},null,null,null,{"$f":"GAMES!C17+GAMES!B17","v":"00:00:00"},null,null,null,{"$f":"GAMES!C27+GAMES!B27","v":"00:00:00"}]
[null,{"$f":"RESULTS!C10","v":" Block 1 Player 5"},null,{"$f":"RESULTS!D10","v":-1E-3},null,{"$f":"RESULTS!G10","v":" Block 1 Player 6"},null,{"$f":"RESULTS!H10","v":-1E-3},null,{"$f":"RESULTS!K10","v":" Block 1 Player 3"},null,{"$f":"RESULTS!L10","v":-1E-3}]
[null,"INITIALS",null,null,null,"INITIALS",null,null,null,"INITIALS"]
[]
[]
[null,{"$f":"RESULTS!$F$4 & \"   COURT \"&GAMES!$D$8","v":"BLOCK 1   COURT "},null,"SCORES",null,{"$f":"RESULTS!$F$4 & \"   COURT \"&GAMES!$D$18","v":"BLOCK 1   COURT "},null,"SCORES",null,{"$f":"RESULTS!$F$4 & \"   COURT \"&GAMES!$D$28","v":"BLOCK 1   COURT "},null,"SCORES"]
[null,{"$f":"RESULTS!C11","v":" Block 1 Player 7"},null,{"$f":"RESULTS!D11","v":-1E-3},null,{"$f":"RESULTS!G11","v":" Block 1 Player 5"},null,{"$f":"RESULTS!H11","v":-1E-3},null,{"$f":"RESULTS!K11","v":" Block 1 Player 5"},null,{"$f":"RESULTS!L11","v":-1E-3}]
[null,{"$f":"GAMES!C8+GAMES!B8","v":"00:00:00"},null,null,null,{"$f":"GAMES!C18+GAMES!B18","v":"00:00:00"},null,null,null,{"$f":"GAMES!C28+GAMES!B28","v":"00:00:00"}]
[null,{"$f":"RESULTS!C12","v":" Block 1 Player 6"},null,{"$f":"RESULTS!D12","v":-1E-3},null,{"$f":"RESULTS!G12","v":" Block 1 Player 7"},null,{"$f":"RESULTS!H12","v":-1E-3},null,{"$f":"RESULTS!K12","v":" Block 1 Player 4"},null,{"$f":"RESULTS!L12","v":-1E-3}]
[null,"INITIALS",null,null,null,"INITIALS",null,null,null,"INITIALS"]
[]
[]
[null,{"$f":"RESULTS!$F$4 & \"   COURT \"&GAMES!$D$9","v":"BLOCK 1   COURT "},null,"SCORES",null,{"$f":"RESULTS!$F$4 & \"   COURT \"&GAMES!$D$19","v":"BLOCK 1   COURT --"},null,"SCORES",null,{"$f":"RESULTS!$F$4 & \"   COURT \"&GAMES!$D$29","v":"BLOCK 1   COURT "},null,"SCORES"]
[null,{"$f":"RESULTS!C13","v":" Block 1 Player 1"},null,{"$f":"RESULTS!D13","v":-1E-3},null,{"$f":"RESULTS!G13","v":" Block 1 Player 4"},null,{"$f":"RESULTS!H13","v":-1E-3},null,{"$f":"RESULTS!K13","v":" Block 1 Player 1"},null,{"$f":"RESULTS!L13","v":-1E-3}]
[null,{"$f":"GAMES!C9+GAMES!B9","v":"00:00:00"},null,null,null,{"$f":"GAMES!C19+GAMES!B19","v":"00:00:00"},null,null,null,{"$f":"GAMES!C29+GAMES!B29","v":"00:00:00"}]
[null,{"$f":"RESULTS!C14","v":" Block 1 Player 4"},null,{"$f":"RESULTS!D14","v":-1E-3},null,{"$f":"RESULTS!G14","v":" Bye "},null,{"$f":"RESULTS!H14","v":-1E-3},null,{"$f":"RESULTS!K14","v":" Block 1 Player 2"},null,{"$f":"RESULTS!L14","v":-1E-3}]
[null,"INITIALS",null,null,null,"INITIALS",null,null,null,"INITIALS"]
[]
[]
[null,{"$f":"RESULTS!$F$4 & \"   COURT \"&GAMES!$D$10","v":"BLOCK 1   COURT "},null,"SCORES",null,{"$f":"RESULTS!$F$4 & \"   COURT \"&GAMES!$D$20","v":"BLOCK 1   COURT "},null,"SCORES",null,{"$f":"RESULTS!$F$4 & \"   COURT \"&GAMES!$D$30","v":"BLOCK 1   COURT --"},null,"SCORES"]
[null,{"$f":"RESULTS!C15","v":" Block 1 Player 3"},null,{"$f":"RESULTS!D15","v":-1E-3},null,{"$f":"RESULTS!G15","v":" Block 1 Player 3"},null,{"$f":"RESULTS!H15","v":-1E-3},null,{"$f":"RESULTS!K15","v":" Bye "},null,{"$f":"RESULTS!L15","v":-1E-3}]
[null,{"$f":"GAMES!C10+GAMES!B10","v":"00:00:00"},null,null,null,{"$f":"GAMES!C20+GAMES!B20","v":"00:00:00"},null,null,null,{"$f":"GAMES!C30+GAMES!B30","v":"00:00:00"}]
[null,{"$f":"RESULTS!C16","v":" Block 1 Player 5"},null,{"$f":"RESULTS!D16","v":-1E-3},null,{"$f":"RESULTS!G16","v":" Block 1 Player 2"},null,{"$f":"RESULTS!H16","v":-1E-3},null,{"$f":"RESULTS!K16","v":" Block 1 Player 3"},null,{"$f":"RESULTS!L16","v":-1E-3}]
[null,"INITIALS",null,null,null,"INITIALS",null,null,null,"INITIALS"]
[]
[]
[null,{"$f":"RESULTS!$F$4 & \"   COURT \"&GAMES!$D$11","v":"BLOCK 1   COURT "},null,"SCORES",null,{"$f":"RESULTS!$F$4 & \"   COURT \"&GAMES!$D$21","v":"BLOCK 1   COURT "},null,"SCORES",null,{"$f":"RESULTS!$F$4 & \"   COURT \"&GAMES!$D$31","v":"BLOCK 1   COURT "},null,"SCORES"]
[null,{"$f":"RESULTS!C17","v":" Block 1 Player 2"},null,{"$f":"RESULTS!D17","v":-1E-3},null,{"$f":"RESULTS!G17","v":" Block 1 Player 1"},null,{"$f":"RESULTS!H17","v":-1E-3},null,{"$f":"RESULTS!K17","v":" Block 1 Player 7"},null,{"$f":"RESULTS!L17","v":-1E-3}]
[null,{"$f":"GAMES!C11+GAMES!B11","v":"00:00:00"},null,null,null,{"$f":"GAMES!C21+GAMES!B21","v":"00:00:00"},null,null,null,{"$f":"GAMES!C31+GAMES!B31","v":"00:00:00"}]
[null,{"$f":"RESULTS!C18","v":" Block 1 Player 6"},null,{"$f":"RESULTS!D18","v":-1E-3},null,{"$f":"RESULTS!G18","v":" Block 1 Player 7"},null,{"$f":"RESULTS!H18","v":-1E-3},null,{"$f":"RESULTS!K18","v":" Block 1 Player 4"},null,{"$f":"RESULTS!L18","v":-1E-3}]
[null,"INITIALS",null,null,null,"INITIALS",null,null,null,"INITIALS"]
[]
[]
[null,{"$f":"RESULTS!$F$4 & \"   COURT \"&GAMES!$D$12","v":"BLOCK 1   COURT --"},null,"SCORES",null,{"$f":"RESULTS!$F$4 & \"   COURT \"&GAMES!$D$22","v":"BLOCK 1   COURT --"},null,"SCORES",null,{"$f":"RESULTS!$F$4 & \"   COURT \"&GAMES!$D$32","v":"BLOCK 1   COURT "},null,"SCORES"]
[null,{"$f":"RESULTS!C19","v":" Bye "},null,{"$f":"RESULTS!D19","v":-1E-3},null,{"$f":"RESULTS!G19","v":" Block 1 Player 6"},null,{"$f":"RESULTS!H19","v":-1E-3},null,{"$f":"RESULTS!K19","v":" Block 1 Player 6"},null,{"$f":"RESULTS!L19","v":-1E-3}]
[null,{"$f":"GAMES!C12+GAMES!B12","v":"00:00:00"},null,null,null,{"$f":"GAMES!C22+GAMES!B22","v":"00:00:00"},null,null,null,{"$f":"GAMES!C32+GAMES!B32","v":"00:00:00"}]
[null,{"$f":"RESULTS!C20","v":" Block 1 Player 7"},null,{"$f":"RESULTS!D20","v":-1E-3},null,{"$f":"RESULTS!G20","v":" Bye "},null,{"$f":"RESULTS!H20","v":-1E-3},null,{"$f":"RESULTS!K20","v":" Block 1 Player 5"},null,{"$f":"RESULTS!L20","v":-1E-3}]
[null,"INITIALS",null,null,null,"INITIALS",null,null,null,"INITIALS"]
[]
[]
[null,{"$f":"RESULTS!$F$4 & \"   COURT \"&GAMES!$D$13","v":"BLOCK 1   COURT "},null,"SCORES",null,{"$f":"RESULTS!$F$4 & \"   COURT \"&GAMES!$D$23","v":"BLOCK 1   COURT "},null,"SCORES"]
[null,{"$f":"RESULTS!C21","v":" Block 1 Player 1"},null,{"$f":"RESULTS!D21","v":-1E-3},null,{"$f":"RESULTS!G21","v":" Block 1 Player 5"},null,{"$f":"RESULTS!H21","v":-1E-3}]
[null,{"$f":"GAMES!C13+GAMES!B13","v":"00:00:00"},null,null,null,{"$f":"GAMES!C23+GAMES!B23","v":"00:00:00"}]
[null,{"$f":"RESULTS!C22","v":" Block 1 Player 5"},null,{"$f":"RESULTS!D22","v":-1E-3},null,{"$f":"RESULTS!G22","v":" Block 1 Player 2"},null,{"$f":"RESULTS!H22","v":-1E-3}]
[null,"INITIALS",null,null,null,"INITIALS"]
[]
[]
[null,{"$f":"RESULTS!$F$4 & \"   COURT \"&GAMES!$D$14","v":"BLOCK 1   COURT "},null,"SCORES",null,{"$f":"RESULTS!$F$4 & \"   COURT \"&GAMES!$D$24","v":"BLOCK 1   COURT "},null,"SCORES"]
[null,{"$f":"RESULTS!C23","v":" Block 1 Player 4"},null,{"$f":"RESULTS!D23","v":-1E-3},null,{"$f":"RESULTS!G23","v":" Block 1 Player 4"},null,{"$f":"RESULTS!H23","v":-1E-3}]
[null,{"$f":"GAMES!C14+GAMES!B14","v":"00:00:00"},null,null,null,{"$f":"GAMES!C24+GAMES!B24","v":"00:00:00"}]
[null,{"$f":"RESULTS!C24","v":" Block 1 Player 6"},null,{"$f":"RESULTS!D24","v":-1E-3},null,{"$f":"RESULTS!G24","v":" Block 1 Player 3"},null,{"$f":"RESULTS!H24","v":-1E-3}]
[null,"INITIALS",null,null,null,"INITIALS"]
[]
[]
[null,{"$f":"RESULTS!$F$28 & \"   COURT \"&GAMES!$D$36","v":"BLOCK 2   COURT "},null,"SCORES",null,{"$f":"RESULTS!$F$28 & \"   COURT \"&GAMES!$D$46","v":"BLOCK 2   COURT "},null,"SCORES",null,{"$f":"RESULTS!$F$28 & \"   COURT \"&GAMES!$D$56","v":"BLOCK 2   COURT --"},null,"SCORES"]
[null,{"$f":"RESULTS!C29","v":" Block 2 Player 1"},null,{"$f":"RESULTS!D29","v":-1E-3},null,{"$f":"RESULTS!G29","v":" Block 2 Player 3"},null,{"$f":"RESULTS!H29","v":-1E-3},null,{"$f":"RESULTS!K29","v":" Block 2 Player 1"},null,{"$f":"RESULTS!L29","v":-1E-3}]
[null,{"$f":"GAMES!C36+GAMES!B36","v":"00:00:00"},null,null,null,{"$f":"GAMES!C46+GAMES!B46","v":"00:00:00"},null,null,null,{"$f":"GAMES!C56+GAMES!B56","v":"00:00:00"}]
[null,{"$f":"RESULTS!C30","v":" Block 2 Player 3"},null,{"$f":"RESULTS!D30","v":-1E-3},null,{"$f":"RESULTS!G30","v":" Block 2 Player 7"},null,{"$f":"RESULTS!H30","v":-1E-3},null,{"$f":"RESULTS!K30","v":" Bye "},null,{"$f":"RESULTS!L30","v":-1E-3}]
[null,"INITIALS",null,null,null,"INITIALS",null,null,null,"INITIALS"]
[]
[]
[null,{"$f":"RESULTS!$F$28 & \"   COURT \"&GAMES!$D$37","v":"BLOCK 2   COURT "},null,"SCORES",null,{"$f":"RESULTS!$F$28 & \"   COURT \"&GAMES!$D$47","v":"BLOCK 2   COURT --"},null,"SCORES",null,{"$f":"RESULTS!$F$28 & \"   COURT \"&GAMES!$D$57","v":"BLOCK 2   COURT "},null,"SCORES"]
[null,{"$f":"RESULTS!C31","v":" Block 2 Player 2"},null,{"$f":"RESULTS!D31","v":-1E-3},null,{"$f":"RESULTS!G31","v":" Block 2 Player 2"},null,{"$f":"RESULTS!H31","v":-1E-3},null,{"$f":"RESULTS!K31","v":" Block 2 Player 7"},null,{"$f":"RESULTS!L31","v":-1E-3}]
[null,{"$f":"GAMES!C37+GAMES!B37","v":"00:00:00"},null,null,null,{"$f":"GAMES!C47+GAMES!B47","v":"00:00:00"},null,null,null,{"$f":"GAMES!C57+GAMES!B57","v":"00:00:00"}]
[null,{"$f":"RESULTS!C32","v":" Block 2 Player 4"},null,{"$f":"RESULTS!D32","v":-1E-3},null,{"$f":"RESULTS!G32","v":" Bye "},null,{"$f":"RESULTS!H32","v":-1E-3},null,{"$f":"RESULTS!K32","v":" Block 2 Player 2"},null,{"$f":"RESULTS!L32","v":-1E-3}]
[null,"INITIALS",null,null,null,"INITIALS",null,null,null,"INITIALS"]
[]
[]
[null,{"$f":"RESULTS!$F$28 & \"   COURT \"&GAMES!$D$38","v":"BLOCK 2   COURT --"},null,"SCORES",null,{"$f":"RESULTS!$F$28 & \"   COURT \"&GAMES!$D$48","v":"BLOCK 2   COURT "},null,"SCORES",null,{"$f":"RESULTS!$F$28 & \"   COURT \"&GAMES!$D$58","v":"BLOCK 2   COURT "},null,"SCORES"]
[null,{"$f":"RESULTS!C33","v":" Bye "},null,{"$f":"RESULTS!D33","v":-1E-3},null,{"$f":"RESULTS!G33","v":" Block 2 Player 1"},null,{"$f":"RESULTS!H33","v":-1E-3},null,{"$f":"RESULTS!K33","v":" Block 2 Player 6"},null,{"$f":"RESULTS!L33","v":-1E-3}]
[null,{"$f":"GAMES!C38+GAMES!B38","v":"00:00:00"},null,null,null,{"$f":"GAMES!C48+GAMES!B48","v":"00:00:00"},null,null,null,{"$f":"GAMES!C58+GAMES!B58","v":"00:00:00"}]
[null,{"$f":"RESULTS!C34","v":" Block 2 Player 5"},null,{"$f":"RESULTS!D34","v":-1E-3},null,{"$f":"RESULTS!G34","v":" Block 2 Player 6"},null,{"$f":"RESULTS!H34","v":-1E-3},null,{"$f":"RESULTS!K34","v":" Block 2 Player 3"},null,{"$f":"RESULTS!L34","v":-1E-3}]
[null,"INITIALS",null,null,null,"INITIALS",null,null,null,"INITIALS"]
[]
[]
[null,{"$f":"RESULTS!$F$28 & \"   COURT \"&GAMES!$D$39","v":"BLOCK 2   COURT "},null,"SCORES",null,{"$f":"RESULTS!$F$28 & \"   COURT \"&GAMES!$D$49","v":"BLOCK 2   COURT "},null,"SCORES",null,{"$f":"RESULTS!$F$28 & \"   COURT \"&GAMES!$D$59","v":"BLOCK 2   COURT "},null,"SCORES"]
[null,{"$f":"RESULTS!C35","v":" Block 2 Player 7"},null,{"$f":"RESULTS!D35","v":-1E-3},null,{"$f":"RESULTS!G35","v":" Block 2 Player 5"},null,{"$f":"RESULTS!H35","v":-1E-3},null,{"$f":"RESULTS!K35","v":" Block 2 Player 5"},null,{"$f":"RESULTS!L35","v":-1E-3}]
[null,{"$f":"GAMES!C39+GAMES!B39","v":"00:00:00"},null,null,null,{"$f":"GAMES!C49+GAMES!B49","v":"00:00:00"},null,null,null,{"$f":"GAMES!C59+GAMES!B59","v":"00:00:00"}]
[null,{"$f":"RESULTS!C36","v":" Block 2 Player 6"},null,{"$f":"RESULTS!D36","v":-1E-3},null,{"$f":"RESULTS!G36","v":" Block 2 Player 7"},null,{"$f":"RESULTS!H36","v":-1E-3},null,{"$f":"RESULTS!K36","v":" Block 2 Player 4"},null,{"$f":"RESULTS!L36","v":-1E-3}]
[null,"INITIALS",null,null,null,"INITIALS",null,null,null,"INITIALS"]
[]
[]
[null,{"$f":"RESULTS!$F$28 & \"   COURT \"&GAMES!$D$40","v":"BLOCK 2   COURT "},null,"SCORES",null,{"$f":"RESULTS!$F$28 & \"   COURT \"&GAMES!$D$50","v":"BLOCK 2   COURT --"},null,"SCORES",null,{"$f":"RESULTS!$F$28 & \"   COURT \"&GAMES!$D$60","v":"BLOCK 2   COURT "},null,"SCORES"]
[null,{"$f":"RESULTS!C37","v":" Block 2 Player 1"},null,{"$f":"RESULTS!D37","v":-1E-3},null,{"$f":"RESULTS!G37","v":" Block 2 Player 4"},null,{"$f":"RESULTS!H37","v":-1E-3},null,{"$f":"RESULTS!K37","v":" Block 2 Player 1"},null,{"$f":"RESULTS!L37","v":-1E-3}]
[null,{"$f":"GAMES!C40+GAMES!B40","v":"00:00:00"},null,null,null,{"$f":"GAMES!C50+GAMES!B50","v":"00:00:00"},null,null,null,{"$f":"GAMES!C60+GAMES!B60","v":"00:00:00"}]
[null,{"$f":"RESULTS!C38","v":" Block 2 Player 4"},null,{"$f":"RESULTS!D38","v":-1E-3},null,{"$f":"RESULTS!G38","v":" Bye "},null,{"$f":"RESULTS!H38","v":-1E-3},null,{"$f":"RESULTS!K38","v":" Block 2 Player 2"},null,{"$f":"RESULTS!L38","v":-1E-3}]
[null,"INITIALS",null,null,null,"INITIALS",null,null,null,"INITIALS"]
[]
[]
[null,{"$f":"RESULTS!$F$28 & \"   COURT \"&GAMES!$D$41","v":"BLOCK 2   COURT "},null,"SCORES",null,{"$f":"RESULTS!$F$28 & \"   COURT \"&GAMES!$D$51","v":"BLOCK 2   COURT "},null,"SCORES",null,{"$f":"RESULTS!$F$28 & \"   COURT \"&GAMES!$D$61","v":"BLOCK 2   COURT --"},null,"SCORES"]
[null,{"$f":"RESULTS!C39","v":" Block 2 Player 3"},null,{"$f":"RESULTS!D39","v":-1E-3},null,{"$f":"RESULTS!G39","v":" Block 2 Player 3"},null,{"$f":"RESULTS!H39","v":-1E-3},null,{"$f":"RESULTS!K39","v":" Bye "},null,{"$f":"RESULTS!L39","v":-1E-3}]
[null,{"$f":"GAMES!C41+GAMES!B41","v":"00:00:00"},null,null,null,{"$f":"GAMES!C51+GAMES!B51","v":"00:00:00"},null,null,null,{"$f":"GAMES!C61+GAMES!B61","v":"00:00:00"}]
[null,{"$f":"RESULTS!C40","v":" Block 2 Player 5"},null,{"$f":"RESULTS!D40","v":-1E-3},null,{"$f":"RESULTS!G40","v":" Block 2 Player 2"},null,{"$f":"RESULTS!H40","v":-1E-3},null,{"$f":"RESULTS!K40","v":" Block 2 Player 3"},null,{"$f":"RESULTS!L40","v":-1E-3}]
[null,"INITIALS",null,null,null,"INITIALS",null,null,null,"INITIALS"]
[]
[]
[null,{"$f":"RESULTS!$F$28 & \"   COURT \"&GAMES!$D$42","v":"BLOCK 2   COURT "},null,"SCORES",null,{"$f":"RESULTS!$F$28 & \"   COURT \"&GAMES!$D$52","v":"BLOCK 2   COURT "},null,"SCORES",null,{"$f":"RESULTS!$F$28 & \"   COURT \"&GAMES!$D$62","v":"BLOCK 2   COURT "},null,"SCORES"]
[null,{"$f":"RESULTS!C41","v":" Block 2 Player 2"},null,{"$f":"RESULTS!D41","v":-1E-3},null,{"$f":"RESULTS!G41","v":" Block 2 Player 1"},null,{"$f":"RESULTS!H41","v":-1E-3},null,{"$f":"RESULTS!K41","v":" Block 2 Player 7"},null,{"$f":"RESULTS!L41","v":-1E-3}]
[null,{"$f":"GAMES!C42+GAMES!B42","v":"00:00:00"},null,null,null,{"$f":"GAMES!C52+GAMES!B52","v":"00:00:00"},null,null,null,{"$f":"GAMES!C62+GAMES!B62","v":"00:00:00"}]
[null,{"$f":"RESULTS!C42","v":" Block 2 Player 6"},null,{"$f":"RESULTS!D42","v":-1E-3},null,{"$f":"RESULTS!G42","v":" Block 2 Player 7"},null,{"$f":"RESULTS!H42","v":-1E-3},null,{"$f":"RESULTS!K42","v":" Block 2 Player 4"},null,{"$f":"RESULTS!L42","v":-1E-3}]
[null,"INITIALS",null,null,null,"INITIALS",null,null,null,"INITIALS"]
[]
[]
[null,{"$f":"RESULTS!$F$28 & \"   COURT \"&GAMES!$D$43","v":"BLOCK 2   COURT --"},null,"SCORES",null,{"$f":"RESULTS!$F$28 & \"   COURT \"&GAMES!$D$53","v":"BLOCK 2   COURT --"},null,"SCORES",null,{"$f":"RESULTS!$F$28 & \"   COURT \"&GAMES!$D$63","v":"BLOCK 2   COURT "},null,"SCORES"]
[null,{"$f":"RESULTS!C43","v":" Bye "},null,{"$f":"RESULTS!D43","v":-1E-3},null,{"$f":"RESULTS!G43","v":" Block 2 Player 6"},null,{"$f":"RESULTS!H43","v":-1E-3},null,{"$f":"RESULTS!K43","v":" Block 2 Player 6"},null,{"$f":"RESULTS!L43","v":-1E-3}]
[null,{"$f":"GAMES!C43+GAMES!B43","v":"00:00:00"},null,null,null,{"$f":"GAMES!C53+GAMES!B53","v":"00:00:00"},null,null,null,{"$f":"GAMES!C63+GAMES!B63","v":"00:00:00"}]
[null,{"$f":"RESULTS!C44","v":" Block 2 Player 7"},null,{"$f":"RESULTS!D44","v":-1E-3},null,{"$f":"RESULTS!G44","v":" Bye "},null,{"$f":"RESULTS!H44","v":-1E-3},null,{"$f":"RESULTS!K44","v":" Block 2 Player 5"},null,{"$f":"RESULTS!L44","v":-1E-3}]
[null,"INITIALS",null,null,null,"INITIALS",null,null,null,"INITIALS"]
[]
[]
[null,{"$f":"RESULTS!$F$28 & \"   COURT \"&GAMES!$D$44","v":"BLOCK 2   COURT "},null,"SCORES",null,{"$f":"RESULTS!$F$28 & \"   COURT \"&GAMES!$D$54","v":"BLOCK 2   COURT "},null,"SCORES"]
[null,{"$f":"RESULTS!C45","v":" Block 2 Player 1"},null,{"$f":"RESULTS!D45","v":-1E-3},null,{"$f":"RESULTS!G45","v":" Block 2 Player 5"},null,{"$f":"RESULTS!H45","v":-1E-3}]
[null,{"$f":"GAMES!C44+GAMES!B44","v":"00:00:00"},null,null,null,{"$f":"GAMES!C54+GAMES!B54","v":"00:00:00"}]
[null,{"$f":"RESULTS!C46","v":" Block 2 Player 5"},null,{"$f":"RESULTS!D46","v":-1E-3},null,{"$f":"RESULTS!G46","v":" Block 2 Player 2"},null,{"$f":"RESULTS!H46","v":-1E-3}]
[null,"INITIALS",null,null,null,"INITIALS"]
[]
[]
[null,{"$f":"RESULTS!$F$28 & \"   COURT \"&GAMES!$D$45","v":"BLOCK 2   COURT "},null,"SCORES",null,{"$f":"RESULTS!$F$28 & \"   COURT \"&GAMES!$D$55","v":"BLOCK 2   COURT "},null,"SCORES"]
[null,{"$f":"RESULTS!C47","v":" Block 2 Player 4"},null,{"$f":"RESULTS!D47","v":-1E-3},null,{"$f":"RESULTS!G47","v":" Block 2 Player 4"},null,{"$f":"RESULTS!H47","v":-1E-3}]
[null,{"$f":"GAMES!C45+GAMES!B45","v":"00:00:00"},null,null,null,{"$f":"GAMES!C55+GAMES!B55","v":"00:00:00"}]
[null,{"$f":"RESULTS!C48","v":" Block 2 Player 6"},null,{"$f":"RESULTS!D48","v":-1E-3},null,{"$f":"RESULTS!G48","v":" Block 2 Player 3"},null,{"$f":"RESULTS!H48","v":-1E-3}]
[null,"INITIALS",null,null,null,"INITIALS"]
[]
[]
[null,{"$f":"RESULTS!$F$52 & \"   COURT \"&GAMES!$D$67","v":"BLOCK 3   COURT "},null,"SCORES",null,{"$f":"RESULTS!$F$52 & \"   COURT \"&GAMES!$D$77","v":"BLOCK 3   COURT "},null,"SCORES",null,{"$f":"RESULTS!$F$52 & \"   COURT \"&GAMES!$D$87","v":"BLOCK 3   COURT --"},null,"SCORES"]
[null,{"$f":"RESULTS!$C$53","v":" Block 3 Player 1"},null,{"$f":"RESULTS!D53","v":-1E-3},null,{"$f":"RESULTS!G53","v":" Block 3 Player 3"},null,{"$f":"RESULTS!H53","v":-1E-3},null,{"$f":"RESULTS!K53","v":" Block 3 Player 1"},null,{"$f":"RESULTS!L53","v":-1E-3}]
[null,{"$f":"GAMES!C67+GAMES!B67","v":"00:00:00"},null,null,null,{"$f":"GAMES!C77+GAMES!B77","v":"00:00:00"},null,null,null,{"$f":"GAMES!C87+GAMES!B87","v":"00:00:00"}]
[null,{"$f":"RESULTS!C54","v":" Block 3 Player 3"},null,{"$f":"RESULTS!D54","v":-1E-3},null,{"$f":"RESULTS!G54","v":" Block 3 Player 7"},null,{"$f":"RESULTS!H54","v":-1E-3},null,{"$f":"RESULTS!K54","v":" Bye "},null,{"$f":"RESULTS!L54","v":-1E-3}]
[null,"INITIALS",null,null,null,"INITIALS",null,null,null,"INITIALS"]
[]
[]
[null,{"$f":"RESULTS!$F$52 & \"   COURT \"&GAMES!$D$68","v":"BLOCK 3   COURT "},null,"SCORES",null,{"$f":"RESULTS!$F$52 & \"   COURT \"&GAMES!$D$78","v":"BLOCK 3   COURT --"},null,"SCORES",null,{"$f":"RESULTS!$F$52 & \"   COURT \"&GAMES!$D$88","v":"BLOCK 3   COURT "},null,"SCORES"]
[null,{"$f":"RESULTS!C55","v":" Block 3 Player 2"},null,{"$f":"RESULTS!D55","v":-1E-3},null,{"$f":"RESULTS!G55","v":" Block 3 Player 2"},null,{"$f":"RESULTS!H55","v":-1E-3},null,{"$f":"RESULTS!K55","v":" Block 3 Player 7"},null,{"$f":"RESULTS!L55","v":-1E-3}]
[null,{"$f":"GAMES!C68+GAMES!B68","v":"00:00:00"},null,null,null,{"$f":"GAMES!C78+GAMES!B78","v":"00:00:00"},null,null,null,{"$f":"GAMES!C88+GAMES!B88","v":"00:00:00"}]
[null,{"$f":"RESULTS!C56","v":" Block 3 Player 4"},null,{"$f":"RESULTS!D56","v":-1E-3},null,{"$f":"RESULTS!G56","v":" Bye "},null,{"$f":"RESULTS!H56","v":-1E-3},null,{"$f":"RESULTS!K56","v":" Block 3 Player 2"},null,{"$f":"RESULTS!L56","v":-1E-3}]
[null,"INITIALS",null,null,null,"INITIALS",null,null,null,"INITIALS"]
[]
[]
[null,{"$f":"RESULTS!$F$52 & \"   COURT \"&GAMES!$D$69","v":"BLOCK 3   COURT --"},null,"SCORES",null,{"$f":"RESULTS!$F$52 & \"   COURT \"&GAMES!$D$79","v":"BLOCK 3   COURT "},null,"SCORES",null,{"$f":"RESULTS!$F$52 & \"   COURT \"&GAMES!$D$89","v":"BLOCK 3   COURT "},null,"SCORES"]
[null,{"$f":"RESULTS!C57","v":" Bye "},null,{"$f":"RESULTS!D57","v":-1E-3},null,{"$f":"RESULTS!G57","v":" Block 3 Player 1"},null,{"$f":"RESULTS!H57","v":-1E-3},null,{"$f":"RESULTS!K57","v":" Block 3 Player 6"},null,{"$f":"RESULTS!L57","v":-1E-3}]
[null,{"$f":"GAMES!C69+GAMES!B69","v":"00:00:00"},null,null,null,{"$f":"GAMES!C79+GAMES!B79","v":"00:00:00"},null,null,null,{"$f":"GAMES!C89+GAMES!B89","v":"00:00:00"}]
[null,{"$f":"RESULTS!C58","v":" Block 3 Player 5"},null,{"$f":"RESULTS!D58","v":-1E-3},null,{"$f":"RESULTS!G58","v":" Block 3 Player 6"},null,{"$f":"RESULTS!H58","v":-1E-3},null,{"$f":"RESULTS!K58","v":" Block 3 Player 3"},null,{"$f":"RESULTS!L58","v":-1E-3}]
[null,"INITIALS",null,null,null,"INITIALS",null,null,null,"INITIALS"]
[]
[]
[null,{"$f":"RESULTS!$F$52 & \"   COURT \"&GAMES!$D$70","v":"BLOCK 3   COURT "},null,"SCORES",null,{"$f":"RESULTS!$F$52 & \"   COURT \"&GAMES!$D$80","v":"BLOCK 3   COURT "},null,"SCORES",null,{"$f":"RESULTS!$F$52 & \"   COURT \"&GAMES!$D$90","v":"BLOCK 3   COURT "},null,"SCORES"]
[null,{"$f":"RESULTS!C59","v":" Block 3 Player 7"},null,{"$f":"RESULTS!D59","v":-1E-3},null,{"$f":"RESULTS!G59","v":" Block 3 Player 5"},null,{"$f":"RESULTS!H59","v":-1E-3},null,{"$f":"RESULTS!K59","v":" Block 3 Player 5"},null,{"$f":"RESULTS!L59","v":-1E-3}]
[null,{"$f":"GAMES!C70+GAMES!B70","v":"00:00:00"},null,null,null,{"$f":"GAMES!C80+GAMES!B80","v":"00:00:00"},null,null,null,{"$f":"GAMES!C90+GAMES!B90","v":"00:00:00"}]
[null,{"$f":"RESULTS!C60","v":" Block 3 Player 6"},null,{"$f":"RESULTS!D60","v":-1E-3},null,{"$f":"RESULTS!G60","v":" Block 3 Player 7"},null,{"$f":"RESULTS!H60","v":-1E-3},null,{"$f":"RESULTS!K60","v":" Block 3 Player 4"},null,{"$f":"RESULTS!L60","v":-1E-3}]
[]
[]
[]
[null,{"$f":"RESULTS!$F$52 & \"   COURT \"&GAMES!$D$71","v":"BLOCK 3   COURT "},null,"SCORES",null,{"$f":"RESULTS!$F$52 & \"   COURT \"&GAMES!$D$81","v":"BLOCK 3   COURT --"},null,"SCORES",null,{"$f":"RESULTS!$F$52 & \"   COURT \"&GAMES!$D$91","v":"BLOCK 3   COURT "},null,"SCORES"]
[null,{"$f":"RESULTS!C61","v":" Block 3 Player 1"},null,{"$f":"RESULTS!D61","v":-1E-3},null,{"$f":"RESULTS!G61","v":" Block 3 Player 4"},null,{"$f":"RESULTS!H61","v":-1E-3},null,{"$f":"RESULTS!K61","v":" Block 3 Player 1"},null,{"$f":"RESULTS!L61","v":-1E-3}]
[null,{"$f":"GAMES!C71+GAMES!B71","v":"00:00:00"},null,null,null,{"$f":"GAMES!C81+GAMES!B81","v":"00:00:00"},null,null,null,{"$f":"GAMES!C91+GAMES!B91","v":"00:00:00"}]
[null,{"$f":"RESULTS!C62","v":" Block 3 Player 4"},null,{"$f":"RESULTS!D62","v":-1E-3},null,{"$f":"RESULTS!G62","v":" Bye "},null,{"$f":"RESULTS!H62","v":-1E-3},null,{"$f":"RESULTS!K62","v":" Block 3 Player 2"},null,{"$f":"RESULTS!L62","v":-1E-3}]
[null,"INITIALS",null,null,null,"INITIALS",null,null,null,"INITIALS"]
[]
[]
[null,{"$f":"RESULTS!$F$52 & \"   COURT \"&GAMES!$D$72","v":"BLOCK 3   COURT "},null,"SCORES",null,{"$f":"RESULTS!$F$52 & \"   COURT \"&GAMES!$D$82","v":"BLOCK 3   COURT "},null,"SCORES",null,{"$f":"RESULTS!$F$52 & \"   COURT \"&GAMES!$D$92","v":"BLOCK 3   COURT --"},null,"SCORES"]
[null,{"$f":"RESULTS!C63","v":" Block 3 Player 3"},null,{"$f":"RESULTS!D63","v":-1E-3},null,{"$f":"RESULTS!G63","v":" Block 3 Player 3"},null,{"$f":"RESULTS!H63","v":-1E-3},null,{"$f":"RESULTS!K63","v":" Bye "},null,{"$f":"RESULTS!L63","v":-1E-3}]
[null,{"$f":"GAMES!C72+GAMES!B72","v":"00:00:00"},null,null,null,{"$f":"GAMES!C82+GAMES!B82","v":"00:00:00"},null,null,null,{"$f":"GAMES!C92+GAMES!B92","v":"00:00:00"}]
[null,{"$f":"RESULTS!C64","v":" Block 3 Player 5"},null,{"$f":"RESULTS!D64","v":-1E-3},null,{"$f":"RESULTS!G64","v":" Block 3 Player 2"},null,{"$f":"RESULTS!H64","v":-1E-3},null,{"$f":"RESULTS!K64","v":" Block 3 Player 3"},null,{"$f":"RESULTS!L64","v":-1E-3}]
[null,"INITIALS",null,null,null,"INITIALS",null,null,null,"INITIALS"]
[]
[]
[null,{"$f":"RESULTS!$F$52 & \"   COURT \"&GAMES!$D$73","v":"BLOCK 3   COURT "},null,"SCORES",null,{"$f":"RESULTS!$F$52 & \"   COURT \"&GAMES!$D$83","v":"BLOCK 3   COURT "},null,"SCORES",null,{"$f":"RESULTS!$F$52 & \"   COURT \"&GAMES!$D$93","v":"BLOCK 3   COURT "},null,"SCORES"]
[null,{"$f":"RESULTS!C65","v":" Block 3 Player 2"},null,{"$f":"RESULTS!D65","v":-1E-3},null,{"$f":"RESULTS!G65","v":" Block 3 Player 1"},null,{"$f":"RESULTS!H65","v":-1E-3},null,{"$f":"RESULTS!K65","v":" Block 3 Player 7"},null,{"$f":"RESULTS!L65","v":-1E-3}]
[null,{"$f":"GAMES!C73+GAMES!B73","v":"00:00:00"},null,null,null,{"$f":"GAMES!C83+GAMES!B83","v":"00:00:00"},null,null,null,{"$f":"GAMES!C93+GAMES!B93","v":"00:00:00"}]
[null,{"$f":"RESULTS!C66","v":" Block 3 Player 6"},null,{"$f":"RESULTS!D66","v":-1E-3},null,{"$f":"RESULTS!G66","v":" Block 3 Player 7"},null,{"$f":"RESULTS!H66","v":-1E-3},null,{"$f":"RESULTS!K66","v":" Block 3 Player 4"},null,{"$f":"RESULTS!L66","v":-1E-3}]
[null,"INITIALS",null,null,null,"INITIALS",null,null,null,"INITIALS"]
[]
[]
[null,{"$f":"RESULTS!$F$52 & \"   COURT \"&GAMES!$D$74","v":"BLOCK 3   COURT --"},null,"SCORES",null,{"$f":"RESULTS!$F$52 & \"   COURT \"&GAMES!$D$84","v":"BLOCK 3   COURT --"},null,"SCORES",null,{"$f":"RESULTS!$F$52 & \"   COURT \"&GAMES!$D$94","v":"BLOCK 3   COURT "},null,"SCORES"]
[null,{"$f":"RESULTS!C67","v":" Bye "},null,{"$f":"RESULTS!D67","v":-1E-3},null,{"$f":"RESULTS!G67","v":" Block 3 Player 6"},null,{"$f":"RESULTS!H67","v":-1E-3},null,{"$f":"RESULTS!K67","v":" Block 3 Player 6"},null,{"$f":"RESULTS!L67","v":-1E-3}]
[null,{"$f":"GAMES!C74+GAMES!B74","v":"00:00:00"},null,null,null,{"$f":"GAMES!C84+GAMES!B84","v":"00:00:00"},null,null,null,{"$f":"GAMES!C94+GAMES!B94","v":"00:00:00"}]
[null,{"$f":"RESULTS!C68","v":" Block 3 Player 7"},null,{"$f":"RESULTS!D68","v":-1E-3},null,{"$f":"RESULTS!G68","v":" Bye "},null,{"$f":"RESULTS!H68","v":-1E-3},null,{"$f":"RESULTS!K68","v":" Block 3 Player 5"},null,{"$f":"RESULTS!L68","v":-1E-3}]
[null,"INITIALS",null,null,null,"INITIALS",null,null,null,"INITIALS"]
[]
[]
[null,{"$f":"RESULTS!$F$52 & \"   COURT \"&GAMES!$D$75","v":"BLOCK 3   COURT "},null,"SCORES",null,{"$f":"RESULTS!$F$52 & \"   COURT \"&GAMES!$D$85","v":"BLOCK 3   COURT "},null,"SCORES"]
[null,{"$f":"RESULTS!C69","v":" Block 3 Player 1"},null,{"$f":"RESULTS!D69","v":-1E-3},null,{"$f":"RESULTS!G69","v":" Block 3 Player 5"},null,{"$f":"RESULTS!H69","v":-1E-3}]
[null,{"$f":"GAMES!C75+GAMES!B75","v":"00:00:00"},null,null,null,{"$f":"GAMES!C85+GAMES!B85","v":"00:00:00"}]
[null,{"$f":"RESULTS!C70","v":" Block 3 Player 5"},null,{"$f":"RESULTS!D70","v":-1E-3},null,{"$f":"RESULTS!G70","v":" Block 3 Player 2"},null,{"$f":"RESULTS!H70","v":-1E-3}]
[null,"INITIALS",null,null,null,"INITIALS"]
[]
[]
[null,{"$f":"RESULTS!$F$52 & \"   COURT \"&GAMES!$D$76","v":"BLOCK 3   COURT "},null,"SCORES",null,{"$f":"RESULTS!$F$52 & \"   COURT \"&GAMES!$D$86","v":"BLOCK 3   COURT "},null,"SCORES"]
[null,{"$f":"RESULTS!C71","v":" Block 3 Player 4"},null,{"$f":"RESULTS!D71","v":-1E-3},null,{"$f":"RESULTS!G71","v":" Block 3 Player 4"},null,{"$f":"RESULTS!H71","v":-1E-3}]
[null,{"$f":"GAMES!C76+GAMES!B76","v":"00:00:00"},null,null,null,{"$f":"GAMES!C86+GAMES!B86","v":"00:00:00"}]
[null,{"$f":"RESULTS!C72","v":" Block 3 Player 6"},null,{"$f":"RESULTS!D72","v":-1E-3},null,{"$f":"RESULTS!G72","v":" Block 3 Player 3"},null,{"$f":"RESULTS!H72","v":-1E-3}]
[null,"INITIALS",null,null,null,"INITIALS"]
[]
[]
[null,{"$f":"RESULTS!$F$76 & \"   COURT \"&GAMES!$D$98","v":"BLOCK 4   COURT "},null,"SCORES",null,{"$f":"RESULTS!$F$76 & \"   COURT \"&GAMES!$D$108","v":"BLOCK 4   COURT "},null,"SCORES",null,{"$f":"RESULTS!$F$76 & \"   COURT \"&GAMES!$D$118","v":"BLOCK 4   COURT --"},null,"SCORES"]
[null,{"$f":"RESULTS!$C$77","v":" Block 4 Player 1"},null,{"$f":"RESULTS!D77","v":-1E-3},null,{"$f":"RESULTS!G77","v":" Block 4 Player 3"},null,{"$f":"RESULTS!H77","v":-1E-3},null,{"$f":"RESULTS!K77","v":" Block 4 Player 1"},null,{"$f":"RESULTS!L77","v":-1E-3}]
[null,{"$f":"GAMES!C98+GAMES!B98","v":"00:00:00"},null,null,null,{"$f":"GAMES!C108+GAMES!B108","v":"00:00:00"},null,null,null,{"$f":"GAMES!C118+GAMES!B118","v":"00:00:00"}]
[null,{"$f":"RESULTS!C78","v":" Block 4 Player 3"},null,{"$f":"RESULTS!D78","v":-1E-3},null,{"$f":"RESULTS!G78","v":" Block 4 Player 7"},null,{"$f":"RESULTS!H78","v":-1E-3},null,{"$f":"RESULTS!K78","v":" Bye "},null,{"$f":"RESULTS!L78","v":-1E-3}]
[null,"INITIALS",null,null,null,"INITIALS",null,null,null,"INITIALS"]
[]
[]
[null,{"$f":"RESULTS!$F$76 & \"   COURT \"&GAMES!$D$99","v":"BLOCK 4   COURT "},null,"SCORES",null,{"$f":"RESULTS!$F$76 & \"   COURT \"&GAMES!$D$109","v":"BLOCK 4   COURT --"},null,"SCORES",null,{"$f":"RESULTS!$F$76 & \"   COURT \"&GAMES!$D$119","v":"BLOCK 4   COURT "},null,"SCORES"]
[null,{"$f":"RESULTS!C79","v":" Block 4 Player 2"},null,{"$f":"RESULTS!D79","v":-1E-3},null,{"$f":"RESULTS!G79","v":" Block 4 Player 2"},null,{"$f":"RESULTS!H79","v":-1E-3},null,{"$f":"RESULTS!K79","v":" Block 4 Player 7"},null,{"$f":"RESULTS!L79","v":-1E-3}]
[null,{"$f":"GAMES!C99+GAMES!B99","v":"00:00:00"},null,null,null,{"$f":"GAMES!C109+GAMES!B109","v":"00:00:00"},null,null,null,{"$f":"GAMES!C119+GAMES!B119","v":"00:00:00"}]
[null,{"$f":"RESULTS!C80","v":" Block 4 Player 4"},null,{"$f":"RESULTS!D80","v":-1E-3},null,{"$f":"RESULTS!G80","v":" Bye "},null,{"$f":"RESULTS!H80","v":-1E-3},null,{"$f":"RESULTS!K80","v":" Block 4 Player 2"},null,{"$f":"RESULTS!L80","v":-1E-3}]
[null,"INITIALS",null,null,null,"INITIALS",null,null,null,"INITIALS"]
[]
[]
[null,{"$f":"RESULTS!$F$76 & \"   COURT \"&GAMES!$D$100","v":"BLOCK 4   COURT --"},null,"SCORES",null,{"$f":"RESULTS!$F$76 & \"   COURT \"&GAMES!$D$110","v":"BLOCK 4   COURT "},null,"SCORES",null,{"$f":"RESULTS!$F$76 & \"   COURT \"&GAMES!$D$120","v":"BLOCK 4   COURT "},null,"SCORES"]
[null,{"$f":"RESULTS!C81","v":" Bye "},null,{"$f":"RESULTS!D81","v":-1E-3},null,{"$f":"RESULTS!G81","v":" Block 4 Player 1"},null,{"$f":"RESULTS!H81","v":-1E-3},null,{"$f":"RESULTS!K81","v":" Block 4 Player 6"},null,{"$f":"RESULTS!L81","v":-1E-3}]
[null,{"$f":"GAMES!C100+GAMES!B100","v":"00:00:00"},null,null,null,{"$f":"GAMES!C110+GAMES!B110","v":"00:00:00"},null,null,null,{"$f":"GAMES!C120+GAMES!B120","v":"00:00:00"}]
[null,{"$f":"RESULTS!C82","v":" Block 4 Player 5"},null,{"$f":"RESULTS!D82","v":-1E-3},null,{"$f":"RESULTS!G82","v":" Block 4 Player 6"},null,{"$f":"RESULTS!H82","v":-1E-3},null,{"$f":"RESULTS!K82","v":" Block 4 Player 3"},null,{"$f":"RESULTS!L82","v":-1E-3}]
[null,"INITIALS",null,null,null,"INITIALS",null,null,null,"INITIALS"]
[]
[]
[null,{"$f":"RESULTS!$F$76 & \"   COURT \"&GAMES!$D$101","v":"BLOCK 4   COURT "},null,"SCORES",null,{"$f":"RESULTS!$F$76 & \"   COURT \"&GAMES!$D$111","v":"BLOCK 4   COURT "},null,"SCORES",null,{"$f":"RESULTS!$F$76 & \"   COURT \"&GAMES!$D$121","v":"BLOCK 4   COURT "},null,"SCORES"]
[null,{"$f":"RESULTS!C83","v":" Block 4 Player 7"},null,{"$f":"RESULTS!D83","v":-1E-3},null,{"$f":"RESULTS!G83","v":" Block 4 Player 5"},null,{"$f":"RESULTS!H83","v":-1E-3},null,{"$f":"RESULTS!K83","v":" Block 4 Player 5"},null,{"$f":"RESULTS!L83","v":-1E-3}]
[null,{"$f":"GAMES!C101+GAMES!B101","v":"00:00:00"},null,null,null,{"$f":"GAMES!C111+GAMES!B111","v":"00:00:00"},null,null,null,{"$f":"GAMES!C121+GAMES!B121","v":"00:00:00"}]
[null,{"$f":"RESULTS!C84","v":" Block 4 Player 6"},null,{"$f":"RESULTS!D84","v":-1E-3},null,{"$f":"RESULTS!G84","v":" Block 4 Player 7"},null,{"$f":"RESULTS!H84","v":-1E-3},null,{"$f":"RESULTS!K84","v":" Block 4 Player 4"},null,{"$f":"RESULTS!L84","v":-1E-3}]
[null,"INITIALS",null,null,null,"INITIALS",null,null,null,"INITIALS"]
[]
[]
[null,{"$f":"RESULTS!$F$76 & \"   COURT \"&GAMES!$D$102","v":"BLOCK 4   COURT "},null,"SCORES",null,{"$f":"RESULTS!$F$76 & \"   COURT \"&GAMES!$D$112","v":"BLOCK 4   COURT --"},null,"SCORES",null,{"$f":"RESULTS!$F$76 & \"   COURT \"&GAMES!$D$122","v":"BLOCK 4   COURT "},null,"SCORES"]
[null,{"$f":"RESULTS!C85","v":" Block 4 Player 1"},null,{"$f":"RESULTS!D85","v":-1E-3},null,{"$f":"RESULTS!G85","v":" Block 4 Player 4"},null,{"$f":"RESULTS!H85","v":-1E-3},null,{"$f":"RESULTS!K85","v":" Block 4 Player 1"},null,{"$f":"RESULTS!L85","v":-1E-3}]
[null,{"$f":"GAMES!C102+GAMES!B102","v":"00:00:00"},null,null,null,{"$f":"GAMES!C112+GAMES!B112","v":"00:00:00"},null,null,null,{"$f":"GAMES!C122+GAMES!B122","v":"00:00:00"}]
[null,{"$f":"RESULTS!C86","v":" Block 4 Player 4"},null,{"$f":"RESULTS!D86","v":-1E-3},null,{"$f":"RESULTS!G86","v":" Bye "},null,{"$f":"RESULTS!H86","v":-1E-3},null,{"$f":"RESULTS!K86","v":" Block 4 Player 2"},null,{"$f":"RESULTS!L86","v":-1E-3}]
[null,"INITIALS",null,null,null,"INITIALS",null,null,null,"INITIALS"]
[]
[]
[null,{"$f":"RESULTS!$F$76 & \"   COURT \"&GAMES!$D$103","v":"BLOCK 4   COURT "},null,"SCORES",null,{"$f":"RESULTS!$F$76 & \"   COURT \"&GAMES!$D$113","v":"BLOCK 4   COURT "},null,"SCORES",null,{"$f":"RESULTS!$F$76 & \"   COURT \"&GAMES!$D$123","v":"BLOCK 4   COURT --"},null,"SCORES"]
[null,{"$f":"RESULTS!C87","v":" Block 4 Player 3"},null,{"$f":"RESULTS!D87","v":-1E-3},null,{"$f":"RESULTS!G87","v":" Block 4 Player 3"},null,{"$f":"RESULTS!H87","v":-1E-3},null,{"$f":"RESULTS!K87","v":" Bye "},null,{"$f":"RESULTS!L87","v":-1E-3}]
[null,{"$f":"GAMES!C103+GAMES!B103","v":"00:00:00"},null,null,null,{"$f":"GAMES!C113+GAMES!B113","v":"00:00:00"},null,null,null,{"$f":"GAMES!C123+GAMES!B123","v":"00:00:00"}]
[null,{"$f":"RESULTS!C88","v":" Block 4 Player 5"},null,{"$f":"RESULTS!D88","v":-1E-3},null,{"$f":"RESULTS!G88","v":" Block 4 Player 2"},null,{"$f":"RESULTS!H88","v":-1E-3},null,{"$f":"RESULTS!K88","v":" Block 4 Player 3"},null,{"$f":"RESULTS!L88","v":-1E-3}]
[null,"INITIALS",null,null,null,"INITIALS",null,null,null,"INITIALS"]
[]
[]
[null,{"$f":"RESULTS!$F$76 & \"   COURT \"&GAMES!$D$104","v":"BLOCK 4   COURT "},null,"SCORES",null,{"$f":"RESULTS!$F$76 & \"   COURT \"&GAMES!$D$114","v":"BLOCK 4   COURT "},null,"SCORES",null,{"$f":"RESULTS!$F$76 & \"   COURT \"&GAMES!$D$124","v":"BLOCK 4   COURT "},null,"SCORES"]
[null,{"$f":"RESULTS!C89","v":" Block 4 Player 2"},null,{"$f":"RESULTS!D89","v":-1E-3},null,{"$f":"RESULTS!G89","v":" Block 4 Player 1"},null,{"$f":"RESULTS!H89","v":-1E-3},null,{"$f":"RESULTS!K89","v":" Block 4 Player 7"},null,{"$f":"RESULTS!L89","v":-1E-3}]
[null,{"$f":"GAMES!C104+GAMES!B104","v":"00:00:00"},null,null,null,{"$f":"GAMES!C114+GAMES!B114","v":"00:00:00"},null,null,null,{"$f":"GAMES!C124+GAMES!B124","v":"00:00:00"}]
[null,{"$f":"RESULTS!C90","v":" Block 4 Player 6"},null,{"$f":"RESULTS!D90","v":-1E-3},null,{"$f":"RESULTS!G90","v":" Block 4 Player 7"},null,{"$f":"RESULTS!H90","v":-1E-3},null,{"$f":"RESULTS!K90","v":" Block 4 Player 4"},null,{"$f":"RESULTS!L90","v":-1E-3}]
[null,"INITIALS",null,null,null,"INITIALS",null,null,null,"INITIALS"]
[]
[]
[null,{"$f":"RESULTS!$F$76 & \"   COURT \"&GAMES!$D$105","v":"BLOCK 4   COURT --"},null,"SCORES",null,{"$f":"RESULTS!$F$76 & \"   COURT \"&GAMES!$D$115","v":"BLOCK 4   COURT --"},null,"SCORES",null,{"$f":"RESULTS!$F$76 & \"   COURT \"&GAMES!$D$125","v":"BLOCK 4   COURT "},null,"SCORES"]
[null,{"$f":"RESULTS!C91","v":" Bye "},null,{"$f":"RESULTS!D91","v":-1E-3},null,{"$f":"RESULTS!G91","v":" Block 4 Player 6"},null,{"$f":"RESULTS!H91","v":-1E-3},null,{"$f":"RESULTS!K91","v":" Block 4 Player 6"},null,{"$f":"RESULTS!L91","v":-1E-3}]
[null,{"$f":"GAMES!C105+GAMES!B105","v":"00:00:00"},null,null,null,{"$f":"GAMES!C115+GAMES!B115","v":"00:00:00"},null,null,null,{"$f":"GAMES!C125+GAMES!B125","v":"00:00:00"}]
[null,{"$f":"RESULTS!C92","v":" Block 4 Player 7"},null,{"$f":"RESULTS!D92","v":-1E-3},null,{"$f":"RESULTS!G92","v":" Bye "},null,{"$f":"RESULTS!H92","v":-1E-3},null,{"$f":"RESULTS!K92","v":" Block 4 Player 5"},null,{"$f":"RESULTS!L92","v":-1E-3}]
[null,"INITIALS",null,null,null,"INITIALS",null,null,null,"INITIALS"]
[]
[]
[null,{"$f":"RESULTS!$F$76 & \"   COURT \"&GAMES!$D$106","v":"BLOCK 4   COURT "},null,"SCORES",null,{"$f":"RESULTS!$F$76 & \"   COURT \"&GAMES!$D$116","v":"BLOCK 4   COURT "},null,"SCORES"]
[null,{"$f":"RESULTS!C93","v":" Block 4 Player 1"},null,{"$f":"RESULTS!D93","v":-1E-3},null,{"$f":"RESULTS!G93","v":" Block 4 Player 5"},null,{"$f":"RESULTS!H93","v":-1E-3}]
[null,{"$f":"GAMES!C106+GAMES!B106","v":"00:00:00"},null,null,null,{"$f":"GAMES!C116+GAMES!B116","v":"00:00:00"}]
[null,{"$f":"RESULTS!C94","v":" Block 4 Player 5"},null,{"$f":"RESULTS!D94","v":-1E-3},null,{"$f":"RESULTS!G94","v":" Block 4 Player 2"},null,{"$f":"RESULTS!H94","v":-1E-3}]
[null,"INITIALS",null,null,null,"INITIALS"]
[]
[]
[null,{"$f":"RESULTS!$F$76 & \"   COURT \"&GAMES!$D$107","v":"BLOCK 4   COURT "},null,"SCORES",null,{"$f":"RESULTS!$F$76 & \"   COURT \"&GAMES!$D$117","v":"BLOCK 4   COURT "},null,"SCORES"]
[null,{"$f":"RESULTS!C95","v":" Block 4 Player 4"},null,{"$f":"RESULTS!D95","v":-1E-3},null,{"$f":"RESULTS!G95","v":" Block 4 Player 4"},null,{"$f":"RESULTS!H95","v":-1E-3}]
[null,{"$f":"GAMES!C107+GAMES!B107","v":"00:00:00"},null,null,null,{"$f":"GAMES!C117+GAMES!B117","v":"00:00:00"}]
[null,{"$f":"RESULTS!C96","v":" Block 4 Player 6"},null,{"$f":"RESULTS!D96","v":-1E-3},null,{"$f":"RESULTS!G96","v":" Block 4 Player 3"},null,{"$f":"RESULTS!H96","v":-1E-3}]
[null,"INITIALS",null,null,null,"INITIALS"]
[]
[]
[null,{"$f":"RESULTS!$F$100 & \"   COURT \"&GAMES!$D$129","v":"BLOCK 5   COURT "},null,"SCORES",null,{"$f":"RESULTS!$F$100 & \"   COURT \"&GAMES!$D$139","v":"BLOCK 5   COURT "},null,"SCORES",null,{"$f":"RESULTS!$F$100 & \"   COURT \"&GAMES!$D$149","v":"BLOCK 5   COURT --"},null,"SCORES"]
[null,{"$f":"RESULTS!$C$101","v":" Block 5 Player 1"},null,{"$f":"RESULTS!D101","v":-1E-3},null,{"$f":"RESULTS!G101","v":" Block 5 Player 3"},null,{"$f":"RESULTS!H101","v":-1E-3},null,{"$f":"RESULTS!K101","v":" Block 5 Player 1"},null,{"$f":"RESULTS!L101","v":-1E-3}]
[null,{"$f":"GAMES!C129+GAMES!B129","v":"00:00:00"},null,null,null,{"$f":"GAMES!C139+GAMES!B139","v":"00:00:00"},null,null,null,{"$f":"GAMES!C149+GAMES!B149","v":"00:00:00"}]
[null,{"$f":"RESULTS!C102","v":" Block 5 Player 3"},null,{"$f":"RESULTS!D102","v":-1E-3},null,{"$f":"RESULTS!G102","v":" Block 5 Player 7"},null,{"$f":"RESULTS!H102","v":-1E-3},null,{"$f":"RESULTS!K102","v":" Bye "},null,{"$f":"RESULTS!L102","v":-1E-3}]
[null,"INITIALS",null,null,null,"INITIALS",null,null,null,"INITIALS"]
[]
[]
[null,{"$f":"RESULTS!$F$100 & \"   COURT \"&GAMES!$D$130","v":"BLOCK 5   COURT "},null,"SCORES",null,{"$f":"RESULTS!$F$100 & \"   COURT \"&GAMES!$D$140","v":"BLOCK 5   COURT --"},null,"SCORES",null,{"$f":"RESULTS!$F$100 & \"   COURT \"&GAMES!$D$150","v":"BLOCK 5   COURT "},null,"SCORES"]
[null,{"$f":"RESULTS!C103","v":" Block 5 Player 2"},null,{"$f":"RESULTS!D103","v":-1E-3},null,{"$f":"RESULTS!G103","v":" Block 5 Player 2"},null,{"$f":"RESULTS!H103","v":-1E-3},null,{"$f":"RESULTS!K103","v":" Block 5 Player 7"},null,{"$f":"RESULTS!L103","v":-1E-3}]
[null,{"$f":"GAMES!C130+GAMES!B130","v":"00:00:00"},null,null,null,{"$f":"GAMES!C140+GAMES!B140","v":"00:00:00"},null,null,null,{"$f":"GAMES!C150+GAMES!B150","v":"00:00:00"}]
[null,{"$f":"RESULTS!C104","v":" Block 5 Player 4"},null,{"$f":"RESULTS!D104","v":-1E-3},null,{"$f":"RESULTS!G104","v":" Bye "},null,{"$f":"RESULTS!H104","v":-1E-3},null,{"$f":"RESULTS!K104","v":" Block 5 Player 2"},null,{"$f":"RESULTS!L104","v":-1E-3}]
[null,"INITIALS",null,null,null,"INITIALS",null,null,null,"INITIALS"]
[]
[]
[null,{"$f":"RESULTS!$F$100 & \"   COURT \"&GAMES!$D$131","v":"BLOCK 5   COURT --"},null,"SCORES",null,{"$f":"RESULTS!$F$100 & \"   COURT \"&GAMES!$D$141","v":"BLOCK 5   COURT "},null,"SCORES",null,{"$f":"RESULTS!$F$100 & \"   COURT \"&GAMES!$D$151","v":"BLOCK 5   COURT "},null,"SCORES"]
[null,{"$f":"RESULTS!C105","v":" Bye "},null,{"$f":"RESULTS!D105","v":-1E-3},null,{"$f":"RESULTS!G105","v":" Block 5 Player 1"},null,{"$f":"RESULTS!H105","v":-1E-3},null,{"$f":"RESULTS!K105","v":" Block 5 Player 6"},null,{"$f":"RESULTS!L105","v":-1E-3}]
[null,{"$f":"GAMES!C131+GAMES!B131","v":"00:00:00"},null,null,null,{"$f":"GAMES!C141+GAMES!B141","v":"00:00:00"},null,null,null,{"$f":"GAMES!C151+GAMES!B151","v":"00:00:00"}]
[null,{"$f":"RESULTS!C106","v":" Block 5 Player 5"},null,{"$f":"RESULTS!D106","v":-1E-3},null,{"$f":"RESULTS!G106","v":" Block 5 Player 6"},null,{"$f":"RESULTS!H106","v":-1E-3},null,{"$f":"RESULTS!K106","v":" Block 5 Player 3"},null,{"$f":"RESULTS!L106","v":-1E-3}]
[null,"INITIALS",null,null,null,"INITIALS",null,null,null,"INITIALS"]
[]
[]
[null,{"$f":"RESULTS!$F$100 & \"   COURT \"&GAMES!$D$132","v":"BLOCK 5   COURT "},null,"SCORES",null,{"$f":"RESULTS!$F$100 & \"   COURT \"&GAMES!$D$142","v":"BLOCK 5   COURT "},null,"SCORES",null,{"$f":"RESULTS!$F$100 & \"   COURT \"&GAMES!$D$152","v":"BLOCK 5   COURT "},null,"SCORES"]
[null,{"$f":"RESULTS!C107","v":" Block 5 Player 7"},null,{"$f":"RESULTS!D107","v":-1E-3},null,{"$f":"RESULTS!G107","v":" Block 5 Player 5"},null,{"$f":"RESULTS!H107","v":-1E-3},null,{"$f":"RESULTS!K107","v":" Block 5 Player 5"},null,{"$f":"RESULTS!L107","v":-1E-3}]
[null,{"$f":"GAMES!C132+GAMES!B132","v":"00:00:00"},null,null,null,{"$f":"GAMES!C142+GAMES!B142","v":"00:00:00"},null,null,null,{"$f":"GAMES!C152+GAMES!B152","v":"00:00:00"}]
[null,{"$f":"RESULTS!C108","v":" Block 5 Player 6"},null,{"$f":"RESULTS!D108","v":-1E-3},null,{"$f":"RESULTS!G108","v":" Block 5 Player 7"},null,{"$f":"RESULTS!H108","v":-1E-3},null,{"$f":"RESULTS!K108","v":" Block 5 Player 4"},null,{"$f":"RESULTS!L108","v":-1E-3}]
[null,"INITIALS",null,null,null,"INITIALS",null,null,null,"INITIALS"]
[]
[]
[null,{"$f":"RESULTS!$F$100 & \"   COURT \"&GAMES!$D$133","v":"BLOCK 5   COURT "},null,"SCORES",null,{"$f":"RESULTS!$F$100 & \"   COURT \"&GAMES!$D$143","v":"BLOCK 5   COURT --"},null,"SCORES",null,{"$f":"RESULTS!$F$100 & \"   COURT \"&GAMES!$D$153","v":"BLOCK 5   COURT "},null,"SCORES"]
[null,{"$f":"RESULTS!C109","v":" Block 5 Player 1"},null,{"$f":"RESULTS!D109","v":-1E-3},null,{"$f":"RESULTS!G109","v":" Block 5 Player 4"},null,{"$f":"RESULTS!H109","v":-1E-3},null,{"$f":"RESULTS!K109","v":" Block 5 Player 1"},null,{"$f":"RESULTS!L109","v":-1E-3}]
[null,{"$f":"GAMES!C133+GAMES!B133","v":"00:00:00"},null,null,null,{"$f":"GAMES!C143+GAMES!B143","v":"00:00:00"},null,null,null,{"$f":"GAMES!C153+GAMES!B153","v":"00:00:00"}]
[null,{"$f":"RESULTS!C110","v":" Block 5 Player 4"},null,{"$f":"RESULTS!D110","v":-1E-3},null,{"$f":"RESULTS!G110","v":" Bye "},null,{"$f":"RESULTS!H110","v":-1E-3},null,{"$f":"RESULTS!K110","v":" Block 5 Player 2"},null,{"$f":"RESULTS!L110","v":-1E-3}]
[null,"INITIALS",null,null,null,"INITIALS",null,null,null,"INITIALS"]
[]
[]
[null,{"$f":"RESULTS!$F$100 & \"   COURT \"&GAMES!$D$134","v":"BLOCK 5   COURT "},null,"SCORES",null,{"$f":"RESULTS!$F$100 & \"   COURT \"&GAMES!$D$144","v":"BLOCK 5   COURT "},null,"SCORES",null,{"$f":"RESULTS!$F$100 & \"   COURT \"&GAMES!$D$154","v":"BLOCK 5   COURT --"},null,"SCORES"]
[null,{"$f":"RESULTS!C111","v":" Block 5 Player 3"},null,{"$f":"RESULTS!D111","v":-1E-3},null,{"$f":"RESULTS!G111","v":" Block 5 Player 3"},null,{"$f":"RESULTS!H111","v":-1E-3},null,{"$f":"RESULTS!K111","v":" Bye "},null,{"$f":"RESULTS!L111","v":-1E-3}]
[null,{"$f":"GAMES!C134+GAMES!B134","v":"00:00:00"},null,null,null,{"$f":"GAMES!C144+GAMES!B144","v":"00:00:00"},null,null,null,{"$f":"GAMES!C154+GAMES!B154","v":"00:00:00"}]
[null,{"$f":"RESULTS!C112","v":" Block 5 Player 5"},null,{"$f":"RESULTS!D112","v":-1E-3},null,{"$f":"RESULTS!G112","v":" Block 5 Player 2"},null,{"$f":"RESULTS!H112","v":-1E-3},null,{"$f":"RESULTS!K112","v":" Block 5 Player 3"},null,{"$f":"RESULTS!L112","v":-1E-3}]
[null,"INITIALS",null,null,null,"INITIALS",null,null,null,"INITIALS"]
[]
[]
[null,{"$f":"RESULTS!$F$100 & \"   COURT \"&GAMES!$D$135","v":"BLOCK 5   COURT "},null,"SCORES",null,{"$f":"RESULTS!$F$100 & \"   COURT \"&GAMES!$D$145","v":"BLOCK 5   COURT "},null,"SCORES",null,{"$f":"RESULTS!$F$100 & \"   COURT \"&GAMES!$D$155","v":"BLOCK 5   COURT "},null,"SCORES"]
[null,{"$f":"RESULTS!C113","v":" Block 5 Player 2"},null,{"$f":"RESULTS!D113","v":-1E-3},null,{"$f":"RESULTS!G113","v":" Block 5 Player 1"},null,{"$f":"RESULTS!H113","v":-1E-3},null,{"$f":"RESULTS!K113","v":" Block 5 Player 7"},null,{"$f":"RESULTS!L113","v":-1E-3}]
[null,{"$f":"GAMES!C135+GAMES!B135","v":"00:00:00"},null,null,null,{"$f":"GAMES!C145+GAMES!B145","v":"00:00:00"},null,null,null,{"$f":"GAMES!C155+GAMES!B155","v":"00:00:00"}]
[null,{"$f":"RESULTS!C114","v":" Block 5 Player 6"},null,{"$f":"RESULTS!D114","v":-1E-3},null,{"$f":"RESULTS!G114","v":" Block 5 Player 7"},null,{"$f":"RESULTS!H114","v":-1E-3},null,{"$f":"RESULTS!K114","v":" Block 5 Player 4"},null,{"$f":"RESULTS!L114","v":-1E-3}]
[null,"INITIALS",null,null,null,"INITIALS",null,null,null,"INITIALS"]
[]
[]
[null,{"$f":"RESULTS!$F$100 & \"   COURT \"&GAMES!$D$136","v":"BLOCK 5   COURT --"},null,"SCORES",null,{"$f":"RESULTS!$F$100 & \"   COURT \"&GAMES!$D$146","v":"BLOCK 5   COURT --"},null,"SCORES",null,{"$f":"RESULTS!$F$100 & \"   COURT \"&GAMES!$D$156","v":"BLOCK 5   COURT "},null,"SCORES"]
[null,{"$f":"RESULTS!C115","v":" Bye "},null,{"$f":"RESULTS!D115","v":-1E-3},null,{"$f":"RESULTS!G115","v":" Block 5 Player 6"},null,{"$f":"RESULTS!H115","v":-1E-3},null,{"$f":"RESULTS!K115","v":" Block 5 Player 6"},null,{"$f":"RESULTS!L115","v":-1E-3}]
[null,{"$f":"GAMES!C136+GAMES!B136","v":"00:00:00"},null,null,null,{"$f":"GAMES!C146+GAMES!B146","v":"00:00:00"},null,null,null,{"$f":"GAMES!C156+GAMES!B156","v":"00:00:00"}]
[null,{"$f":"RESULTS!C116","v":" Block 5 Player 7"},null,{"$f":"RESULTS!D116","v":-1E-3},null,{"$f":"RESULTS!G116","v":" Bye "},null,{"$f":"RESULTS!H116","v":-1E-3},null,{"$f":"RESULTS!K116","v":" Block 5 Player 5"},null,{"$f":"RESULTS!L116","v":-1E-3}]
[null,"INITIALS",null,null,null,"INITIALS",null,null,null,"INITIALS"]
[]
[]
[null,{"$f":"RESULTS!$F$100 & \"   COURT \"&GAMES!$D$137","v":"BLOCK 5   COURT "},null,"SCORES",null,{"$f":"RESULTS!$F$100 & \"   COURT \"&GAMES!$D$147","v":"BLOCK 5   COURT "},null,"SCORES"]
[null,{"$f":"RESULTS!C117","v":" Block 5 Player 1"},null,{"$f":"RESULTS!D117","v":-1E-3},null,{"$f":"RESULTS!G117","v":" Block 5 Player 5"},null,{"$f":"RESULTS!H117","v":-1E-3}]
[null,{"$f":"GAMES!C137+GAMES!B137","v":"00:00:00"},null,null,null,{"$f":"GAMES!C147+GAMES!B147","v":"00:00:00"}]
[null,{"$f":"RESULTS!C118","v":" Block 5 Player 5"},null,{"$f":"RESULTS!D118","v":-1E-3},null,{"$f":"RESULTS!G118","v":" Block 5 Player 2"},null,{"$f":"RESULTS!H118","v":-1E-3}]
[null,"INITIALS",null,null,null,"INITIALS"]
[]
[]
[null,{"$f":"RESULTS!$F$100 & \"   COURT \"&GAMES!$D$138","v":"BLOCK 5   COURT "},null,"SCORES",null,{"$f":"RESULTS!$F$100 & \"   COURT \"&GAMES!$D$148","v":"BLOCK 5   COURT "},null,"SCORES"]
[null,{"$f":"RESULTS!C119","v":" Block 5 Player 4"},null,{"$f":"RESULTS!D119","v":-1E-3},null,{"$f":"RESULTS!G119","v":" Block 5 Player 4"},null,{"$f":"RESULTS!H119","v":-1E-3}]
[null,{"$f":"GAMES!C138+GAMES!B138","v":"00:00:00"},null,null,null,{"$f":"GAMES!C148+GAMES!B148","v":"00:00:00"}]
[null,{"$f":"RESULTS!C120","v":" Block 5 Player 6"},null,{"$f":"RESULTS!D120","v":-1E-3},null,{"$f":"RESULTS!G120","v":" Block 5 Player 3"},null,{"$f":"RESULTS!H120","v":-1E-3}]
[null,"INITIALS",null,null,null,"INITIALS"]

{"sheet":"BLOCK","index":8,"n_rows":154,"n_cols":40,"rows_kept":154,"cut":false,"hidden":false,"merged":[[5,20,5,22],[5,23,5,25],[36,20,36,22],[36,23,36,25],[36,2,36,4],[36,5,36,7],[36,8,36,10],[36,11,36,13],[5,2,5,4],[5,5,5,7],[5,8,5,10],[5,11,5,13],[5,14,5,16],[5,17,5,19],[67,20,67,22],[67,23,67,25],[67,2,67,4],[67,5,67,7],[67,8,67,10],[67,11,67,13],[98,20,98,22],[98,23,98,25],[98,2,98,4],[98,5,98,7],[98,8,98,10],[98,11,98,13],[2,9,2,17],[95,9,95,17],[64,9,64,17],[3,9,3,17],[34,9,34,17],[65,9,65,17],[67,14,67,16],[67,17,67,19],[36,14,36,16],[36,17,36,19],[96,9,96,17],[33,9,33,17],[126,9,126,17],[127,9,127,17],[98,14,98,16],[98,17,98,19],[129,20,129,22],[129,23,129,25],[129,2,129,4],[129,5,129,7],[129,8,129,10],[129,11,129,13],[129,14,129,16],[129,17,129,19]]}
[]
[null,null,null,null,null,null,null,null,null,null,null,null,null,{"$f":"SEED!F1","v":"Tournament"}]
[null,null,null,null,null,null,null,null,null,{"$f":"NAMES!$C$9","v":"Date"}]
[null,null,null,null,null,null,null,null,null,{"$f":"SEED!F2","v":"Singles"}]
[]
[null,{"$f":"SEED!D4","v":"BLOCK 1"},{"$f":"SEED!D6","v":" Block 1 Player 1"},null,null,{"$f":"SEED!D7","v":" Block 1 Player 2"},null,null,{"$f":"SEED!D8","v":" Block 1 Player 3"},null,null,{"$f":"SEED!D9","v":" Block 1 Player 4"},null,null,{"$f":"SEED!D10","v":" Block 1 Player 5"},null,null,{"$f":"SEED!D11","v":" Block 1 Player 6"},null,null,{"$f":"SEED!D12","v":" Block 1 Player 7"},null,null,{"$f":"SEED!D13","v":" Bye "},null,null,null," WINS"," POINTS FOR","POINTS AGAINST"," NET POINTS",null," PLACE"]
[null,{"$f":"NAMES!C11","v":"Block 1"},"plyr1",null,null,null,{"$f":"IF(H7=1,\"W\",\"\")","v":""},{"$f":"IF(G9>0,1,0)","v":0},null,{"$f":"IF(K7=1,\"W\",\"\")","v":""},{"$f":"IF(J9>0,1,0)","v":0},null,{"$f":"IF(N7=1,\"W\",\"\")","v":""},{"$f":"IF(M9>0,1,0)","v":0},null,{"$f":"IF(Q7=1,\"W\",\"\")","v":""},{"$f":"IF(P9>0,1,0)","v":0},null,{"$f":"IF(T7=1,\"W\",\"\")","v":""},{"$f":"IF(S9>0,1,0)","v":0},null,{"$f":"IF(W7=1,\"W\",\"\")","v":""},{"$f":"IF(V9>0,1,0)","v":0},null,{"$f":"IF(Z7=1,\"W\",\"\")","v":""},{"$f":"IF(Y9>0,1,0)","v":0},null,null,null,null,null,null,null,null,null,"NAME","WINS","NET","FOR"]
[null,{"$f":"NAMES!C12","v":"Player 1"},null,null,null,{"$f":"SCORES!L33","v":-1E-3},{"$f":"RESULTS!$M13","v":-1E-3},{"$f":"SCORES!L35","v":-1E-3},{"$f":"SCORES!D5","v":-1E-3},{"$f":"RESULTS!$E5","v":-1E-3},{"$f":"SCORES!D7","v":-1E-3},{"$f":"SCORES!D33","v":-1E-3},{"$f":"RESULTS!$E13","v":-1E-3},{"$f":"SCORES!D35","v":-1E-3},{"$f":"SCORES!D61","v":-1E-3},{"$f":"RESULTS!$E21","v":-1E-3},{"$f":"SCORES!D63","v":-1E-3},{"$f":"SCORES!H19","v":-1E-3},{"$f":"RESULTS!$I9","v":-1E-3},{"$f":"SCORES!H21","v":-1E-3},{"$f":"SCORES!H47","v":-1E-3},{"$f":"RESULTS!$I17","v":-1E-3},{"$f":"SCORES!H49","v":-1E-3},{"$f":"SCORES!L5","v":-1E-3},{"$f":"RESULTS!$M5","v":-1E-3},{"$f":"SCORES!L7","v":-1E-3},null,{"$f":"SUM(C7:Z7)","v":0},{"$f":"SUM(C8,F8,I8,L8,O8,R8,U8,X8)","v":-7.0000000000000001E-3},{"$f":"SUM(E8,H8,K8,N8,Q8,T8,W8,Z8)","v":-7.0000000000000001E-3},{"$f":"SUM(C9:Z9)","v":0},null,{"$f":"VLOOKUP(C7,PLACE1,5,FALSE)","v":7},null,null,{"$f":"$C$25","v":"plyr7"},{"$f":"$AB$26","v":0},{"$f":"$AE$26","v":0},{"$f":"$AC$26","v":-7.0000000000000001E-3},1]
[null,{"$f":"SEED!E6","v":0},null,null,null,null,{"$f":"F8-H8","v":0},null,null,{"$f":"I8-K8","v":0},null,null,{"$f":"L8-N8","v":0},null,null,{"$f":"O8-Q8","v":0},null,null,{"$f":"R8-T8","v":0},null,null,{"$f":"U8-W8","v":0},null,null,{"$f":"X8-Z8","v":0},null,null,null,null,null,null,null,null,null,null,{"$f":"$C$22","v":"plyr6"},{"$f":"$AB$23","v":0},{"$f":"$AE$23","v":0},{"$f":"$AC$23","v":-7.0000000000000001E-3},2]
[null,{"$f":"NAMES!C16","v":"Block 1"},"plyr2",{"$f":"IF(E10=1,\"W\",\"\")","v":""},{"$f":"IF(D12>0,1,0)","v":0},null,null,null,null,{"$f":"IF(K10=1,\"W\",\"\")","v":""},{"$f":"IF(J12>0,1,0)","v":0},null,{"$f":"IF(N10=1,\"W\",\"\")","v":""},{"$f":"IF(M12>0,1,0)","v":0},null,{"$f":"IF(Q10=1,\"W\",\"\")","v":""},{"$f":"IF(P12>0,1,0)","v":0},null,{"$f":"IF(T10=1,\"W\",\"\")","v":""},{"$f":"IF(S12>0,1,0)","v":0},null,{"$f":"IF(W10=1,\"W\",\"\")","v":""},{"$f":"IF(V12>0,1,0)","v":0},null,{"$f":"IF(Z10=1,\"W\",\"\")","v":""},{"$f":"IF(Y12>0,1,0)","v":0},null,null,null,null,null,null,null,null,null,{"$f":"$C$19","v":"plyr5"},{"$f":"$AB$20","v":0},{"$f":"$AE$20","v":0},{"$f":"$AC$20","v":-7.0000000000000001E-3},3]
[null,{"$f":"NAMES!C17","v":"Player 2"},{"$f":"H8","v":-1E-3},{"$f":"RESULTS!$M14","v":-1E-3},{"$f":"F8","v":-1E-3},null,null,null,{"$f":"SCORES!H42","v":-1E-3},{"$f":"RESULTS!$I16","v":-1E-3},{"$f":"SCORES!H40","v":-1E-3},{"$f":"SCORES!D12","v":-1E-3},{"$f":"RESULTS!$E7","v":-1E-3},{"$f":"SCORES!D14","v":-1E-3},{"$f":"SCORES!H63","v":-1E-3},{"$f":"RESULTS!$I22","v":-1E-3},{"$f":"SCORES!H61","v":-1E-3},{"$f":"SCORES!D47","v":-1E-3},{"$f":"RESULTS!$E17","v":-1E-3},{"$f":"SCORES!D49","v":-1E-3},{"$f":"SCORES!L14","v":-1E-3},{"$f":"RESULTS!$M8","v":-1E-3},{"$f":"SCORES!L12","v":-1E-3},{"$f":"SCORES!H12","v":-1E-3},{"$f":"RESULTS!$I7","v":-1E-3},{"$f":"SCORES!H14","v":-1E-3},null,{"$f":"SUM(C10:Z10)","v":0},{"$f":"SUM(C11,F11,I11,L11,O11,R11,U11,X11)","v":-7.0000000000000001E-3},{"$f":"SUM(E11,H11,K11,N11,Q11,T11,W11,Z11)","v":-7.0000000000000001E-3},{"$f":"SUM(C12:Z12)","v":0},null,{"$f":"VLOOKUP(C10,PLACE1,5,FALSE)","v":6},null,null,{"$f":"$C$16","v":"plyr4"},{"$f":"$AB$17","v":0},{"$f":"$AE$17","v":0},{"$f":"$AC$17","v":-7.0000000000000001E-3},4]
[null,{"$f":"SEED!E7","v":0},null,{"$f":"C11-E11","v":0},null,null,null,null,null,{"$f":"I11-K11","v":0},null,null,{"$f":"L11-N11","v":0},null,null,{"$f":"O11-Q11","v":0},null,null,{"$f":"R11-T11","v":0},null,null,{"$f":"U11-W11","v":0},null,null,{"$f":"X11-Z11","v":0},null,null,null,null,null,null,null,null,null,null,{"$f":"$C$13","v":"plyr3"},{"$f":"$AB$14","v":0},{"$f":"$AE$14","v":0},{"$f":"$AC$14","v":-7.0000000000000001E-3},5]
[null,{"$f":"NAMES!C21","v":"Block 1"},"plyr3",{"$f":"IF(E13=1,\"W\",\"\")","v":""},{"$f":"IF(D15>0,1,0)","v":0},null,{"$f":"IF(H13=1,\"W\",\"\")","v":""},{"$f":"IF(G15>0,1,0)","v":0},null,null,null,null,{"$f":"IF(N13=1,\"W\",\"\")","v":""},{"$f":"IF(M15>0,1,0)","v":0},null,{"$f":"IF(Q13=1,\"W\",\"\")","v":""},{"$f":"IF(P15>0,1,0)","v":0},null,{"$f":"IF(T13=1,\"W\",\"\")","v":""},{"$f":"IF(S15>0,1,0)","v":0},null,{"$f":"IF(W13=1,\"W\",\"\")","v":""},{"$f":"IF(V15>0,1,0)","v":0},null,{"$f":"IF(Z13=1,\"W\",\"\")","v":""},{"$f":"IF(Y15>0,1,0)","v":0},null,null,null,null,null,null,null,null,null,{"$f":"$C$10","v":"plyr2"},{"$f":"$AB$11","v":0},{"$f":"$AE$11","v":0},{"$f":"$AC$11","v":-7.0000000000000001E-3},6]
[null,{"$f":"NAMES!C22","v":"Player 3"},{"$f":"K8","v":-1E-3},{"$f":"RESULTS!$E6","v":-1E-3},{"$f":"I8","v":-1E-3},{"$f":"K11","v":-1E-3},{"$f":"RESULTS!$I15","v":-1E-3},{"$f":"I11","v":-1E-3},null,null,null,{"$f":"SCORES!H70","v":-1E-3},{"$f":"RESULTS!$I24","v":-1E-3},{"$f":"SCORES!H68","v":-1E-3},{"$f":"SCORES!D40","v":-1E-3},{"$f":"RESULTS!$E15","v":-1E-3},{"$f":"SCORES!D42","v":-1E-3},{"$f":"SCORES!L21","v":-1E-3},{"$f":"RESULTS!$M10","v":-1E-3},{"$f":"SCORES!L19","v":-1E-3},{"$f":"SCORES!H5","v":-1E-3},{"$f":"RESULTS!$I5","v":-1E-3},{"$f":"SCORES!H7","v":-1E-3},{"$f":"SCORES!L42","v":-1E-3},{"$f":"RESULTS!$M16","v":-1E-3},{"$f":"SCORES!L40","v":-1E-3},null,{"$f":"SUM(C13:Z13)","v":0},{"$f":"SUM(C14,F14,I14,L14,O14,R14,U14,X14)","v":-7.0000000000000001E-3},{"$f":"SUM(E14,H14,K14,N14,Q14,T14,W14,Z14)","v":-7.0000000000000001E-3},{"$f":"SUM(C15:Z15)","v":0},null,{"$f":"VLOOKUP(C13,PLACE1,5,FALSE)","v":5},null,null,{"$f":"$C$7","v":"plyr1"},{"$f":"$AB$8","v":0},{"$f":"$AE$8","v":0},{"$f":"$AC$8","v":-7.0000000000000001E-3},7]
[null,{"$f":"SEED!E8","v":0},null,{"$f":"C14-E14","v":0},null,null,{"$f":"F14-H14","v":0},null,null,null,null,null,{"$f":"L14-N14","v":0},null,null,{"$f":"O14-Q14","v":0},null,null,{"$f":"R14-T14","v":0},null,null,{"$f":"U14-W14","v":0},null,null,{"$f":"X14-Z14","v":0}]
[null,{"$f":"NAMES!C26","v":"Block 1"},"plyr4",{"$f":"IF(E16=1,\"W\",\"\")","v":""},{"$f":"IF(D18>0,1,0)","v":0},null,{"$f":"IF(H16=1,\"W\",\"\")","v":""},{"$f":"IF(G18>0,1,0)","v":0},null,{"$f":"IF(K16=1,\"W\",\"\")","v":""},{"$f":"IF(J18>0,1,0)","v":0},null,null,null,null,{"$f":"IF(Q16=1,\"W\",\"\")","v":""},{"$f":"IF(P18>0,1,0)","v":0},null,{"$f":"IF(T16=1,\"W\",\"\")","v":""},{"$f":"IF(S18>0,1,0)","v":0},null,{"$f":"IF(W16=1,\"W\",\"\")","v":""},{"$f":"IF(V18>0,1,0)","v":0},null,{"$f":"IF(Z16=1,\"W\",\"\")","v":""},{"$f":"IF(Y18>0,1,0)","v":0}]
[null,{"$f":"NAMES!C27","v":"Player 4"},{"$f":"N8","v":-1E-3},{"$f":"RESULTS!$E14","v":-1E-3},{"$f":"L8","v":-1E-3},{"$f":"N11","v":-1E-3},{"$f":"RESULTS!$E8","v":-1E-3},{"$f":"L11","v":-1E-3},{"$f":"N14","v":-1E-3},{"$f":"RESULTS!$I23","v":-1E-3},{"$f":"L14","v":-1E-3},null,null,null,{"$f":"SCORES!L28","v":-1E-3},{"$f":"RESULTS!$M12","v":-1E-3},{"$f":"SCORES!L26","v":-1E-3},{"$f":"SCORES!D68","v":-1E-3},{"$f":"RESULTS!$E23","v":-1E-3},{"$f":"SCORES!D70","v":-1E-3},{"$f":"SCORES!L49","v":-1E-3},{"$f":"RESULTS!$M18","v":-1E-3},{"$f":"SCORES!L47","v":-1E-3},{"$f":"SCORES!H33","v":-1E-3},{"$f":"RESULTS!$I13","v":-1E-3},{"$f":"SCORES!H35","v":-1E-3},null,{"$f":"SUM(C16:Z16)","v":0},{"$f":"SUM(C17,F17,I17,L17,O17,R17,U17,X17)","v":-7.0000000000000001E-3},{"$f":"SUM(E17,H17,K17,N17,Q17,T17,W17,Z17)","v":-7.0000000000000001E-3},{"$f":"SUM(C18:Z18)","v":0},null,{"$f":"VLOOKUP(C16,PLACE1,5,FALSE)","v":4}]
[null,{"$f":"SEED!E9","v":0},null,{"$f":"C17-E17","v":0},null,null,{"$f":"F17-H17","v":0},null,null,{"$f":"I17-K17","v":0},null,null,null,null,null,{"$f":"O17-Q17","v":0},null,null,{"$f":"R17-T17","v":0},null,null,{"$f":"U17-W17","v":0},null,null,{"$f":"X17-Z17","v":0}]
[null,{"$f":"NAMES!C31","v":"Block 1"},"plyr5",{"$f":"IF(E19=1,\"W\",\"\")","v":""},{"$f":"IF(D21>0,1,0)","v":0},null,{"$f":"IF(H19=1,\"W\",\"\")","v":""},{"$f":"IF(G21>0,1,0)","v":0},null,{"$f":"IF(K19=1,\"W\",\"\")","v":""},{"$f":"IF(J21>0,1,0)","v":0},null,{"$f":"IF(N19=1,\"W\",\"\")","v":""},{"$f":"IF(M21>0,1,0)","v":0},null,null,null,null,{"$f":"IF(T19=1,\"W\",\"\")","v":""},{"$f":"IF(S21>0,1,0)","v":0},null,{"$f":"IF(W19=1,\"W\",\"\")","v":""},{"$f":"IF(V21>0,1,0)","v":0},null,{"$f":"IF(Z19=1,\"W\",\"\")","v":""},{"$f":"IF(Y21>0,1,0)","v":0}]
[null,{"$f":"NAMES!C32","v":"Player 5"},{"$f":"Q8","v":-1E-3},{"$f":"RESULTS!$E22","v":-1E-3},{"$f":"O8","v":-1E-3},{"$f":"Q11","v":-1E-3},{"$f":"RESULTS!$I21","v":-1E-3},{"$f":"O11","v":-1E-3},{"$f":"Q14","v":-1E-3},{"$f":"RESULTS!$E16","v":-1E-3},{"$f":"O14","v":-1E-3},{"$f":"Q17","v":-1E-3},{"$f":"RESULTS!$M11","v":-1E-3},{"$f":"O17","v":-1E-3},null,null,null,{"$f":"SCORES!L56","v":-1E-3},{"$f":"RESULTS!$M20","v":-1E-3},{"$f":"SCORES!L54","v":-1E-3},{"$f":"SCORES!H26","v":-1E-3},{"$f":"RESULTS!$I11","v":-1E-3},{"$f":"SCORES!H28","v":-1E-3},{"$f":"SCORES!D21","v":-1E-3},{"$f":"RESULTS!$E10","v":-1E-3},{"$f":"SCORES!D19","v":-1E-3},null,{"$f":"SUM(C19:Z19)","v":0},{"$f":"SUM(C20,F20,I20,L20,O20,R20,U20,X20)","v":-7.0000000000000001E-3},{"$f":"SUM(E20,H20,K20,N20,Q20,T20,W20,Z20)","v":-7.0000000000000001E-3},{"$f":"SUM(C21:Z21)","v":0},null,{"$f":"VLOOKUP(C19,PLACE1,5,FALSE)","v":3}]
[null,{"$f":"SEED!E10","v":0},null,{"$f":"C20-E20","v":0},null,null,{"$f":"F20-H20","v":0},null,null,{"$f":"I20-K20","v":0},null,null,{"$f":"L20-N20","v":0},null,null,null,null,null,{"$f":"R20-T20","v":0},null,null,{"$f":"U20-W20","v":0},null,null,{"$f":"X20-Z20","v":0}]
[null,{"$f":"NAMES!C36","v":"Block 1"},"plyr6",{"$f":"IF(E22=1,\"W\",\"\")","v":""},{"$f":"IF(D24>0,1,0)","v":0},null,{"$f":"IF(H22=1,\"W\",\"\")","v":""},{"$f":"IF(G24>0,1,0)","v":0},null,{"$f":"IF(K22=1,\"W\",\"\")","v":""},{"$f":"IF(J24>0,1,0)","v":0},null,{"$f":"IF(N22=1,\"W\",\"\")","v":""},{"$f":"IF(M24>0,1,0)","v":0},null,{"$f":"IF(Q22=1,\"W\",\"\")","v":""},{"$f":"IF(P24>0,1,0)","v":0},null,null,null,null,{"$f":"IF(W22=1,\"W\",\"\")","v":""},{"$f":"IF(V24>0,1,0)","v":0},null,{"$f":"IF(Z22=1,\"W\",\"\")","v":""},{"$f":"IF(Y24>0,1,0)","v":0}]
[null,{"$f":"NAMES!C37","v":"Player 6"},{"$f":"T8","v":-1E-3},{"$f":"RESULTS!$I10","v":-1E-3},{"$f":"R8","v":-1E-3},{"$f":"T11","v":-1E-3},{"$f":"RESULTS!$E18","v":-1E-3},{"$f":"R11","v":-1E-3},{"$f":"T14","v":-1E-3},{"$f":"RESULTS!$M9","v":-1E-3},{"$f":"R14","v":-1E-3},{"$f":"T17","v":-1E-3},{"$f":"RESULTS!$E24","v":-1E-3},{"$f":"R17","v":-1E-3},{"$f":"T20","v":-1E-3},{"$f":"RESULTS!$M19","v":-1E-3},{"$f":"R20","v":-1E-3},null,null,null,{"$f":"SCORES!D28","v":-1E-3},{"$f":"RESULTS!$E12","v":-1E-3},{"$f":"SCORES!D26","v":-1E-3},{"$f":"SCORES!H54","v":-1E-3},{"$f":"RESULTS!$I19","v":-1E-3},{"$f":"SCORES!H56","v":-1E-3},null,{"$f":"SUM(C22:Z22)","v":0},{"$f":"SUM(C23,F23,I23,L23,O23,R23,U23,X23)","v":-7.0000000000000001E-3},{"$f":"SUM(E23,H23,K23,N23,Q23,T23,W23,Z23)","v":-7.0000000000000001E-3},{"$f":"SUM(C24:Z24)","v":0},null,{"$f":"VLOOKUP(C22,PLACE1,5,FALSE)","v":2}]
[null,{"$f":"SEED!E11","v":0},null,{"$f":"C23-E23","v":0},null,null,{"$f":"F23-H23","v":0},null,null,{"$f":"I23-K23","v":0},null,null,{"$f":"L23-N23","v":0},null,null,{"$f":"O23-Q23","v":0},null,null,null,null,null,{"$f":"U23-W23","v":0},null,null,{"$f":"X23-Z23","v":0}]
[null,{"$f":"NAMES!C41","v":"Block 1"},"plyr7",{"$f":"IF(E25=1,\"W\",\"\")","v":""},{"$f":"IF(D27>0,1,0)","v":0},null,{"$f":"IF(H25=1,\"W\",\"\")","v":""},{"$f":"IF(G27>0,1,0)","v":0},null,{"$f":"IF(K25=1,\"W\",\"\")","v":""},{"$f":"IF(J27>0,1,0)","v":0},null,{"$f":"IF(N25=1,\"W\",\"\")","v":""},{"$f":"IF(M27>0,1,0)","v":0},null,{"$f":"IF(Q25=1,\"W\",\"\")","v":""},{"$f":"IF(P27>0,1,0)","v":0},null,{"$f":"IF(T25=1,\"W\",\"\")","v":""},{"$f":"IF(S27>0,1,0)","v":0},null,null,null,null,{"$f":"IF(Z25=1,\"W\",\"\")","v":""},{"$f":"IF(Y27>0,1,0)","v":0}]
[null,{"$f":"NAMES!C42","v":"Player 7"},{"$f":"W8","v":-1E-3},{"$f":"RESULTS!$I18","v":-1E-3},{"$f":"U8","v":-1E-3},{"$f":"W11","v":-1E-3},{"$f":"RESULTS!$M7","v":-1E-3},{"$f":"U11","v":-1E-3},{"$f":"W14","v":-1E-3},{"$f":"RESULTS!$I6","v":-1E-3},{"$f":"U14","v":-1E-3},{"$f":"W17","v":-1E-3},{"$f":"RESULTS!$M17","v":-1E-3},{"$f":"U17","v":-1E-3},{"$f":"W20","v":-1E-3},{"$f":"RESULTS!$I12","v":-1E-3},{"$f":"U20","v":-1E-3},{"$f":"W23","v":-1E-3},{"$f":"RESULTS!$E11","v":-1E-3},{"$f":"U23","v":-1E-3},null,null,null,{"$f":"SCORES!D56","v":-1E-3},{"$f":"RESULTS!$E20","v":-1E-3},{"$f":"SCORES!D54","v":-1E-3},null,{"$f":"SUM(C25:Z25)","v":0},{"$f":"SUM(C26,F26,I26,L26,O26,R26,U26,X26)","v":-7.0000000000000001E-3},{"$f":"SUM(E26,H26,K26,N26,Q26,T26,W26,Z26)","v":-7.0000000000000001E-3},{"$f":"SUM(C27:Z27)","v":0},null,{"$f":"VLOOKUP(C25,PLACE1,5,FALSE)","v":1}]
[null,{"$f":"SEED!E12","v":0},null,{"$f":"C26-E26","v":0},null,null,{"$f":"F26-H26","v":0},null,null,{"$f":"I26-K26","v":0},null,null,{"$f":"L26-N26","v":0},null,null,{"$f":"O26-Q26","v":0},null,null,{"$f":"R26-T26","v":0},null,null,null,null,null,{"$f":"X26-Z26","v":0}]
[null,{"$f":"NAMES!C46","v":"Bye"},"plyr8",{"$f":"IF(E28=1,\"W\",\"\")","v":""},{"$f":"IF(D30>0,1,0)","v":0},null,{"$f":"IF(H28=1,\"W\",\"\")","v":""},{"$f":"IF(G30>0,1,0)","v":0},null,{"$f":"IF(K28=1,\"W\",\"\")","v":""},{"$f":"IF(J30>0,1,0)","v":0},null,{"$f":"IF(N28=1,\"W\",\"\")","v":""},{"$f":"IF(M30>0,1,0)","v":0},null,{"$f":"IF(Q28=1,\"W\",\"\")","v":""},{"$f":"IF(P30>0,1,0)","v":0},null,{"$f":"IF(T28=1,\"W\",\"\")","v":""},{"$f":"IF(S30>0,1,0)","v":0},null,{"$f":"IF(W28=1,\"W\",\"\")","v":""},{"$f":"IF(V30>0,1,0)","v":0}]
[null,{"$f":"NAMES!C47","v":0},{"$f":"Z8","v":-1E-3},{"$f":"RESULTS!$M6","v":-1E-3},{"$f":"X8","v":-1E-3},{"$f":"Z11","v":-1E-3},{"$f":"RESULTS!$I8","v":-1E-3},{"$f":"X11","v":-1E-3},{"$f":"Z14","v":-1E-3},{"$f":"RESULTS!$M15","v":-1E-3},{"$f":"X14","v":-1E-3},{"$f":"Z17","v":-1E-3},{"$f":"RESULTS!$I14","v":-1E-3},{"$f":"X17","v":-1E-3},{"$f":"Z20","v":-1E-3},{"$f":"RESULTS!$E9","v":-1E-3},{"$f":"X20","v":-1E-3},{"$f":"Z23","v":-1E-3},{"$f":"RESULTS!$I20","v":-1E-3},{"$f":"X23","v":-1E-3},{"$f":"Z26","v":-1E-3},{"$f":"RESULTS!$E19","v":-1E-3},{"$f":"X26","v":-1E-3},null,null,null,null,{"$f":"SUM(C28:Z28)","v":0},{"$f":"SUM(C29,F29,I29,L29,O29,R29,U29,X29)","v":-7.0000000000000001E-3},{"$f":"SUM(E29,H29,K29,N29,Q29,T29,W29,Z29)","v":-7.0000000000000001E-3},{"$f":"SUM(C30:Z30)","v":0}]
[null,{"$f":"NAMES!C49","v":0},null,{"$f":"C29-E29","v":0},null,null,{"$f":"F29-H29","v":0},null,null,{"$f":"I29-K29","v":0},null,null,{"$f":"L29-N29","v":0},null,null,{"$f":"O29-Q29","v":0},null,null,{"$f":"R29-T29","v":0},null,null,{"$f":"U29-W29","v":0}]
[]
[]
[null,null,null,null,null,null,null,null,null,null,null,null,null,{"$f":"N2","v":"Tournament"}]
[null,null,null,null,null,null,null,null,null,{"$f":"NAMES!$C$9","v":"Date"}]
[null,null,null,null,null,null,null,null,null,{"$f":"J4","v":"Singles"}]
[]
[null,{"$f":"SEED!I4","v":"BLOCK 2"},{"$f":"SEED!I6","v":" Block 2 Player 1"},null,null,{"$f":"SEED!I7","v":" Block 2 Player 2"},null,null,{"$f":"SEED!I8","v":" Block 2 Player 3"},null,null,{"$f":"SEED!I9","v":" Block 2 Player 4"},null,null,{"$f":"SEED!I10","v":" Block 2 Player 5"},null,null,{"$f":"SEED!I11","v":" Block 2 Player 6"},null,null,{"$f":"SEED!I12","v":" Block 2 Player 7"},null,null,{"$f":"SEED!I13","v":" Bye "},null,null,null,"WINS","POINTS FOR","POINTS AGAINST","NET   POINTS",null,"BLOCK PLACE"]
[null,{"$f":"NAMES!C52","v":"Block 2"},"plyr1",null,null,null,{"$f":"IF(H38=1,\"W\",\"\")","v":""},{"$f":"IF(G40>0,1,0)","v":0},null,{"$f":"IF(K38=1,\"W\",\"\")","v":""},{"$f":"IF(J40>0,1,0)","v":0},null,{"$f":"IF(N38=1,\"W\",\"\")","v":""},{"$f":"IF(M40>0,1,0)","v":0},null,{"$f":"IF(Q38=1,\"W\",\"\")","v":""},{"$f":"IF(P40>0,1,0)","v":0},null,{"$f":"IF(T38=1,\"W\",\"\")","v":""},{"$f":"IF(S40>0,1,0)","v":0},null,{"$f":"IF(W38=1,\"W\",\"\")","v":""},{"$f":"IF(V40>0,1,0)","v":0},null,{"$f":"IF(Z38=1,\"W\",\"\")","v":""},{"$f":"IF(Y40>0,1,0)","v":0},null,null,null,null,null,null,null,null,null,"NAME","WINS","NET","FOR"]
[null,{"$f":"NAMES!C53","v":"Player 1"},null,null,null,{"$f":"SCORES!L103","v":-1E-3},{"$f":"RESULTS!$M$37","v":-1E-3},{"$f":"SCORES!L105","v":-1E-3},{"$f":"SCORES!D75","v":-1E-3},{"$f":"RESULTS!$E$29","v":-1E-3},{"$f":"SCORES!D77","v":-1E-3},{"$f":"SCORES!D103","v":-1E-3},{"$f":"RESULTS!$E$37","v":-1E-3},{"$f":"SCORES!D105","v":-1E-3},{"$f":"SCORES!D131","v":-1E-3},{"$f":"RESULTS!$E$45","v":-1E-3},{"$f":"SCORES!D133","v":-1E-3},{"$f":"SCORES!H89","v":-1E-3},{"$f":"RESULTS!$I$33","v":-1E-3},{"$f":"SCORES!H91","v":-1E-3},{"$f":"SCORES!H117","v":-1E-3},{"$f":"RESULTS!$I$41","v":-1E-3},{"$f":"SCORES!H119","v":-1E-3},{"$f":"SCORES!L75","v":-1E-3},{"$f":"RESULTS!$M$29","v":-1E-3},{"$f":"SCORES!L77","v":-1E-3},null,{"$f":"SUM(C38:Z38)","v":0},{"$f":"SUM(C39,F39,I39,L39,O39,R39,U39,X39)","v":-7.0000000000000001E-3},{"$f":"SUM(E39,H39,K39,N39,Q39,T39,W39,Z39)","v":-7.0000000000000001E-3},{"$f":"SUM(C40:Z40)","v":0},null,{"$f":"VLOOKUP(C38,PLACE2,5,FALSE)","v":7},null,null,{"$f":"$C$56","v":"plyr7"},{"$f":"$AB$57","v":0},{"$f":"$AE$57","v":0},{"$f":"$AC$57","v":-7.0000000000000001E-3},1]
[null,{"$f":"SEED!J6","v":0},null,null,null,null,{"$f":"F39-H39","v":0},null,null,{"$f":"I39-K39","v":0},null,null,{"$f":"L39-N39","v":0},null,null,{"$f":"O39-Q39","v":0},null,null,{"$f":"R39-T39","v":0},null,null,{"$f":"U39-W39","v":0},null,null,{"$f":"X39-Z39","v":0},null,null,null,null,null,null,null,null,null,null,{"$f":"$C$53","v":"plyr6"},{"$f":"$AB$54","v":0},{"$f":"$AE$54","v":0},{"$f":"$AC$54","v":-7.0000000000000001E-3},2]
[null,{"$f":"NAMES!C57","v":"Block 2"},"plyr2",{"$f":"IF(E41=1,\"W\",\"\")","v":""},{"$f":"IF(D43>0,1,0)","v":0},null,null,null,null,{"$f":"IF(K41=1,\"W\",\"\")","v":""},{"$f":"IF(J43>0,1,0)","v":0},null,{"$f":"IF(N41=1,\"W\",\"\")","v":""},{"$f":"IF(M43>0,1,0)","v":0},null,{"$f":"IF(Q41=1,\"W\",\"\")","v":""},{"$f":"IF(P43>0,1,0)","v":0},null,{"$f":"IF(T41=1,\"W\",\"\")","v":""},{"$f":"IF(S43>0,1,0)","v":0},null,{"$f":"IF(W41=1,\"W\",\"\")","v":""},{"$f":"IF(V43>0,1,0)","v":0},null,{"$f":"IF(Z41=1,\"W\",\"\")","v":""},{"$f":"IF(Y43>0,1,0)","v":0},null,null,null,null,null,null,null,null,null,{"$f":"$C$50","v":"plyr5"},{"$f":"$AB$51","v":0},{"$f":"$AE$51","v":0},{"$f":"$AC$51","v":-7.0000000000000001E-3},3]
[null,{"$f":"NAMES!C58","v":"Player 2"},{"$f":"H39","v":-1E-3},{"$f":"RESULTS!$M$38","v":-1E-3},{"$f":"F39","v":-1E-3},null,null,null,{"$f":"SCORES!H112","v":-1E-3},{"$f":"RESULTS!$I$40","v":-1E-3},{"$f":"SCORES!H110","v":-1E-3},{"$f":"SCORES!D82","v":-1E-3},{"$f":"RESULTS!$E$31","v":-1E-3},{"$f":"SCORES!D84","v":-1E-3},{"$f":"SCORES!H133","v":-1E-3},{"$f":"RESULTS!$I$46","v":-1E-3},{"$f":"SCORES!H131","v":-1E-3},{"$f":"SCORES!D117","v":-1E-3},{"$f":"RESULTS!$E$41","v":-1E-3},{"$f":"SCORES!D119","v":-1E-3},{"$f":"SCORES!L84","v":-1E-3},{"$f":"RESULTS!$M$32","v":-1E-3},{"$f":"SCORES!L82","v":-1E-3},{"$f":"SCORES!H82","v":-1E-3},{"$f":"RESULTS!$I$31","v":-1E-3},{"$f":"SCORES!H84","v":-1E-3},null,{"$f":"SUM(C41:Z41)","v":0},{"$f":"SUM(C42,F42,I42,L42,O42,R42,U42,X42)","v":-7.0000000000000001E-3},{"$f":"SUM(E42,H42,K42,N42,Q42,T42,W42,Z42)","v":-7.0000000000000001E-3},{"$f":"SUM(C43:Z43)","v":0},null,{"$f":"VLOOKUP(C41,PLACE2,5,FALSE)","v":6},null,null,{"$f":"$C$47","v":"plyr4"},{"$f":"$AB$48","v":0},{"$f":"$AE$48","v":0},{"$f":"$AC$48","v":-7.0000000000000001E-3},4]
[null,{"$f":"SEED!J7","v":0},null,{"$f":"C42-E42","v":0},null,null,null,null,null,{"$f":"I42-K42","v":0},null,null,{"$f":"L42-N42","v":0},null,null,{"$f":"O42-Q42","v":0},null,null,{"$f":"R42-T42","v":0},null,null,{"$f":"U42-W42","v":0},null,null,{"$f":"X42-Z42","v":0},null,null,null,null,null,null,null,null,null,null,{"$f":"$C$44","v":"plyr3"},{"$f":"$AB$45","v":0},{"$f":"$AE$45","v":0},{"$f":"$AC$45","v":-7.0000000000000001E-3},5]
[null,{"$f":"NAMES!C62","v":"Block 2"},"plyr3",{"$f":"IF(E44=1,\"W\",\"\")","v":""},{"$f":"IF(D46>0,1,0)","v":0},null,{"$f":"IF(H44=1,\"W\",\"\")","v":""},{"$f":"IF(G46>0,1,0)","v":0},null,null,null,null,{"$f":"IF(N44=1,\"W\",\"\")","v":""},{"$f":"IF(M46>0,1,0)","v":0},null,{"$f":"IF(Q44=1,\"W\",\"\")","v":""},{"$f":"IF(P46>0,1,0)","v":0},null,{"$f":"IF(T44=1,\"W\",\"\")","v":""},{"$f":"IF(S46>0,1,0)","v":0},null,{"$f":"IF(W44=1,\"W\",\"\")","v":""},{"$f":"IF(V46>0,1,0)","v":0},null,{"$f":"IF(Z44=1,\"W\",\"\")","v":""},{"$f":"IF(Y46>0,1,0)","v":0},null,null,null,null,null,null,null,null,null,{"$f":"$C$41","v":"plyr2"},{"$f":"$AB$42","v":0},{"$f":"$AE$42","v":0},{"$f":"$AC$42","v":-7.0000000000000001E-3},6]
[null,{"$f":"NAMES!C63","v":"Player 3"},{"$f":"K39","v":-1E-3},{"$f":"RESULTS!$E$30","v":-1E-3},{"$f":"I39","v":-1E-3},{"$f":"K42","v":-1E-3},{"$f":"RESULTS!$I$39","v":-1E-3},{"$f":"I42","v":-1E-3},null,null,null,{"$f":"SCORES!H140","v":-1E-3},{"$f":"RESULTS!$I$48","v":-1E-3},{"$f":"SCORES!H138","v":-1E-3},{"$f":"SCORES!D110","v":-1E-3},{"$f":"RESULTS!$E$39","v":-1E-3},{"$f":"SCORES!D112","v":-1E-3},{"$f":"SCORES!L91","v":-1E-3},{"$f":"RESULTS!$M$34","v":-1E-3},{"$f":"SCORES!L89","v":-1E-3},{"$f":"SCORES!H75","v":-1E-3},{"$f":"RESULTS!$I$29","v":-1E-3},{"$f":"SCORES!H77","v":-1E-3},{"$f":"SCORES!L112","v":-1E-3},{"$f":"RESULTS!$M$40","v":-1E-3},{"$f":"SCORES!L110","v":-1E-3},null,{"$f":"SUM(C44:Z44)","v":0},{"$f":"SUM(C45,F45,I45,L45,O45,R45,U45,X45)","v":-7.0000000000000001E-3},{"$f":"SUM(E45,H45,K45,N45,Q45,T45,W45,Z45)","v":-7.0000000000000001E-3},{"$f":"SUM(C46:Z46)","v":0},null,{"$f":"VLOOKUP(C44,PLACE2,5,FALSE)","v":5},null,null,{"$f":"$C$38","v":"plyr1"},{"$f":"$AB$39","v":0},{"$f":"$AE$39","v":0},{"$f":"$AC$39","v":-7.0000000000000001E-3},7]
[null,{"$f":"SEED!J8","v":0},null,{"$f":"C45-E45","v":0},null,null,{"$f":"F45-H45","v":0},null,null,null,null,null,{"$f":"L45-N45","v":0},null,null,{"$f":"O45-Q45","v":0},null,null,{"$f":"R45-T45","v":0},null,null,{"$f":"U45-W45","v":0},null,null,{"$f":"X45-Z45","v":0}]
[null,{"$f":"NAMES!C67","v":"Block 2"},"plyr4",{"$f":"IF(E47=1,\"W\",\"\")","v":""},{"$f":"IF(D49>0,1,0)","v":0},null,{"$f":"IF(H47=1,\"W\",\"\")","v":""},{"$f":"IF(G49>0,1,0)","v":0},null,{"$f":"IF(K47=1,\"W\",\"\")","v":""},{"$f":"IF(J49>0,1,0)","v":0},null,null,null,null,{"$f":"IF(Q47=1,\"W\",\"\")","v":""},{"$f":"IF(P49>0,1,0)","v":0},null,{"$f":"IF(T47=1,\"W\",\"\")","v":""},{"$f":"IF(S49>0,1,0)","v":0},null,{"$f":"IF(W47=1,\"W\",\"\")","v":""},{"$f":"IF(V49>0,1,0)","v":0},null,{"$f":"IF(Z47=1,\"W\",\"\")","v":""},{"$f":"IF(Y49>0,1,0)","v":0}]
[null,{"$f":"NAMES!C68","v":"Player 4"},{"$f":"N39","v":-1E-3},{"$f":"RESULTS!$E$38","v":-1E-3},{"$f":"L39","v":-1E-3},{"$f":"N42","v":-1E-3},{"$f":"RESULTS!$E$32","v":-1E-3},{"$f":"L42","v":-1E-3},{"$f":"N45","v":-1E-3},{"$f":"RESULTS!$I$47","v":-1E-3},{"$f":"L45","v":-1E-3},null,null,null,{"$f":"SCORES!L98","v":-1E-3},{"$f":"RESULTS!$M$36","v":-1E-3},{"$f":"SCORES!L96","v":-1E-3},{"$f":"SCORES!D138","v":-1E-3},{"$f":"RESULTS!$E$47","v":-1E-3},{"$f":"SCORES!D140","v":-1E-3},{"$f":"SCORES!L119","v":-1E-3},{"$f":"RESULTS!$M$42","v":-1E-3},{"$f":"SCORES!L117","v":-1E-3},{"$f":"SCORES!H103","v":-1E-3},{"$f":"RESULTS!$I$37","v":-1E-3},{"$f":"SCORES!H105","v":-1E-3},null,{"$f":"SUM(C47:Z47)","v":0},{"$f":"SUM(C48,F48,I48,L48,O48,R48,U48,X48)","v":-7.0000000000000001E-3},{"$f":"SUM(E48,H48,K48,N48,Q48,T48,W48,Z48)","v":-7.0000000000000001E-3},{"$f":"SUM(C49:Z49)","v":0},null,{"$f":"VLOOKUP(C47,PLACE2,5,FALSE)","v":4}]
[null,{"$f":"SEED!J9","v":0},null,{"$f":"C48-E48","v":0},null,null,{"$f":"F48-H48","v":0},null,null,{"$f":"I48-K48","v":0},null,null,null,null,null,{"$f":"O48-Q48","v":0},null,null,{"$f":"R48-T48","v":0},null,null,{"$f":"U48-W48","v":0},null,null,{"$f":"X48-Z48","v":0}]
[null,{"$f":"NAMES!C72","v":"Block 2"},"plyr5",{"$f":"IF(E50=1,\"W\",\"\")","v":""},{"$f":"IF(D52>0,1,0)","v":0},null,{"$f":"IF(H50=1,\"W\",\"\")","v":""},{"$f":"IF(G52>0,1,0)","v":0},null,{"$f":"IF(K50=1,\"W\",\"\")","v":""},{"$f":"IF(J52>0,1,0)","v":0},null,{"$f":"IF(N50=1,\"W\",\"\")","v":""},{"$f":"IF(M52>0,1,0)","v":0},null,null,null,null,{"$f":"IF(T50=1,\"W\",\"\")","v":""},{"$f":"IF(S52>0,1,0)","v":0},null,{"$f":"IF(W50=1,\"W\",\"\")","v":""},{"$f":"IF(V52>0,1,0)","v":0},null,{"$f":"IF(Z50=1,\"W\",\"\")","v":""},{"$f":"IF(Y52>0,1,0)","v":0}]
[null,{"$f":"NAMES!C73","v":"Player 5"},{"$f":"Q39","v":-1E-3},{"$f":"RESULTS!$E$46","v":-1E-3},{"$f":"O39","v":-1E-3},{"$f":"Q42","v":-1E-3},{"$f":"RESULTS!$I$45","v":-1E-3},{"$f":"O42","v":-1E-3},{"$f":"Q45","v":-1E-3},{"$f":"RESULTS!$E$40","v":-1E-3},{"$f":"O45","v":-1E-3},{"$f":"Q48","v":-1E-3},{"$f":"RESULTS!$M$35","v":-1E-3},{"$f":"O48","v":-1E-3},null,null,null,{"$f":"SCORES!L126","v":-1E-3},{"$f":"RESULTS!$M$44","v":-1E-3},{"$f":"SCORES!L124","v":-1E-3},{"$f":"SCORES!H96","v":-1E-3},{"$f":"RESULTS!$I$35","v":-1E-3},{"$f":"SCORES!H98","v":-1E-3},{"$f":"SCORES!D91","v":-1E-3},{"$f":"RESULTS!$E$34","v":-1E-3},{"$f":"SCORES!D89","v":-1E-3},null,{"$f":"SUM(C50:Z50)","v":0},{"$f":"SUM(C51,F51,I51,L51,O51,R51,U51,X51)","v":-7.0000000000000001E-3},{"$f":"SUM(E51,H51,K51,N51,Q51,T51,W51,Z51)","v":-7.0000000000000001E-3},{"$f":"SUM(C52:Z52)","v":0},null,{"$f":"VLOOKUP(C50,PLACE2,5,FALSE)","v":3}]
[null,{"$f":"SEED!J10","v":0},null,{"$f":"C51-E51","v":0},null,null,{"$f":"F51-H51","v":0},null,null,{"$f":"I51-K51","v":0},null,null,{"$f":"L51-N51","v":0},null,null,null,null,null,{"$f":"R51-T51","v":0},null,null,{"$f":"U51-W51","v":0},null,null,{"$f":"X51-Z51","v":0}]
[null,{"$f":"NAMES!C77","v":"Block 2"},"plyr6",{"$f":"IF(E53=1,\"W\",\"\")","v":""},{"$f":"IF(D55>0,1,0)","v":0},null,{"$f":"IF(H53=1,\"W\",\"\")","v":""},{"$f":"IF(G55>0,1,0)","v":0},null,{"$f":"IF(K53=1,\"W\",\"\")","v":""},{"$f":"IF(J55>0,1,0)","v":0},null,{"$f":"IF(N53=1,\"W\",\"\")","v":""},{"$f":"IF(M55>0,1,0)","v":0},null,{"$f":"IF(Q53=1,\"W\",\"\")","v":""},{"$f":"IF(P55>0,1,0)","v":0},null,null,null,null,{"$f":"IF(W53=1,\"W\",\"\")","v":""},{"$f":"IF(V55>0,1,0)","v":0},null,{"$f":"IF(Z53=1,\"W\",\"\")","v":""},{"$f":"IF(Y55>0,1,0)","v":0}]
[null,{"$f":"NAMES!C78","v":"Player 6"},{"$f":"T39","v":-1E-3},{"$f":"RESULTS!$I$34","v":-1E-3},{"$f":"R39","v":-1E-3},{"$f":"T42","v":-1E-3},{"$f":"RESULTS!$E$42","v":-1E-3},{"$f":"R42","v":-1E-3},{"$f":"T45","v":-1E-3},{"$f":"RESULTS!$M$33","v":-1E-3},{"$f":"R45","v":-1E-3},{"$f":"T48","v":-1E-3},{"$f":"RESULTS!$E$48","v":-1E-3},{"$f":"R48","v":-1E-3},{"$f":"T51","v":-1E-3},{"$f":"RESULTS!$M$43","v":-1E-3},{"$f":"R51","v":-1E-3},null,null,null,{"$f":"SCORES!D98","v":-1E-3},{"$f":"RESULTS!$E$36","v":-1E-3},{"$f":"SCORES!D96","v":-1E-3},{"$f":"SCORES!H124","v":-1E-3},{"$f":"RESULTS!$I$43","v":-1E-3},{"$f":"SCORES!H126","v":-1E-3},null,{"$f":"SUM(C53:Z53)","v":0},{"$f":"SUM(C54,F54,I54,L54,O54,R54,U54,X54)","v":-7.0000000000000001E-3},{"$f":"SUM(E54,H54,K54,N54,Q54,T54,W54,Z54)","v":-7.0000000000000001E-3},{"$f":"SUM(C55:Z55)","v":0},null,{"$f":"VLOOKUP(C53,PLACE2,5,FALSE)","v":2}]
[null,{"$f":"SEED!J11","v":0},null,{"$f":"C54-E54","v":0},null,null,{"$f":"F54-H54","v":0},null,null,{"$f":"I54-K54","v":0},null,null,{"$f":"L54-N54","v":0},null,null,{"$f":"O54-Q54","v":0},null,null,null,null,null,{"$f":"U54-W54","v":0},null,null,{"$f":"X54-Z54","v":0}]
[null,{"$f":"NAMES!C82","v":"Block 2"},"plyr7",{"$f":"IF(E56=1,\"W\",\"\")","v":""},{"$f":"IF(D58>0,1,0)","v":0},null,{"$f":"IF(H56=1,\"W\",\"\")","v":""},{"$f":"IF(G58>0,1,0)","v":0},null,{"$f":"IF(K56=1,\"W\",\"\")","v":""},{"$f":"IF(J58>0,1,0)","v":0},null,{"$f":"IF(N56=1,\"W\",\"\")","v":""},{"$f":"IF(M58>0,1,0)","v":0},null,{"$f":"IF(Q56=1,\"W\",\"\")","v":""},{"$f":"IF(P58>0,1,0)","v":0},null,{"$f":"IF(T56=1,\"W\",\"\")","v":""},{"$f":"IF(S58>0,1,0)","v":0},null,null,null,null,{"$f":"IF(Z56=1,\"W\",\"\")","v":""},{"$f":"IF(Y58>0,1,0)","v":0}]
[null,{"$f":"NAMES!C83","v":"Player 7"},{"$f":"W39","v":-1E-3},{"$f":"RESULTS!$I$42","v":-1E-3},{"$f":"U39","v":-1E-3},{"$f":"W42","v":-1E-3},{"$f":"RESULTS!$M$31","v":-1E-3},{"$f":"U42","v":-1E-3},{"$f":"W45","v":-1E-3},{"$f":"RESULTS!$I$30","v":-1E-3},{"$f":"U45","v":-1E-3},{"$f":"W48","v":-1E-3},{"$f":"RESULTS!$M$41","v":-1E-3},{"$f":"U48","v":-1E-3},{"$f":"W51","v":-1E-3},{"$f":"RESULTS!$I$36","v":-1E-3},{"$f":"U51","v":-1E-3},{"$f":"W54","v":-1E-3},{"$f":"RESULTS!$E$35","v":-1E-3},{"$f":"U54","v":-1E-3},null,null,null,{"$f":"SCORES!D126","v":-1E-3},{"$f":"RESULTS!$E$44","v":-1E-3},{"$f":"SCORES!D124","v":-1E-3},null,{"$f":"SUM(C56:Z56)","v":0},{"$f":"SUM(C57,F57,I57,L57,O57,R57,U57,X57)","v":-7.0000000000000001E-3},{"$f":"SUM(E57,H57,K57,N57,Q57,T57,W57,Z57)","v":-7.0000000000000001E-3},{"$f":"SUM(C58:Z58)","v":0},null,{"$f":"VLOOKUP(C56,PLACE2,5,FALSE)","v":1}]
[null,{"$f":"SEED!J12","v":0},null,{"$f":"C57-E57","v":0},null,null,{"$f":"F57-H57","v":0},null,null,{"$f":"I57-K57","v":0},null,null,{"$f":"L57-N57","v":0},null,null,{"$f":"O57-Q57","v":0},null,null,{"$f":"R57-T57","v":0},null,null,null,null,null,{"$f":"X57-Z57","v":0}]
[null,{"$f":"NAMES!C87","v":"Bye"},"plyr8",{"$f":"IF(E59=1,\"W\",\"\")","v":""},{"$f":"IF(D61>0,1,0)","v":0},null,{"$f":"IF(H59=1,\"W\",\"\")","v":""},{"$f":"IF(G61>0,1,0)","v":0},null,{"$f":"IF(K59=1,\"W\",\"\")","v":""},{"$f":"IF(J61>0,1,0)","v":0},null,{"$f":"IF(N59=1,\"W\",\"\")","v":""},{"$f":"IF(M61>0,1,0)","v":0},null,{"$f":"IF(Q59=1,\"W\",\"\")","v":""},{"$f":"IF(P61>0,1,0)","v":0},null,{"$f":"IF(T59=1,\"W\",\"\")","v":""},{"$f":"IF(S61>0,1,0)","v":0},null,{"$f":"IF(W59=1,\"W\",\"\")","v":""},{"$f":"IF(V61>0,1,0)","v":0}]
[null,{"$f":"NAMES!C88","v":0},{"$f":"Z39","v":-1E-3},{"$f":"RESULTS!$M$30","v":-1E-3},{"$f":"X39","v":-1E-3},{"$f":"Z42","v":-1E-3},{"$f":"RESULTS!$I$32","v":-1E-3},{"$f":"X42","v":-1E-3},{"$f":"Z45","v":-1E-3},{"$f":"RESULTS!$M$39","v":-1E-3},{"$f":"X45","v":-1E-3},{"$f":"Z48","v":-1E-3},{"$f":"RESULTS!$I$38","v":-1E-3},{"$f":"X48","v":-1E-3},{"$f":"Z51","v":-1E-3},{"$f":"RESULTS!$E$33","v":-1E-3},{"$f":"X51","v":-1E-3},{"$f":"Z54","v":-1E-3},{"$f":"RESULTS!$I$44","v":-1E-3},{"$f":"X54","v":-1E-3},{"$f":"Z57","v":-1E-3},{"$f":"RESULTS!$E$43","v":-1E-3},{"$f":"X57","v":-1E-3},null,null,null,null,{"$f":"SUM(C59:Z59)","v":0},{"$f":"SUM(C60,F60,I60,L60,O60,R60,U60,X60)","v":-7.0000000000000001E-3},{"$f":"SUM(E60,H60,K60,N60,Q60,T60,W60,Z60)","v":-7.0000000000000001E-3},{"$f":"SUM(C61:Z61)","v":0},null,{"$f":"VLOOKUP(C59,PLACE2,5,FALSE)","v":{"$error":"#N/A"}}]
[null,{"$f":"SEED!J13","v":0},null,{"$f":"C60-E60","v":0},null,null,{"$f":"F60-H60","v":0},null,null,{"$f":"I60-K60","v":0},null,null,{"$f":"L60-N60","v":0},null,null,{"$f":"O60-Q60","v":0},null,null,{"$f":"R60-T60","v":0},null,null,{"$f":"U60-W60","v":0}]
[]
[]
[null,null,null,null,null,null,null,null,null,null,null,null,null,{"$f":"N2","v":"Tournament"}]
[null,null,null,null,null,null,null,null,null,{"$f":"NAMES!$C$9","v":"Date"}]
[null,null,null,null,null,null,null,null,null,{"$f":"J4","v":"Singles"}]
[]
[null,{"$f":"SEED!D16","v":"BLOCK 3"},{"$f":"SEED!D18","v":" Block 3 Player 1"},null,null,{"$f":"SEED!D19","v":" Block 3 Player 2"},null,null,{"$f":"SEED!D20","v":" Block 3 Player 3"},null,null,{"$f":"SEED!D21","v":" Block 3 Player 4"},null,null,{"$f":"SEED!D22","v":" Block 3 Player 5"},null,null,{"$f":"SEED!D23","v":" Block 3 Player 6"},null,null,{"$f":"SEED!D24","v":" Block 3 Player 7"},null,null,{"$f":"SEED!D25","v":" Bye "},null,null,null,"WINS","POINTS FOR","POINTS AGAINST","NET   POINTS",null,"BLOCK PLACE"]
[null,{"$f":"NAMES!C93","v":"Block 3"},"plyr1",null,null,null,{"$f":"IF(H69=1,\"W\",\"\")","v":""},{"$f":"IF(G71>0,1,0)","v":0},null,{"$f":"IF(K69=1,\"W\",\"\")","v":""},{"$f":"IF(J71>0,1,0)","v":0},null,{"$f":"IF(N69=1,\"W\",\"\")","v":""},{"$f":"IF(M71>0,1,0)","v":0},null,{"$f":"IF(Q69=1,\"W\",\"\")","v":""},{"$f":"IF(P71>0,1,0)","v":0},null,{"$f":"IF(T69=1,\"W\",\"\")","v":""},{"$f":"IF(S71>0,1,0)","v":0},null,{"$f":"IF(W69=1,\"W\",\"\")","v":""},{"$f":"IF(V71>0,1,0)","v":0},null,{"$f":"IF(Z69=1,\"W\",\"\")","v":""},{"$f":"IF(Y71>0,1,0)","v":0},null,null,null,null,null,null,null,null,null,"NAME","WINS","NET","FOR"]
[null,{"$f":"NAMES!C94","v":"Player 1"},null,null,null,{"$f":"SCORES!L173","v":-1E-3},{"$f":"RESULTS!$M$61","v":-1E-3},{"$f":"SCORES!L175","v":-1E-3},{"$f":"SCORES!D145","v":-1E-3},{"$f":"RESULTS!$E$53","v":-1E-3},{"$f":"SCORES!D147","v":-1E-3},{"$f":"SCORES!D173","v":-1E-3},{"$f":"RESULTS!$E$61","v":-1E-3},{"$f":"SCORES!D175","v":-1E-3},{"$f":"SCORES!D201","v":-1E-3},{"$f":"RESULTS!$E$69","v":-1E-3},{"$f":"SCORES!D203","v":-1E-3},{"$f":"SCORES!H159","v":-1E-3},{"$f":"RESULTS!$I$57","v":-1E-3},{"$f":"SCORES!H161","v":-1E-3},{"$f":"SCORES!H187","v":-1E-3},{"$f":"RESULTS!$I$65","v":-1E-3},{"$f":"SCORES!H189","v":-1E-3},{"$f":"SCORES!L145","v":-1E-3},{"$f":"RESULTS!$M$53","v":-1E-3},{"$f":"SCORES!L147","v":-1E-3},null,{"$f":"SUM(C69:Z69)","v":0},{"$f":"SUM(C70,F70,I70,L70,O70,R70,U70,X70)","v":-7.0000000000000001E-3},{"$f":"SUM(E70,H70,K70,N70,Q70,T70,W70,Z70)","v":-7.0000000000000001E-3},{"$f":"SUM(C71:Z71)","v":0},null,{"$f":"VLOOKUP(C69,PLACE3,5,FALSE)","v":7},null,null,{"$f":"$C$87","v":"plyr7"},{"$f":"$AB$88","v":0},{"$f":"$AE$88","v":0},{"$f":"$AC$88","v":-7.0000000000000001E-3},1]
[null,{"$f":"SEED!E18","v":0},null,null,null,null,{"$f":"F70-H70","v":0},null,null,{"$f":"I70-K70","v":0},null,null,{"$f":"L70-N70","v":0},null,null,{"$f":"O70-Q70","v":0},null,null,{"$f":"R70-T70","v":0},null,null,{"$f":"U70-W70","v":0},null,null,{"$f":"X70-Z70","v":0},null,null,null,null,null,null,null,null,null,null,{"$f":"$C$84","v":"plyr6"},{"$f":"$AB$85","v":0},{"$f":"$AE$85","v":0},{"$f":"$AC$85","v":-7.0000000000000001E-3},2]
[null,{"$f":"NAMES!C98","v":"Block 3"},"plyr2",{"$f":"IF(E72=1,\"W\",\"\")","v":""},{"$f":"IF(D74>0,1,0)","v":0},null,null,null,null,{"$f":"IF(K72=1,\"W\",\"\")","v":""},{"$f":"IF(J74>0,1,0)","v":0},null,{"$f":"IF(N72=1,\"W\",\"\")","v":""},{"$f":"IF(M74>0,1,0)","v":0},null,{"$f":"IF(Q72=1,\"W\",\"\")","v":""},{"$f":"IF(P74>0,1,0)","v":0},null,{"$f":"IF(T72=1,\"W\",\"\")","v":""},{"$f":"IF(S74>0,1,0)","v":0},null,{"$f":"IF(W72=1,\"W\",\"\")","v":""},{"$f":"IF(V74>0,1,0)","v":0},null,{"$f":"IF(Z72=1,\"W\",\"\")","v":""},{"$f":"IF(Y74>0,1,0)","v":0},null,null,null,null,null,null,null,null,null,{"$f":"$C$81","v":"plyr5"},{"$f":"$AB$82","v":0},{"$f":"$AE$82","v":0},{"$f":"$AC$82","v":-7.0000000000000001E-3},3]
[null,{"$f":"NAMES!C99","v":"Player 2"},{"$f":"H70","v":-1E-3},{"$f":"RESULTS!$M$62","v":-1E-3},{"$f":"F70","v":-1E-3},null,null,null,{"$f":"SCORES!H182","v":-1E-3},{"$f":"RESULTS!$I$64","v":-1E-3},{"$f":"SCORES!H180","v":-1E-3},{"$f":"SCORES!D152","v":-1E-3},{"$f":"RESULTS!$E$55","v":-1E-3},{"$f":"SCORES!D154","v":-1E-3},{"$f":"SCORES!H203","v":-1E-3},{"$f":"RESULTS!$I$70","v":-1E-3},{"$f":"SCORES!H201","v":-1E-3},{"$f":"SCORES!D187","v":-1E-3},{"$f":"RESULTS!$E$65","v":-1E-3},{"$f":"SCORES!D189","v":-1E-3},{"$f":"SCORES!L154","v":-1E-3},{"$f":"RESULTS!$M$56","v":-1E-3},{"$f":"SCORES!L152","v":-1E-3},{"$f":"SCORES!H152","v":-1E-3},{"$f":"RESULTS!$I$55","v":-1E-3},{"$f":"SCORES!H154","v":-1E-3},null,{"$f":"SUM(C72:Z72)","v":0},{"$f":"SUM(C73,F73,I73,L73,O73,R73,U73,X73)","v":-7.0000000000000001E-3},{"$f":"SUM(E73,H73,K73,N73,Q73,T73,W73,Z73)","v":-7.0000000000000001E-3},{"$f":"SUM(C74:Z74)","v":0},null,{"$f":"VLOOKUP(C72,PLACE3,5,FALSE)","v":6},null,null,{"$f":"$C$78","v":"plyr4"},{"$f":"$AB$79","v":0},{"$f":"$AE$79","v":0},{"$f":"$AC$79","v":-7.0000000000000001E-3},4]
[null,{"$f":"SEED!E19","v":0},null,{"$f":"C73-E73","v":0},null,null,null,null,null,{"$f":"I73-K73","v":0},null,null,{"$f":"L73-N73","v":0},null,null,{"$f":"O73-Q73","v":0},null,null,{"$f":"R73-T73","v":0},null,null,{"$f":"U73-W73","v":0},null,null,{"$f":"X73-Z73","v":0},null,null,null,null,null,null,null,null,null,null,{"$f":"$C$75","v":"plyr3"},{"$f":"$AB$76","v":0},{"$f":"$AE$76","v":0},{"$f":"$AC$76","v":-7.0000000000000001E-3},5]
[null,{"$f":"NAMES!C103","v":"Block 3"},"plyr3",{"$f":"IF(E75=1,\"W\",\"\")","v":""},{"$f":"IF(D77>0,1,0)","v":0},null,{"$f":"IF(H75=1,\"W\",\"\")","v":""},{"$f":"IF(G77>0,1,0)","v":0},null,null,null,null,{"$f":"IF(N75=1,\"W\",\"\")","v":""},{"$f":"IF(M77>0,1,0)","v":0},null,{"$f":"IF(Q75=1,\"W\",\"\")","v":""},{"$f":"IF(P77>0,1,0)","v":0},null,{"$f":"IF(T75=1,\"W\",\"\")","v":""},{"$f":"IF(S77>0,1,0)","v":0},null,{"$f":"IF(W75=1,\"W\",\"\")","v":""},{"$f":"IF(V77>0,1,0)","v":0},null,{"$f":"IF(Z75=1,\"W\",\"\")","v":""},{"$f":"IF(Y77>0,1,0)","v":0},null,null,null,null,null,null,null,null,null,{"$f":"$C$72","v":"plyr2"},{"$f":"$AB$73","v":0},{"$f":"$AE$73","v":0},{"$f":"$AC$73","v":-7.0000000000000001E-3},6]
[null,{"$f":"NAMES!C104","v":"Player 3"},{"$f":"K70","v":-1E-3},{"$f":"RESULTS!$E$54","v":-1E-3},{"$f":"I70","v":-1E-3},{"$f":"K73","v":-1E-3},{"$f":"RESULTS!$I$63","v":-1E-3},{"$f":"I73","v":-1E-3},null,null,null,{"$f":"SCORES!H210","v":-1E-3},{"$f":"RESULTS!$I$72","v":-1E-3},{"$f":"SCORES!H208","v":-1E-3},{"$f":"SCORES!D180","v":-1E-3},{"$f":"RESULTS!$E$63","v":-1E-3},{"$f":"SCORES!D182","v":-1E-3},{"$f":"SCORES!L161","v":-1E-3},{"$f":"RESULTS!$M$58","v":-1E-3},{"$f":"SCORES!L159","v":-1E-3},{"$f":"SCORES!H145","v":-1E-3},{"$f":"RESULTS!$I$53","v":-1E-3},{"$f":"SCORES!H147","v":-1E-3},{"$f":"SCORES!L182","v":-1E-3},{"$f":"RESULTS!$M$64","v":-1E-3},{"$f":"SCORES!L180","v":-1E-3},null,{"$f":"SUM(C75:Z75)","v":0},{"$f":"SUM(C76,F76,I76,L76,O76,R76,U76,X76)","v":-7.0000000000000001E-3},{"$f":"SUM(E76,H76,K76,N76,Q76,T76,W76,Z76)","v":-7.0000000000000001E-3},{"$f":"SUM(C77:Z77)","v":0},null,{"$f":"VLOOKUP(C75,PLACE3,5,FALSE)","v":5},null,null,{"$f":"$C$69","v":"plyr1"},{"$f":"$AB$70","v":0},{"$f":"$AE$70","v":0},{"$f":"$AC$70","v":-7.0000000000000001E-3},7]
[null,{"$f":"SEED!E20","v":0},null,{"$f":"C76-E76","v":0},null,null,{"$f":"F76-H76","v":0},null,null,null,null,null,{"$f":"L76-N76","v":0},null,null,{"$f":"O76-Q76","v":0},null,null,{"$f":"R76-T76","v":0},null,null,{"$f":"U76-W76","v":0},null,null,{"$f":"X76-Z76","v":0}]
[null,{"$f":"NAMES!C108","v":"Block 3"},"plyr4",{"$f":"IF(E78=1,\"W\",\"\")","v":""},{"$f":"IF(D80>0,1,0)","v":0},null,{"$f":"IF(H78=1,\"W\",\"\")","v":""},{"$f":"IF(G80>0,1,0)","v":0},null,{"$f":"IF(K78=1,\"W\",\"\")","v":""},{"$f":"IF(J80>0,1,0)","v":0},null,null,null,null,{"$f":"IF(Q78=1,\"W\",\"\")","v":""},{"$f":"IF(P80>0,1,0)","v":0},null,{"$f":"IF(T78=1,\"W\",\"\")","v":""},{"$f":"IF(S80>0,1,0)","v":0},null,{"$f":"IF(W78=1,\"W\",\"\")","v":""},{"$f":"IF(V80>0,1,0)","v":0},null,{"$f":"IF(Z78=1,\"W\",\"\")","v":""},{"$f":"IF(Y80>0,1,0)","v":0}]
[null,{"$f":"NAMES!C109","v":"Player 4"},{"$f":"N70","v":-1E-3},{"$f":"RESULTS!$E$62","v":-1E-3},{"$f":"L70","v":-1E-3},{"$f":"N73","v":-1E-3},{"$f":"RESULTS!$E$56","v":-1E-3},{"$f":"L73","v":-1E-3},{"$f":"N76","v":-1E-3},{"$f":"RESULTS!$I$71","v":-1E-3},{"$f":"L76","v":-1E-3},null,null,null,{"$f":"SCORES!L168","v":-1E-3},{"$f":"RESULTS!$M$60","v":-1E-3},{"$f":"SCORES!L166","v":-1E-3},{"$f":"SCORES!D208","v":-1E-3},{"$f":"RESULTS!$E$71","v":-1E-3},{"$f":"SCORES!D210","v":-1E-3},{"$f":"SCORES!L189","v":-1E-3},{"$f":"RESULTS!$M$66","v":-1E-3},{"$f":"SCORES!L187","v":-1E-3},{"$f":"SCORES!H173","v":-1E-3},{"$f":"RESULTS!$I$61","v":-1E-3},{"$f":"SCORES!H175","v":-1E-3},null,{"$f":"SUM(C78:Z78)","v":0},{"$f":"SUM(C79,F79,I79,L79,O79,R79,U79,X79)","v":-7.0000000000000001E-3},{"$f":"SUM(E79,H79,K79,N79,Q79,T79,W79,Z79)","v":-7.0000000000000001E-3},{"$f":"SUM(C80:Z80)","v":0},null,{"$f":"VLOOKUP(C78,PLACE3,5,FALSE)","v":4}]
[null,{"$f":"SEED!E21","v":0},null,{"$f":"C79-E79","v":0},null,null,{"$f":"F79-H79","v":0},null,null,{"$f":"I79-K79","v":0},null,null,null,null,null,{"$f":"O79-Q79","v":0},null,null,{"$f":"R79-T79","v":0},null,null,{"$f":"U79-W79","v":0},null,null,{"$f":"X79-Z79","v":0}]
[null,{"$f":"NAMES!C113","v":"Block 3"},"plyr5",{"$f":"IF(E81=1,\"W\",\"\")","v":""},{"$f":"IF(D83>0,1,0)","v":0},null,{"$f":"IF(H81=1,\"W\",\"\")","v":""},{"$f":"IF(G83>0,1,0)","v":0},null,{"$f":"IF(K81=1,\"W\",\"\")","v":""},{"$f":"IF(J83>0,1,0)","v":0},null,{"$f":"IF(N81=1,\"W\",\"\")","v":""},{"$f":"IF(M83>0,1,0)","v":0},null,null,null,null,{"$f":"IF(T81=1,\"W\",\"\")","v":""},{"$f":"IF(S83>0,1,0)","v":0},null,{"$f":"IF(W81=1,\"W\",\"\")","v":""},{"$f":"IF(V83>0,1,0)","v":0},null,{"$f":"IF(Z81=1,\"W\",\"\")","v":""},{"$f":"IF(Y83>0,1,0)","v":0}]
[null,{"$f":"NAMES!C114","v":"Player 5"},{"$f":"Q70","v":-1E-3},{"$f":"RESULTS!$E$70","v":-1E-3},{"$f":"O70","v":-1E-3},{"$f":"Q73","v":-1E-3},{"$f":"RESULTS!$I$69","v":-1E-3},{"$f":"O73","v":-1E-3},{"$f":"Q76","v":-1E-3},{"$f":"RESULTS!$E$64","v":-1E-3},{"$f":"O76","v":-1E-3},{"$f":"Q79","v":-1E-3},{"$f":"RESULTS!$M$59","v":-1E-3},{"$f":"O79","v":-1E-3},null,null,null,{"$f":"SCORES!L196","v":-1E-3},{"$f":"RESULTS!$M$68","v":-1E-3},{"$f":"SCORES!L194","v":-1E-3},{"$f":"SCORES!H166","v":-1E-3},{"$f":"RESULTS!$I$59","v":-1E-3},{"$f":"SCORES!H168","v":-1E-3},{"$f":"SCORES!D161","v":-1E-3},{"$f":"RESULTS!$E$58","v":-1E-3},{"$f":"SCORES!D159","v":-1E-3},null,{"$f":"SUM(C81:Z81)","v":0},{"$f":"SUM(C82,F82,I82,L82,O82,R82,U82,X82)","v":-7.0000000000000001E-3},{"$f":"SUM(E82,H82,K82,N82,Q82,T82,W82,Z82)","v":-7.0000000000000001E-3},{"$f":"SUM(C83:Z83)","v":0},null,{"$f":"VLOOKUP(C81,PLACE3,5,FALSE)","v":3}]
[null,{"$f":"SEED!E22","v":0},null,{"$f":"C82-E82","v":0},null,null,{"$f":"F82-H82","v":0},null,null,{"$f":"I82-K82","v":0},null,null,{"$f":"L82-N82","v":0},null,null,null,null,null,{"$f":"R82-T82","v":0},null,null,{"$f":"U82-W82","v":0},null,null,{"$f":"X82-Z82","v":0}]
[null,{"$f":"NAMES!C118","v":"Block 3"},"plyr6",{"$f":"IF(E84=1,\"W\",\"\")","v":""},{"$f":"IF(D86>0,1,0)","v":0},null,{"$f":"IF(H84=1,\"W\",\"\")","v":""},{"$f":"IF(G86>0,1,0)","v":0},null,{"$f":"IF(K84=1,\"W\",\"\")","v":""},{"$f":"IF(J86>0,1,0)","v":0},null,{"$f":"IF(N84=1,\"W\",\"\")","v":""},{"$f":"IF(M86>0,1,0)","v":0},null,{"$f":"IF(Q84=1,\"W\",\"\")","v":""},{"$f":"IF(P86>0,1,0)","v":0},null,null,null,null,{"$f":"IF(W84=1,\"W\",\"\")","v":""},{"$f":"IF(V86>0,1,0)","v":0},null,{"$f":"IF(Z84=1,\"W\",\"\")","v":""},{"$f":"IF(Y86>0,1,0)","v":0}]
[null,{"$f":"NAMES!C119","v":"Player 6"},{"$f":"T70","v":-1E-3},{"$f":"RESULTS!$I$58","v":-1E-3},{"$f":"R70","v":-1E-3},{"$f":"T73","v":-1E-3},{"$f":"RESULTS!$E$66","v":-1E-3},{"$f":"R73","v":-1E-3},{"$f":"T76","v":-1E-3},{"$f":"RESULTS!$M$57","v":-1E-3},{"$f":"R76","v":-1E-3},{"$f":"T79","v":-1E-3},{"$f":"RESULTS!$E$72","v":-1E-3},{"$f":"R79","v":-1E-3},{"$f":"T82","v":-1E-3},{"$f":"RESULTS!$M$67","v":-1E-3},{"$f":"R82","v":-1E-3},null,null,null,{"$f":"SCORES!D168","v":-1E-3},{"$f":"RESULTS!$E$60","v":-1E-3},{"$f":"SCORES!D166","v":-1E-3},{"$f":"SCORES!H194","v":-1E-3},{"$f":"RESULTS!$I$67","v":-1E-3},{"$f":"SCORES!H196","v":-1E-3},null,{"$f":"SUM(C84:Z84)","v":0},{"$f":"SUM(C85,F85,I85,L85,O85,R85,U85,X85)","v":-7.0000000000000001E-3},{"$f":"SUM(E85,H85,K85,N85,Q85,T85,W85,Z85)","v":-7.0000000000000001E-3},{"$f":"SUM(C86:Z86)","v":0},null,{"$f":"VLOOKUP(C84,PLACE3,5,FALSE)","v":2}]
[null,{"$f":"SEED!E23","v":0},null,{"$f":"C85-E85","v":0},null,null,{"$f":"F85-H85","v":0},null,null,{"$f":"I85-K85","v":0},null,null,{"$f":"L85-N85","v":0},null,null,{"$f":"O85-Q85","v":0},null,null,null,null,null,{"$f":"U85-W85","v":0},null,null,{"$f":"X85-Z85","v":0}]
[null,{"$f":"NAMES!C123","v":"Block 3"},"plyr7",{"$f":"IF(E87=1,\"W\",\"\")","v":""},{"$f":"IF(D89>0,1,0)","v":0},null,{"$f":"IF(H87=1,\"W\",\"\")","v":""},{"$f":"IF(G89>0,1,0)","v":0},null,{"$f":"IF(K87=1,\"W\",\"\")","v":""},{"$f":"IF(J89>0,1,0)","v":0},null,{"$f":"IF(N87=1,\"W\",\"\")","v":""},{"$f":"IF(M89>0,1,0)","v":0},null,{"$f":"IF(Q87=1,\"W\",\"\")","v":""},{"$f":"IF(P89>0,1,0)","v":0},null,{"$f":"IF(T87=1,\"W\",\"\")","v":""},{"$f":"IF(S89>0,1,0)","v":0},null,null,null,null,{"$f":"IF(Z87=1,\"W\",\"\")","v":""},{"$f":"IF(Y89>0,1,0)","v":0}]
[null,{"$f":"NAMES!C124","v":"Player 7"},{"$f":"W70","v":-1E-3},{"$f":"RESULTS!$I$66","v":-1E-3},{"$f":"U70","v":-1E-3},{"$f":"W73","v":-1E-3},{"$f":"RESULTS!$M$55","v":-1E-3},{"$f":"U73","v":-1E-3},{"$f":"W76","v":-1E-3},{"$f":"RESULTS!$I$54","v":-1E-3},{"$f":"U76","v":-1E-3},{"$f":"W79","v":-1E-3},{"$f":"RESULTS!$M$65","v":-1E-3},{"$f":"U79","v":-1E-3},{"$f":"W82","v":-1E-3},{"$f":"RESULTS!$I$60","v":-1E-3},{"$f":"U82","v":-1E-3},{"$f":"W85","v":-1E-3},{"$f":"RESULTS!$E$59","v":-1E-3},{"$f":"U85","v":-1E-3},null,null,null,{"$f":"SCORES!D196","v":-1E-3},{"$f":"RESULTS!$E$68","v":-1E-3},{"$f":"SCORES!D194","v":-1E-3},null,{"$f":"SUM(C87:Z87)","v":0},{"$f":"SUM(C88,F88,I88,L88,O88,R88,U88,X88)","v":-7.0000000000000001E-3},{"$f":"SUM(E88,H88,K88,N88,Q88,T88,W88,Z88)","v":-7.0000000000000001E-3},{"$f":"SUM(C89:Z89)","v":0},null,{"$f":"VLOOKUP(C87,PLACE3,5,FALSE)","v":1}]
[null,{"$f":"SEED!E24","v":0},null,{"$f":"C88-E88","v":0},null,null,{"$f":"F88-H88","v":0},null,null,{"$f":"I88-K88","v":0},null,null,{"$f":"L88-N88","v":0},null,null,{"$f":"O88-Q88","v":0},null,null,{"$f":"R88-T88","v":0},null,null,null,null,null,{"$f":"X88-Z88","v":0}]
[null,{"$f":"NAMES!C128","v":"Bye"},"plyr8",{"$f":"IF(E90=1,\"W\",\"\")","v":""},{"$f":"IF(D92>0,1,0)","v":0},null,{"$f":"IF(H90=1,\"W\",\"\")","v":""},{"$f":"IF(G92>0,1,0)","v":0},null,{"$f":"IF(K90=1,\"W\",\"\")","v":""},{"$f":"IF(J92>0,1,0)","v":0},null,{"$f":"IF(N90=1,\"W\",\"\")","v":""},{"$f":"IF(M92>0,1,0)","v":0},null,{"$f":"IF(Q90=1,\"W\",\"\")","v":""},{"$f":"IF(P92>0,1,0)","v":0},null,{"$f":"IF(T90=1,\"W\",\"\")","v":""},{"$f":"IF(S92>0,1,0)","v":0},null,{"$f":"IF(W90=1,\"W\",\"\")","v":""},{"$f":"IF(V92>0,1,0)","v":0}]
[null,{"$f":"NAMES!C129","v":0},{"$f":"Z70","v":-1E-3},{"$f":"RESULTS!$M$54","v":-1E-3},{"$f":"X70","v":-1E-3},{"$f":"Z73","v":-1E-3},{"$f":"RESULTS!$I$56","v":-1E-3},{"$f":"X73","v":-1E-3},{"$f":"Z76","v":-1E-3},{"$f":"RESULTS!$M$63","v":-1E-3},{"$f":"X76","v":-1E-3},{"$f":"Z79","v":-1E-3},{"$f":"RESULTS!$I$62","v":-1E-3},{"$f":"X79","v":-1E-3},{"$f":"Z82","v":-1E-3},{"$f":"RESULTS!$E$57","v":-1E-3},{"$f":"X82","v":-1E-3},{"$f":"Z85","v":-1E-3},{"$f":"RESULTS!$I$68","v":-1E-3},{"$f":"X85","v":-1E-3},{"$f":"Z88","v":-1E-3},{"$f":"RESULTS!$E$67","v":-1E-3},{"$f":"X88","v":-1E-3},null,null,null,null,{"$f":"SUM(C90:Z90)","v":0},{"$f":"SUM(C91,F91,I91,L91,O91,R91,U91,X91)","v":-7.0000000000000001E-3},{"$f":"SUM(E91,H91,K91,N91,Q91,T91,W91,Z91)","v":-7.0000000000000001E-3},{"$f":"SUM(C92:Z92)","v":0},null,{"$f":"VLOOKUP(C90,PLACE3,5,FALSE)","v":{"$error":"#N/A"}}]
[null,{"$f":"SEED!E25","v":0},null,{"$f":"C91-E91","v":0},null,null,{"$f":"F91-H91","v":0},null,null,{"$f":"I91-K91","v":0},null,null,{"$f":"L91-N91","v":0},null,null,{"$f":"O91-Q91","v":0},null,null,{"$f":"R91-T91","v":0},null,null,{"$f":"U91-W91","v":0}]
[]
[]
[null,null,null,null,null,null,null,null,null,null,null,null,null,{"$f":"N2","v":"Tournament"}]
[null,null,null,null,null,null,null,null,null,{"$f":"NAMES!$C$9","v":"Date"}]
[null,null,null,null,null,null,null,null,null,{"$f":"J4","v":"Singles"}]
[]
[null,{"$f":"SEED!I16","v":"BLOCK 4"},{"$f":"SEED!I18","v":" Block 4 Player 1"},null,null,{"$f":"SEED!I19","v":" Block 4 Player 2"},null,null,{"$f":"SEED!I20","v":" Block 4 Player 3"},null,null,{"$f":"SEED!I21","v":" Block 4 Player 4"},null,null,{"$f":"SEED!I22","v":" Block 4 Player 5"},null,null,{"$f":"SEED!I23","v":" Block 4 Player 6"},null,null,{"$f":"SEED!I24","v":" Block 4 Player 7"},null,null,{"$f":"SEED!I25","v":" Bye "},null,null,null," WINS"," POINTS FOR","POINTS AGAINST"," NET POINTS",null," PLACE"]
[null,{"$f":"NAMES!C134","v":"Block 4"},"plyr1",null,null,null,{"$f":"IF(H100=1,\"W\",\"\")","v":""},{"$f":"IF(G102>0,1,0)","v":0},null,{"$f":"IF(K100=1,\"W\",\"\")","v":""},{"$f":"IF(J102>0,1,0)","v":0},null,{"$f":"IF(N100=1,\"W\",\"\")","v":""},{"$f":"IF(M102>0,1,0)","v":0},null,{"$f":"IF(Q100=1,\"W\",\"\")","v":""},{"$f":"IF(P102>0,1,0)","v":0},null,{"$f":"IF(T100=1,\"W\",\"\")","v":""},{"$f":"IF(S102>0,1,0)","v":0},null,{"$f":"IF(W100=1,\"W\",\"\")","v":""},{"$f":"IF(V102>0,1,0)","v":0},null,{"$f":"IF(Z100=1,\"W\",\"\")","v":""},{"$f":"IF(Y102>0,1,0)","v":0},null,null,null,null,null,null,null,null,null,"NAME","WINS","NET","FOR"]
[null,{"$f":"NAMES!C135","v":"Player 1"},null,null,null,{"$f":"SCORES!L243","v":-1E-3},{"$f":"RESULTS!$M$85","v":-1E-3},{"$f":"SCORES!L245","v":-1E-3},{"$f":"SCORES!D215","v":-1E-3},{"$f":"RESULTS!$E$77","v":-1E-3},{"$f":"SCORES!D217","v":-1E-3},{"$f":"SCORES!D243","v":-1E-3},{"$f":"RESULTS!$E$85","v":-1E-3},{"$f":"SCORES!D245","v":-1E-3},{"$f":"SCORES!D271","v":-1E-3},{"$f":"RESULTS!$E$93","v":-1E-3},{"$f":"SCORES!D273","v":-1E-3},{"$f":"SCORES!H229","v":-1E-3},{"$f":"RESULTS!$I$81","v":-1E-3},{"$f":"SCORES!H231","v":-1E-3},{"$f":"SCORES!H257","v":-1E-3},{"$f":"RESULTS!$I$89","v":-1E-3},{"$f":"SCORES!H259","v":-1E-3},{"$f":"SCORES!L215","v":-1E-3},{"$f":"RESULTS!$M$77","v":-1E-3},{"$f":"SCORES!L217","v":-1E-3},null,{"$f":"SUM(C100:Z100)","v":0},{"$f":"SUM(C101,F101,I101,L101,O101,R101,U101,X101)","v":-7.0000000000000001E-3},{"$f":"SUM(E101,H101,K101,N101,Q101,T101,W101,Z101)","v":-7.0000000000000001E-3},{"$f":"SUM(C102:Z102)","v":0},null,{"$f":"VLOOKUP(C100,PLACE4,5,FALSE)","v":7},null,null,{"$f":"$C$118","v":"plyr7"},{"$f":"$AB$119","v":0},{"$f":"$AE$119","v":0},{"$f":"$AC$119","v":-7.0000000000000001E-3},1]
[null,{"$f":"SEED!J18","v":0},null,null,null,null,{"$f":"F101-H101","v":0},null,null,{"$f":"I101-K101","v":0},null,null,{"$f":"L101-N101","v":0},null,null,{"$f":"O101-Q101","v":0},null,null,{"$f":"R101-T101","v":0},null,null,{"$f":"U101-W101","v":0},null,null,{"$f":"X101-Z101","v":0},null,null,null,null,null,null,null,null,null,null,{"$f":"$C$115","v":"plyr6"},{"$f":"$AB$116","v":0},{"$f":"$AE$116","v":0},{"$f":"$AC$116","v":-7.0000000000000001E-3},2]
[null,{"$f":"NAMES!C139","v":"Block 4"},"plyr2",{"$f":"IF(E103=1,\"W\",\"\")","v":""},{"$f":"IF(D105>0,1,0)","v":0},null,null,null,null,{"$f":"IF(K103=1,\"W\",\"\")","v":""},{"$f":"IF(J105>0,1,0)","v":0},null,{"$f":"IF(N103=1,\"W\",\"\")","v":""},{"$f":"IF(M105>0,1,0)","v":0},null,{"$f":"IF(Q103=1,\"W\",\"\")","v":""},{"$f":"IF(P105>0,1,0)","v":0},null,{"$f":"IF(T103=1,\"W\",\"\")","v":""},{"$f":"IF(S105>0,1,0)","v":0},null,{"$f":"IF(W103=1,\"W\",\"\")","v":""},{"$f":"IF(V105>0,1,0)","v":0},null,{"$f":"IF(Z103=1,\"W\",\"\")","v":""},{"$f":"IF(Y105>0,1,0)","v":0},null,null,null,null,null,null,null,null,null,{"$f":"$C$112","v":"plyr5"},{"$f":"$AB$113","v":0},{"$f":"$AE$113","v":0},{"$f":"$AC$113","v":-7.0000000000000001E-3},3]
[null,{"$f":"NAMES!C140","v":"Player 2"},{"$f":"H101","v":-1E-3},{"$f":"RESULTS!$M$86","v":-1E-3},{"$f":"F101","v":-1E-3},null,null,null,{"$f":"SCORES!H252","v":-1E-3},{"$f":"RESULTS!$I$88","v":-1E-3},{"$f":"SCORES!H250","v":-1E-3},{"$f":"SCORES!D222","v":-1E-3},{"$f":"RESULTS!$E$79","v":-1E-3},{"$f":"SCORES!D224","v":-1E-3},{"$f":"SCORES!H273","v":-1E-3},{"$f":"RESULTS!$I$94","v":-1E-3},{"$f":"SCORES!H271","v":-1E-3},{"$f":"SCORES!D257","v":-1E-3},{"$f":"RESULTS!$E$89","v":-1E-3},{"$f":"SCORES!D259","v":-1E-3},{"$f":"SCORES!L224","v":-1E-3},{"$f":"RESULTS!$M$80","v":-1E-3},{"$f":"SCORES!L222","v":-1E-3},{"$f":"SCORES!H222","v":-1E-3},{"$f":"RESULTS!$I$79","v":-1E-3},{"$f":"SCORES!H224","v":-1E-3},null,{"$f":"SUM(C103:Z103)","v":0},{"$f":"SUM(C104,F104,I104,L104,O104,R104,U104,X104)","v":-7.0000000000000001E-3},{"$f":"SUM(E104,H104,K104,N104,Q104,T104,W104,Z104)","v":-7.0000000000000001E-3},{"$f":"SUM(C105:Z105)","v":0},null,{"$f":"VLOOKUP(C103,PLACE4,5,FALSE)","v":6},null,null,{"$f":"$C$109","v":"plyr4"},{"$f":"$AB$110","v":0},{"$f":"$AE$110","v":0},{"$f":"$AC$110","v":-7.0000000000000001E-3},4]
[null,{"$f":"SEED!J19","v":0},null,{"$f":"C104-E104","v":0},null,null,null,null,null,{"$f":"I104-K104","v":0},null,null,{"$f":"L104-N104","v":0},null,null,{"$f":"O104-Q104","v":0},null,null,{"$f":"R104-T104","v":0},null,null,{"$f":"U104-W104","v":0},null,null,{"$f":"X104-Z104","v":0},null,null,null,null,null,null,null,null,null,null,{"$f":"$C$106","v":"plyr3"},{"$f":"$AB$107","v":0},{"$f":"$AE$107","v":0},{"$f":"$AC$107","v":-7.0000000000000001E-3},5]
[null,{"$f":"NAMES!C144","v":"Block 4"},"plyr3",{"$f":"IF(E106=1,\"W\",\"\")","v":""},{"$f":"IF(D108>0,1,0)","v":0},null,{"$f":"IF(H106=1,\"W\",\"\")","v":""},{"$f":"IF(G108>0,1,0)","v":0},null,null,null,null,{"$f":"IF(N106=1,\"W\",\"\")","v":""},{"$f":"IF(M108>0,1,0)","v":0},null,{"$f":"IF(Q106=1,\"W\",\"\")","v":""},{"$f":"IF(P108>0,1,0)","v":0},null,{"$f":"IF(T106=1,\"W\",\"\")","v":""},{"$f":"IF(S108>0,1,0)","v":0},null,{"$f":"IF(W106=1,\"W\",\"\")","v":""},{"$f":"IF(V108>0,1,0)","v":0},null,{"$f":"IF(Z106=1,\"W\",\"\")","v":""},{"$f":"IF(Y108>0,1,0)","v":0},null,null,null,null,null,null,null,null,null,{"$f":"$C$103","v":"plyr2"},{"$f":"$AB$104","v":0},{"$f":"$AE$104","v":0},{"$f":"$AC$104","v":-7.0000000000000001E-3},6]
[null,{"$f":"NAMES!C145","v":"Player 3"},{"$f":"K101","v":-1E-3},{"$f":"RESULTS!$E$78","v":-1E-3},{"$f":"I101","v":-1E-3},{"$f":"K104","v":-1E-3},{"$f":"RESULTS!$I$87","v":-1E-3},{"$f":"I104","v":-1E-3},null,null,null,{"$f":"SCORES!H280","v":-1E-3},{"$f":"RESULTS!$I$96","v":-1E-3},{"$f":"SCORES!H278","v":-1E-3},{"$f":"SCORES!D250","v":-1E-3},{"$f":"RESULTS!$E$87","v":-1E-3},{"$f":"SCORES!D252","v":-1E-3},{"$f":"SCORES!L231","v":-1E-3},{"$f":"RESULTS!$M$82","v":-1E-3},{"$f":"SCORES!L229","v":-1E-3},{"$f":"SCORES!H215","v":-1E-3},{"$f":"RESULTS!$I$77","v":-1E-3},{"$f":"SCORES!H217","v":-1E-3},{"$f":"SCORES!L252","v":-1E-3},{"$f":"RESULTS!$M$88","v":-1E-3},{"$f":"SCORES!L250","v":-1E-3},null,{"$f":"SUM(C106:Z106)","v":0},{"$f":"SUM(C107,F107,I107,L107,O107,R107,U107,X107)","v":-7.0000000000000001E-3},{"$f":"SUM(E107,H107,K107,N107,Q107,T107,W107,Z107)","v":-7.0000000000000001E-3},{"$f":"SUM(C108:Z108)","v":0},null,{"$f":"VLOOKUP(C106,PLACE4,5,FALSE)","v":5},null,null,{"$f":"$C$100","v":"plyr1"},{"$f":"$AB$101","v":0},{"$f":"$AE$101","v":0},{"$f":"$AC$101","v":-7.0000000000000001E-3},7]
[null,{"$f":"SEED!J20","v":0},null,{"$f":"C107-E107","v":0},null,null,{"$f":"F107-H107","v":0},null,null,null,null,null,{"$f":"L107-N107","v":0},null,null,{"$f":"O107-Q107","v":0},null,null,{"$f":"R107-T107","v":0},null,null,{"$f":"U107-W107","v":0},null,null,{"$f":"X107-Z107","v":0}]
[null,{"$f":"NAMES!C149","v":"Block 4"},"plyr4",{"$f":"IF(E109=1,\"W\",\"\")","v":""},{"$f":"IF(D111>0,1,0)","v":0},null,{"$f":"IF(H109=1,\"W\",\"\")","v":""},{"$f":"IF(G111>0,1,0)","v":0},null,{"$f":"IF(K109=1,\"W\",\"\")","v":""},{"$f":"IF(J111>0,1,0)","v":0},null,null,null,null,{"$f":"IF(Q109=1,\"W\",\"\")","v":""},{"$f":"IF(P111>0,1,0)","v":0},null,{"$f":"IF(T109=1,\"W\",\"\")","v":""},{"$f":"IF(S111>0,1,0)","v":0},null,{"$f":"IF(W109=1,\"W\",\"\")","v":""},{"$f":"IF(V111>0,1,0)","v":0},null,{"$f":"IF(Z109=1,\"W\",\"\")","v":""},{"$f":"IF(Y111>0,1,0)","v":0}]
[null,{"$f":"NAMES!C150","v":"Player 4"},{"$f":"N101","v":-1E-3},{"$f":"RESULTS!$E$86","v":-1E-3},{"$f":"L101","v":-1E-3},{"$f":"N104","v":-1E-3},{"$f":"RESULTS!$E$80","v":-1E-3},{"$f":"L104","v":-1E-3},{"$f":"N107","v":-1E-3},{"$f":"RESULTS!$I$95","v":-1E-3},{"$f":"L107","v":-1E-3},null,null,null,{"$f":"SCORES!L238","v":-1E-3},{"$f":"RESULTS!$M$84","v":-1E-3},{"$f":"SCORES!L236","v":-1E-3},{"$f":"SCORES!D278","v":-1E-3},{"$f":"RESULTS!$E$95","v":-1E-3},{"$f":"SCORES!D280","v":-1E-3},{"$f":"SCORES!L259","v":-1E-3},{"$f":"RESULTS!$M$90","v":-1E-3},{"$f":"SCORES!L257","v":-1E-3},{"$f":"SCORES!H243","v":-1E-3},{"$f":"RESULTS!$I$85","v":-1E-3},{"$f":"SCORES!H245","v":-1E-3},null,{"$f":"SUM(C109:Z109)","v":0},{"$f":"SUM(C110,F110,I110,L110,O110,R110,U110,X110)","v":-7.0000000000000001E-3},{"$f":"SUM(E110,H110,K110,N110,Q110,T110,W110,Z110)","v":-7.0000000000000001E-3},{"$f":"SUM(C111:Z111)","v":0},null,{"$f":"VLOOKUP(C109,PLACE4,5,FALSE)","v":4}]
[null,{"$f":"SEED!J21","v":0},null,{"$f":"C110-E110","v":0},null,null,{"$f":"F110-H110","v":0},null,null,{"$f":"I110-K110","v":0},null,null,null,null,null,{"$f":"O110-Q110","v":0},null,null,{"$f":"R110-T110","v":0},null,null,{"$f":"U110-W110","v":0},null,null,{"$f":"X110-Z110","v":0}]
[null,{"$f":"NAMES!C154","v":"Block 4"},"plyr5",{"$f":"IF(E112=1,\"W\",\"\")","v":""},{"$f":"IF(D114>0,1,0)","v":0},null,{"$f":"IF(H112=1,\"W\",\"\")","v":""},{"$f":"IF(G114>0,1,0)","v":0},null,{"$f":"IF(K112=1,\"W\",\"\")","v":""},{"$f":"IF(J114>0,1,0)","v":0},null,{"$f":"IF(N112=1,\"W\",\"\")","v":""},{"$f":"IF(M114>0,1,0)","v":0},null,null,null,null,{"$f":"IF(T112=1,\"W\",\"\")","v":""},{"$f":"IF(S114>0,1,0)","v":0},null,{"$f":"IF(W112=1,\"W\",\"\")","v":""},{"$f":"IF(V114>0,1,0)","v":0},null,{"$f":"IF(Z112=1,\"W\",\"\")","v":""},{"$f":"IF(Y114>0,1,0)","v":0}]
[null,{"$f":"NAMES!C155","v":"Player 5"},{"$f":"Q101","v":-1E-3},{"$f":"RESULTS!$E$94","v":-1E-3},{"$f":"O101","v":-1E-3},{"$f":"Q104","v":-1E-3},{"$f":"RESULTS!$I$93","v":-1E-3},{"$f":"O104","v":-1E-3},{"$f":"Q107","v":-1E-3},{"$f":"RESULTS!$E$88","v":-1E-3},{"$f":"O107","v":-1E-3},{"$f":"Q110","v":-1E-3},{"$f":"RESULTS!$M$83","v":-1E-3},{"$f":"O110","v":-1E-3},null,null,null,{"$f":"SCORES!L266","v":-1E-3},{"$f":"RESULTS!$M$92","v":-1E-3},{"$f":"SCORES!L264","v":-1E-3},{"$f":"SCORES!H236","v":-1E-3},{"$f":"RESULTS!$I$83","v":-1E-3},{"$f":"SCORES!H238","v":-1E-3},{"$f":"SCORES!D231","v":-1E-3},{"$f":"RESULTS!$E$82","v":-1E-3},{"$f":"SCORES!D229","v":-1E-3},null,{"$f":"SUM(C112:Z112)","v":0},{"$f":"SUM(C113,F113,I113,L113,O113,R113,U113,X113)","v":-7.0000000000000001E-3},{"$f":"SUM(E113,H113,K113,N113,Q113,T113,W113,Z113)","v":-7.0000000000000001E-3},{"$f":"SUM(C114:Z114)","v":0},null,{"$f":"VLOOKUP(C112,PLACE4,5,FALSE)","v":3}]
[null,{"$f":"SEED!J22","v":0},null,{"$f":"C113-E113","v":0},null,null,{"$f":"F113-H113","v":0},null,null,{"$f":"I113-K113","v":0},null,null,{"$f":"L113-N113","v":0},null,null,null,null,null,{"$f":"R113-T113","v":0},null,null,{"$f":"U113-W113","v":0},null,null,{"$f":"X113-Z113","v":0}]
[null,{"$f":"NAMES!C159","v":"Block 4"},"plyr6",{"$f":"IF(E115=1,\"W\",\"\")","v":""},{"$f":"IF(D117>0,1,0)","v":0},null,{"$f":"IF(H115=1,\"W\",\"\")","v":""},{"$f":"IF(G117>0,1,0)","v":0},null,{"$f":"IF(K115=1,\"W\",\"\")","v":""},{"$f":"IF(J117>0,1,0)","v":0},null,{"$f":"IF(N115=1,\"W\",\"\")","v":""},{"$f":"IF(M117>0,1,0)","v":0},null,{"$f":"IF(Q115=1,\"W\",\"\")","v":""},{"$f":"IF(P117>0,1,0)","v":0},null,null,null,null,{"$f":"IF(W115=1,\"W\",\"\")","v":""},{"$f":"IF(V117>0,1,0)","v":0},null,{"$f":"IF(Z115=1,\"W\",\"\")","v":""},{"$f":"IF(Y117>0,1,0)","v":0}]
[null,{"$f":"NAMES!C160","v":"Player 6"},{"$f":"T101","v":-1E-3},{"$f":"RESULTS!$I$82","v":-1E-3},{"$f":"R101","v":-1E-3},{"$f":"T104","v":-1E-3},{"$f":"RESULTS!$E$90","v":-1E-3},{"$f":"R104","v":-1E-3},{"$f":"T107","v":-1E-3},{"$f":"RESULTS!$M$81","v":-1E-3},{"$f":"R107","v":-1E-3},{"$f":"T110","v":-1E-3},{"$f":"RESULTS!$E$96","v":-1E-3},{"$f":"R110","v":-1E-3},{"$f":"T113","v":-1E-3},{"$f":"RESULTS!$M$91","v":-1E-3},{"$f":"R113","v":-1E-3},null,null,null,{"$f":"SCORES!D238","v":-1E-3},{"$f":"RESULTS!$E$84","v":-1E-3},{"$f":"SCORES!D236","v":-1E-3},{"$f":"SCORES!H264","v":-1E-3},{"$f":"RESULTS!$I$91","v":-1E-3},{"$f":"SCORES!H266","v":-1E-3},null,{"$f":"SUM(C115:Z115)","v":0},{"$f":"SUM(C116,F116,I116,L116,O116,R116,U116,X116)","v":-7.0000000000000001E-3},{"$f":"SUM(E116,H116,K116,N116,Q116,T116,W116,Z116)","v":-7.0000000000000001E-3},{"$f":"SUM(C117:Z117)","v":0},null,{"$f":"VLOOKUP(C115,PLACE4,5,FALSE)","v":2}]
[null,{"$f":"SEED!J23","v":0},null,{"$f":"C116-E116","v":0},null,null,{"$f":"F116-H116","v":0},null,null,{"$f":"I116-K116","v":0},null,null,{"$f":"L116-N116","v":0},null,null,{"$f":"O116-Q116","v":0},null,null,null,null,null,{"$f":"U116-W116","v":0},null,null,{"$f":"X116-Z116","v":0}]
[null,{"$f":"NAMES!C164","v":"Block 4"},"plyr7",{"$f":"IF(E118=1,\"W\",\"\")","v":""},{"$f":"IF(D120>0,1,0)","v":0},null,{"$f":"IF(H118=1,\"W\",\"\")","v":""},{"$f":"IF(G120>0,1,0)","v":0},null,{"$f":"IF(K118=1,\"W\",\"\")","v":""},{"$f":"IF(J120>0,1,0)","v":0},null,{"$f":"IF(N118=1,\"W\",\"\")","v":""},{"$f":"IF(M120>0,1,0)","v":0},null,{"$f":"IF(Q118=1,\"W\",\"\")","v":""},{"$f":"IF(P120>0,1,0)","v":0},null,{"$f":"IF(T118=1,\"W\",\"\")","v":""},{"$f":"IF(S120>0,1,0)","v":0},null,null,null,null,{"$f":"IF(Z118=1,\"W\",\"\")","v":""},{"$f":"IF(Y120>0,1,0)","v":0}]
[null,{"$f":"NAMES!C165","v":"Player 7"},{"$f":"W101","v":-1E-3},{"$f":"RESULTS!$I$90","v":-1E-3},{"$f":"U101","v":-1E-3},{"$f":"W104","v":-1E-3},{"$f":"RESULTS!$M$79","v":-1E-3},{"$f":"U104","v":-1E-3},{"$f":"W107","v":-1E-3},{"$f":"RESULTS!$I$78","v":-1E-3},{"$f":"U107","v":-1E-3},{"$f":"W110","v":-1E-3},{"$f":"RESULTS!$M$89","v":-1E-3},{"$f":"U110","v":-1E-3},{"$f":"W113","v":-1E-3},{"$f":"RESULTS!$I$84","v":-1E-3},{"$f":"U113","v":-1E-3},{"$f":"W116","v":-1E-3},{"$f":"RESULTS!$E$83","v":-1E-3},{"$f":"U116","v":-1E-3},null,null,null,{"$f":"SCORES!D266","v":-1E-3},{"$f":"RESULTS!$E$92","v":-1E-3},{"$f":"SCORES!D264","v":-1E-3},null,{"$f":"SUM(C118:Z118)","v":0},{"$f":"SUM(C119,F119,I119,L119,O119,R119,U119,X119)","v":-7.0000000000000001E-3},{"$f":"SUM(E119,H119,K119,N119,Q119,T119,W119,Z119)","v":-7.0000000000000001E-3},{"$f":"SUM(C120:Z120)","v":0},null,{"$f":"VLOOKUP(C118,PLACE4,5,FALSE)","v":1}]
[null,{"$f":"SEED!J24","v":0},null,{"$f":"C119-E119","v":0},null,null,{"$f":"F119-H119","v":0},null,null,{"$f":"I119-K119","v":0},null,null,{"$f":"L119-N119","v":0},null,null,{"$f":"O119-Q119","v":0},null,null,{"$f":"R119-T119","v":0},null,null,null,null,null,{"$f":"X119-Z119","v":0}]
[null,{"$f":"NAMES!C169","v":"Bye"},"plyr8",{"$f":"IF(E121=1,\"W\",\"\")","v":""},{"$f":"IF(D123>0,1,0)","v":0},null,{"$f":"IF(H121=1,\"W\",\"\")","v":""},{"$f":"IF(G123>0,1,0)","v":0},null,{"$f":"IF(K121=1,\"W\",\"\")","v":""},{"$f":"IF(J123>0,1,0)","v":0},null,{"$f":"IF(N121=1,\"W\",\"\")","v":""},{"$f":"IF(M123>0,1,0)","v":0},null,{"$f":"IF(Q121=1,\"W\",\"\")","v":""},{"$f":"IF(P123>0,1,0)","v":0},null,{"$f":"IF(T121=1,\"W\",\"\")","v":""},{"$f":"IF(S123>0,1,0)","v":0},null,{"$f":"IF(W121=1,\"W\",\"\")","v":""},{"$f":"IF(V123>0,1,0)","v":0}]
[null,{"$f":"NAMES!C170","v":0},{"$f":"Z101","v":-1E-3},{"$f":"RESULTS!$M$78","v":-1E-3},{"$f":"X101","v":-1E-3},{"$f":"Z104","v":-1E-3},{"$f":"RESULTS!$I$80","v":-1E-3},{"$f":"X104","v":-1E-3},{"$f":"Z107","v":-1E-3},{"$f":"RESULTS!$M$87","v":-1E-3},{"$f":"X107","v":-1E-3},{"$f":"Z110","v":-1E-3},{"$f":"RESULTS!$I$86","v":-1E-3},{"$f":"X110","v":-1E-3},{"$f":"Z113","v":-1E-3},{"$f":"RESULTS!$E$81","v":-1E-3},{"$f":"X113","v":-1E-3},{"$f":"Z116","v":-1E-3},{"$f":"RESULTS!$I$92","v":-1E-3},{"$f":"X116","v":-1E-3},{"$f":"Z119","v":-1E-3},{"$f":"RESULTS!$E$91","v":-1E-3},{"$f":"X119","v":-1E-3},null,null,null,null,{"$f":"SUM(C121:Z121)","v":0},{"$f":"SUM(C122,F122,I122,L122,O122,R122,U122,X122)","v":-7.0000000000000001E-3},{"$f":"SUM(E122,H122,K122,N122,Q122,T122,W122,Z122)","v":-7.0000000000000001E-3},{"$f":"SUM(C123:Z123)","v":0},null,{"$f":"VLOOKUP(C121,PLACE4,5,FALSE)","v":{"$error":"#N/A"}}]
[null,{"$f":"SEED!J25","v":0},null,{"$f":"C122-E122","v":0},null,null,{"$f":"F122-H122","v":0},null,null,{"$f":"I122-K122","v":0},null,null,{"$f":"L122-N122","v":0},null,null,{"$f":"O122-Q122","v":0},null,null,{"$f":"R122-T122","v":0},null,null,{"$f":"U122-W122","v":0}]
[]
[]
[null,null,null,null,null,null,null,null,null,null,null,null,null,{"$f":"N2","v":"Tournament"}]
[null,null,null,null,null,null,null,null,null,{"$f":"NAMES!$C$9","v":"Date"}]
[null,null,null,null,null,null,null,null,null,{"$f":"J4","v":"Singles"}]
[]
[null,{"$f":"SEED!D28","v":"BLOCK 5"},{"$f":"SEED!D30","v":" Block 5 Player 1"},null,null,{"$f":"SEED!D31","v":" Block 5 Player 2"},null,null,{"$f":"SEED!D32","v":" Block 5 Player 3"},null,null,{"$f":"SEED!D33","v":" Block 5 Player 4"},null,null,{"$f":"SEED!D34","v":" Block 5 Player 5"},null,null,{"$f":"SEED!D35","v":" Block 5 Player 6"},null,null,{"$f":"SEED!D36","v":" Block 5 Player 7"},null,null,{"$f":"SEED!D37","v":" Bye "},null,null,null," WINS"," POINTS FOR","POINTS AGAINST"," NET POINTS",null," PLACE"]
[null,{"$f":"NAMES!C175","v":"Block 5"},"plyr1",null,null,null,{"$f":"IF(H131=1,\"W\",\"\")","v":""},{"$f":"IF(G133>0,1,0)","v":0},null,{"$f":"IF(K131=1,\"W\",\"\")","v":""},{"$f":"IF(J133>0,1,0)","v":0},null,{"$f":"IF(N131=1,\"W\",\"\")","v":""},{"$f":"IF(M133>0,1,0)","v":0},null,{"$f":"IF(Q131=1,\"W\",\"\")","v":""},{"$f":"IF(P133>0,1,0)","v":0},null,{"$f":"IF(T131=1,\"W\",\"\")","v":""},{"$f":"IF(S133>0,1,0)","v":0},null,{"$f":"IF(W131=1,\"W\",\"\")","v":""},{"$f":"IF(V133>0,1,0)","v":0},null,{"$f":"IF(Z131=1,\"W\",\"\")","v":""},{"$f":"IF(Y133>0,1,0)","v":0},null,null,null,null,null,null,null,null,null,"NAME","WINS","NET","FOR"]
[null,{"$f":"NAMES!C176","v":"Player 1"},null,null,null,{"$f":"SCORES!L313","v":-1E-3},{"$f":"RESULTS!$M$109","v":-1E-3},{"$f":"SCORES!L315","v":-1E-3},{"$f":"SCORES!D285","v":-1E-3},{"$f":"RESULTS!$E$101","v":-1E-3},{"$f":"SCORES!D287","v":-1E-3},{"$f":"SCORES!D313","v":-1E-3},{"$f":"RESULTS!$E$109","v":-1E-3},{"$f":"SCORES!D315","v":-1E-3},{"$f":"SCORES!D341","v":-1E-3},{"$f":"RESULTS!$E$117","v":-1E-3},{"$f":"SCORES!D343","v":-1E-3},{"$f":"SCORES!H299","v":-1E-3},{"$f":"RESULTS!$I$105","v":-1E-3},{"$f":"SCORES!H301","v":-1E-3},{"$f":"SCORES!H327","v":-1E-3},{"$f":"RESULTS!$I$113","v":-1E-3},{"$f":"SCORES!H329","v":-1E-3},{"$f":"SCORES!L285","v":-1E-3},{"$f":"RESULTS!$M$101","v":-1E-3},{"$f":"SCORES!L287","v":-1E-3},null,{"$f":"SUM(C131:Z131)","v":0},{"$f":"SUM(C132,F132,I132,L132,O132,R132,U132,X132)","v":-7.0000000000000001E-3},{"$f":"SUM(E132,H132,K132,N132,Q132,T132,W132,Z132)","v":-7.0000000000000001E-3},{"$f":"SUM(C133:Z133)","v":0},null,{"$f":"VLOOKUP(C131,PLACE5,5,FALSE)","v":7},null,null,{"$f":"$C$149","v":"plyr7"},{"$f":"$AB$150","v":0},{"$f":"$AE$150","v":0},{"$f":"$AC$150","v":-7.0000000000000001E-3},1]
[null,{"$f":"SEED!E30","v":0},null,null,null,null,{"$f":"F132-H132","v":0},null,null,{"$f":"I132-K132","v":0},null,null,{"$f":"L132-N132","v":0},null,null,{"$f":"O132-Q132","v":0},null,null,{"$f":"R132-T132","v":0},null,null,{"$f":"U132-W132","v":0},null,null,{"$f":"X132-Z132","v":0},null,null,null,null,null,null,null,null,null,null,{"$f":"$C$146","v":"plyr6"},{"$f":"$AB$147","v":0},{"$f":"$AE$147","v":0},{"$f":"$AC$147","v":-7.0000000000000001E-3},2]
[null,{"$f":"NAMES!C180","v":"Block 5"},"plyr2",{"$f":"IF(E134=1,\"W\",\"\")","v":""},{"$f":"IF(D136>0,1,0)","v":0},null,null,null,null,{"$f":"IF(K134=1,\"W\",\"\")","v":""},{"$f":"IF(J136>0,1,0)","v":0},null,{"$f":"IF(N134=1,\"W\",\"\")","v":""},{"$f":"IF(M136>0,1,0)","v":0},null,{"$f":"IF(Q134=1,\"W\",\"\")","v":""},{"$f":"IF(P136>0,1,0)","v":0},null,{"$f":"IF(T134=1,\"W\",\"\")","v":""},{"$f":"IF(S136>0,1,0)","v":0},null,{"$f":"IF(W134=1,\"W\",\"\")","v":""},{"$f":"IF(V136>0,1,0)","v":0},null,{"$f":"IF(Z134=1,\"W\",\"\")","v":""},{"$f":"IF(Y136>0,1,0)","v":0},null,null,null,null,null,null,null,null,null,{"$f":"$C$143","v":"plyr5"},{"$f":"$AB$144","v":0},{"$f":"$AE$144","v":0},{"$f":"$AC$144","v":-7.0000000000000001E-3},3]
[null,{"$f":"NAMES!C181","v":"Player 2"},{"$f":"H132","v":-1E-3},{"$f":"RESULTS!$M$110","v":-1E-3},{"$f":"F132","v":-1E-3},null,null,null,{"$f":"SCORES!H322","v":-1E-3},{"$f":"RESULTS!$I$112","v":-1E-3},{"$f":"SCORES!H320","v":-1E-3},{"$f":"SCORES!D292","v":-1E-3},{"$f":"RESULTS!$E$103","v":-1E-3},{"$f":"SCORES!D294","v":-1E-3},{"$f":"SCORES!H343","v":-1E-3},{"$f":"RESULTS!$I$118","v":-1E-3},{"$f":"SCORES!H341","v":-1E-3},{"$f":"SCORES!D327","v":-1E-3},{"$f":"RESULTS!$E$113","v":-1E-3},{"$f":"SCORES!D329","v":-1E-3},{"$f":"SCORES!L294","v":-1E-3},{"$f":"RESULTS!$M$104","v":-1E-3},{"$f":"SCORES!L292","v":-1E-3},{"$f":"SCORES!H292","v":-1E-3},{"$f":"RESULTS!$I$103","v":-1E-3},{"$f":"SCORES!H294","v":-1E-3},null,{"$f":"SUM(C134:Z134)","v":0},{"$f":"SUM(C135,F135,I135,L135,O135,R135,U135,X135)","v":-7.0000000000000001E-3},{"$f":"SUM(E135,H135,K135,N135,Q135,T135,W135,Z135)","v":-7.0000000000000001E-3},{"$f":"SUM(C136:Z136)","v":0},null,{"$f":"VLOOKUP(C134,PLACE5,5,FALSE)","v":6},null,null,{"$f":"$C$140","v":"plyr4"},{"$f":"$AB$141","v":0},{"$f":"$AE$141","v":0},{"$f":"$AC$141","v":-7.0000000000000001E-3},4]
[null,{"$f":"SEED!E31","v":0},null,{"$f":"C135-E135","v":0},null,null,null,null,null,{"$f":"I135-K135","v":0},null,null,{"$f":"L135-N135","v":0},null,null,{"$f":"O135-Q135","v":0},null,null,{"$f":"R135-T135","v":0},null,null,{"$f":"U135-W135","v":0},null,null,{"$f":"X135-Z135","v":0},null,null,null,null,null,null,null,null,null,null,{"$f":"$C$137","v":"plyr3"},{"$f":"$AB$138","v":0},{"$f":"$AE$138","v":0},{"$f":"$AC$138","v":-7.0000000000000001E-3},5]
[null,{"$f":"NAMES!C185","v":"Block 5"},"plyr3",{"$f":"IF(E137=1,\"W\",\"\")","v":""},{"$f":"IF(D139>0,1,0)","v":0},null,{"$f":"IF(H137=1,\"W\",\"\")","v":""},{"$f":"IF(G139>0,1,0)","v":0},null,null,null,null,{"$f":"IF(N137=1,\"W\",\"\")","v":""},{"$f":"IF(M139>0,1,0)","v":0},null,{"$f":"IF(Q137=1,\"W\",\"\")","v":""},{"$f":"IF(P139>0,1,0)","v":0},null,{"$f":"IF(T137=1,\"W\",\"\")","v":""},{"$f":"IF(S139>0,1,0)","v":0},null,{"$f":"IF(W137=1,\"W\",\"\")","v":""},{"$f":"IF(V139>0,1,0)","v":0},{"$f":"IF(W139>0,1,0)","v":0},{"$f":"IF(Z137=1,\"W\",\"\")","v":""},{"$f":"IF(Y139>0,1,0)","v":0},null,null,null,null,null,null,null,null,null,{"$f":"$C$134","v":"plyr2"},{"$f":"$AB$135","v":0},{"$f":"$AE$135","v":0},{"$f":"$AC$135","v":-7.0000000000000001E-3},6]
[null,{"$f":"NAMES!C186","v":"Player 3"},{"$f":"K132","v":-1E-3},{"$f":"RESULTS!$E$102","v":-1E-3},{"$f":"I132","v":-1E-3},{"$f":"K135","v":-1E-3},{"$f":"RESULTS!$I$111","v":-1E-3},{"$f":"I135","v":-1E-3},null,null,null,{"$f":"SCORES!H350","v":-1E-3},{"$f":"RESULTS!$I$120","v":-1E-3},{"$f":"SCORES!H348","v":-1E-3},{"$f":"SCORES!D320","v":-1E-3},{"$f":"RESULTS!$E$111","v":-1E-3},{"$f":"SCORES!D322","v":-1E-3},{"$f":"SCORES!L301","v":-1E-3},{"$f":"RESULTS!$M$106","v":-1E-3},{"$f":"SCORES!L299","v":-1E-3},{"$f":"SCORES!H285","v":-1E-3},{"$f":"RESULTS!$I$101","v":-1E-3},{"$f":"SCORES!H287","v":-1E-3},{"$f":"SCORES!L322","v":-1E-3},{"$f":"RESULTS!$M$112","v":-1E-3},{"$f":"SCORES!L320","v":-1E-3},null,{"$f":"SUM(C137:Z137)","v":0},{"$f":"SUM(C138,F138,I138,L138,O138,R138,U138,X138)","v":-7.0000000000000001E-3},{"$f":"SUM(E138,H138,K138,N138,Q138,T138,W138,Z138)","v":-7.0000000000000001E-3},{"$f":"SUM(C139:Z139)","v":0},null,{"$f":"VLOOKUP(C137,PLACE5,5,FALSE)","v":5},null,null,{"$f":"$C$131","v":"plyr1"},{"$f":"$AB$132","v":0},{"$f":"$AE$132","v":0},{"$f":"$AC$132","v":-7.0000000000000001E-3},7]
[null,{"$f":"SEED!E32","v":0},null,{"$f":"C138-E138","v":0},null,null,{"$f":"F138-H138","v":0},null,null,null,null,null,{"$f":"L138-N138","v":0},null,null,{"$f":"O138-Q138","v":0},null,null,{"$f":"R138-T138","v":0},null,null,{"$f":"U138-W138","v":0},null,null,{"$f":"X138-Z138","v":0}]
[null,{"$f":"NAMES!C190","v":"Block 5"},"plyr4",{"$f":"IF(E140=1,\"W\",\"\")","v":""},{"$f":"IF(D142>0,1,0)","v":0},null,{"$f":"IF(H140=1,\"W\",\"\")","v":""},{"$f":"IF(G142>0,1,0)","v":0},null,{"$f":"IF(K140=1,\"W\",\"\")","v":""},{"$f":"IF(J142>0,1,0)","v":0},null,null,null,null,{"$f":"IF(Q140=1,\"W\",\"\")","v":""},{"$f":"IF(P142>0,1,0)","v":0},null,{"$f":"IF(T140=1,\"W\",\"\")","v":""},{"$f":"IF(S142>0,1,0)","v":0},null,{"$f":"IF(W140=1,\"W\",\"\")","v":""},{"$f":"IF(V142>0,1,0)","v":0},null,{"$f":"IF(Z140=1,\"W\",\"\")","v":""},{"$f":"IF(Y142>0,1,0)","v":0}]
[null,{"$f":"NAMES!C191","v":"Player 4"},{"$f":"N132","v":-1E-3},{"$f":"RESULTS!$E$110","v":-1E-3},{"$f":"L132","v":-1E-3},{"$f":"N135","v":-1E-3},{"$f":"RESULTS!$E$104","v":-1E-3},{"$f":"L135","v":-1E-3},{"$f":"N138","v":-1E-3},{"$f":"RESULTS!$I$119","v":-1E-3},{"$f":"L138","v":-1E-3},null,null,null,{"$f":"SCORES!L308","v":-1E-3},{"$f":"RESULTS!$M$108","v":-1E-3},{"$f":"SCORES!L306","v":-1E-3},{"$f":"SCORES!D348","v":-1E-3},{"$f":"RESULTS!$E$119","v":-1E-3},{"$f":"SCORES!D350","v":-1E-3},{"$f":"SCORES!L329","v":-1E-3},{"$f":"RESULTS!$M$114","v":-1E-3},{"$f":"SCORES!L327","v":-1E-3},{"$f":"SCORES!H313","v":-1E-3},{"$f":"RESULTS!$I$109","v":-1E-3},{"$f":"SCORES!H315","v":-1E-3},null,{"$f":"SUM(C140:Z140)","v":0},{"$f":"SUM(C141,F141,I141,L141,O141,R141,U141,X141)","v":-7.0000000000000001E-3},{"$f":"SUM(E141,H141,K141,N141,Q141,T141,W141,Z141)","v":-7.0000000000000001E-3},{"$f":"SUM(C142:Z142)","v":0},null,{"$f":"VLOOKUP(C140,PLACE5,5,FALSE)","v":4}]
[null,{"$f":"SEED!E33","v":0},null,{"$f":"C141-E141","v":0},null,null,{"$f":"F141-H141","v":0},null,null,{"$f":"I141-K141","v":0},null,null,null,null,null,{"$f":"O141-Q141","v":0},null,null,{"$f":"R141-T141","v":0},null,null,{"$f":"U141-W141","v":0},null,null,{"$f":"X141-Z141","v":0}]
[null,{"$f":"NAMES!C195","v":"Block 5"},"plyr5",{"$f":"IF(E143=1,\"W\",\"\")","v":""},{"$f":"IF(D145>0,1,0)","v":0},null,{"$f":"IF(H143=1,\"W\",\"\")","v":""},{"$f":"IF(G145>0,1,0)","v":0},null,{"$f":"IF(K143=1,\"W\",\"\")","v":""},{"$f":"IF(J145>0,1,0)","v":0},null,{"$f":"IF(N143=1,\"W\",\"\")","v":""},{"$f":"IF(M145>0,1,0)","v":0},null,null,null,null,{"$f":"IF(T143=1,\"W\",\"\")","v":""},{"$f":"IF(S145>0,1,0)","v":0},null,{"$f":"IF(W143=1,\"W\",\"\")","v":""},{"$f":"IF(V145>0,1,0)","v":0},null,{"$f":"IF(Z143=1,\"W\",\"\")","v":""},{"$f":"IF(Y145>0,1,0)","v":0}]
[null,{"$f":"NAMES!C196","v":"Player 5"},{"$f":"Q132","v":-1E-3},{"$f":"RESULTS!$E$118","v":-1E-3},{"$f":"O132","v":-1E-3},{"$f":"Q135","v":-1E-3},{"$f":"RESULTS!$I$117","v":-1E-3},{"$f":"O135","v":-1E-3},{"$f":"Q138","v":-1E-3},{"$f":"RESULTS!$E$112","v":-1E-3},{"$f":"O138","v":-1E-3},{"$f":"Q141","v":-1E-3},{"$f":"RESULTS!$M$107","v":-1E-3},{"$f":"O141","v":-1E-3},null,null,null,{"$f":"SCORES!L336","v":-1E-3},{"$f":"RESULTS!$M$116","v":-1E-3},{"$f":"SCORES!L334","v":-1E-3},{"$f":"SCORES!H306","v":-1E-3},{"$f":"RESULTS!$I$107","v":-1E-3},{"$f":"SCORES!H308","v":-1E-3},{"$f":"SCORES!D301","v":-1E-3},{"$f":"RESULTS!$E$106","v":-1E-3},{"$f":"SCORES!D299","v":-1E-3},null,{"$f":"SUM(C143:Z143)","v":0},{"$f":"SUM(C144,F144,I144,L144,O144,R144,U144,X144)","v":-7.0000000000000001E-3},{"$f":"SUM(E144,H144,K144,N144,Q144,T144,W144,Z144)","v":-7.0000000000000001E-3},{"$f":"SUM(C145:Z145)","v":0},null,{"$f":"VLOOKUP(C143,PLACE5,5,FALSE)","v":3}]
[null,{"$f":"SEED!E34","v":0},null,{"$f":"C144-E144","v":0},null,null,{"$f":"F144-H144","v":0},null,null,{"$f":"I144-K144","v":0},null,null,{"$f":"L144-N144","v":0},null,null,null,null,null,{"$f":"R144-T144","v":0},null,null,{"$f":"U144-W144","v":0},null,null,{"$f":"X144-Z144","v":0}]
[null,{"$f":"NAMES!C200","v":"Block 5"},"plyr6",{"$f":"IF(E146=1,\"W\",\"\")","v":""},{"$f":"IF(D148>0,1,0)","v":0},null,{"$f":"IF(H146=1,\"W\",\"\")","v":""},{"$f":"IF(G148>0,1,0)","v":0},null,{"$f":"IF(K146=1,\"W\",\"\")","v":""},{"$f":"IF(J148>0,1,0)","v":0},null,{"$f":"IF(N146=1,\"W\",\"\")","v":""},{"$f":"IF(M148>0,1,0)","v":0},null,{"$f":"IF(Q146=1,\"W\",\"\")","v":""},{"$f":"IF(P148>0,1,0)","v":0},null,null,null,null,{"$f":"IF(W146=1,\"W\",\"\")","v":""},{"$f":"IF(V148>0,1,0)","v":0},null,{"$f":"IF(Z146=1,\"W\",\"\")","v":""},{"$f":"IF(Y148>0,1,0)","v":0}]
[null,{"$f":"NAMES!C201","v":"Player 6"},{"$f":"T132","v":-1E-3},{"$f":"RESULTS!$I$106","v":-1E-3},{"$f":"R132","v":-1E-3},{"$f":"T135","v":-1E-3},{"$f":"RESULTS!$E$114","v":-1E-3},{"$f":"R135","v":-1E-3},{"$f":"T138","v":-1E-3},{"$f":"RESULTS!$M$105","v":-1E-3},{"$f":"R138","v":-1E-3},{"$f":"T141","v":-1E-3},{"$f":"RESULTS!$E$120","v":-1E-3},{"$f":"R141","v":-1E-3},{"$f":"T144","v":-1E-3},{"$f":"RESULTS!$M$115","v":-1E-3},{"$f":"R144","v":-1E-3},null,null,null,{"$f":"SCORES!D308","v":-1E-3},{"$f":"RESULTS!$E$108","v":-1E-3},{"$f":"SCORES!D306","v":-1E-3},{"$f":"SCORES!H334","v":-1E-3},{"$f":"RESULTS!$I$115","v":-1E-3},{"$f":"SCORES!H336","v":-1E-3},null,{"$f":"SUM(C146:Z146)","v":0},{"$f":"SUM(C147,F147,I147,L147,O147,R147,U147,X147)","v":-7.0000000000000001E-3},{"$f":"SUM(E147,H147,K147,N147,Q147,T147,W147,Z147)","v":-7.0000000000000001E-3},{"$f":"SUM(C148:Z148)","v":0},null,{"$f":"VLOOKUP(C146,PLACE5,5,FALSE)","v":2}]
[null,{"$f":"SEED!E35","v":0},null,{"$f":"C147-E147","v":0},null,null,{"$f":"F147-H147","v":0},null,null,{"$f":"I147-K147","v":0},null,null,{"$f":"L147-N147","v":0},null,null,{"$f":"O147-Q147","v":0},null,null,null,null,null,{"$f":"U147-W147","v":0},null,null,{"$f":"X147-Z147","v":0}]
[null,{"$f":"NAMES!C205","v":"Block 5"},"plyr7",{"$f":"IF(E149=1,\"W\",\"\")","v":""},{"$f":"IF(D151>0,1,0)","v":0},null,{"$f":"IF(H149=1,\"W\",\"\")","v":""},{"$f":"IF(G151>0,1,0)","v":0},null,{"$f":"IF(K149=1,\"W\",\"\")","v":""},{"$f":"IF(J151>0,1,0)","v":0},null,{"$f":"IF(N149=1,\"W\",\"\")","v":""},{"$f":"IF(M151>0,1,0)","v":0},null,{"$f":"IF(Q149=1,\"W\",\"\")","v":""},{"$f":"IF(P151>0,1,0)","v":0},null,{"$f":"IF(T149=1,\"W\",\"\")","v":""},{"$f":"IF(S151>0,1,0)","v":0},null,null,null,null,{"$f":"IF(Z149=1,\"W\",\"\")","v":""},{"$f":"IF(Y151>0,1,0)","v":0}]
[null,{"$f":"NAMES!C206","v":"Player 7"},{"$f":"W132","v":-1E-3},{"$f":"RESULTS!$I$114","v":-1E-3},{"$f":"U132","v":-1E-3},{"$f":"W135","v":-1E-3},{"$f":"RESULTS!$M$103","v":-1E-3},{"$f":"U135","v":-1E-3},{"$f":"W138","v":-1E-3},{"$f":"RESULTS!$I$102","v":-1E-3},{"$f":"U138","v":-1E-3},{"$f":"W141","v":-1E-3},{"$f":"RESULTS!$M$113","v":-1E-3},{"$f":"U141","v":-1E-3},{"$f":"W144","v":-1E-3},{"$f":"RESULTS!$I$108","v":-1E-3},{"$f":"U144","v":-1E-3},{"$f":"W147","v":-1E-3},{"$f":"RESULTS!$E$107","v":-1E-3},{"$f":"U147","v":-1E-3},null,null,null,{"$f":"SCORES!D336","v":-1E-3},{"$f":"RESULTS!$E$116","v":-1E-3},{"$f":"SCORES!D334","v":-1E-3},null,{"$f":"SUM(C149:Z149)","v":0},{"$f":"SUM(C150,F150,I150,L150,O150,R150,U150,X150)","v":-7.0000000000000001E-3},{"$f":"SUM(E150,H150,K150,N150,Q150,T150,W150,Z150)","v":-7.0000000000000001E-3},{"$f":"SUM(C151:Z151)","v":0},null,{"$f":"VLOOKUP(C149,PLACE5,5,FALSE)","v":1}]
[null,{"$f":"SEED!E36","v":0},null,{"$f":"C150-E150","v":0},null,null,{"$f":"F150-H150","v":0},null,null,{"$f":"I150-K150","v":0},null,null,{"$f":"L150-N150","v":0},null,null,{"$f":"O150-Q150","v":0},null,null,{"$f":"R150-T150","v":0},null,null,null,null,null,{"$f":"X150-Z150","v":0}]
[null,{"$f":"NAMES!C210","v":"Bye"},"plyr8",{"$f":"IF(E152=1,\"W\",\"\")","v":""},{"$f":"IF(D154>0,1,0)","v":0},null,{"$f":"IF(H152=1,\"W\",\"\")","v":""},{"$f":"IF(G154>0,1,0)","v":0},null,{"$f":"IF(K152=1,\"W\",\"\")","v":""},{"$f":"IF(J154>0,1,0)","v":0},null,{"$f":"IF(N152=1,\"W\",\"\")","v":""},{"$f":"IF(M154>0,1,0)","v":0},null,{"$f":"IF(Q152=1,\"W\",\"\")","v":""},{"$f":"IF(P154>0,1,0)","v":0},null,{"$f":"IF(T152=1,\"W\",\"\")","v":""},{"$f":"IF(S154>0,1,0)","v":0},null,{"$f":"IF(W152=1,\"W\",\"\")","v":""},{"$f":"IF(V154>0,1,0)","v":0}]
[null,{"$f":"NAMES!C211","v":0},{"$f":"Z132","v":-1E-3},{"$f":"RESULTS!$M$102","v":-1E-3},{"$f":"X132","v":-1E-3},{"$f":"Z135","v":-1E-3},{"$f":"RESULTS!$I$104","v":-1E-3},{"$f":"X135","v":-1E-3},{"$f":"Z138","v":-1E-3},{"$f":"RESULTS!$M$111","v":-1E-3},{"$f":"X138","v":-1E-3},{"$f":"Z141","v":-1E-3},{"$f":"RESULTS!$I$110","v":-1E-3},{"$f":"X141","v":-1E-3},{"$f":"Z144","v":-1E-3},{"$f":"RESULTS!$E$105","v":-1E-3},{"$f":"X144","v":-1E-3},{"$f":"Z147","v":-1E-3},{"$f":"RESULTS!$I$116","v":-1E-3},{"$f":"X147","v":-1E-3},{"$f":"Z150","v":-1E-3},{"$f":"RESULTS!$E$115","v":-1E-3},{"$f":"X150","v":-1E-3},null,null,null,null,{"$f":"SUM(C152:Z152)","v":0},{"$f":"SUM(C153,F153,I153,L153,O153,R153,U153,X153)","v":-7.0000000000000001E-3},{"$f":"SUM(E153,H153,K153,N153,Q153,T153,W153,Z153)","v":-7.0000000000000001E-3},{"$f":"SUM(C154:Z154)","v":0},null,{"$f":"VLOOKUP(C152,PLACE5,5,FALSE)","v":{"$error":"#N/A"}}]
[null,{"$f":"SEED!E37","v":0},null,{"$f":"C153-E153","v":0},null,null,{"$f":"F153-H153","v":0},null,null,{"$f":"I153-K153","v":0},null,null,{"$f":"L153-N153","v":0},null,null,{"$f":"O153-Q153","v":0},null,null,{"$f":"R153-T153","v":0},null,null,{"$f":"U153-W153","v":0}]

{"sheet":"SCORECARD","index":9,"n_rows":860,"n_cols":10,"rows_kept":860,"cut":false,"hidden":true,"merged":[]}
[null,null,null,null,null,"TOURNAMENT SCORE CARD"]
[null,null,null,null,null,{"$f":"BLOCK!$N$2","v":"Tournament"}]
[null,null,null,null,null,{"$f":"BLOCK!$J$4","v":"Singles"}]
[null,null,null,null,null,{"$f":"BLOCK!$B$6","v":"BLOCK 1"}]
[null,null,"PLAYER:",{"$f":"BLOCK!C6","v":" Block 1 Player 1"},null,null,null,"HANDICAP",{"$f":"BLOCK!B9","v":0}]
[null,null,null,null,null,"OPP.","PLAYER","OPP.","NET"]
[null,null,null,"OPPONENT",null,"HCP","SCORE","SCORE","PTS"]
[null,null,{"$f":"BLOCK!F6","v":" Block 1 Player 2"},null,null,{"$f":"BLOCK!B12","v":0},{"$f":"BLOCK!F8","v":-1E-3},{"$f":"BLOCK!H8","v":-1E-3},{"$f":"G8-H8","v":0},"BLOCK"]
[null,null,{"$f":"BLOCK!I6","v":" Block 1 Player 3"},null,null,{"$f":"BLOCK!B15","v":0},{"$f":"BLOCK!I8","v":-1E-3},{"$f":"BLOCK!K8","v":-1E-3},0,"NET"]
[null,null,{"$f":"BLOCK!L6","v":" Block 1 Player 4"},null,null,{"$f":"BLOCK!B18","v":0},{"$f":"BLOCK!L8","v":-1E-3},{"$f":"BLOCK!N8","v":-1E-3},0,{"$f":"SUM(I8:I14)","v":0}]
[null,null,{"$f":"BLOCK!O6","v":" Block 1 Player 5"},null,null,{"$f":"BLOCK!B21","v":0},{"$f":"BLOCK!O8","v":-1E-3},{"$f":"BLOCK!Q8","v":-1E-3},0]
[null,null,{"$f":"BLOCK!R6","v":" Block 1 Player 6"},null,null,{"$f":"BLOCK!B24","v":0},{"$f":"BLOCK!R8","v":-1E-3},{"$f":"BLOCK!T8","v":-1E-3},0]
[null,null,{"$f":"BLOCK!U6","v":" Block 1 Player 7"},null,null,{"$f":"BLOCK!B27","v":0},{"$f":"BLOCK!U8","v":-1E-3},{"$f":"BLOCK!W8","v":-1E-3},0]
[null,null,{"$f":"BLOCK!X6","v":" Bye "},null,null,{"$f":"BLOCK!B30","v":0},{"$f":"BLOCK!X8","v":-1E-3},{"$f":"BLOCK!Z8","v":-1E-3},0]
[null,null,null,null,null," ",null,null,0]
[null,null,null,null,null," ",null,null,{"$f":"G16-H16","v":0}]
[null,null,null,null,null," ",null,null,0,"TOURNMT"]
[null,null,null,null,null," ",null,null,0,"NET"]
[null,null,null,null,null," ",null,null,0,{"$f":"SUM(I8:I23)","v":0}]
[null,null,null,null,null," ",null,null,0]
[null,null,null,null,null," ",null,null,0]
[null,null,null,null,null," ",null,null,{"$f":"G22-H22","v":0}]
[null,null,null,null,null," ",null,null,{"$f":"G23-H23","v":0}]
[]
[null,null,"PLAYER:",{"$f":"C8","v":" Block 1 Player 2"},null,null,null,"HANDICAP",{"$f":"F8","v":0}]
[null,null,null,null,null,"OPP.","PLAYER","OPP.","NET"]
[null,null,null,"OPPONENT",null,"HCP","SCORE","SCORE","PTS"]
[null,null,{"$f":"D5","v":" Block 1 Player 1"},null,null,{"$f":"I5","v":0},{"$f":"BLOCK!C11","v":-1E-3},{"$f":"BLOCK!E11","v":-1E-3},{"$f":"G28-H28","v":0},"BLOCK"]
[null,null,{"$f":"C9","v":" Block 1 Player 3"},null,null,{"$f":"F9","v":0},{"$f":"BLOCK!I11","v":-1E-3},{"$f":"BLOCK!K11","v":-1E-3},0,"NET"]
[null,null," Block 1 Player 4",null,null,0,{"$f":"BLOCK!L11","v":-1E-3},{"$f":"BLOCK!N11","v":-1E-3},0,{"$f":"SUM(I28:I34)","v":0}]
[null,null," Block 1 Player 5",null,null,0,{"$f":"BLOCK!O11","v":-1E-3},{"$f":"BLOCK!Q11","v":-1E-3},0]
[null,null," Block 1 Player 6",null,null,0,{"$f":"BLOCK!R11","v":-1E-3},{"$f":"BLOCK!T11","v":-1E-3},0]
[null,null," Block 1 Player 7",null,null,0,{"$f":"BLOCK!U11","v":-1E-3},{"$f":"BLOCK!W11","v":-1E-3},0]
[null,null," Bye ",null,null,0,{"$f":"BLOCK!X11","v":-1E-3},{"$f":"BLOCK!Z11","v":-1E-3},0]
[null,null,null,null,null," ",null,null,0]
[null,null,null,null,null," ",null,null,0]
[null,null,null,null,null," ",null,null,0,"TOURNMT"]
[null,null,null,null,null," ",null,null,0,"NET"]
[null,null,null,null,null," ",null,null,0,{"$f":"SUM(I28:I43)","v":0}]
[null,null,null,null,null," ",null,null,0]
[null,null,null,null,null," ",null,null,0]
[null,null,null,null,null," ",null,null,0]
[null,null,null,null,null," ",null,null,{"$f":"G43-H43","v":0}]
[null,null,null,null,null,"TOURNAMENT SCORE CARD"]
[null,null,null,null,null,{"$f":"BLOCK!$N$2","v":"Tournament"}]
[null,null,null,null,null,{"$f":"BLOCK!$J$4","v":"Singles"}]
[null,null,null,null,null,{"$f":"BLOCK!$B$6","v":"BLOCK 1"}]
[null,null,"PLAYER:",{"$f":"C9","v":" Block 1 Player 3"},null,null,null,"HANDICAP",{"$f":"F9","v":0}]
[null,null,null,null,null,"OPP.","PLAYER","OPP.","NET"]
[null,null,null,"OPPONENT",null,"HCP","SCORE","SCORE","PTS"]
[null,null,{"$f":"D5","v":" Block 1 Player 1"},null,null,{"$f":"I5","v":0},{"$f":"BLOCK!C14","v":-1E-3},{"$f":"BLOCK!E14","v":-1E-3},{"$f":"G51-H51","v":0},"BLOCK"]
[null,null,{"$f":"C8","v":" Block 1 Player 2"},null,null,{"$f":"F8","v":0},{"$f":"BLOCK!F14","v":-1E-3},{"$f":"BLOCK!H14","v":-1E-3},0,"NET"]
[null,null,{"$f":"C10","v":" Block 1 Player 4"},null,null,{"$f":"F10","v":0},{"$f":"BLOCK!L14","v":-1E-3},{"$f":"BLOCK!N14","v":-1E-3},0,{"$f":"SUM(I51:I57)","v":0}]
[null,null,{"$f":"C11","v":" Block 1 Player 5"},null,null,{"$f":"F11","v":0},{"$f":"BLOCK!O14","v":-1E-3},{"$f":"BLOCK!Q14","v":-1E-3},0]
[null,null,{"$f":"C12","v":" Block 1 Player 6"},null,null,{"$f":"F12","v":0},{"$f":"BLOCK!R14","v":-1E-3},{"$f":"BLOCK!T14","v":-1E-3},0]
[null,null,{"$f":"C13","v":" Block 1 Player 7"},null,null,{"$f":"F13","v":0},{"$f":"BLOCK!U14","v":-1E-3},{"$f":"BLOCK!W14","v":-1E-3},0]
[null,null,{"$f":"C14","v":" Bye "},null,null,{"$f":"F14","v":0},{"$f":"BLOCK!X14","v":-1E-3},{"$f":"BLOCK!Z14","v":-1E-3},0]
[null,null,null,null,null," ",null,null,0]
[null,null,null,null,null," ",null,null,0]
[null,null,null,null,null," ",null,null,0,"TOURNMT"]
[null,null,null,null,null," ",null,null,0,"NET"]
[null,null,null,null,null," ",null,null,0,{"$f":"SUM(I51:I66)","v":0}]
[null,null,null,null,null," ",null,null,0]
[null,null,null,null,null," ",null,null,0]
[null,null,null,null,null," ",null,null,0]
[null,null,null,null,null," ",null,null,{"$f":"G66-H66","v":0}]
[null,null,null,null,null," "]
[null,null,"PLAYER:",{"$f":"C10","v":" Block 1 Player 4"},null,null,null,"HANDICAP",{"$f":"F10","v":0}]
[null,null,null,null,null,"OPP.","PLAYER","OPP.","NET"]
[null,null,null,"OPPONENT",null,"HCP","SCORE","SCORE","PTS"]
[null,null,{"$f":"D5","v":" Block 1 Player 1"},null,null,{"$f":"I5","v":0},{"$f":"BLOCK!C17","v":-1E-3},{"$f":"BLOCK!E17","v":-1E-3},{"$f":"G71-H71","v":0},"BLOCK"]
[null,null,{"$f":"C8","v":" Block 1 Player 2"},null,null,{"$f":"F8","v":0},{"$f":"BLOCK!F17","v":-1E-3},{"$f":"BLOCK!H17","v":-1E-3},0,"NET"]
[null,null,{"$f":"C9","v":" Block 1 Player 3"},null,null,{"$f":"F9","v":0},{"$f":"BLOCK!I17","v":-1E-3},{"$f":"BLOCK!K17","v":-1E-3},0,{"$f":"SUM(I71:I77)","v":0}]
[null,null,{"$f":"C11","v":" Block 1 Player 5"},null,null,{"$f":"F11","v":0},{"$f":"BLOCK!O17","v":-1E-3},{"$f":"BLOCK!Q17","v":-1E-3},0]
[null,null,{"$f":"C12","v":" Block 1 Player 6"},null,null,{"$f":"F12","v":0},{"$f":"BLOCK!R17","v":-1E-3},{"$f":"BLOCK!T17","v":-1E-3},0]
[null,null,{"$f":"C13","v":" Block 1 Player 7"},null,null,{"$f":"F13","v":0},{"$f":"BLOCK!U17","v":-1E-3},{"$f":"BLOCK!W17","v":-1E-3},0]
[null,null,{"$f":"C14","v":" Bye "},null,null,{"$f":"F14","v":0},{"$f":"BLOCK!X17","v":-1E-3},{"$f":"BLOCK!Z17","v":-1E-3},0]
[null,null,null,null,null," ",null,null,0]
[null,null,null,null,null," ",null,null,0]
[null,null,null,null,null," ",null,null,0,"TOURNMT"]
[null,null,null,null,null," ",null,null,0,"NET"]
[null,null,null,null,null," ",null,null,0,{"$f":"SUM(I71:I86)","v":0}]
[null,null,null,null,null," ",null,null,0]
[null,null,null,null,null," ",null,null,0]
[null,null,null,null,null," ",null,null,0]
[null,null,null,null,null," ",null,null,{"$f":"G86-H86","v":0}]
[null,null,null,null,null,"TOURNAMENT SCORE CARD"]
[null,null,null,null,null,{"$f":"BLOCK!$N$2","v":"Tournament"}]
[null,null,null,null,null,{"$f":"BLOCK!$J$4","v":"Singles"}]
[null,null,null,null,null,{"$f":"BLOCK!$B$6","v":"BLOCK 1"}]
[null,null,"PLAYER:",{"$f":"C11","v":" Block 1 Player 5"},null,null,null,"HANDICAP",{"$f":"F11","v":0}]
[null,null,null,null,null,"OPP.","PLAYER","OPP.","NET"]
[null,null,null,"OPPONENT",null,"HCP","SCORE","SCORE","PTS"]
[null,null,{"$f":"D5","v":" Block 1 Player 1"},null,null,{"$f":"I5","v":0},{"$f":"BLOCK!C20","v":-1E-3},{"$f":"BLOCK!E20","v":-1E-3},{"$f":"G94-H94","v":0},"BLOCK"]
[null,null,{"$f":"C8","v":" Block 1 Player 2"},null,null,{"$f":"F8","v":0},{"$f":"BLOCK!F20","v":-1E-3},{"$f":"BLOCK!H20","v":-1E-3},0,"NET"]
[null,null,{"$f":"C9","v":" Block 1 Player 3"},null,null,{"$f":"F9","v":0},{"$f":"BLOCK!I20","v":-1E-3},{"$f":"BLOCK!K20","v":-1E-3},0,{"$f":"SUM(I94:I100)","v":0}]
[null,null,{"$f":"C10","v":" Block 1 Player 4"},null,null,{"$f":"F10","v":0},{"$f":"BLOCK!L20","v":-1E-3},{"$f":"BLOCK!N20","v":-1E-3},0]
[null,null,{"$f":"C12","v":" Block 1 Player 6"},null,null,{"$f":"F12","v":0},{"$f":"BLOCK!R20","v":-1E-3},{"$f":"BLOCK!T20","v":-1E-3},0]
[null,null,{"$f":"C13","v":" Block 1 Player 7"},null,null,{"$f":"F13","v":0},{"$f":"BLOCK!U20","v":-1E-3},{"$f":"BLOCK!W20","v":-1E-3},0]
[null,null,{"$f":"C14","v":" Bye "},null,null,{"$f":"F14","v":0},{"$f":"BLOCK!X20","v":-1E-3},{"$f":"BLOCK!Z20","v":-1E-3},0]
[null,null,null,null,null," ",null,null,0]
[null,null,null,null,null," ",null,null,0]
[null,null,null,null,null," ",null,null,0,"TOURNMT"]
[null,null,null,null,null," ",null,null,0,"NET"]
[null,null,null,null,null," ",null,null,0,{"$f":"SUM(I94:I109)","v":0}]
[null,null,null,null,null," ",null,null,0]
[null,null,null,null,null," ",null,null,0]
[null,null,null,null,null," ",null,null,0]
[null,null,null,null,null," ",null,null,{"$f":"G109-H109","v":0}]
[]
[null,null,"PLAYER:",{"$f":"C12","v":" Block 1 Player 6"},null,null,null,"HANDICAP",{"$f":"F12","v":0}]
[null,null,null,null,null,"OPP.","PLAYER","OPP.","NET"]
[null,null,null,"OPPONENT",null,"HCP","SCORE","SCORE","PTS"]
[null,null,{"$f":"D5","v":" Block 1 Player 1"},null,null,{"$f":"I5","v":0},{"$f":"BLOCK!C23","v":-1E-3},{"$f":"BLOCK!E23","v":-1E-3},{"$f":"G114-H114","v":0},"BLOCK"]
[null,null,{"$f":"C8","v":" Block 1 Player 2"},null,null,{"$f":"F8","v":0},{"$f":"BLOCK!F23","v":-1E-3},{"$f":"BLOCK!H23","v":-1E-3},0,"NET"]
[null,null,{"$f":"C9","v":" Block 1 Player 3"},null,null,{"$f":"F9","v":0},{"$f":"BLOCK!I23","v":-1E-3},{"$f":"BLOCK!K23","v":-1E-3},0,{"$f":"SUM(I114:I120)","v":0}]
[null,null,{"$f":"C10","v":" Block 1 Player 4"},null,null,{"$f":"F10","v":0},{"$f":"BLOCK!L23","v":-1E-3},{"$f":"BLOCK!N23","v":-1E-3},0]
[null,null,{"$f":"C11","v":" Block 1 Player 5"},null,null,{"$f":"F11","v":0},{"$f":"BLOCK!O23","v":-1E-3},{"$f":"BLOCK!Q23","v":-1E-3},0]
[null,null,{"$f":"C13","v":" Block 1 Player 7"},null,null,{"$f":"F13","v":0},{"$f":"BLOCK!U23","v":-1E-3},{"$f":"BLOCK!W23","v":-1E-3},0]
[null,null,{"$f":"C14","v":" Bye "},null,null,{"$f":"F14","v":0},{"$f":"BLOCK!X23","v":-1E-3},{"$f":"BLOCK!Z23","v":-1E-3},0]
[null,null,null,null,null," ",null,null,0]
[null,null,null,null,null," ",null,null,0]
[null,null,null,null,null," ",null,null,0,"TOURNMT"]
[null,null,null,null,null," ",null,null,0,"NET"]
[null,null,null,null,null," ",null,null,0,{"$f":"SUM(I114:I129)","v":0}]
[null,null,null,null,null," ",null,null,0]
[null,null,null,null,null," ",null,null,0]
[null,null,null,null,null," ",null,null,0]
[null,null,null,null,null," ",null,null,{"$f":"G129-H129","v":0}]
[null,null,null,null,null,"TOURNAMENT SCORE CARD"]
[null,null,null,null,null,{"$f":"BLOCK!$N$2","v":"Tournament"}]
[null,null,null,null,null,{"$f":"BLOCK!$J$4","v":"Singles"}]
[null,null,null,null,null,{"$f":"BLOCK!$B$6","v":"BLOCK 1"}]
[null,null,"PLAYER:",{"$f":"C33","v":" Block 1 Player 7"},null,null,null,"HANDICAP",{"$f":"F33","v":0}]
[null,null,null,null,null,"OPP.","PLAYER","OPP.","NET"]
[null,null,null,"OPPONENT",null,"HCP","SCORE","SCORE","PTS"]
[null,null,{"$f":"C28","v":" Block 1 Player 1"},null,null,{"$f":"F28","v":0},{"$f":"BLOCK!C26","v":-1E-3},{"$f":"BLOCK!E26","v":-1E-3},{"$f":"G137-H137","v":0},"BLOCK"]
[null,null,{"$f":"D25","v":" Block 1 Player 2"},null,null,{"$f":"I25","v":0},{"$f":"BLOCK!F26","v":-1E-3},{"$f":"BLOCK!H26","v":-1E-3},0,"NET"]
[null,null,{"$f":"C29","v":" Block 1 Player 3"},null,null,{"$f":"F29","v":0},{"$f":"BLOCK!I26","v":-1E-3},{"$f":"BLOCK!K26","v":-1E-3},0,{"$f":"SUM(I137:I143)","v":0}]
[null,null,{"$f":"C30","v":" Block 1 Player 4"},null,null,{"$f":"F30","v":0},{"$f":"BLOCK!L26","v":-1E-3},{"$f":"BLOCK!N26","v":-1E-3},0]
[null,null,{"$f":"C31","v":" Block 1 Player 5"},null,null,{"$f":"F31","v":0},{"$f":"BLOCK!O26","v":-1E-3},{"$f":"BLOCK!Q26","v":-1E-3},0]
[null,null,{"$f":"C32","v":" Block 1 Player 6"},null,null,{"$f":"F32","v":0},{"$f":"BLOCK!R26","v":-1E-3},{"$f":"BLOCK!T26","v":-1E-3},0]
[null,null,{"$f":"C34","v":" Bye "},null,null,{"$f":"F34","v":0},{"$f":"BLOCK!X26","v":-1E-3},{"$f":"BLOCK!Z26","v":-1E-3},0]
[null,null,null,null,null," ",null,null,0]
[null,null,null,null,null," ",null,null,0]
[null,null,null,null,null," ",null,null,0,"TOURNMT"]
[null,null,null,null,null," ",null,null,0,"NET"]
[null,null,null,null,null," ",null,null,0,{"$f":"SUM(I137:I152)","v":0}]
[null,null,null,null,null," ",null,null,0]
[null,null,null,null,null," ",null,null,0]
[null,null,null,null,null," ",null,null,0]
[null,null,null,null,null," ",null,null,{"$f":"G152-H152","v":0}]
[]
[null,null,"PLAYER:",{"$f":"C14","v":" Bye "},null,null,null,"HANDICAP",{"$f":"F14","v":0}]
[null,null,null,null,null,"OPP.","PLAYER","OPP.","NET"]
[null,null,null,"OPPONENT",null,"HCP","SCORE","SCORE","PTS"]
[null,null,{"$f":"D5","v":" Block 1 Player 1"},null,null,{"$f":"I5","v":0},{"$f":"BLOCK!C29","v":-1E-3},{"$f":"BLOCK!E29","v":-1E-3},{"$f":"G157-H157","v":0},"BLOCK"]
[null,null,{"$f":"C8","v":" Block 1 Player 2"},null,null,{"$f":"F8","v":0},{"$f":"BLOCK!F29","v":-1E-3},{"$f":"BLOCK!H29","v":-1E-3},0,"NET"]
[null,null," Block 1 Player 3",null,null,0,{"$f":"BLOCK!I29","v":-1E-3},{"$f":"BLOCK!K29","v":-1E-3},0,{"$f":"SUM(I157:I163)","v":0}]
[null,null," Block 1 Player 4",null,null,0,{"$f":"BLOCK!L29","v":-1E-3},{"$f":"BLOCK!N29","v":-1E-3},0]
[null,null," Block 1 Player 5",null,null,0,{"$f":"BLOCK!O29","v":-1E-3},{"$f":"BLOCK!Q29","v":-1E-3},0]
[null,null," Block 1 Player 6",null,null,0,{"$f":"BLOCK!R29","v":-1E-3},{"$f":"BLOCK!T29","v":-1E-3},0]
[null,null," Block 1 Player 7",null,null,0,{"$f":"BLOCK!U29","v":-1E-3},{"$f":"BLOCK!W29","v":-1E-3},0]
[null,null,null,null,null," ",null,null,0]
[null,null,null,null,null," ",null,null,0]
[null,null,null,null,null," ",null,null,0,"TOURNMT"]
[null,null,null,null,null," ",null,null,0,"NET"]
[null,null,null,null,null," ",null,null,0,{"$f":"SUM(I157:I172)","v":0}]
[null,null,null,null,null," ",null,null,0]
[null,null,null,null,null," ",null,null,0]
[null,null,null,null,null," ",null,null,0]
[null,null,null,null,null," ",null,null,{"$f":"G172-H172","v":0}]
[null,null,null,null,null,"TOURNAMENT SCORE CARD"]
[null,null,null,null,null,{"$f":"BLOCK!$N$33","v":"Tournament"}]
[null,null,null,null,null,{"$f":"BLOCK!$J$35","v":"Singles"}]
[null,null,null,null,null,{"$f":"BLOCK!$B$37","v":"BLOCK 2"}]
[null,null,"PLAYER:",{"$f":"BLOCK!C37","v":" Block 2 Player 1"},null,null,null,"HANDICAP",{"$f":"BLOCK!B40","v":0}]
[null,null,null,null,null,"OPP.","PLAYER","OPP.","NET"]
[null,null,null,"OPPONENT",null,"HCP","SCORE","SCORE","PTS"]
[null,null,{"$f":"BLOCK!F37","v":" Block 2 Player 2"},null,null,{"$f":"BLOCK!B43","v":0},{"$f":"BLOCK!F39","v":-1E-3},{"$f":"BLOCK!H39","v":-1E-3},{"$f":"G180-H180","v":0},"BLOCK"]
[null,null,{"$f":"BLOCK!I37","v":" Block 2 Player 3"},null,null,{"$f":"BLOCK!B46","v":0},{"$f":"BLOCK!I39","v":-1E-3},{"$f":"BLOCK!K39","v":-1E-3},0,"NET"]
[null,null,{"$f":"BLOCK!L37","v":" Block 2 Player 4"},null,null,{"$f":"BLOCK!B49","v":0},{"$f":"BLOCK!L39","v":-1E-3},{"$f":"BLOCK!N39","v":-1E-3},0,{"$f":"SUM(I180:I186)","v":0}]
[null,null,{"$f":"BLOCK!O37","v":" Block 2 Player 5"},null,null,{"$f":"BLOCK!B52","v":0},{"$f":"BLOCK!O39","v":-1E-3},{"$f":"BLOCK!Q39","v":-1E-3},0]
[null,null,{"$f":"BLOCK!R37","v":" Block 2 Player 6"},null,null,{"$f":"BLOCK!B55","v":0},{"$f":"BLOCK!R39","v":-1E-3},{"$f":"BLOCK!T39","v":-1E-3},0]
[null,null,{"$f":"BLOCK!U37","v":" Block 2 Player 7"},null,null,{"$f":"BLOCK!B58","v":0},{"$f":"BLOCK!U39","v":-1E-3},{"$f":"BLOCK!W39","v":-1E-3},0]
[null,null,{"$f":"BLOCK!X37","v":" Bye "},null,null,{"$f":"BLOCK!B61","v":0},{"$f":"BLOCK!X39","v":-1E-3},{"$f":"BLOCK!Z39","v":-1E-3},0]
[null,null,null,null,null," ",null,null,0]
[null,null,null,null,null," ",null,null,0]
[null,null,null,null,null," ",null,null,0,"TOURNMT"]
[null,null,null,null,null," ",null,null,0,"NET"]
[null,null,null,null,null," ",null,null,0,{"$f":"SUM(I180:I195)","v":0}]
[null,null,null,null,null," ",null,null,0]
[null,null,null,null,null," ",null,null,0]
[null,null,null,null,null," ",null,null,0]
[null,null,null,null,null," ",null,null,{"$f":"G195-H195","v":0}]
[]
[null,null,"PLAYER:",{"$f":"C180","v":" Block 2 Player 2"},null,null,null,"HANDICAP",{"$f":"F180","v":0}]
[null,null,null,null,null,"OPP.","PLAYER","OPP.","NET"]
[null,null,null,"OPPONENT",null,"HCP","SCORE","SCORE","PTS"]
[null,null,{"$f":"D177","v":" Block 2 Player 1"},null,null,{"$f":"I177","v":0},{"$f":"BLOCK!C42","v":-1E-3},{"$f":"BLOCK!E42","v":-1E-3},{"$f":"G200-H200","v":0},"BLOCK"]
[null,null,{"$f":"C181","v":" Block 2 Player 3"},null,null,{"$f":"F181","v":0},{"$f":"BLOCK!I42","v":-1E-3},{"$f":"BLOCK!K42","v":-1E-3},0,"NET"]
[null,null," Block 2 Player 4",null,null,0,{"$f":"BLOCK!L42","v":-1E-3},{"$f":"BLOCK!N42","v":-1E-3},0,{"$f":"SUM(I200:I206)","v":0}]
[null,null," Block 2 Player 5",null,null,0,{"$f":"BLOCK!O42","v":-1E-3},{"$f":"BLOCK!Q42","v":-1E-3},0]
[null,null," Block 2 Player 6",null,null,0,{"$f":"BLOCK!R42","v":-1E-3},{"$f":"BLOCK!T42","v":-1E-3},0]
[null,null," Block 2 Player 7",null,null,0,{"$f":"BLOCK!U42","v":-1E-3},{"$f":"BLOCK!W42","v":-1E-3},0]
[null,null," Bye ",null,null,0,{"$f":"BLOCK!X42","v":-1E-3},{"$f":"BLOCK!Z42","v":-1E-3},0]
[null,null,null,null,null," ",null,null,0]
[null,null,null,null,null," ",null,null,0]
[null,null,null,null,null," ",null,null,0,"TOURNMT"]
[null,null,null,null,null," ",null,null,0,"NET"]
[null,null,null,null,null," ",null,null,0,{"$f":"SUM(I200:I215)","v":0}]
[null,null,null,null,null," ",null,null,0]
[null,null,null,null,null," ",null,null,0]
[null,null,null,null,null," ",null,null,0]
[null,null,null,null,null," ",null,null,{"$f":"G215-H215","v":0}]
[null,null,null,null,null,"TOURNAMENT SCORE CARD"]
[null,null,null,null,null,{"$f":"BLOCK!$N$33","v":"Tournament"}]
[null,null,null,null,null,{"$f":"BLOCK!$J$35","v":"Singles"}]
[null,null,null,null,null,{"$f":"BLOCK!$B$37","v":"BLOCK 2"}]
[null,null,"PLAYER:",{"$f":"C181","v":" Block 2 Player 3"},null,null,null,"HANDICAP",{"$f":"F181","v":0}]
[null,null,null,null,null,"OPP.","PLAYER","OPP.","NET"]
[null,null,null,"OPPONENT",null,"HCP","SCORE","SCORE","PTS"]
[null,null,{"$f":"D177","v":" Block 2 Player 1"},null,null,{"$f":"I177","v":0},{"$f":"BLOCK!C45","v":-1E-3},{"$f":"BLOCK!E45","v":-1E-3},{"$f":"G223-H223","v":0},"BLOCK"]
[null,null,{"$f":"C180","v":" Block 2 Player 2"},null,null,{"$f":"F180","v":0},{"$f":"BLOCK!F45","v":-1E-3},{"$f":"BLOCK!H45","v":-1E-3},0,"NET"]
[null,null,{"$f":"C182","v":" Block 2 Player 4"},null,null,{"$f":"F182","v":0},{"$f":"BLOCK!L45","v":-1E-3},{"$f":"BLOCK!N45","v":-1E-3},0,{"$f":"SUM(I223:I229)","v":0}]
[null,null,{"$f":"C183","v":" Block 2 Player 5"},null,null,{"$f":"F183","v":0},{"$f":"BLOCK!O45","v":-1E-3},{"$f":"BLOCK!Q45","v":-1E-3},0]
[null,null,{"$f":"C184","v":" Block 2 Player 6"},null,null,{"$f":"F184","v":0},{"$f":"BLOCK!R45","v":-1E-3},{"$f":"BLOCK!T45","v":-1E-3},0]
[null,null,{"$f":"C185","v":" Block 2 Player 7"},null,null,{"$f":"F185","v":0},{"$f":"BLOCK!U45","v":-1E-3},{"$f":"BLOCK!W45","v":-1E-3},0]
[null,null,{"$f":"C186","v":" Bye "},null,null,{"$f":"F186","v":0},{"$f":"BLOCK!X45","v":-1E-3},{"$f":"BLOCK!Z45","v":-1E-3},0]
[null,null,null,null,null," ",null,null,0]
[null,null,null,null,null," ",null,null,0]
[null,null,null,null,null," ",null,null,0,"TOURNMT"]
[null,null,null,null,null," ",null,null,0,"NET"]
[null,null,null,null,null," ",null,null,0,{"$f":"SUM(I223:I238)","v":0}]
[null,null,null,null,null," ",null,null,0]
[null,null,null,null,null," ",null,null,0]
[null,null,null,null,null," ",null,null,0]
[null,null,null,null,null," ",null,null,{"$f":"G238-H238","v":0}]
[]
[null,null,"PLAYER:",{"$f":"C182","v":" Block 2 Player 4"},null,null,null,"HANDICAP",{"$f":"F182","v":0}]
[null,null,null,null,null,"OPP.","PLAYER","OPP.","NET"]
[null,null,null,"OPPONENT",null,"HCP","SCORE","SCORE","PTS"]
[null,null,{"$f":"D177","v":" Block 2 Player 1"},null,null,{"$f":"I177","v":0},{"$f":"BLOCK!C48","v":-1E-3},{"$f":"BLOCK!E48","v":-1E-3},{"$f":"G243-H243","v":0},"BLOCK"]
[null,null,{"$f":"C180","v":" Block 2 Player 2"},null,null,{"$f":"F180","v":0},{"$f":"BLOCK!F48","v":-1E-3},{"$f":"BLOCK!H48","v":-1E-3},0,"NET"]
[null,null,{"$f":"C181","v":" Block 2 Player 3"},null,null,{"$f":"F181","v":0},{"$f":"BLOCK!I48","v":-1E-3},{"$f":"BLOCK!K48","v":-1E-3},0,{"$f":"SUM(I243:I249)","v":0}]
[null,null,{"$f":"C183","v":" Block 2 Player 5"},null,null,{"$f":"F183","v":0},{"$f":"BLOCK!O48","v":-1E-3},{"$f":"BLOCK!Q48","v":-1E-3},0]
[null,null,{"$f":"C184","v":" Block 2 Player 6"},null,null,{"$f":"F184","v":0},{"$f":"BLOCK!R48","v":-1E-3},{"$f":"BLOCK!T48","v":-1E-3},0]
[null,null,{"$f":"C185","v":" Block 2 Player 7"},null,null,{"$f":"F185","v":0},{"$f":"BLOCK!U48","v":-1E-3},{"$f":"BLOCK!W48","v":-1E-3},0]
[null,null,{"$f":"C186","v":" Bye "},null,null,{"$f":"F186","v":0},{"$f":"BLOCK!X48","v":-1E-3},{"$f":"BLOCK!Z48","v":-1E-3},0]
[null,null,null,null,null," ",null,null,0]
[null,null,null,null,null," ",null,null,0]
[null,null,null,null,null," ",null,null,0,"TOURNMT"]
[null,null,null,null,null," ",null,null,0,"NET"]
[null,null,null,null,null," ",null,null,0,{"$f":"SUM(I243:I258)","v":0}]
[null,null,null,null,null," ",null,null,0]
[null,null,null,null,null," ",null,null,0]
[null,null,null,null,null," ",null,null,0]
[null,null,null,null,null," ",null,null,{"$f":"G258-H258","v":0}]
[null,null,null,null,null,"TOURNAMENT SCORE CARD"]
[null,null,null,null,null,{"$f":"BLOCK!$N$33","v":"Tournament"}]
[null,null,null,null,null,{"$f":"BLOCK!$J$35","v":"Singles"}]
[null,null,null,null,null,{"$f":"BLOCK!$B$37","v":"BLOCK 2"}]
[null,null,"PLAYER:",{"$f":"C183","v":" Block 2 Player 5"},null,null,null,"HANDICAP",{"$f":"F183","v":0}]
[null,null,null,null,null,"OPP.","PLAYER","OPP.","NET"]
[null,null,null,"OPPONENT",null,"HCP","SCORE","SCORE","PTS"]
[null,null,{"$f":"D177","v":" Block 2 Player 1"},null,null,{"$f":"I177","v":0},{"$f":"BLOCK!C51","v":-1E-3},{"$f":"BLOCK!E51","v":-1E-3},{"$f":"G266-H266","v":0},"BLOCK"]
[null,null,{"$f":"C180","v":" Block 2 Player 2"},null,null,{"$f":"F180","v":0},{"$f":"BLOCK!F51","v":-1E-3},{"$f":"BLOCK!H51","v":-1E-3},0,"NET"]
[null,null,{"$f":"C181","v":" Block 2 Player 3"},null,null,{"$f":"F181","v":0},{"$f":"BLOCK!I51","v":-1E-3},{"$f":"BLOCK!K51","v":-1E-3},0,{"$f":"SUM(I266:I272)","v":0}]
[null,null,{"$f":"C182","v":" Block 2 Player 4"},null,null,{"$f":"F182","v":0},{"$f":"BLOCK!L51","v":-1E-3},{"$f":"BLOCK!N51","v":-1E-3},0]
[null,null,{"$f":"C184","v":" Block 2 Player 6"},null,null,{"$f":"F184","v":0},{"$f":"BLOCK!R51","v":-1E-3},{"$f":"BLOCK!T51","v":-1E-3},0]
[null,null,{"$f":"C185","v":" Block 2 Player 7"},null,null,{"$f":"F185","v":0},{"$f":"BLOCK!U51","v":-1E-3},{"$f":"BLOCK!W51","v":-1E-3},0]
[null,null,{"$f":"C186","v":" Bye "},null,null,{"$f":"F186","v":0},{"$f":"BLOCK!X51","v":-1E-3},{"$f":"BLOCK!Z51","v":-1E-3},0]
[null,null,null,null,null," ",null,null,0]
[null,null,null,null,null," ",null,null,0]
[null,null,null,null,null," ",null,null,0,"TOURNMT"]
[null,null,null,null,null," ",null,null,0,"NET"]
[null,null,null,null,null," ",null,null,0,{"$f":"SUM(I266:I281)","v":0}]
[null,null,null,null,null," ",null,null,0]
[null,null,null,null,null," ",null,null,0]
[null,null,null,null,null," ",null,null,0]
[null,null,null,null,null," ",null,null,{"$f":"G281-H281","v":0}]
[]
[null,null,"PLAYER:",{"$f":"C184","v":" Block 2 Player 6"},null,null,null,"HANDICAP",{"$f":"F184","v":0}]
[null,null,null,null,null,"OPP.","PLAYER","OPP.","NET"]
[null,null,null,"OPPONENT",null,"HCP","SCORE","SCORE","PTS"]
[null,null,{"$f":"D177","v":" Block 2 Player 1"},null,null,{"$f":"I177","v":0},{"$f":"BLOCK!C54","v":-1E-3},{"$f":"BLOCK!E54","v":-1E-3},{"$f":"G286-H286","v":0},"BLOCK"]
[null,null,{"$f":"C180","v":" Block 2 Player 2"},null,null,{"$f":"F180","v":0},{"$f":"BLOCK!F54","v":-1E-3},{"$f":"BLOCK!H54","v":-1E-3},0,"NET"]
[null,null,{"$f":"C181","v":" Block 2 Player 3"},null,null,{"$f":"F181","v":0},{"$f":"BLOCK!I54","v":-1E-3},{"$f":"BLOCK!K54","v":-1E-3},0,{"$f":"SUM(I286:I292)","v":0}]
[null,null,{"$f":"C182","v":" Block 2 Player 4"},null,null,{"$f":"F182","v":0},{"$f":"BLOCK!L54","v":-1E-3},{"$f":"BLOCK!N54","v":-1E-3},0]
[null,null,{"$f":"C183","v":" Block 2 Player 5"},null,null,{"$f":"F183","v":0},{"$f":"BLOCK!O54","v":-1E-3},{"$f":"BLOCK!Q54","v":-1E-3},0]
[null,null,{"$f":"C185","v":" Block 2 Player 7"},null,null,{"$f":"F185","v":0},{"$f":"BLOCK!U54","v":-1E-3},{"$f":"BLOCK!W54","v":-1E-3},0]
[null,null,{"$f":"C186","v":" Bye "},null,null,{"$f":"F186","v":0},{"$f":"BLOCK!X54","v":-1E-3},{"$f":"BLOCK!Z54","v":-1E-3},0]
[null,null,null,null,null," ",null,null,0]
[null,null,null,null,null," ",null,null,0]
[null,null,null,null,null," ",null,null,0,"TOURNMT"]
[null,null,null,null,null," ",null,null,0,"NET"]
[null,null,null,null,null," ",null,null,0,{"$f":"SUM(I286:I301)","v":0}]
[null,null,null,null,null," ",null,null,0]
[null,null,null,null,null," ",null,null,0]
[null,null,null,null,null," ",null,null,0]
[null,null,null,null,null," ",null,null,{"$f":"G301-H301","v":0}]
[null,null,null,null,null,"TOURNAMENT SCORE CARD"]
[null,null,null,null,null,{"$f":"BLOCK!$N$33","v":"Tournament"}]
[null,null,null,null,null,{"$f":"BLOCK!$J$35","v":"Singles"}]
[null,null,null,null,null,{"$f":"BLOCK!$B$37","v":"BLOCK 2"}]
[null,null,"PLAYER:",{"$f":"C185","v":" Block 2 Player 7"},null,null,null,"HANDICAP",{"$f":"F185","v":0}]
[null,null,null,null,null,"OPP.","PLAYER","OPP.","NET"]
[null,null,null,"OPPONENT",null,"HCP","SCORE","SCORE","PTS"]
[null,null,{"$f":"D177","v":" Block 2 Player 1"},null,null,{"$f":"I177","v":0},{"$f":"BLOCK!C57","v":-1E-3},{"$f":"BLOCK!E57","v":-1E-3},{"$f":"G309-H309","v":0},"BLOCK"]
[null,null,{"$f":"C180","v":" Block 2 Player 2"},null,null,{"$f":"F180","v":0},{"$f":"BLOCK!F57","v":-1E-3},{"$f":"BLOCK!H57","v":-1E-3},0,"NET"]
[null,null,{"$f":"C181","v":" Block 2 Player 3"},null,null,{"$f":"F181","v":0},{"$f":"BLOCK!I57","v":-1E-3},{"$f":"BLOCK!K57","v":-1E-3},0,{"$f":"SUM(I309:I315)","v":0}]
[null,null,{"$f":"C182","v":" Block 2 Player 4"},null,null,{"$f":"F182","v":0},{"$f":"BLOCK!L57","v":-1E-3},{"$f":"BLOCK!N57","v":-1E-3},0]
[null,null,{"$f":"C183","v":" Block 2 Player 5"},null,null,{"$f":"F183","v":0},{"$f":"BLOCK!O57","v":-1E-3},{"$f":"BLOCK!Q57","v":-1E-3},0]
[null,null,{"$f":"C184","v":" Block 2 Player 6"},null,null,{"$f":"F184","v":0},{"$f":"BLOCK!R57","v":-1E-3},{"$f":"BLOCK!T57","v":-1E-3},0]
[null,null,{"$f":"C186","v":" Bye "},null,null,{"$f":"F186","v":0},{"$f":"BLOCK!X57","v":-1E-3},{"$f":"BLOCK!Z57","v":-1E-3},0]
[null,null,null,null,null," ",null,null,0]
[null,null,null,null,null," ",null,null,0]
[null,null,null,null,null," ",null,null,0,"TOURNMT"]
[null,null,null,null,null," ",null,null,0,"NET"]
[null,null,null,null,null," ",null,null,0,{"$f":"SUM(I309:I324)","v":0}]
[null,null,null,null,null," ",null,null,0]
[null,null,null,null,null," ",null,null,0]
[null,null,null,null,null," ",null,null,0]
[null,null,null,null,null," ",null,null,{"$f":"G324-H324","v":0}]
[]
[null,null,"PLAYER:",{"$f":"C186","v":" Bye "},null,null,null,"HANDICAP",{"$f":"F186","v":0}]
[null,null,null,null,null,"OPP.","PLAYER","OPP.","NET"]
[null,null,null,"OPPONENT",null,"HCP","SCORE","SCORE","PTS"]
[null,null,{"$f":"D177","v":" Block 2 Player 1"},null,null,{"$f":"I177","v":0},{"$f":"BLOCK!C60","v":-1E-3},{"$f":"BLOCK!E60","v":-1E-3},{"$f":"G329-H329","v":0},"BLOCK"]
[null,null,{"$f":"C180","v":" Block 2 Player 2"},null,null,{"$f":"F180","v":0},{"$f":"BLOCK!F60","v":-1E-3},{"$f":"BLOCK!H60","v":-1E-3},0,"NET"]
[null,null," Block 2 Player 3",null,null,0,{"$f":"BLOCK!I60","v":-1E-3},{"$f":"BLOCK!K60","v":-1E-3},0,{"$f":"SUM(I329:I335)","v":0}]
[null,null," Block 2 Player 4",null,null,0,{"$f":"BLOCK!L60","v":-1E-3},{"$f":"BLOCK!N60","v":-1E-3},0]
[null,null," Block 2 Player 5",null,null,0,{"$f":"BLOCK!O60","v":-1E-3},{"$f":"BLOCK!Q60","v":-1E-3},0]
[null,null," Block 2 Player 6",null,null,0,{"$f":"BLOCK!R60","v":-1E-3},{"$f":"BLOCK!T60","v":-1E-3},0]
[null,null," Block 2 Player 7",null,null,0,{"$f":"BLOCK!U60","v":-1E-3},{"$f":"BLOCK!W60","v":-1E-3},0]
[null,null,null,null,null," ",null,null,0]
[null,null,null,null,null," ",null,null,0]
[null,null,null,null,null," ",null,null,0,"TOURNMT"]
[null,null,null,null,null," ",null,null,0,"NET"]
[null,null,null,null,null," ",null,null,0,{"$f":"SUM(I329:I344)","v":0}]
[null,null,null,null,null," ",null,null,0]
[null,null,null,null,null," ",null,null,0]
[null,null,null,null,null," ",null,null,0]
[null,null,null,null,null," ",null,null,{"$f":"G344-H344","v":0}]
[null,null,null,null,null,"TOURNAMENT SCORE CARD"]
[null,null,null,null,null,{"$f":"BLOCK!N64","v":"Tournament"}]
[null,null,null,null,null,{"$f":"BLOCK!J66","v":"Singles"}]
[null,null,null,null,null,{"$f":"BLOCK!B68","v":"BLOCK 3"}]
[null,null,"PLAYER:",{"$f":"BLOCK!C68","v":" Block 3 Player 1"},null,null,null,"HANDICAP",{"$f":"BLOCK!B71","v":0}]
[null,null,null,null,null,"OPP.","PLAYER","OPP.","NET"]
[null,null,null,"OPPONENT",null,"HCP","SCORE","SCORE","PTS"]
[null,null,{"$f":"BLOCK!F68","v":" Block 3 Player 2"},null,null,{"$f":"BLOCK!B74","v":0},{"$f":"BLOCK!F70","v":-1E-3},{"$f":"BLOCK!H70","v":-1E-3},{"$f":"G352-H352","v":0},"BLOCK"]
[null,null,{"$f":"BLOCK!I68","v":" Block 3 Player 3"},null,null,{"$f":"BLOCK!B77","v":0},{"$f":"BLOCK!I70","v":-1E-3},{"$f":"BLOCK!K70","v":-1E-3},0,"NET"]
[null,null,{"$f":"BLOCK!L68","v":" Block 3 Player 4"},null,null,{"$f":"BLOCK!B80","v":0},{"$f":"BLOCK!L70","v":-1E-3},{"$f":"BLOCK!N70","v":-1E-3},0,{"$f":"SUM(I352:I358)","v":0}]
[null,null,{"$f":"BLOCK!O68","v":" Block 3 Player 5"},null,null,{"$f":"BLOCK!B83","v":0},{"$f":"BLOCK!O70","v":-1E-3},{"$f":"BLOCK!Q70","v":-1E-3},0]
[null,null,{"$f":"BLOCK!R68","v":" Block 3 Player 6"},null,null,{"$f":"BLOCK!B86","v":0},{"$f":"BLOCK!R70","v":-1E-3},{"$f":"BLOCK!T70","v":-1E-3},0]
[null,null,{"$f":"BLOCK!U68","v":" Block 3 Player 7"},null,null,{"$f":"BLOCK!B89","v":0},{"$f":"BLOCK!U70","v":-1E-3},{"$f":"BLOCK!W70","v":-1E-3},0]
[null,null,{"$f":"BLOCK!X68","v":" Bye "},null,null,{"$f":"BLOCK!B92","v":0},{"$f":"BLOCK!X70","v":-1E-3},{"$f":"BLOCK!Z70","v":-1E-3},0]
[null,null,null,null,null," ",null,null,0]
[null,null,null,null,null," ",null,null,0]
[null,null,null,null,null," ",null,null,0,"TOURNMT"]
[null,null,null,null,null," ",null,null,0,"NET"]
[null,null,null,null,null," ",null,null,0,{"$f":"SUM(I352:I367)","v":0}]
[null,null,null,null,null," ",null,null,0]
[null,null,null,null,null," ",null,null,0]
[null,null,null,null,null," ",null,null,0]
[null,null,null,null,null," ",null,null,{"$f":"G367-H367","v":0}]
[]
[null,null,"PLAYER:",{"$f":"C352","v":" Block 3 Player 2"},null,null,null,"HANDICAP",{"$f":"F352","v":0}]
[null,null,null,null,null,"OPP.","PLAYER","OPP.","NET"]
[null,null,null,"OPPONENT",null,"HCP","SCORE","SCORE","PTS"]
[null,null,{"$f":"D349","v":" Block 3 Player 1"},null,null,{"$f":"I349","v":0},{"$f":"BLOCK!C73","v":-1E-3},{"$f":"BLOCK!E73","v":-1E-3},{"$f":"G372-H372","v":0},"BLOCK"]
[null,null,{"$f":"C353","v":" Block 3 Player 3"},null,null,{"$f":"F353","v":0},{"$f":"BLOCK!I73","v":-1E-3},{"$f":"BLOCK!K73","v":-1E-3},0,"NET"]
[null,null," Block 3 Player 4",null,null,0,{"$f":"BLOCK!L73","v":-1E-3},{"$f":"BLOCK!N73","v":-1E-3},0,{"$f":"SUM(I372:I378)","v":0}]
[null,null," Block 3 Player 5",null,null,0,{"$f":"BLOCK!O73","v":-1E-3},{"$f":"BLOCK!Q73","v":-1E-3},0]
[null,null," Block 3 Player 6",null,null,0,{"$f":"BLOCK!R73","v":-1E-3},{"$f":"BLOCK!T73","v":-1E-3},0]
[null,null," Block 3 Player 7",null,null,0,{"$f":"BLOCK!U73","v":-1E-3},{"$f":"BLOCK!W73","v":-1E-3},0]
[null,null," Bye ",null,null,0,{"$f":"BLOCK!X73","v":-1E-3},{"$f":"BLOCK!Z73","v":-1E-3},0]
[null,null,null,null,null," ",null,null,0]
[null,null,null,null,null," ",null,null,0]
[null,null,null,null,null," ",null,null,0,"TOURNMT"]
[null,null,null,null,null," ",null,null,0,"NET"]
[null,null,null,null,null," ",null,null,0,{"$f":"SUM(I372:I387)","v":0}]
[null,null,null,null,null," ",null,null,0]
[null,null,null,null,null," ",null,null,0]
[null,null,null,null,null," ",null,null,0]
[null,null,null,null,null," ",null,null,{"$f":"G387-H387","v":0}]
[null,null,null,null,null,"TOURNMT SCORE CARD"]
[null,null,null,null,null,{"$f":"BLOCK!N64","v":"Tournament"}]
[null,null,null,null,null,{"$f":"BLOCK!J66","v":"Singles"}]
[null,null,null,null,null,{"$f":"BLOCK!B68","v":"BLOCK 3"}]
[null,null,"PLAYER:",{"$f":"C353","v":" Block 3 Player 3"},null,null,null,"HANDICAP",{"$f":"F353","v":0}]
[null,null,null,null,null,"OPP.","PLAYER","OPP.","NET"]
[null,null,null,"OPPONENT",null,"HCP","SCORE","SCORE","PTS"]
[null,null,{"$f":"D349","v":" Block 3 Player 1"},null,null,{"$f":"I349","v":0},{"$f":"BLOCK!C76","v":-1E-3},{"$f":"BLOCK!E76","v":-1E-3},{"$f":"G395-H395","v":0},"BLOCK"]
[null,null,{"$f":"C352","v":" Block 3 Player 2"},null,null,{"$f":"F352","v":0},{"$f":"BLOCK!F76","v":-1E-3},{"$f":"BLOCK!H76","v":-1E-3},0,"NET"]
[null,null,{"$f":"C354","v":" Block 3 Player 4"},null,null,{"$f":"F354","v":0},{"$f":"BLOCK!L76","v":-1E-3},{"$f":"BLOCK!N76","v":-1E-3},0,{"$f":"SUM(I395:I401)","v":0}]
[null,null,{"$f":"C355","v":" Block 3 Player 5"},null,null,{"$f":"F355","v":0},{"$f":"BLOCK!O76","v":-1E-3},{"$f":"BLOCK!Q76","v":-1E-3},0]
[null,null,{"$f":"C356","v":" Block 3 Player 6"},null,null,{"$f":"F356","v":0},{"$f":"BLOCK!R76","v":-1E-3},{"$f":"BLOCK!T76","v":-1E-3},0]
[null,null,{"$f":"C357","v":" Block 3 Player 7"},null,null,{"$f":"F357","v":0},{"$f":"BLOCK!U76","v":-1E-3},{"$f":"BLOCK!W76","v":-1E-3},0]
[null,null,{"$f":"C358","v":" Bye "},null,null,{"$f":"F358","v":0},{"$f":"BLOCK!X76","v":-1E-3},{"$f":"BLOCK!Z76","v":-1E-3},0]
[null,null,null,null,null," ",null,null,0]
[null,null,null,null,null," ",null,null,0]
[null,null,null,null,null," ",null,null,0,"TOURNMT"]
[null,null,null,null,null," ",null,null,0,"NET"]
[null,null,null,null,null," ",null,null,0,{"$f":"SUM(I395:I410)","v":0}]
[null,null,null,null,null," ",null,null,0]
[null,null,null,null,null," ",null,null,0]
[null,null,null,null,null," ",null,null,0]
[null,null,null,null,null," ",null,null,{"$f":"G410-H410","v":0}]
[]
[null,null,"PLAYER:",{"$f":"C354","v":" Block 3 Player 4"},null,null,null,"HANDICAP",{"$f":"F354","v":0}]
[null,null,null,null,null,"OPP.","PLAYER","OPP.","NET"]
[null,null,null,"OPPONENT",null,"HCP","SCORE","SCORE","PTS"]
[null,null,{"$f":"D349","v":" Block 3 Player 1"},null,null,{"$f":"I349","v":0},{"$f":"BLOCK!C79","v":-1E-3},{"$f":"BLOCK!E79","v":-1E-3},{"$f":"G415-H415","v":0},"BLOCK"]
[null,null,{"$f":"C352","v":" Block 3 Player 2"},null,null,{"$f":"F352","v":0},{"$f":"BLOCK!F79","v":-1E-3},{"$f":"BLOCK!H79","v":-1E-3},0,"NET"]
[null,null,{"$f":"C353","v":" Block 3 Player 3"},null,null,{"$f":"F353","v":0},{"$f":"BLOCK!I79","v":-1E-3},{"$f":"BLOCK!K79","v":-1E-3},0,{"$f":"SUM(I415:I421)","v":0}]
[null,null,{"$f":"C355","v":" Block 3 Player 5"},null,null,{"$f":"F355","v":0},{"$f":"BLOCK!O79","v":-1E-3},{"$f":"BLOCK!Q79","v":-1E-3},0]
[null,null,{"$f":"C356","v":" Block 3 Player 6"},null,null,{"$f":"F356","v":0},{"$f":"BLOCK!R79","v":-1E-3},{"$f":"BLOCK!T79","v":-1E-3},0]
[null,null,{"$f":"C357","v":" Block 3 Player 7"},null,null,{"$f":"F357","v":0},{"$f":"BLOCK!U79","v":-1E-3},{"$f":"BLOCK!W79","v":-1E-3},0]
[null,null,{"$f":"C358","v":" Bye "},null,null,{"$f":"F358","v":0},{"$f":"BLOCK!X79","v":-1E-3},{"$f":"BLOCK!Z79","v":-1E-3},0]
[null,null,null,null,null," ",null,null,0]
[null,null,null,null,null," ",null,null,0]
[null,null,null,null,null," ",null,null,0,"TOURNMT"]
[null,null,null,null,null," ",null,null,0,"NET"]
[null,null,null,null,null," ",null,null,0,{"$f":"SUM(I415:I430)","v":0}]
[null,null,null,null,null," ",null,null,0]
[null,null,null,null,null," ",null,null,0]
[null,null,null,null,null," ",null,null,0]
[null,null,null,null,null," ",null,null,{"$f":"G430-H430","v":0}]
[null,null,null,null,null,"TOURNAMENT SCORE CARD"]
[null,null,null,null,null,{"$f":"F346","v":"Tournament"}]
[null,null,null,null,null,{"$f":"F347","v":"Singles"}]
[null,null,null,null,null,{"$f":"F348","v":"BLOCK 3"}]
[null,null,"PLAYER:",{"$f":"C355","v":" Block 3 Player 5"},null,null,null,"HANDICAP",{"$f":"F355","v":0}]
[null,null,null,null,null,"OPP.","PLAYER","OPP.","NET"]
[null,null,null,"OPPONENT",null,"HCP","SCORE","SCORE","PTS"]
[null,null,{"$f":"D349","v":" Block 3 Player 1"},null,null,{"$f":"I349","v":0},{"$f":"BLOCK!C82","v":-1E-3},{"$f":"BLOCK!E82","v":-1E-3},{"$f":"G438-H438","v":0},"BLOCK"]
[null,null,{"$f":"C352","v":" Block 3 Player 2"},null,null,{"$f":"F352","v":0},{"$f":"BLOCK!F82","v":-1E-3},{"$f":"BLOCK!H82","v":-1E-3},0,"NET"]
[null,null,{"$f":"C353","v":" Block 3 Player 3"},null,null,{"$f":"F353","v":0},{"$f":"BLOCK!I82","v":-1E-3},{"$f":"BLOCK!K82","v":-1E-3},0,{"$f":"SUM(I438:I444)","v":0}]
[null,null,{"$f":"C354","v":" Block 3 Player 4"},null,null,{"$f":"F354","v":0},{"$f":"BLOCK!L82","v":-1E-3},{"$f":"BLOCK!N82","v":-1E-3},0]
[null,null,{"$f":"C356","v":" Block 3 Player 6"},null,null,{"$f":"F356","v":0},{"$f":"BLOCK!R82","v":-1E-3},{"$f":"BLOCK!T82","v":-1E-3},0]
[null,null,{"$f":"C357","v":" Block 3 Player 7"},null,null,{"$f":"F357","v":0},{"$f":"BLOCK!U82","v":-1E-3},{"$f":"BLOCK!W82","v":-1E-3},0]
[null,null,{"$f":"C358","v":" Bye "},null,null,{"$f":"F358","v":0},{"$f":"BLOCK!X82","v":-1E-3},{"$f":"BLOCK!Z82","v":-1E-3},0]
[null,null,null,null,null," ",null,null,0]
[null,null,null,null,null," ",null,null,0]
[null,null,null,null,null," ",null,null,0,"TOURNMT"]
[null,null,null,null,null," ",null,null,0,"NET"]
[null,null,null,null,null," ",null,null,0,{"$f":"SUM(I438:I453)","v":0}]
[null,null,null,null,null," ",null,null,0]
[null,null,null,null,null," ",null,null,0]
[null,null,null,null,null," ",null,null,0]
[null,null,null,null,null," ",null,null,{"$f":"G453-H453","v":0}]
[]
[null,null,"PLAYER:",{"$f":"C356","v":" Block 3 Player 6"},null,null,null,"HANDICAP",{"$f":"F356","v":0}]
[null,null,null,null,null,"OPP.","PLAYER","OPP.","NET"]
[null,null,null,"OPPONENT",null,"HCP","SCORE","SCORE","PTS"]
[null,null,{"$f":"D349","v":" Block 3 Player 1"},null,null,{"$f":"I349","v":0},{"$f":"BLOCK!C85","v":-1E-3},{"$f":"BLOCK!E85","v":-1E-3},{"$f":"G458-H458","v":0},"BLOCK"]
[null,null,{"$f":"C352","v":" Block 3 Player 2"},null,null,{"$f":"F352","v":0},{"$f":"BLOCK!F85","v":-1E-3},{"$f":"BLOCK!H85","v":-1E-3},0,"NET"]
[null,null,{"$f":"C353","v":" Block 3 Player 3"},null,null,{"$f":"F353","v":0},{"$f":"BLOCK!I85","v":-1E-3},{"$f":"BLOCK!K85","v":-1E-3},0,{"$f":"SUM(I458:I464)","v":0}]
[null,null,{"$f":"C354","v":" Block 3 Player 4"},null,null,{"$f":"F354","v":0},{"$f":"BLOCK!L85","v":-1E-3},{"$f":"BLOCK!N85","v":-1E-3},0]
[null,null,{"$f":"C355","v":" Block 3 Player 5"},null,null,{"$f":"F355","v":0},{"$f":"BLOCK!O85","v":-1E-3},{"$f":"BLOCK!Q85","v":-1E-3},0]
[null,null,{"$f":"C357","v":" Block 3 Player 7"},null,null,{"$f":"F357","v":0},{"$f":"BLOCK!U85","v":-1E-3},{"$f":"BLOCK!W85","v":-1E-3},0]
[null,null,{"$f":"C358","v":" Bye "},null,null,{"$f":"F358","v":0},{"$f":"BLOCK!X85","v":-1E-3},{"$f":"BLOCK!Z85","v":-1E-3},0]
[null,null,null,null,null," ",null,null,0]
[null,null,null,null,null," ",null,null,0]
[null,null,null,null,null," ",null,null,0,"TOURNMT"]
[null,null,null,null,null," ",null,null,0,"NET"]
[null,null,null,null,null," ",null,null,0,{"$f":"SUM(I458:I473)","v":0}]
[null,null,null,null,null," ",null,null,0]
[null,null,null,null,null," ",null,null,0]
[null,null,null,null,null," ",null,null,0]
[null,null,null,null,null," ",null,null,{"$f":"G473-H473","v":0}]
[null,null,null,null,null,"TOURNAMENT SCORE CARD"]
[null,null,null,null,null,{"$f":"BLOCK!N64","v":"Tournament"}]
[null,null,null,null,null,{"$f":"BLOCK!J66","v":"Singles"}]
[null,null,null,null,null,{"$f":"BLOCK!B68","v":"BLOCK 3"}]
[null,null,"PLAYER:",{"$f":"C357","v":" Block 3 Player 7"},null,null,null,"HANDICAP",{"$f":"F357","v":0}]
[null,null,null,null,null,"OPP.","PLAYER","OPP.","NET"]
[null,null,null,"OPPONENT",null,"HCP","SCORE","SCORE","PTS"]
[null,null,{"$f":"D349","v":" Block 3 Player 1"},null,null,{"$f":"I349","v":0},{"$f":"BLOCK!C88","v":-1E-3},{"$f":"BLOCK!E88","v":-1E-3},{"$f":"G481-H481","v":0},"BLOCK"]
[null,null,{"$f":"C352","v":" Block 3 Player 2"},null,null,{"$f":"F352","v":0},{"$f":"BLOCK!F88","v":-1E-3},{"$f":"BLOCK!H88","v":-1E-3},0,"NET"]
[null,null,{"$f":"C353","v":" Block 3 Player 3"},null,null,{"$f":"F353","v":0},{"$f":"BLOCK!I88","v":-1E-3},{"$f":"BLOCK!K88","v":-1E-3},0,{"$f":"SUM(I481:I487)","v":0}]
[null,null,{"$f":"C354","v":" Block 3 Player 4"},null,null,{"$f":"F354","v":0},{"$f":"BLOCK!L88","v":-1E-3},{"$f":"BLOCK!N88","v":-1E-3},0]
[null,null,{"$f":"C355","v":" Block 3 Player 5"},null,null,{"$f":"F355","v":0},{"$f":"BLOCK!O88","v":-1E-3},{"$f":"BLOCK!Q88","v":-1E-3},0]
[null,null,{"$f":"C356","v":" Block 3 Player 6"},null,null,{"$f":"F356","v":0},{"$f":"BLOCK!R88","v":-1E-3},{"$f":"BLOCK!T88","v":-1E-3},0]
[null,null,{"$f":"C358","v":" Bye "},null,null,{"$f":"F358","v":0},{"$f":"BLOCK!X88","v":-1E-3},{"$f":"BLOCK!Z88","v":-1E-3},0]
[null,null,null,null,null," ",null,null,0]
[null,null,null,null,null," ",null,null,0]
[null,null,null,null,null," ",null,null,0,"TOURNMT"]
[null,null,null,null,null," ",null,null,0,"NET"]
[null,null,null,null,null," ",null,null,0,{"$f":"SUM(I481:I496)","v":0}]
[null,null,null,null,null," ",null,null,0]
[null,null,null,null,null," ",null,null,0]
[null,null,null,null,null," ",null,null,0]
[null,null,null,null,null," ",null,null,{"$f":"G496-H496","v":0}]
[]
[null,null,"PLAYER:",{"$f":"C358","v":" Bye "},null,null,null,"HANDICAP",{"$f":"F358","v":0}]
[null,null,null,null,null,"OPP.","PLAYER","OPP.","NET"]
[null,null,null,"OPPONENT",null,"HCP","SCORE","SCORE","PTS"]
[null,null,{"$f":"D349","v":" Block 3 Player 1"},null,null,{"$f":"I349","v":0},{"$f":"BLOCK!C91","v":-1E-3},{"$f":"BLOCK!E91","v":-1E-3},{"$f":"G501-H501","v":0},"BLOCK"]
[null,null,{"$f":"C352","v":" Block 3 Player 2"},null,null,{"$f":"F352","v":0},{"$f":"BLOCK!F91","v":-1E-3},{"$f":"BLOCK!H91","v":-1E-3},0,"NET"]
[null,null," Block 3 Player 3",null,null,0,{"$f":"BLOCK!I91","v":-1E-3},{"$f":"BLOCK!K91","v":-1E-3},0,{"$f":"SUM(I501:I507)","v":0}]
[null,null," Block 3 Player 4",null,null,0,{"$f":"BLOCK!L91","v":-1E-3},{"$f":"BLOCK!N91","v":-1E-3},0]
[null,null," Block 3 Player 5",null,null,0,{"$f":"BLOCK!O91","v":-1E-3},{"$f":"BLOCK!Q91","v":-1E-3},0]
[null,null," Block 3 Player 6",null,null,0,{"$f":"BLOCK!R91","v":-1E-3},{"$f":"BLOCK!T91","v":-1E-3},0]
[null,null," Block 3 Player 7",null,null,0,{"$f":"BLOCK!U91","v":-1E-3},{"$f":"BLOCK!W91","v":-1E-3},0]
[null,null,null,null,null," ",null,null,0]
[null,null,null,null,null," ",null,null,0]
[null,null,null,null,null," ",null,null,0,"TOURNMT"]
[null,null,null,null,null," ",null,null,0,"NET"]
[null,null,null,null,null," ",null,null,0,{"$f":"SUM(I501:I516)","v":0}]
[null,null,null,null,null," ",null,null,0]
[null,null,null,null,null," ",null,null,0]
[null,null,null,null,null," ",null,null,{"$f":"G515-H515","v":0}]
[null,null,null,null,null," ",null,null,{"$f":"G516-H516","v":0}]
[null,null,null,null,null,"TOURNAMENT SCORE CARD"]
[null,null,null,null,null,{"$f":"BLOCK!N95","v":"Tournament"}]
[null,null,null,null,null,{"$f":"BLOCK!J97","v":"Singles"}]
[null,null,null,null,null,{"$f":"BLOCK!B99","v":"BLOCK 4"}]
[null,null,"PLAYER:",{"$f":"BLOCK!C99","v":" Block 4 Player 1"},null,null,null,"HANDICAP",{"$f":"BLOCK!B102","v":0}]
[null,null,null,null,null,"OPP.","PLAYER","OPP.","NET"]
[null,null,null,"OPPONENT",null,"HCP","SCORE","SCORE","PTS"]
[null,null,{"$f":"BLOCK!F99","v":" Block 4 Player 2"},null,null,{"$f":"BLOCK!B105","v":0},{"$f":"BLOCK!F101","v":-1E-3},{"$f":"BLOCK!H101","v":-1E-3},{"$f":"G524-H524","v":0},"BLOCK"]
[null,null,{"$f":"BLOCK!I99","v":" Block 4 Player 3"},null,null,{"$f":"BLOCK!B108","v":0},{"$f":"BLOCK!I101","v":-1E-3},{"$f":"BLOCK!K101","v":-1E-3},0,"NET"]
[null,null,{"$f":"BLOCK!L99","v":" Block 4 Player 4"},null,null,{"$f":"BLOCK!B111","v":0},{"$f":"BLOCK!L101","v":-1E-3},{"$f":"BLOCK!N101","v":-1E-3},0,{"$f":"SUM(I524:I530)","v":0}]
[null,null,{"$f":"BLOCK!O99","v":" Block 4 Player 5"},null,null,{"$f":"BLOCK!B114","v":0},{"$f":"BLOCK!O101","v":-1E-3},{"$f":"BLOCK!Q101","v":-1E-3},0]
[null,null,{"$f":"BLOCK!R99","v":" Block 4 Player 6"},null,null,{"$f":"BLOCK!B117","v":0},{"$f":"BLOCK!R101","v":-1E-3},{"$f":"BLOCK!T101","v":-1E-3},0]
[null,null,{"$f":"BLOCK!U99","v":" Block 4 Player 7"},null,null,{"$f":"BLOCK!B120","v":0},{"$f":"BLOCK!U101","v":-1E-3},{"$f":"BLOCK!W101","v":-1E-3},0]
[null,null,{"$f":"BLOCK!X99","v":" Bye "},null,null,{"$f":"BLOCK!B123","v":0},{"$f":"BLOCK!X101","v":-1E-3},{"$f":"BLOCK!Z101","v":-1E-3},0]
[null,null,null,null,null," ",null,null,0]
[null,null,null,null,null," ",null,null,0]
[null,null,null,null,null," ",null,null,0,"TOURNMT"]
[null,null,null,null,null," ",null,null,0,"NET"]
[null,null,null,null,null," ",null,null,0,{"$f":"SUM(I524:I539)","v":0}]
[null,null,null,null,null," ",null,null,0]
[null,null,null,null,null," ",null,null,0]
[null,null,null,null,null," ",null,null,{"$f":"G538-H538","v":0}]
[null,null,null,null,null," ",null,null,{"$f":"G539-H539","v":0}]
[]
[null,null,"PLAYER:",{"$f":"C524","v":" Block 4 Player 2"},null,null,null,"HANDICAP",{"$f":"F524","v":0}]
[null,null,null,null,null,"OPP.","PLAYER","OPP.","NET"]
[null,null,null,"OPPONENT",null,"HCP","SCORE","SCORE","PTS"]
[null,null,{"$f":"D521","v":" Block 4 Player 1"},null,null,{"$f":"I521","v":0},{"$f":"BLOCK!C104","v":-1E-3},{"$f":"BLOCK!E104","v":-1E-3},{"$f":"G544-H544","v":0},"BLOCK"]
[null,null,{"$f":"C525","v":" Block 4 Player 3"},null,null,{"$f":"F525","v":0},{"$f":"BLOCK!I104","v":-1E-3},{"$f":"BLOCK!K104","v":-1E-3},0,"NET"]
[null,null," Block 4 Player 4",null,null,0,{"$f":"BLOCK!L104","v":-1E-3},{"$f":"BLOCK!N104","v":-1E-3},0,{"$f":"SUM(I544:I550)","v":0}]
[null,null," Block 4 Player 5",null,null,0,{"$f":"BLOCK!O104","v":-1E-3},{"$f":"BLOCK!Q104","v":-1E-3},0]
[null,null," Block 4 Player 6",null,null,0,{"$f":"BLOCK!R104","v":-1E-3},{"$f":"BLOCK!T104","v":-1E-3},0]
[null,null," Block 4 Player 7",null,null,0,{"$f":"BLOCK!U104","v":-1E-3},{"$f":"BLOCK!W104","v":-1E-3},0]
[null,null," Bye ",null,null,0,{"$f":"BLOCK!X104","v":-1E-3},{"$f":"BLOCK!Z104","v":-1E-3},0]
[null,null,null,null,null," ",null,null,0]
[null,null,null,null,null," ",null,null,0]
[null,null,null,null,null," ",null,null,0,"TOURNMT"]
[null,null,null,null,null," ",null,null,0,"NET"]
[null,null,null,null,null," ",null,null,0,{"$f":"SUM(I544:I559)","v":0}]
[null,null,null,null,null," ",null,null,0]
[null,null,null,null,null," ",null,null,0]
[null,null,null,null,null," ",null,null,{"$f":"G558-H558","v":0}]
[null,null,null,null,null," ",null,null,{"$f":"G559-H559","v":0}]
[null,null,null,null,null,"TOURNAMENT SCORE CARD"]
[null,null,null,null,null,{"$f":"BLOCK!N95","v":"Tournament"}]
[null,null,null,null,null,{"$f":"BLOCK!J97","v":"Singles"}]
[null,null,null,null,null,{"$f":"BLOCK!B99","v":"BLOCK 4"}]
[null,null,"PLAYER:",{"$f":"C525","v":" Block 4 Player 3"},null,null,null,"HANDICAP",{"$f":"F525","v":0}]
[null,null,null,null,null,"OPP.","PLAYER","OPP.","NET"]
[null,null,null,"OPPONENT",null,"HCP","SCORE","SCORE","PTS"]
[null,null,{"$f":"D521","v":" Block 4 Player 1"},null,null,{"$f":"I521","v":0},{"$f":"BLOCK!C107","v":-1E-3},{"$f":"BLOCK!E107","v":-1E-3},{"$f":"G567-H567","v":0},"BLOCK"]
[null,null,{"$f":"C524","v":" Block 4 Player 2"},null,null,{"$f":"F524","v":0},{"$f":"BLOCK!F107","v":-1E-3},{"$f":"BLOCK!H107","v":-1E-3},0,"NET"]
[null,null,{"$f":"C526","v":" Block 4 Player 4"},null,null,{"$f":"F526","v":0},{"$f":"BLOCK!L107","v":-1E-3},{"$f":"BLOCK!N107","v":-1E-3},0,{"$f":"SUM(I567:I573)","v":0}]
[null,null,{"$f":"C527","v":" Block 4 Player 5"},null,null,{"$f":"F527","v":0},{"$f":"BLOCK!O107","v":-1E-3},{"$f":"BLOCK!Q107","v":-1E-3},0]
[null,null,{"$f":"C528","v":" Block 4 Player 6"},null,null,{"$f":"F528","v":0},{"$f":"BLOCK!R107","v":-1E-3},{"$f":"BLOCK!T107","v":-1E-3},0]
[null,null,{"$f":"C529","v":" Block 4 Player 7"},null,null,{"$f":"F529","v":0},{"$f":"BLOCK!U107","v":-1E-3},{"$f":"BLOCK!W107","v":-1E-3},0]
[null,null,{"$f":"C530","v":" Bye "},null,null,{"$f":"F530","v":0},{"$f":"BLOCK!X107","v":-1E-3},{"$f":"BLOCK!Z107","v":-1E-3},0]
[null,null,null,null,null," ",null,null,0]
[null,null,null,null,null," ",null,null,0]
[null,null,null,null,null," ",null,null,0,"TOURNMT"]
[null,null,null,null,null," ",null,null,0,"NET"]
[null,null,null,null,null," ",null,null,0,{"$f":"SUM(I567:I582)","v":0}]
[null,null,null,null,null," ",null,null,0]
[null,null,null,null,null," ",null,null,0]
[null,null,null,null,null," ",null,null,{"$f":"G581-H581","v":0}]
[null,null,null,null,null," ",null,null,{"$f":"G582-H582","v":0}]
[]
[null,null,"PLAYER:",{"$f":"C526","v":" Block 4 Player 4"},null,null,null,"HANDICAP",{"$f":"F526","v":0}]
[null,null,null,null,null,"OPP.","PLAYER","OPP.","NET"]
[null,null,null,"OPPONENT",null,"HCP","SCORE","SCORE","PTS"]
[null,null,{"$f":"D521","v":" Block 4 Player 1"},null,null,{"$f":"I521","v":0},{"$f":"BLOCK!C110","v":-1E-3},{"$f":"BLOCK!E110","v":-1E-3},{"$f":"G587-H587","v":0},"BLOCK"]
[null,null,{"$f":"C524","v":" Block 4 Player 2"},null,null,{"$f":"F524","v":0},{"$f":"BLOCK!F110","v":-1E-3},{"$f":"BLOCK!H110","v":-1E-3},0,"NET"]
[null,null,{"$f":"C525","v":" Block 4 Player 3"},null,null,{"$f":"F525","v":0},{"$f":"BLOCK!I110","v":-1E-3},{"$f":"BLOCK!K110","v":-1E-3},0,{"$f":"SUM(I587:I593)","v":0}]
[null,null,{"$f":"C527","v":" Block 4 Player 5"},null,null,{"$f":"F527","v":0},{"$f":"BLOCK!O110","v":-1E-3},{"$f":"BLOCK!Q110","v":-1E-3},0]
[null,null,{"$f":"C528","v":" Block 4 Player 6"},null,null,{"$f":"F528","v":0},{"$f":"BLOCK!R110","v":-1E-3},{"$f":"BLOCK!T110","v":-1E-3},0]
[null,null,{"$f":"C529","v":" Block 4 Player 7"},null,null,{"$f":"F529","v":0},{"$f":"BLOCK!U110","v":-1E-3},{"$f":"BLOCK!W110","v":-1E-3},0]
[null,null,{"$f":"C530","v":" Bye "},null,null,{"$f":"F530","v":0},{"$f":"BLOCK!X110","v":-1E-3},{"$f":"BLOCK!Z110","v":-1E-3},0]
[null,null,null,null,null," ",null,null,0]
[null,null,null,null,null," ",null,null,0]
[null,null,null,null,null," ",null,null,0,"TOURNMT"]
[null,null,null,null,null," ",null,null,0,"NET"]
[null,null,null,null,null," ",null,null,0,{"$f":"SUM(I587:I602)","v":0}]
[null,null,null,null,null," ",null,null,0]
[null,null,null,null,null," ",null,null,0]
[null,null,null,null,null," ",null,null,{"$f":"G601-H601","v":0}]
[null,null,null,null,null," ",null,null,{"$f":"G602-H602","v":0}]
[null,null,null,null,null,"TOURNAMENT SCORE CARD"]
[null,null,null,null,null,{"$f":"BLOCK!N95","v":"Tournament"}]
[null,null,null,null,null,{"$f":"BLOCK!J97","v":"Singles"}]
[null,null,null,null,null,{"$f":"BLOCK!B99","v":"BLOCK 4"}]
[null,null,"PLAYER:",{"$f":"C527","v":" Block 4 Player 5"},null,null,null,"HANDICAP",{"$f":"F527","v":0}]
[null,null,null,null,null,"OPP.","PLAYER","OPP.","NET"]
[null,null,null,"OPPONENT",null,"HCP","SCORE","SCORE","PTS"]
[null,null,{"$f":"D521","v":" Block 4 Player 1"},null,null,{"$f":"I521","v":0},{"$f":"BLOCK!C113","v":-1E-3},{"$f":"BLOCK!E113","v":-1E-3},{"$f":"G610-H610","v":0},"BLOCK"]
[null,null,{"$f":"C524","v":" Block 4 Player 2"},null,null,{"$f":"F524","v":0},{"$f":"BLOCK!F113","v":-1E-3},{"$f":"BLOCK!H113","v":-1E-3},0,"NET"]
[null,null,{"$f":"C525","v":" Block 4 Player 3"},null,null,{"$f":"F525","v":0},{"$f":"BLOCK!I113","v":-1E-3},{"$f":"BLOCK!K113","v":-1E-3},0,{"$f":"SUM(I610:I616)","v":0}]
[null,null,{"$f":"C526","v":" Block 4 Player 4"},null,null,{"$f":"F526","v":0},{"$f":"BLOCK!L113","v":-1E-3},{"$f":"BLOCK!N113","v":-1E-3},0]
[null,null,{"$f":"C528","v":" Block 4 Player 6"},null,null,{"$f":"F528","v":0},{"$f":"BLOCK!R113","v":-1E-3},{"$f":"BLOCK!T113","v":-1E-3},0]
[null,null,{"$f":"C529","v":" Block 4 Player 7"},null,null,{"$f":"F529","v":0},{"$f":"BLOCK!U113","v":-1E-3},{"$f":"BLOCK!W113","v":-1E-3},0]
[null,null,{"$f":"C530","v":" Bye "},null,null,{"$f":"F530","v":0},{"$f":"BLOCK!X113","v":-1E-3},{"$f":"BLOCK!Z113","v":-1E-3},0]
[null,null,null,null,null," ",null,null,0]
[null,null,null,null,null," ",null,null,0]
[null,null,null,null,null," ",null,null,0,"TOURNMT"]
[null,null,null,null,null," ",null,null,0,"NET"]
[null,null,null,null,null," ",null,null,0,{"$f":"SUM(I610:I625)","v":0}]
[null,null,null,null,null," ",null,null,0]
[null,null,null,null,null," ",null,null,0]
[null,null,null,null,null," ",null,null,{"$f":"G624-H624","v":0}]
[null,null,null,null,null," ",null,null,{"$f":"G625-H625","v":0}]
[]
[null,null,"PLAYER:",{"$f":"C528","v":" Block 4 Player 6"},null,null,null,"HANDICAP",{"$f":"F528","v":0}]
[null,null,null,null,null,"OPP.","PLAYER","OPP.","NET"]
[null,null,null,"OPPONENT",null,"HCP","SCORE","SCORE","PTS"]
[null,null,{"$f":"D521","v":" Block 4 Player 1"},null,null,{"$f":"I521","v":0},{"$f":"BLOCK!C116","v":-1E-3},{"$f":"BLOCK!E116","v":-1E-3},{"$f":"G630-H630","v":0},"BLOCK"]
[null,null,{"$f":"C524","v":" Block 4 Player 2"},null,null,{"$f":"F524","v":0},{"$f":"BLOCK!F116","v":-1E-3},{"$f":"BLOCK!H116","v":-1E-3},0,"NET"]
[null,null,{"$f":"C525","v":" Block 4 Player 3"},null,null,{"$f":"F525","v":0},{"$f":"BLOCK!I116","v":-1E-3},{"$f":"BLOCK!K116","v":-1E-3},0,{"$f":"SUM(I630:I636)","v":0}]
[null,null,{"$f":"C526","v":" Block 4 Player 4"},null,null,{"$f":"F526","v":0},{"$f":"BLOCK!L116","v":-1E-3},{"$f":"BLOCK!N116","v":-1E-3},0]
[null,null,{"$f":"C527","v":" Block 4 Player 5"},null,null,{"$f":"F527","v":0},{"$f":"BLOCK!O116","v":-1E-3},{"$f":"BLOCK!Q116","v":-1E-3},0]
[null,null,{"$f":"C529","v":" Block 4 Player 7"},null,null,{"$f":"F529","v":0},{"$f":"BLOCK!U116","v":-1E-3},{"$f":"BLOCK!W116","v":-1E-3},0]
[null,null,{"$f":"C530","v":" Bye "},null,null,{"$f":"F530","v":0},{"$f":"BLOCK!X116","v":-1E-3},{"$f":"BLOCK!Z116","v":-1E-3},0]
[null,null,null,null,null," ",null,null,0]
[null,null,null,null,null," ",null,null,0]
[null,null,null,null,null," ",null,null,0,"TOURNMT"]
[null,null,null,null,null," ",null,null,0,"NET"]
[null,null,null,null,null," ",null,null,0,{"$f":"SUM(I630:I645)","v":0}]
[null,null,null,null,null," ",null,null,0]
[null,null,null,null,null," ",null,null,0]
[null,null,null,null,null," ",null,null,{"$f":"G644-H644","v":0}]
[null,null,null,null,null," ",null,null,{"$f":"G645-H645","v":0}]
[null,null,null,null,null,"TOURNAMENT SCORE CARD"]
[null,null,null,null,null,{"$f":"BLOCK!N95","v":"Tournament"}]
[null,null,null,null,null,{"$f":"BLOCK!J97","v":"Singles"}]
[null,null,null,null,null,{"$f":"BLOCK!B99","v":"BLOCK 4"}]
[null,null,"PLAYER:",{"$f":"C529","v":" Block 4 Player 7"},null,null,null,"HANDICAP",{"$f":"F529","v":0}]
[null,null,null,null,null,"OPP.","PLAYER","OPP.","NET"]
[null,null,null,"OPPONENT",null,"HCP","SCORE","SCORE","PTS"]
[null,null,{"$f":"D521","v":" Block 4 Player 1"},null,null,{"$f":"I521","v":0},{"$f":"BLOCK!C119","v":-1E-3},{"$f":"BLOCK!E119","v":-1E-3},{"$f":"G653-H653","v":0},"BLOCK"]
[null,null,{"$f":"C524","v":" Block 4 Player 2"},null,null,{"$f":"F524","v":0},{"$f":"BLOCK!F119","v":-1E-3},{"$f":"BLOCK!H119","v":-1E-3},0,"NET"]
[null,null,{"$f":"C525","v":" Block 4 Player 3"},null,null,{"$f":"F525","v":0},{"$f":"BLOCK!I119","v":-1E-3},{"$f":"BLOCK!K119","v":-1E-3},0,{"$f":"SUM(I653:I659)","v":0}]
[null,null,{"$f":"C526","v":" Block 4 Player 4"},null,null,{"$f":"F526","v":0},{"$f":"BLOCK!L119","v":-1E-3},{"$f":"BLOCK!N119","v":-1E-3},0]
[null,null,{"$f":"C527","v":" Block 4 Player 5"},null,null,{"$f":"F527","v":0},{"$f":"BLOCK!O119","v":-1E-3},{"$f":"BLOCK!Q119","v":-1E-3},0]
[null,null,{"$f":"C528","v":" Block 4 Player 6"},null,null,{"$f":"F528","v":0},{"$f":"BLOCK!R119","v":-1E-3},{"$f":"BLOCK!T119","v":-1E-3},0]
[null,null,{"$f":"C530","v":" Bye "},null,null,{"$f":"F530","v":0},{"$f":"BLOCK!X119","v":-1E-3},{"$f":"BLOCK!Z119","v":-1E-3},0]
[null,null,null,null,null," ",null,null,0]
[null,null,null,null,null," ",null,null,0]
[null,null,null,null,null," ",null,null,0,"TOURNMT"]
[null,null,null,null,null," ",null,null,0,"NET"]
[null,null,null,null,null," ",null,null,0,{"$f":"SUM(I653:I668)","v":0}]
[null,null,null,null,null," ",null,null,0]
[null,null,null,null,null," ",null,null,0]
[null,null,null,null,null," ",null,null,{"$f":"G667-H667","v":0}]
[null,null,null,null,null," ",null,null,{"$f":"G668-H668","v":0}]
[]
[null,null,"PLAYER:",{"$f":"C530","v":" Bye "},null,null,null,"HANDICAP",{"$f":"F530","v":0}]
[null,null,null,null,null,"OPP.","PLAYER","OPP.","NET"]
[null,null,null,"OPPONENT",null,"HCP","SCORE","SCORE","PTS"]
[null,null,{"$f":"D521","v":" Block 4 Player 1"},null,null,{"$f":"I521","v":0},{"$f":"BLOCK!C122","v":-1E-3},{"$f":"BLOCK!E122","v":-1E-3},{"$f":"G673-H673","v":0},"BLOCK"]
[null,null,{"$f":"C524","v":" Block 4 Player 2"},null,null,{"$f":"F524","v":0},{"$f":"BLOCK!F122","v":-1E-3},{"$f":"BLOCK!H122","v":-1E-3},0,"NET"]
[null,null," Block 4 Player 3",null,null,0,{"$f":"BLOCK!I122","v":-1E-3},{"$f":"BLOCK!K122","v":-1E-3},0,{"$f":"SUM(I673:I679)","v":0}]
[null,null," Block 4 Player 4",null,null,0,{"$f":"BLOCK!L122","v":-1E-3},{"$f":"BLOCK!N122","v":-1E-3},0]
[null,null," Block 4 Player 5",null,null,0,{"$f":"BLOCK!O122","v":-1E-3},{"$f":"BLOCK!Q122","v":-1E-3},0]
[null,null," Block 4 Player 6",null,null,0,{"$f":"BLOCK!R122","v":-1E-3},{"$f":"BLOCK!T122","v":-1E-3},0]
[null,null," Block 4 Player 7",null,null,0,{"$f":"BLOCK!U122","v":-1E-3},{"$f":"BLOCK!W122","v":-1E-3},0]
[null,null,null,null,null," ",null,null,0]
[null,null,null,null,null," ",null,null,0]
[null,null,null,null,null," ",null,null,0,"TOURNMT"]
[null,null,null,null,null," ",null,null,0,"NET"]
[null,null,null,null,null," ",null,null,0,{"$f":"SUM(I673:I688)","v":0}]
[null,null,null,null,null," ",null,null,0]
[null,null,null,null,null," ",null,null,0]
[null,null,null,null,null," ",null,null,{"$f":"G687-H687","v":0}]
[null,null,null,null,null," ",null,null,{"$f":"G688-H688","v":0}]
[null,null,null,null,null,"TOURNAMENT SCORE CARD"]
[null,null,null,null,null,{"$f":"BLOCK!N126","v":"Tournament"}]
[null,null,null,null,null,{"$f":"BLOCK!J128","v":"Singles"}]
[null,null,null,null,null,{"$f":"BLOCK!B130","v":"BLOCK 5"}]
[null,null,"PLAYER:",{"$f":"BLOCK!C130","v":" Block 5 Player 1"},null,null,null,"HANDICAP",{"$f":"BLOCK!B133","v":0}]
[null,null,null,null,null,"OPP.","PLAYER","OPP.","NET"]
[null,null,null,"OPPONENT",null,"HCP","SCORE","SCORE","PTS"]
[null,null,{"$f":"BLOCK!F130","v":" Block 5 Player 2"},null,null,{"$f":"BLOCK!B136","v":0},{"$f":"BLOCK!F132","v":-1E-3},{"$f":"BLOCK!H132","v":-1E-3},{"$f":"G696-H696","v":0},"BLOCK"]
[null,null,{"$f":"BLOCK!I130","v":" Block 5 Player 3"},null,null,{"$f":"BLOCK!B139","v":0},{"$f":"BLOCK!I132","v":-1E-3},{"$f":"BLOCK!K132","v":-1E-3},0,"NET"]
[null,null,{"$f":"BLOCK!L130","v":" Block 5 Player 4"},null,null,{"$f":"BLOCK!B142","v":0},{"$f":"BLOCK!L132","v":-1E-3},{"$f":"BLOCK!N132","v":-1E-3},0,{"$f":"SUM(I696:I702)","v":0}]
[null,null,{"$f":"BLOCK!O130","v":" Block 5 Player 5"},null,null,{"$f":"BLOCK!B145","v":0},{"$f":"BLOCK!O132","v":-1E-3},{"$f":"BLOCK!Q132","v":-1E-3},0]
[null,null,{"$f":"BLOCK!R130","v":" Block 5 Player 6"},null,null,{"$f":"BLOCK!B148","v":0},{"$f":"BLOCK!R132","v":-1E-3},{"$f":"BLOCK!T132","v":-1E-3},0]
[null,null,{"$f":"BLOCK!U130","v":" Block 5 Player 7"},null,null,{"$f":"BLOCK!B151","v":0},{"$f":"BLOCK!U132","v":-1E-3},{"$f":"BLOCK!W132","v":-1E-3},0]
[null,null,{"$f":"BLOCK!X130","v":" Bye "},null,null,{"$f":"BLOCK!B154","v":0},{"$f":"BLOCK!X132","v":-1E-3},{"$f":"BLOCK!Z132","v":-1E-3},0]
[null,null,null,null,null," ",null,null,0]
[null,null,null,null,null," ",null,null,0]
[null,null,null,null,null," ",null,null,0,"TOURNMT"]
[null,null,null,null,null," ",null,null,0,"NET"]
[null,null,null,null,null," ",null,null,0,{"$f":"SUM(I696:I711)","v":0}]
[null,null,null,null,null," ",null,null,0]
[null,null,null,null,null," ",null,null,0]
[null,null,null,null,null," ",null,null,0]
[null,null,null,null,null," ",null,null,0]
[]
[null,null,"PLAYER:",{"$f":"C696","v":" Block 5 Player 2"},null,null,null,"HANDICAP",{"$f":"F696","v":0}]
[null,null,null,null,null,"OPP.","PLAYER","OPP.","NET"]
[null,null,null,"OPPONENT",null,"HCP","SCORE","SCORE","PTS"]
[null,null,{"$f":"D693","v":" Block 5 Player 1"},null,null,{"$f":"I693","v":0},{"$f":"BLOCK!C135","v":-1E-3},{"$f":"BLOCK!E135","v":-1E-3},{"$f":"G716-H716","v":0},"BLOCK"]
[null,null,{"$f":"C697","v":" Block 5 Player 3"},null,null,{"$f":"F697","v":0},{"$f":"BLOCK!I135","v":-1E-3},{"$f":"BLOCK!K135","v":-1E-3},0,"NET"]
[null,null," Block 5 Player 4",null,null,0,{"$f":"BLOCK!L135","v":-1E-3},{"$f":"BLOCK!N135","v":-1E-3},0,{"$f":"SUM(I716:I722)","v":0}]
[null,null," Block 5 Player 5",null,null,0,{"$f":"BLOCK!O135","v":-1E-3},{"$f":"BLOCK!Q135","v":-1E-3},0]
[null,null," Block 5 Player 6",null,null,0,{"$f":"BLOCK!R135","v":-1E-3},{"$f":"BLOCK!T135","v":-1E-3},0]
[null,null," Block 5 Player 7",null,null,0,{"$f":"BLOCK!U135","v":-1E-3},{"$f":"BLOCK!W135","v":-1E-3},0]
[null,null," Bye ",null,null,0,{"$f":"BLOCK!X135","v":-1E-3},{"$f":"BLOCK!Z135","v":-1E-3},0]
[null,null,null,null,null," ",null,null,0]
[null,null,null,null,null," ",null,null,0]
[null,null,null,null,null," ",null,null,0,"TOURNMT"]
[null,null,null,null,null," ",null,null,0,"NET"]
[null,null,null,null,null," ",null,null,0,{"$f":"SUM(I716:I731)","v":0}]
[null,null,null,null,null," ",null,null,0]
[null,null,null,null,null," ",null,null,0]
[null,null,null,null,null," ",null,null,0]
[null,null,null,null,null," ",null,null,0]
[null,null,null,null,null,"TOURNAMENT SCORE CARD"]
[null,null,null,null,null,{"$f":"F690","v":"Tournament"}]
[null,null,null,null,null,{"$f":"F691","v":"Singles"}]
[null,null,null,null,null,{"$f":"F692","v":"BLOCK 5"}]
[null,null,"PLAYER:",{"$f":"C697","v":" Block 5 Player 3"},null,null,null,"HANDICAP",{"$f":"F697","v":0}]
[null,null,null,null,null,"OPP.","PLAYER","OPP.","NET"]
[null,null,null,"OPPONENT",null,"HCP","SCORE","SCORE","PTS"]
[null,null,{"$f":"D693","v":" Block 5 Player 1"},null,null,{"$f":"I693","v":0},{"$f":"BLOCK!C138","v":-1E-3},{"$f":"BLOCK!E138","v":-1E-3},{"$f":"G739-H739","v":0},"BLOCK"]
[null,null,{"$f":"C696","v":" Block 5 Player 2"},null,null,{"$f":"F696","v":0},{"$f":"BLOCK!F138","v":-1E-3},{"$f":"BLOCK!H138","v":-1E-3},0,"NET"]
[null,null,{"$f":"C698","v":" Block 5 Player 4"},null,null,{"$f":"F698","v":0},{"$f":"BLOCK!L138","v":-1E-3},{"$f":"BLOCK!N138","v":-1E-3},0,{"$f":"SUM(I739:I745)","v":0}]
[null,null,{"$f":"C699","v":" Block 5 Player 5"},null,null,{"$f":"F699","v":0},{"$f":"BLOCK!O138","v":-1E-3},{"$f":"BLOCK!Q138","v":-1E-3},0]
[null,null,{"$f":"C700","v":" Block 5 Player 6"},null,null,{"$f":"F700","v":0},{"$f":"BLOCK!R138","v":-1E-3},{"$f":"BLOCK!T138","v":-1E-3},0]
[null,null,{"$f":"C701","v":" Block 5 Player 7"},null,null,{"$f":"F701","v":0},{"$f":"BLOCK!U138","v":-1E-3},{"$f":"BLOCK!W138","v":-1E-3},0]
[null,null,{"$f":"C702","v":" Bye "},null,null,{"$f":"F702","v":0},{"$f":"BLOCK!X138","v":-1E-3},{"$f":"BLOCK!Z138","v":-1E-3},0]
[null,null,null,null,null," ",null,null,0]
[null,null,null,null,null," ",null,null,0]
[null,null,null,null,null," ",null,null,0,"TOURNMT"]
[null,null,null,null,null," ",null,null,0,"NET"]
[null,null,null,null,null," ",null,null,0,{"$f":"SUM(I739:I754)","v":0}]
[null,null,null,null,null," ",null,null,0]
[null,null,null,null,null," ",null,null,0]
[null,null,null,null,null," ",null,null,0]
[null,null,null,null,null," ",null,null,0]
[]
[null,null,"PLAYER:",{"$f":"C698","v":" Block 5 Player 4"},null,null,null,"HANDICAP",{"$f":"F698","v":0}]
[null,null,null,null,null,"OPP.","PLAYER","OPP.","NET"]
[null,null,null,"OPPONENT",null,"HCP","SCORE","SCORE","PTS"]
[null,null,{"$f":"D693","v":" Block 5 Player 1"},null,null,{"$f":"I693","v":0},{"$f":"BLOCK!C141","v":-1E-3},{"$f":"BLOCK!E141","v":-1E-3},{"$f":"G759-H759","v":0},"BLOCK"]
[null,null,{"$f":"C696","v":" Block 5 Player 2"},null,null,{"$f":"F696","v":0},{"$f":"BLOCK!F141","v":-1E-3},{"$f":"BLOCK!H141","v":-1E-3},0,"NET"]
[null,null,{"$f":"C697","v":" Block 5 Player 3"},null,null,{"$f":"F697","v":0},{"$f":"BLOCK!I141","v":-1E-3},{"$f":"BLOCK!K141","v":-1E-3},0,{"$f":"SUM(I759:I765)","v":0}]
[null,null,{"$f":"C699","v":" Block 5 Player 5"},null,null,{"$f":"F699","v":0},{"$f":"BLOCK!O141","v":-1E-3},{"$f":"BLOCK!Q141","v":-1E-3},0]
[null,null,{"$f":"C700","v":" Block 5 Player 6"},null,null,{"$f":"F700","v":0},{"$f":"BLOCK!R141","v":-1E-3},{"$f":"BLOCK!T141","v":-1E-3},0]
[null,null,{"$f":"C701","v":" Block 5 Player 7"},null,null,{"$f":"F701","v":0},{"$f":"BLOCK!U141","v":-1E-3},{"$f":"BLOCK!W141","v":-1E-3},0]
[null,null,{"$f":"C702","v":" Bye "},null,null,{"$f":"F702","v":0},{"$f":"BLOCK!X141","v":-1E-3},{"$f":"BLOCK!Z141","v":-1E-3},0]
[null,null,null,null,null," ",null,null,0]
[null,null,null,null,null," ",null,null,0]
[null,null,null,null,null," ",null,null,0,"TOURNMT"]
[null,null,null,null,null," ",null,null,0,"NET"]
[null,null,null,null,null," ",null,null,0,{"$f":"SUM(I759:I774)","v":0}]
[null,null,null,null,null," ",null,null,0]
[null,null,null,null,null," ",null,null,0]
[null,null,null,null,null," ",null,null,0]
[null,null,null,null,null," ",null,null,0]
[null,null,null,null,null,"TOURNAMENT SCORE CARD"]
[null,null,null,null,null,{"$f":"F733","v":"Tournament"}]
[null,null,null,null,null,{"$f":"F734","v":"Singles"}]
[null,null,null,null,null,{"$f":"F735","v":"BLOCK 5"}]
[null,null,"PLAYER:",{"$f":"C699","v":" Block 5 Player 5"},null,null,null,"HANDICAP",{"$f":"F699","v":0}]
[null,null,null,null,null,"OPP.","PLAYER","OPP.","NET"]
[null,null,null,"OPPONENT",null,"HCP","SCORE","SCORE","PTS"]
[null,null,{"$f":"D693","v":" Block 5 Player 1"},null,null,{"$f":"I693","v":0},{"$f":"BLOCK!C144","v":-1E-3},{"$f":"BLOCK!E144","v":-1E-3},{"$f":"G782-H782","v":0},"BLOCK"]
[null,null,{"$f":"C696","v":" Block 5 Player 2"},null,null,{"$f":"F696","v":0},{"$f":"BLOCK!F144","v":-1E-3},{"$f":"BLOCK!H144","v":-1E-3},0,"NET"]
[null,null,{"$f":"C697","v":" Block 5 Player 3"},null,null,{"$f":"F697","v":0},{"$f":"BLOCK!I144","v":-1E-3},{"$f":"BLOCK!K144","v":-1E-3},0,{"$f":"SUM(I782:I788)","v":0}]
[null,null,{"$f":"C698","v":" Block 5 Player 4"},null,null,{"$f":"F698","v":0},{"$f":"BLOCK!L144","v":-1E-3},{"$f":"BLOCK!N144","v":-1E-3},0]
[null,null,{"$f":"C700","v":" Block 5 Player 6"},null,null,{"$f":"F700","v":0},{"$f":"BLOCK!R144","v":-1E-3},{"$f":"BLOCK!T144","v":-1E-3},0]
[null,null,{"$f":"C701","v":" Block 5 Player 7"},null,null,{"$f":"F701","v":0},{"$f":"BLOCK!U144","v":-1E-3},{"$f":"BLOCK!W144","v":-1E-3},0]
[null,null,{"$f":"C702","v":" Bye "},null,null,{"$f":"F702","v":0},{"$f":"BLOCK!X144","v":-1E-3},{"$f":"BLOCK!Z144","v":-1E-3},0]
[null,null,null,null,null," ",null,null,0]
[null,null,null,null,null," ",null,null,0]
[null,null,null,null,null," ",null,null,0,"TOURNMT"]
[null,null,null,null,null," ",null,null,0,"NET"]
[null,null,null,null,null," ",null,null,0,{"$f":"SUM(I782:I797)","v":0}]
[null,null,null,null,null," ",null,null,0]
[null,null,null,null,null," ",null,null,0]
[null,null,null,null,null," ",null,null,0]
[null,null,null,null,null," ",null,null,0]
[]
[null,null,"PLAYER:",{"$f":"C700","v":" Block 5 Player 6"},null,null,null,"HANDICAP",{"$f":"F700","v":0}]
[null,null,null,null,null,"OPP.","PLAYER","OPP.","NET"]
[null,null,null,"OPPONENT",null,"HCP","SCORE","SCORE","PTS"]
[null,null,{"$f":"D693","v":" Block 5 Player 1"},null,null,{"$f":"I693","v":0},{"$f":"BLOCK!C147","v":-1E-3},{"$f":"BLOCK!E147","v":-1E-3},{"$f":"G802-H802","v":0},"BLOCK"]
[null,null,{"$f":"C696","v":" Block 5 Player 2"},null,null,{"$f":"F696","v":0},{"$f":"BLOCK!F147","v":-1E-3},{"$f":"BLOCK!H147","v":-1E-3},0,"NET"]
[null,null,{"$f":"C697","v":" Block 5 Player 3"},null,null,{"$f":"F697","v":0},{"$f":"BLOCK!I147","v":-1E-3},{"$f":"BLOCK!K147","v":-1E-3},0,{"$f":"SUM(I802:I808)","v":0}]
[null,null,{"$f":"C698","v":" Block 5 Player 4"},null,null,{"$f":"F698","v":0},{"$f":"BLOCK!L147","v":-1E-3},{"$f":"BLOCK!N147","v":-1E-3},0]
[null,null,{"$f":"C699","v":" Block 5 Player 5"},null,null,{"$f":"F699","v":0},{"$f":"BLOCK!O147","v":-1E-3},{"$f":"BLOCK!Q147","v":-1E-3},0]
[null,null,{"$f":"C701","v":" Block 5 Player 7"},null,null,{"$f":"F701","v":0},{"$f":"BLOCK!U147","v":-1E-3},{"$f":"BLOCK!W147","v":-1E-3},0]
[null,null,{"$f":"C702","v":" Bye "},null,null,{"$f":"F702","v":0},{"$f":"BLOCK!X147","v":-1E-3},{"$f":"BLOCK!Z147","v":-1E-3},0]
[null,null,null,null,null," ",null,null,0]
[null,null,null,null,null," ",null,null,0]
[null,null,null,null,null," ",null,null,0,"TOURNMT"]
[null,null,null,null,null," ",null,null,0,"NET"]
[null,null,null,null,null," ",null,null,0,{"$f":"SUM(I802:I817)","v":0}]
[null,null,null,null,null," ",null,null,0]
[null,null,null,null,null," ",null,null,0]
[null,null,null,null,null," ",null,null,0]
[null,null,null,null,null," ",null,null,0]
[null,null,null,null,null,"TOURNAMENT SCORE CARD"]
[null,null,null,null,null,{"$f":"F776","v":"Tournament"}]
[null,null,null,null,null,{"$f":"F777","v":"Singles"}]
[null,null,null,null,null,{"$f":"F778","v":"BLOCK 5"}]
[null,null,"PLAYER:",{"$f":"C701","v":" Block 5 Player 7"},null,null,null,"HANDICAP",{"$f":"F701","v":0}]
[null,null,null,null,null,"OPP.","PLAYER","OPP.","NET"]
[null,null,null,"OPPONENT",null,"HCP","SCORE","SCORE","PTS"]
[null,null,{"$f":"D693","v":" Block 5 Player 1"},null,null,{"$f":"I693","v":0},{"$f":"BLOCK!C150","v":-1E-3},{"$f":"BLOCK!E150","v":-1E-3},{"$f":"G825-H825","v":0},"BLOCK"]
[null,null,{"$f":"C696","v":" Block 5 Player 2"},null,null,{"$f":"F696","v":0},{"$f":"BLOCK!F150","v":-1E-3},{"$f":"BLOCK!H150","v":-1E-3},0,"NET"]
[null,null,{"$f":"C697","v":" Block 5 Player 3"},null,null,{"$f":"F697","v":0},{"$f":"BLOCK!I150","v":-1E-3},{"$f":"BLOCK!K150","v":-1E-3},0,{"$f":"SUM(I825:I831)","v":0}]
[null,null,{"$f":"C698","v":" Block 5 Player 4"},null,null,{"$f":"F698","v":0},{"$f":"BLOCK!L150","v":-1E-3},{"$f":"BLOCK!N150","v":-1E-3},0]
[null,null,{"$f":"C699","v":" Block 5 Player 5"},null,null,{"$f":"F699","v":0},{"$f":"BLOCK!O150","v":-1E-3},{"$f":"BLOCK!Q150","v":-1E-3},0]
[null,null,{"$f":"C700","v":" Block 5 Player 6"},null,null,{"$f":"F700","v":0},{"$f":"BLOCK!R150","v":-1E-3},{"$f":"BLOCK!T150","v":-1E-3},0]
[null,null,{"$f":"C702","v":" Bye "},null,null,{"$f":"F702","v":0},{"$f":"BLOCK!X150","v":-1E-3},{"$f":"BLOCK!Z150","v":-1E-3},0]
[null,null,null,null,null," ",null,null,0]
[null,null,null,null,null," ",null,null,0]
[null,null,null,null,null," ",null,null,0,"TOURNMT"]
[null,null,null,null,null," ",null,null,0,"NET"]
[null,null,null,null,null," ",null,null,0,{"$f":"SUM(I825:I840)","v":0}]
[null,null,null,null,null," ",null,null,0]
[null,null,null,null,null," ",null,null,0]
[null,null,null,null,null," ",null,null,0]
[null,null,null,null,null," ",null,null,0]
[]
[null,null,"PLAYER:",{"$f":"C702","v":" Bye "},null,null,null,"HANDICAP",{"$f":"F702","v":0}]
[null,null,null,null,null,"OPP.","PLAYER","OPP.","NET"]
[null,null,null,"OPPONENT",null,"HCP","SCORE","SCORE","PTS"]
[null,null,{"$f":"D693","v":" Block 5 Player 1"},null,null,{"$f":"I693","v":0},{"$f":"BLOCK!C153","v":-1E-3},{"$f":"BLOCK!E153","v":-1E-3},{"$f":"G845-H845","v":0},"BLOCK"]
[null,null,{"$f":"C696","v":" Block 5 Player 2"},null,null,{"$f":"F696","v":0},{"$f":"BLOCK!F153","v":-1E-3},{"$f":"BLOCK!H153","v":-1E-3},0,"NET"]
[null,null," Block 5 Player 3",null,null,0,{"$f":"BLOCK!I153","v":-1E-3},{"$f":"BLOCK!K153","v":-1E-3},0,{"$f":"SUM(I845:I851)","v":0}]
[null,null," Block 5 Player 4",null,null,0,{"$f":"BLOCK!L153","v":-1E-3},{"$f":"BLOCK!N153","v":-1E-3},0]
[null,null," Block 5 Player 5",null,null,0,{"$f":"BLOCK!O153","v":-1E-3},{"$f":"BLOCK!Q153","v":-1E-3},0]
[null,null," Block 5 Player 6",null,null,0,{"$f":"BLOCK!R153","v":-1E-3},{"$f":"BLOCK!T153","v":-1E-3},0]
[null,null," Block 5 Player 7",null,null,0,{"$f":"BLOCK!U153","v":-1E-3},{"$f":"BLOCK!W153","v":-1E-3},0]
[null,null,null,null,null," ",null,null,0]
[null,null,null,null,null," ",null,null,0,"TOURNMT"]
[null,null,null,null,null," ",null,null,0,"NET"]
[null,null,null,null,null," ",null,null,0,{"$f":"SUM(I844:I859)","v":0}]
[null,null,null,null,null," ",null,null,0]
[null,null,null,null,null," ",null,null,0]
[null,null,null,null,null," ",null,null,0]
[null,null,null,null,null," ",null,null,0]
[null,null,null,null,null," "]

{"sheet":"PLAYER","index":10,"n_rows":2084,"n_cols":11,"rows_kept":2084,"cut":false,"hidden":false,"merged":[]}
[null,null,null,null,{"$f":"C16","v":" Block 1 Player 1"}]
[null,null,null,null,{"$f":"BLOCK!N2","v":"Tournament"}]
[null,null,null,null,{"$f":"BLOCK!J4","v":"Singles"}]
[null,null,null,null,{"$f":"BLOCK!B6","v":"BLOCK 1"}]
[]
[null,null,null,null,"BLOCK PLAY SCHEDULE"]
[null,"TIME","DAY","COURT",null,"OPPONENT",null,null,"Handicap","PS","OS"]
[null,{"$f":"GAMES!$B$5","v":"00:00:00"},{"$f":"GAMES!C5","v":"00:00:00"},{"$f":"GAMES!$D$5","v":0},null,{"$f":"GAMES!$G$5","v":" Block 1 Player 3"},null,null,{"$f":"$E$20","v":0},{"$f":"$F$20","v":-1E-3},{"$f":"$G$20","v":-1E-3}]
[null,{"$f":"GAMES!$B$9","v":"00:00:00"},{"$f":"GAMES!$C$9","v":"00:00:00"},{"$f":"GAMES!$D$9","v":0},null,{"$f":"GAMES!$G$9","v":" Block 1 Player 4"},null,null,{"$f":"$E$21","v":0},{"$f":"$F$21","v":-1E-3},{"$f":"$G$21","v":-1E-3}]
[null,{"$f":"GAMES!$B$13","v":"00:00:00"},{"$f":"GAMES!$C$13","v":"00:00:00"},{"$f":"GAMES!$D$13","v":0},null,{"$f":"GAMES!$G$13","v":" Block 1 Player 5"},null,null,{"$f":"$E$22","v":0},{"$f":"$F$22","v":-1E-3},{"$f":"$G$22","v":-1E-3}]
[null,{"$f":"GAMES!$B$17","v":"00:00:00"},{"$f":"GAMES!$C$17","v":"00:00:00"},{"$f":"GAMES!$D$17","v":0},null,{"$f":"GAMES!$G$17","v":" Block 1 Player 6"},null,null,{"$f":"$E$23","v":0},{"$f":"$F$23","v":-1E-3},{"$f":"$G$23","v":-1E-3}]
[null,{"$f":"GAMES!$B$21","v":"00:00:00"},{"$f":"GAMES!$C$21","v":"00:00:00"},{"$f":"GAMES!$D$21","v":0},null,{"$f":"GAMES!$G$21","v":" Block 1 Player 7"},null,null,{"$f":"$E$24","v":0},{"$f":"$F$24","v":-1E-3},{"$f":"$G$24","v":-1E-3}]
[null,{"$f":"GAMES!$B$25","v":"00:00:00"},{"$f":"GAMES!$C$25","v":"00:00:00"},{"$f":"GAMES!$D$25","v":"--"},null,{"$f":"GAMES!$G$25","v":" Bye "},null,null,{"$f":"$E$25","v":0},{"$f":"$F$25","v":-1E-3},{"$f":"$G$25","v":-1E-3}]
[null,{"$f":"GAMES!$B$29","v":"00:00:00"},{"$f":"GAMES!$C$29","v":"00:00:00"},{"$f":"GAMES!$D$29","v":0},null,{"$f":"GAMES!$G$29","v":" Block 1 Player 2"},null,null,{"$f":"$E$19","v":0},{"$f":"$F$19","v":-1E-3},{"$f":"$G$19","v":-1E-3}]
[]
[null,"PLAYER:",{"$f":"BLOCK!C6","v":" Block 1 Player 1"},null,null,null,"HANDICAP",{"$f":"BLOCK!B9","v":0}]
[null,null,null,null,"OPP","PLAYER","OPP","H/CAP"]
[null,null,"OPPONENT",null,"HCP","SCORE","SCORE","PTS"]
[null,{"$f":"SCORECARD!C8","v":" Block 1 Player 2"},null,null,{"$f":"SCORECARD!F8","v":0},{"$f":"SCORECARD!G8","v":-1E-3},{"$f":"SCORECARD!H8","v":-1E-3},{"$f":"IF(NOT(OR(F19>0,G19>0)),\"\",IF(HandicapPlay=\"x\",IF(F19>G19,10,-10),IF((F19-G19>0),(VLOOKUP(OFFSET(H19,-3,0),(TABLE!WIN),(MATCH(E19,WINCOL,0)+1))),(VLOOKUP(OFFSET(H19,-3,0),(TABLE!LOSE),(MATCH(E19,LOSECOL,0)+1))))))","v":""}]
[null,{"$f":"SCORECARD!C9","v":" Block 1 Player 3"},null,null,{"$f":"SCORECARD!F9","v":0},{"$f":"SCORECARD!G9","v":-1E-3},{"$f":"SCORECARD!H9","v":-1E-3},{"$f":"IF(NOT(OR(F20>0,G20>0)),\"\",IF(HandicapPlay=\"x\",IF(F20>G20,10,-10),IF((F20-G20>0),(VLOOKUP(OFFSET(H20,-4,0),(TABLE!WIN),(MATCH(E20,WINCOL,0)+1))),(VLOOKUP(OFFSET(H20,-4,0),(TABLE!LOSE),(MATCH(E20,LOSECOL,0)+1))))))","v":""}]
[null,{"$f":"SCORECARD!C10","v":" Block 1 Player 4"},null,null,{"$f":"SCORECARD!F10","v":0},{"$f":"SCORECARD!G10","v":-1E-3},{"$f":"SCORECARD!H10","v":-1E-3},{"$f":"IF(NOT(OR(F21>0,G21>0)),\"\",IF(HandicapPlay=\"x\",IF(F21>G21,10,-10),IF((F21-G21>0),(VLOOKUP(OFFSET(H21,-5,0),(TABLE!WIN),(MATCH(E21,WINCOL,0)+1))),(VLOOKUP(OFFSET(H21,-5,0),(TABLE!LOSE),(MATCH(E21,LOSECOL,0)+1))))))","v":""}]
[null,{"$f":"SCORECARD!C11","v":" Block 1 Player 5"},null,null,{"$f":"SCORECARD!F11","v":0},{"$f":"SCORECARD!G11","v":-1E-3},{"$f":"SCORECARD!H11","v":-1E-3},{"$f":"IF(NOT(OR(F22>0,G22>0)),\"\",IF(HandicapPlay=\"x\",IF(F22>G22,10,-10),IF((F22-G22>0),(VLOOKUP(OFFSET(H22,-6,0),(TABLE!WIN),(MATCH(E22,WINCOL,0)+1))),(VLOOKUP(OFFSET(H22,-6,0),(TABLE!LOSE),(MATCH(E22,LOSECOL,0)+1))))))","v":""}]
[null,{"$f":"SCORECARD!C12","v":" Block 1 Player 6"},null,null,{"$f":"SCORECARD!F12","v":0},{"$f":"SCORECARD!G12","v":-1E-3},{"$f":"SCORECARD!H12","v":-1E-3},{"$f":"IF(NOT(OR(F23>0,G23>0)),\"\",IF(HandicapPlay=\"x\",IF(F23>G23,10,-10),IF((F23-G23>0),(VLOOKUP(OFFSET(H23,-7,0),(TABLE!WIN),(MATCH(E23,WINCOL,0)+1))),(VLOOKUP(OFFSET(H23,-7,0),(TABLE!LOSE),(MATCH(E23,LOSECOL,0)+1))))))","v":""}]
[null,{"$f":"SCORECARD!C13","v":" Block 1 Player 7"},null,null,{"$f":"SCORECARD!F13","v":0},{"$f":"SCORECARD!G13","v":-1E-3},{"$f":"SCORECARD!H13","v":-1E-3},{"$f":"IF(NOT(OR(F24>0,G24>0)),\"\",IF(HandicapPlay=\"x\",IF(F24>G24,10,-10),IF((F24-G24>0),(VLOOKUP(OFFSET(H24,-8,0),(TABLE!WIN),(MATCH(E24,WINCOL,0)+1))),(VLOOKUP(OFFSET(H24,-8,0),(TABLE!LOSE),(MATCH(E24,LOSECOL,0)+1))))))","v":""}]
[null,{"$f":"SCORECARD!C14","v":" Bye "},null,null,{"$f":"SCORECARD!F14","v":0},{"$f":"SCORECARD!G14","v":-1E-3},{"$f":"SCORECARD!H14","v":-1E-3},{"$f":"IF(NOT(OR(F25>0,G25>0)),\"\",IF(HandicapPlay=\"x\",IF(F25>G25,10,-10),IF((F25-G25>0),(VLOOKUP(OFFSET(H25,-9,0),(TABLE!WIN),(MATCH(E25,WINCOL,0)+1))),(VLOOKUP(OFFSET(H25,-9,0),(TABLE!LOSE),(MATCH(E25,LOSECOL,0)+1))))))","v":""}]
[null,{"$f":"SCORECARD!C15","v":0},null,null,{"$f":"SCORECARD!F15","v":" "},{"$f":"SCORECARD!G15","v":0},{"$f":"SCORECARD!H15","v":0},{"$f":"IF(NOT(OR(F26>0,G26>0)),\"\",(IF((F26-G26>0),(VLOOKUP(H$16,(TABLE!WIN),(E26*2))),(VLOOKUP(H$16,(TABLE!LOSE),(E26*2))))))","v":""}]
[null,{"$f":"SCORECARD!C16","v":0},null,null,{"$f":"SCORECARD!F16","v":" "},{"$f":"SCORECARD!G16","v":0},{"$f":"SCORECARD!H16","v":0},{"$f":"IF(NOT(OR(F27>0,G27>0)),\"\",(IF((F27-G27>0),(VLOOKUP(H$16,(TABLE!WIN),(E27*2))),(VLOOKUP(H$16,(TABLE!LOSE),(E27*2))))))","v":""}]
[null,{"$f":"SCORECARD!C17","v":0},null,null,{"$f":"SCORECARD!F17","v":" "},{"$f":"SCORECARD!G17","v":0},{"$f":"SCORECARD!H17","v":0},{"$f":"IF(NOT(OR(F28>0,G28>0)),\"\",(IF((F28-G28>0),(VLOOKUP(H$16,(TABLE!WIN),(E28*2))),(VLOOKUP(H$16,(TABLE!LOSE),(E28*2))))))","v":""}]
[null,{"$f":"SCORECARD!C18","v":0},null,null,{"$f":"SCORECARD!F18","v":" "},{"$f":"SCORECARD!G18","v":0},{"$f":"SCORECARD!H18","v":0},{"$f":"IF(NOT(OR(F29>0,G29>0)),\"\",(IF((F29-G29>0),(VLOOKUP(H$16,(TABLE!WIN),(E29*2))),(VLOOKUP(H$16,(TABLE!LOSE),(E29*2))))))","v":""}]
[null,{"$f":"SCORECARD!C19","v":0},null,null,{"$f":"SCORECARD!F19","v":" "},{"$f":"SCORECARD!G19","v":0},{"$f":"SCORECARD!H19","v":0},{"$f":"IF(NOT(OR(F30>0,G30>0)),\"\",(IF((F30-G30>0),(VLOOKUP(H$16,(TABLE!WIN),(E30*2))),(VLOOKUP(H$16,(TABLE!LOSE),(E30*2))))))","v":""}]
[null,{"$f":"SCORECARD!C20","v":0},null,null,{"$f":"SCORECARD!F20","v":" "},{"$f":"SCORECARD!G20","v":0},{"$f":"SCORECARD!H20","v":0},{"$f":"IF(NOT(OR(F31>0,G31>0)),\"\",(IF((F31-G31>0),(VLOOKUP(H$16,(TABLE!WIN),(E31*2))),(VLOOKUP(H$16,(TABLE!LOSE),(E31*2))))))","v":""}]
[null,{"$f":"SCORECARD!C21","v":0},null,null,{"$f":"SCORECARD!F21","v":" "},{"$f":"SCORECARD!G21","v":0},{"$f":"SCORECARD!H21","v":0},{"$f":"IF(NOT(OR(F32>0,G32>0)),\"\",(IF((F32-G32>0),(VLOOKUP(H$16,(TABLE!WIN),(E32*2))),(VLOOKUP(H$16,(TABLE!LOSE),(E32*2))))))","v":""}]
[null,{"$f":"SCORECARD!C22","v":0},null,null,{"$f":"SCORECARD!F22","v":" "},{"$f":"SCORECARD!G22","v":0},{"$f":"SCORECARD!H22","v":0},{"$f":"IF(NOT(OR(F33>0,G33>0)),\"\",(IF((F33-G33>0),(VLOOKUP(H$16,(TABLE!WIN),(E33*2))),(VLOOKUP(H$16,(TABLE!LOSE),(E33*2))))))","v":""}]
[null,{"$f":"SCORECARD!C23","v":0},null,null,{"$f":"SCORECARD!F23","v":" "},{"$f":"SCORECARD!G23","v":0},{"$f":"SCORECARD!H23","v":0},{"$f":"IF(NOT(OR(F34>0,G34>0)),\"\",(IF((F34-G34>0),(VLOOKUP(H$16,(TABLE!WIN),(E34*2))),(VLOOKUP(H$16,(TABLE!LOSE),(E34*2))))))","v":""}]
[]
[null,null,null,null,null,null,"Handicap adjustment points total   ",{"$f":"SUM(H19:H34)","v":0}]
[]
[]
[]
[]
[]
[]
[]
[]
[]
[]
[]
[]
[{"$f":"note1","v":"Time limit 2.5 hours, Turn After Bell (61.1.6). Quadway hoops (3 11/16\"), Dawson International balls"}]
[{"$f":"note2","v":"Games may start early. Please be at the venue at least 30 minutes earlier than the scheduled start time."}]
[{"$f":"note3","v":"Entry Fee $40 will be invoiced by email. Please pay by EFT using the invoice No. as reference."}]
[{"$f":"note4","v":"Players please assist with setting and clearing courts."}]
[null,null,null,null,{"$f":"BLOCK!F6","v":" Block 1 Player 2"}]
[null,null,null,null,{"$f":"BLOCK!N2","v":"Tournament"}]
[null,null,null,null,{"$f":"BLOCK!J4","v":"Singles"}]
[null,null,null,null,{"$f":"BLOCK!B6","v":"BLOCK 1"}]
[]
[null,null,null,null,"BLOCK PLAY SCHEDULE"]
[null,"TIME","DAY","COURT",null,"OPPONENT",null,null,"Handicap","PS","OS"]
[null,{"$f":"GAMES!B6","v":"00:00:00"},{"$f":"GAMES!C6","v":"00:00:00"},{"$f":"GAMES!D6","v":0},null,{"$f":"GAMES!G6","v":" Block 1 Player 4"},null,null,{"$f":"$E$73","v":0},{"$f":"$F$73","v":-1E-3},{"$f":"$G$73","v":-1E-3}]
[null,{"$f":"GAMES!B11","v":"00:00:00"},{"$f":"GAMES!C11","v":"00:00:00"},{"$f":"GAMES!D11","v":0},null,{"$f":"GAMES!G11","v":" Block 1 Player 6"},null,null,{"$f":"$E$75","v":0},{"$f":"$F$75","v":-1E-3},{"$f":"$G$75","v":-1E-3}]
[null,{"$f":"GAMES!B16","v":"00:00:00"},{"$f":"GAMES!C16","v":"00:00:00"},{"$f":"GAMES!D16","v":"--"},null,{"$f":"GAMES!G16","v":" Bye "},null,null,{"$f":"$E$77","v":0},{"$f":"$F$77","v":-1E-3},{"$f":"$G$77","v":-1E-3}]
[null,{"$f":"GAMES!B20","v":"00:00:00"},{"$f":"GAMES!C20","v":"00:00:00"},{"$f":"GAMES!D20","v":0},null,{"$f":"GAMES!E20","v":" Block 1 Player 3"},null,null,{"$f":"$E$72","v":0},{"$f":"$F$72","v":-1E-3},{"$f":"$G$72","v":-1E-3}]
[null,{"$f":"GAMES!B23","v":"00:00:00"},{"$f":"GAMES!C23","v":"00:00:00"},{"$f":"GAMES!D23","v":0},null,{"$f":"GAMES!E23","v":" Block 1 Player 5"},null,null,{"$f":"$E$74","v":0},{"$f":"$F$74","v":-1E-3},{"$f":"$G$74","v":-1E-3}]
[null,{"$f":"GAMES!B26","v":"00:00:00"},{"$f":"GAMES!C26","v":"00:00:00"},{"$f":"GAMES!D26","v":0},null,{"$f":"GAMES!E26","v":" Block 1 Player 7"},null,null,{"$f":"$E$76","v":0},{"$f":"$F$76","v":-1E-3},{"$f":"$G$76","v":-1E-3}]
[null,{"$f":"GAMES!B29","v":"00:00:00"},{"$f":"GAMES!C29","v":"00:00:00"},{"$f":"GAMES!D29","v":0},null,{"$f":"GAMES!E29","v":" Block 1 Player 1"},null,null,{"$f":"$E$71","v":0},{"$f":"$F$71","v":-1E-3},{"$f":"$G$71","v":-1E-3}]
[]
[null,"PLAYER:",{"$f":"BLOCK!F6","v":" Block 1 Player 2"},null,null,null,"HANDICAP",{"$f":"BLOCK!B12","v":0}]
[null,null,null,null,"OPP","PLAYER","OPP","H/CAP"]
[null,null,"OPPONENT",null,"HCP","SCORE","SCORE","PTS"]
[null,{"$f":"SCORECARD!C28","v":" Block 1 Player 1"},null,null,{"$f":"SCORECARD!F28","v":0},{"$f":"SCORECARD!G28","v":-1E-3},{"$f":"SCORECARD!H28","v":-1E-3},{"$f":"IF(NOT(OR(F71>0,G71>0)),\"\",IF(HandicapPlay=\"x\",IF(F71>G71,10,-10),IF((F71-G71>0),(VLOOKUP(OFFSET(H71,-3,0),(TABLE!WIN),(MATCH(E71,WINCOL,0)+1))),(VLOOKUP(OFFSET(H71,-3,0),(TABLE!LOSE),(MATCH(E71,LOSECOL,0)+1))))))","v":""}]
[null,{"$f":"SCORECARD!C29","v":" Block 1 Player 3"},null,null,{"$f":"SCORECARD!F29","v":0},{"$f":"SCORECARD!G29","v":-1E-3},{"$f":"SCORECARD!H29","v":-1E-3},{"$f":"IF(NOT(OR(F72>0,G72>0)),\"\",IF(HandicapPlay=\"x\",IF(F72>G72,10,-10),IF((F72-G72>0),(VLOOKUP(OFFSET(H72,-4,0),(TABLE!WIN),(MATCH(E72,WINCOL,0)+1))),(VLOOKUP(OFFSET(H72,-4,0),(TABLE!LOSE),(MATCH(E72,LOSECOL,0)+1))))))","v":""}]
[null,{"$f":"SCORECARD!C30","v":" Block 1 Player 4"},null,null,{"$f":"SCORECARD!F30","v":0},{"$f":"SCORECARD!G30","v":-1E-3},{"$f":"SCORECARD!H30","v":-1E-3},{"$f":"IF(NOT(OR(F73>0,G73>0)),\"\",IF(HandicapPlay=\"x\",IF(F73>G73,10,-10),IF((F73-G73>0),(VLOOKUP(OFFSET(H73,-5,0),(TABLE!WIN),(MATCH(E73,WINCOL,0)+1))),(VLOOKUP(OFFSET(H73,-5,0),(TABLE!LOSE),(MATCH(E73,LOSECOL,0)+1))))))","v":""}]
[null,{"$f":"SCORECARD!C31","v":" Block 1 Player 5"},null,null,{"$f":"SCORECARD!F31","v":0},{"$f":"SCORECARD!G31","v":-1E-3},{"$f":"SCORECARD!H31","v":-1E-3},{"$f":"IF(NOT(OR(F74>0,G74>0)),\"\",IF(HandicapPlay=\"x\",IF(F74>G74,10,-10),IF((F74-G74>0),(VLOOKUP(OFFSET(H74,-6,0),(TABLE!WIN),(MATCH(E74,WINCOL,0)+1))),(VLOOKUP(OFFSET(H74,-6,0),(TABLE!LOSE),(MATCH(E74,LOSECOL,0)+1))))))","v":""}]
[null,{"$f":"SCORECARD!C32","v":" Block 1 Player 6"},null,null,{"$f":"SCORECARD!F32","v":0},{"$f":"SCORECARD!G32","v":-1E-3},{"$f":"SCORECARD!H32","v":-1E-3},{"$f":"IF(NOT(OR(F75>0,G75>0)),\"\",IF(HandicapPlay=\"x\",IF(F75>G75,10,-10),IF((F75-G75>0),(VLOOKUP(OFFSET(H75,-7,0),(TABLE!WIN),(MATCH(E75,WINCOL,0)+1))),(VLOOKUP(OFFSET(H75,-7,0),(TABLE!LOSE),(MATCH(E75,LOSECOL,0)+1))))))","v":""}]
[null,{"$f":"SCORECARD!C33","v":" Block 1 Player 7"},null,null,{"$f":"SCORECARD!F33","v":0},{"$f":"SCORECARD!G33","v":-1E-3},{"$f":"SCORECARD!H33","v":-1E-3},{"$f":"IF(NOT(OR(F76>0,G76>0)),\"\",IF(HandicapPlay=\"x\",IF(F76>G76,10,-10),IF((F76-G76>0),(VLOOKUP(OFFSET(H76,-8,0),(TABLE!WIN),(MATCH(E76,WINCOL,0)+1))),(VLOOKUP(OFFSET(H76,-8,0),(TABLE!LOSE),(MATCH(E76,LOSECOL,0)+1))))))","v":""}]
[null,{"$f":"SCORECARD!C34","v":" Bye "},null,null,{"$f":"SCORECARD!F34","v":0},{"$f":"SCORECARD!G34","v":-1E-3},{"$f":"SCORECARD!H34","v":-1E-3},{"$f":"IF(NOT(OR(F77>0,G77>0)),\"\",IF(HandicapPlay=\"x\",IF(F77>G77,10,-10),IF((F77-G77>0),(VLOOKUP(OFFSET(H77,-9,0),(TABLE!WIN),(MATCH(E77,WINCOL,0)+1))),(VLOOKUP(OFFSET(H77,-9,0),(TABLE!LOSE),(MATCH(E77,LOSECOL,0)+1))))))","v":""}]
[null,{"$f":"SCORECARD!C35","v":0},null,null,{"$f":"SCORECARD!F35","v":" "},{"$f":"SCORECARD!G35","v":0},{"$f":"SCORECARD!H35","v":0},{"$f":"IF(NOT(OR(F78>0,G78>0)),\"\",(IF((F78-G78>0),(VLOOKUP($H$68,(TABLE!WIN),(E78*2))),(VLOOKUP($H$68,(TABLE!LOSE),(E78*2))))))","v":""}]
[null,{"$f":"SCORECARD!C36","v":0},null,null,{"$f":"SCORECARD!F36","v":" "},{"$f":"SCORECARD!G36","v":0},{"$f":"SCORECARD!H36","v":0},{"$f":"IF(NOT(OR(F79>0,G79>0)),\"\",(IF((F79-G79>0),(VLOOKUP($H$68,(TABLE!WIN),(E79*2))),(VLOOKUP($H$68,(TABLE!LOSE),(E79*2))))))","v":""}]
[null,{"$f":"SCORECARD!C37","v":0},null,null,{"$f":"SCORECARD!F37","v":" "},{"$f":"SCORECARD!G37","v":0},{"$f":"SCORECARD!H37","v":0},{"$f":"IF(NOT(OR(F80>0,G80>0)),\"\",(IF((F80-G80>0),(VLOOKUP($H$68,(TABLE!WIN),(E80*2))),(VLOOKUP($H$68,(TABLE!LOSE),(E80*2))))))","v":""}]
[null,{"$f":"SCORECARD!C38","v":0},null,null,{"$f":"SCORECARD!F38","v":" "},{"$f":"SCORECARD!G38","v":0},{"$f":"SCORECARD!H38","v":0},{"$f":"IF(NOT(OR(F81>0,G81>0)),\"\",(IF((F81-G81>0),(VLOOKUP($H$68,(TABLE!WIN),(E81*2))),(VLOOKUP($H$68,(TABLE!LOSE),(E81*2))))))","v":""}]
[null,{"$f":"SCORECARD!C39","v":0},null,null,{"$f":"SCORECARD!F39","v":" "},{"$f":"SCORECARD!G39","v":0},{"$f":"SCORECARD!H39","v":0},{"$f":"IF(NOT(OR(F82>0,G82>0)),\"\",(IF((F82-G82>0),(VLOOKUP($H$68,(TABLE!WIN),(E82*2))),(VLOOKUP($H$68,(TABLE!LOSE),(E82*2))))))","v":""}]
[null,{"$f":"SCORECARD!C40","v":0},null,null,{"$f":"SCORECARD!F40","v":" "},{"$f":"SCORECARD!G40","v":0},{"$f":"SCORECARD!H40","v":0},{"$f":"IF(NOT(OR(F83>0,G83>0)),\"\",(IF((F83-G83>0),(VLOOKUP($H$68,(TABLE!WIN),(E83*2))),(VLOOKUP($H$68,(TABLE!LOSE),(E83*2))))))","v":""}]
[null,{"$f":"SCORECARD!C41","v":0},null,null,{"$f":"SCORECARD!F41","v":" "},{"$f":"SCORECARD!G41","v":0},{"$f":"SCORECARD!H41","v":0},{"$f":"IF(NOT(OR(F84>0,G84>0)),\"\",(IF((F84-G84>0),(VLOOKUP($H$68,(TABLE!WIN),(E84*2))),(VLOOKUP($H$68,(TABLE!LOSE),(E84*2))))))","v":""}]
[null,{"$f":"SCORECARD!C42","v":0},null,null,{"$f":"SCORECARD!F42","v":" "},{"$f":"SCORECARD!G42","v":0},{"$f":"SCORECARD!H42","v":0},{"$f":"IF(NOT(OR(F85>0,G85>0)),\"\",(IF((F85-G85>0),(VLOOKUP($H$68,(TABLE!WIN),(E85*2))),(VLOOKUP($H$68,(TABLE!LOSE),(E85*2))))))","v":""}]
[null,{"$f":"SCORECARD!C43","v":0},null,null,{"$f":"SCORECARD!F43","v":" "},{"$f":"SCORECARD!G43","v":0},{"$f":"SCORECARD!H43","v":0},{"$f":"IF(NOT(OR(F86>0,G86>0)),\"\",(IF((F86-G86>0),(VLOOKUP($H$68,(TABLE!WIN),(E86*2))),(VLOOKUP($H$68,(TABLE!LOSE),(E86*2))))))","v":""}]
[]
[null,null,null,null,null,null,"Handicap adjustment points total   ",{"$f":"SUM(H71:H86)","v":0}]
[]
[]
[]
[]
[]
[]
[]
[]
[]
[]
[]
[]
[{"$f":"note1","v":"Time limit 2.5 hours, Turn After Bell (61.1.6). Quadway hoops (3 11/16\"), Dawson International balls"}]
[{"$f":"note2","v":"Games may start early. Please be at the venue at least 30 minutes earlier than the scheduled start time."}]
[{"$f":"note3","v":"Entry Fee $40 will be invoiced by email. Please pay by EFT using the invoice No. as reference."}]
[{"$f":"note4","v":"Players please assist with setting and clearing courts."}]
[null,null,null,null,{"$f":"BLOCK!I6","v":" Block 1 Player 3"}]
[null,null,null,null,{"$f":"BLOCK!N2","v":"Tournament"}]
[null,null,null,null,{"$f":"BLOCK!J4","v":"Singles"}]
[null,null,null,null,{"$f":"BLOCK!B6","v":"BLOCK 1"}]
[]
[null,null,null,null,"BLOCK PLAY SCHEDULE"]
[null,"TIME","DAY","COURT",null,"OPPONENT",null,null,"Handicap","PS","OS"]
[null,{"$f":"GAMES!B5","v":"00:00:00"},{"$f":"GAMES!C5","v":"00:00:00"},{"$f":"GAMES!D5","v":0},null,{"$f":"GAMES!E5","v":" Block 1 Player 1"},null,null,{"$f":"$E$123","v":0},{"$f":"$F$123","v":-1E-3},{"$f":"$G$123","v":-1E-3}]
[null,{"$f":"GAMES!B10","v":"00:00:00"},{"$f":"GAMES!C10","v":"00:00:00"},{"$f":"GAMES!D10","v":0},null,{"$f":"GAMES!G10","v":" Block 1 Player 5"},null,null,{"$f":"$E$126","v":0},{"$f":"$F$126","v":-1E-3},{"$f":"$G$126","v":-1E-3}]
[null,{"$f":"GAMES!B15","v":"00:00:00"},{"$f":"GAMES!C15","v":"00:00:00"},{"$f":"GAMES!D15","v":0},null,{"$f":"GAMES!G15","v":" Block 1 Player 7"},null,null,{"$f":"$E$128","v":0},{"$f":"$F$128","v":-1E-3},{"$f":"$G$128","v":-1E-3}]
[null,{"$f":"GAMES!B20","v":"00:00:00"},{"$f":"GAMES!C20","v":"00:00:00"},{"$f":"GAMES!D20","v":0},null,{"$f":"GAMES!G20","v":" Block 1 Player 2"},null,null,{"$f":"$E$124","v":0},{"$f":"$F$124","v":-1E-3},{"$f":"$G$124","v":-1E-3}]
[null,{"$f":"GAMES!B24","v":"00:00:00"},{"$f":"GAMES!C24","v":"00:00:00"},{"$f":"GAMES!D24","v":0},null,{"$f":"GAMES!E24","v":" Block 1 Player 4"},null,null,{"$f":"$E$125","v":0},{"$f":"$F$125","v":-1E-3},{"$f":"$G$125","v":-1E-3}]
[null,{"$f":"GAMES!B27","v":"00:00:00"},{"$f":"GAMES!C27","v":"00:00:00"},{"$f":"GAMES!D27","v":0},null,{"$f":"GAMES!E27","v":" Block 1 Player 6"},null,null,{"$f":"$E$127","v":0},{"$f":"$F$127","v":-1E-3},{"$f":"$G$127","v":-1E-3}]
[null,{"$f":"GAMES!B30","v":"00:00:00"},{"$f":"GAMES!C30","v":"00:00:00"},{"$f":"GAMES!D30","v":"--"},null,{"$f":"GAMES!E30","v":" Bye "},null,null,{"$f":"$E$129","v":0},{"$f":"$F$129","v":-1E-3},{"$f":"$G$129","v":-1E-3}]
[]
[null,"PLAYER:",{"$f":"BLOCK!I6","v":" Block 1 Player 3"},null,null,null,"HANDICAP",{"$f":"BLOCK!B15","v":0}]
[null,null,"OPPONENT",null,"OPP","PLAYER","OPP","H/CAP"]
[null,null,null,null,"HCP","SCORE","SCORE","PTS"]
[null,{"$f":"SCORECARD!C51","v":" Block 1 Player 1"},null,null,{"$f":"SCORECARD!F51","v":0},{"$f":"SCORECARD!G51","v":-1E-3},{"$f":"SCORECARD!H51","v":-1E-3},{"$f":"IF(NOT(OR(F123>0,G123>0)),\"\",IF(HandicapPlay=\"x\",IF(F123>G123,10,-10),IF((F123-G123>0),(VLOOKUP(OFFSET(H123,-3,0),(TABLE!WIN),(MATCH(E123,WINCOL,0)+1))),(VLOOKUP(OFFSET(H123,-3,0),(TABLE!LOSE),(MATCH(E123,LOSECOL,0)+1))))))","v":""}]
[null,{"$f":"SCORECARD!C52","v":" Block 1 Player 2"},null,null,{"$f":"SCORECARD!F52","v":0},{"$f":"SCORECARD!G52","v":-1E-3},{"$f":"SCORECARD!H52","v":-1E-3},{"$f":"IF(NOT(OR(F124>0,G124>0)),\"\",IF(HandicapPlay=\"x\",IF(F124>G124,10,-10),IF((F124-G124>0),(VLOOKUP(OFFSET(H124,-4,0),(TABLE!WIN),(MATCH(E124,WINCOL,0)+1))),(VLOOKUP(OFFSET(H124,-4,0),(TABLE!LOSE),(MATCH(E124,LOSECOL,0)+1))))))","v":""}]
[null,{"$f":"SCORECARD!C53","v":" Block 1 Player 4"},null,null,{"$f":"SCORECARD!F53","v":0},{"$f":"SCORECARD!G53","v":-1E-3},{"$f":"SCORECARD!H53","v":-1E-3},{"$f":"IF(NOT(OR(F125>0,G125>0)),\"\",IF(HandicapPlay=\"x\",IF(F125>G125,10,-10),IF((F125-G125>0),(VLOOKUP(OFFSET(H125,-5,0),(TABLE!WIN),(MATCH(E125,WINCOL,0)+1))),(VLOOKUP(OFFSET(H125,-5,0),(TABLE!LOSE),(MATCH(E125,LOSECOL,0)+1))))))","v":""}]
[null,{"$f":"SCORECARD!C54","v":" Block 1 Player 5"},null,null,{"$f":"SCORECARD!F54","v":0},{"$f":"SCORECARD!G54","v":-1E-3},{"$f":"SCORECARD!H54","v":-1E-3},{"$f":"IF(NOT(OR(F126>0,G126>0)),\"\",IF(HandicapPlay=\"x\",IF(F126>G126,10,-10),IF((F126-G126>0),(VLOOKUP(OFFSET(H126,-6,0),(TABLE!WIN),(MATCH(E126,WINCOL,0)+1))),(VLOOKUP(OFFSET(H126,-6,0),(TABLE!LOSE),(MATCH(E126,LOSECOL,0)+1))))))","v":""}]
[null,{"$f":"SCORECARD!C55","v":" Block 1 Player 6"},null,null,{"$f":"SCORECARD!F55","v":0},{"$f":"SCORECARD!G55","v":-1E-3},{"$f":"SCORECARD!H55","v":-1E-3},{"$f":"IF(NOT(OR(F127>0,G127>0)),\"\",IF(HandicapPlay=\"x\",IF(F127>G127,10,-10),IF((F127-G127>0),(VLOOKUP(OFFSET(H127,-7,0),(TABLE!WIN),(MATCH(E127,WINCOL,0)+1))),(VLOOKUP(OFFSET(H127,-7,0),(TABLE!LOSE),(MATCH(E127,LOSECOL,0)+1))))))","v":""}]
[null,{"$f":"SCORECARD!C56","v":" Block 1 Player 7"},null,null,{"$f":"SCORECARD!F56","v":0},{"$f":"SCORECARD!G56","v":-1E-3},{"$f":"SCORECARD!H56","v":-1E-3},{"$f":"IF(NOT(OR(F128>0,G128>0)),\"\",IF(HandicapPlay=\"x\",IF(F128>G128,10,-10),IF((F128-G128>0),(VLOOKUP(OFFSET(H128,-8,0),(TABLE!WIN),(MATCH(E128,WINCOL,0)+1))),(VLOOKUP(OFFSET(H128,-8,0),(TABLE!LOSE),(MATCH(E128,LOSECOL,0)+1))))))","v":""}]
[null,{"$f":"SCORECARD!C57","v":" Bye "},null,null,{"$f":"SCORECARD!F57","v":0},{"$f":"SCORECARD!G57","v":-1E-3},{"$f":"SCORECARD!H57","v":-1E-3},{"$f":"IF(NOT(OR(F129>0,G129>0)),\"\",IF(HandicapPlay=\"x\",IF(F129>G129,10,-10),IF((F129-G129>0),(VLOOKUP(OFFSET(H129,-9,0),(TABLE!WIN),(MATCH(E129,WINCOL,0)+1))),(VLOOKUP(OFFSET(H129,-9,0),(TABLE!LOSE),(MATCH(E129,LOSECOL,0)+1))))))","v":""}]
[null,{"$f":"SCORECARD!C58","v":0},null,null,{"$f":"SCORECARD!F58","v":" "},{"$f":"SCORECARD!G58","v":0},{"$f":"SCORECARD!H58","v":0},{"$f":"IF(NOT(OR(F130>0,G130>0)),\"\",(IF((F130-G130>0),(VLOOKUP($H$120,(TABLE!WIN),(E130*2))),(VLOOKUP($H$120,(TABLE!LOSE),(E130*2))))))","v":""}]
[null,{"$f":"SCORECARD!C59","v":0},null,null,{"$f":"SCORECARD!F59","v":" "},{"$f":"SCORECARD!G59","v":0},{"$f":"SCORECARD!H59","v":0},{"$f":"IF(NOT(OR(F131>0,G131>0)),\"\",(IF((F131-G131>0),(VLOOKUP($H$120,(TABLE!WIN),(E131*2))),(VLOOKUP($H$120,(TABLE!LOSE),(E131*2))))))","v":""}]
[null,{"$f":"SCORECARD!C60","v":0},null,null,{"$f":"SCORECARD!F60","v":" "},{"$f":"SCORECARD!G60","v":0},{"$f":"SCORECARD!H60","v":0},{"$f":"IF(NOT(OR(F132>0,G132>0)),\"\",(IF((F132-G132>0),(VLOOKUP($H$120,(TABLE!WIN),(E132*2))),(VLOOKUP($H$120,(TABLE!LOSE),(E132*2))))))","v":""}]
[null,{"$f":"SCORECARD!C61","v":0},null,null,{"$f":"SCORECARD!F61","v":" "},{"$f":"SCORECARD!G61","v":0},{"$f":"SCORECARD!H61","v":0},{"$f":"IF(NOT(OR(F133>0,G133>0)),\"\",(IF((F133-G133>0),(VLOOKUP($H$120,(TABLE!WIN),(E133*2))),(VLOOKUP($H$120,(TABLE!LOSE),(E133*2))))))","v":""}]
[null,{"$f":"SCORECARD!C62","v":0},null,null,{"$f":"SCORECARD!F62","v":" "},{"$f":"SCORECARD!G62","v":0},{"$f":"SCORECARD!H62","v":0},{"$f":"IF(NOT(OR(F134>0,G134>0)),\"\",(IF((F134-G134>0),(VLOOKUP($H$120,(TABLE!WIN),(E134*2))),(VLOOKUP($H$120,(TABLE!LOSE),(E134*2))))))","v":""}]
[null,{"$f":"SCORECARD!C63","v":0},null,null,{"$f":"SCORECARD!F63","v":" "},{"$f":"SCORECARD!G63","v":0},{"$f":"SCORECARD!H63","v":0},{"$f":"IF(NOT(OR(F135>0,G135>0)),\"\",(IF((F135-G135>0),(VLOOKUP($H$120,(TABLE!WIN),(E135*2))),(VLOOKUP($H$120,(TABLE!LOSE),(E135*2))))))","v":""}]
[null,{"$f":"SCORECARD!C64","v":0},null,null,{"$f":"SCORECARD!F64","v":" "},{"$f":"SCORECARD!G64","v":0},{"$f":"SCORECARD!H64","v":0},{"$f":"IF(NOT(OR(F136>0,G136>0)),\"\",(IF((F136-G136>0),(VLOOKUP($H$120,(TABLE!WIN),(E136*2))),(VLOOKUP($H$120,(TABLE!LOSE),(E136*2))))))","v":""}]
[null,{"$f":"SCORECARD!C65","v":0},null,null,{"$f":"SCORECARD!F65","v":" "},{"$f":"SCORECARD!G65","v":0},{"$f":"SCORECARD!H65","v":0},{"$f":"IF(NOT(OR(F137>0,G137>0)),\"\",(IF((F137-G137>0),(VLOOKUP($H$120,(TABLE!WIN),(E137*2))),(VLOOKUP($H$120,(TABLE!LOSE),(E137*2))))))","v":""}]
[null,{"$f":"SCORECARD!C66","v":0},null,null,{"$f":"SCORECARD!F66","v":" "},{"$f":"SCORECARD!G66","v":0},{"$f":"SCORECARD!H66","v":0},{"$f":"IF(NOT(OR(F138>0,G138>0)),\"\",(IF((F138-G138>0),(VLOOKUP($H$120,(TABLE!WIN),(E138*2))),(VLOOKUP($H$120,(TABLE!LOSE),(E138*2))))))","v":""}]
[]
[null,null,null,null,null,null,"Handicap adjustment points total   ",{"$f":"SUM(H123:H138)","v":0}]
[]
[]
[]
[]
[]
[]
[]
[]
[]
[]
[]
[]
[{"$f":"note1","v":"Time limit 2.5 hours, Turn After Bell (61.1.6). Quadway hoops (3 11/16\"), Dawson International balls"}]
[{"$f":"note2","v":"Games may start early. Please be at the venue at least 30 minutes earlier than the scheduled start time."}]
[{"$f":"note3","v":"Entry Fee $40 will be invoiced by email. Please pay by EFT using the invoice No. as reference."}]
[{"$f":"note4","v":"Players please assist with setting and clearing courts."}]
[null,null,null,null,{"$f":"BLOCK!L6","v":" Block 1 Player 4"}]
[null,null,null,null,{"$f":"BLOCK!N2","v":"Tournament"}]
[null,null,null,null,{"$f":"BLOCK!J4","v":"Singles"}]
[null,null,null,null,{"$f":"BLOCK!B6","v":"BLOCK 1"}]
[]
[null,null,null,null,"BLOCK PLAY SCHEDULE"]
[null,"TIME","DAY","COURT",null,"OPPONENT",null,null,"Handicap","PS","OS"]
[null,{"$f":"GAMES!B6","v":"00:00:00"},{"$f":"GAMES!C6","v":"00:00:00"},{"$f":"GAMES!D6","v":0},null,{"$f":"GAMES!E6","v":" Block 1 Player 2"},null,null,{"$f":"$E$176","v":0},{"$f":"$F$176","v":-1E-3},{"$f":"$G$176","v":-1E-3}]
[null,{"$f":"GAMES!B9","v":"00:00:00"},{"$f":"GAMES!C9","v":"00:00:00"},{"$f":"GAMES!D9","v":0},null,{"$f":"GAMES!E9","v":" Block 1 Player 1"},null,null,{"$f":"$E$175","v":0},{"$f":"$F$175","v":-1E-3},{"$f":"$G$175","v":-1E-3}]
[null,{"$f":"GAMES!B14","v":"00:00:00"},{"$f":"GAMES!C14","v":"00:00:00"},{"$f":"GAMES!D14","v":0},null,{"$f":"GAMES!G14","v":" Block 1 Player 6"},null,null,{"$f":"$E$179","v":0},{"$f":"$F$179","v":-1E-3},{"$f":"$G$179","v":-1E-3}]
[null,{"$f":"GAMES!B19","v":"00:00:00"},{"$f":"GAMES!C19","v":"00:00:00"},{"$f":"GAMES!D19","v":"--"},null,{"$f":"GAMES!G19","v":" Bye "},null,null,{"$f":"$E$181","v":0},{"$f":"$F$181","v":-1E-3},{"$f":"$G$181","v":-1E-3}]
[null,{"$f":"GAMES!B24","v":"00:00:00"},{"$f":"GAMES!C24","v":"00:00:00"},{"$f":"GAMES!D24","v":0},null,{"$f":"GAMES!G24","v":" Block 1 Player 3"},null,null,{"$f":"$E$177","v":0},{"$f":"$F$177","v":-1E-3},{"$f":"$G$177","v":-1E-3}]
[null,{"$f":"GAMES!B28","v":"00:00:00"},{"$f":"GAMES!C28","v":"00:00:00"},{"$f":"GAMES!D28","v":0},null,{"$f":"GAMES!E28","v":" Block 1 Player 5"},null,null,{"$f":"$E$178","v":0},{"$f":"$F$178","v":-1E-3},{"$f":"$G$178","v":-1E-3}]
[null,{"$f":"GAMES!B31","v":"00:00:00"},{"$f":"GAMES!C31","v":"00:00:00"},{"$f":"GAMES!D31","v":0},null,{"$f":"GAMES!E31","v":" Block 1 Player 7"},null,null,{"$f":"$E$180","v":0},{"$f":"$F$180","v":-1E-3},{"$f":"$G$180","v":-1E-3}]
[]
[null,"PLAYER:",{"$f":"BLOCK!L6","v":" Block 1 Player 4"},null,null,null,"HANDICAP",{"$f":"BLOCK!B18","v":0}]
[null,null,null,null,"OPP","PLAYER","OPP","H/CAP"]
[null,null,"OPPONENT",null,"HCP","SCORE","SCORE","PTS"]
[null,{"$f":"SCORECARD!C71","v":" Block 1 Player 1"},null,null,{"$f":"SCORECARD!F71","v":0},{"$f":"SCORECARD!G71","v":-1E-3},{"$f":"SCORECARD!H71","v":-1E-3},{"$f":"IF(NOT(OR(F175>0,G175>0)),\"\",IF(HandicapPlay=\"x\",IF(F175>G175,10,-10),IF((F175-G175>0),(VLOOKUP(OFFSET(H175,-3,0),(TABLE!WIN),(MATCH(E175,WINCOL,0)+1))),(VLOOKUP(OFFSET(H175,-3,0),(TABLE!LOSE),(MATCH(E175,LOSECOL,0)+1))))))","v":""}]
[null,{"$f":"SCORECARD!C72","v":" Block 1 Player 2"},null,null,{"$f":"SCORECARD!F72","v":0},{"$f":"SCORECARD!G72","v":-1E-3},{"$f":"SCORECARD!H72","v":-1E-3},{"$f":"IF(NOT(OR(F176>0,G176>0)),\"\",IF(HandicapPlay=\"x\",IF(F176>G176,10,-10),IF((F176-G176>0),(VLOOKUP(OFFSET(H176,-4,0),(TABLE!WIN),(MATCH(E176,WINCOL,0)+1))),(VLOOKUP(OFFSET(H176,-4,0),(TABLE!LOSE),(MATCH(E176,LOSECOL,0)+1))))))","v":""}]
[null,{"$f":"SCORECARD!C73","v":" Block 1 Player 3"},null,null,{"$f":"SCORECARD!F73","v":0},{"$f":"SCORECARD!G73","v":-1E-3},{"$f":"SCORECARD!H73","v":-1E-3},{"$f":"IF(NOT(OR(F177>0,G177>0)),\"\",IF(HandicapPlay=\"x\",IF(F177>G177,10,-10),IF((F177-G177>0),(VLOOKUP(OFFSET(H177,-5,0),(TABLE!WIN),(MATCH(E177,WINCOL,0)+1))),(VLOOKUP(OFFSET(H177,-5,0),(TABLE!LOSE),(MATCH(E177,LOSECOL,0)+1))))))","v":""}]
[null,{"$f":"SCORECARD!C74","v":" Block 1 Player 5"},null,null,{"$f":"SCORECARD!F74","v":0},{"$f":"SCORECARD!G74","v":-1E-3},{"$f":"SCORECARD!H74","v":-1E-3},{"$f":"IF(NOT(OR(F178>0,G178>0)),\"\",IF(HandicapPlay=\"x\",IF(F178>G178,10,-10),IF((F178-G178>0),(VLOOKUP(OFFSET(H178,-6,0),(TABLE!WIN),(MATCH(E178,WINCOL,0)+1))),(VLOOKUP(OFFSET(H178,-6,0),(TABLE!LOSE),(MATCH(E178,LOSECOL,0)+1))))))","v":""}]
[null,{"$f":"SCORECARD!C75","v":" Block 1 Player 6"},null,null,{"$f":"SCORECARD!F75","v":0},{"$f":"SCORECARD!G75","v":-1E-3},{"$f":"SCORECARD!H75","v":-1E-3},{"$f":"IF(NOT(OR(F179>0,G179>0)),\"\",IF(HandicapPlay=\"x\",IF(F179>G179,10,-10),IF((F179-G179>0),(VLOOKUP(OFFSET(H179,-7,0),(TABLE!WIN),(MATCH(E179,WINCOL,0)+1))),(VLOOKUP(OFFSET(H179,-7,0),(TABLE!LOSE),(MATCH(E179,LOSECOL,0)+1))))))","v":""}]
[null,{"$f":"SCORECARD!C76","v":" Block 1 Player 7"},null,null,{"$f":"SCORECARD!F76","v":0},{"$f":"SCORECARD!G76","v":-1E-3},{"$f":"SCORECARD!H76","v":-1E-3},{"$f":"IF(NOT(OR(F180>0,G180>0)),\"\",IF(HandicapPlay=\"x\",IF(F180>G180,10,-10),IF((F180-G180>0),(VLOOKUP(OFFSET(H180,-8,0),(TABLE!WIN),(MATCH(E180,WINCOL,0)+1))),(VLOOKUP(OFFSET(H180,-8,0),(TABLE!LOSE),(MATCH(E180,LOSECOL,0)+1))))))","v":""}]
[null,{"$f":"SCORECARD!C77","v":" Bye "},null,null,{"$f":"SCORECARD!F77","v":0},{"$f":"SCORECARD!G77","v":-1E-3},{"$f":"SCORECARD!H77","v":-1E-3},{"$f":"IF(NOT(OR(F181>0,G181>0)),\"\",IF(HandicapPlay=\"x\",IF(F181>G181,10,-10),IF((F181-G181>0),(VLOOKUP(OFFSET(H181,-9,0),(TABLE!WIN),(MATCH(E181,WINCOL,0)+1))),(VLOOKUP(OFFSET(H181,-9,0),(TABLE!LOSE),(MATCH(E181,LOSECOL,0)+1))))))","v":""}]
[null,{"$f":"SCORECARD!C78","v":0},null,null,{"$f":"SCORECARD!F78","v":" "},{"$f":"SCORECARD!G78","v":0},{"$f":"SCORECARD!H78","v":0},{"$f":"IF(NOT(OR(F182>0,G182>0)),\"\",(IF((F182-G182>0),(VLOOKUP($H$172,(TABLE!WIN),(E182*2))),(VLOOKUP($H$172,(TABLE!LOSE),(E182*2))))))","v":""}]
[null,{"$f":"SCORECARD!C79","v":0},null,null,{"$f":"SCORECARD!F79","v":" "},{"$f":"SCORECARD!G79","v":0},{"$f":"SCORECARD!H79","v":0},{"$f":"IF(NOT(OR(F183>0,G183>0)),\"\",(IF((F183-G183>0),(VLOOKUP($H$172,(TABLE!WIN),(E183*2))),(VLOOKUP($H$172,(TABLE!LOSE),(E183*2))))))","v":""}]
[null,{"$f":"SCORECARD!C80","v":0},null,null,{"$f":"SCORECARD!F80","v":" "},{"$f":"SCORECARD!G80","v":0},{"$f":"SCORECARD!H80","v":0},{"$f":"IF(NOT(OR(F184>0,G184>0)),\"\",(IF((F184-G184>0),(VLOOKUP($H$172,(TABLE!WIN),(E184*2))),(VLOOKUP($H$172,(TABLE!LOSE),(E184*2))))))","v":""}]
[null,{"$f":"SCORECARD!C81","v":0},null,null,{"$f":"SCORECARD!F81","v":" "},{"$f":"SCORECARD!G81","v":0},{"$f":"SCORECARD!H81","v":0},{"$f":"IF(NOT(OR(F185>0,G185>0)),\"\",(IF((F185-G185>0),(VLOOKUP($H$172,(TABLE!WIN),(E185*2))),(VLOOKUP($H$172,(TABLE!LOSE),(E185*2))))))","v":""}]
[null,{"$f":"SCORECARD!C82","v":0},null,null,{"$f":"SCORECARD!F82","v":" "},{"$f":"SCORECARD!G82","v":0},{"$f":"SCORECARD!H82","v":0},{"$f":"IF(NOT(OR(F186>0,G186>0)),\"\",(IF((F186-G186>0),(VLOOKUP($H$172,(TABLE!WIN),(E186*2))),(VLOOKUP($H$172,(TABLE!LOSE),(E186*2))))))","v":""}]
[null,{"$f":"SCORECARD!C83","v":0},null,null,{"$f":"SCORECARD!F83","v":" "},{"$f":"SCORECARD!G83","v":0},{"$f":"SCORECARD!H83","v":0},{"$f":"IF(NOT(OR(F187>0,G187>0)),\"\",(IF((F187-G187>0),(VLOOKUP($H$172,(TABLE!WIN),(E187*2))),(VLOOKUP($H$172,(TABLE!LOSE),(E187*2))))))","v":""}]
[null,{"$f":"SCORECARD!C84","v":0},null,null,{"$f":"SCORECARD!F84","v":" "},{"$f":"SCORECARD!G84","v":0},{"$f":"SCORECARD!H84","v":0},{"$f":"IF(NOT(OR(F188>0,G188>0)),\"\",(IF((F188-G188>0),(VLOOKUP($H$172,(TABLE!WIN),(E188*2))),(VLOOKUP($H$172,(TABLE!LOSE),(E188*2))))))","v":""}]
[null,{"$f":"SCORECARD!C85","v":0},null,null,{"$f":"SCORECARD!F85","v":" "},{"$f":"SCORECARD!G85","v":0},{"$f":"SCORECARD!H85","v":0},{"$f":"IF(NOT(OR(F189>0,G189>0)),\"\",(IF((F189-G189>0),(VLOOKUP($H$172,(TABLE!WIN),(E189*2))),(VLOOKUP($H$172,(TABLE!LOSE),(E189*2))))))","v":""}]
[null,{"$f":"SCORECARD!C86","v":0},null,null,{"$f":"SCORECARD!F86","v":" "},{"$f":"SCORECARD!G86","v":0},{"$f":"SCORECARD!H86","v":0},{"$f":"IF(NOT(OR(F190>0,G190>0)),\"\",(IF((F190-G190>0),(VLOOKUP($H$172,(TABLE!WIN),(E190*2))),(VLOOKUP($H$172,(TABLE!LOSE),(E190*2))))))","v":""}]
[]
[null,null,null,null,null,null,"Handicap adjustment points total   ",{"$f":"SUM(H175:H190)","v":0}]
[]
[]
[]
[]
[]
[]
[]
[]
[]
[]
[]
[]
[{"$f":"note1","v":"Time limit 2.5 hours, Turn After Bell (61.1.6). Quadway hoops (3 11/16\"), Dawson International balls"}]
[{"$f":"note2","v":"Games may start early. Please be at the venue at least 30 minutes earlier than the scheduled start time."}]
[{"$f":"note3","v":"Entry Fee $40 will be invoiced by email. Please pay by EFT using the invoice No. as reference."}]
[{"$f":"note4","v":"Players please assist with setting and clearing courts."}]
[null,null,null,null,{"$f":"BLOCK!O6","v":" Block 1 Player 5"}]
[null,null,null,null,{"$f":"BLOCK!N2","v":"Tournament"}]
[null,null,null,null,{"$f":"BLOCK!J4","v":"Singles"}]
[null,null,null,null,{"$f":"BLOCK!B6","v":"BLOCK 1"}]
[]
[null,null,null,null,"BLOCK PLAY SCHEDULE"]
[null,"TIME","DAY","COURT",null,"OPPONENT",null,null,"Handicap","PS","OS"]
[null,{"$f":"GAMES!B7","v":"00:00:00"},{"$f":"GAMES!C7","v":"00:00:00"},{"$f":"GAMES!D7","v":"--"},null,{"$f":"GAMES!E7","v":" Bye "},null,null,{"$f":"$E$233","v":0},{"$f":"$F$233","v":-1E-3},{"$f":"$G$233","v":-1E-3}]
[null,{"$f":"GAMES!B10","v":"00:00:00"},{"$f":"GAMES!C10","v":"00:00:00"},{"$f":"GAMES!D10","v":0},null,{"$f":"GAMES!E10","v":" Block 1 Player 3"},null,null,{"$f":"$E$229","v":0},{"$f":"$F$229","v":-1E-3},{"$f":"$G$229","v":-1E-3}]
[null,{"$f":"GAMES!B13","v":"00:00:00"},{"$f":"GAMES!C13","v":"00:00:00"},{"$f":"GAMES!D13","v":0},null,{"$f":"GAMES!E13","v":" Block 1 Player 1"},null,null,{"$f":"$E$227","v":0},{"$f":"$F$227","v":-1E-3},{"$f":"$G$227","v":-1E-3}]
[null,{"$f":"GAMES!B18","v":"00:00:00"},{"$f":"GAMES!C18","v":"00:00:00"},{"$f":"GAMES!D18","v":0},null,{"$f":"GAMES!G18","v":" Block 1 Player 7"},null,null,{"$f":"$E$232","v":0},{"$f":"$F$232","v":-1E-3},{"$f":"$G$232","v":-1E-3}]
[null,{"$f":"GAMES!B23","v":"00:00:00"},{"$f":"GAMES!C23","v":"00:00:00"},{"$f":"GAMES!D23","v":0},null,{"$f":"GAMES!G23","v":" Block 1 Player 2"},null,null,{"$f":"$E$228","v":0},{"$f":"$F$228","v":-1E-3},{"$f":"$G$228","v":-1E-3}]
[null,{"$f":"GAMES!B28","v":"00:00:00"},{"$f":"GAMES!C28","v":"00:00:00"},{"$f":"GAMES!D28","v":0},null,{"$f":"GAMES!G28","v":" Block 1 Player 4"},null,null,{"$f":"$E$230","v":0},{"$f":"$F$230","v":-1E-3},{"$f":"$G$230","v":-1E-3}]
[null,{"$f":"GAMES!B32","v":"00:00:00"},{"$f":"GAMES!C32","v":"00:00:00"},{"$f":"GAMES!D32","v":0},null,{"$f":"GAMES!E32","v":" Block 1 Player 6"},null,null,{"$f":"$E$231","v":0},{"$f":"$F$231","v":-1E-3},{"$f":"$G$231","v":-1E-3}]
[]
[null,"PLAYER:",{"$f":"BLOCK!O6","v":" Block 1 Player 5"},null,null,null,"HANDICAP",{"$f":"BLOCK!B21","v":0}]
[null,null,null,null,"OPP","PLAYER","OPP","H/CAP"]
[null,null,"OPPONENT",null,"HCP","SCORE","SCORE","PTS"]
[null,{"$f":"SCORECARD!C94","v":" Block 1 Player 1"},null,null,{"$f":"SCORECARD!F94","v":0},{"$f":"SCORECARD!G94","v":-1E-3},{"$f":"SCORECARD!H94","v":-1E-3},{"$f":"IF(NOT(OR(F227>0,G227>0)),\"\",IF(HandicapPlay=\"x\",IF(F227>G227,10,-10),IF((F227-G227>0),(VLOOKUP(OFFSET(H227,-3,0),(TABLE!WIN),(MATCH(E227,WINCOL,0)+1))),(VLOOKUP(OFFSET(H227,-3,0),(TABLE!LOSE),(MATCH(E227,LOSECOL,0)+1))))))","v":""}]
[null,{"$f":"SCORECARD!C95","v":" Block 1 Player 2"},null,null,{"$f":"SCORECARD!F95","v":0},{"$f":"SCORECARD!G95","v":-1E-3},{"$f":"SCORECARD!H95","v":-1E-3},{"$f":"IF(NOT(OR(F228>0,G228>0)),\"\",IF(HandicapPlay=\"x\",IF(F228>G228,10,-10),IF((F228-G228>0),(VLOOKUP(OFFSET(H228,-4,0),(TABLE!WIN),(MATCH(E228,WINCOL,0)+1))),(VLOOKUP(OFFSET(H228,-4,0),(TABLE!LOSE),(MATCH(E228,LOSECOL,0)+1))))))","v":""}]
[null,{"$f":"SCORECARD!C96","v":" Block 1 Player 3"},null,null,{"$f":"SCORECARD!F96","v":0},{"$f":"SCORECARD!G96","v":-1E-3},{"$f":"SCORECARD!H96","v":-1E-3},{"$f":"IF(NOT(OR(F229>0,G229>0)),\"\",IF(HandicapPlay=\"x\",IF(F229>G229,10,-10),IF((F229-G229>0),(VLOOKUP(OFFSET(H229,-5,0),(TABLE!WIN),(MATCH(E229,WINCOL,0)+1))),(VLOOKUP(OFFSET(H229,-5,0),(TABLE!LOSE),(MATCH(E229,LOSECOL,0)+1))))))","v":""}]
[null,{"$f":"SCORECARD!C97","v":" Block 1 Player 4"},null,null,{"$f":"SCORECARD!F97","v":0},{"$f":"SCORECARD!G97","v":-1E-3},{"$f":"SCORECARD!H97","v":-1E-3},{"$f":"IF(NOT(OR(F230>0,G230>0)),\"\",IF(HandicapPlay=\"x\",IF(F230>G230,10,-10),IF((F230-G230>0),(VLOOKUP(OFFSET(H230,-6,0),(TABLE!WIN),(MATCH(E230,WINCOL,0)+1))),(VLOOKUP(OFFSET(H230,-6,0),(TABLE!LOSE),(MATCH(E230,LOSECOL,0)+1))))))","v":""}]
[null,{"$f":"SCORECARD!C98","v":" Block 1 Player 6"},null,null,{"$f":"SCORECARD!F98","v":0},{"$f":"SCORECARD!G98","v":-1E-3},{"$f":"SCORECARD!H98","v":-1E-3},{"$f":"IF(NOT(OR(F231>0,G231>0)),\"\",IF(HandicapPlay=\"x\",IF(F231>G231,10,-10),IF((F231-G231>0),(VLOOKUP(OFFSET(H231,-7,0),(TABLE!WIN),(MATCH(E231,WINCOL,0)+1))),(VLOOKUP(OFFSET(H231,-7,0),(TABLE!LOSE),(MATCH(E231,LOSECOL,0)+1))))))","v":""}]
[null,{"$f":"SCORECARD!C99","v":" Block 1 Player 7"},null,null,{"$f":"SCORECARD!F99","v":0},{"$f":"SCORECARD!G99","v":-1E-3},{"$f":"SCORECARD!H99","v":-1E-3},{"$f":"IF(NOT(OR(F232>0,G232>0)),\"\",IF(HandicapPlay=\"x\",IF(F232>G232,10,-10),IF((F232-G232>0),(VLOOKUP(OFFSET(H232,-8,0),(TABLE!WIN),(MATCH(E232,WINCOL,0)+1))),(VLOOKUP(OFFSET(H232,-8,0),(TABLE!LOSE),(MATCH(E232,LOSECOL,0)+1))))))","v":""}]
[null,{"$f":"SCORECARD!C100","v":" Bye "},null,null,{"$f":"SCORECARD!F100","v":0},{"$f":"SCORECARD!G100","v":-1E-3},{"$f":"SCORECARD!H100","v":-1E-3},{"$f":"IF(NOT(OR(F233>0,G233>0)),\"\",IF(HandicapPlay=\"x\",IF(F233>G233,10,-10),IF((F233-G233>0),(VLOOKUP(OFFSET(H233,-9,0),(TABLE!WIN),(MATCH(E233,WINCOL,0)+1))),(VLOOKUP(OFFSET(H233,-9,0),(TABLE!LOSE),(MATCH(E233,LOSECOL,0)+1))))))","v":""}]
[null,{"$f":"SCORECARD!C101","v":0},null,null,{"$f":"SCORECARD!F101","v":" "},{"$f":"SCORECARD!G101","v":0},{"$f":"SCORECARD!H101","v":0},{"$f":"IF(NOT(OR(F234>0,G234>0)),\"\",(IF((F234-G234>0),(VLOOKUP($H$224,(TABLE!WIN),(E234*2))),(VLOOKUP($H$224,(TABLE!LOSE),(E234*2))))))","v":""}]
[null,{"$f":"SCORECARD!C102","v":0},null,null,{"$f":"SCORECARD!F102","v":" "},{"$f":"SCORECARD!G102","v":0},{"$f":"SCORECARD!H102","v":0},{"$f":"IF(NOT(OR(F235>0,G235>0)),\"\",(IF((F235-G235>0),(VLOOKUP($H$224,(TABLE!WIN),(E235*2))),(VLOOKUP($H$224,(TABLE!LOSE),(E235*2))))))","v":""}]
[null,{"$f":"SCORECARD!C103","v":0},null,null,{"$f":"SCORECARD!F103","v":" "},{"$f":"SCORECARD!G103","v":0},{"$f":"SCORECARD!H103","v":0},{"$f":"IF(NOT(OR(F236>0,G236>0)),\"\",(IF((F236-G236>0),(VLOOKUP($H$224,(TABLE!WIN),(E236*2))),(VLOOKUP($H$224,(TABLE!LOSE),(E236*2))))))","v":""}]
[null,{"$f":"SCORECARD!C104","v":0},null,null,{"$f":"SCORECARD!F104","v":" "},{"$f":"SCORECARD!G104","v":0},{"$f":"SCORECARD!H104","v":0},{"$f":"IF(NOT(OR(F237>0,G237>0)),\"\",(IF((F237-G237>0),(VLOOKUP($H$224,(TABLE!WIN),(E237*2))),(VLOOKUP($H$224,(TABLE!LOSE),(E237*2))))))","v":""}]
[null,{"$f":"SCORECARD!C105","v":0},null,null,{"$f":"SCORECARD!F105","v":" "},{"$f":"SCORECARD!G105","v":0},{"$f":"SCORECARD!H105","v":0},{"$f":"IF(NOT(OR(F238>0,G238>0)),\"\",(IF((F238-G238>0),(VLOOKUP($H$224,(TABLE!WIN),(E238*2))),(VLOOKUP($H$224,(TABLE!LOSE),(E238*2))))))","v":""}]
[null,{"$f":"SCORECARD!C106","v":0},null,null,{"$f":"SCORECARD!F106","v":" "},{"$f":"SCORECARD!G106","v":0},{"$f":"SCORECARD!H106","v":0},{"$f":"IF(NOT(OR(F239>0,G239>0)),\"\",(IF((F239-G239>0),(VLOOKUP($H$224,(TABLE!WIN),(E239*2))),(VLOOKUP($H$224,(TABLE!LOSE),(E239*2))))))","v":""}]
[null,{"$f":"SCORECARD!C107","v":0},null,null,{"$f":"SCORECARD!F107","v":" "},{"$f":"SCORECARD!G107","v":0},{"$f":"SCORECARD!H107","v":0},{"$f":"IF(NOT(OR(F240>0,G240>0)),\"\",(IF((F240-G240>0),(VLOOKUP($H$224,(TABLE!WIN),(E240*2))),(VLOOKUP($H$224,(TABLE!LOSE),(E240*2))))))","v":""}]
[null,{"$f":"SCORECARD!C108","v":0},null,null,{"$f":"SCORECARD!F108","v":" "},{"$f":"SCORECARD!G108","v":0},{"$f":"SCORECARD!H108","v":0},{"$f":"IF(NOT(OR(F241>0,G241>0)),\"\",(IF((F241-G241>0),(VLOOKUP($H$224,(TABLE!WIN),(E241*2))),(VLOOKUP($H$224,(TABLE!LOSE),(E241*2))))))","v":""}]
[null,{"$f":"SCORECARD!C109","v":0},null,null,{"$f":"SCORECARD!F109","v":" "},{"$f":"SCORECARD!G109","v":0},{"$f":"SCORECARD!H109","v":0},{"$f":"IF(NOT(OR(F242>0,G242>0)),\"\",(IF((F242-G242>0),(VLOOKUP($H$224,(TABLE!WIN),(E242*2))),(VLOOKUP($H$224,(TABLE!LOSE),(E242*2))))))","v":""}]
[]
[null,null,null,null,null,null,"Handicap adjustment points total   ",{"$f":"SUM(H227:H242)","v":0}]
[]
[]
[]
[]
[]
[]
[]
[]
[]
[]
[]
[]
[{"$f":"note1","v":"Time limit 2.5 hours, Turn After Bell (61.1.6). Quadway hoops (3 11/16\"), Dawson International balls"}]
[{"$f":"note2","v":"Games may start early. Please be at the venue at least 30 minutes earlier than the scheduled start time."}]
[{"$f":"note3","v":"Entry Fee $40 will be invoiced by email. Please pay by EFT using the invoice No. as reference."}]
[{"$f":"note4","v":"Players please assist with setting and clearing courts."}]
[null,null,null,null,{"$f":"BLOCK!R6","v":" Block 1 Player 6"}]
[null,null,null,null,{"$f":"BLOCK!N2","v":"Tournament"}]
[null,null,null,null,{"$f":"BLOCK!J4","v":"Singles"}]
[null,null,null,null,{"$f":"BLOCK!B6","v":"BLOCK 1"}]
[]
[null,null,null,null,"BLOCK PLAY SCHEDULE"]
[null,"TIME","DAY","COURT",null,"OPPONENT",null,null,"Handicap","PS","OS"]
[null,{"$f":"GAMES!B8","v":"00:00:00"},{"$f":"GAMES!C8","v":"00:00:00"},{"$f":"GAMES!D8","v":0},null,{"$f":"GAMES!E8","v":" Block 1 Player 7"},null,null,{"$f":"$E$284","v":0},{"$f":"$F$284","v":-1E-3},{"$f":"$G$284","v":-1E-3}]
[null,{"$f":"GAMES!B11","v":"00:00:00"},{"$f":"GAMES!C11","v":"00:00:00"},{"$f":"GAMES!D11","v":0},null,{"$f":"GAMES!E11","v":" Block 1 Player 2"},null,null,{"$f":"$E$280","v":0},{"$f":"$F$280","v":-1E-3},{"$f":"$G$280","v":-1E-3}]
[null,{"$f":"GAMES!B14","v":"00:00:00"},{"$f":"GAMES!C14","v":"00:00:00"},{"$f":"GAMES!D14","v":0},null,{"$f":"GAMES!E14","v":" Block 1 Player 4"},null,null,{"$f":"$E$282","v":0},{"$f":"$F$282","v":-1E-3},{"$f":"$G$282","v":-1E-3}]
[null,{"$f":"GAMES!B17","v":"00:00:00"},{"$f":"GAMES!C17","v":"00:00:00"},{"$f":"GAMES!D17","v":0},null,{"$f":"GAMES!E17","v":" Block 1 Player 1"},null,null,{"$f":"$E$279","v":0},{"$f":"$F$279","v":-1E-3},{"$f":"$G$279","v":-1E-3}]
[null,{"$f":"GAMES!B22","v":"00:00:00"},{"$f":"GAMES!C22","v":"00:00:00"},{"$f":"GAMES!D22","v":"--"},null,{"$f":"GAMES!G22","v":" Bye "},null,null,{"$f":"$E$285","v":0},{"$f":"$F$285","v":-1E-3},{"$f":"$G$285","v":-1E-3}]
[null,{"$f":"GAMES!B27","v":"00:00:00"},{"$f":"GAMES!C27","v":"00:00:00"},{"$f":"GAMES!D27","v":0},null,{"$f":"GAMES!G27","v":" Block 1 Player 3"},null,null,{"$f":"$E$281","v":0},{"$f":"$F$281","v":-1E-3},{"$f":"$G$281","v":-1E-3}]
[null,{"$f":"GAMES!B32","v":"00:00:00"},{"$f":"GAMES!C32","v":"00:00:00"},{"$f":"GAMES!D32","v":0},null,{"$f":"GAMES!G32","v":" Block 1 Player 5"},null,null,{"$f":"$E$283","v":0},{"$f":"$F$283","v":-1E-3},{"$f":"$G$283","v":-1E-3}]
[]
[null,"PLAYER:",{"$f":"BLOCK!R6","v":" Block 1 Player 6"},null,null,null,"HANDICAP",{"$f":"BLOCK!B24","v":0}]
[null,null,null,null,"OPP","PLAYER","OPP","H/CAP"]
[null,null,"OPPONENT",null,"HCP","SCORE","SCORE","PTS"]
[null,{"$f":"SCORECARD!C114","v":" Block 1 Player 1"},null,null,{"$f":"SCORECARD!F114","v":0},{"$f":"SCORECARD!G114","v":-1E-3},{"$f":"SCORECARD!H114","v":-1E-3},{"$f":"IF(NOT(OR(F279>0,G279>0)),\"\",IF(HandicapPlay=\"x\",IF(F279>G279,10,-10),IF((F279-G279>0),(VLOOKUP(OFFSET(H279,-3,0),(TABLE!WIN),(MATCH(E279,WINCOL,0)+1))),(VLOOKUP(OFFSET(H279,-3,0),(TABLE!LOSE),(MATCH(E279,LOSECOL,0)+1))))))","v":""}]
[null,{"$f":"SCORECARD!C115","v":" Block 1 Player 2"},null,null,{"$f":"SCORECARD!F115","v":0},{"$f":"SCORECARD!G115","v":-1E-3},{"$f":"SCORECARD!H115","v":-1E-3},{"$f":"IF(NOT(OR(F280>0,G280>0)),\"\",IF(HandicapPlay=\"x\",IF(F280>G280,10,-10),IF((F280-G280>0),(VLOOKUP(OFFSET(H280,-4,0),(TABLE!WIN),(MATCH(E280,WINCOL,0)+1))),(VLOOKUP(OFFSET(H280,-4,0),(TABLE!LOSE),(MATCH(E280,LOSECOL,0)+1))))))","v":""}]
[null,{"$f":"SCORECARD!C116","v":" Block 1 Player 3"},null,null,{"$f":"SCORECARD!F116","v":0},{"$f":"SCORECARD!G116","v":-1E-3},{"$f":"SCORECARD!H116","v":-1E-3},{"$f":"IF(NOT(OR(F281>0,G281>0)),\"\",IF(HandicapPlay=\"x\",IF(F281>G281,10,-10),IF((F281-G281>0),(VLOOKUP(OFFSET(H281,-5,0),(TABLE!WIN),(MATCH(E281,WINCOL,0)+1))),(VLOOKUP(OFFSET(H281,-5,0),(TABLE!LOSE),(MATCH(E281,LOSECOL,0)+1))))))","v":""}]
[null,{"$f":"SCORECARD!C117","v":" Block 1 Player 4"},null,null,{"$f":"SCORECARD!F117","v":0},{"$f":"SCORECARD!G117","v":-1E-3},{"$f":"SCORECARD!H117","v":-1E-3},{"$f":"IF(NOT(OR(F282>0,G282>0)),\"\",IF(HandicapPlay=\"x\",IF(F282>G282,10,-10),IF((F282-G282>0),(VLOOKUP(OFFSET(H282,-6,0),(TABLE!WIN),(MATCH(E282,WINCOL,0)+1))),(VLOOKUP(OFFSET(H282,-6,0),(TABLE!LOSE),(MATCH(E282,LOSECOL,0)+1))))))","v":""}]
[null,{"$f":"SCORECARD!C118","v":" Block 1 Player 5"},null,null,{"$f":"SCORECARD!F118","v":0},{"$f":"SCORECARD!G118","v":-1E-3},{"$f":"SCORECARD!H118","v":-1E-3},{"$f":"IF(NOT(OR(F283>0,G283>0)),\"\",IF(HandicapPlay=\"x\",IF(F283>G283,10,-10),IF((F283-G283>0),(VLOOKUP(OFFSET(H283,-7,0),(TABLE!WIN),(MATCH(E283,WINCOL,0)+1))),(VLOOKUP(OFFSET(H283,-7,0),(TABLE!LOSE),(MATCH(E283,LOSECOL,0)+1))))))","v":""}]
[null,{"$f":"SCORECARD!C119","v":" Block 1 Player 7"},null,null,{"$f":"SCORECARD!F119","v":0},{"$f":"SCORECARD!G119","v":-1E-3},{"$f":"SCORECARD!H119","v":-1E-3},{"$f":"IF(NOT(OR(F284>0,G284>0)),\"\",IF(HandicapPlay=\"x\",IF(F284>G284,10,-10),IF((F284-G284>0),(VLOOKUP(OFFSET(H284,-8,0),(TABLE!WIN),(MATCH(E284,WINCOL,0)+1))),(VLOOKUP(OFFSET(H284,-8,0),(TABLE!LOSE),(MATCH(E284,LOSECOL,0)+1))))))","v":""}]
[null,{"$f":"SCORECARD!C120","v":" Bye "},null,null,{"$f":"SCORECARD!F120","v":0},{"$f":"SCORECARD!G120","v":-1E-3},{"$f":"SCORECARD!H120","v":-1E-3},{"$f":"IF(NOT(OR(F285>0,G285>0)),\"\",IF(HandicapPlay=\"x\",IF(F285>G285,10,-10),IF((F285-G285>0),(VLOOKUP(OFFSET(H285,-9,0),(TABLE!WIN),(MATCH(E285,WINCOL,0)+1))),(VLOOKUP(OFFSET(H285,-9,0),(TABLE!LOSE),(MATCH(E285,LOSECOL,0)+1))))))","v":""}]
[null,{"$f":"SCORECARD!C121","v":0},null,null,{"$f":"SCORECARD!F121","v":" "},{"$f":"SCORECARD!G121","v":0},{"$f":"SCORECARD!H121","v":0},{"$f":"IF(NOT(OR(F286>0,G286>0)),\"\",(IF((F286-G286>0),(VLOOKUP($H$276,(TABLE!WIN),(E286*2))),(VLOOKUP($H$276,(TABLE!LOSE),(E286*2))))))","v":""}]
[null,{"$f":"SCORECARD!C122","v":0},null,null,{"$f":"SCORECARD!F122","v":" "},{"$f":"SCORECARD!G122","v":0},{"$f":"SCORECARD!H122","v":0},{"$f":"IF(NOT(OR(F287>0,G287>0)),\"\",(IF((F287-G287>0),(VLOOKUP($H$276,(TABLE!WIN),(E287*2))),(VLOOKUP($H$276,(TABLE!LOSE),(E287*2))))))","v":""}]
[null,{"$f":"SCORECARD!C123","v":0},null,null,{"$f":"SCORECARD!F123","v":" "},{"$f":"SCORECARD!G123","v":0},{"$f":"SCORECARD!H123","v":0},{"$f":"IF(NOT(OR(F288>0,G288>0)),\"\",(IF((F288-G288>0),(VLOOKUP($H$276,(TABLE!WIN),(E288*2))),(VLOOKUP($H$276,(TABLE!LOSE),(E288*2))))))","v":""}]
[null,{"$f":"SCORECARD!C124","v":0},null,null,{"$f":"SCORECARD!F124","v":" "},{"$f":"SCORECARD!G124","v":0},{"$f":"SCORECARD!H124","v":0},{"$f":"IF(NOT(OR(F289>0,G289>0)),\"\",(IF((F289-G289>0),(VLOOKUP($H$276,(TABLE!WIN),(E289*2))),(VLOOKUP($H$276,(TABLE!LOSE),(E289*2))))))","v":""}]
[null,{"$f":"SCORECARD!C125","v":0},null,null,{"$f":"SCORECARD!F125","v":" "},{"$f":"SCORECARD!G125","v":0},{"$f":"SCORECARD!H125","v":0},{"$f":"IF(NOT(OR(F290>0,G290>0)),\"\",(IF((F290-G290>0),(VLOOKUP($H$276,(TABLE!WIN),(E290*2))),(VLOOKUP($H$276,(TABLE!LOSE),(E290*2))))))","v":""}]
[null,{"$f":"SCORECARD!C126","v":0},null,null,{"$f":"SCORECARD!F126","v":" "},{"$f":"SCORECARD!G126","v":0},{"$f":"SCORECARD!H126","v":0},{"$f":"IF(NOT(OR(F291>0,G291>0)),\"\",(IF((F291-G291>0),(VLOOKUP($H$276,(TABLE!WIN),(E291*2))),(VLOOKUP($H$276,(TABLE!LOSE),(E291*2))))))","v":""}]
[null,{"$f":"SCORECARD!C127","v":0},null,null,{"$f":"SCORECARD!F127","v":" "},{"$f":"SCORECARD!G127","v":0},{"$f":"SCORECARD!H127","v":0},{"$f":"IF(NOT(OR(F292>0,G292>0)),\"\",(IF((F292-G292>0),(VLOOKUP($H$276,(TABLE!WIN),(E292*2))),(VLOOKUP($H$276,(TABLE!LOSE),(E292*2))))))","v":""}]
[null,{"$f":"SCORECARD!C128","v":0},null,null,{"$f":"SCORECARD!F128","v":" "},{"$f":"SCORECARD!G128","v":0},{"$f":"SCORECARD!H128","v":0},{"$f":"IF(NOT(OR(F293>0,G293>0)),\"\",(IF((F293-G293>0),(VLOOKUP($H$276,(TABLE!WIN),(E293*2))),(VLOOKUP($H$276,(TABLE!LOSE),(E293*2))))))","v":""}]
[null,{"$f":"SCORECARD!C129","v":0},null,null,{"$f":"SCORECARD!F129","v":" "},{"$f":"SCORECARD!G129","v":0},{"$f":"SCORECARD!H129","v":0},{"$f":"IF(NOT(OR(F294>0,G294>0)),\"\",(IF((F294-G294>0),(VLOOKUP($H$276,(TABLE!WIN),(E294*2))),(VLOOKUP($H$276,(TABLE!LOSE),(E294*2))))))","v":""}]
[]
[null,null,null,null,null,null,"Handicap adjustment points total   ",{"$f":"SUM(H279:H294)","v":0}]
[]
[]
[]
[]
[]
[]
[]
[]
[]
[]
[]
[]
[{"$f":"note1","v":"Time limit 2.5 hours, Turn After Bell (61.1.6). Quadway hoops (3 11/16\"), Dawson International balls"}]
[{"$f":"note2","v":"Games may start early. Please be at the venue at least 30 minutes earlier than the scheduled start time."}]
[{"$f":"note3","v":"Entry Fee $40 will be invoiced by email. Please pay by EFT using the invoice No. as reference."}]
[{"$f":"note4","v":"Players please assist with setting and clearing courts."}]
[null,null,null,null,{"$f":"BLOCK!U6","v":" Block 1 Player 7"}]
[null,null,null,null,{"$f":"BLOCK!N2","v":"Tournament"}]
[null,null,null,null,{"$f":"BLOCK!J4","v":"Singles"}]
[null,null,null,null,{"$f":"BLOCK!B6","v":"BLOCK 1"}]
[]
[null,null,null,null,"BLOCK PLAY SCHEDULE"]
[null,"TIME","DAY","COURT",null,"OPPONENT",null,null,"Handicap","PS","OS"]
[null,{"$f":"GAMES!B8","v":"00:00:00"},{"$f":"GAMES!C8","v":"00:00:00"},{"$f":"GAMES!D8","v":0},null,{"$f":"GAMES!G8","v":" Block 1 Player 6"},null,null,{"$f":"$E$336","v":0},{"$f":"$F$336","v":-1E-3},{"$f":"$G$336","v":-1E-3}]
[null,{"$f":"GAMES!B12","v":"00:00:00"},{"$f":"GAMES!C12","v":"00:00:00"},{"$f":"GAMES!D12","v":"--"},null,{"$f":"GAMES!E12","v":" Bye "},null,null,{"$f":"$E$337","v":0},{"$f":"$F$337","v":-1E-3},{"$f":"$G$337","v":-1E-3}]
[null,{"$f":"GAMES!B15","v":"00:00:00"},{"$f":"GAMES!C15","v":"00:00:00"},{"$f":"GAMES!D15","v":0},null,{"$f":"GAMES!E15","v":" Block 1 Player 3"},null,null,{"$f":"$E$333","v":0},{"$f":"$F$333","v":-1E-3},{"$f":"$G$333","v":-1E-3}]
[null,{"$f":"GAMES!B18","v":"00:00:00"},{"$f":"GAMES!C18","v":"00:00:00"},{"$f":"GAMES!D18","v":0},null,{"$f":"GAMES!E18","v":" Block 1 Player 5"},null,null,{"$f":"$E$335","v":0},{"$f":"$F$335","v":-1E-3},{"$f":"$G$335","v":-1E-3}]
[null,{"$f":"GAMES!B21","v":"00:00:00"},{"$f":"GAMES!C21","v":"00:00:00"},{"$f":"GAMES!D21","v":0},null,{"$f":"GAMES!E21","v":" Block 1 Player 1"},null,null,{"$f":"$E$331","v":0},{"$f":"$F$331","v":-1E-3},{"$f":"$G$331","v":-1E-3}]
[null,{"$f":"GAMES!B26","v":"00:00:00"},{"$f":"GAMES!C26","v":"00:00:00"},{"$f":"GAMES!D26","v":0},null,{"$f":"GAMES!G26","v":" Block 1 Player 2"},null,null,{"$f":"$E$332","v":0},{"$f":"$F$332","v":-1E-3},{"$f":"$G$332","v":-1E-3}]
[null,{"$f":"GAMES!B31","v":"00:00:00"},{"$f":"GAMES!C31","v":"00:00:00"},{"$f":"GAMES!D31","v":0},null,{"$f":"GAMES!G31","v":" Block 1 Player 4"},null,null,{"$f":"$E$334","v":0},{"$f":"$F$334","v":-1E-3},{"$f":"$G$334","v":-1E-3}]
[]
[null,"PLAYER:",{"$f":"BLOCK!U6","v":" Block 1 Player 7"},null,null,null,"HANDICAP",{"$f":"BLOCK!B27","v":0}]
[null,null,null,null,"OPP","PLAYER","OPP","H/CAP"]
[null,null,"OPPONENT",null,"HCP","SCORE","SCORE","PTS"]
[null,{"$f":"SCORECARD!C137","v":" Block 1 Player 1"},null,null,{"$f":"SCORECARD!F137","v":0},{"$f":"SCORECARD!G137","v":-1E-3},{"$f":"SCORECARD!H137","v":-1E-3},{"$f":"IF(NOT(OR(F331>0,G331>0)),\"\",IF(HandicapPlay=\"x\",IF(F331>G331,10,-10),IF((F331-G331>0),(VLOOKUP(OFFSET(H331,-3,0),(TABLE!WIN),(MATCH(E331,WINCOL,0)+1))),(VLOOKUP(OFFSET(H331,-3,0),(TABLE!LOSE),(MATCH(E331,LOSECOL,0)+1))))))","v":""}]
[null,{"$f":"SCORECARD!C138","v":" Block 1 Player 2"},null,null,{"$f":"SCORECARD!F138","v":0},{"$f":"SCORECARD!G138","v":-1E-3},{"$f":"SCORECARD!H138","v":-1E-3},{"$f":"IF(NOT(OR(F332>0,G332>0)),\"\",IF(HandicapPlay=\"x\",IF(F332>G332,10,-10),IF((F332-G332>0),(VLOOKUP(OFFSET(H332,-4,0),(TABLE!WIN),(MATCH(E332,WINCOL,0)+1))),(VLOOKUP(OFFSET(H332,-4,0),(TABLE!LOSE),(MATCH(E332,LOSECOL,0)+1))))))","v":""}]
[null,{"$f":"SCORECARD!C139","v":" Block 1 Player 3"},null,null,{"$f":"SCORECARD!F139","v":0},{"$f":"SCORECARD!G139","v":-1E-3},{"$f":"SCORECARD!H139","v":-1E-3},{"$f":"IF(NOT(OR(F333>0,G333>0)),\"\",IF(HandicapPlay=\"x\",IF(F333>G333,10,-10),IF((F333-G333>0),(VLOOKUP(OFFSET(H333,-5,0),(TABLE!WIN),(MATCH(E333,WINCOL,0)+1))),(VLOOKUP(OFFSET(H333,-5,0),(TABLE!LOSE),(MATCH(E333,LOSECOL,0)+1))))))","v":""}]
[null,{"$f":"SCORECARD!C140","v":" Block 1 Player 4"},null,null,{"$f":"SCORECARD!F140","v":0},{"$f":"SCORECARD!G140","v":-1E-3},{"$f":"SCORECARD!H140","v":-1E-3},{"$f":"IF(NOT(OR(F334>0,G334>0)),\"\",IF(HandicapPlay=\"x\",IF(F334>G334,10,-10),IF((F334-G334>0),(VLOOKUP(OFFSET(H334,-6,0),(TABLE!WIN),(MATCH(E334,WINCOL,0)+1))),(VLOOKUP(OFFSET(H334,-6,0),(TABLE!LOSE),(MATCH(E334,LOSECOL,0)+1))))))","v":""}]
[null,{"$f":"SCORECARD!C141","v":" Block 1 Player 5"},null,null,{"$f":"SCORECARD!F141","v":0},{"$f":"SCORECARD!G141","v":-1E-3},{"$f":"SCORECARD!H141","v":-1E-3},{"$f":"IF(NOT(OR(F335>0,G335>0)),\"\",IF(HandicapPlay=\"x\",IF(F335>G335,10,-10),IF((F335-G335>0),(VLOOKUP(OFFSET(H335,-7,0),(TABLE!WIN),(MATCH(E335,WINCOL,0)+1))),(VLOOKUP(OFFSET(H335,-7,0),(TABLE!LOSE),(MATCH(E335,LOSECOL,0)+1))))))","v":""}]
[null,{"$f":"SCORECARD!C142","v":" Block 1 Player 6"},null,null,{"$f":"SCORECARD!F142","v":0},{"$f":"SCORECARD!G142","v":-1E-3},{"$f":"SCORECARD!H142","v":-1E-3},{"$f":"IF(NOT(OR(F336>0,G336>0)),\"\",IF(HandicapPlay=\"x\",IF(F336>G336,10,-10),IF((F336-G336>0),(VLOOKUP(OFFSET(H336,-8,0),(TABLE!WIN),(MATCH(E336,WINCOL,0)+1))),(VLOOKUP(OFFSET(H336,-8,0),(TABLE!LOSE),(MATCH(E336,LOSECOL,0)+1))))))","v":""}]
[null,{"$f":"SCORECARD!C143","v":" Bye "},null,null,{"$f":"SCORECARD!F143","v":0},{"$f":"SCORECARD!G143","v":-1E-3},{"$f":"SCORECARD!H143","v":-1E-3},{"$f":"IF(NOT(OR(F337>0,G337>0)),\"\",IF(HandicapPlay=\"x\",IF(F337>G337,10,-10),IF((F337-G337>0),(VLOOKUP(OFFSET(H337,-9,0),(TABLE!WIN),(MATCH(E337,WINCOL,0)+1))),(VLOOKUP(OFFSET(H337,-9,0),(TABLE!LOSE),(MATCH(E337,LOSECOL,0)+1))))))","v":""}]
[null,{"$f":"SCORECARD!C144","v":0},null,null,{"$f":"SCORECARD!F144","v":" "},{"$f":"SCORECARD!G144","v":0},{"$f":"SCORECARD!H144","v":0},{"$f":"IF(NOT(OR(F338>0,G338>0)),\"\",(IF((F338-G338>0),(VLOOKUP($H$328,(TABLE!WIN),(E338*2))),(VLOOKUP($H$328,(TABLE!LOSE),(E338*2))))))","v":""}]
[null,{"$f":"SCORECARD!C145","v":0},null,null,{"$f":"SCORECARD!F145","v":" "},{"$f":"SCORECARD!G145","v":0},{"$f":"SCORECARD!H145","v":0},{"$f":"IF(NOT(OR(F339>0,G339>0)),\"\",(IF((F339-G339>0),(VLOOKUP($H$328,(TABLE!WIN),(E339*2))),(VLOOKUP($H$328,(TABLE!LOSE),(E339*2))))))","v":""}]
[null,{"$f":"SCORECARD!C146","v":0},null,null,{"$f":"SCORECARD!F146","v":" "},{"$f":"SCORECARD!G146","v":0},{"$f":"SCORECARD!H146","v":0},{"$f":"IF(NOT(OR(F340>0,G340>0)),\"\",(IF((F340-G340>0),(VLOOKUP($H$328,(TABLE!WIN),(E340*2))),(VLOOKUP($H$328,(TABLE!LOSE),(E340*2))))))","v":""}]
[null,{"$f":"SCORECARD!C147","v":0},null,null,{"$f":"SCORECARD!F147","v":" "},{"$f":"SCORECARD!G147","v":0},{"$f":"SCORECARD!H147","v":0},{"$f":"IF(NOT(OR(F341>0,G341>0)),\"\",(IF((F341-G341>0),(VLOOKUP($H$328,(TABLE!WIN),(E341*2))),(VLOOKUP($H$328,(TABLE!LOSE),(E341*2))))))","v":""}]
[null,{"$f":"SCORECARD!C148","v":0},null,null,{"$f":"SCORECARD!F148","v":" "},{"$f":"SCORECARD!G148","v":0},{"$f":"SCORECARD!H148","v":0},{"$f":"IF(NOT(OR(F342>0,G342>0)),\"\",(IF((F342-G342>0),(VLOOKUP($H$328,(TABLE!WIN),(E342*2))),(VLOOKUP($H$328,(TABLE!LOSE),(E342*2))))))","v":""}]
[null,{"$f":"SCORECARD!C149","v":0},null,null,{"$f":"SCORECARD!F149","v":" "},{"$f":"SCORECARD!G149","v":0},{"$f":"SCORECARD!H149","v":0},{"$f":"IF(NOT(OR(F343>0,G343>0)),\"\",(IF((F343-G343>0),(VLOOKUP($H$328,(TABLE!WIN),(E343*2))),(VLOOKUP($H$328,(TABLE!LOSE),(E343*2))))))","v":""}]
[null,{"$f":"SCORECARD!C150","v":0},null,null,{"$f":"SCORECARD!F150","v":" "},{"$f":"SCORECARD!G150","v":0},{"$f":"SCORECARD!H150","v":0},{"$f":"IF(NOT(OR(F344>0,G344>0)),\"\",(IF((F344-G344>0),(VLOOKUP($H$328,(TABLE!WIN),(E344*2))),(VLOOKUP($H$328,(TABLE!LOSE),(E344*2))))))","v":""}]
[null,{"$f":"SCORECARD!C151","v":0},null,null,{"$f":"SCORECARD!F151","v":" "},{"$f":"SCORECARD!G151","v":0},{"$f":"SCORECARD!H151","v":0},{"$f":"IF(NOT(OR(F345>0,G345>0)),\"\",(IF((F345-G345>0),(VLOOKUP($H$328,(TABLE!WIN),(E345*2))),(VLOOKUP($H$328,(TABLE!LOSE),(E345*2))))))","v":""}]
[null,{"$f":"SCORECARD!C152","v":0},null,null,{"$f":"SCORECARD!F152","v":" "},{"$f":"SCORECARD!G152","v":0},{"$f":"SCORECARD!H152","v":0},{"$f":"IF(NOT(OR(F346>0,G346>0)),\"\",(IF((F346-G346>0),(VLOOKUP($H$328,(TABLE!WIN),(E346*2))),(VLOOKUP($H$328,(TABLE!LOSE),(E346*2))))))","v":""}]
[]
[null,null,null,null,null,null,"Handicap adjustment points total   ",{"$f":"SUM(H331:H347)","v":0}]
[]
[]
[]
[]
[]
[]
[]
[]
[]
[]
[]
[]
[{"$f":"note1","v":"Time limit 2.5 hours, Turn After Bell (61.1.6). Quadway hoops (3 11/16\"), Dawson International balls"}]
[{"$f":"note2","v":"Games may start early. Please be at the venue at least 30 minutes earlier than the scheduled start time."}]
[{"$f":"note3","v":"Entry Fee $40 will be invoiced by email. Please pay by EFT using the invoice No. as reference."}]
[{"$f":"note4","v":"Players please assist with setting and clearing courts."}]
[null,null,null,null,{"$f":"BLOCK!X6","v":" Bye "}]
[null,null,null,null,{"$f":"BLOCK!N2","v":"Tournament"}]
[null,null,null,null,{"$f":"BLOCK!J4","v":"Singles"}]
[null,null,null,null,{"$f":"BLOCK!B6","v":"BLOCK 1"}]
[]
[null,null,null,null,"BLOCK PLAY SCHEDULE"]
[null,"TIME","DAY","COURT",null,"OPPONENT",null,null,"Handicap","PS","OS"]
[null,{"$f":"GAMES!B7","v":"00:00:00"},{"$f":"GAMES!C7","v":"00:00:00"},{"$f":"GAMES!D7","v":"--"},null,{"$f":"GAMES!G7","v":" Block 1 Player 5"},null,null,{"$f":"$E$387","v":0},{"$f":"$F$387","v":-1E-3},{"$f":"$G$387","v":-1E-3}]
[null,{"$f":"GAMES!B12","v":"00:00:00"},{"$f":"GAMES!C12","v":"00:00:00"},{"$f":"GAMES!D12","v":"--"},null,{"$f":"GAMES!G12","v":" Block 1 Player 7"},null,null,{"$f":"$E$389","v":0},{"$f":"$F$389","v":-1E-3},{"$f":"$G$389","v":-1E-3}]
[null,{"$f":"GAMES!B16","v":"00:00:00"},{"$f":"GAMES!C16","v":"00:00:00"},{"$f":"GAMES!D16","v":"--"},null,{"$f":"GAMES!E16","v":" Block 1 Player 2"},null,null,{"$f":"$E$384","v":0},{"$f":"$F$384","v":-1E-3},{"$f":"$G$384","v":-1E-3}]
[null,{"$f":"GAMES!B19","v":"00:00:00"},{"$f":"GAMES!C19","v":"00:00:00"},{"$f":"GAMES!D19","v":"--"},null,{"$f":"GAMES!E19","v":" Block 1 Player 4"},null,null,{"$f":"$E$386","v":0},{"$f":"$F$386","v":-1E-3},{"$f":"$G$386","v":-1E-3}]
[null,{"$f":"GAMES!B22","v":"00:00:00"},{"$f":"GAMES!C22","v":"00:00:00"},{"$f":"GAMES!D22","v":"--"},null,{"$f":"GAMES!E22","v":" Block 1 Player 6"},null,null,{"$f":"$E$388","v":0},{"$f":"$F$388","v":-1E-3},{"$f":"$G$388","v":-1E-3}]
[null,{"$f":"GAMES!B25","v":"00:00:00"},{"$f":"GAMES!C25","v":"00:00:00"},{"$f":"GAMES!D25","v":"--"},null,{"$f":"GAMES!E25","v":" Block 1 Player 1"},null,null,{"$f":"$E$383","v":0},{"$f":"$F$383","v":-1E-3},{"$f":"$G$383","v":-1E-3}]
[null,{"$f":"GAMES!B30","v":"00:00:00"},{"$f":"GAMES!C30","v":"00:00:00"},{"$f":"GAMES!D30","v":"--"},null,{"$f":"GAMES!G30","v":" Block 1 Player 3"},null,null,{"$f":"$E$385","v":0},{"$f":"$F$385","v":-1E-3},{"$f":"$G$385","v":-1E-3}]
[]
[null,"PLAYER:",{"$f":"BLOCK!X6","v":" Bye "},null,null,null,"HANDICAP",{"$f":"BLOCK!B30","v":0}]
[null,null,null,null,"OPP","PLAYER","OPP","H/CAP"]
[null,null,"OPPONENT",null,"HCP","SCORE","SCORE","PTS"]
[null,{"$f":"SCORECARD!C157","v":" Block 1 Player 1"},null,null,{"$f":"SCORECARD!F157","v":0},{"$f":"SCORECARD!G157","v":-1E-3},{"$f":"SCORECARD!H157","v":-1E-3},{"$f":"IF(NOT(OR(F383>0,G383>0)),\"\",IF(HandicapPlay=\"x\",IF(F383>G383,10,-10),IF((F383-G383>0),(VLOOKUP(OFFSET(H383,-3,0),(TABLE!WIN),(MATCH(E383,WINCOL,0)+1))),(VLOOKUP(OFFSET(H383,-3,0),(TABLE!LOSE),(MATCH(E383,LOSECOL,0)+1))))))","v":""}]
[null,{"$f":"SCORECARD!C158","v":" Block 1 Player 2"},null,null,{"$f":"SCORECARD!F158","v":0},{"$f":"SCORECARD!G158","v":-1E-3},{"$f":"SCORECARD!H158","v":-1E-3},{"$f":"IF(NOT(OR(F384>0,G384>0)),\"\",IF(HandicapPlay=\"x\",IF(F384>G384,10,-10),IF((F384-G384>0),(VLOOKUP(OFFSET(H384,-4,0),(TABLE!WIN),(MATCH(E384,WINCOL,0)+1))),(VLOOKUP(OFFSET(H384,-4,0),(TABLE!LOSE),(MATCH(E384,LOSECOL,0)+1))))))","v":""}]
[null,{"$f":"SCORECARD!C159","v":" Block 1 Player 3"},null,null,{"$f":"SCORECARD!F159","v":0},{"$f":"SCORECARD!G159","v":-1E-3},{"$f":"SCORECARD!H159","v":-1E-3},{"$f":"IF(NOT(OR(F385>0,G385>0)),\"\",IF(HandicapPlay=\"x\",IF(F385>G385,10,-10),IF((F385-G385>0),(VLOOKUP(OFFSET(H385,-5,0),(TABLE!WIN),(MATCH(E385,WINCOL,0)+1))),(VLOOKUP(OFFSET(H385,-5,0),(TABLE!LOSE),(MATCH(E385,LOSECOL,0)+1))))))","v":""}]
[null,{"$f":"SCORECARD!C160","v":" Block 1 Player 4"},null,null,{"$f":"SCORECARD!F160","v":0},{"$f":"SCORECARD!G160","v":-1E-3},{"$f":"SCORECARD!H160","v":-1E-3},{"$f":"IF(NOT(OR(F386>0,G386>0)),\"\",IF(HandicapPlay=\"x\",IF(F386>G386,10,-10),IF((F386-G386>0),(VLOOKUP(OFFSET(H386,-6,0),(TABLE!WIN),(MATCH(E386,WINCOL,0)+1))),(VLOOKUP(OFFSET(H386,-6,0),(TABLE!LOSE),(MATCH(E386,LOSECOL,0)+1))))))","v":""}]
[null,{"$f":"SCORECARD!C161","v":" Block 1 Player 5"},null,null,{"$f":"SCORECARD!F161","v":0},{"$f":"SCORECARD!G161","v":-1E-3},{"$f":"SCORECARD!H161","v":-1E-3},{"$f":"IF(NOT(OR(F387>0,G387>0)),\"\",IF(HandicapPlay=\"x\",IF(F387>G387,10,-10),IF((F387-G387>0),(VLOOKUP(OFFSET(H387,-7,0),(TABLE!WIN),(MATCH(E387,WINCOL,0)+1))),(VLOOKUP(OFFSET(H387,-7,0),(TABLE!LOSE),(MATCH(E387,LOSECOL,0)+1))))))","v":""}]
[null,{"$f":"SCORECARD!C162","v":" Block 1 Player 6"},null,null,{"$f":"SCORECARD!F162","v":0},{"$f":"SCORECARD!G162","v":-1E-3},{"$f":"SCORECARD!H162","v":-1E-3},{"$f":"IF(NOT(OR(F388>0,G388>0)),\"\",IF(HandicapPlay=\"x\",IF(F388>G388,10,-10),IF((F388-G388>0),(VLOOKUP(OFFSET(H388,-8,0),(TABLE!WIN),(MATCH(E388,WINCOL,0)+1))),(VLOOKUP(OFFSET(H388,-8,0),(TABLE!LOSE),(MATCH(E388,LOSECOL,0)+1))))))","v":""}]
[null,{"$f":"SCORECARD!C163","v":" Block 1 Player 7"},null,null,{"$f":"SCORECARD!F163","v":0},{"$f":"SCORECARD!G163","v":-1E-3},{"$f":"SCORECARD!H163","v":-1E-3},{"$f":"IF(NOT(OR(F389>0,G389>0)),\"\",IF(HandicapPlay=\"x\",IF(F389>G389,10,-10),IF((F389-G389>0),(VLOOKUP(OFFSET(H389,-9,0),(TABLE!WIN),(MATCH(E389,WINCOL,0)+1))),(VLOOKUP(OFFSET(H389,-9,0),(TABLE!LOSE),(MATCH(E389,LOSECOL,0)+1))))))","v":""}]
[null,{"$f":"SCORECARD!C164","v":0},null,null,{"$f":"SCORECARD!F164","v":" "},{"$f":"SCORECARD!G164","v":0},{"$f":"SCORECARD!H164","v":0},{"$f":"IF(NOT(OR(F390>0,G390>0)),\"\",(IF((F390-G390>0),(VLOOKUP($H$380,(TABLE!WIN),(E390*2))),(VLOOKUP($H$380,(TABLE!LOSE),(E390*2))))))","v":""}]
[null,{"$f":"SCORECARD!C165","v":0},null,null,{"$f":"SCORECARD!F165","v":" "},{"$f":"SCORECARD!G165","v":0},{"$f":"SCORECARD!H165","v":0},{"$f":"IF(NOT(OR(F391>0,G391>0)),\"\",(IF((F391-G391>0),(VLOOKUP($H$380,(TABLE!WIN),(E391*2))),(VLOOKUP($H$380,(TABLE!LOSE),(E391*2))))))","v":""}]
[null,{"$f":"SCORECARD!C166","v":0},null,null,{"$f":"SCORECARD!F166","v":" "},{"$f":"SCORECARD!G166","v":0},{"$f":"SCORECARD!H166","v":0},{"$f":"IF(NOT(OR(F392>0,G392>0)),\"\",(IF((F392-G392>0),(VLOOKUP($H$380,(TABLE!WIN),(E392*2))),(VLOOKUP($H$380,(TABLE!LOSE),(E392*2))))))","v":""}]
[null,{"$f":"SCORECARD!C167","v":0},null,null,{"$f":"SCORECARD!F167","v":" "},{"$f":"SCORECARD!G167","v":0},{"$f":"SCORECARD!H167","v":0},{"$f":"IF(NOT(OR(F393>0,G393>0)),\"\",(IF((F393-G393>0),(VLOOKUP($H$380,(TABLE!WIN),(E393*2))),(VLOOKUP($H$380,(TABLE!LOSE),(E393*2))))))","v":""}]
[null,{"$f":"SCORECARD!C168","v":0},null,null,{"$f":"SCORECARD!F168","v":" "},{"$f":"SCORECARD!G168","v":0},{"$f":"SCORECARD!H168","v":0},{"$f":"IF(NOT(OR(F394>0,G394>0)),\"\",(IF((F394-G394>0),(VLOOKUP($H$380,(TABLE!WIN),(E394*2))),(VLOOKUP($H$380,(TABLE!LOSE),(E394*2))))))","v":""}]
[null,{"$f":"SCORECARD!C169","v":0},null,null,{"$f":"SCORECARD!F169","v":" "},{"$f":"SCORECARD!G169","v":0},{"$f":"SCORECARD!H169","v":0},{"$f":"IF(NOT(OR(F395>0,G395>0)),\"\",(IF((F395-G395>0),(VLOOKUP($H$380,(TABLE!WIN),(E395*2))),(VLOOKUP($H$380,(TABLE!LOSE),(E395*2))))))","v":""}]
[null,{"$f":"SCORECARD!C170","v":0},null,null,{"$f":"SCORECARD!F170","v":" "},{"$f":"SCORECARD!G170","v":0},{"$f":"SCORECARD!H170","v":0},{"$f":"IF(NOT(OR(F396>0,G396>0)),\"\",(IF((F396-G396>0),(VLOOKUP($H$380,(TABLE!WIN),(E396*2))),(VLOOKUP($H$380,(TABLE!LOSE),(E396*2))))))","v":""}]
[null,{"$f":"SCORECARD!C171","v":0},null,null,{"$f":"SCORECARD!F171","v":" "},{"$f":"SCORECARD!G171","v":0},{"$f":"SCORECARD!H171","v":0},{"$f":"IF(NOT(OR(F397>0,G397>0)),\"\",(IF((F397-G397>0),(VLOOKUP($H$380,(TABLE!WIN),(E397*2))),(VLOOKUP($H$380,(TABLE!LOSE),(E397*2))))))","v":""}]
[null,{"$f":"SCORECARD!C172","v":0},null,null,{"$f":"SCORECARD!F172","v":" "},{"$f":"SCORECARD!G172","v":0},{"$f":"SCORECARD!H172","v":0},{"$f":"IF(NOT(OR(F398>0,G398>0)),\"\",(IF((F398-G398>0),(VLOOKUP($H$380,(TABLE!WIN),(E398*2))),(VLOOKUP($H$380,(TABLE!LOSE),(E398*2))))))","v":""}]
[]
[null,null,null,null,null,null,"Handicap adjustment points total   ",{"$f":"SUM(H383:H398)","v":0}]
[]
[]
[]
[]
[]
[]
[]
[]
[]
[]
[]
[]
[{"$f":"note1","v":"Time limit 2.5 hours, Turn After Bell (61.1.6). Quadway hoops (3 11/16\"), Dawson International balls"}]
[{"$f":"note2","v":"Games may start early. Please be at the venue at least 30 minutes earlier than the scheduled start time."}]
[{"$f":"note3","v":"Entry Fee $40 will be invoiced by email. Please pay by EFT using the invoice No. as reference."}]
[{"$f":"note4","v":"Players please assist with setting and clearing courts."}]
[null,null,null,null,{"$f":"BLOCK!C37","v":" Block 2 Player 1"}]
[null,null,null,null,{"$f":"BLOCK!N33","v":"Tournament"}]
[null,null,null,null,{"$f":"BLOCK!J35","v":"Singles"}]
[null,null,null,null,{"$f":"BLOCK!B37","v":"BLOCK 2"}]
[]
[null,null,null,null,"BLOCK PLAY SCHEDULE"]
[null,"TIME","DAY","COURT",null,"OPPONENT",null,null,"Handicap","PS","OS"]
[null,{"$f":"GAMES!B36","v":"00:00:00"},{"$f":"GAMES!C36","v":"00:00:00"},{"$f":"GAMES!D36","v":0},null,{"$f":"GAMES!G36","v":" Block 2 Player 3"},null,null,{"$f":"$E$436","v":0},{"$f":"$F$436","v":-1E-3},{"$f":"$G$436","v":-1E-3}]
[null,{"$f":"GAMES!B40","v":"00:00:00"},{"$f":"GAMES!C40","v":"00:00:00"},{"$f":"GAMES!D40","v":0},null,{"$f":"GAMES!G40","v":" Block 2 Player 4"},null,null,{"$f":"$E$437","v":0},{"$f":"$F$437","v":-1E-3},{"$f":"$G$437","v":-1E-3}]
[null,{"$f":"GAMES!B44","v":"00:00:00"},{"$f":"GAMES!C44","v":"00:00:00"},{"$f":"GAMES!D44","v":0},null,{"$f":"GAMES!G44","v":" Block 2 Player 5"},null,null,{"$f":"$E$438","v":0},{"$f":"$F$438","v":-1E-3},{"$f":"$G$438","v":-1E-3}]
[null,{"$f":"GAMES!B48","v":"00:00:00"},{"$f":"GAMES!C48","v":"00:00:00"},{"$f":"GAMES!D48","v":0},null,{"$f":"GAMES!G48","v":" Block 2 Player 6"},null,null,{"$f":"$E$439","v":0},{"$f":"$F$439","v":-1E-3},{"$f":"$G$439","v":-1E-3}]
[null,{"$f":"GAMES!B52","v":"00:00:00"},{"$f":"GAMES!C52","v":"00:00:00"},{"$f":"GAMES!D52","v":0},null,{"$f":"GAMES!G52","v":" Block 2 Player 7"},null,null,{"$f":"$E$440","v":0},{"$f":"$F$440","v":-1E-3},{"$f":"$G$440","v":-1E-3}]
[null,{"$f":"GAMES!B56","v":"00:00:00"},{"$f":"GAMES!C56","v":"00:00:00"},{"$f":"GAMES!D56","v":"--"},null,{"$f":"GAMES!G56","v":" Bye "},null,null,{"$f":"$E$441","v":0},{"$f":"$F$441","v":-1E-3},{"$f":"$G$441","v":-1E-3}]
[null,{"$f":"GAMES!B60","v":"00:00:00"},{"$f":"GAMES!C60","v":"00:00:00"},{"$f":"GAMES!D60","v":0},null,{"$f":"GAMES!G60","v":" Block 2 Player 2"},null,null,{"$f":"$E$435","v":0},{"$f":"$F$435","v":-1E-3},{"$f":"$G$435","v":-1E-3}]
[]
[null,"PLAYER:",{"$f":"SCORECARD!D177","v":" Block 2 Player 1"},null,null,null,"HANDICAP",{"$f":"BLOCK!B40","v":0}]
[null,null,null,null,"OPP","PLAYER","OPP","H/CAP"]
[null,null,"OPPONENT",null,"HCP","SCORE","SCORE","PTS"]
[null,{"$f":"SCORECARD!C180","v":" Block 2 Player 2"},null,null,{"$f":"SCORECARD!F180","v":0},{"$f":"SCORECARD!G180","v":-1E-3},{"$f":"SCORECARD!H180","v":-1E-3},{"$f":"IF(NOT(OR(F435>0,G435>0)),\"\",IF(HandicapPlay=\"x\",IF(F435>G435,10,-10),IF((F435-G435>0),(VLOOKUP(OFFSET(H435,-3,0),(TABLE!WIN),(MATCH(E435,WINCOL,0)+1))),(VLOOKUP(OFFSET(H435,-3,0),(TABLE!LOSE),(MATCH(E435,LOSECOL,0)+1))))))","v":""}]
[null,{"$f":"SCORECARD!C181","v":" Block 2 Player 3"},null,null,{"$f":"SCORECARD!F181","v":0},{"$f":"SCORECARD!G181","v":-1E-3},{"$f":"SCORECARD!H181","v":-1E-3},{"$f":"IF(NOT(OR(F436>0,G436>0)),\"\",IF(HandicapPlay=\"x\",IF(F436>G436,10,-10),IF((F436-G436>0),(VLOOKUP(OFFSET(H436,-4,0),(TABLE!WIN),(MATCH(E436,WINCOL,0)+1))),(VLOOKUP(OFFSET(H436,-4,0),(TABLE!LOSE),(MATCH(E436,LOSECOL,0)+1))))))","v":""}]
[null,{"$f":"SCORECARD!C182","v":" Block 2 Player 4"},null,null,{"$f":"SCORECARD!F182","v":0},{"$f":"SCORECARD!G182","v":-1E-3},{"$f":"SCORECARD!H182","v":-1E-3},{"$f":"IF(NOT(OR(F437>0,G437>0)),\"\",IF(HandicapPlay=\"x\",IF(F437>G437,10,-10),IF((F437-G437>0),(VLOOKUP(OFFSET(H437,-5,0),(TABLE!WIN),(MATCH(E437,WINCOL,0)+1))),(VLOOKUP(OFFSET(H437,-5,0),(TABLE!LOSE),(MATCH(E437,LOSECOL,0)+1))))))","v":""}]
[null,{"$f":"SCORECARD!C183","v":" Block 2 Player 5"},null,null,{"$f":"SCORECARD!F183","v":0},{"$f":"SCORECARD!G183","v":-1E-3},{"$f":"SCORECARD!H183","v":-1E-3},{"$f":"IF(NOT(OR(F438>0,G438>0)),\"\",IF(HandicapPlay=\"x\",IF(F438>G438,10,-10),IF((F438-G438>0),(VLOOKUP(OFFSET(H438,-6,0),(TABLE!WIN),(MATCH(E438,WINCOL,0)+1))),(VLOOKUP(OFFSET(H438,-6,0),(TABLE!LOSE),(MATCH(E438,LOSECOL,0)+1))))))","v":""}]
[null,{"$f":"SCORECARD!C184","v":" Block 2 Player 6"},null,null,{"$f":"SCORECARD!F184","v":0},{"$f":"SCORECARD!G184","v":-1E-3},{"$f":"SCORECARD!H184","v":-1E-3},{"$f":"IF(NOT(OR(F439>0,G439>0)),\"\",IF(HandicapPlay=\"x\",IF(F439>G439,10,-10),IF((F439-G439>0),(VLOOKUP(OFFSET(H439,-7,0),(TABLE!WIN),(MATCH(E439,WINCOL,0)+1))),(VLOOKUP(OFFSET(H439,-7,0),(TABLE!LOSE),(MATCH(E439,LOSECOL,0)+1))))))","v":""}]
[null,{"$f":"SCORECARD!C185","v":" Block 2 Player 7"},null,null,{"$f":"SCORECARD!F185","v":0},{"$f":"SCORECARD!G185","v":-1E-3},{"$f":"SCORECARD!H185","v":-1E-3},{"$f":"IF(NOT(OR(F440>0,G440>0)),\"\",IF(HandicapPlay=\"x\",IF(F440>G440,10,-10),IF((F440-G440>0),(VLOOKUP(OFFSET(H440,-8,0),(TABLE!WIN),(MATCH(E440,WINCOL,0)+1))),(VLOOKUP(OFFSET(H440,-8,0),(TABLE!LOSE),(MATCH(E440,LOSECOL,0)+1))))))","v":""}]
[null,{"$f":"SCORECARD!C186","v":" Bye "},null,null,{"$f":"SCORECARD!F186","v":0},{"$f":"SCORECARD!G186","v":-1E-3},{"$f":"SCORECARD!H186","v":-1E-3},{"$f":"IF(NOT(OR(F441>0,G441>0)),\"\",IF(HandicapPlay=\"x\",IF(F441>G441,10,-10),IF((F441-G441>0),(VLOOKUP(OFFSET(H441,-9,0),(TABLE!WIN),(MATCH(E441,WINCOL,0)+1))),(VLOOKUP(OFFSET(H441,-9,0),(TABLE!LOSE),(MATCH(E441,LOSECOL,0)+1))))))","v":""}]
[null,{"$f":"SCORECARD!C187","v":0},null,null,{"$f":"SCORECARD!F187","v":" "},{"$f":"SCORECARD!G187","v":0},{"$f":"SCORECARD!H187","v":0},{"$f":"IF(NOT(OR(F442>0,G442>0)),\"\",(IF((F442-G442>0),(VLOOKUP($H$432,(TABLE!WIN),(E442*2))),(VLOOKUP($H$432,(TABLE!LOSE),(E442*2))))))","v":""}]
[null,{"$f":"SCORECARD!C188","v":0},null,null,{"$f":"SCORECARD!F188","v":" "},{"$f":"SCORECARD!G188","v":0},{"$f":"SCORECARD!H188","v":0},{"$f":"IF(NOT(OR(F443>0,G443>0)),\"\",(IF((F443-G443>0),(VLOOKUP($H$432,(TABLE!WIN),(E443*2))),(VLOOKUP($H$432,(TABLE!LOSE),(E443*2))))))","v":""}]
[null,{"$f":"SCORECARD!C189","v":0},null,null,{"$f":"SCORECARD!F189","v":" "},{"$f":"SCORECARD!G189","v":0},{"$f":"SCORECARD!H189","v":0},{"$f":"IF(NOT(OR(F444>0,G444>0)),\"\",(IF((F444-G444>0),(VLOOKUP($H$432,(TABLE!WIN),(E444*2))),(VLOOKUP($H$432,(TABLE!LOSE),(E444*2))))))","v":""}]
[null,{"$f":"SCORECARD!C190","v":0},null,null,{"$f":"SCORECARD!F190","v":" "},{"$f":"SCORECARD!G190","v":0},{"$f":"SCORECARD!H190","v":0},{"$f":"IF(NOT(OR(F445>0,G445>0)),\"\",(IF((F445-G445>0),(VLOOKUP($H$432,(TABLE!WIN),(E445*2))),(VLOOKUP($H$432,(TABLE!LOSE),(E445*2))))))","v":""}]
[null,{"$f":"SCORECARD!C191","v":0},null,null,{"$f":"SCORECARD!F191","v":" "},{"$f":"SCORECARD!G191","v":0},{"$f":"SCORECARD!H191","v":0},{"$f":"IF(NOT(OR(F446>0,G446>0)),\"\",(IF((F446-G446>0),(VLOOKUP($H$432,(TABLE!WIN),(E446*2))),(VLOOKUP($H$432,(TABLE!LOSE),(E446*2))))))","v":""}]
[null,{"$f":"SCORECARD!C192","v":0},null,null,{"$f":"SCORECARD!F192","v":" "},{"$f":"SCORECARD!G192","v":0},{"$f":"SCORECARD!H192","v":0},{"$f":"IF(NOT(OR(F447>0,G447>0)),\"\",(IF((F447-G447>0),(VLOOKUP($H$432,(TABLE!WIN),(E447*2))),(VLOOKUP($H$432,(TABLE!LOSE),(E447*2))))))","v":""}]
[null,{"$f":"SCORECARD!C193","v":0},null,null,{"$f":"SCORECARD!F193","v":" "},{"$f":"SCORECARD!G193","v":0},{"$f":"SCORECARD!H193","v":0},{"$f":"IF(NOT(OR(F448>0,G448>0)),\"\",(IF((F448-G448>0),(VLOOKUP($H$432,(TABLE!WIN),(E448*2))),(VLOOKUP($H$432,(TABLE!LOSE),(E448*2))))))","v":""}]
[null,{"$f":"SCORECARD!C194","v":0},null,null,{"$f":"SCORECARD!F194","v":" "},{"$f":"SCORECARD!G194","v":0},{"$f":"SCORECARD!H194","v":0},{"$f":"IF(NOT(OR(F449>0,G449>0)),\"\",(IF((F449-G449>0),(VLOOKUP($H$432,(TABLE!WIN),(E449*2))),(VLOOKUP($H$432,(TABLE!LOSE),(E449*2))))))","v":""}]
[null,{"$f":"SCORECARD!C195","v":0},null,null,{"$f":"SCORECARD!F195","v":" "},{"$f":"SCORECARD!G195","v":0},{"$f":"SCORECARD!H195","v":0},{"$f":"IF(NOT(OR(F450>0,G450>0)),\"\",(IF((F450-G450>0),(VLOOKUP($H$432,(TABLE!WIN),(E450*2))),(VLOOKUP($H$432,(TABLE!LOSE),(E450*2))))))","v":""}]
[]
[null,null,null,null,null,null,"Handicap adjustment points total   ",{"$f":"SUM(H435:H451)","v":0}]
[]
[]
[]
[]
[]
[]
[]
[]
[]
[]
[]
[]
[{"$f":"note1","v":"Time limit 2.5 hours, Turn After Bell (61.1.6). Quadway hoops (3 11/16\"), Dawson International balls"}]
[{"$f":"note2","v":"Games may start early. Please be at the venue at least 30 minutes earlier than the scheduled start time."}]
[{"$f":"note3","v":"Entry Fee $40 will be invoiced by email. Please pay by EFT using the invoice No. as reference."}]
[{"$f":"note4","v":"Players please assist with setting and clearing courts."}]
[null,null,null,null,{"$f":"BLOCK!F37","v":" Block 2 Player 2"}]
[null,null,null,null,{"$f":"BLOCK!N33","v":"Tournament"}]
[null,null,null,null,{"$f":"BLOCK!J35","v":"Singles"}]
[null,null,null,null,{"$f":"BLOCK!B37","v":"BLOCK 2"}]
[]
[null,null,null,null,"BLOCK PLAY SCHEDULE"]
[null,"TIME","DAY","COURT",null,"OPPONENT",null,null,"Handicap","PS","OS"]
[null,{"$f":"GAMES!B37","v":"00:00:00"},{"$f":"GAMES!C37","v":"00:00:00"},{"$f":"GAMES!D37","v":0},null,{"$f":"GAMES!G37","v":" Block 2 Player 4"},null,null,{"$f":"$E$489","v":0},{"$f":"$F$489","v":-1E-3},{"$f":"$G$489","v":-1E-3}]
[null,{"$f":"GAMES!B42","v":"00:00:00"},{"$f":"GAMES!C42","v":"00:00:00"},{"$f":"GAMES!D42","v":0},null,{"$f":"GAMES!G42","v":" Block 2 Player 6"},null,null,{"$f":"$E$491","v":0},{"$f":"$F$491","v":-1E-3},{"$f":"$G$491","v":-1E-3}]
[null,{"$f":"GAMES!B47","v":"00:00:00"},{"$f":"GAMES!C47","v":"00:00:00"},{"$f":"GAMES!D47","v":"--"},null,{"$f":"GAMES!G47","v":" Bye "},null,null,{"$f":"$E$493","v":0},{"$f":"$F$493","v":-1E-3},{"$f":"$G$493","v":-1E-3}]
[null,{"$f":"GAMES!B51","v":"00:00:00"},{"$f":"GAMES!C51","v":"00:00:00"},{"$f":"GAMES!D51","v":0},null,{"$f":"GAMES!E51","v":" Block 2 Player 3"},null,null,{"$f":"$E$488","v":0},{"$f":"$F$488","v":-1E-3},{"$f":"$G$488","v":-1E-3}]
[null,{"$f":"GAMES!B54","v":"00:00:00"},{"$f":"GAMES!C54","v":"00:00:00"},{"$f":"GAMES!D54","v":0},null,{"$f":"GAMES!E54","v":" Block 2 Player 5"},null,null,{"$f":"$E$490","v":0},{"$f":"$F$490","v":-1E-3},{"$f":"$G$490","v":-1E-3}]
[null,{"$f":"GAMES!B57","v":"00:00:00"},{"$f":"GAMES!C57","v":"00:00:00"},{"$f":"GAMES!D57","v":0},null,{"$f":"GAMES!E57","v":" Block 2 Player 7"},null,null,{"$f":"$E$492","v":0},{"$f":"$F$492","v":-1E-3},{"$f":"$G$492","v":-1E-3}]
[null,{"$f":"GAMES!B60","v":"00:00:00"},{"$f":"GAMES!C60","v":"00:00:00"},{"$f":"GAMES!D60","v":0},null,{"$f":"GAMES!E60","v":" Block 2 Player 1"},null,null,{"$f":"$E$487","v":0},{"$f":"$F$487","v":-1E-3},{"$f":"$G$487","v":-1E-3}]
[]
[null,"PLAYER:",{"$f":"SCORECARD!D197","v":" Block 2 Player 2"},null,null,null,"HANDICAP",{"$f":"SCORECARD!I197","v":0}]
[null,null,null,null,"OPP","PLAYER","OPP","H/CAP"]
[null,null,"OPPONENT",null,"HCP","SCORE","SCORE","PTS"]
[null,{"$f":"SCORECARD!C200","v":" Block 2 Player 1"},null,null,{"$f":"SCORECARD!F200","v":0},{"$f":"SCORECARD!G200","v":-1E-3},{"$f":"SCORECARD!H200","v":-1E-3},{"$f":"IF(NOT(OR(F487>0,G487>0)),\"\",IF(HandicapPlay=\"x\",IF(F487>G487,10,-10),IF((F487-G487>0),(VLOOKUP(OFFSET(H487,-3,0),(TABLE!WIN),(MATCH(E487,WINCOL,0)+1))),(VLOOKUP(OFFSET(H487,-3,0),(TABLE!LOSE),(MATCH(E487,LOSECOL,0)+1))))))","v":""}]
[null,{"$f":"SCORECARD!C201","v":" Block 2 Player 3"},null,null,{"$f":"SCORECARD!F201","v":0},{"$f":"SCORECARD!G201","v":-1E-3},{"$f":"SCORECARD!H201","v":-1E-3},{"$f":"IF(NOT(OR(F488>0,G488>0)),\"\",IF(HandicapPlay=\"x\",IF(F488>G488,10,-10),IF((F488-G488>0),(VLOOKUP(OFFSET(H488,-4,0),(TABLE!WIN),(MATCH(E488,WINCOL,0)+1))),(VLOOKUP(OFFSET(H488,-4,0),(TABLE!LOSE),(MATCH(E488,LOSECOL,0)+1))))))","v":""}]
[null,{"$f":"SCORECARD!C202","v":" Block 2 Player 4"},null,null,{"$f":"SCORECARD!F202","v":0},{"$f":"SCORECARD!G202","v":-1E-3},{"$f":"SCORECARD!H202","v":-1E-3},{"$f":"IF(NOT(OR(F489>0,G489>0)),\"\",IF(HandicapPlay=\"x\",IF(F489>G489,10,-10),IF((F489-G489>0),(VLOOKUP(OFFSET(H489,-5,0),(TABLE!WIN),(MATCH(E489,WINCOL,0)+1))),(VLOOKUP(OFFSET(H489,-5,0),(TABLE!LOSE),(MATCH(E489,LOSECOL,0)+1))))))","v":""}]
[null,{"$f":"SCORECARD!C203","v":" Block 2 Player 5"},null,null,{"$f":"SCORECARD!F203","v":0},{"$f":"SCORECARD!G203","v":-1E-3},{"$f":"SCORECARD!H203","v":-1E-3},{"$f":"IF(NOT(OR(F490>0,G490>0)),\"\",IF(HandicapPlay=\"x\",IF(F490>G490,10,-10),IF((F490-G490>0),(VLOOKUP(OFFSET(H490,-6,0),(TABLE!WIN),(MATCH(E490,WINCOL,0)+1))),(VLOOKUP(OFFSET(H490,-6,0),(TABLE!LOSE),(MATCH(E490,LOSECOL,0)+1))))))","v":""}]
[null,{"$f":"SCORECARD!C204","v":" Block 2 Player 6"},null,null,{"$f":"SCORECARD!F204","v":0},{"$f":"SCORECARD!G204","v":-1E-3},{"$f":"SCORECARD!H204","v":-1E-3},{"$f":"IF(NOT(OR(F491>0,G491>0)),\"\",IF(HandicapPlay=\"x\",IF(F491>G491,10,-10),IF((F491-G491>0),(VLOOKUP(OFFSET(H491,-7,0),(TABLE!WIN),(MATCH(E491,WINCOL,0)+1))),(VLOOKUP(OFFSET(H491,-7,0),(TABLE!LOSE),(MATCH(E491,LOSECOL,0)+1))))))","v":""}]
[null,{"$f":"SCORECARD!C205","v":" Block 2 Player 7"},null,null,{"$f":"SCORECARD!F205","v":0},{"$f":"SCORECARD!G205","v":-1E-3},{"$f":"SCORECARD!H205","v":-1E-3},{"$f":"IF(NOT(OR(F492>0,G492>0)),\"\",IF(HandicapPlay=\"x\",IF(F492>G492,10,-10),IF((F492-G492>0),(VLOOKUP(OFFSET(H492,-8,0),(TABLE!WIN),(MATCH(E492,WINCOL,0)+1))),(VLOOKUP(OFFSET(H492,-8,0),(TABLE!LOSE),(MATCH(E492,LOSECOL,0)+1))))))","v":""}]
[null,{"$f":"SCORECARD!C206","v":" Bye "},null,null,{"$f":"SCORECARD!F206","v":0},{"$f":"SCORECARD!G206","v":-1E-3},{"$f":"SCORECARD!H206","v":-1E-3},{"$f":"IF(NOT(OR(F493>0,G493>0)),\"\",IF(HandicapPlay=\"x\",IF(F493>G493,10,-10),IF((F493-G493>0),(VLOOKUP(OFFSET(H493,-9,0),(TABLE!WIN),(MATCH(E493,WINCOL,0)+1))),(VLOOKUP(OFFSET(H493,-9,0),(TABLE!LOSE),(MATCH(E493,LOSECOL,0)+1))))))","v":""}]
[null,{"$f":"SCORECARD!C207","v":0},null,null,{"$f":"SCORECARD!F207","v":" "},{"$f":"SCORECARD!G207","v":0},{"$f":"SCORECARD!H207","v":0},{"$f":"IF(NOT(OR(F494>0,G494>0)),\"\",(IF((F494-G494>0),(VLOOKUP($H$484,(TABLE!WIN),(E494*2))),(VLOOKUP($H$484,(TABLE!LOSE),(E494*2))))))","v":""}]
[null,{"$f":"SCORECARD!C208","v":0},null,null,{"$f":"SCORECARD!F208","v":" "},{"$f":"SCORECARD!G208","v":0},{"$f":"SCORECARD!H208","v":0},{"$f":"IF(NOT(OR(F495>0,G495>0)),\"\",(IF((F495-G495>0),(VLOOKUP($H$484,(TABLE!WIN),(E495*2))),(VLOOKUP($H$484,(TABLE!LOSE),(E495*2))))))","v":""}]
[null,{"$f":"SCORECARD!C209","v":0},null,null,{"$f":"SCORECARD!F209","v":" "},{"$f":"SCORECARD!G209","v":0},{"$f":"SCORECARD!H209","v":0},{"$f":"IF(NOT(OR(F496>0,G496>0)),\"\",(IF((F496-G496>0),(VLOOKUP($H$484,(TABLE!WIN),(E496*2))),(VLOOKUP($H$484,(TABLE!LOSE),(E496*2))))))","v":""}]
[null,{"$f":"SCORECARD!C210","v":0},null,null,{"$f":"SCORECARD!F210","v":" "},{"$f":"SCORECARD!G210","v":0},{"$f":"SCORECARD!H210","v":0},{"$f":"IF(NOT(OR(F497>0,G497>0)),\"\",(IF((F497-G497>0),(VLOOKUP($H$484,(TABLE!WIN),(E497*2))),(VLOOKUP($H$484,(TABLE!LOSE),(E497*2))))))","v":""}]
[null,{"$f":"SCORECARD!C211","v":0},null,null,{"$f":"SCORECARD!F211","v":" "},{"$f":"SCORECARD!G211","v":0},{"$f":"SCORECARD!H211","v":0},{"$f":"IF(NOT(OR(F498>0,G498>0)),\"\",(IF((F498-G498>0),(VLOOKUP($H$484,(TABLE!WIN),(E498*2))),(VLOOKUP($H$484,(TABLE!LOSE),(E498*2))))))","v":""}]
[null,{"$f":"SCORECARD!C212","v":0},null,null,{"$f":"SCORECARD!F212","v":" "},{"$f":"SCORECARD!G212","v":0},{"$f":"SCORECARD!H212","v":0},{"$f":"IF(NOT(OR(F499>0,G499>0)),\"\",(IF((F499-G499>0),(VLOOKUP($H$484,(TABLE!WIN),(E499*2))),(VLOOKUP($H$484,(TABLE!LOSE),(E499*2))))))","v":""}]
[null,{"$f":"SCORECARD!C213","v":0},null,null,{"$f":"SCORECARD!F213","v":" "},{"$f":"SCORECARD!G213","v":0},{"$f":"SCORECARD!H213","v":0},{"$f":"IF(NOT(OR(F500>0,G500>0)),\"\",(IF((F500-G500>0),(VLOOKUP($H$484,(TABLE!WIN),(E500*2))),(VLOOKUP($H$484,(TABLE!LOSE),(E500*2))))))","v":""}]
[null,{"$f":"SCORECARD!C214","v":0},null,null,{"$f":"SCORECARD!F214","v":" "},{"$f":"SCORECARD!G214","v":0},{"$f":"SCORECARD!H214","v":0},{"$f":"IF(NOT(OR(F501>0,G501>0)),\"\",(IF((F501-G501>0),(VLOOKUP($H$484,(TABLE!WIN),(E501*2))),(VLOOKUP($H$484,(TABLE!LOSE),(E501*2))))))","v":""}]
[null,{"$f":"SCORECARD!C215","v":0},null,null,{"$f":"SCORECARD!F215","v":" "},{"$f":"SCORECARD!G215","v":0},{"$f":"SCORECARD!H215","v":0},{"$f":"IF(NOT(OR(F502>0,G502>0)),\"\",(IF((F502-G502>0),(VLOOKUP($H$484,(TABLE!WIN),(E502*2))),(VLOOKUP($H$484,(TABLE!LOSE),(E502*2))))))","v":""}]
[]
[null,null,null,null,null,null,"Handicap adjustment points total   ",{"$f":"SUM(H487:H503)","v":0}]
[]
[]
[]
[]
[]
[]
[]
[]
[]
[]
[]
[]
[{"$f":"note1","v":"Time limit 2.5 hours, Turn After Bell (61.1.6). Quadway hoops (3 11/16\"), Dawson International balls"}]
[{"$f":"note2","v":"Games may start early. Please be at the venue at least 30 minutes earlier than the scheduled start time."}]
[{"$f":"note3","v":"Entry Fee $40 will be invoiced by email. Please pay by EFT using the invoice No. as reference."}]
[{"$f":"note4","v":"Players please assist with setting and clearing courts."}]
[null,null,null,null,{"$f":"BLOCK!I37","v":" Block 2 Player 3"}]
[null,null,null,null,{"$f":"BLOCK!N33","v":"Tournament"}]
[null,null,null,null,{"$f":"BLOCK!J35","v":"Singles"}]
[null,null,null,null,{"$f":"BLOCK!B37","v":"BLOCK 2"}]
[]
[null,null,null,null,"BLOCK PLAY SCHEDULE"]
[null,"TIME","DAY","COURT",null,"OPPONENT",null,null,"Handicap","PS","OS"]
[null,{"$f":"GAMES!B36","v":"00:00:00"},{"$f":"GAMES!C36","v":"00:00:00"},{"$f":"GAMES!D36","v":0},null,{"$f":"GAMES!E36","v":" Block 2 Player 1"},null,null,{"$f":"$E$539","v":0},{"$f":"$F$539","v":-1E-3},{"$f":"$G$539","v":-1E-3}]
[null,{"$f":"GAMES!B41","v":"00:00:00"},{"$f":"GAMES!C41","v":"00:00:00"},{"$f":"GAMES!D41","v":0},null,{"$f":"GAMES!G41","v":" Block 2 Player 5"},null,null,{"$f":"$E$542","v":0},{"$f":"$F$542","v":-1E-3},{"$f":"$G$542","v":-1E-3}]
[null,{"$f":"GAMES!B46","v":"00:00:00"},{"$f":"GAMES!C46","v":"00:00:00"},{"$f":"GAMES!D46","v":0},null,{"$f":"GAMES!G46","v":" Block 2 Player 7"},null,null,{"$f":"$E$544","v":0},{"$f":"$F$544","v":-1E-3},{"$f":"$G$544","v":-1E-3}]
[null,{"$f":"GAMES!B51","v":"00:00:00"},{"$f":"GAMES!C51","v":"00:00:00"},{"$f":"GAMES!D51","v":0},null,{"$f":"GAMES!G51","v":" Block 2 Player 2"},null,null,{"$f":"$E$540","v":0},{"$f":"$F$540","v":-1E-3},{"$f":"$G$540","v":-1E-3}]
[null,{"$f":"GAMES!B55","v":"00:00:00"},{"$f":"GAMES!C55","v":"00:00:00"},{"$f":"GAMES!D55","v":0},null,{"$f":"GAMES!E55","v":" Block 2 Player 4"},null,null,{"$f":"$E$541","v":0},{"$f":"$F$541","v":-1E-3},{"$f":"$G$541","v":-1E-3}]
[null,{"$f":"GAMES!B58","v":"00:00:00"},{"$f":"GAMES!C58","v":"00:00:00"},{"$f":"GAMES!D58","v":0},null,{"$f":"GAMES!E58","v":" Block 2 Player 6"},null,null,{"$f":"$E$543","v":0},{"$f":"$F$543","v":-1E-3},{"$f":"$G$543","v":-1E-3}]
[null,{"$f":"GAMES!B61","v":"00:00:00"},{"$f":"GAMES!C61","v":"00:00:00"},{"$f":"GAMES!D61","v":"--"},null,{"$f":"GAMES!E61","v":" Bye "},null,null,{"$f":"$E$545","v":0},{"$f":"$F$545","v":-1E-3},{"$f":"$G$545","v":-1E-3}]
[]
[null,"PLAYER:",{"$f":"SCORECARD!D220","v":" Block 2 Player 3"},null,null,null,"HANDICAP",{"$f":"SCORECARD!I220","v":0}]
[null,null,null,null,"OPP","PLAYER","OPP","H/CAP"]
[null,null,"OPPONENT",null,"HCP","SCORE","SCORE","PTS"]
[null,{"$f":"SCORECARD!C223","v":" Block 2 Player 1"},null,null,{"$f":"SCORECARD!F223","v":0},{"$f":"SCORECARD!G223","v":-1E-3},{"$f":"SCORECARD!H223","v":-1E-3},{"$f":"IF(NOT(OR(F539>0,G539>0)),\"\",IF(HandicapPlay=\"x\",IF(F539>G539,10,-10),IF((F539-G539>0),(VLOOKUP(OFFSET(H539,-3,0),(TABLE!WIN),(MATCH(E539,WINCOL,0)+1))),(VLOOKUP(OFFSET(H539,-3,0),(TABLE!LOSE),(MATCH(E539,LOSECOL,0)+1))))))","v":""}]
[null,{"$f":"SCORECARD!C224","v":" Block 2 Player 2"},null,null,{"$f":"SCORECARD!F224","v":0},{"$f":"SCORECARD!G224","v":-1E-3},{"$f":"SCORECARD!H224","v":-1E-3},{"$f":"IF(NOT(OR(F540>0,G540>0)),\"\",IF(HandicapPlay=\"x\",IF(F540>G540,10,-10),IF((F540-G540>0),(VLOOKUP(OFFSET(H540,-4,0),(TABLE!WIN),(MATCH(E540,WINCOL,0)+1))),(VLOOKUP(OFFSET(H540,-4,0),(TABLE!LOSE),(MATCH(E540,LOSECOL,0)+1))))))","v":""}]
[null,{"$f":"SCORECARD!C225","v":" Block 2 Player 4"},null,null,{"$f":"SCORECARD!F225","v":0},{"$f":"SCORECARD!G225","v":-1E-3},{"$f":"SCORECARD!H225","v":-1E-3},{"$f":"IF(NOT(OR(F541>0,G541>0)),\"\",IF(HandicapPlay=\"x\",IF(F541>G541,10,-10),IF((F541-G541>0),(VLOOKUP(OFFSET(H541,-5,0),(TABLE!WIN),(MATCH(E541,WINCOL,0)+1))),(VLOOKUP(OFFSET(H541,-5,0),(TABLE!LOSE),(MATCH(E541,LOSECOL,0)+1))))))","v":""}]
[null,{"$f":"SCORECARD!C226","v":" Block 2 Player 5"},null,null,{"$f":"SCORECARD!F226","v":0},{"$f":"SCORECARD!G226","v":-1E-3},{"$f":"SCORECARD!H226","v":-1E-3},{"$f":"IF(NOT(OR(F542>0,G542>0)),\"\",IF(HandicapPlay=\"x\",IF(F542>G542,10,-10),IF((F542-G542>0),(VLOOKUP(OFFSET(H542,-6,0),(TABLE!WIN),(MATCH(E542,WINCOL,0)+1))),(VLOOKUP(OFFSET(H542,-6,0),(TABLE!LOSE),(MATCH(E542,LOSECOL,0)+1))))))","v":""}]
[null,{"$f":"SCORECARD!C227","v":" Block 2 Player 6"},null,null,{"$f":"SCORECARD!F227","v":0},{"$f":"SCORECARD!G227","v":-1E-3},{"$f":"SCORECARD!H227","v":-1E-3},{"$f":"IF(NOT(OR(F543>0,G543>0)),\"\",IF(HandicapPlay=\"x\",IF(F543>G543,10,-10),IF((F543-G543>0),(VLOOKUP(OFFSET(H543,-7,0),(TABLE!WIN),(MATCH(E543,WINCOL,0)+1))),(VLOOKUP(OFFSET(H543,-7,0),(TABLE!LOSE),(MATCH(E543,LOSECOL,0)+1))))))","v":""}]
[null,{"$f":"SCORECARD!C228","v":" Block 2 Player 7"},null,null,{"$f":"SCORECARD!F228","v":0},{"$f":"SCORECARD!G228","v":-1E-3},{"$f":"SCORECARD!H228","v":-1E-3},{"$f":"IF(NOT(OR(F544>0,G544>0)),\"\",IF(HandicapPlay=\"x\",IF(F544>G544,10,-10),IF((F544-G544>0),(VLOOKUP(OFFSET(H544,-8,0),(TABLE!WIN),(MATCH(E544,WINCOL,0)+1))),(VLOOKUP(OFFSET(H544,-8,0),(TABLE!LOSE),(MATCH(E544,LOSECOL,0)+1))))))","v":""}]
[null,{"$f":"SCORECARD!C229","v":" Bye "},null,null,{"$f":"SCORECARD!F229","v":0},{"$f":"SCORECARD!G229","v":-1E-3},{"$f":"SCORECARD!H229","v":-1E-3},{"$f":"IF(NOT(OR(F545>0,G545>0)),\"\",IF(HandicapPlay=\"x\",IF(F545>G545,10,-10),IF((F545-G545>0),(VLOOKUP(OFFSET(H545,-9,0),(TABLE!WIN),(MATCH(E545,WINCOL,0)+1))),(VLOOKUP(OFFSET(H545,-9,0),(TABLE!LOSE),(MATCH(E545,LOSECOL,0)+1))))))","v":""}]
[null,{"$f":"SCORECARD!C230","v":0},null,null,{"$f":"SCORECARD!F230","v":" "},{"$f":"SCORECARD!G230","v":0},{"$f":"SCORECARD!H230","v":0},{"$f":"IF(NOT(OR(F546>0,G546>0)),\"\",(IF((F546-G546>0),(VLOOKUP(H$536,(TABLE!WIN),(E546*2))),(VLOOKUP(H$536,(TABLE!LOSE),(E546*2))))))","v":""}]
[null,{"$f":"SCORECARD!C231","v":0},null,null,{"$f":"SCORECARD!F231","v":" "},{"$f":"SCORECARD!G231","v":0},{"$f":"SCORECARD!H231","v":0},{"$f":"IF(NOT(OR(F547>0,G547>0)),\"\",(IF((F547-G547>0),(VLOOKUP(H$536,(TABLE!WIN),(E547*2))),(VLOOKUP(H$536,(TABLE!LOSE),(E547*2))))))","v":""}]
[null,{"$f":"SCORECARD!C232","v":0},null,null,{"$f":"SCORECARD!F232","v":" "},{"$f":"SCORECARD!G232","v":0},{"$f":"SCORECARD!H232","v":0},{"$f":"IF(NOT(OR(F548>0,G548>0)),\"\",(IF((F548-G548>0),(VLOOKUP(H$536,(TABLE!WIN),(E548*2))),(VLOOKUP(H$536,(TABLE!LOSE),(E548*2))))))","v":""}]
[null,{"$f":"SCORECARD!C233","v":0},null,null,{"$f":"SCORECARD!F233","v":" "},{"$f":"SCORECARD!G233","v":0},{"$f":"SCORECARD!H233","v":0},{"$f":"IF(NOT(OR(F549>0,G549>0)),\"\",(IF((F549-G549>0),(VLOOKUP(H$536,(TABLE!WIN),(E549*2))),(VLOOKUP(H$536,(TABLE!LOSE),(E549*2))))))","v":""}]
[null,{"$f":"SCORECARD!C234","v":0},null,null,{"$f":"SCORECARD!F234","v":" "},{"$f":"SCORECARD!G234","v":0},{"$f":"SCORECARD!H234","v":0},{"$f":"IF(NOT(OR(F550>0,G550>0)),\"\",(IF((F550-G550>0),(VLOOKUP(H$536,(TABLE!WIN),(E550*2))),(VLOOKUP(H$536,(TABLE!LOSE),(E550*2))))))","v":""}]
[null,{"$f":"SCORECARD!C235","v":0},null,null,{"$f":"SCORECARD!F235","v":" "},{"$f":"SCORECARD!G235","v":0},{"$f":"SCORECARD!H235","v":0},{"$f":"IF(NOT(OR(F551>0,G551>0)),\"\",(IF((F551-G551>0),(VLOOKUP(H$536,(TABLE!WIN),(E551*2))),(VLOOKUP(H$536,(TABLE!LOSE),(E551*2))))))","v":""}]
[null,{"$f":"SCORECARD!C236","v":0},null,null,{"$f":"SCORECARD!F236","v":" "},{"$f":"SCORECARD!G236","v":0},{"$f":"SCORECARD!H236","v":0},{"$f":"IF(NOT(OR(F552>0,G552>0)),\"\",(IF((F552-G552>0),(VLOOKUP(H$536,(TABLE!WIN),(E552*2))),(VLOOKUP(H$536,(TABLE!LOSE),(E552*2))))))","v":""}]
[null,{"$f":"SCORECARD!C237","v":0},null,null,{"$f":"SCORECARD!F237","v":" "},{"$f":"SCORECARD!G237","v":0},{"$f":"SCORECARD!H237","v":0},{"$f":"IF(NOT(OR(F553>0,G553>0)),\"\",(IF((F553-G553>0),(VLOOKUP(H$536,(TABLE!WIN),(E553*2))),(VLOOKUP(H$536,(TABLE!LOSE),(E553*2))))))","v":""}]
[null,{"$f":"SCORECARD!C238","v":0},null,null,{"$f":"SCORECARD!F238","v":" "},{"$f":"SCORECARD!G238","v":0},{"$f":"SCORECARD!H238","v":0},{"$f":"IF(NOT(OR(F554>0,G554>0)),\"\",(IF((F554-G554>0),(VLOOKUP(H$536,(TABLE!WIN),(E554*2))),(VLOOKUP(H$536,(TABLE!LOSE),(E554*2))))))","v":""}]
[]
[null,null,null,null,null,null,"Handicap adjustment points total   ",{"$f":"SUM(H539:H554)","v":0}]
[]
[]
[]
[]
[]
[]
[]
[]
[]
[]
[]
[]
[{"$f":"note1","v":"Time limit 2.5 hours, Turn After Bell (61.1.6). Quadway hoops (3 11/16\"), Dawson International balls"}]
[{"$f":"note2","v":"Games may start early. Please be at the venue at least 30 minutes earlier than the scheduled start time."}]
[{"$f":"note3","v":"Entry Fee $40 will be invoiced by email. Please pay by EFT using the invoice No. as reference."}]
[{"$f":"note4","v":"Players please assist with setting and clearing courts."}]
[null,null,null,null,{"$f":"BLOCK!L37","v":" Block 2 Player 4"}]
[null,null,null,null,{"$f":"BLOCK!N33","v":"Tournament"}]
[null,null,null,null,{"$f":"BLOCK!J35","v":"Singles"}]
[null,null,null,null,{"$f":"BLOCK!B37","v":"BLOCK 2"}]
[]
[null,null,null,null,"BLOCK PLAY SCHEDULE"]
[null,"TIME","DAY","COURT",null,"OPPONENT",null,null,"Handicap","PS","OS"]
[null,{"$f":"GAMES!B37","v":"00:00:00"},{"$f":"GAMES!C37","v":"00:00:00"},{"$f":"GAMES!D37","v":0},null,{"$f":"GAMES!E37","v":" Block 2 Player 2"},null,null,{"$f":"$E$592","v":0},{"$f":"$F$592","v":-1E-3},{"$f":"$G$592","v":-1E-3}]
[null,{"$f":"GAMES!B40","v":"00:00:00"},{"$f":"GAMES!C40","v":"00:00:00"},{"$f":"GAMES!D40","v":0},null,{"$f":"GAMES!E40","v":" Block 2 Player 1"},null,null,{"$f":"$E$591","v":0},{"$f":"$F$591","v":-1E-3},{"$f":"$G$591","v":-1E-3}]
[null,{"$f":"GAMES!B45","v":"00:00:00"},{"$f":"GAMES!C45","v":"00:00:00"},{"$f":"GAMES!D45","v":0},null,{"$f":"GAMES!G45","v":" Block 2 Player 6"},null,null,{"$f":"$E$595","v":0},{"$f":"$F$595","v":-1E-3},{"$f":"$G$595","v":-1E-3}]
[null,{"$f":"GAMES!B50","v":"00:00:00"},{"$f":"GAMES!C50","v":"00:00:00"},{"$f":"GAMES!D50","v":"--"},null,{"$f":"GAMES!G50","v":" Bye "},null,null,{"$f":"$E$597","v":0},{"$f":"$F$597","v":-1E-3},{"$f":"$G$597","v":-1E-3}]
[null,{"$f":"GAMES!B55","v":"00:00:00"},{"$f":"GAMES!C55","v":"00:00:00"},{"$f":"GAMES!D55","v":0},null,{"$f":"GAMES!G55","v":" Block 2 Player 3"},null,null,{"$f":"$E$593","v":0},{"$f":"$F$593","v":-1E-3},{"$f":"$G$593","v":-1E-3}]
[null,{"$f":"GAMES!B59","v":"00:00:00"},{"$f":"GAMES!C59","v":"00:00:00"},{"$f":"GAMES!D59","v":0},null,{"$f":"GAMES!E59","v":" Block 2 Player 5"},null,null,{"$f":"$E$594","v":0},{"$f":"$F$594","v":-1E-3},{"$f":"$G$594","v":-1E-3}]
[null,{"$f":"GAMES!B62","v":"00:00:00"},{"$f":"GAMES!C62","v":"00:00:00"},{"$f":"GAMES!D62","v":0},null,{"$f":"GAMES!E62","v":" Block 2 Player 7"},null,null,{"$f":"$E$596","v":0},{"$f":"$F$596","v":-1E-3},{"$f":"$G$596","v":-1E-3}]
[]
[null,"PLAYER:",{"$f":"SCORECARD!D240","v":" Block 2 Player 4"},null,null,null,"HANDICAP",{"$f":"SCORECARD!I240","v":0}]
[null,null,null,null,"OPP","PLAYER","OPP","H/CAP"]
[null,null,"OPPONENT",null,"HCP","SCORE","SCORE","PTS"]
[null,{"$f":"SCORECARD!C243","v":" Block 2 Player 1"},null,null,{"$f":"SCORECARD!F243","v":0},{"$f":"SCORECARD!G243","v":-1E-3},{"$f":"SCORECARD!H243","v":-1E-3},{"$f":"IF(NOT(OR(F591>0,G591>0)),\"\",IF(HandicapPlay=\"x\",IF(F591>G591,10,-10),IF((F591-G591>0),(VLOOKUP(OFFSET(H591,-3,0),(TABLE!WIN),(MATCH(E591,WINCOL,0)+1))),(VLOOKUP(OFFSET(H591,-3,0),(TABLE!LOSE),(MATCH(E591,LOSECOL,0)+1))))))","v":""}]
[null,{"$f":"SCORECARD!C244","v":" Block 2 Player 2"},null,null,{"$f":"SCORECARD!F244","v":0},{"$f":"SCORECARD!G244","v":-1E-3},{"$f":"SCORECARD!H244","v":-1E-3},{"$f":"IF(NOT(OR(F592>0,G592>0)),\"\",IF(HandicapPlay=\"x\",IF(F592>G592,10,-10),IF((F592-G592>0),(VLOOKUP(OFFSET(H592,-4,0),(TABLE!WIN),(MATCH(E592,WINCOL,0)+1))),(VLOOKUP(OFFSET(H592,-4,0),(TABLE!LOSE),(MATCH(E592,LOSECOL,0)+1))))))","v":""}]
[null,{"$f":"SCORECARD!C245","v":" Block 2 Player 3"},null,null,{"$f":"SCORECARD!F245","v":0},{"$f":"SCORECARD!G245","v":-1E-3},{"$f":"SCORECARD!H245","v":-1E-3},{"$f":"IF(NOT(OR(F593>0,G593>0)),\"\",IF(HandicapPlay=\"x\",IF(F593>G593,10,-10),IF((F593-G593>0),(VLOOKUP(OFFSET(H593,-5,0),(TABLE!WIN),(MATCH(E593,WINCOL,0)+1))),(VLOOKUP(OFFSET(H593,-5,0),(TABLE!LOSE),(MATCH(E593,LOSECOL,0)+1))))))","v":""}]
[null,{"$f":"SCORECARD!C246","v":" Block 2 Player 5"},null,null,{"$f":"SCORECARD!F246","v":0},{"$f":"SCORECARD!G246","v":-1E-3},{"$f":"SCORECARD!H246","v":-1E-3},{"$f":"IF(NOT(OR(F594>0,G594>0)),\"\",IF(HandicapPlay=\"x\",IF(F594>G594,10,-10),IF((F594-G594>0),(VLOOKUP(OFFSET(H594,-6,0),(TABLE!WIN),(MATCH(E594,WINCOL,0)+1))),(VLOOKUP(OFFSET(H594,-6,0),(TABLE!LOSE),(MATCH(E594,LOSECOL,0)+1))))))","v":""}]
[null,{"$f":"SCORECARD!C247","v":" Block 2 Player 6"},null,null,{"$f":"SCORECARD!F247","v":0},{"$f":"SCORECARD!G247","v":-1E-3},{"$f":"SCORECARD!H247","v":-1E-3},{"$f":"IF(NOT(OR(F595>0,G595>0)),\"\",IF(HandicapPlay=\"x\",IF(F595>G595,10,-10),IF((F595-G595>0),(VLOOKUP(OFFSET(H595,-7,0),(TABLE!WIN),(MATCH(E595,WINCOL,0)+1))),(VLOOKUP(OFFSET(H595,-7,0),(TABLE!LOSE),(MATCH(E595,LOSECOL,0)+1))))))","v":""}]
[null,{"$f":"SCORECARD!C248","v":" Block 2 Player 7"},null,null,{"$f":"SCORECARD!F248","v":0},{"$f":"SCORECARD!G248","v":-1E-3},{"$f":"SCORECARD!H248","v":-1E-3},{"$f":"IF(NOT(OR(F596>0,G596>0)),\"\",IF(HandicapPlay=\"x\",IF(F596>G596,10,-10),IF((F596-G596>0),(VLOOKUP(OFFSET(H596,-8,0),(TABLE!WIN),(MATCH(E596,WINCOL,0)+1))),(VLOOKUP(OFFSET(H596,-8,0),(TABLE!LOSE),(MATCH(E596,LOSECOL,0)+1))))))","v":""}]
[null,{"$f":"SCORECARD!C249","v":" Bye "},null,null,{"$f":"SCORECARD!F249","v":0},{"$f":"SCORECARD!G249","v":-1E-3},{"$f":"SCORECARD!H249","v":-1E-3},{"$f":"IF(NOT(OR(F597>0,G597>0)),\"\",IF(HandicapPlay=\"x\",IF(F597>G597,10,-10),IF((F597-G597>0),(VLOOKUP(OFFSET(H597,-9,0),(TABLE!WIN),(MATCH(E597,WINCOL,0)+1))),(VLOOKUP(OFFSET(H597,-9,0),(TABLE!LOSE),(MATCH(E597,LOSECOL,0)+1))))))","v":""}]
[null,{"$f":"SCORECARD!C250","v":0},null,null,{"$f":"SCORECARD!F250","v":" "},{"$f":"SCORECARD!G250","v":0},{"$f":"SCORECARD!H250","v":0},{"$f":"IF(NOT(OR(F598>0,G598>0)),\"\",(IF((F598-G598>0),(VLOOKUP(H$588,(TABLE!WIN),(E598*2))),(VLOOKUP(H$588,(TABLE!LOSE),(E598*2))))))","v":""}]
[null,{"$f":"SCORECARD!C251","v":0},null,null,{"$f":"SCORECARD!F251","v":" "},{"$f":"SCORECARD!G251","v":0},{"$f":"SCORECARD!H251","v":0},{"$f":"IF(NOT(OR(F599>0,G599>0)),\"\",(IF((F599-G599>0),(VLOOKUP(H$588,(TABLE!WIN),(E599*2))),(VLOOKUP(H$588,(TABLE!LOSE),(E599*2))))))","v":""}]
[null,{"$f":"SCORECARD!C252","v":0},null,null,{"$f":"SCORECARD!F252","v":" "},{"$f":"SCORECARD!G252","v":0},{"$f":"SCORECARD!H252","v":0},{"$f":"IF(NOT(OR(F600>0,G600>0)),\"\",(IF((F600-G600>0),(VLOOKUP(H$588,(TABLE!WIN),(E600*2))),(VLOOKUP(H$588,(TABLE!LOSE),(E600*2))))))","v":""}]
[null,{"$f":"SCORECARD!C253","v":0},null,null,{"$f":"SCORECARD!F253","v":" "},{"$f":"SCORECARD!G253","v":0},{"$f":"SCORECARD!H253","v":0},{"$f":"IF(NOT(OR(F601>0,G601>0)),\"\",(IF((F601-G601>0),(VLOOKUP(H$588,(TABLE!WIN),(E601*2))),(VLOOKUP(H$588,(TABLE!LOSE),(E601*2))))))","v":""}]
[null,{"$f":"SCORECARD!C254","v":0},null,null,{"$f":"SCORECARD!F254","v":" "},{"$f":"SCORECARD!G254","v":0},{"$f":"SCORECARD!H254","v":0},{"$f":"IF(NOT(OR(F602>0,G602>0)),\"\",(IF((F602-G602>0),(VLOOKUP(H$588,(TABLE!WIN),(E602*2))),(VLOOKUP(H$588,(TABLE!LOSE),(E602*2))))))","v":""}]
[null,{"$f":"SCORECARD!C255","v":0},null,null,{"$f":"SCORECARD!F255","v":" "},{"$f":"SCORECARD!G255","v":0},{"$f":"SCORECARD!H255","v":0},{"$f":"IF(NOT(OR(F603>0,G603>0)),\"\",(IF((F603-G603>0),(VLOOKUP(H$588,(TABLE!WIN),(E603*2))),(VLOOKUP(H$588,(TABLE!LOSE),(E603*2))))))","v":""}]
[null,{"$f":"SCORECARD!C256","v":0},null,null,{"$f":"SCORECARD!F256","v":" "},{"$f":"SCORECARD!G256","v":0},{"$f":"SCORECARD!H256","v":0},{"$f":"IF(NOT(OR(F604>0,G604>0)),\"\",(IF((F604-G604>0),(VLOOKUP(H$588,(TABLE!WIN),(E604*2))),(VLOOKUP(H$588,(TABLE!LOSE),(E604*2))))))","v":""}]
[null,{"$f":"SCORECARD!C257","v":0},null,null,{"$f":"SCORECARD!F257","v":" "},{"$f":"SCORECARD!G257","v":0},{"$f":"SCORECARD!H257","v":0},{"$f":"IF(NOT(OR(F605>0,G605>0)),\"\",(IF((F605-G605>0),(VLOOKUP(H$588,(TABLE!WIN),(E605*2))),(VLOOKUP(H$588,(TABLE!LOSE),(E605*2))))))","v":""}]
[null,{"$f":"SCORECARD!C258","v":0},null,null,{"$f":"SCORECARD!F258","v":" "},{"$f":"SCORECARD!G258","v":0},{"$f":"SCORECARD!H258","v":0},{"$f":"IF(NOT(OR(F606>0,G606>0)),\"\",(IF((F606-G606>0),(VLOOKUP(H$588,(TABLE!WIN),(E606*2))),(VLOOKUP(H$588,(TABLE!LOSE),(E606*2))))))","v":""}]
[]
[null,null,null,null,null,null,"Handicap adjustment points total   ",{"$f":"SUM(H591:H607)","v":0}]
[]
[]
[]
[]
[]
[]
[]
[]
[]
[]
[]
[]
[{"$f":"note1","v":"Time limit 2.5 hours, Turn After Bell (61.1.6). Quadway hoops (3 11/16\"), Dawson International balls"}]
[{"$f":"note2","v":"Games may start early. Please be at the venue at least 30 minutes earlier than the scheduled start time."}]
[{"$f":"note3","v":"Entry Fee $40 will be invoiced by email. Please pay by EFT using the invoice No. as reference."}]
[{"$f":"note4","v":"Players please assist with setting and clearing courts."}]
[null,null,null,null,{"$f":"BLOCK!O37","v":" Block 2 Player 5"}]
[null,null,null,null,{"$f":"BLOCK!N33","v":"Tournament"}]
[null,null,null,null,{"$f":"BLOCK!J35","v":"Singles"}]
[null,null,null,null,{"$f":"BLOCK!B37","v":"BLOCK 2"}]
[]
[null,null,null,null,"BLOCK PLAY SCHEDULE"]
[null,"TIME","DAY","COURT",null,"OPPONENT",null,null,"Handicap","PS","OS"]
[null,{"$f":"GAMES!B38","v":"00:00:00"},{"$f":"GAMES!C38","v":"00:00:00"},{"$f":"GAMES!D38","v":"--"},null,{"$f":"GAMES!E38","v":" Bye "},null,null,{"$f":"$E$649","v":0},{"$f":"$F$649","v":-1E-3},{"$f":"$G$649","v":-1E-3}]
[null,{"$f":"GAMES!B41","v":"00:00:00"},{"$f":"GAMES!C41","v":"00:00:00"},{"$f":"GAMES!D41","v":0},null,{"$f":"GAMES!E41","v":" Block 2 Player 3"},null,null,{"$f":"$E$645","v":0},{"$f":"$F$645","v":-1E-3},{"$f":"$G$645","v":-1E-3}]
[null,{"$f":"GAMES!B44","v":"00:00:00"},{"$f":"GAMES!C44","v":"00:00:00"},{"$f":"GAMES!D44","v":0},null,{"$f":"GAMES!E44","v":" Block 2 Player 1"},null,null,{"$f":"$E$643","v":0},{"$f":"$F$643","v":-1E-3},{"$f":"$G$643","v":-1E-3}]
[null,{"$f":"GAMES!B49","v":"00:00:00"},{"$f":"GAMES!C49","v":"00:00:00"},{"$f":"GAMES!D49","v":0},null,{"$f":"GAMES!G49","v":" Block 2 Player 7"},null,null,{"$f":"$E$648","v":0},{"$f":"$F$648","v":-1E-3},{"$f":"$G$648","v":-1E-3}]
[null,{"$f":"GAMES!B54","v":"00:00:00"},{"$f":"GAMES!C54","v":"00:00:00"},{"$f":"GAMES!D54","v":0},null,{"$f":"GAMES!G54","v":" Block 2 Player 2"},null,null,{"$f":"$E$644","v":0},{"$f":"$F$644","v":-1E-3},{"$f":"$G$644","v":-1E-3}]
[null,{"$f":"GAMES!B59","v":"00:00:00"},{"$f":"GAMES!C59","v":"00:00:00"},{"$f":"GAMES!D59","v":0},null,{"$f":"GAMES!G59","v":" Block 2 Player 4"},null,null,{"$f":"$E$646","v":0},{"$f":"$F$646","v":-1E-3},{"$f":"$G$646","v":-1E-3}]
[null,{"$f":"GAMES!B63","v":"00:00:00"},{"$f":"GAMES!C63","v":"00:00:00"},{"$f":"GAMES!D63","v":0},null,{"$f":"GAMES!E63","v":" Block 2 Player 6"},null,null,{"$f":"$E$647","v":0},{"$f":"$F$647","v":-1E-3},{"$f":"$G$647","v":-1E-3}]
[]
[null,"PLAYER:",{"$f":"SCORECARD!D263","v":" Block 2 Player 5"},null,null,null,"HANDICAP",{"$f":"SCORECARD!I263","v":0}]
[null,null,null,null,"OPP","PLAYER","OPP","H/CAP"]
[null,null,"OPPONENT",null,"HCP","SCORE","SCORE","PTS"]
[null,{"$f":"SCORECARD!C266","v":" Block 2 Player 1"},null,null,{"$f":"SCORECARD!F266","v":0},{"$f":"SCORECARD!G266","v":-1E-3},{"$f":"SCORECARD!H266","v":-1E-3},{"$f":"IF(NOT(OR(F643>0,G643>0)),\"\",IF(HandicapPlay=\"x\",IF(F643>G643,10,-10),IF((F643-G643>0),(VLOOKUP(OFFSET(H643,-3,0),(TABLE!WIN),(MATCH(E643,WINCOL,0)+1))),(VLOOKUP(OFFSET(H643,-3,0),(TABLE!LOSE),(MATCH(E643,LOSECOL,0)+1))))))","v":""}]
[null,{"$f":"SCORECARD!C267","v":" Block 2 Player 2"},null,null,{"$f":"SCORECARD!F267","v":0},{"$f":"SCORECARD!G267","v":-1E-3},{"$f":"SCORECARD!H267","v":-1E-3},{"$f":"IF(NOT(OR(F644>0,G644>0)),\"\",IF(HandicapPlay=\"x\",IF(F644>G644,10,-10),IF((F644-G644>0),(VLOOKUP(OFFSET(H644,-4,0),(TABLE!WIN),(MATCH(E644,WINCOL,0)+1))),(VLOOKUP(OFFSET(H644,-4,0),(TABLE!LOSE),(MATCH(E644,LOSECOL,0)+1))))))","v":""}]
[null,{"$f":"SCORECARD!C268","v":" Block 2 Player 3"},null,null,{"$f":"SCORECARD!F268","v":0},{"$f":"SCORECARD!G268","v":-1E-3},{"$f":"SCORECARD!H268","v":-1E-3},{"$f":"IF(NOT(OR(F645>0,G645>0)),\"\",IF(HandicapPlay=\"x\",IF(F645>G645,10,-10),IF((F645-G645>0),(VLOOKUP(OFFSET(H645,-5,0),(TABLE!WIN),(MATCH(E645,WINCOL,0)+1))),(VLOOKUP(OFFSET(H645,-5,0),(TABLE!LOSE),(MATCH(E645,LOSECOL,0)+1))))))","v":""}]
[null,{"$f":"SCORECARD!C269","v":" Block 2 Player 4"},null,null,{"$f":"SCORECARD!F269","v":0},{"$f":"SCORECARD!G269","v":-1E-3},{"$f":"SCORECARD!H269","v":-1E-3},{"$f":"IF(NOT(OR(F646>0,G646>0)),\"\",IF(HandicapPlay=\"x\",IF(F646>G646,10,-10),IF((F646-G646>0),(VLOOKUP(OFFSET(H646,-6,0),(TABLE!WIN),(MATCH(E646,WINCOL,0)+1))),(VLOOKUP(OFFSET(H646,-6,0),(TABLE!LOSE),(MATCH(E646,LOSECOL,0)+1))))))","v":""}]
[null,{"$f":"SCORECARD!C270","v":" Block 2 Player 6"},null,null,{"$f":"SCORECARD!F270","v":0},{"$f":"SCORECARD!G270","v":-1E-3},{"$f":"SCORECARD!H270","v":-1E-3},{"$f":"IF(NOT(OR(F647>0,G647>0)),\"\",IF(HandicapPlay=\"x\",IF(F647>G647,10,-10),IF((F647-G647>0),(VLOOKUP(OFFSET(H647,-7,0),(TABLE!WIN),(MATCH(E647,WINCOL,0)+1))),(VLOOKUP(OFFSET(H647,-7,0),(TABLE!LOSE),(MATCH(E647,LOSECOL,0)+1))))))","v":""}]
[null,{"$f":"SCORECARD!C271","v":" Block 2 Player 7"},null,null,{"$f":"SCORECARD!F271","v":0},{"$f":"SCORECARD!G271","v":-1E-3},{"$f":"SCORECARD!H271","v":-1E-3},{"$f":"IF(NOT(OR(F648>0,G648>0)),\"\",IF(HandicapPlay=\"x\",IF(F648>G648,10,-10),IF((F648-G648>0),(VLOOKUP(OFFSET(H648,-8,0),(TABLE!WIN),(MATCH(E648,WINCOL,0)+1))),(VLOOKUP(OFFSET(H648,-8,0),(TABLE!LOSE),(MATCH(E648,LOSECOL,0)+1))))))","v":""}]
[null,{"$f":"SCORECARD!C272","v":" Bye "},null,null,{"$f":"SCORECARD!F272","v":0},{"$f":"SCORECARD!G272","v":-1E-3},{"$f":"SCORECARD!H272","v":-1E-3},{"$f":"IF(NOT(OR(F649>0,G649>0)),\"\",IF(HandicapPlay=\"x\",IF(F649>G649,10,-10),IF((F649-G649>0),(VLOOKUP(OFFSET(H649,-9,0),(TABLE!WIN),(MATCH(E649,WINCOL,0)+1))),(VLOOKUP(OFFSET(H649,-9,0),(TABLE!LOSE),(MATCH(E649,LOSECOL,0)+1))))))","v":""}]
[null,{"$f":"SCORECARD!C273","v":0},null,null,{"$f":"SCORECARD!F273","v":" "},{"$f":"SCORECARD!G273","v":0},{"$f":"SCORECARD!H273","v":0},{"$f":"IF(NOT(OR(F650>0,G650>0)),\"\",(IF((F650-G650>0),(VLOOKUP(H$640,(TABLE!WIN),(E650*2))),(VLOOKUP(H$640,(TABLE!LOSE),(E650*2))))))","v":""}]
[null,{"$f":"SCORECARD!C274","v":0},null,null,{"$f":"SCORECARD!F274","v":" "},{"$f":"SCORECARD!G274","v":0},{"$f":"SCORECARD!H274","v":0},{"$f":"IF(NOT(OR(F651>0,G651>0)),\"\",(IF((F651-G651>0),(VLOOKUP(H$640,(TABLE!WIN),(E651*2))),(VLOOKUP(H$640,(TABLE!LOSE),(E651*2))))))","v":""}]
[null,{"$f":"SCORECARD!C275","v":0},null,null,{"$f":"SCORECARD!F275","v":" "},{"$f":"SCORECARD!G275","v":0},{"$f":"SCORECARD!H275","v":0},{"$f":"IF(NOT(OR(F652>0,G652>0)),\"\",(IF((F652-G652>0),(VLOOKUP(H$640,(TABLE!WIN),(E652*2))),(VLOOKUP(H$640,(TABLE!LOSE),(E652*2))))))","v":""}]
[null,{"$f":"SCORECARD!C276","v":0},null,null,{"$f":"SCORECARD!F276","v":" "},{"$f":"SCORECARD!G276","v":0},{"$f":"SCORECARD!H276","v":0},{"$f":"IF(NOT(OR(F653>0,G653>0)),\"\",(IF((F653-G653>0),(VLOOKUP(H$640,(TABLE!WIN),(E653*2))),(VLOOKUP(H$640,(TABLE!LOSE),(E653*2))))))","v":""}]
[null,{"$f":"SCORECARD!C277","v":0},null,null,{"$f":"SCORECARD!F277","v":" "},{"$f":"SCORECARD!G277","v":0},{"$f":"SCORECARD!H277","v":0},{"$f":"IF(NOT(OR(F654>0,G654>0)),\"\",(IF((F654-G654>0),(VLOOKUP(H$640,(TABLE!WIN),(E654*2))),(VLOOKUP(H$640,(TABLE!LOSE),(E654*2))))))","v":""}]
[null,{"$f":"SCORECARD!C278","v":0},null,null,{"$f":"SCORECARD!F278","v":" "},{"$f":"SCORECARD!G278","v":0},{"$f":"SCORECARD!H278","v":0},{"$f":"IF(NOT(OR(F655>0,G655>0)),\"\",(IF((F655-G655>0),(VLOOKUP(H$640,(TABLE!WIN),(E655*2))),(VLOOKUP(H$640,(TABLE!LOSE),(E655*2))))))","v":""}]
[null,{"$f":"SCORECARD!C279","v":0},null,null,{"$f":"SCORECARD!F279","v":" "},{"$f":"SCORECARD!G279","v":0},{"$f":"SCORECARD!H279","v":0},{"$f":"IF(NOT(OR(F656>0,G656>0)),\"\",(IF((F656-G656>0),(VLOOKUP(H$640,(TABLE!WIN),(E656*2))),(VLOOKUP(H$640,(TABLE!LOSE),(E656*2))))))","v":""}]
[null,{"$f":"SCORECARD!C280","v":0},null,null,{"$f":"SCORECARD!F280","v":" "},{"$f":"SCORECARD!G280","v":0},{"$f":"SCORECARD!H280","v":0},{"$f":"IF(NOT(OR(F657>0,G657>0)),\"\",(IF((F657-G657>0),(VLOOKUP(H$640,(TABLE!WIN),(E657*2))),(VLOOKUP(H$640,(TABLE!LOSE),(E657*2))))))","v":""}]
[null,{"$f":"SCORECARD!C281","v":0},null,null,{"$f":"SCORECARD!F281","v":" "},{"$f":"SCORECARD!G281","v":0},{"$f":"SCORECARD!H281","v":0},{"$f":"IF(NOT(OR(F658>0,G658>0)),\"\",(IF((F658-G658>0),(VLOOKUP(H$640,(TABLE!WIN),(E658*2))),(VLOOKUP(H$640,(TABLE!LOSE),(E658*2))))))","v":""}]
[]
[null,null,null,null,null,null,"Handicap adjustment points total   ",{"$f":"SUM(H643:H659)","v":0}]
[]
[]
[]
[]
[]
[]
[]
[]
[]
[]
[]
[]
[{"$f":"note1","v":"Time limit 2.5 hours, Turn After Bell (61.1.6). Quadway hoops (3 11/16\"), Dawson International balls"}]
[{"$f":"note2","v":"Games may start early. Please be at the venue at least 30 minutes earlier than the scheduled start time."}]
[{"$f":"note3","v":"Entry Fee $40 will be invoiced by email. Please pay by EFT using the invoice No. as reference."}]
[{"$f":"note4","v":"Players please assist with setting and clearing courts."}]
[null,null,null,null,{"$f":"BLOCK!R37","v":" Block 2 Player 6"}]
[null,null,null,null,{"$f":"BLOCK!N33","v":"Tournament"}]
[null,null,null,null,{"$f":"BLOCK!J35","v":"Singles"}]
[null,null,null,null,{"$f":"BLOCK!B37","v":"BLOCK 2"}]
[]
[null,null,null,null,"BLOCK PLAY SCHEDULE"]
[null,"TIME","DAY","COURT",null,"OPPONENT",null,null,"Handicap","PS","OS"]
[null,{"$f":"GAMES!B39","v":"00:00:00"},{"$f":"GAMES!C39","v":"00:00:00"},{"$f":"GAMES!D39","v":0},null,{"$f":"GAMES!E39","v":" Block 2 Player 7"},null,null,{"$f":"$E$700","v":0},{"$f":"$F$700","v":-1E-3},{"$f":"$G$700","v":-1E-3}]
[null,{"$f":"GAMES!B42","v":"00:00:00"},{"$f":"GAMES!C42","v":"00:00:00"},{"$f":"GAMES!D42","v":0},null,{"$f":"GAMES!E42","v":" Block 2 Player 2"},null,null,{"$f":"$E$696","v":0},{"$f":"$F$696","v":-1E-3},{"$f":"$G$696","v":-1E-3}]
[null,{"$f":"GAMES!B45","v":"00:00:00"},{"$f":"GAMES!C45","v":"00:00:00"},{"$f":"GAMES!D45","v":0},null,{"$f":"GAMES!E45","v":" Block 2 Player 4"},null,null,{"$f":"$E$698","v":0},{"$f":"$F$698","v":-1E-3},{"$f":"$G$698","v":-1E-3}]
[null,{"$f":"GAMES!B48","v":"00:00:00"},{"$f":"GAMES!C48","v":"00:00:00"},{"$f":"GAMES!D48","v":0},null,{"$f":"GAMES!E48","v":" Block 2 Player 1"},null,null,{"$f":"$E$695","v":0},{"$f":"$F$695","v":-1E-3},{"$f":"$G$695","v":-1E-3}]
[null,{"$f":"GAMES!B53","v":"00:00:00"},{"$f":"GAMES!C53","v":"00:00:00"},{"$f":"GAMES!D53","v":"--"},null,{"$f":"GAMES!G53","v":" Bye "},null,null,{"$f":"$E$701","v":0},{"$f":"$F$701","v":-1E-3},{"$f":"$G$701","v":-1E-3}]
[null,{"$f":"GAMES!B58","v":"00:00:00"},{"$f":"GAMES!C58","v":"00:00:00"},{"$f":"GAMES!D58","v":0},null,{"$f":"GAMES!G58","v":" Block 2 Player 3"},null,null,{"$f":"$E$697","v":0},{"$f":"$F$697","v":-1E-3},{"$f":"$G$697","v":-1E-3}]
[null,{"$f":"GAMES!B63","v":"00:00:00"},{"$f":"GAMES!C63","v":"00:00:00"},{"$f":"GAMES!D63","v":0},null,{"$f":"GAMES!G63","v":" Block 2 Player 5"},null,null,{"$f":"$E$699","v":0},{"$f":"$F$699","v":-1E-3},{"$f":"$G$699","v":-1E-3}]
[]
[null,"PLAYER:",{"$f":"SCORECARD!D283","v":" Block 2 Player 6"},null,null,null,"HANDICAP",{"$f":"SCORECARD!I283","v":0}]
[null,null,null,null,"OPP","PLAYER","OPP","H/CAP"]
[null,null,"OPPONENT",null,"HCP","SCORE","SCORE","PTS"]
[null,{"$f":"SCORECARD!C286","v":" Block 2 Player 1"},null,null,{"$f":"SCORECARD!F286","v":0},{"$f":"SCORECARD!G286","v":-1E-3},{"$f":"SCORECARD!H286","v":-1E-3},{"$f":"IF(NOT(OR(F695>0,G695>0)),\"\",IF(HandicapPlay=\"x\",IF(F695>G695,10,-10),IF((F695-G695>0),(VLOOKUP(OFFSET(H695,-3,0),(TABLE!WIN),(MATCH(E695,WINCOL,0)+1))),(VLOOKUP(OFFSET(H695,-3,0),(TABLE!LOSE),(MATCH(E695,LOSECOL,0)+1))))))","v":""}]
[null,{"$f":"SCORECARD!C287","v":" Block 2 Player 2"},null,null,{"$f":"SCORECARD!F287","v":0},{"$f":"SCORECARD!G287","v":-1E-3},{"$f":"SCORECARD!H287","v":-1E-3},{"$f":"IF(NOT(OR(F696>0,G696>0)),\"\",IF(HandicapPlay=\"x\",IF(F696>G696,10,-10),IF((F696-G696>0),(VLOOKUP(OFFSET(H696,-4,0),(TABLE!WIN),(MATCH(E696,WINCOL,0)+1))),(VLOOKUP(OFFSET(H696,-4,0),(TABLE!LOSE),(MATCH(E696,LOSECOL,0)+1))))))","v":""}]
[null,{"$f":"SCORECARD!C288","v":" Block 2 Player 3"},null,null,{"$f":"SCORECARD!F288","v":0},{"$f":"SCORECARD!G288","v":-1E-3},{"$f":"SCORECARD!H288","v":-1E-3},{"$f":"IF(NOT(OR(F697>0,G697>0)),\"\",IF(HandicapPlay=\"x\",IF(F697>G697,10,-10),IF((F697-G697>0),(VLOOKUP(OFFSET(H697,-5,0),(TABLE!WIN),(MATCH(E697,WINCOL,0)+1))),(VLOOKUP(OFFSET(H697,-5,0),(TABLE!LOSE),(MATCH(E697,LOSECOL,0)+1))))))","v":""}]
[null,{"$f":"SCORECARD!C289","v":" Block 2 Player 4"},null,null,{"$f":"SCORECARD!F289","v":0},{"$f":"SCORECARD!G289","v":-1E-3},{"$f":"SCORECARD!H289","v":-1E-3},{"$f":"IF(NOT(OR(F698>0,G698>0)),\"\",IF(HandicapPlay=\"x\",IF(F698>G698,10,-10),IF((F698-G698>0),(VLOOKUP(OFFSET(H698,-6,0),(TABLE!WIN),(MATCH(E698,WINCOL,0)+1))),(VLOOKUP(OFFSET(H698,-6,0),(TABLE!LOSE),(MATCH(E698,LOSECOL,0)+1))))))","v":""}]
[null,{"$f":"SCORECARD!C290","v":" Block 2 Player 5"},null,null,{"$f":"SCORECARD!F290","v":0},{"$f":"SCORECARD!G290","v":-1E-3},{"$f":"SCORECARD!H290","v":-1E-3},{"$f":"IF(NOT(OR(F699>0,G699>0)),\"\",IF(HandicapPlay=\"x\",IF(F699>G699,10,-10),IF((F699-G699>0),(VLOOKUP(OFFSET(H699,-7,0),(TABLE!WIN),(MATCH(E699,WINCOL,0)+1))),(VLOOKUP(OFFSET(H699,-7,0),(TABLE!LOSE),(MATCH(E699,LOSECOL,0)+1))))))","v":""}]
[null,{"$f":"SCORECARD!C291","v":" Block 2 Player 7"},null,null,{"$f":"SCORECARD!F291","v":0},{"$f":"SCORECARD!G291","v":-1E-3},{"$f":"SCORECARD!H291","v":-1E-3},{"$f":"IF(NOT(OR(F700>0,G700>0)),\"\",IF(HandicapPlay=\"x\",IF(F700>G700,10,-10),IF((F700-G700>0),(VLOOKUP(OFFSET(H700,-8,0),(TABLE!WIN),(MATCH(E700,WINCOL,0)+1))),(VLOOKUP(OFFSET(H700,-8,0),(TABLE!LOSE),(MATCH(E700,LOSECOL,0)+1))))))","v":""}]
[null,{"$f":"SCORECARD!C292","v":" Bye "},null,null,{"$f":"SCORECARD!F292","v":0},{"$f":"SCORECARD!G292","v":-1E-3},{"$f":"SCORECARD!H292","v":-1E-3},{"$f":"IF(NOT(OR(F701>0,G701>0)),\"\",IF(HandicapPlay=\"x\",IF(F701>G701,10,-10),IF((F701-G701>0),(VLOOKUP(OFFSET(H701,-9,0),(TABLE!WIN),(MATCH(E701,WINCOL,0)+1))),(VLOOKUP(OFFSET(H701,-9,0),(TABLE!LOSE),(MATCH(E701,LOSECOL,0)+1))))))","v":""}]
[null,{"$f":"SCORECARD!C293","v":0},null,null,{"$f":"SCORECARD!F293","v":" "},{"$f":"SCORECARD!G293","v":0},{"$f":"SCORECARD!H293","v":0},{"$f":"IF(NOT(OR(F702>0,G702>0)),\"\",(IF((F702-G702>0),(VLOOKUP(H$692,(TABLE!WIN),(E702*2))),(VLOOKUP(H$692,(TABLE!LOSE),(E702*2))))))","v":""}]
[null,{"$f":"SCORECARD!C294","v":0},null,null,{"$f":"SCORECARD!F294","v":" "},{"$f":"SCORECARD!G294","v":0},{"$f":"SCORECARD!H294","v":0},{"$f":"IF(NOT(OR(F703>0,G703>0)),\"\",(IF((F703-G703>0),(VLOOKUP(H$692,(TABLE!WIN),(E703*2))),(VLOOKUP(H$692,(TABLE!LOSE),(E703*2))))))","v":""}]
[null,{"$f":"SCORECARD!C295","v":0},null,null,{"$f":"SCORECARD!F295","v":" "},{"$f":"SCORECARD!G295","v":0},{"$f":"SCORECARD!H295","v":0},{"$f":"IF(NOT(OR(F704>0,G704>0)),\"\",(IF((F704-G704>0),(VLOOKUP(H$692,(TABLE!WIN),(E704*2))),(VLOOKUP(H$692,(TABLE!LOSE),(E704*2))))))","v":""}]
[null,{"$f":"SCORECARD!C296","v":0},null,null,{"$f":"SCORECARD!F296","v":" "},{"$f":"SCORECARD!G296","v":0},{"$f":"SCORECARD!H296","v":0},{"$f":"IF(NOT(OR(F705>0,G705>0)),\"\",(IF((F705-G705>0),(VLOOKUP(H$692,(TABLE!WIN),(E705*2))),(VLOOKUP(H$692,(TABLE!LOSE),(E705*2))))))","v":""}]
[null,{"$f":"SCORECARD!C297","v":0},null,null,{"$f":"SCORECARD!F297","v":" "},{"$f":"SCORECARD!G297","v":0},{"$f":"SCORECARD!H297","v":0},{"$f":"IF(NOT(OR(F706>0,G706>0)),\"\",(IF((F706-G706>0),(VLOOKUP(H$692,(TABLE!WIN),(E706*2))),(VLOOKUP(H$692,(TABLE!LOSE),(E706*2))))))","v":""}]
[null,{"$f":"SCORECARD!C298","v":0},null,null,{"$f":"SCORECARD!F298","v":" "},{"$f":"SCORECARD!G298","v":0},{"$f":"SCORECARD!H298","v":0},{"$f":"IF(NOT(OR(F707>0,G707>0)),\"\",(IF((F707-G707>0),(VLOOKUP(H$692,(TABLE!WIN),(E707*2))),(VLOOKUP(H$692,(TABLE!LOSE),(E707*2))))))","v":""}]
[null,{"$f":"SCORECARD!C299","v":0},null,null,{"$f":"SCORECARD!F299","v":" "},{"$f":"SCORECARD!G299","v":0},{"$f":"SCORECARD!H299","v":0},{"$f":"IF(NOT(OR(F708>0,G708>0)),\"\",(IF((F708-G708>0),(VLOOKUP(H$692,(TABLE!WIN),(E708*2))),(VLOOKUP(H$692,(TABLE!LOSE),(E708*2))))))","v":""}]
[null,{"$f":"SCORECARD!C300","v":0},null,null,{"$f":"SCORECARD!F300","v":" "},{"$f":"SCORECARD!G300","v":0},{"$f":"SCORECARD!H300","v":0},{"$f":"IF(NOT(OR(F709>0,G709>0)),\"\",(IF((F709-G709>0),(VLOOKUP(H$692,(TABLE!WIN),(E709*2))),(VLOOKUP(H$692,(TABLE!LOSE),(E709*2))))))","v":""}]
[null,{"$f":"SCORECARD!C301","v":0},null,null,{"$f":"SCORECARD!F301","v":" "},{"$f":"SCORECARD!G301","v":0},{"$f":"SCORECARD!H301","v":0},{"$f":"IF(NOT(OR(F710>0,G710>0)),\"\",(IF((F710-G710>0),(VLOOKUP(H$692,(TABLE!WIN),(E710*2))),(VLOOKUP(H$692,(TABLE!LOSE),(E710*2))))))","v":""}]
[]
[null,null,null,null,null,null,"Handicap adjustment points total   ",{"$f":"SUM(H695:H711)","v":0}]
[]
[]
[]
[]
[]
[]
[]
[]
[]
[]
[]
[]
[{"$f":"note1","v":"Time limit 2.5 hours, Turn After Bell (61.1.6). Quadway hoops (3 11/16\"), Dawson International balls"}]
[{"$f":"note2","v":"Games may start early. Please be at the venue at least 30 minutes earlier than the scheduled start time."}]
[{"$f":"note3","v":"Entry Fee $40 will be invoiced by email. Please pay by EFT using the invoice No. as reference."}]
[{"$f":"note4","v":"Players please assist with setting and clearing courts."}]
[null,null,null,null,{"$f":"BLOCK!U37","v":" Block 2 Player 7"}]
[null,null,null,null,{"$f":"BLOCK!N33","v":"Tournament"}]
[null,null,null,null,{"$f":"BLOCK!J35","v":"Singles"}]
[null,null,null,null,{"$f":"BLOCK!B37","v":"BLOCK 2"}]
[]
[null,null,null,null,"BLOCK PLAY SCHEDULE"]
[null,"TIME","DAY","COURT",null,"OPPONENT",null,null,"Handicap","PS","OS"]
[null,{"$f":"GAMES!B39","v":"00:00:00"},{"$f":"GAMES!C39","v":"00:00:00"},{"$f":"GAMES!D39","v":0},null,{"$f":"GAMES!G39","v":" Block 2 Player 6"},null,null,{"$f":"$E$752","v":0},{"$f":"$F$752","v":-1E-3},{"$f":"$G$752","v":-1E-3}]
[null,{"$f":"GAMES!B43","v":"00:00:00"},{"$f":"GAMES!C43","v":"00:00:00"},{"$f":"GAMES!D43","v":"--"},null,{"$f":"GAMES!E43","v":" Bye "},null,null,{"$f":"$E$753","v":0},{"$f":"$F$753","v":-1E-3},{"$f":"$G$753","v":-1E-3}]
[null,{"$f":"GAMES!B46","v":"00:00:00"},{"$f":"GAMES!C46","v":"00:00:00"},{"$f":"GAMES!D46","v":0},null,{"$f":"GAMES!E46","v":" Block 2 Player 3"},null,null,{"$f":"$E$749","v":0},{"$f":"$F$749","v":-1E-3},{"$f":"$G$749","v":-1E-3}]
[null,{"$f":"GAMES!B49","v":"00:00:00"},{"$f":"GAMES!C49","v":"00:00:00"},{"$f":"GAMES!D49","v":0},null,{"$f":"GAMES!E49","v":" Block 2 Player 5"},null,null,{"$f":"$E$751","v":0},{"$f":"$F$751","v":-1E-3},{"$f":"$G$751","v":-1E-3}]
[null,{"$f":"GAMES!B52","v":"00:00:00"},{"$f":"GAMES!C52","v":"00:00:00"},{"$f":"GAMES!D52","v":0},null,{"$f":"GAMES!E52","v":" Block 2 Player 1"},null,null,{"$f":"$E$747","v":0},{"$f":"$F$747","v":-1E-3},{"$f":"$G$747","v":-1E-3}]
[null,{"$f":"GAMES!B57","v":"00:00:00"},{"$f":"GAMES!C57","v":"00:00:00"},{"$f":"GAMES!D57","v":0},null,{"$f":"GAMES!G57","v":" Block 2 Player 2"},null,null,{"$f":"$E$748","v":0},{"$f":"$F$748","v":-1E-3},{"$f":"$G$748","v":-1E-3}]
[null,{"$f":"GAMES!B62","v":"00:00:00"},{"$f":"GAMES!C62","v":"00:00:00"},{"$f":"GAMES!D62","v":0},null,{"$f":"GAMES!G62","v":" Block 2 Player 4"},null,null,{"$f":"$E$750","v":0},{"$f":"$F$750","v":-1E-3},{"$f":"$G$750","v":-1E-3}]
[]
[null,"PLAYER:",{"$f":"SCORECARD!D306","v":" Block 2 Player 7"},null,null,null,"HANDICAP",{"$f":"SCORECARD!I306","v":0}]
[null,null,null,null,"OPP","PLAYER","OPP","H/CAP"]
[null,null,"OPPONENT",null,"HCP","SCORE","SCORE","PTS"]
[null,{"$f":"SCORECARD!C309","v":" Block 2 Player 1"},null,null,{"$f":"SCORECARD!F309","v":0},{"$f":"SCORECARD!G309","v":-1E-3},{"$f":"SCORECARD!H309","v":-1E-3},{"$f":"IF(NOT(OR(F747>0,G747>0)),\"\",IF(HandicapPlay=\"x\",IF(F747>G747,10,-10),IF((F747-G747>0),(VLOOKUP(OFFSET(H747,-3,0),(TABLE!WIN),(MATCH(E747,WINCOL,0)+1))),(VLOOKUP(OFFSET(H747,-3,0),(TABLE!LOSE),(MATCH(E747,LOSECOL,0)+1))))))","v":""}]
[null,{"$f":"SCORECARD!C310","v":" Block 2 Player 2"},null,null,{"$f":"SCORECARD!F310","v":0},{"$f":"SCORECARD!G310","v":-1E-3},{"$f":"SCORECARD!H310","v":-1E-3},{"$f":"IF(NOT(OR(F748>0,G748>0)),\"\",IF(HandicapPlay=\"x\",IF(F748>G748,10,-10),IF((F748-G748>0),(VLOOKUP(OFFSET(H748,-4,0),(TABLE!WIN),(MATCH(E748,WINCOL,0)+1))),(VLOOKUP(OFFSET(H748,-4,0),(TABLE!LOSE),(MATCH(E748,LOSECOL,0)+1))))))","v":""}]
[null,{"$f":"SCORECARD!C311","v":" Block 2 Player 3"},null,null,{"$f":"SCORECARD!F311","v":0},{"$f":"SCORECARD!G311","v":-1E-3},{"$f":"SCORECARD!H311","v":-1E-3},{"$f":"IF(NOT(OR(F749>0,G749>0)),\"\",IF(HandicapPlay=\"x\",IF(F749>G749,10,-10),IF((F749-G749>0),(VLOOKUP(OFFSET(H749,-5,0),(TABLE!WIN),(MATCH(E749,WINCOL,0)+1))),(VLOOKUP(OFFSET(H749,-5,0),(TABLE!LOSE),(MATCH(E749,LOSECOL,0)+1))))))","v":""}]
[null,{"$f":"SCORECARD!C312","v":" Block 2 Player 4"},null,null,{"$f":"SCORECARD!F312","v":0},{"$f":"SCORECARD!G312","v":-1E-3},{"$f":"SCORECARD!H312","v":-1E-3},{"$f":"IF(NOT(OR(F750>0,G750>0)),\"\",IF(HandicapPlay=\"x\",IF(F750>G750,10,-10),IF((F750-G750>0),(VLOOKUP(OFFSET(H750,-6,0),(TABLE!WIN),(MATCH(E750,WINCOL,0)+1))),(VLOOKUP(OFFSET(H750,-6,0),(TABLE!LOSE),(MATCH(E750,LOSECOL,0)+1))))))","v":""}]
[null,{"$f":"SCORECARD!C313","v":" Block 2 Player 5"},null,null,{"$f":"SCORECARD!F313","v":0},{"$f":"SCORECARD!G313","v":-1E-3},{"$f":"SCORECARD!H313","v":-1E-3},{"$f":"IF(NOT(OR(F751>0,G751>0)),\"\",IF(HandicapPlay=\"x\",IF(F751>G751,10,-10),IF((F751-G751>0),(VLOOKUP(OFFSET(H751,-7,0),(TABLE!WIN),(MATCH(E751,WINCOL,0)+1))),(VLOOKUP(OFFSET(H751,-7,0),(TABLE!LOSE),(MATCH(E751,LOSECOL,0)+1))))))","v":""}]
[null,{"$f":"SCORECARD!C314","v":" Block 2 Player 6"},null,null,{"$f":"SCORECARD!F314","v":0},{"$f":"SCORECARD!G314","v":-1E-3},{"$f":"SCORECARD!H314","v":-1E-3},{"$f":"IF(NOT(OR(F752>0,G752>0)),\"\",IF(HandicapPlay=\"x\",IF(F752>G752,10,-10),IF((F752-G752>0),(VLOOKUP(OFFSET(H752,-8,0),(TABLE!WIN),(MATCH(E752,WINCOL,0)+1))),(VLOOKUP(OFFSET(H752,-8,0),(TABLE!LOSE),(MATCH(E752,LOSECOL,0)+1))))))","v":""}]
[null,{"$f":"SCORECARD!C315","v":" Bye "},null,null,{"$f":"SCORECARD!F315","v":0},{"$f":"SCORECARD!G315","v":-1E-3},{"$f":"SCORECARD!H315","v":-1E-3},{"$f":"IF(NOT(OR(F753>0,G753>0)),\"\",IF(HandicapPlay=\"x\",IF(F753>G753,10,-10),IF((F753-G753>0),(VLOOKUP(OFFSET(H753,-9,0),(TABLE!WIN),(MATCH(E753,WINCOL,0)+1))),(VLOOKUP(OFFSET(H753,-9,0),(TABLE!LOSE),(MATCH(E753,LOSECOL,0)+1))))))","v":""}]
[null,{"$f":"SCORECARD!C316","v":0},null,null,{"$f":"SCORECARD!F316","v":" "},{"$f":"SCORECARD!G316","v":0},{"$f":"SCORECARD!H316","v":0},{"$f":"IF(NOT(OR(F754>0,G754>0)),\"\",(IF((F754-G754>0),(VLOOKUP(H$744,(TABLE!WIN),(E754*2))),(VLOOKUP(H$744,(TABLE!LOSE),(E754*2))))))","v":""}]
[null,{"$f":"SCORECARD!C317","v":0},null,null,{"$f":"SCORECARD!F317","v":" "},{"$f":"SCORECARD!G317","v":0},{"$f":"SCORECARD!H317","v":0},{"$f":"IF(NOT(OR(F755>0,G755>0)),\"\",(IF((F755-G755>0),(VLOOKUP(H$744,(TABLE!WIN),(E755*2))),(VLOOKUP(H$744,(TABLE!LOSE),(E755*2))))))","v":""}]
[null,{"$f":"SCORECARD!C318","v":0},null,null,{"$f":"SCORECARD!F318","v":" "},{"$f":"SCORECARD!G318","v":0},{"$f":"SCORECARD!H318","v":0},{"$f":"IF(NOT(OR(F756>0,G756>0)),\"\",(IF((F756-G756>0),(VLOOKUP(H$744,(TABLE!WIN),(E756*2))),(VLOOKUP(H$744,(TABLE!LOSE),(E756*2))))))","v":""}]
[null,{"$f":"SCORECARD!C319","v":0},null,null,{"$f":"SCORECARD!F319","v":" "},{"$f":"SCORECARD!G319","v":0},{"$f":"SCORECARD!H319","v":0},{"$f":"IF(NOT(OR(F757>0,G757>0)),\"\",(IF((F757-G757>0),(VLOOKUP(H$744,(TABLE!WIN),(E757*2))),(VLOOKUP(H$744,(TABLE!LOSE),(E757*2))))))","v":""}]
[null,{"$f":"SCORECARD!C320","v":0},null,null,{"$f":"SCORECARD!F320","v":" "},{"$f":"SCORECARD!G320","v":0},{"$f":"SCORECARD!H320","v":0},{"$f":"IF(NOT(OR(F758>0,G758>0)),\"\",(IF((F758-G758>0),(VLOOKUP(H$744,(TABLE!WIN),(E758*2))),(VLOOKUP(H$744,(TABLE!LOSE),(E758*2))))))","v":""}]
[null,{"$f":"SCORECARD!C321","v":0},null,null,{"$f":"SCORECARD!F321","v":" "},{"$f":"SCORECARD!G321","v":0},{"$f":"SCORECARD!H321","v":0},{"$f":"IF(NOT(OR(F759>0,G759>0)),\"\",(IF((F759-G759>0),(VLOOKUP(H$744,(TABLE!WIN),(E759*2))),(VLOOKUP(H$744,(TABLE!LOSE),(E759*2))))))","v":""}]
[null,{"$f":"SCORECARD!C322","v":0},null,null,{"$f":"SCORECARD!F322","v":" "},{"$f":"SCORECARD!G322","v":0},{"$f":"SCORECARD!H322","v":0},{"$f":"IF(NOT(OR(F760>0,G760>0)),\"\",(IF((F760-G760>0),(VLOOKUP(H$744,(TABLE!WIN),(E760*2))),(VLOOKUP(H$744,(TABLE!LOSE),(E760*2))))))","v":""}]
[null,{"$f":"SCORECARD!C323","v":0},null,null,{"$f":"SCORECARD!F323","v":" "},{"$f":"SCORECARD!G323","v":0},{"$f":"SCORECARD!H323","v":0},{"$f":"IF(NOT(OR(F761>0,G761>0)),\"\",(IF((F761-G761>0),(VLOOKUP(H$744,(TABLE!WIN),(E761*2))),(VLOOKUP(H$744,(TABLE!LOSE),(E761*2))))))","v":""}]
[null,{"$f":"SCORECARD!C324","v":0},null,null,{"$f":"SCORECARD!F324","v":" "},{"$f":"SCORECARD!G324","v":0},{"$f":"SCORECARD!H324","v":0},{"$f":"IF(NOT(OR(F762>0,G762>0)),\"\",(IF((F762-G762>0),(VLOOKUP(H$744,(TABLE!WIN),(E762*2))),(VLOOKUP(H$744,(TABLE!LOSE),(E762*2))))))","v":""}]
[]
[null,null,null,null,null,null,"Handicap adjustment points total   ",{"$f":"SUM(H747:H763)","v":0}]
[]
[]
[]
[]
[]
[]
[]
[]
[]
[]
[]
[]
[{"$f":"note1","v":"Time limit 2.5 hours, Turn After Bell (61.1.6). Quadway hoops (3 11/16\"), Dawson International balls"}]
[{"$f":"note2","v":"Games may start early. Please be at the venue at least 30 minutes earlier than the scheduled start time."}]
[{"$f":"note3","v":"Entry Fee $40 will be invoiced by email. Please pay by EFT using the invoice No. as reference."}]
[{"$f":"note4","v":"Players please assist with setting and clearing courts."}]
[null,null,null,null,{"$f":"BLOCK!X37","v":" Bye "}]
[null,null,null,null,{"$f":"BLOCK!N33","v":"Tournament"}]
[null,null,null,null,{"$f":"BLOCK!J35","v":"Singles"}]
[null,null,null,null,{"$f":"BLOCK!B37","v":"BLOCK 2"}]
[]
[null,null,null,null,"BLOCK PLAY SCHEDULE"]
[null,"TIME","DAY","COURT",null,"OPPONENT",null,null,"Handicap","PS","OS"]
[null,{"$f":"GAMES!B38","v":"00:00:00"},{"$f":"GAMES!C38","v":"00:00:00"},{"$f":"GAMES!D38","v":"--"},null,{"$f":"GAMES!G38","v":" Block 2 Player 5"},null,null,{"$f":"$E$803","v":0},{"$f":"$F$803","v":-1E-3},{"$f":"$G$803","v":-1E-3}]
[null,{"$f":"GAMES!B43","v":"00:00:00"},{"$f":"GAMES!C43","v":"00:00:00"},{"$f":"GAMES!D43","v":"--"},null,{"$f":"GAMES!G43","v":" Block 2 Player 7"},null,null,{"$f":"$E$805","v":0},{"$f":"$F$805","v":-1E-3},{"$f":"$G$805","v":-1E-3}]
[null,{"$f":"GAMES!B47","v":"00:00:00"},{"$f":"GAMES!C47","v":"00:00:00"},{"$f":"GAMES!D47","v":"--"},null,{"$f":"GAMES!E47","v":" Block 2 Player 2"},null,null,{"$f":"$E$800","v":0},{"$f":"$F$800","v":-1E-3},{"$f":"$G$800","v":-1E-3}]
[null,{"$f":"GAMES!B50","v":"00:00:00"},{"$f":"GAMES!C50","v":"00:00:00"},{"$f":"GAMES!D50","v":"--"},null,{"$f":"GAMES!E50","v":" Block 2 Player 4"},null,null,{"$f":"$E$802","v":0},{"$f":"$F$802","v":-1E-3},{"$f":"$G$802","v":-1E-3}]
[null,{"$f":"GAMES!B53","v":"00:00:00"},{"$f":"GAMES!C53","v":"00:00:00"},{"$f":"GAMES!D53","v":"--"},null,{"$f":"GAMES!E53","v":" Block 2 Player 6"},null,null,{"$f":"$E$804","v":0},{"$f":"$F$804","v":-1E-3},{"$f":"$G$804","v":-1E-3}]
[null,{"$f":"GAMES!B56","v":"00:00:00"},{"$f":"GAMES!C56","v":"00:00:00"},{"$f":"GAMES!D56","v":"--"},null,{"$f":"GAMES!E56","v":" Block 2 Player 1"},null,null,{"$f":"$E$799","v":0},{"$f":"$F$799","v":-1E-3},{"$f":"$G$799","v":-1E-3}]
[null,{"$f":"GAMES!B61","v":"00:00:00"},{"$f":"GAMES!C61","v":"00:00:00"},{"$f":"GAMES!D61","v":"--"},null,{"$f":"GAMES!G61","v":" Block 2 Player 3"},null,null,{"$f":"$E$801","v":0},{"$f":"$F$801","v":-1E-3},{"$f":"$G$801","v":-1E-3}]
[]
[null,"PLAYER:",{"$f":"SCORECARD!D326","v":" Bye "},null,null,null,"HANDICAP",{"$f":"SCORECARD!I326","v":0}]
[null,null,null,null,"OPP","PLAYER","OPP","H/CAP"]
[null,null,"OPPONENT",null,"HCP","SCORE","SCORE","PTS"]
[null,{"$f":"SCORECARD!C329","v":" Block 2 Player 1"},null,null,{"$f":"SCORECARD!F329","v":0},{"$f":"SCORECARD!G329","v":-1E-3},{"$f":"SCORECARD!H329","v":-1E-3},{"$f":"IF(NOT(OR(F799>0,G799>0)),\"\",IF(HandicapPlay=\"x\",IF(F799>G799,10,-10),IF((F799-G799>0),(VLOOKUP(OFFSET(H799,-3,0),(TABLE!WIN),(MATCH(E799,WINCOL,0)+1))),(VLOOKUP(OFFSET(H799,-3,0),(TABLE!LOSE),(MATCH(E799,LOSECOL,0)+1))))))","v":""}]
[null,{"$f":"SCORECARD!C330","v":" Block 2 Player 2"},null,null,{"$f":"SCORECARD!F330","v":0},{"$f":"SCORECARD!G330","v":-1E-3},{"$f":"SCORECARD!H330","v":-1E-3},{"$f":"IF(NOT(OR(F800>0,G800>0)),\"\",IF(HandicapPlay=\"x\",IF(F800>G800,10,-10),IF((F800-G800>0),(VLOOKUP(OFFSET(H800,-4,0),(TABLE!WIN),(MATCH(E800,WINCOL,0)+1))),(VLOOKUP(OFFSET(H800,-4,0),(TABLE!LOSE),(MATCH(E800,LOSECOL,0)+1))))))","v":""}]
[null,{"$f":"SCORECARD!C331","v":" Block 2 Player 3"},null,null,{"$f":"SCORECARD!F331","v":0},{"$f":"SCORECARD!G331","v":-1E-3},{"$f":"SCORECARD!H331","v":-1E-3},{"$f":"IF(NOT(OR(F801>0,G801>0)),\"\",IF(HandicapPlay=\"x\",IF(F801>G801,10,-10),IF((F801-G801>0),(VLOOKUP(OFFSET(H801,-5,0),(TABLE!WIN),(MATCH(E801,WINCOL,0)+1))),(VLOOKUP(OFFSET(H801,-5,0),(TABLE!LOSE),(MATCH(E801,LOSECOL,0)+1))))))","v":""}]
[null,{"$f":"SCORECARD!C332","v":" Block 2 Player 4"},null,null,{"$f":"SCORECARD!F332","v":0},{"$f":"SCORECARD!G332","v":-1E-3},{"$f":"SCORECARD!H332","v":-1E-3},{"$f":"IF(NOT(OR(F802>0,G802>0)),\"\",IF(HandicapPlay=\"x\",IF(F802>G802,10,-10),IF((F802-G802>0),(VLOOKUP(OFFSET(H802,-6,0),(TABLE!WIN),(MATCH(E802,WINCOL,0)+1))),(VLOOKUP(OFFSET(H802,-6,0),(TABLE!LOSE),(MATCH(E802,LOSECOL,0)+1))))))","v":""}]
[null,{"$f":"SCORECARD!C333","v":" Block 2 Player 5"},null,null,{"$f":"SCORECARD!F333","v":0},{"$f":"SCORECARD!G333","v":-1E-3},{"$f":"SCORECARD!H333","v":-1E-3},{"$f":"IF(NOT(OR(F803>0,G803>0)),\"\",IF(HandicapPlay=\"x\",IF(F803>G803,10,-10),IF((F803-G803>0),(VLOOKUP(OFFSET(H803,-7,0),(TABLE!WIN),(MATCH(E803,WINCOL,0)+1))),(VLOOKUP(OFFSET(H803,-7,0),(TABLE!LOSE),(MATCH(E803,LOSECOL,0)+1))))))","v":""}]
[null,{"$f":"SCORECARD!C334","v":" Block 2 Player 6"},null,null,{"$f":"SCORECARD!F334","v":0},{"$f":"SCORECARD!G334","v":-1E-3},{"$f":"SCORECARD!H334","v":-1E-3},{"$f":"IF(NOT(OR(F804>0,G804>0)),\"\",IF(HandicapPlay=\"x\",IF(F804>G804,10,-10),IF((F804-G804>0),(VLOOKUP(OFFSET(H804,-8,0),(TABLE!WIN),(MATCH(E804,WINCOL,0)+1))),(VLOOKUP(OFFSET(H804,-8,0),(TABLE!LOSE),(MATCH(E804,LOSECOL,0)+1))))))","v":""}]
[null,{"$f":"SCORECARD!C335","v":" Block 2 Player 7"},null,null,{"$f":"SCORECARD!F335","v":0},{"$f":"SCORECARD!G335","v":-1E-3},{"$f":"SCORECARD!H335","v":-1E-3},{"$f":"IF(NOT(OR(F805>0,G805>0)),\"\",IF(HandicapPlay=\"x\",IF(F805>G805,10,-10),IF((F805-G805>0),(VLOOKUP(OFFSET(H805,-9,0),(TABLE!WIN),(MATCH(E805,WINCOL,0)+1))),(VLOOKUP(OFFSET(H805,-9,0),(TABLE!LOSE),(MATCH(E805,LOSECOL,0)+1))))))","v":""}]
[null,{"$f":"SCORECARD!C336","v":0},null,null,{"$f":"SCORECARD!F336","v":" "},{"$f":"SCORECARD!G336","v":0},{"$f":"SCORECARD!H336","v":0},{"$f":"IF(NOT(OR(F806>0,G806>0)),\"\",(IF((F806-G806>0),(VLOOKUP(H$796,(TABLE!WIN),(E806*2))),(VLOOKUP(H$796,(TABLE!LOSE),(E806*2))))))","v":""}]
[null,{"$f":"SCORECARD!C337","v":0},null,null,{"$f":"SCORECARD!F337","v":" "},{"$f":"SCORECARD!G337","v":0},{"$f":"SCORECARD!H337","v":0},{"$f":"IF(NOT(OR(F807>0,G807>0)),\"\",(IF((F807-G807>0),(VLOOKUP(H$796,(TABLE!WIN),(E807*2))),(VLOOKUP(H$796,(TABLE!LOSE),(E807*2))))))","v":""}]
[null,{"$f":"SCORECARD!C338","v":0},null,null,{"$f":"SCORECARD!F338","v":" "},{"$f":"SCORECARD!G338","v":0},{"$f":"SCORECARD!H338","v":0},{"$f":"IF(NOT(OR(F808>0,G808>0)),\"\",(IF((F808-G808>0),(VLOOKUP(H$796,(TABLE!WIN),(E808*2))),(VLOOKUP(H$796,(TABLE!LOSE),(E808*2))))))","v":""}]
[null,{"$f":"SCORECARD!C339","v":0},null,null,{"$f":"SCORECARD!F339","v":" "},{"$f":"SCORECARD!G339","v":0},{"$f":"SCORECARD!H339","v":0},{"$f":"IF(NOT(OR(F809>0,G809>0)),\"\",(IF((F809-G809>0),(VLOOKUP(H$796,(TABLE!WIN),(E809*2))),(VLOOKUP(H$796,(TABLE!LOSE),(E809*2))))))","v":""}]
[null,{"$f":"SCORECARD!C340","v":0},null,null,{"$f":"SCORECARD!F340","v":" "},{"$f":"SCORECARD!G340","v":0},{"$f":"SCORECARD!H340","v":0},{"$f":"IF(NOT(OR(F810>0,G810>0)),\"\",(IF((F810-G810>0),(VLOOKUP(H$796,(TABLE!WIN),(E810*2))),(VLOOKUP(H$796,(TABLE!LOSE),(E810*2))))))","v":""}]
[null,{"$f":"SCORECARD!C341","v":0},null,null,{"$f":"SCORECARD!F341","v":" "},{"$f":"SCORECARD!G341","v":0},{"$f":"SCORECARD!H341","v":0},{"$f":"IF(NOT(OR(F811>0,G811>0)),\"\",(IF((F811-G811>0),(VLOOKUP(H$796,(TABLE!WIN),(E811*2))),(VLOOKUP(H$796,(TABLE!LOSE),(E811*2))))))","v":""}]
[null,{"$f":"SCORECARD!C342","v":0},null,null,{"$f":"SCORECARD!F342","v":" "},{"$f":"SCORECARD!G342","v":0},{"$f":"SCORECARD!H342","v":0},{"$f":"IF(NOT(OR(F812>0,G812>0)),\"\",(IF((F812-G812>0),(VLOOKUP(H$796,(TABLE!WIN),(E812*2))),(VLOOKUP(H$796,(TABLE!LOSE),(E812*2))))))","v":""}]
[null,{"$f":"SCORECARD!C343","v":0},null,null,{"$f":"SCORECARD!F343","v":" "},{"$f":"SCORECARD!G343","v":0},{"$f":"SCORECARD!H343","v":0},{"$f":"IF(NOT(OR(F813>0,G813>0)),\"\",(IF((F813-G813>0),(VLOOKUP(H$796,(TABLE!WIN),(E813*2))),(VLOOKUP(H$796,(TABLE!LOSE),(E813*2))))))","v":""}]
[null,{"$f":"SCORECARD!C344","v":0},null,null,{"$f":"SCORECARD!F344","v":" "},{"$f":"SCORECARD!G344","v":0},{"$f":"SCORECARD!H344","v":0},{"$f":"IF(NOT(OR(F814>0,G814>0)),\"\",(IF((F814-G814>0),(VLOOKUP(H$796,(TABLE!WIN),(E814*2))),(VLOOKUP(H$796,(TABLE!LOSE),(E814*2))))))","v":""}]
[]
[null,null,null,null,null,null,"Handicap adjustment points total   ",{"$f":"SUM(H799:H815)","v":0}]
[]
[]
[]
[]
[]
[]
[]
[]
[]
[]
[]
[]
[{"$f":"note1","v":"Time limit 2.5 hours, Turn After Bell (61.1.6). Quadway hoops (3 11/16\"), Dawson International balls"}]
[{"$f":"note2","v":"Games may start early. Please be at the venue at least 30 minutes earlier than the scheduled start time."}]
[{"$f":"note3","v":"Entry Fee $40 will be invoiced by email. Please pay by EFT using the invoice No. as reference."}]
[{"$f":"note4","v":"Players please assist with setting and clearing courts."}]
[null,null,null,null,{"$f":"BLOCK!C68","v":" Block 3 Player 1"}]
[null,null,null,null,{"$f":"BLOCK!N64","v":"Tournament"}]
[null,null,null,null,{"$f":"BLOCK!J66","v":"Singles"}]
[null,null,null,null,{"$f":"BLOCK!B68","v":"BLOCK 3"}]
[]
[null,null,null,null,"BLOCK PLAY SCHEDULE"]
[null,"TIME","DAY","COURT",null,"OPPONENT",null,null,"Handicap","PS","OS"]
[null,{"$f":"GAMES!B67","v":"00:00:00"},{"$f":"GAMES!C67","v":"00:00:00"},{"$f":"GAMES!D67","v":0},null,{"$f":"GAMES!G67","v":" Block 3 Player 3"},null,null,{"$f":"$E$852","v":0},{"$f":"$F$852","v":-1E-3},{"$f":"$G$852","v":-1E-3}]
[null,{"$f":"GAMES!B71","v":"00:00:00"},{"$f":"GAMES!C71","v":"00:00:00"},{"$f":"GAMES!D71","v":0},null,{"$f":"GAMES!G71","v":" Block 3 Player 4"},null,null,{"$f":"$E$853","v":0},{"$f":"$F$853","v":-1E-3},{"$f":"$G$853","v":-1E-3}]
[null,{"$f":"GAMES!B75","v":"00:00:00"},{"$f":"GAMES!C75","v":"00:00:00"},{"$f":"GAMES!D75","v":0},null,{"$f":"GAMES!G75","v":" Block 3 Player 5"},null,null,{"$f":"$E$854","v":0},{"$f":"$F$854","v":-1E-3},{"$f":"$G$854","v":-1E-3}]
[null,{"$f":"GAMES!B79","v":"00:00:00"},{"$f":"GAMES!C79","v":"00:00:00"},{"$f":"GAMES!D79","v":0},null,{"$f":"GAMES!G79","v":" Block 3 Player 6"},null,null,{"$f":"$E$855","v":0},{"$f":"$F$855","v":-1E-3},{"$f":"$G$855","v":-1E-3}]
[null,{"$f":"GAMES!B83","v":"00:00:00"},{"$f":"GAMES!C83","v":"00:00:00"},{"$f":"GAMES!D83","v":0},null,{"$f":"GAMES!G83","v":" Block 3 Player 7"},null,null,{"$f":"$E$856","v":0},{"$f":"$F$856","v":-1E-3},{"$f":"$G$856","v":-1E-3}]
[null,{"$f":"GAMES!B87","v":"00:00:00"},{"$f":"GAMES!C87","v":"00:00:00"},{"$f":"GAMES!D87","v":"--"},null,{"$f":"GAMES!G87","v":" Bye "},null,null,{"$f":"$E$857","v":0},{"$f":"$F$857","v":-1E-3},{"$f":"$G$857","v":-1E-3}]
[null,{"$f":"GAMES!B91","v":"00:00:00"},{"$f":"GAMES!C91","v":"00:00:00"},{"$f":"GAMES!D91","v":0},null,{"$f":"GAMES!G91","v":" Block 3 Player 2"},null,null,{"$f":"$E$851","v":0},{"$f":"$F$851","v":-1E-3},{"$f":"$G$851","v":-1E-3}]
[]
[null,"PLAYER:",{"$f":"SCORECARD!D349","v":" Block 3 Player 1"},null,null,null,"HANDICAP",{"$f":"SCORECARD!I349","v":0}]
[null,null,null,null,"OPP","PLAYER","OPP","H/CAP"]
[null,null,"OPPONENT",null,"HCP","SCORE","SCORE","PTS"]
[null,{"$f":"SCORECARD!C352","v":" Block 3 Player 2"},null,null,{"$f":"SCORECARD!F352","v":0},{"$f":"SCORECARD!G352","v":-1E-3},{"$f":"SCORECARD!H352","v":-1E-3},{"$f":"IF(NOT(OR(F851>0,G851>0)),\"\",IF(HandicapPlay=\"x\",IF(F851>G851,10,-10),IF((F851-G851>0),(VLOOKUP(OFFSET(H851,-3,0),(TABLE!WIN),(MATCH(E851,WINCOL,0)+1))),(VLOOKUP(OFFSET(H851,-3,0),(TABLE!LOSE),(MATCH(E851,LOSECOL,0)+1))))))","v":""}]
[null,{"$f":"SCORECARD!C353","v":" Block 3 Player 3"},null,null,{"$f":"SCORECARD!F353","v":0},{"$f":"SCORECARD!G353","v":-1E-3},{"$f":"SCORECARD!H353","v":-1E-3},{"$f":"IF(NOT(OR(F852>0,G852>0)),\"\",IF(HandicapPlay=\"x\",IF(F852>G852,10,-10),IF((F852-G852>0),(VLOOKUP(OFFSET(H852,-4,0),(TABLE!WIN),(MATCH(E852,WINCOL,0)+1))),(VLOOKUP(OFFSET(H852,-4,0),(TABLE!LOSE),(MATCH(E852,LOSECOL,0)+1))))))","v":""}]
[null,{"$f":"SCORECARD!C354","v":" Block 3 Player 4"},null,null,{"$f":"SCORECARD!F354","v":0},{"$f":"SCORECARD!G354","v":-1E-3},{"$f":"SCORECARD!H354","v":-1E-3},{"$f":"IF(NOT(OR(F853>0,G853>0)),\"\",IF(HandicapPlay=\"x\",IF(F853>G853,10,-10),IF((F853-G853>0),(VLOOKUP(OFFSET(H853,-5,0),(TABLE!WIN),(MATCH(E853,WINCOL,0)+1))),(VLOOKUP(OFFSET(H853,-5,0),(TABLE!LOSE),(MATCH(E853,LOSECOL,0)+1))))))","v":""}]
[null,{"$f":"SCORECARD!C355","v":" Block 3 Player 5"},null,null,{"$f":"SCORECARD!F355","v":0},{"$f":"SCORECARD!G355","v":-1E-3},{"$f":"SCORECARD!H355","v":-1E-3},{"$f":"IF(NOT(OR(F854>0,G854>0)),\"\",IF(HandicapPlay=\"x\",IF(F854>G854,10,-10),IF((F854-G854>0),(VLOOKUP(OFFSET(H854,-6,0),(TABLE!WIN),(MATCH(E854,WINCOL,0)+1))),(VLOOKUP(OFFSET(H854,-6,0),(TABLE!LOSE),(MATCH(E854,LOSECOL,0)+1))))))","v":""}]
[null,{"$f":"SCORECARD!C356","v":" Block 3 Player 6"},null,null,{"$f":"SCORECARD!F356","v":0},{"$f":"SCORECARD!G356","v":-1E-3},{"$f":"SCORECARD!H356","v":-1E-3},{"$f":"IF(NOT(OR(F855>0,G855>0)),\"\",IF(HandicapPlay=\"x\",IF(F855>G855,10,-10),IF((F855-G855>0),(VLOOKUP(OFFSET(H855,-7,0),(TABLE!WIN),(MATCH(E855,WINCOL,0)+1))),(VLOOKUP(OFFSET(H855,-7,0),(TABLE!LOSE),(MATCH(E855,LOSECOL,0)+1))))))","v":""}]
[null,{"$f":"SCORECARD!C357","v":" Block 3 Player 7"},null,null,{"$f":"SCORECARD!F357","v":0},{"$f":"SCORECARD!G357","v":-1E-3},{"$f":"SCORECARD!H357","v":-1E-3},{"$f":"IF(NOT(OR(F856>0,G856>0)),\"\",IF(HandicapPlay=\"x\",IF(F856>G856,10,-10),IF((F856-G856>0),(VLOOKUP(OFFSET(H856,-8,0),(TABLE!WIN),(MATCH(E856,WINCOL,0)+1))),(VLOOKUP(OFFSET(H856,-8,0),(TABLE!LOSE),(MATCH(E856,LOSECOL,0)+1))))))","v":""}]
[null,{"$f":"SCORECARD!C358","v":" Bye "},null,null,{"$f":"SCORECARD!F358","v":0},{"$f":"SCORECARD!G358","v":-1E-3},{"$f":"SCORECARD!H358","v":-1E-3},{"$f":"IF(NOT(OR(F857>0,G857>0)),\"\",IF(HandicapPlay=\"x\",IF(F857>G857,10,-10),IF((F857-G857>0),(VLOOKUP(OFFSET(H857,-9,0),(TABLE!WIN),(MATCH(E857,WINCOL,0)+1))),(VLOOKUP(OFFSET(H857,-9,0),(TABLE!LOSE),(MATCH(E857,LOSECOL,0)+1))))))","v":""}]
[null,{"$f":"SCORECARD!C359","v":0},null,null,{"$f":"SCORECARD!F359","v":" "},{"$f":"SCORECARD!G359","v":0},{"$f":"SCORECARD!H359","v":0},{"$f":"IF(NOT(OR(F858>0,G858>0)),\"\",(IF((F858-G858>0),(VLOOKUP(H$848,(TABLE!WIN),(E858*2))),(VLOOKUP(H$848,(TABLE!LOSE),(E858*2))))))","v":""}]
[null,{"$f":"SCORECARD!C360","v":0},null,null,{"$f":"SCORECARD!F360","v":" "},{"$f":"SCORECARD!G360","v":0},{"$f":"SCORECARD!H360","v":0},{"$f":"IF(NOT(OR(F859>0,G859>0)),\"\",(IF((F859-G859>0),(VLOOKUP(H$848,(TABLE!WIN),(E859*2))),(VLOOKUP(H$848,(TABLE!LOSE),(E859*2))))))","v":""}]
[null,{"$f":"SCORECARD!C361","v":0},null,null,{"$f":"SCORECARD!F361","v":" "},{"$f":"SCORECARD!G361","v":0},{"$f":"SCORECARD!H361","v":0},{"$f":"IF(NOT(OR(F860>0,G860>0)),\"\",(IF((F860-G860>0),(VLOOKUP(H$848,(TABLE!WIN),(E860*2))),(VLOOKUP(H$848,(TABLE!LOSE),(E860*2))))))","v":""}]
[null,{"$f":"SCORECARD!C362","v":0},null,null,{"$f":"SCORECARD!F362","v":" "},{"$f":"SCORECARD!G362","v":0},{"$f":"SCORECARD!H362","v":0},{"$f":"IF(NOT(OR(F861>0,G861>0)),\"\",(IF((F861-G861>0),(VLOOKUP(H$848,(TABLE!WIN),(E861*2))),(VLOOKUP(H$848,(TABLE!LOSE),(E861*2))))))","v":""}]
[null,{"$f":"SCORECARD!C363","v":0},null,null,{"$f":"SCORECARD!F363","v":" "},{"$f":"SCORECARD!G363","v":0},{"$f":"SCORECARD!H363","v":0},{"$f":"IF(NOT(OR(F862>0,G862>0)),\"\",(IF((F862-G862>0),(VLOOKUP(H$848,(TABLE!WIN),(E862*2))),(VLOOKUP(H$848,(TABLE!LOSE),(E862*2))))))","v":""}]
[null,{"$f":"SCORECARD!C364","v":0},null,null,{"$f":"SCORECARD!F364","v":" "},{"$f":"SCORECARD!G364","v":0},{"$f":"SCORECARD!H364","v":0},{"$f":"IF(NOT(OR(F863>0,G863>0)),\"\",(IF((F863-G863>0),(VLOOKUP(H$848,(TABLE!WIN),(E863*2))),(VLOOKUP(H$848,(TABLE!LOSE),(E863*2))))))","v":""}]
[null,{"$f":"SCORECARD!C365","v":0},null,null,{"$f":"SCORECARD!F365","v":" "},{"$f":"SCORECARD!G365","v":0},{"$f":"SCORECARD!H365","v":0},{"$f":"IF(NOT(OR(F864>0,G864>0)),\"\",(IF((F864-G864>0),(VLOOKUP(H$848,(TABLE!WIN),(E864*2))),(VLOOKUP(H$848,(TABLE!LOSE),(E864*2))))))","v":""}]
[null,{"$f":"SCORECARD!C366","v":0},null,null,{"$f":"SCORECARD!F366","v":" "},{"$f":"SCORECARD!G366","v":0},{"$f":"SCORECARD!H366","v":0},{"$f":"IF(NOT(OR(F865>0,G865>0)),\"\",(IF((F865-G865>0),(VLOOKUP(H$848,(TABLE!WIN),(E865*2))),(VLOOKUP(H$848,(TABLE!LOSE),(E865*2))))))","v":""}]
[null,{"$f":"SCORECARD!C367","v":0},null,null,{"$f":"SCORECARD!F367","v":" "},{"$f":"SCORECARD!G367","v":0},{"$f":"SCORECARD!H367","v":0},{"$f":"IF(NOT(OR(F866>0,G866>0)),\"\",(IF((F866-G866>0),(VLOOKUP(H$848,(TABLE!WIN),(E866*2))),(VLOOKUP(H$848,(TABLE!LOSE),(E866*2))))))","v":""}]
[]
[null,null,null,null,null,null,"Handicap adjustment points total   ",{"$f":"SUM(H851:H866)","v":0}]
[]
[]
[]
[]
[]
[]
[]
[]
[]
[]
[]
[]
[{"$f":"note1","v":"Time limit 2.5 hours, Turn After Bell (61.1.6). Quadway hoops (3 11/16\"), Dawson International balls"}]
[{"$f":"note2","v":"Games may start early. Please be at the venue at least 30 minutes earlier than the scheduled start time."}]
[{"$f":"note3","v":"Entry Fee $40 will be invoiced by email. Please pay by EFT using the invoice No. as reference."}]
[{"$f":"note4","v":"Players please assist with setting and clearing courts."}]
[null,null,null,null,{"$f":"BLOCK!F68","v":" Block 3 Player 2"}]
[null,null,null,null,{"$f":"BLOCK!N64","v":"Tournament"}]
[null,null,null,null,{"$f":"BLOCK!J66","v":"Singles"}]
[null,null,null,null,{"$f":"BLOCK!B68","v":"BLOCK 3"}]
[]
[null,null,null,null,"BLOCK PLAY SCHEDULE"]
[null,"TIME","DAY","COURT",null,"OPPONENT",null,null,"Handicap","PS","OS"]
[null,{"$f":"GAMES!B68","v":"00:00:00"},{"$f":"GAMES!C68","v":"00:00:00"},{"$f":"GAMES!D68","v":0},null,{"$f":"GAMES!G68","v":" Block 3 Player 4"},null,null,{"$f":"$E$905","v":0},{"$f":"$F$905","v":-1E-3},{"$f":"$G$905","v":-1E-3}]
[null,{"$f":"GAMES!B73","v":"00:00:00"},{"$f":"GAMES!C73","v":"00:00:00"},{"$f":"GAMES!D73","v":0},null,{"$f":"GAMES!G73","v":" Block 3 Player 6"},null,null,{"$f":"$E$907","v":0},{"$f":"$F$907","v":-1E-3},{"$f":"$G$907","v":-1E-3}]
[null,{"$f":"GAMES!B78","v":"00:00:00"},{"$f":"GAMES!C78","v":"00:00:00"},{"$f":"GAMES!D78","v":"--"},null,{"$f":"GAMES!G78","v":" Bye "},null,null,{"$f":"$E$909","v":0},{"$f":"$F$909","v":-1E-3},{"$f":"$G$909","v":-1E-3}]
[null,{"$f":"GAMES!B82","v":"00:00:00"},{"$f":"GAMES!C82","v":"00:00:00"},{"$f":"GAMES!D82","v":0},null,{"$f":"GAMES!E82","v":" Block 3 Player 3"},null,null,{"$f":"$E$904","v":0},{"$f":"$F$904","v":-1E-3},{"$f":"$G$904","v":-1E-3}]
[null,{"$f":"GAMES!B85","v":"00:00:00"},{"$f":"GAMES!C85","v":"00:00:00"},{"$f":"GAMES!D85","v":0},null,{"$f":"GAMES!E85","v":" Block 3 Player 5"},null,null,{"$f":"$E$906","v":0},{"$f":"$F$906","v":-1E-3},{"$f":"$G$906","v":-1E-3}]
[null,{"$f":"GAMES!B88","v":"00:00:00"},{"$f":"GAMES!C88","v":"00:00:00"},{"$f":"GAMES!D88","v":0},null,{"$f":"GAMES!E88","v":" Block 3 Player 7"},null,null,{"$f":"$E$908","v":0},{"$f":"$F$908","v":-1E-3},{"$f":"$G$908","v":-1E-3}]
[null,{"$f":"GAMES!B91","v":"00:00:00"},{"$f":"GAMES!C91","v":"00:00:00"},{"$f":"GAMES!D91","v":0},null,{"$f":"GAMES!E91","v":" Block 3 Player 1"},null,null,{"$f":"$E$903","v":0},{"$f":"$F$903","v":-1E-3},{"$f":"$G$903","v":-1E-3}]
[]
[null,"PLAYER:",{"$f":"SCORECARD!D369","v":" Block 3 Player 2"},null,null,null,"HANDICAP",{"$f":"SCORECARD!I369","v":0}]
[null,null,null,null,"OPP","PLAYER","OPP","H/CAP"]
[null,null,"OPPONENT",null,"HCP","SCORE","SCORE","PTS"]
[null,{"$f":"SCORECARD!C372","v":" Block 3 Player 1"},null,null,{"$f":"SCORECARD!F372","v":0},{"$f":"SCORECARD!G372","v":-1E-3},{"$f":"SCORECARD!H372","v":-1E-3},{"$f":"IF(NOT(OR(F903>0,G903>0)),\"\",IF(HandicapPlay=\"x\",IF(F903>G903,10,-10),IF((F903-G903>0),(VLOOKUP(OFFSET(H903,-3,0),(TABLE!WIN),(MATCH(E903,WINCOL,0)+1))),(VLOOKUP(OFFSET(H903,-3,0),(TABLE!LOSE),(MATCH(E903,LOSECOL,0)+1))))))","v":""}]
[null,{"$f":"SCORECARD!C373","v":" Block 3 Player 3"},null,null,{"$f":"SCORECARD!F373","v":0},{"$f":"SCORECARD!G373","v":-1E-3},{"$f":"SCORECARD!H373","v":-1E-3},{"$f":"IF(NOT(OR(F904>0,G904>0)),\"\",IF(HandicapPlay=\"x\",IF(F904>G904,10,-10),IF((F904-G904>0),(VLOOKUP(OFFSET(H904,-4,0),(TABLE!WIN),(MATCH(E904,WINCOL,0)+1))),(VLOOKUP(OFFSET(H904,-4,0),(TABLE!LOSE),(MATCH(E904,LOSECOL,0)+1))))))","v":""}]
[null,{"$f":"SCORECARD!C374","v":" Block 3 Player 4"},null,null,{"$f":"SCORECARD!F374","v":0},{"$f":"SCORECARD!G374","v":-1E-3},{"$f":"SCORECARD!H374","v":-1E-3},{"$f":"IF(NOT(OR(F905>0,G905>0)),\"\",IF(HandicapPlay=\"x\",IF(F905>G905,10,-10),IF((F905-G905>0),(VLOOKUP(OFFSET(H905,-5,0),(TABLE!WIN),(MATCH(E905,WINCOL,0)+1))),(VLOOKUP(OFFSET(H905,-5,0),(TABLE!LOSE),(MATCH(E905,LOSECOL,0)+1))))))","v":""}]
[null,{"$f":"SCORECARD!C375","v":" Block 3 Player 5"},null,null,{"$f":"SCORECARD!F375","v":0},{"$f":"SCORECARD!G375","v":-1E-3},{"$f":"SCORECARD!H375","v":-1E-3},{"$f":"IF(NOT(OR(F906>0,G906>0)),\"\",IF(HandicapPlay=\"x\",IF(F906>G906,10,-10),IF((F906-G906>0),(VLOOKUP(OFFSET(H906,-6,0),(TABLE!WIN),(MATCH(E906,WINCOL,0)+1))),(VLOOKUP(OFFSET(H906,-6,0),(TABLE!LOSE),(MATCH(E906,LOSECOL,0)+1))))))","v":""}]
[null,{"$f":"SCORECARD!C376","v":" Block 3 Player 6"},null,null,{"$f":"SCORECARD!F376","v":0},{"$f":"SCORECARD!G376","v":-1E-3},{"$f":"SCORECARD!H376","v":-1E-3},{"$f":"IF(NOT(OR(F907>0,G907>0)),\"\",IF(HandicapPlay=\"x\",IF(F907>G907,10,-10),IF((F907-G907>0),(VLOOKUP(OFFSET(H907,-7,0),(TABLE!WIN),(MATCH(E907,WINCOL,0)+1))),(VLOOKUP(OFFSET(H907,-7,0),(TABLE!LOSE),(MATCH(E907,LOSECOL,0)+1))))))","v":""}]
[null,{"$f":"SCORECARD!C377","v":" Block 3 Player 7"},null,null,{"$f":"SCORECARD!F377","v":0},{"$f":"SCORECARD!G377","v":-1E-3},{"$f":"SCORECARD!H377","v":-1E-3},{"$f":"IF(NOT(OR(F908>0,G908>0)),\"\",IF(HandicapPlay=\"x\",IF(F908>G908,10,-10),IF((F908-G908>0),(VLOOKUP(OFFSET(H908,-8,0),(TABLE!WIN),(MATCH(E908,WINCOL,0)+1))),(VLOOKUP(OFFSET(H908,-8,0),(TABLE!LOSE),(MATCH(E908,LOSECOL,0)+1))))))","v":""}]
[null,{"$f":"SCORECARD!C378","v":" Bye "},null,null,{"$f":"SCORECARD!F378","v":0},{"$f":"SCORECARD!G378","v":-1E-3},{"$f":"SCORECARD!H378","v":-1E-3},{"$f":"IF(NOT(OR(F909>0,G909>0)),\"\",IF(HandicapPlay=\"x\",IF(F909>G909,10,-10),IF((F909-G909>0),(VLOOKUP(OFFSET(H909,-9,0),(TABLE!WIN),(MATCH(E909,WINCOL,0)+1))),(VLOOKUP(OFFSET(H909,-9,0),(TABLE!LOSE),(MATCH(E909,LOSECOL,0)+1))))))","v":""}]
[null,{"$f":"SCORECARD!C379","v":0},null,null,{"$f":"SCORECARD!F379","v":" "},{"$f":"SCORECARD!G379","v":0},{"$f":"SCORECARD!H379","v":0},{"$f":"IF(NOT(OR(F910>0,G910>0)),\"\",(IF((F910-G910>0),(VLOOKUP(H$900,(TABLE!WIN),(E910*2))),(VLOOKUP(H$900,(TABLE!LOSE),(E910*2))))))","v":""}]
[null,{"$f":"SCORECARD!C380","v":0},null,null,{"$f":"SCORECARD!F380","v":" "},{"$f":"SCORECARD!G380","v":0},{"$f":"SCORECARD!H380","v":0},{"$f":"IF(NOT(OR(F911>0,G911>0)),\"\",(IF((F911-G911>0),(VLOOKUP(H$900,(TABLE!WIN),(E911*2))),(VLOOKUP(H$900,(TABLE!LOSE),(E911*2))))))","v":""}]
[null,{"$f":"SCORECARD!C381","v":0},null,null,{"$f":"SCORECARD!F381","v":" "},{"$f":"SCORECARD!G381","v":0},{"$f":"SCORECARD!H381","v":0},{"$f":"IF(NOT(OR(F912>0,G912>0)),\"\",(IF((F912-G912>0),(VLOOKUP(H$900,(TABLE!WIN),(E912*2))),(VLOOKUP(H$900,(TABLE!LOSE),(E912*2))))))","v":""}]
[null,{"$f":"SCORECARD!C382","v":0},null,null,{"$f":"SCORECARD!F382","v":" "},{"$f":"SCORECARD!G382","v":0},{"$f":"SCORECARD!H382","v":0},{"$f":"IF(NOT(OR(F913>0,G913>0)),\"\",(IF((F913-G913>0),(VLOOKUP(H$900,(TABLE!WIN),(E913*2))),(VLOOKUP(H$900,(TABLE!LOSE),(E913*2))))))","v":""}]
[null,{"$f":"SCORECARD!C383","v":0},null,null,{"$f":"SCORECARD!F383","v":" "},{"$f":"SCORECARD!G383","v":0},{"$f":"SCORECARD!H383","v":0},{"$f":"IF(NOT(OR(F914>0,G914>0)),\"\",(IF((F914-G914>0),(VLOOKUP(H$900,(TABLE!WIN),(E914*2))),(VLOOKUP(H$900,(TABLE!LOSE),(E914*2))))))","v":""}]
[null,{"$f":"SCORECARD!C384","v":0},null,null,{"$f":"SCORECARD!F384","v":" "},{"$f":"SCORECARD!G384","v":0},{"$f":"SCORECARD!H384","v":0},{"$f":"IF(NOT(OR(F915>0,G915>0)),\"\",(IF((F915-G915>0),(VLOOKUP(H$900,(TABLE!WIN),(E915*2))),(VLOOKUP(H$900,(TABLE!LOSE),(E915*2))))))","v":""}]
[null,{"$f":"SCORECARD!C385","v":0},null,null,{"$f":"SCORECARD!F385","v":" "},{"$f":"SCORECARD!G385","v":0},{"$f":"SCORECARD!H385","v":0},{"$f":"IF(NOT(OR(F916>0,G916>0)),\"\",(IF((F916-G916>0),(VLOOKUP(H$900,(TABLE!WIN),(E916*2))),(VLOOKUP(H$900,(TABLE!LOSE),(E916*2))))))","v":""}]
[null,{"$f":"SCORECARD!C386","v":0},null,null,{"$f":"SCORECARD!F386","v":" "},{"$f":"SCORECARD!G386","v":0},{"$f":"SCORECARD!H386","v":0},{"$f":"IF(NOT(OR(F917>0,G917>0)),\"\",(IF((F917-G917>0),(VLOOKUP(H$900,(TABLE!WIN),(E917*2))),(VLOOKUP(H$900,(TABLE!LOSE),(E917*2))))))","v":""}]
[null,{"$f":"SCORECARD!C387","v":0},null,null,{"$f":"SCORECARD!F387","v":" "},{"$f":"SCORECARD!G387","v":0},{"$f":"SCORECARD!H387","v":0},{"$f":"IF(NOT(OR(F918>0,G918>0)),\"\",(IF((F918-G918>0),(VLOOKUP(H$900,(TABLE!WIN),(E918*2))),(VLOOKUP(H$900,(TABLE!LOSE),(E918*2))))))","v":""}]
[]
[null,null,null,null,null,null,"Handicap adjustment points total   ",{"$f":"SUM(H903:H919)","v":0}]
[]
[]
[]
[]
[]
[]
[]
[]
[]
[]
[]
[]
[{"$f":"note1","v":"Time limit 2.5 hours, Turn After Bell (61.1.6). Quadway hoops (3 11/16\"), Dawson International balls"}]
[{"$f":"note2","v":"Games may start early. Please be at the venue at least 30 minutes earlier than the scheduled start time."}]
[{"$f":"note3","v":"Entry Fee $40 will be invoiced by email. Please pay by EFT using the invoice No. as reference."}]
[{"$f":"note4","v":"Players please assist with setting and clearing courts."}]
[null,null,null,null,{"$f":"BLOCK!I68","v":" Block 3 Player 3"}]
[null,null,null,null,{"$f":"BLOCK!N64","v":"Tournament"}]
[null,null,null,null,{"$f":"BLOCK!J66","v":"Singles"}]
[null,null,null,null,{"$f":"BLOCK!B68","v":"BLOCK 3"}]
[]
[null,null,null,null,"BLOCK PLAY SCHEDULE"]
[null,"TIME","DAY","COURT",null,"OPPONENT",null,null,"Handicap","PS","OS"]
[null,{"$f":"GAMES!B67","v":"00:00:00"},{"$f":"GAMES!C67","v":"00:00:00"},{"$f":"GAMES!D67","v":0},null,{"$f":"GAMES!E67","v":" Block 3 Player 1"},null,null,{"$f":"$E$955","v":0},{"$f":"$F$955","v":-1E-3},{"$f":"$G$955","v":-1E-3}]
[null,{"$f":"GAMES!B72","v":"00:00:00"},{"$f":"GAMES!C72","v":"00:00:00"},{"$f":"GAMES!D72","v":0},null,{"$f":"GAMES!G72","v":" Block 3 Player 5"},null,null,{"$f":"$E$958","v":0},{"$f":"$F$958","v":-1E-3},{"$f":"$G$958","v":-1E-3}]
[null,{"$f":"GAMES!B77","v":"00:00:00"},{"$f":"GAMES!C77","v":"00:00:00"},{"$f":"GAMES!D77","v":0},null,{"$f":"GAMES!G77","v":" Block 3 Player 7"},null,null,{"$f":"$E$960","v":0},{"$f":"$F$960","v":-1E-3},{"$f":"$G$960","v":-1E-3}]
[null,{"$f":"GAMES!B82","v":"00:00:00"},{"$f":"GAMES!C82","v":"00:00:00"},{"$f":"GAMES!D82","v":0},null,{"$f":"GAMES!G82","v":" Block 3 Player 2"},null,null,{"$f":"$E$956","v":0},{"$f":"$F$956","v":-1E-3},{"$f":"$G$956","v":-1E-3}]
[null,{"$f":"GAMES!B86","v":"00:00:00"},{"$f":"GAMES!C86","v":"00:00:00"},{"$f":"GAMES!D86","v":0},null,{"$f":"GAMES!E86","v":" Block 3 Player 4"},null,null,{"$f":"$E$957","v":0},{"$f":"$F$957","v":-1E-3},{"$f":"$G$957","v":-1E-3}]
[null,{"$f":"GAMES!B89","v":"00:00:00"},{"$f":"GAMES!C89","v":"00:00:00"},{"$f":"GAMES!D89","v":0},null,{"$f":"GAMES!E89","v":" Block 3 Player 6"},null,null,{"$f":"$E$959","v":0},{"$f":"$F$959","v":-1E-3},{"$f":"$G$959","v":-1E-3}]
[null,{"$f":"GAMES!B92","v":"00:00:00"},{"$f":"GAMES!C92","v":"00:00:00"},{"$f":"GAMES!D92","v":"--"},null,{"$f":"GAMES!E92","v":" Bye "},null,null,{"$f":"$E$961","v":0},{"$f":"$F$961","v":-1E-3},{"$f":"$G$961","v":-1E-3}]
[]
[null,"PLAYER:",{"$f":"SCORECARD!D392","v":" Block 3 Player 3"},null,null,null,"HANDICAP",{"$f":"SCORECARD!I392","v":0}]
[null,null,null,null,"OPP","PLAYER","OPP","H/CAP"]
[null,null,"OPPONENT",null,"HCP","SCORE","SCORE","PTS"]
[null,{"$f":"SCORECARD!C395","v":" Block 3 Player 1"},null,null,{"$f":"SCORECARD!F395","v":0},{"$f":"SCORECARD!G395","v":-1E-3},{"$f":"SCORECARD!H395","v":-1E-3},{"$f":"IF(NOT(OR(F955>0,G955>0)),\"\",IF(HandicapPlay=\"x\",IF(F955>G955,10,-10),IF((F955-G955>0),(VLOOKUP(OFFSET(H955,-3,0),(TABLE!WIN),(MATCH(E955,WINCOL,0)+1))),(VLOOKUP(OFFSET(H955,-3,0),(TABLE!LOSE),(MATCH(E955,LOSECOL,0)+1))))))","v":""}]
[null,{"$f":"SCORECARD!C396","v":" Block 3 Player 2"},null,null,{"$f":"SCORECARD!F396","v":0},{"$f":"SCORECARD!G396","v":-1E-3},{"$f":"SCORECARD!H396","v":-1E-3},{"$f":"IF(NOT(OR(F956>0,G956>0)),\"\",IF(HandicapPlay=\"x\",IF(F956>G956,10,-10),IF((F956-G956>0),(VLOOKUP(OFFSET(H956,-4,0),(TABLE!WIN),(MATCH(E956,WINCOL,0)+1))),(VLOOKUP(OFFSET(H956,-4,0),(TABLE!LOSE),(MATCH(E956,LOSECOL,0)+1))))))","v":""}]
[null,{"$f":"SCORECARD!C397","v":" Block 3 Player 4"},null,null,{"$f":"SCORECARD!F397","v":0},{"$f":"SCORECARD!G397","v":-1E-3},{"$f":"SCORECARD!H397","v":-1E-3},{"$f":"IF(NOT(OR(F957>0,G957>0)),\"\",IF(HandicapPlay=\"x\",IF(F957>G957,10,-10),IF((F957-G957>0),(VLOOKUP(OFFSET(H957,-5,0),(TABLE!WIN),(MATCH(E957,WINCOL,0)+1))),(VLOOKUP(OFFSET(H957,-5,0),(TABLE!LOSE),(MATCH(E957,LOSECOL,0)+1))))))","v":""}]
[null,{"$f":"SCORECARD!C398","v":" Block 3 Player 5"},null,null,{"$f":"SCORECARD!F398","v":0},{"$f":"SCORECARD!G398","v":-1E-3},{"$f":"SCORECARD!H398","v":-1E-3},{"$f":"IF(NOT(OR(F958>0,G958>0)),\"\",IF(HandicapPlay=\"x\",IF(F958>G958,10,-10),IF((F958-G958>0),(VLOOKUP(OFFSET(H958,-6,0),(TABLE!WIN),(MATCH(E958,WINCOL,0)+1))),(VLOOKUP(OFFSET(H958,-6,0),(TABLE!LOSE),(MATCH(E958,LOSECOL,0)+1))))))","v":""}]
[null,{"$f":"SCORECARD!C399","v":" Block 3 Player 6"},null,null,{"$f":"SCORECARD!F399","v":0},{"$f":"SCORECARD!G399","v":-1E-3},{"$f":"SCORECARD!H399","v":-1E-3},{"$f":"IF(NOT(OR(F959>0,G959>0)),\"\",IF(HandicapPlay=\"x\",IF(F959>G959,10,-10),IF((F959-G959>0),(VLOOKUP(OFFSET(H959,-7,0),(TABLE!WIN),(MATCH(E959,WINCOL,0)+1))),(VLOOKUP(OFFSET(H959,-7,0),(TABLE!LOSE),(MATCH(E959,LOSECOL,0)+1))))))","v":""}]
[null,{"$f":"SCORECARD!C400","v":" Block 3 Player 7"},null,null,{"$f":"SCORECARD!F400","v":0},{"$f":"SCORECARD!G400","v":-1E-3},{"$f":"SCORECARD!H400","v":-1E-3},{"$f":"IF(NOT(OR(F960>0,G960>0)),\"\",IF(HandicapPlay=\"x\",IF(F960>G960,10,-10),IF((F960-G960>0),(VLOOKUP(OFFSET(H960,-8,0),(TABLE!WIN),(MATCH(E960,WINCOL,0)+1))),(VLOOKUP(OFFSET(H960,-8,0),(TABLE!LOSE),(MATCH(E960,LOSECOL,0)+1))))))","v":""}]
[null,{"$f":"SCORECARD!C401","v":" Bye "},null,null,{"$f":"SCORECARD!F401","v":0},{"$f":"SCORECARD!G401","v":-1E-3},{"$f":"SCORECARD!H401","v":-1E-3},{"$f":"IF(NOT(OR(F961>0,G961>0)),\"\",IF(HandicapPlay=\"x\",IF(F961>G961,10,-10),IF((F961-G961>0),(VLOOKUP(OFFSET(H961,-9,0),(TABLE!WIN),(MATCH(E961,WINCOL,0)+1))),(VLOOKUP(OFFSET(H961,-9,0),(TABLE!LOSE),(MATCH(E961,LOSECOL,0)+1))))))","v":""}]
[null,{"$f":"SCORECARD!C402","v":0},null,null,{"$f":"SCORECARD!F402","v":" "},{"$f":"SCORECARD!G402","v":0},{"$f":"SCORECARD!H402","v":0},{"$f":"IF(NOT(OR(F962>0,G962>0)),\"\",(IF((F962-G962>0),(VLOOKUP(H$952,(TABLE!WIN),(E962*2))),(VLOOKUP(H$952,(TABLE!LOSE),(E962*2))))))","v":""}]
[null,{"$f":"SCORECARD!C403","v":0},null,null,{"$f":"SCORECARD!F403","v":" "},{"$f":"SCORECARD!G403","v":0},{"$f":"SCORECARD!H403","v":0},{"$f":"IF(NOT(OR(F963>0,G963>0)),\"\",(IF((F963-G963>0),(VLOOKUP(H$952,(TABLE!WIN),(E963*2))),(VLOOKUP(H$952,(TABLE!LOSE),(E963*2))))))","v":""}]
[null,{"$f":"SCORECARD!C404","v":0},null,null,{"$f":"SCORECARD!F404","v":" "},{"$f":"SCORECARD!G404","v":0},{"$f":"SCORECARD!H404","v":0},{"$f":"IF(NOT(OR(F964>0,G964>0)),\"\",(IF((F964-G964>0),(VLOOKUP(H$952,(TABLE!WIN),(E964*2))),(VLOOKUP(H$952,(TABLE!LOSE),(E964*2))))))","v":""}]
[null,{"$f":"SCORECARD!C405","v":0},null,null,{"$f":"SCORECARD!F405","v":" "},{"$f":"SCORECARD!G405","v":0},{"$f":"SCORECARD!H405","v":0},{"$f":"IF(NOT(OR(F965>0,G965>0)),\"\",(IF((F965-G965>0),(VLOOKUP(H$952,(TABLE!WIN),(E965*2))),(VLOOKUP(H$952,(TABLE!LOSE),(E965*2))))))","v":""}]
[null,{"$f":"SCORECARD!C406","v":0},null,null,{"$f":"SCORECARD!F406","v":" "},{"$f":"SCORECARD!G406","v":0},{"$f":"SCORECARD!H406","v":0},{"$f":"IF(NOT(OR(F966>0,G966>0)),\"\",(IF((F966-G966>0),(VLOOKUP(H$952,(TABLE!WIN),(E966*2))),(VLOOKUP(H$952,(TABLE!LOSE),(E966*2))))))","v":""}]
[null,{"$f":"SCORECARD!C407","v":0},null,null,{"$f":"SCORECARD!F407","v":" "},{"$f":"SCORECARD!G407","v":0},{"$f":"SCORECARD!H407","v":0},{"$f":"IF(NOT(OR(F967>0,G967>0)),\"\",(IF((F967-G967>0),(VLOOKUP(H$952,(TABLE!WIN),(E967*2))),(VLOOKUP(H$952,(TABLE!LOSE),(E967*2))))))","v":""}]
[null,{"$f":"SCORECARD!C408","v":0},null,null,{"$f":"SCORECARD!F408","v":" "},{"$f":"SCORECARD!G408","v":0},{"$f":"SCORECARD!H408","v":0},{"$f":"IF(NOT(OR(F968>0,G968>0)),\"\",(IF((F968-G968>0),(VLOOKUP(H$952,(TABLE!WIN),(E968*2))),(VLOOKUP(H$952,(TABLE!LOSE),(E968*2))))))","v":""}]
[null,{"$f":"SCORECARD!C409","v":0},null,null,{"$f":"SCORECARD!F409","v":" "},{"$f":"SCORECARD!G409","v":0},{"$f":"SCORECARD!H409","v":0},{"$f":"IF(NOT(OR(F969>0,G969>0)),\"\",(IF((F969-G969>0),(VLOOKUP(H$952,(TABLE!WIN),(E969*2))),(VLOOKUP(H$952,(TABLE!LOSE),(E969*2))))))","v":""}]
[null,{"$f":"SCORECARD!C410","v":0},null,null,{"$f":"SCORECARD!F410","v":" "},{"$f":"SCORECARD!G410","v":0},{"$f":"SCORECARD!H410","v":0},{"$f":"IF(NOT(OR(F970>0,G970>0)),\"\",(IF((F970-G970>0),(VLOOKUP(H$952,(TABLE!WIN),(E970*2))),(VLOOKUP(H$952,(TABLE!LOSE),(E970*2))))))","v":""}]
[]
[null,null,null,null,null,null,"Handicap adjustment points total   ",{"$f":"SUM(H955:H970)","v":0}]
[]
[]
[]
[]
[]
[]
[]
[]
[]
[]
[]
[]
[{"$f":"note1","v":"Time limit 2.5 hours, Turn After Bell (61.1.6). Quadway hoops (3 11/16\"), Dawson International balls"}]
[{"$f":"note2","v":"Games may start early. Please be at the venue at least 30 minutes earlier than the scheduled start time."}]
[{"$f":"note3","v":"Entry Fee $40 will be invoiced by email. Please pay by EFT using the invoice No. as reference."}]
[{"$f":"note4","v":"Players please assist with setting and clearing courts."}]
[null,null,null,null,{"$f":"BLOCK!L68","v":" Block 3 Player 4"}]
[null,null,null,null,{"$f":"BLOCK!N64","v":"Tournament"}]
[null,null,null,null,{"$f":"BLOCK!J66","v":"Singles"}]
[null,null,null,null,{"$f":"BLOCK!B68","v":"BLOCK 3"}]
[]
[null,null,null,null,"BLOCK PLAY SCHEDULE"]
[null,"TIME","DAY","COURT",null,"OPPONENT",null,null,"Handicap","PS","OS"]
[null,{"$f":"GAMES!B68","v":"00:00:00"},{"$f":"GAMES!C68","v":"00:00:00"},{"$f":"GAMES!D68","v":0},null,{"$f":"GAMES!E68","v":" Block 3 Player 2"},null,null,{"$f":"$E$1008","v":0},{"$f":"$F$1008","v":-1E-3},{"$f":"$G$1008","v":-1E-3}]
[null,{"$f":"GAMES!B71","v":"00:00:00"},{"$f":"GAMES!C71","v":"00:00:00"},{"$f":"GAMES!D71","v":0},null,{"$f":"GAMES!E71","v":" Block 3 Player 1"},null,null,{"$f":"$E$1007","v":0},{"$f":"$F$1007","v":-1E-3},{"$f":"$G$1007","v":-1E-3}]
[null,{"$f":"GAMES!B76","v":"00:00:00"},{"$f":"GAMES!C76","v":"00:00:00"},{"$f":"GAMES!D76","v":0},null,{"$f":"GAMES!G76","v":" Block 3 Player 6"},null,null,{"$f":"$E$1011","v":0},{"$f":"$F$1011","v":-1E-3},{"$f":"$G$1011","v":-1E-3}]
[null,{"$f":"GAMES!B81","v":"00:00:00"},{"$f":"GAMES!C81","v":"00:00:00"},{"$f":"GAMES!D81","v":"--"},null,{"$f":"GAMES!G81","v":" Bye "},null,null,{"$f":"$E$1013","v":0},{"$f":"$F$1013","v":-1E-3},{"$f":"$G$1013","v":-1E-3}]
[null,{"$f":"GAMES!B86","v":"00:00:00"},{"$f":"GAMES!C86","v":"00:00:00"},{"$f":"GAMES!D86","v":0},null,{"$f":"GAMES!G86","v":" Block 3 Player 3"},null,null,{"$f":"$E$1009","v":0},{"$f":"$F$1009","v":-1E-3},{"$f":"$G$1009","v":-1E-3}]
[null,{"$f":"GAMES!B90","v":"00:00:00"},{"$f":"GAMES!C90","v":"00:00:00"},{"$f":"GAMES!D90","v":0},null,{"$f":"GAMES!E90","v":" Block 3 Player 5"},null,null,{"$f":"$E$1010","v":0},{"$f":"$F$1010","v":-1E-3},{"$f":"$G$1010","v":-1E-3}]
[null,{"$f":"GAMES!B93","v":"00:00:00"},{"$f":"GAMES!C93","v":"00:00:00"},{"$f":"GAMES!D93","v":0},null,{"$f":"GAMES!E93","v":" Block 3 Player 7"},null,null,{"$f":"$E$1012","v":0},{"$f":"$F$1012","v":-1E-3},{"$f":"$G$1012","v":-1E-3}]
[]
[null,"PLAYER:",{"$f":"SCORECARD!D412","v":" Block 3 Player 4"},null,null,null,"HANDICAP",{"$f":"SCORECARD!I412","v":0}]
[null,null,null,null,"OPP","PLAYER","OPP","H/CAP"]
[null,null,"OPPONENT",null,"HCP","SCORE","SCORE","PTS"]
[null,{"$f":"SCORECARD!C415","v":" Block 3 Player 1"},null,null,{"$f":"SCORECARD!F415","v":0},{"$f":"SCORECARD!G415","v":-1E-3},{"$f":"SCORECARD!H415","v":-1E-3},{"$f":"IF(NOT(OR(F1007>0,G1007>0)),\"\",IF(HandicapPlay=\"x\",IF(F1007>G1007,10,-10),IF((F1007-G1007>0),(VLOOKUP(OFFSET(H1007,-3,0),(TABLE!WIN),(MATCH(E1007,WINCOL,0)+1))),(VLOOKUP(OFFSET(H1007,-3,0),(TABLE!LOSE),(MATCH(E1007,LOSECOL,0)+1))))))","v":""}]
[null,{"$f":"SCORECARD!C416","v":" Block 3 Player 2"},null,null,{"$f":"SCORECARD!F416","v":0},{"$f":"SCORECARD!G416","v":-1E-3},{"$f":"SCORECARD!H416","v":-1E-3},{"$f":"IF(NOT(OR(F1008>0,G1008>0)),\"\",IF(HandicapPlay=\"x\",IF(F1008>G1008,10,-10),IF((F1008-G1008>0),(VLOOKUP(OFFSET(H1008,-4,0),(TABLE!WIN),(MATCH(E1008,WINCOL,0)+1))),(VLOOKUP(OFFSET(H1008,-4,0),(TABLE!LOSE),(MATCH(E1008,LOSECOL,0)+1))))))","v":""}]
[null,{"$f":"SCORECARD!C417","v":" Block 3 Player 3"},null,null,{"$f":"SCORECARD!F417","v":0},{"$f":"SCORECARD!G417","v":-1E-3},{"$f":"SCORECARD!H417","v":-1E-3},{"$f":"IF(NOT(OR(F1009>0,G1009>0)),\"\",IF(HandicapPlay=\"x\",IF(F1009>G1009,10,-10),IF((F1009-G1009>0),(VLOOKUP(OFFSET(H1009,-5,0),(TABLE!WIN),(MATCH(E1009,WINCOL,0)+1))),(VLOOKUP(OFFSET(H1009,-5,0),(TABLE!LOSE),(MATCH(E1009,LOSECOL,0)+1))))))","v":""}]
[null,{"$f":"SCORECARD!C418","v":" Block 3 Player 5"},null,null,{"$f":"SCORECARD!F418","v":0},{"$f":"SCORECARD!G418","v":-1E-3},{"$f":"SCORECARD!H418","v":-1E-3},{"$f":"IF(NOT(OR(F1010>0,G1010>0)),\"\",IF(HandicapPlay=\"x\",IF(F1010>G1010,10,-10),IF((F1010-G1010>0),(VLOOKUP(OFFSET(H1010,-6,0),(TABLE!WIN),(MATCH(E1010,WINCOL,0)+1))),(VLOOKUP(OFFSET(H1010,-6,0),(TABLE!LOSE),(MATCH(E1010,LOSECOL,0)+1))))))","v":""}]
[null,{"$f":"SCORECARD!C419","v":" Block 3 Player 6"},null,null,{"$f":"SCORECARD!F419","v":0},{"$f":"SCORECARD!G419","v":-1E-3},{"$f":"SCORECARD!H419","v":-1E-3},{"$f":"IF(NOT(OR(F1011>0,G1011>0)),\"\",IF(HandicapPlay=\"x\",IF(F1011>G1011,10,-10),IF((F1011-G1011>0),(VLOOKUP(OFFSET(H1011,-7,0),(TABLE!WIN),(MATCH(E1011,WINCOL,0)+1))),(VLOOKUP(OFFSET(H1011,-7,0),(TABLE!LOSE),(MATCH(E1011,LOSECOL,0)+1))))))","v":""}]
[null,{"$f":"SCORECARD!C420","v":" Block 3 Player 7"},null,null,{"$f":"SCORECARD!F420","v":0},{"$f":"SCORECARD!G420","v":-1E-3},{"$f":"SCORECARD!H420","v":-1E-3},{"$f":"IF(NOT(OR(F1012>0,G1012>0)),\"\",IF(HandicapPlay=\"x\",IF(F1012>G1012,10,-10),IF((F1012-G1012>0),(VLOOKUP(OFFSET(H1012,-8,0),(TABLE!WIN),(MATCH(E1012,WINCOL,0)+1))),(VLOOKUP(OFFSET(H1012,-8,0),(TABLE!LOSE),(MATCH(E1012,LOSECOL,0)+1))))))","v":""}]
[null,{"$f":"SCORECARD!C421","v":" Bye "},null,null,{"$f":"SCORECARD!F421","v":0},{"$f":"SCORECARD!G421","v":-1E-3},{"$f":"SCORECARD!H421","v":-1E-3},{"$f":"IF(NOT(OR(F1013>0,G1013>0)),\"\",IF(HandicapPlay=\"x\",IF(F1013>G1013,10,-10),IF((F1013-G1013>0),(VLOOKUP(OFFSET(H1013,-9,0),(TABLE!WIN),(MATCH(E1013,WINCOL,0)+1))),(VLOOKUP(OFFSET(H1013,-9,0),(TABLE!LOSE),(MATCH(E1013,LOSECOL,0)+1))))))","v":""}]
[null,{"$f":"SCORECARD!C422","v":0},null,null,{"$f":"SCORECARD!F422","v":" "},{"$f":"SCORECARD!G422","v":0},{"$f":"SCORECARD!H422","v":0},{"$f":"IF(NOT(OR(F1014>0,G1014>0)),\"\",(IF((F1014-G1014>0),(VLOOKUP(H$1004,(TABLE!WIN),(E1014*2))),(VLOOKUP(H$1004,(TABLE!LOSE),(E1014*2))))))","v":""}]
[null,{"$f":"SCORECARD!C423","v":0},null,null,{"$f":"SCORECARD!F423","v":" "},{"$f":"SCORECARD!G423","v":0},{"$f":"SCORECARD!H423","v":0},{"$f":"IF(NOT(OR(F1015>0,G1015>0)),\"\",(IF((F1015-G1015>0),(VLOOKUP(H$1004,(TABLE!WIN),(E1015*2))),(VLOOKUP(H$1004,(TABLE!LOSE),(E1015*2))))))","v":""}]
[null,{"$f":"SCORECARD!C424","v":0},null,null,{"$f":"SCORECARD!F424","v":" "},{"$f":"SCORECARD!G424","v":0},{"$f":"SCORECARD!H424","v":0},{"$f":"IF(NOT(OR(F1016>0,G1016>0)),\"\",(IF((F1016-G1016>0),(VLOOKUP(H$1004,(TABLE!WIN),(E1016*2))),(VLOOKUP(H$1004,(TABLE!LOSE),(E1016*2))))))","v":""}]
[null,{"$f":"SCORECARD!C425","v":0},null,null,{"$f":"SCORECARD!F425","v":" "},{"$f":"SCORECARD!G425","v":0},{"$f":"SCORECARD!H425","v":0},{"$f":"IF(NOT(OR(F1017>0,G1017>0)),\"\",(IF((F1017-G1017>0),(VLOOKUP(H$1004,(TABLE!WIN),(E1017*2))),(VLOOKUP(H$1004,(TABLE!LOSE),(E1017*2))))))","v":""}]
[null,{"$f":"SCORECARD!C426","v":0},null,null,{"$f":"SCORECARD!F426","v":" "},{"$f":"SCORECARD!G426","v":0},{"$f":"SCORECARD!H426","v":0},{"$f":"IF(NOT(OR(F1018>0,G1018>0)),\"\",(IF((F1018-G1018>0),(VLOOKUP(H$1004,(TABLE!WIN),(E1018*2))),(VLOOKUP(H$1004,(TABLE!LOSE),(E1018*2))))))","v":""}]
[null,{"$f":"SCORECARD!C427","v":0},null,null,{"$f":"SCORECARD!F427","v":" "},{"$f":"SCORECARD!G427","v":0},{"$f":"SCORECARD!H427","v":0},{"$f":"IF(NOT(OR(F1019>0,G1019>0)),\"\",(IF((F1019-G1019>0),(VLOOKUP(H$1004,(TABLE!WIN),(E1019*2))),(VLOOKUP(H$1004,(TABLE!LOSE),(E1019*2))))))","v":""}]
[null,{"$f":"SCORECARD!C428","v":0},null,null,{"$f":"SCORECARD!F428","v":" "},{"$f":"SCORECARD!G428","v":0},{"$f":"SCORECARD!H428","v":0},{"$f":"IF(NOT(OR(F1020>0,G1020>0)),\"\",(IF((F1020-G1020>0),(VLOOKUP(H$1004,(TABLE!WIN),(E1020*2))),(VLOOKUP(H$1004,(TABLE!LOSE),(E1020*2))))))","v":""}]
[null,{"$f":"SCORECARD!C429","v":0},null,null,{"$f":"SCORECARD!F429","v":" "},{"$f":"SCORECARD!G429","v":0},{"$f":"SCORECARD!H429","v":0},{"$f":"IF(NOT(OR(F1021>0,G1021>0)),\"\",(IF((F1021-G1021>0),(VLOOKUP(H$1004,(TABLE!WIN),(E1021*2))),(VLOOKUP(H$1004,(TABLE!LOSE),(E1021*2))))))","v":""}]
[null,{"$f":"SCORECARD!C430","v":0},null,null,{"$f":"SCORECARD!F430","v":" "},{"$f":"SCORECARD!G430","v":0},{"$f":"SCORECARD!H430","v":0},{"$f":"IF(NOT(OR(F1022>0,G1022>0)),\"\",(IF((F1022-G1022>0),(VLOOKUP(H$1004,(TABLE!WIN),(E1022*2))),(VLOOKUP(H$1004,(TABLE!LOSE),(E1022*2))))))","v":""}]
[]
[null,null,null,null,null,null,"Handicap adjustment points total   ",{"$f":"SUM(H1007:H1023)","v":0}]
[]
[]
[]
[]
[]
[]
[]
[]
[]
[]
[]
[]
[{"$f":"note1","v":"Time limit 2.5 hours, Turn After Bell (61.1.6). Quadway hoops (3 11/16\"), Dawson International balls"}]
[{"$f":"note2","v":"Games may start early. Please be at the venue at least 30 minutes earlier than the scheduled start time."}]
[{"$f":"note3","v":"Entry Fee $40 will be invoiced by email. Please pay by EFT using the invoice No. as reference."}]
[{"$f":"note4","v":"Players please assist with setting and clearing courts."}]
[null,null,null,null,{"$f":"BLOCK!O68","v":" Block 3 Player 5"}]
[null,null,null,null,{"$f":"BLOCK!N64","v":"Tournament"}]
[null,null,null,null,{"$f":"BLOCK!J66","v":"Singles"}]
[null,null,null,null,{"$f":"BLOCK!B68","v":"BLOCK 3"}]
[]
[null,null,null,null,"BLOCK PLAY SCHEDULE"]
[null,"TIME","DAY","COURT",null,"OPPONENT",null,null,"Handicap","PS","OS"]
[null,{"$f":"GAMES!B69","v":"00:00:00"},{"$f":"GAMES!C69","v":"00:00:00"},{"$f":"GAMES!D69","v":"--"},null,{"$f":"GAMES!E69","v":" Bye "},null,null,{"$f":"$E$1065","v":0},{"$f":"$F$1065","v":-1E-3},{"$f":"$G$1065","v":-1E-3}]
[null,{"$f":"GAMES!B72","v":"00:00:00"},{"$f":"GAMES!C72","v":"00:00:00"},{"$f":"GAMES!D72","v":0},null,{"$f":"GAMES!E72","v":" Block 3 Player 3"},null,null,{"$f":"$E$1061","v":0},{"$f":"$F$1061","v":-1E-3},{"$f":"$G$1061","v":-1E-3}]
[null,{"$f":"GAMES!B75","v":"00:00:00"},{"$f":"GAMES!C75","v":"00:00:00"},{"$f":"GAMES!D75","v":0},null,{"$f":"GAMES!E75","v":" Block 3 Player 1"},null,null,{"$f":"$E$1059","v":0},{"$f":"$F$1059","v":-1E-3},{"$f":"$G$1059","v":-1E-3}]
[null,{"$f":"GAMES!B80","v":"00:00:00"},{"$f":"GAMES!C80","v":"00:00:00"},{"$f":"GAMES!D80","v":0},null,{"$f":"GAMES!G80","v":" Block 3 Player 7"},null,null,{"$f":"$E$1064","v":0},{"$f":"$F$1064","v":-1E-3},{"$f":"$G$1064","v":-1E-3}]
[null,{"$f":"GAMES!B85","v":"00:00:00"},{"$f":"GAMES!C85","v":"00:00:00"},{"$f":"GAMES!D85","v":0},null,{"$f":"GAMES!G85","v":" Block 3 Player 2"},null,null,{"$f":"$E$1060","v":0},{"$f":"$F$1060","v":-1E-3},{"$f":"$G$1060","v":-1E-3}]
[null,{"$f":"GAMES!B90","v":"00:00:00"},{"$f":"GAMES!C90","v":"00:00:00"},{"$f":"GAMES!D90","v":0},null,{"$f":"GAMES!G90","v":" Block 3 Player 4"},null,null,{"$f":"$E$1062","v":0},{"$f":"$F$1062","v":-1E-3},{"$f":"$G$1062","v":-1E-3}]
[null,{"$f":"GAMES!B94","v":"00:00:00"},{"$f":"GAMES!C94","v":"00:00:00"},{"$f":"GAMES!D94","v":0},null,{"$f":"GAMES!E94","v":" Block 3 Player 6"},null,null,{"$f":"$E$1063","v":0},{"$f":"$F$1063","v":-1E-3},{"$f":"$G$1063","v":-1E-3}]
[]
[null,"PLAYER:",{"$f":"SCORECARD!D435","v":" Block 3 Player 5"},null,null,null,"HANDICAP",{"$f":"SCORECARD!I435","v":0}]
[null,null,null,null,"OPP","PLAYER","OPP","H/CAP"]
[null,null,"OPPONENT",null,"HCP","SCORE","SCORE","PTS"]
[null,{"$f":"SCORECARD!C438","v":" Block 3 Player 1"},null,null,{"$f":"SCORECARD!F438","v":0},{"$f":"SCORECARD!G438","v":-1E-3},{"$f":"SCORECARD!H438","v":-1E-3},{"$f":"IF(NOT(OR(F1059>0,G1059>0)),\"\",IF(HandicapPlay=\"x\",IF(F1059>G1059,10,-10),IF((F1059-G1059>0),(VLOOKUP(OFFSET(H1059,-3,0),(TABLE!WIN),(MATCH(E1059,WINCOL,0)+1))),(VLOOKUP(OFFSET(H1059,-3,0),(TABLE!LOSE),(MATCH(E1059,LOSECOL,0)+1))))))","v":""}]
[null,{"$f":"SCORECARD!C439","v":" Block 3 Player 2"},null,null,{"$f":"SCORECARD!F439","v":0},{"$f":"SCORECARD!G439","v":-1E-3},{"$f":"SCORECARD!H439","v":-1E-3},{"$f":"IF(NOT(OR(F1060>0,G1060>0)),\"\",IF(HandicapPlay=\"x\",IF(F1060>G1060,10,-10),IF((F1060-G1060>0),(VLOOKUP(OFFSET(H1060,-4,0),(TABLE!WIN),(MATCH(E1060,WINCOL,0)+1))),(VLOOKUP(OFFSET(H1060,-4,0),(TABLE!LOSE),(MATCH(E1060,LOSECOL,0)+1))))))","v":""}]
[null,{"$f":"SCORECARD!C440","v":" Block 3 Player 3"},null,null,{"$f":"SCORECARD!F440","v":0},{"$f":"SCORECARD!G440","v":-1E-3},{"$f":"SCORECARD!H440","v":-1E-3},{"$f":"IF(NOT(OR(F1061>0,G1061>0)),\"\",IF(HandicapPlay=\"x\",IF(F1061>G1061,10,-10),IF((F1061-G1061>0),(VLOOKUP(OFFSET(H1061,-5,0),(TABLE!WIN),(MATCH(E1061,WINCOL,0)+1))),(VLOOKUP(OFFSET(H1061,-5,0),(TABLE!LOSE),(MATCH(E1061,LOSECOL,0)+1))))))","v":""}]
[null,{"$f":"SCORECARD!C441","v":" Block 3 Player 4"},null,null,{"$f":"SCORECARD!F441","v":0},{"$f":"SCORECARD!G441","v":-1E-3},{"$f":"SCORECARD!H441","v":-1E-3},{"$f":"IF(NOT(OR(F1062>0,G1062>0)),\"\",IF(HandicapPlay=\"x\",IF(F1062>G1062,10,-10),IF((F1062-G1062>0),(VLOOKUP(OFFSET(H1062,-6,0),(TABLE!WIN),(MATCH(E1062,WINCOL,0)+1))),(VLOOKUP(OFFSET(H1062,-6,0),(TABLE!LOSE),(MATCH(E1062,LOSECOL,0)+1))))))","v":""}]
[null,{"$f":"SCORECARD!C442","v":" Block 3 Player 6"},null,null,{"$f":"SCORECARD!F442","v":0},{"$f":"SCORECARD!G442","v":-1E-3},{"$f":"SCORECARD!H442","v":-1E-3},{"$f":"IF(NOT(OR(F1063>0,G1063>0)),\"\",IF(HandicapPlay=\"x\",IF(F1063>G1063,10,-10),IF((F1063-G1063>0),(VLOOKUP(OFFSET(H1063,-7,0),(TABLE!WIN),(MATCH(E1063,WINCOL,0)+1))),(VLOOKUP(OFFSET(H1063,-7,0),(TABLE!LOSE),(MATCH(E1063,LOSECOL,0)+1))))))","v":""}]
[null,{"$f":"SCORECARD!C443","v":" Block 3 Player 7"},null,null,{"$f":"SCORECARD!F443","v":0},{"$f":"SCORECARD!G443","v":-1E-3},{"$f":"SCORECARD!H443","v":-1E-3},{"$f":"IF(NOT(OR(F1064>0,G1064>0)),\"\",IF(HandicapPlay=\"x\",IF(F1064>G1064,10,-10),IF((F1064-G1064>0),(VLOOKUP(OFFSET(H1064,-8,0),(TABLE!WIN),(MATCH(E1064,WINCOL,0)+1))),(VLOOKUP(OFFSET(H1064,-8,0),(TABLE!LOSE),(MATCH(E1064,LOSECOL,0)+1))))))","v":""}]
[null,{"$f":"SCORECARD!C444","v":" Bye "},null,null,{"$f":"SCORECARD!F444","v":0},{"$f":"SCORECARD!G444","v":-1E-3},{"$f":"SCORECARD!H444","v":-1E-3},{"$f":"IF(NOT(OR(F1065>0,G1065>0)),\"\",IF(HandicapPlay=\"x\",IF(F1065>G1065,10,-10),IF((F1065-G1065>0),(VLOOKUP(OFFSET(H1065,-9,0),(TABLE!WIN),(MATCH(E1065,WINCOL,0)+1))),(VLOOKUP(OFFSET(H1065,-9,0),(TABLE!LOSE),(MATCH(E1065,LOSECOL,0)+1))))))","v":""}]
[null,{"$f":"SCORECARD!C445","v":0},null,null,{"$f":"SCORECARD!F445","v":" "},{"$f":"SCORECARD!G445","v":0},{"$f":"SCORECARD!H445","v":0},{"$f":"IF(NOT(OR(F1066>0,G1066>0)),\"\",(IF((F1066-G1066>0),(VLOOKUP(H$1056,(TABLE!WIN),(E1066*2))),(VLOOKUP(H$1056,(TABLE!LOSE),(E1066*2))))))","v":""}]
[null,{"$f":"SCORECARD!C446","v":0},null,null,{"$f":"SCORECARD!F446","v":" "},{"$f":"SCORECARD!G446","v":0},{"$f":"SCORECARD!H446","v":0},{"$f":"IF(NOT(OR(F1067>0,G1067>0)),\"\",(IF((F1067-G1067>0),(VLOOKUP(H$1056,(TABLE!WIN),(E1067*2))),(VLOOKUP(H$1056,(TABLE!LOSE),(E1067*2))))))","v":""}]
[null,{"$f":"SCORECARD!C447","v":0},null,null,{"$f":"SCORECARD!F447","v":" "},{"$f":"SCORECARD!G447","v":0},{"$f":"SCORECARD!H447","v":0},{"$f":"IF(NOT(OR(F1068>0,G1068>0)),\"\",(IF((F1068-G1068>0),(VLOOKUP(H$1056,(TABLE!WIN),(E1068*2))),(VLOOKUP(H$1056,(TABLE!LOSE),(E1068*2))))))","v":""}]
[null,{"$f":"SCORECARD!C448","v":0},null,null,{"$f":"SCORECARD!F448","v":" "},{"$f":"SCORECARD!G448","v":0},{"$f":"SCORECARD!H448","v":0},{"$f":"IF(NOT(OR(F1069>0,G1069>0)),\"\",(IF((F1069-G1069>0),(VLOOKUP(H$1056,(TABLE!WIN),(E1069*2))),(VLOOKUP(H$1056,(TABLE!LOSE),(E1069*2))))))","v":""}]
[null,{"$f":"SCORECARD!C449","v":0},null,null,{"$f":"SCORECARD!F449","v":" "},{"$f":"SCORECARD!G449","v":0},{"$f":"SCORECARD!H449","v":0},{"$f":"IF(NOT(OR(F1070>0,G1070>0)),\"\",(IF((F1070-G1070>0),(VLOOKUP(H$1056,(TABLE!WIN),(E1070*2))),(VLOOKUP(H$1056,(TABLE!LOSE),(E1070*2))))))","v":""}]
[null,{"$f":"SCORECARD!C450","v":0},null,null,{"$f":"SCORECARD!F450","v":" "},{"$f":"SCORECARD!G450","v":0},{"$f":"SCORECARD!H450","v":0},{"$f":"IF(NOT(OR(F1071>0,G1071>0)),\"\",(IF((F1071-G1071>0),(VLOOKUP(H$1056,(TABLE!WIN),(E1071*2))),(VLOOKUP(H$1056,(TABLE!LOSE),(E1071*2))))))","v":""}]
[null,{"$f":"SCORECARD!C451","v":0},null,null,{"$f":"SCORECARD!F451","v":" "},{"$f":"SCORECARD!G451","v":0},{"$f":"SCORECARD!H451","v":0},{"$f":"IF(NOT(OR(F1072>0,G1072>0)),\"\",(IF((F1072-G1072>0),(VLOOKUP(H$1056,(TABLE!WIN),(E1072*2))),(VLOOKUP(H$1056,(TABLE!LOSE),(E1072*2))))))","v":""}]
[null,{"$f":"SCORECARD!C452","v":0},null,null,{"$f":"SCORECARD!F452","v":" "},{"$f":"SCORECARD!G452","v":0},{"$f":"SCORECARD!H452","v":0},{"$f":"IF(NOT(OR(F1073>0,G1073>0)),\"\",(IF((F1073-G1073>0),(VLOOKUP(H$1056,(TABLE!WIN),(E1073*2))),(VLOOKUP(H$1056,(TABLE!LOSE),(E1073*2))))))","v":""}]
[null,{"$f":"SCORECARD!C453","v":0},null,null,{"$f":"SCORECARD!F453","v":" "},{"$f":"SCORECARD!G453","v":0},{"$f":"SCORECARD!H453","v":0},{"$f":"IF(NOT(OR(F1074>0,G1074>0)),\"\",(IF((F1074-G1074>0),(VLOOKUP(H$1056,(TABLE!WIN),(E1074*2))),(VLOOKUP(H$1056,(TABLE!LOSE),(E1074*2))))))","v":""}]
[]
[null,null,null,null,null,null,"Handicap adjustment points total   ",{"$f":"SUM(H1059:H1075)","v":0}]
[]
[]
[]
[]
[]
[]
[]
[]
[]
[]
[]
[]
[{"$f":"note1","v":"Time limit 2.5 hours, Turn After Bell (61.1.6). Quadway hoops (3 11/16\"), Dawson International balls"}]
[{"$f":"note2","v":"Games may start early. Please be at the venue at least 30 minutes earlier than the scheduled start time."}]
[{"$f":"note3","v":"Entry Fee $40 will be invoiced by email. Please pay by EFT using the invoice No. as reference."}]
[{"$f":"note4","v":"Players please assist with setting and clearing courts."}]
[null,null,null,null,{"$f":"BLOCK!R68","v":" Block 3 Player 6"}]
[null,null,null,null,{"$f":"BLOCK!N64","v":"Tournament"}]
[null,null,null,null,{"$f":"BLOCK!J66","v":"Singles"}]
[null,null,null,null,{"$f":"BLOCK!B68","v":"BLOCK 3"}]
[]
[null,null,null,null,"BLOCK PLAY SCHEDULE"]
[null,"TIME","DAY","COURT",null,"OPPONENT",null,null,"Handicap","PS","OS"]
[null,{"$f":"GAMES!B70","v":"00:00:00"},{"$f":"GAMES!C70","v":"00:00:00"},{"$f":"GAMES!D70","v":0},null,{"$f":"GAMES!E70","v":" Block 3 Player 7"},null,null,{"$f":"$E$1116","v":0},{"$f":"$F$1116","v":-1E-3},{"$f":"$G$1116","v":-1E-3}]
[null,{"$f":"GAMES!B73","v":"00:00:00"},{"$f":"GAMES!C73","v":"00:00:00"},{"$f":"GAMES!D73","v":0},null,{"$f":"GAMES!E73","v":" Block 3 Player 2"},null,null,{"$f":"$E$1112","v":0},{"$f":"$F$1112","v":-1E-3},{"$f":"$G$1112","v":-1E-3}]
[null,{"$f":"GAMES!B76","v":"00:00:00"},{"$f":"GAMES!C76","v":"00:00:00"},{"$f":"GAMES!D76","v":0},null,{"$f":"GAMES!E76","v":" Block 3 Player 4"},null,null,{"$f":"$E$1114","v":0},{"$f":"$F$1114","v":-1E-3},{"$f":"$G$1114","v":-1E-3}]
[null,{"$f":"GAMES!B79","v":"00:00:00"},{"$f":"GAMES!C79","v":"00:00:00"},{"$f":"GAMES!D79","v":0},null,{"$f":"GAMES!E79","v":" Block 3 Player 1"},null,null,{"$f":"$E$1111","v":0},{"$f":"$F$1111","v":-1E-3},{"$f":"$G$1111","v":-1E-3}]
[null,{"$f":"GAMES!B84","v":"00:00:00"},{"$f":"GAMES!C84","v":"00:00:00"},{"$f":"GAMES!D84","v":"--"},null,{"$f":"GAMES!G84","v":" Bye "},null,null,{"$f":"$E$1117","v":0},{"$f":"$F$1117","v":-1E-3},{"$f":"$G$1117","v":-1E-3}]
[null,{"$f":"GAMES!B89","v":"00:00:00"},{"$f":"GAMES!C89","v":"00:00:00"},{"$f":"GAMES!D89","v":0},null,{"$f":"GAMES!G89","v":" Block 3 Player 3"},null,null,{"$f":"$E$1113","v":0},{"$f":"$F$1113","v":-1E-3},{"$f":"$G$1113","v":-1E-3}]
[null,{"$f":"GAMES!B94","v":"00:00:00"},{"$f":"GAMES!C94","v":"00:00:00"},{"$f":"GAMES!D94","v":0},null,{"$f":"GAMES!G94","v":" Block 3 Player 5"},null,null,{"$f":"$E$1115","v":0},{"$f":"$F$1115","v":-1E-3},{"$f":"$G$1115","v":-1E-3}]
[]
[null,"PLAYER:",{"$f":"SCORECARD!D455","v":" Block 3 Player 6"},null,null,null,"HANDICAP",{"$f":"SCORECARD!I455","v":0}]
[null,null,null,null,"OPP","PLAYER","OPP","H/CAP"]
[null,null,"OPPONENT",null,"HCP","SCORE","SCORE","PTS"]
[null,{"$f":"SCORECARD!C458","v":" Block 3 Player 1"},null,null,{"$f":"SCORECARD!F458","v":0},{"$f":"SCORECARD!G458","v":-1E-3},{"$f":"SCORECARD!H458","v":-1E-3},{"$f":"IF(NOT(OR(F1111>0,G1111>0)),\"\",IF(HandicapPlay=\"x\",IF(F1111>G1111,10,-10),IF((F1111-G1111>0),(VLOOKUP(OFFSET(H1111,-3,0),(TABLE!WIN),(MATCH(E1111,WINCOL,0)+1))),(VLOOKUP(OFFSET(H1111,-3,0),(TABLE!LOSE),(MATCH(E1111,LOSECOL,0)+1))))))","v":""}]
[null,{"$f":"SCORECARD!C459","v":" Block 3 Player 2"},null,null,{"$f":"SCORECARD!F459","v":0},{"$f":"SCORECARD!G459","v":-1E-3},{"$f":"SCORECARD!H459","v":-1E-3},{"$f":"IF(NOT(OR(F1112>0,G1112>0)),\"\",IF(HandicapPlay=\"x\",IF(F1112>G1112,10,-10),IF((F1112-G1112>0),(VLOOKUP(OFFSET(H1112,-4,0),(TABLE!WIN),(MATCH(E1112,WINCOL,0)+1))),(VLOOKUP(OFFSET(H1112,-4,0),(TABLE!LOSE),(MATCH(E1112,LOSECOL,0)+1))))))","v":""}]
[null,{"$f":"SCORECARD!C460","v":" Block 3 Player 3"},null,null,{"$f":"SCORECARD!F460","v":0},{"$f":"SCORECARD!G460","v":-1E-3},{"$f":"SCORECARD!H460","v":-1E-3},{"$f":"IF(NOT(OR(F1113>0,G1113>0)),\"\",IF(HandicapPlay=\"x\",IF(F1113>G1113,10,-10),IF((F1113-G1113>0),(VLOOKUP(OFFSET(H1113,-5,0),(TABLE!WIN),(MATCH(E1113,WINCOL,0)+1))),(VLOOKUP(OFFSET(H1113,-5,0),(TABLE!LOSE),(MATCH(E1113,LOSECOL,0)+1))))))","v":""}]
[null,{"$f":"SCORECARD!C461","v":" Block 3 Player 4"},null,null,{"$f":"SCORECARD!F461","v":0},{"$f":"SCORECARD!G461","v":-1E-3},{"$f":"SCORECARD!H461","v":-1E-3},{"$f":"IF(NOT(OR(F1114>0,G1114>0)),\"\",IF(HandicapPlay=\"x\",IF(F1114>G1114,10,-10),IF((F1114-G1114>0),(VLOOKUP(OFFSET(H1114,-6,0),(TABLE!WIN),(MATCH(E1114,WINCOL,0)+1))),(VLOOKUP(OFFSET(H1114,-6,0),(TABLE!LOSE),(MATCH(E1114,LOSECOL,0)+1))))))","v":""}]
[null,{"$f":"SCORECARD!C462","v":" Block 3 Player 5"},null,null,{"$f":"SCORECARD!F462","v":0},{"$f":"SCORECARD!G462","v":-1E-3},{"$f":"SCORECARD!H462","v":-1E-3},{"$f":"IF(NOT(OR(F1115>0,G1115>0)),\"\",IF(HandicapPlay=\"x\",IF(F1115>G1115,10,-10),IF((F1115-G1115>0),(VLOOKUP(OFFSET(H1115,-7,0),(TABLE!WIN),(MATCH(E1115,WINCOL,0)+1))),(VLOOKUP(OFFSET(H1115,-7,0),(TABLE!LOSE),(MATCH(E1115,LOSECOL,0)+1))))))","v":""}]
[null,{"$f":"SCORECARD!C463","v":" Block 3 Player 7"},null,null,{"$f":"SCORECARD!F463","v":0},{"$f":"SCORECARD!G463","v":-1E-3},{"$f":"SCORECARD!H463","v":-1E-3},{"$f":"IF(NOT(OR(F1116>0,G1116>0)),\"\",IF(HandicapPlay=\"x\",IF(F1116>G1116,10,-10),IF((F1116-G1116>0),(VLOOKUP(OFFSET(H1116,-8,0),(TABLE!WIN),(MATCH(E1116,WINCOL,0)+1))),(VLOOKUP(OFFSET(H1116,-8,0),(TABLE!LOSE),(MATCH(E1116,LOSECOL,0)+1))))))","v":""}]
[null,{"$f":"SCORECARD!C464","v":" Bye "},null,null,{"$f":"SCORECARD!F464","v":0},{"$f":"SCORECARD!G464","v":-1E-3},{"$f":"SCORECARD!H464","v":-1E-3},{"$f":"IF(NOT(OR(F1117>0,G1117>0)),\"\",IF(HandicapPlay=\"x\",IF(F1117>G1117,10,-10),IF((F1117-G1117>0),(VLOOKUP(OFFSET(H1117,-9,0),(TABLE!WIN),(MATCH(E1117,WINCOL,0)+1))),(VLOOKUP(OFFSET(H1117,-9,0),(TABLE!LOSE),(MATCH(E1117,LOSECOL,0)+1))))))","v":""}]
[null,{"$f":"SCORECARD!C465","v":0},null,null,{"$f":"SCORECARD!F465","v":" "},{"$f":"SCORECARD!G465","v":0},{"$f":"SCORECARD!H465","v":0},{"$f":"IF(NOT(OR(F1118>0,G1118>0)),\"\",(IF((F1118-G1118>0),(VLOOKUP(H$1108,(TABLE!WIN),(E1118*2))),(VLOOKUP(H$1108,(TABLE!LOSE),(E1118*2))))))","v":""}]
[null,{"$f":"SCORECARD!C466","v":0},null,null,{"$f":"SCORECARD!F466","v":" "},{"$f":"SCORECARD!G466","v":0},{"$f":"SCORECARD!H466","v":0},{"$f":"IF(NOT(OR(F1119>0,G1119>0)),\"\",(IF((F1119-G1119>0),(VLOOKUP(H$1108,(TABLE!WIN),(E1119*2))),(VLOOKUP(H$1108,(TABLE!LOSE),(E1119*2))))))","v":""}]
[null,{"$f":"SCORECARD!C467","v":0},null,null,{"$f":"SCORECARD!F467","v":" "},{"$f":"SCORECARD!G467","v":0},{"$f":"SCORECARD!H467","v":0},{"$f":"IF(NOT(OR(F1120>0,G1120>0)),\"\",(IF((F1120-G1120>0),(VLOOKUP(H$1108,(TABLE!WIN),(E1120*2))),(VLOOKUP(H$1108,(TABLE!LOSE),(E1120*2))))))","v":""}]
[null,{"$f":"SCORECARD!C468","v":0},null,null,{"$f":"SCORECARD!F468","v":" "},{"$f":"SCORECARD!G468","v":0},{"$f":"SCORECARD!H468","v":0},{"$f":"IF(NOT(OR(F1121>0,G1121>0)),\"\",(IF((F1121-G1121>0),(VLOOKUP(H$1108,(TABLE!WIN),(E1121*2))),(VLOOKUP(H$1108,(TABLE!LOSE),(E1121*2))))))","v":""}]
[null,{"$f":"SCORECARD!C469","v":0},null,null,{"$f":"SCORECARD!F469","v":" "},{"$f":"SCORECARD!G469","v":0},{"$f":"SCORECARD!H469","v":0},{"$f":"IF(NOT(OR(F1122>0,G1122>0)),\"\",(IF((F1122-G1122>0),(VLOOKUP(H$1108,(TABLE!WIN),(E1122*2))),(VLOOKUP(H$1108,(TABLE!LOSE),(E1122*2))))))","v":""}]
[null,{"$f":"SCORECARD!C470","v":0},null,null,{"$f":"SCORECARD!F470","v":" "},{"$f":"SCORECARD!G470","v":0},{"$f":"SCORECARD!H470","v":0},{"$f":"IF(NOT(OR(F1123>0,G1123>0)),\"\",(IF((F1123-G1123>0),(VLOOKUP(H$1108,(TABLE!WIN),(E1123*2))),(VLOOKUP(H$1108,(TABLE!LOSE),(E1123*2))))))","v":""}]
[null,{"$f":"SCORECARD!C471","v":0},null,null,{"$f":"SCORECARD!F471","v":" "},{"$f":"SCORECARD!G471","v":0},{"$f":"SCORECARD!H471","v":0},{"$f":"IF(NOT(OR(F1124>0,G1124>0)),\"\",(IF((F1124-G1124>0),(VLOOKUP(H$1108,(TABLE!WIN),(E1124*2))),(VLOOKUP(H$1108,(TABLE!LOSE),(E1124*2))))))","v":""}]
[null,{"$f":"SCORECARD!C472","v":0},null,null,{"$f":"SCORECARD!F472","v":" "},{"$f":"SCORECARD!G472","v":0},{"$f":"SCORECARD!H472","v":0},{"$f":"IF(NOT(OR(F1125>0,G1125>0)),\"\",(IF((F1125-G1125>0),(VLOOKUP(H$1108,(TABLE!WIN),(E1125*2))),(VLOOKUP(H$1108,(TABLE!LOSE),(E1125*2))))))","v":""}]
[null,{"$f":"SCORECARD!C473","v":0},null,null,{"$f":"SCORECARD!F473","v":" "},{"$f":"SCORECARD!G473","v":0},{"$f":"SCORECARD!H473","v":0},{"$f":"IF(NOT(OR(F1126>0,G1126>0)),\"\",(IF((F1126-G1126>0),(VLOOKUP(H$1108,(TABLE!WIN),(E1126*2))),(VLOOKUP(H$1108,(TABLE!LOSE),(E1126*2))))))","v":""}]
[]
[null,null,null,null,null,null,"Handicap adjustment points total   ",{"$f":"SUM(H1111:H1127)","v":0}]
[]
[]
[]
[]
[]
[]
[]
[]
[]
[]
[]
[]
[{"$f":"note1","v":"Time limit 2.5 hours, Turn After Bell (61.1.6). Quadway hoops (3 11/16\"), Dawson International balls"}]
[{"$f":"note2","v":"Games may start early. Please be at the venue at least 30 minutes earlier than the scheduled start time."}]
[{"$f":"note3","v":"Entry Fee $40 will be invoiced by email. Please pay by EFT using the invoice No. as reference."}]
[{"$f":"note4","v":"Players please assist with setting and clearing courts."}]
[null,null,null,null,{"$f":"BLOCK!U68","v":" Block 3 Player 7"}]
[null,null,null,null,{"$f":"BLOCK!N64","v":"Tournament"}]
[null,null,null,null,{"$f":"BLOCK!J66","v":"Singles"}]
[null,null,null,null,{"$f":"BLOCK!B68","v":"BLOCK 3"}]
[]
[null,null,null,null,"BLOCK PLAY SCHEDULE"]
[null,"TIME","DAY","COURT",null,"OPPONENT",null,null,"Handicap","PS","OS"]
[null,{"$f":"GAMES!B70","v":"00:00:00"},{"$f":"GAMES!C70","v":"00:00:00"},{"$f":"GAMES!D70","v":0},null,{"$f":"GAMES!G70","v":" Block 3 Player 6"},null,null,{"$f":"$E$1168","v":0},{"$f":"$F$1168","v":-1E-3},{"$f":"$G$1168","v":-1E-3}]
[null,{"$f":"GAMES!B74","v":"00:00:00"},{"$f":"GAMES!C74","v":"00:00:00"},{"$f":"GAMES!D74","v":"--"},null,{"$f":"GAMES!E74","v":" Bye "},null,null,{"$f":"$E$1169","v":0},{"$f":"$F$1169","v":-1E-3},{"$f":"$G$1169","v":-1E-3}]
[null,{"$f":"GAMES!B77","v":"00:00:00"},{"$f":"GAMES!C77","v":"00:00:00"},{"$f":"GAMES!D77","v":0},null,{"$f":"GAMES!E77","v":" Block 3 Player 3"},null,null,{"$f":"$E$1165","v":0},{"$f":"$F$1165","v":-1E-3},{"$f":"$G$1165","v":-1E-3}]
[null,{"$f":"GAMES!B80","v":"00:00:00"},{"$f":"GAMES!C80","v":"00:00:00"},{"$f":"GAMES!D80","v":0},null,{"$f":"GAMES!E80","v":" Block 3 Player 5"},null,null,{"$f":"$E$1167","v":0},{"$f":"$F$1167","v":-1E-3},{"$f":"$G$1167","v":-1E-3}]
[null,{"$f":"GAMES!B83","v":"00:00:00"},{"$f":"GAMES!C83","v":"00:00:00"},{"$f":"GAMES!D83","v":0},null,{"$f":"GAMES!E83","v":" Block 3 Player 1"},null,null,{"$f":"$E$1163","v":0},{"$f":"$F$1163","v":-1E-3},{"$f":"$G$1163","v":-1E-3}]
[null,{"$f":"GAMES!B88","v":"00:00:00"},{"$f":"GAMES!C88","v":"00:00:00"},{"$f":"GAMES!D88","v":0},null,{"$f":"GAMES!G88","v":" Block 3 Player 2"},null,null,{"$f":"$E$1164","v":0},{"$f":"$F$1164","v":-1E-3},{"$f":"$G$1164","v":-1E-3}]
[null,{"$f":"GAMES!B93","v":"00:00:00"},{"$f":"GAMES!C93","v":"00:00:00"},{"$f":"GAMES!D93","v":0},null,{"$f":"GAMES!G93","v":" Block 3 Player 4"},null,null,{"$f":"$E$1166","v":0},{"$f":"$F$1166","v":-1E-3},{"$f":"$G$1166","v":-1E-3}]
[]
[null,"PLAYER:",{"$f":"SCORECARD!D478","v":" Block 3 Player 7"},null,null,null,"HANDICAP",{"$f":"SCORECARD!I478","v":0}]
[null,null,null,null,"OPP","PLAYER","OPP","H/CAP"]
[null,null,"OPPONENT",null,"HCP","SCORE","SCORE","PTS"]
[null,{"$f":"SCORECARD!C481","v":" Block 3 Player 1"},null,null,{"$f":"SCORECARD!F481","v":0},{"$f":"SCORECARD!G481","v":-1E-3},{"$f":"SCORECARD!H481","v":-1E-3},{"$f":"IF(NOT(OR(F1163>0,G1163>0)),\"\",IF(HandicapPlay=\"x\",IF(F1163>G1163,10,-10),IF((F1163-G1163>0),(VLOOKUP(OFFSET(H1163,-3,0),(TABLE!WIN),(MATCH(E1163,WINCOL,0)+1))),(VLOOKUP(OFFSET(H1163,-3,0),(TABLE!LOSE),(MATCH(E1163,LOSECOL,0)+1))))))","v":""}]
[null,{"$f":"SCORECARD!C482","v":" Block 3 Player 2"},null,null,{"$f":"SCORECARD!F482","v":0},{"$f":"SCORECARD!G482","v":-1E-3},{"$f":"SCORECARD!H482","v":-1E-3},{"$f":"IF(NOT(OR(F1164>0,G1164>0)),\"\",IF(HandicapPlay=\"x\",IF(F1164>G1164,10,-10),IF((F1164-G1164>0),(VLOOKUP(OFFSET(H1164,-4,0),(TABLE!WIN),(MATCH(E1164,WINCOL,0)+1))),(VLOOKUP(OFFSET(H1164,-4,0),(TABLE!LOSE),(MATCH(E1164,LOSECOL,0)+1))))))","v":""}]
[null,{"$f":"SCORECARD!C483","v":" Block 3 Player 3"},null,null,{"$f":"SCORECARD!F483","v":0},{"$f":"SCORECARD!G483","v":-1E-3},{"$f":"SCORECARD!H483","v":-1E-3},{"$f":"IF(NOT(OR(F1165>0,G1165>0)),\"\",IF(HandicapPlay=\"x\",IF(F1165>G1165,10,-10),IF((F1165-G1165>0),(VLOOKUP(OFFSET(H1165,-5,0),(TABLE!WIN),(MATCH(E1165,WINCOL,0)+1))),(VLOOKUP(OFFSET(H1165,-5,0),(TABLE!LOSE),(MATCH(E1165,LOSECOL,0)+1))))))","v":""}]
[null,{"$f":"SCORECARD!C484","v":" Block 3 Player 4"},null,null,{"$f":"SCORECARD!F484","v":0},{"$f":"SCORECARD!G484","v":-1E-3},{"$f":"SCORECARD!H484","v":-1E-3},{"$f":"IF(NOT(OR(F1166>0,G1166>0)),\"\",IF(HandicapPlay=\"x\",IF(F1166>G1166,10,-10),IF((F1166-G1166>0),(VLOOKUP(OFFSET(H1166,-6,0),(TABLE!WIN),(MATCH(E1166,WINCOL,0)+1))),(VLOOKUP(OFFSET(H1166,-6,0),(TABLE!LOSE),(MATCH(E1166,LOSECOL,0)+1))))))","v":""}]
[null,{"$f":"SCORECARD!C485","v":" Block 3 Player 5"},null,null,{"$f":"SCORECARD!F485","v":0},{"$f":"SCORECARD!G485","v":-1E-3},{"$f":"SCORECARD!H485","v":-1E-3},{"$f":"IF(NOT(OR(F1167>0,G1167>0)),\"\",IF(HandicapPlay=\"x\",IF(F1167>G1167,10,-10),IF((F1167-G1167>0),(VLOOKUP(OFFSET(H1167,-7,0),(TABLE!WIN),(MATCH(E1167,WINCOL,0)+1))),(VLOOKUP(OFFSET(H1167,-7,0),(TABLE!LOSE),(MATCH(E1167,LOSECOL,0)+1))))))","v":""}]
[null,{"$f":"SCORECARD!C486","v":" Block 3 Player 6"},null,null,{"$f":"SCORECARD!F486","v":0},{"$f":"SCORECARD!G486","v":-1E-3},{"$f":"SCORECARD!H486","v":-1E-3},{"$f":"IF(NOT(OR(F1168>0,G1168>0)),\"\",IF(HandicapPlay=\"x\",IF(F1168>G1168,10,-10),IF((F1168-G1168>0),(VLOOKUP(OFFSET(H1168,-8,0),(TABLE!WIN),(MATCH(E1168,WINCOL,0)+1))),(VLOOKUP(OFFSET(H1168,-8,0),(TABLE!LOSE),(MATCH(E1168,LOSECOL,0)+1))))))","v":""}]
[null,{"$f":"SCORECARD!C487","v":" Bye "},null,null,{"$f":"SCORECARD!F487","v":0},{"$f":"SCORECARD!G487","v":-1E-3},{"$f":"SCORECARD!H487","v":-1E-3},{"$f":"IF(NOT(OR(F1169>0,G1169>0)),\"\",IF(HandicapPlay=\"x\",IF(F1169>G1169,10,-10),IF((F1169-G1169>0),(VLOOKUP(OFFSET(H1169,-9,0),(TABLE!WIN),(MATCH(E1169,WINCOL,0)+1))),(VLOOKUP(OFFSET(H1169,-9,0),(TABLE!LOSE),(MATCH(E1169,LOSECOL,0)+1))))))","v":""}]
[null,{"$f":"SCORECARD!C488","v":0},null,null,{"$f":"SCORECARD!F488","v":" "},{"$f":"SCORECARD!G488","v":0},{"$f":"SCORECARD!H488","v":0},{"$f":"IF(NOT(OR(F1170>0,G1170>0)),\"\",(IF((F1170-G1170>0),(VLOOKUP(H$1160,(TABLE!WIN),(E1170*2))),(VLOOKUP(H$1160,(TABLE!LOSE),(E1170*2))))))","v":""}]
[null,{"$f":"SCORECARD!C489","v":0},null,null,{"$f":"SCORECARD!F489","v":" "},{"$f":"SCORECARD!G489","v":0},{"$f":"SCORECARD!H489","v":0},{"$f":"IF(NOT(OR(F1171>0,G1171>0)),\"\",(IF((F1171-G1171>0),(VLOOKUP(H$1160,(TABLE!WIN),(E1171*2))),(VLOOKUP(H$1160,(TABLE!LOSE),(E1171*2))))))","v":""}]
[null,{"$f":"SCORECARD!C490","v":0},null,null,{"$f":"SCORECARD!F490","v":" "},{"$f":"SCORECARD!G490","v":0},{"$f":"SCORECARD!H490","v":0},{"$f":"IF(NOT(OR(F1172>0,G1172>0)),\"\",(IF((F1172-G1172>0),(VLOOKUP(H$1160,(TABLE!WIN),(E1172*2))),(VLOOKUP(H$1160,(TABLE!LOSE),(E1172*2))))))","v":""}]
[null,{"$f":"SCORECARD!C491","v":0},null,null,{"$f":"SCORECARD!F491","v":" "},{"$f":"SCORECARD!G491","v":0},{"$f":"SCORECARD!H491","v":0},{"$f":"IF(NOT(OR(F1173>0,G1173>0)),\"\",(IF((F1173-G1173>0),(VLOOKUP(H$1160,(TABLE!WIN),(E1173*2))),(VLOOKUP(H$1160,(TABLE!LOSE),(E1173*2))))))","v":""}]
[null,{"$f":"SCORECARD!C492","v":0},null,null,{"$f":"SCORECARD!F492","v":" "},{"$f":"SCORECARD!G492","v":0},{"$f":"SCORECARD!H492","v":0},{"$f":"IF(NOT(OR(F1174>0,G1174>0)),\"\",(IF((F1174-G1174>0),(VLOOKUP(H$1160,(TABLE!WIN),(E1174*2))),(VLOOKUP(H$1160,(TABLE!LOSE),(E1174*2))))))","v":""}]
[null,{"$f":"SCORECARD!C493","v":0},null,null,{"$f":"SCORECARD!F493","v":" "},{"$f":"SCORECARD!G493","v":0},{"$f":"SCORECARD!H493","v":0},{"$f":"IF(NOT(OR(F1175>0,G1175>0)),\"\",(IF((F1175-G1175>0),(VLOOKUP(H$1160,(TABLE!WIN),(E1175*2))),(VLOOKUP(H$1160,(TABLE!LOSE),(E1175*2))))))","v":""}]
[null,{"$f":"SCORECARD!C494","v":0},null,null,{"$f":"SCORECARD!F494","v":" "},{"$f":"SCORECARD!G494","v":0},{"$f":"SCORECARD!H494","v":0},{"$f":"IF(NOT(OR(F1176>0,G1176>0)),\"\",(IF((F1176-G1176>0),(VLOOKUP(H$1160,(TABLE!WIN),(E1176*2))),(VLOOKUP(H$1160,(TABLE!LOSE),(E1176*2))))))","v":""}]
[null,{"$f":"SCORECARD!C495","v":0},null,null,{"$f":"SCORECARD!F495","v":" "},{"$f":"SCORECARD!G495","v":0},{"$f":"SCORECARD!H495","v":0},{"$f":"IF(NOT(OR(F1177>0,G1177>0)),\"\",(IF((F1177-G1177>0),(VLOOKUP(H$1160,(TABLE!WIN),(E1177*2))),(VLOOKUP(H$1160,(TABLE!LOSE),(E1177*2))))))","v":""}]
[null,{"$f":"SCORECARD!C496","v":0},null,null,{"$f":"SCORECARD!F496","v":" "},{"$f":"SCORECARD!G496","v":0},{"$f":"SCORECARD!H496","v":0},{"$f":"IF(NOT(OR(F1178>0,G1178>0)),\"\",(IF((F1178-G1178>0),(VLOOKUP(H$1160,(TABLE!WIN),(E1178*2))),(VLOOKUP(H$1160,(TABLE!LOSE),(E1178*2))))))","v":""}]
[]
[null,null,null,null,null,null,"Handicap adjustment points total   ",{"$f":"SUM(H1163:H1179)","v":0}]
[]
[]
[]
[]
[]
[]
[]
[]
[]
[]
[]
[]
[{"$f":"note1","v":"Time limit 2.5 hours, Turn After Bell (61.1.6). Quadway hoops (3 11/16\"), Dawson International balls"}]
[{"$f":"note2","v":"Games may start early. Please be at the venue at least 30 minutes earlier than the scheduled start time."}]
[{"$f":"note3","v":"Entry Fee $40 will be invoiced by email. Please pay by EFT using the invoice No. as reference."}]
[{"$f":"note4","v":"Players please assist with setting and clearing courts."}]
[null,null,null,null,{"$f":"BLOCK!X68","v":" Bye "}]
[null,null,null,null,{"$f":"BLOCK!N64","v":"Tournament"}]
[null,null,null,null,{"$f":"BLOCK!J66","v":"Singles"}]
[null,null,null,null,{"$f":"BLOCK!B68","v":"BLOCK 3"}]
[]
[null,null,null,null,"BLOCK PLAY SCHEDULE"]
[null,"TIME","DAY","COURT",null,"OPPONENT",null,null,"Handicap","PS","OS"]
[null,{"$f":"GAMES!B69","v":"00:00:00"},{"$f":"GAMES!C69","v":"00:00:00"},{"$f":"GAMES!D69","v":"--"},null,{"$f":"GAMES!G69","v":" Block 3 Player 5"},null,null,{"$f":"$E$1219","v":0},{"$f":"$F$1219","v":-1E-3},{"$f":"$G$1219","v":-1E-3}]
[null,{"$f":"GAMES!B74","v":"00:00:00"},{"$f":"GAMES!C74","v":"00:00:00"},{"$f":"GAMES!D74","v":"--"},null,{"$f":"GAMES!G74","v":" Block 3 Player 7"},null,null,{"$f":"$E$1221","v":0},{"$f":"$F$1221","v":-1E-3},{"$f":"$G$1221","v":-1E-3}]
[null,{"$f":"GAMES!B78","v":"00:00:00"},{"$f":"GAMES!C78","v":"00:00:00"},{"$f":"GAMES!D78","v":"--"},null,{"$f":"GAMES!E78","v":" Block 3 Player 2"},null,null,{"$f":"$E$1216","v":0},{"$f":"$F$1216","v":-1E-3},{"$f":"$G$1216","v":-1E-3}]
[null,{"$f":"GAMES!B81","v":"00:00:00"},{"$f":"GAMES!C81","v":"00:00:00"},{"$f":"GAMES!D81","v":"--"},null,{"$f":"GAMES!E81","v":" Block 3 Player 4"},null,null,{"$f":"$E$1218","v":0},{"$f":"$F$1218","v":-1E-3},{"$f":"$G$1218","v":-1E-3}]
[null,{"$f":"GAMES!B84","v":"00:00:00"},{"$f":"GAMES!C84","v":"00:00:00"},{"$f":"GAMES!D84","v":"--"},null,{"$f":"GAMES!E84","v":" Block 3 Player 6"},null,null,{"$f":"$E$1220","v":0},{"$f":"$F$1220","v":-1E-3},{"$f":"$G$1220","v":-1E-3}]
[null,{"$f":"GAMES!B87","v":"00:00:00"},{"$f":"GAMES!C87","v":"00:00:00"},{"$f":"GAMES!D87","v":"--"},null,{"$f":"GAMES!E87","v":" Block 3 Player 1"},null,null,{"$f":"$E$1215","v":0},{"$f":"$F$1215","v":-1E-3},{"$f":"$G$1215","v":-1E-3}]
[null,{"$f":"GAMES!B92","v":"00:00:00"},{"$f":"GAMES!C92","v":"00:00:00"},{"$f":"GAMES!D92","v":"--"},null,{"$f":"GAMES!G92","v":" Block 3 Player 3"},null,null,{"$f":"$E$1217","v":0},{"$f":"$F$1217","v":-1E-3},{"$f":"$G$1217","v":-1E-3}]
[]
[null,"PLAYER:",{"$f":"SCORECARD!D498","v":" Bye "},null,null,null,"HANDICAP",{"$f":"SCORECARD!I498","v":0}]
[null,null,null,null,"OPP","PLAYER","OPP","H/CAP"]
[null,null,"OPPONENT",null,"HCP","SCORE","SCORE","PTS"]
[null,{"$f":"SCORECARD!C501","v":" Block 3 Player 1"},null,null,{"$f":"SCORECARD!F501","v":0},{"$f":"SCORECARD!G501","v":-1E-3},{"$f":"SCORECARD!H501","v":-1E-3},{"$f":"IF(NOT(OR(F1215>0,G1215>0)),\"\",IF(HandicapPlay=\"x\",IF(F1215>G1215,10,-10),IF((F1215-G1215>0),(VLOOKUP(OFFSET(H1215,-3,0),(TABLE!WIN),(MATCH(E1215,WINCOL,0)+1))),(VLOOKUP(OFFSET(H1215,-3,0),(TABLE!LOSE),(MATCH(E1215,LOSECOL,0)+1))))))","v":""}]
[null,{"$f":"SCORECARD!C502","v":" Block 3 Player 2"},null,null,{"$f":"SCORECARD!F502","v":0},{"$f":"SCORECARD!G502","v":-1E-3},{"$f":"SCORECARD!H502","v":-1E-3},{"$f":"IF(NOT(OR(F1216>0,G1216>0)),\"\",IF(HandicapPlay=\"x\",IF(F1216>G1216,10,-10),IF((F1216-G1216>0),(VLOOKUP(OFFSET(H1216,-4,0),(TABLE!WIN),(MATCH(E1216,WINCOL,0)+1))),(VLOOKUP(OFFSET(H1216,-4,0),(TABLE!LOSE),(MATCH(E1216,LOSECOL,0)+1))))))","v":""}]
[null,{"$f":"SCORECARD!C503","v":" Block 3 Player 3"},null,null,{"$f":"SCORECARD!F503","v":0},{"$f":"SCORECARD!G503","v":-1E-3},{"$f":"SCORECARD!H503","v":-1E-3},{"$f":"IF(NOT(OR(F1217>0,G1217>0)),\"\",IF(HandicapPlay=\"x\",IF(F1217>G1217,10,-10),IF((F1217-G1217>0),(VLOOKUP(OFFSET(H1217,-5,0),(TABLE!WIN),(MATCH(E1217,WINCOL,0)+1))),(VLOOKUP(OFFSET(H1217,-5,0),(TABLE!LOSE),(MATCH(E1217,LOSECOL,0)+1))))))","v":""}]
[null,{"$f":"SCORECARD!C504","v":" Block 3 Player 4"},null,null,{"$f":"SCORECARD!F504","v":0},{"$f":"SCORECARD!G504","v":-1E-3},{"$f":"SCORECARD!H504","v":-1E-3},{"$f":"IF(NOT(OR(F1218>0,G1218>0)),\"\",IF(HandicapPlay=\"x\",IF(F1218>G1218,10,-10),IF((F1218-G1218>0),(VLOOKUP(OFFSET(H1218,-6,0),(TABLE!WIN),(MATCH(E1218,WINCOL,0)+1))),(VLOOKUP(OFFSET(H1218,-6,0),(TABLE!LOSE),(MATCH(E1218,LOSECOL,0)+1))))))","v":""}]
[null,{"$f":"SCORECARD!C505","v":" Block 3 Player 5"},null,null,{"$f":"SCORECARD!F505","v":0},{"$f":"SCORECARD!G505","v":-1E-3},{"$f":"SCORECARD!H505","v":-1E-3},{"$f":"IF(NOT(OR(F1219>0,G1219>0)),\"\",IF(HandicapPlay=\"x\",IF(F1219>G1219,10,-10),IF((F1219-G1219>0),(VLOOKUP(OFFSET(H1219,-7,0),(TABLE!WIN),(MATCH(E1219,WINCOL,0)+1))),(VLOOKUP(OFFSET(H1219,-7,0),(TABLE!LOSE),(MATCH(E1219,LOSECOL,0)+1))))))","v":""}]
[null,{"$f":"SCORECARD!C506","v":" Block 3 Player 6"},null,null,{"$f":"SCORECARD!F506","v":0},{"$f":"SCORECARD!G506","v":-1E-3},{"$f":"SCORECARD!H506","v":-1E-3},{"$f":"IF(NOT(OR(F1220>0,G1220>0)),\"\",IF(HandicapPlay=\"x\",IF(F1220>G1220,10,-10),IF((F1220-G1220>0),(VLOOKUP(OFFSET(H1220,-8,0),(TABLE!WIN),(MATCH(E1220,WINCOL,0)+1))),(VLOOKUP(OFFSET(H1220,-8,0),(TABLE!LOSE),(MATCH(E1220,LOSECOL,0)+1))))))","v":""}]
[null,{"$f":"SCORECARD!C507","v":" Block 3 Player 7"},null,null,{"$f":"SCORECARD!F507","v":0},{"$f":"SCORECARD!G507","v":-1E-3},{"$f":"SCORECARD!H507","v":-1E-3},{"$f":"IF(NOT(OR(F1221>0,G1221>0)),\"\",IF(HandicapPlay=\"x\",IF(F1221>G1221,10,-10),IF((F1221-G1221>0),(VLOOKUP(OFFSET(H1221,-9,0),(TABLE!WIN),(MATCH(E1221,WINCOL,0)+1))),(VLOOKUP(OFFSET(H1221,-9,0),(TABLE!LOSE),(MATCH(E1221,LOSECOL,0)+1))))))","v":""}]
[null,{"$f":"SCORECARD!C508","v":0},null,null,{"$f":"SCORECARD!F508","v":" "},{"$f":"SCORECARD!G508","v":0},{"$f":"SCORECARD!H508","v":0},{"$f":"IF(NOT(OR(F1222>0,G1222>0)),\"\",(IF((F1222-G1222>0),(VLOOKUP(H$1212,(TABLE!WIN),(E1222*2))),(VLOOKUP(H$1212,(TABLE!LOSE),(E1222*2))))))","v":""}]
[null,{"$f":"SCORECARD!C509","v":0},null,null,{"$f":"SCORECARD!F509","v":" "},{"$f":"SCORECARD!G509","v":0},{"$f":"SCORECARD!H509","v":0},{"$f":"IF(NOT(OR(F1223>0,G1223>0)),\"\",(IF((F1223-G1223>0),(VLOOKUP(H$1212,(TABLE!WIN),(E1223*2))),(VLOOKUP(H$1212,(TABLE!LOSE),(E1223*2))))))","v":""}]
[null,{"$f":"SCORECARD!C510","v":0},null,null,{"$f":"SCORECARD!F510","v":" "},{"$f":"SCORECARD!G510","v":0},{"$f":"SCORECARD!H510","v":0},{"$f":"IF(NOT(OR(F1224>0,G1224>0)),\"\",(IF((F1224-G1224>0),(VLOOKUP(H$1212,(TABLE!WIN),(E1224*2))),(VLOOKUP(H$1212,(TABLE!LOSE),(E1224*2))))))","v":""}]
[null,{"$f":"SCORECARD!C511","v":0},null,null,{"$f":"SCORECARD!F511","v":" "},{"$f":"SCORECARD!G511","v":0},{"$f":"SCORECARD!H511","v":0},{"$f":"IF(NOT(OR(F1225>0,G1225>0)),\"\",(IF((F1225-G1225>0),(VLOOKUP(H$1212,(TABLE!WIN),(E1225*2))),(VLOOKUP(H$1212,(TABLE!LOSE),(E1225*2))))))","v":""}]
[null,{"$f":"SCORECARD!C512","v":0},null,null,{"$f":"SCORECARD!F512","v":" "},{"$f":"SCORECARD!G512","v":0},{"$f":"SCORECARD!H512","v":0},{"$f":"IF(NOT(OR(F1226>0,G1226>0)),\"\",(IF((F1226-G1226>0),(VLOOKUP(H$1212,(TABLE!WIN),(E1226*2))),(VLOOKUP(H$1212,(TABLE!LOSE),(E1226*2))))))","v":""}]
[null,{"$f":"SCORECARD!C513","v":0},null,null,{"$f":"SCORECARD!F513","v":" "},{"$f":"SCORECARD!G513","v":0},{"$f":"SCORECARD!H513","v":0},{"$f":"IF(NOT(OR(F1227>0,G1227>0)),\"\",(IF((F1227-G1227>0),(VLOOKUP(H$1212,(TABLE!WIN),(E1227*2))),(VLOOKUP(H$1212,(TABLE!LOSE),(E1227*2))))))","v":""}]
[null,{"$f":"SCORECARD!C514","v":0},null,null,{"$f":"SCORECARD!F514","v":" "},{"$f":"SCORECARD!G514","v":0},{"$f":"SCORECARD!H514","v":0},{"$f":"IF(NOT(OR(F1228>0,G1228>0)),\"\",(IF((F1228-G1228>0),(VLOOKUP(H$1212,(TABLE!WIN),(E1228*2))),(VLOOKUP(H$1212,(TABLE!LOSE),(E1228*2))))))","v":""}]
[null,{"$f":"SCORECARD!C515","v":0},null,null,{"$f":"SCORECARD!F515","v":" "},{"$f":"SCORECARD!G515","v":0},{"$f":"SCORECARD!H515","v":0},{"$f":"IF(NOT(OR(F1229>0,G1229>0)),\"\",(IF((F1229-G1229>0),(VLOOKUP(H$1212,(TABLE!WIN),(E1229*2))),(VLOOKUP(H$1212,(TABLE!LOSE),(E1229*2))))))","v":""}]
[null,{"$f":"SCORECARD!C516","v":0},null,null,{"$f":"SCORECARD!F516","v":" "},{"$f":"SCORECARD!G516","v":0},{"$f":"SCORECARD!H516","v":0},{"$f":"IF(NOT(OR(F1230>0,G1230>0)),\"\",(IF((F1230-G1230>0),(VLOOKUP(H$1212,(TABLE!WIN),(E1230*2))),(VLOOKUP(H$1212,(TABLE!LOSE),(E1230*2))))))","v":""}]
[]
[null,null,null,null,null,null,"Handicap adjustment points total   ",{"$f":"SUM(H1215:H1231)","v":0}]
[]
[]
[]
[]
[]
[]
[]
[]
[]
[]
[]
[]
[{"$f":"note1","v":"Time limit 2.5 hours, Turn After Bell (61.1.6). Quadway hoops (3 11/16\"), Dawson International balls"}]
[{"$f":"note2","v":"Games may start early. Please be at the venue at least 30 minutes earlier than the scheduled start time."}]
[{"$f":"note3","v":"Entry Fee $40 will be invoiced by email. Please pay by EFT using the invoice No. as reference."}]
[{"$f":"note4","v":"Players please assist with setting and clearing courts."}]
[null,null,null,null,{"$f":"BLOCK!C99","v":" Block 4 Player 1"}]
[null,null,null,null,{"$f":"BLOCK!N95","v":"Tournament"}]
[null,null,null,null,{"$f":"BLOCK!J97","v":"Singles"}]
[null,null,null,null,{"$f":"BLOCK!B99","v":"BLOCK 4"}]
[]
[null,null,null,null,"BLOCK PLAY SCHEDULE"]
[null,"TIME","DAY","COURT",null,"OPPONENT",null,null,"Handicap","PS","OS"]
[null,{"$f":"GAMES!B98","v":"00:00:00"},{"$f":"GAMES!C98","v":"00:00:00"},{"$f":"GAMES!D98","v":0},null,{"$f":"GAMES!G98","v":" Block 4 Player 3"},null,null,{"$f":"$E$1268","v":0},{"$f":"$F$1268","v":-1E-3},{"$f":"$G$1268","v":-1E-3}]
[null,{"$f":"GAMES!B102","v":"00:00:00"},{"$f":"GAMES!C102","v":"00:00:00"},{"$f":"GAMES!D102","v":0},null,{"$f":"GAMES!G102","v":" Block 4 Player 4"},null,null,{"$f":"$E$1269","v":0},{"$f":"$F$1269","v":-1E-3},{"$f":"$G$1269","v":-1E-3}]
[null,{"$f":"GAMES!B106","v":"00:00:00"},{"$f":"GAMES!C106","v":"00:00:00"},{"$f":"GAMES!D106","v":0},null,{"$f":"GAMES!G106","v":" Block 4 Player 5"},null,null,{"$f":"$E$1270","v":0},{"$f":"$F$1270","v":-1E-3},{"$f":"$G$1270","v":-1E-3}]
[null,{"$f":"GAMES!B110","v":"00:00:00"},{"$f":"GAMES!C110","v":"00:00:00"},{"$f":"GAMES!D110","v":0},null,{"$f":"GAMES!G110","v":" Block 4 Player 6"},null,null,{"$f":"$E$1271","v":0},{"$f":"$F$1271","v":-1E-3},{"$f":"$G$1271","v":-1E-3}]
[null,{"$f":"GAMES!B114","v":"00:00:00"},{"$f":"GAMES!C114","v":"00:00:00"},{"$f":"GAMES!D114","v":0},null,{"$f":"GAMES!G114","v":" Block 4 Player 7"},null,null,{"$f":"$E$1272","v":0},{"$f":"$F$1272","v":-1E-3},{"$f":"$G$1272","v":-1E-3}]
[null,{"$f":"GAMES!B118","v":"00:00:00"},{"$f":"GAMES!C118","v":"00:00:00"},{"$f":"GAMES!D118","v":"--"},null,{"$f":"GAMES!G118","v":" Bye "},null,null,{"$f":"$E$1273","v":0},{"$f":"$F$1273","v":-1E-3},{"$f":"$G$1273","v":-1E-3}]
[null,{"$f":"GAMES!B122","v":"00:00:00"},{"$f":"GAMES!C122","v":"00:00:00"},{"$f":"GAMES!D122","v":0},null,{"$f":"GAMES!G122","v":" Block 4 Player 2"},null,null,{"$f":"$E$1267","v":0},{"$f":"$F$1267","v":-1E-3},{"$f":"$G$1267","v":-1E-3}]
[]
[null,"PLAYER:",{"$f":"SCORECARD!D521","v":" Block 4 Player 1"},null,null,null,"HANDICAP",{"$f":"SCORECARD!I521","v":0}]
[null,null,null,null,"OPP","PLAYER","OPP","H/CAP"]
[null,null,"OPPONENT",null,"HCP","SCORE","SCORE","PTS"]
[null,{"$f":"SCORECARD!C524","v":" Block 4 Player 2"},null,null,{"$f":"SCORECARD!F524","v":0},{"$f":"SCORECARD!G524","v":-1E-3},{"$f":"SCORECARD!H524","v":-1E-3},{"$f":"IF(NOT(OR(F1267>0,G1267>0)),\"\",IF(HandicapPlay=\"x\",IF(F1267>G1267,10,-10),IF((F1267-G1267>0),(VLOOKUP(OFFSET(H1267,-3,0),(TABLE!WIN),(MATCH(E1267,WINCOL,0)+1))),(VLOOKUP(OFFSET(H1267,-3,0),(TABLE!LOSE),(MATCH(E1267,LOSECOL,0)+1))))))","v":""}]
[null,{"$f":"SCORECARD!C525","v":" Block 4 Player 3"},null,null,{"$f":"SCORECARD!F525","v":0},{"$f":"SCORECARD!G525","v":-1E-3},{"$f":"SCORECARD!H525","v":-1E-3},{"$f":"IF(NOT(OR(F1268>0,G1268>0)),\"\",IF(HandicapPlay=\"x\",IF(F1268>G1268,10,-10),IF((F1268-G1268>0),(VLOOKUP(OFFSET(H1268,-4,0),(TABLE!WIN),(MATCH(E1268,WINCOL,0)+1))),(VLOOKUP(OFFSET(H1268,-4,0),(TABLE!LOSE),(MATCH(E1268,LOSECOL,0)+1))))))","v":""}]
[null,{"$f":"SCORECARD!C526","v":" Block 4 Player 4"},null,null,{"$f":"SCORECARD!F526","v":0},{"$f":"SCORECARD!G526","v":-1E-3},{"$f":"SCORECARD!H526","v":-1E-3},{"$f":"IF(NOT(OR(F1269>0,G1269>0)),\"\",IF(HandicapPlay=\"x\",IF(F1269>G1269,10,-10),IF((F1269-G1269>0),(VLOOKUP(OFFSET(H1269,-5,0),(TABLE!WIN),(MATCH(E1269,WINCOL,0)+1))),(VLOOKUP(OFFSET(H1269,-5,0),(TABLE!LOSE),(MATCH(E1269,LOSECOL,0)+1))))))","v":""}]
[null,{"$f":"SCORECARD!C527","v":" Block 4 Player 5"},null,null,{"$f":"SCORECARD!F527","v":0},{"$f":"SCORECARD!G527","v":-1E-3},{"$f":"SCORECARD!H527","v":-1E-3},{"$f":"IF(NOT(OR(F1270>0,G1270>0)),\"\",IF(HandicapPlay=\"x\",IF(F1270>G1270,10,-10),IF((F1270-G1270>0),(VLOOKUP(OFFSET(H1270,-6,0),(TABLE!WIN),(MATCH(E1270,WINCOL,0)+1))),(VLOOKUP(OFFSET(H1270,-6,0),(TABLE!LOSE),(MATCH(E1270,LOSECOL,0)+1))))))","v":""}]
[null,{"$f":"SCORECARD!C528","v":" Block 4 Player 6"},null,null,{"$f":"SCORECARD!F528","v":0},{"$f":"SCORECARD!G528","v":-1E-3},{"$f":"SCORECARD!H528","v":-1E-3},{"$f":"IF(NOT(OR(F1271>0,G1271>0)),\"\",IF(HandicapPlay=\"x\",IF(F1271>G1271,10,-10),IF((F1271-G1271>0),(VLOOKUP(OFFSET(H1271,-7,0),(TABLE!WIN),(MATCH(E1271,WINCOL,0)+1))),(VLOOKUP(OFFSET(H1271,-7,0),(TABLE!LOSE),(MATCH(E1271,LOSECOL,0)+1))))))","v":""}]
[null,{"$f":"SCORECARD!C529","v":" Block 4 Player 7"},null,null,{"$f":"SCORECARD!F529","v":0},{"$f":"SCORECARD!G529","v":-1E-3},{"$f":"SCORECARD!H529","v":-1E-3},{"$f":"IF(NOT(OR(F1272>0,G1272>0)),\"\",IF(HandicapPlay=\"x\",IF(F1272>G1272,10,-10),IF((F1272-G1272>0),(VLOOKUP(OFFSET(H1272,-8,0),(TABLE!WIN),(MATCH(E1272,WINCOL,0)+1))),(VLOOKUP(OFFSET(H1272,-8,0),(TABLE!LOSE),(MATCH(E1272,LOSECOL,0)+1))))))","v":""}]
[null,{"$f":"SCORECARD!C530","v":" Bye "},null,null,{"$f":"SCORECARD!F530","v":0},{"$f":"SCORECARD!G530","v":-1E-3},{"$f":"SCORECARD!H530","v":-1E-3},{"$f":"IF(NOT(OR(F1273>0,G1273>0)),\"\",IF(HandicapPlay=\"x\",IF(F1273>G1273,10,-10),IF((F1273-G1273>0),(VLOOKUP(OFFSET(H1273,-9,0),(TABLE!WIN),(MATCH(E1273,WINCOL,0)+1))),(VLOOKUP(OFFSET(H1273,-9,0),(TABLE!LOSE),(MATCH(E1273,LOSECOL,0)+1))))))","v":""}]
[null,{"$f":"SCORECARD!C531","v":0},null,null,{"$f":"SCORECARD!F531","v":" "},{"$f":"SCORECARD!G531","v":0},{"$f":"SCORECARD!H531","v":0},{"$f":"IF(NOT(OR(F1274>0,G1274>0)),\"\",(IF((F1274-G1274>0),(VLOOKUP(H$1264,(TABLE!WIN),(E1274*2))),(VLOOKUP(H$1264,(TABLE!LOSE),(E1274*2))))))","v":""}]
[null,{"$f":"SCORECARD!C532","v":0},null,null,{"$f":"SCORECARD!F532","v":" "},{"$f":"SCORECARD!G532","v":0},{"$f":"SCORECARD!H532","v":0},{"$f":"IF(NOT(OR(F1275>0,G1275>0)),\"\",(IF((F1275-G1275>0),(VLOOKUP(H$1264,(TABLE!WIN),(E1275*2))),(VLOOKUP(H$1264,(TABLE!LOSE),(E1275*2))))))","v":""}]
[null,{"$f":"SCORECARD!C533","v":0},null,null,{"$f":"SCORECARD!F533","v":" "},{"$f":"SCORECARD!G533","v":0},{"$f":"SCORECARD!H533","v":0},{"$f":"IF(NOT(OR(F1276>0,G1276>0)),\"\",(IF((F1276-G1276>0),(VLOOKUP(H$1264,(TABLE!WIN),(E1276*2))),(VLOOKUP(H$1264,(TABLE!LOSE),(E1276*2))))))","v":""}]
[null,{"$f":"SCORECARD!C534","v":0},null,null,{"$f":"SCORECARD!F534","v":" "},{"$f":"SCORECARD!G534","v":0},{"$f":"SCORECARD!H534","v":0},{"$f":"IF(NOT(OR(F1277>0,G1277>0)),\"\",(IF((F1277-G1277>0),(VLOOKUP(H$1264,(TABLE!WIN),(E1277*2))),(VLOOKUP(H$1264,(TABLE!LOSE),(E1277*2))))))","v":""}]
[null,{"$f":"SCORECARD!C535","v":0},null,null,{"$f":"SCORECARD!F535","v":" "},{"$f":"SCORECARD!G535","v":0},{"$f":"SCORECARD!H535","v":0},{"$f":"IF(NOT(OR(F1278>0,G1278>0)),\"\",(IF((F1278-G1278>0),(VLOOKUP(H$1264,(TABLE!WIN),(E1278*2))),(VLOOKUP(H$1264,(TABLE!LOSE),(E1278*2))))))","v":""}]
[null,{"$f":"SCORECARD!C536","v":0},null,null,{"$f":"SCORECARD!F536","v":" "},{"$f":"SCORECARD!G536","v":0},{"$f":"SCORECARD!H536","v":0},{"$f":"IF(NOT(OR(F1279>0,G1279>0)),\"\",(IF((F1279-G1279>0),(VLOOKUP(H$1264,(TABLE!WIN),(E1279*2))),(VLOOKUP(H$1264,(TABLE!LOSE),(E1279*2))))))","v":""}]
[null,{"$f":"SCORECARD!C537","v":0},null,null,{"$f":"SCORECARD!F537","v":" "},{"$f":"SCORECARD!G537","v":0},{"$f":"SCORECARD!H537","v":0},{"$f":"IF(NOT(OR(F1280>0,G1280>0)),\"\",(IF((F1280-G1280>0),(VLOOKUP(H$1264,(TABLE!WIN),(E1280*2))),(VLOOKUP(H$1264,(TABLE!LOSE),(E1280*2))))))","v":""}]
[null,{"$f":"SCORECARD!C538","v":0},null,null,{"$f":"SCORECARD!F538","v":" "},{"$f":"SCORECARD!G538","v":0},{"$f":"SCORECARD!H538","v":0},{"$f":"IF(NOT(OR(F1281>0,G1281>0)),\"\",(IF((F1281-G1281>0),(VLOOKUP(H$1264,(TABLE!WIN),(E1281*2))),(VLOOKUP(H$1264,(TABLE!LOSE),(E1281*2))))))","v":""}]
[null,{"$f":"SCORECARD!C539","v":0},null,null,{"$f":"SCORECARD!F539","v":" "},{"$f":"SCORECARD!G539","v":0},{"$f":"SCORECARD!H539","v":0},{"$f":"IF(NOT(OR(F1282>0,G1282>0)),\"\",(IF((F1282-G1282>0),(VLOOKUP(H$1264,(TABLE!WIN),(E1282*2))),(VLOOKUP(H$1264,(TABLE!LOSE),(E1282*2))))))","v":""}]
[]
[null,null,null,null,null,null,"Handicap adjustment points total   ",{"$f":"SUM(H1267:H1283)","v":0}]
[]
[]
[]
[]
[]
[]
[]
[]
[]
[]
[]
[]
[{"$f":"note1","v":"Time limit 2.5 hours, Turn After Bell (61.1.6). Quadway hoops (3 11/16\"), Dawson International balls"}]
[{"$f":"note2","v":"Games may start early. Please be at the venue at least 30 minutes earlier than the scheduled start time."}]
[{"$f":"note3","v":"Entry Fee $40 will be invoiced by email. Please pay by EFT using the invoice No. as reference."}]
[{"$f":"note4","v":"Players please assist with setting and clearing courts."}]
[null,null,null,null,{"$f":"BLOCK!F99","v":" Block 4 Player 2"}]
[null,null,null,null,{"$f":"BLOCK!N95","v":"Tournament"}]
[null,null,null,null,{"$f":"BLOCK!J97","v":"Singles"}]
[null,null,null,null,{"$f":"BLOCK!B99","v":"BLOCK 4"}]
[]
[null,null,null,null,"BLOCK PLAY SCHEDULE"]
[null,"TIME","DAY","COURT",null,"OPPONENT",null,null,"Handicap","PS","OS"]
[null,{"$f":"GAMES!B99","v":"00:00:00"},{"$f":"GAMES!C99","v":"00:00:00"},{"$f":"GAMES!D99","v":0},null,{"$f":"GAMES!G99","v":" Block 4 Player 4"},null,null,{"$f":"$E$1321","v":0},{"$f":"$F$1321","v":-1E-3},{"$f":"$G$1321","v":-1E-3}]
[null,{"$f":"GAMES!B104","v":"00:00:00"},{"$f":"GAMES!C104","v":"00:00:00"},{"$f":"GAMES!D104","v":0},null,{"$f":"GAMES!G104","v":" Block 4 Player 6"},null,null,{"$f":"$E$1323","v":0},{"$f":"$F$1323","v":-1E-3},{"$f":"$G$1323","v":-1E-3}]
[null,{"$f":"GAMES!B109","v":"00:00:00"},{"$f":"GAMES!C109","v":"00:00:00"},{"$f":"GAMES!D109","v":"--"},null,{"$f":"GAMES!G109","v":" Bye "},null,null,{"$f":"$E$1325","v":0},{"$f":"$F$1325","v":-1E-3},{"$f":"$G$1325","v":-1E-3}]
[null,{"$f":"GAMES!B113","v":"00:00:00"},{"$f":"GAMES!C113","v":"00:00:00"},{"$f":"GAMES!D113","v":0},null,{"$f":"GAMES!E113","v":" Block 4 Player 3"},null,null,{"$f":"$E$1320","v":0},{"$f":"$F$1320","v":-1E-3},{"$f":"$G$1320","v":-1E-3}]
[null,{"$f":"GAMES!B116","v":"00:00:00"},{"$f":"GAMES!C116","v":"00:00:00"},{"$f":"GAMES!D116","v":0},null,{"$f":"GAMES!E116","v":" Block 4 Player 5"},null,null,{"$f":"$E$1322","v":0},{"$f":"$F$1322","v":-1E-3},{"$f":"$G$1322","v":-1E-3}]
[null,{"$f":"GAMES!B119","v":"00:00:00"},{"$f":"GAMES!C119","v":"00:00:00"},{"$f":"GAMES!D119","v":0},null,{"$f":"GAMES!E119","v":" Block 4 Player 7"},null,null,{"$f":"$E$1324","v":0},{"$f":"$F$1324","v":-1E-3},{"$f":"$G$1324","v":-1E-3}]
[null,{"$f":"GAMES!B122","v":"00:00:00"},{"$f":"GAMES!C122","v":"00:00:00"},{"$f":"GAMES!D122","v":0},null,{"$f":"GAMES!E122","v":" Block 4 Player 1"},null,null,{"$f":"$E$1319","v":0},{"$f":"$F$1319","v":-1E-3},{"$f":"$G$1319","v":-1E-3}]
[]
[null,"PLAYER:",{"$f":"SCORECARD!D541","v":" Block 4 Player 2"},null,null,null,"HANDICAP",{"$f":"SCORECARD!I541","v":0}]
[null,null,null,null,"OPP","PLAYER","OPP","H/CAP"]
[null,null,"OPPONENT",null,"HCP","SCORE","SCORE","PTS"]
[null,{"$f":"SCORECARD!C544","v":" Block 4 Player 1"},null,null,{"$f":"SCORECARD!F544","v":0},{"$f":"SCORECARD!G544","v":-1E-3},{"$f":"SCORECARD!H544","v":-1E-3},{"$f":"IF(NOT(OR(F1319>0,G1319>0)),\"\",IF(HandicapPlay=\"x\",IF(F1319>G1319,10,-10),IF((F1319-G1319>0),(VLOOKUP(OFFSET(H1319,-3,0),(TABLE!WIN),(MATCH(E1319,WINCOL,0)+1))),(VLOOKUP(OFFSET(H1319,-3,0),(TABLE!LOSE),(MATCH(E1319,LOSECOL,0)+1))))))","v":""}]
[null,{"$f":"SCORECARD!C545","v":" Block 4 Player 3"},null,null,{"$f":"SCORECARD!F545","v":0},{"$f":"SCORECARD!G545","v":-1E-3},{"$f":"SCORECARD!H545","v":-1E-3},{"$f":"IF(NOT(OR(F1320>0,G1320>0)),\"\",IF(HandicapPlay=\"x\",IF(F1320>G1320,10,-10),IF((F1320-G1320>0),(VLOOKUP(OFFSET(H1320,-4,0),(TABLE!WIN),(MATCH(E1320,WINCOL,0)+1))),(VLOOKUP(OFFSET(H1320,-4,0),(TABLE!LOSE),(MATCH(E1320,LOSECOL,0)+1))))))","v":""}]
[null,{"$f":"SCORECARD!C546","v":" Block 4 Player 4"},null,null,{"$f":"SCORECARD!F546","v":0},{"$f":"SCORECARD!G546","v":-1E-3},{"$f":"SCORECARD!H546","v":-1E-3},{"$f":"IF(NOT(OR(F1321>0,G1321>0)),\"\",IF(HandicapPlay=\"x\",IF(F1321>G1321,10,-10),IF((F1321-G1321>0),(VLOOKUP(OFFSET(H1321,-5,0),(TABLE!WIN),(MATCH(E1321,WINCOL,0)+1))),(VLOOKUP(OFFSET(H1321,-5,0),(TABLE!LOSE),(MATCH(E1321,LOSECOL,0)+1))))))","v":""}]
[null,{"$f":"SCORECARD!C547","v":" Block 4 Player 5"},null,null,{"$f":"SCORECARD!F547","v":0},{"$f":"SCORECARD!G547","v":-1E-3},{"$f":"SCORECARD!H547","v":-1E-3},{"$f":"IF(NOT(OR(F1322>0,G1322>0)),\"\",IF(HandicapPlay=\"x\",IF(F1322>G1322,10,-10),IF((F1322-G1322>0),(VLOOKUP(OFFSET(H1322,-6,0),(TABLE!WIN),(MATCH(E1322,WINCOL,0)+1))),(VLOOKUP(OFFSET(H1322,-6,0),(TABLE!LOSE),(MATCH(E1322,LOSECOL,0)+1))))))","v":""}]
[null,{"$f":"SCORECARD!C548","v":" Block 4 Player 6"},null,null,{"$f":"SCORECARD!F548","v":0},{"$f":"SCORECARD!G548","v":-1E-3},{"$f":"SCORECARD!H548","v":-1E-3},{"$f":"IF(NOT(OR(F1323>0,G1323>0)),\"\",IF(HandicapPlay=\"x\",IF(F1323>G1323,10,-10),IF((F1323-G1323>0),(VLOOKUP(OFFSET(H1323,-7,0),(TABLE!WIN),(MATCH(E1323,WINCOL,0)+1))),(VLOOKUP(OFFSET(H1323,-7,0),(TABLE!LOSE),(MATCH(E1323,LOSECOL,0)+1))))))","v":""}]
[null,{"$f":"SCORECARD!C549","v":" Block 4 Player 7"},null,null,{"$f":"SCORECARD!F549","v":0},{"$f":"SCORECARD!G549","v":-1E-3},{"$f":"SCORECARD!H549","v":-1E-3},{"$f":"IF(NOT(OR(F1324>0,G1324>0)),\"\",IF(HandicapPlay=\"x\",IF(F1324>G1324,10,-10),IF((F1324-G1324>0),(VLOOKUP(OFFSET(H1324,-8,0),(TABLE!WIN),(MATCH(E1324,WINCOL,0)+1))),(VLOOKUP(OFFSET(H1324,-8,0),(TABLE!LOSE),(MATCH(E1324,LOSECOL,0)+1))))))","v":""}]
[null,{"$f":"SCORECARD!C550","v":" Bye "},null,null,{"$f":"SCORECARD!F550","v":0},{"$f":"SCORECARD!G550","v":-1E-3},{"$f":"SCORECARD!H550","v":-1E-3},{"$f":"IF(NOT(OR(F1325>0,G1325>0)),\"\",IF(HandicapPlay=\"x\",IF(F1325>G1325,10,-10),IF((F1325-G1325>0),(VLOOKUP(OFFSET(H1325,-9,0),(TABLE!WIN),(MATCH(E1325,WINCOL,0)+1))),(VLOOKUP(OFFSET(H1325,-9,0),(TABLE!LOSE),(MATCH(E1325,LOSECOL,0)+1))))))","v":""}]
[null,{"$f":"SCORECARD!C551","v":0},null,null,{"$f":"SCORECARD!F551","v":" "},{"$f":"SCORECARD!G551","v":0},{"$f":"SCORECARD!H551","v":0},{"$f":"IF(NOT(OR(F1326>0,G1326>0)),\"\",(IF((F1326-G1326>0),(VLOOKUP(H$1316,(TABLE!WIN),(E1326*2))),(VLOOKUP(H$1316,(TABLE!LOSE),(E1326*2))))))","v":""}]
[null,{"$f":"SCORECARD!C552","v":0},null,null,{"$f":"SCORECARD!F552","v":" "},{"$f":"SCORECARD!G552","v":0},{"$f":"SCORECARD!H552","v":0},{"$f":"IF(NOT(OR(F1327>0,G1327>0)),\"\",(IF((F1327-G1327>0),(VLOOKUP(H$1316,(TABLE!WIN),(E1327*2))),(VLOOKUP(H$1316,(TABLE!LOSE),(E1327*2))))))","v":""}]
[null,{"$f":"SCORECARD!C553","v":0},null,null,{"$f":"SCORECARD!F553","v":" "},{"$f":"SCORECARD!G553","v":0},{"$f":"SCORECARD!H553","v":0},{"$f":"IF(NOT(OR(F1328>0,G1328>0)),\"\",(IF((F1328-G1328>0),(VLOOKUP(H$1316,(TABLE!WIN),(E1328*2))),(VLOOKUP(H$1316,(TABLE!LOSE),(E1328*2))))))","v":""}]
[null,{"$f":"SCORECARD!C554","v":0},null,null,{"$f":"SCORECARD!F554","v":" "},{"$f":"SCORECARD!G554","v":0},{"$f":"SCORECARD!H554","v":0},{"$f":"IF(NOT(OR(F1329>0,G1329>0)),\"\",(IF((F1329-G1329>0),(VLOOKUP(H$1316,(TABLE!WIN),(E1329*2))),(VLOOKUP(H$1316,(TABLE!LOSE),(E1329*2))))))","v":""}]
[null,{"$f":"SCORECARD!C555","v":0},null,null,{"$f":"SCORECARD!F555","v":" "},{"$f":"SCORECARD!G555","v":0},{"$f":"SCORECARD!H555","v":0},{"$f":"IF(NOT(OR(F1330>0,G1330>0)),\"\",(IF((F1330-G1330>0),(VLOOKUP(H$1316,(TABLE!WIN),(E1330*2))),(VLOOKUP(H$1316,(TABLE!LOSE),(E1330*2))))))","v":""}]
[null,{"$f":"SCORECARD!C556","v":0},null,null,{"$f":"SCORECARD!F556","v":" "},{"$f":"SCORECARD!G556","v":0},{"$f":"SCORECARD!H556","v":0},{"$f":"IF(NOT(OR(F1331>0,G1331>0)),\"\",(IF((F1331-G1331>0),(VLOOKUP(H$1316,(TABLE!WIN),(E1331*2))),(VLOOKUP(H$1316,(TABLE!LOSE),(E1331*2))))))","v":""}]
[null,{"$f":"SCORECARD!C557","v":0},null,null,{"$f":"SCORECARD!F557","v":" "},{"$f":"SCORECARD!G557","v":0},{"$f":"SCORECARD!H557","v":0},{"$f":"IF(NOT(OR(F1332>0,G1332>0)),\"\",(IF((F1332-G1332>0),(VLOOKUP(H$1316,(TABLE!WIN),(E1332*2))),(VLOOKUP(H$1316,(TABLE!LOSE),(E1332*2))))))","v":""}]
[null,{"$f":"SCORECARD!C558","v":0},null,null,{"$f":"SCORECARD!F558","v":" "},{"$f":"SCORECARD!G558","v":0},{"$f":"SCORECARD!H558","v":0},{"$f":"IF(NOT(OR(F1333>0,G1333>0)),\"\",(IF((F1333-G1333>0),(VLOOKUP(H$1316,(TABLE!WIN),(E1333*2))),(VLOOKUP(H$1316,(TABLE!LOSE),(E1333*2))))))","v":""}]
[null,{"$f":"SCORECARD!C559","v":0},null,null,{"$f":"SCORECARD!F559","v":" "},{"$f":"SCORECARD!G559","v":0},{"$f":"SCORECARD!H559","v":0},{"$f":"IF(NOT(OR(F1334>0,G1334>0)),\"\",(IF((F1334-G1334>0),(VLOOKUP(H$1316,(TABLE!WIN),(E1334*2))),(VLOOKUP(H$1316,(TABLE!LOSE),(E1334*2))))))","v":""}]
[]
[null,null,null,null,null,null,"Handicap adjustment points total   ",{"$f":"SUM(H1319:H1334)","v":0}]
[]
[]
[]
[]
[]
[]
[]
[]
[]
[]
[]
[]
[{"$f":"note1","v":"Time limit 2.5 hours, Turn After Bell (61.1.6). Quadway hoops (3 11/16\"), Dawson International balls"}]
[{"$f":"note2","v":"Games may start early. Please be at the venue at least 30 minutes earlier than the scheduled start time."}]
[{"$f":"note3","v":"Entry Fee $40 will be invoiced by email. Please pay by EFT using the invoice No. as reference."}]
[{"$f":"note4","v":"Players please assist with setting and clearing courts."}]
[null,null,null,null,{"$f":"BLOCK!I99","v":" Block 4 Player 3"}]
[null,null,null,null,{"$f":"BLOCK!N95","v":"Tournament"}]
[null,null,null,null,{"$f":"BLOCK!J97","v":"Singles"}]
[null,null,null,null,{"$f":"BLOCK!B99","v":"BLOCK 4"}]
[]
[null,null,null,null,"BLOCK PLAY SCHEDULE"]
[null,"TIME","DAY","COURT",null,"OPPONENT",null,null,"Handicap","PS","OS"]
[null,{"$f":"GAMES!B98","v":"00:00:00"},{"$f":"GAMES!C98","v":"00:00:00"},{"$f":"GAMES!D98","v":0},null,{"$f":"GAMES!E98","v":" Block 4 Player 1"},null,null,{"$f":"$E$1371","v":0},{"$f":"$F$1371","v":-1E-3},{"$f":"$G$1371","v":-1E-3}]
[null,{"$f":"GAMES!B103","v":"00:00:00"},{"$f":"GAMES!C103","v":"00:00:00"},{"$f":"GAMES!D103","v":0},null,{"$f":"GAMES!G103","v":" Block 4 Player 5"},null,null,{"$f":"$E$1374","v":0},{"$f":"$F$1374","v":-1E-3},{"$f":"$G$1374","v":-1E-3}]
[null,{"$f":"GAMES!B108","v":"00:00:00"},{"$f":"GAMES!C108","v":"00:00:00"},{"$f":"GAMES!D108","v":0},null,{"$f":"GAMES!G108","v":" Block 4 Player 7"},null,null,{"$f":"$E$1376","v":0},{"$f":"$F$1376","v":-1E-3},{"$f":"$G$1376","v":-1E-3}]
[null,{"$f":"GAMES!B113","v":"00:00:00"},{"$f":"GAMES!C113","v":"00:00:00"},{"$f":"GAMES!D113","v":0},null,{"$f":"GAMES!G113","v":" Block 4 Player 2"},null,null,{"$f":"$E$1372","v":0},{"$f":"$F$1372","v":-1E-3},{"$f":"$G$1372","v":-1E-3}]
[null,{"$f":"GAMES!B117","v":"00:00:00"},{"$f":"GAMES!C117","v":"00:00:00"},{"$f":"GAMES!D117","v":0},null,{"$f":"GAMES!E117","v":" Block 4 Player 4"},null,null,{"$f":"$E$1373","v":0},{"$f":"$F$1373","v":-1E-3},{"$f":"$G$1373","v":-1E-3}]
[null,{"$f":"GAMES!B120","v":"00:00:00"},{"$f":"GAMES!C120","v":"00:00:00"},{"$f":"GAMES!D120","v":0},null,{"$f":"GAMES!E120","v":" Block 4 Player 6"},null,null,{"$f":"$E$1375","v":0},{"$f":"$F$1375","v":-1E-3},{"$f":"$G$1375","v":-1E-3}]
[null,{"$f":"GAMES!B123","v":"00:00:00"},{"$f":"GAMES!C123","v":"00:00:00"},{"$f":"GAMES!D123","v":"--"},null,{"$f":"GAMES!E123","v":" Bye "},null,null,{"$f":"$E$1377","v":0},{"$f":"$F$1377","v":-1E-3},{"$f":"$G$1377","v":-1E-3}]
[]
[null,"PLAYER:",{"$f":"SCORECARD!D564","v":" Block 4 Player 3"},null,null,null,"HANDICAP",{"$f":"SCORECARD!I564","v":0}]
[null,null,null,null,"OPP","PLAYER","OPP","H/CAP"]
[null,null,"OPPONENT",null,"HCP","SCORE","SCORE","PTS"]
[null,{"$f":"SCORECARD!C567","v":" Block 4 Player 1"},null,null,{"$f":"SCORECARD!F567","v":0},{"$f":"SCORECARD!G567","v":-1E-3},{"$f":"SCORECARD!H567","v":-1E-3},{"$f":"IF(NOT(OR(F1371>0,G1371>0)),\"\",IF(HandicapPlay=\"x\",IF(F1371>G1371,10,-10),IF((F1371-G1371>0),(VLOOKUP(OFFSET(H1371,-3,0),(TABLE!WIN),(MATCH(E1371,WINCOL,0)+1))),(VLOOKUP(OFFSET(H1371,-3,0),(TABLE!LOSE),(MATCH(E1371,LOSECOL,0)+1))))))","v":""}]
[null,{"$f":"SCORECARD!C568","v":" Block 4 Player 2"},null,null,{"$f":"SCORECARD!F568","v":0},{"$f":"SCORECARD!G568","v":-1E-3},{"$f":"SCORECARD!H568","v":-1E-3},{"$f":"IF(NOT(OR(F1372>0,G1372>0)),\"\",IF(HandicapPlay=\"x\",IF(F1372>G1372,10,-10),IF((F1372-G1372>0),(VLOOKUP(OFFSET(H1372,-4,0),(TABLE!WIN),(MATCH(E1372,WINCOL,0)+1))),(VLOOKUP(OFFSET(H1372,-4,0),(TABLE!LOSE),(MATCH(E1372,LOSECOL,0)+1))))))","v":""}]
[null,{"$f":"SCORECARD!C569","v":" Block 4 Player 4"},null,null,{"$f":"SCORECARD!F569","v":0},{"$f":"SCORECARD!G569","v":-1E-3},{"$f":"SCORECARD!H569","v":-1E-3},{"$f":"IF(NOT(OR(F1373>0,G1373>0)),\"\",IF(HandicapPlay=\"x\",IF(F1373>G1373,10,-10),IF((F1373-G1373>0),(VLOOKUP(OFFSET(H1373,-5,0),(TABLE!WIN),(MATCH(E1373,WINCOL,0)+1))),(VLOOKUP(OFFSET(H1373,-5,0),(TABLE!LOSE),(MATCH(E1373,LOSECOL,0)+1))))))","v":""}]
[null,{"$f":"SCORECARD!C570","v":" Block 4 Player 5"},null,null,{"$f":"SCORECARD!F570","v":0},{"$f":"SCORECARD!G570","v":-1E-3},{"$f":"SCORECARD!H570","v":-1E-3},{"$f":"IF(NOT(OR(F1374>0,G1374>0)),\"\",IF(HandicapPlay=\"x\",IF(F1374>G1374,10,-10),IF((F1374-G1374>0),(VLOOKUP(OFFSET(H1374,-6,0),(TABLE!WIN),(MATCH(E1374,WINCOL,0)+1))),(VLOOKUP(OFFSET(H1374,-6,0),(TABLE!LOSE),(MATCH(E1374,LOSECOL,0)+1))))))","v":""}]
[null,{"$f":"SCORECARD!C571","v":" Block 4 Player 6"},null,null,{"$f":"SCORECARD!F571","v":0},{"$f":"SCORECARD!G571","v":-1E-3},{"$f":"SCORECARD!H571","v":-1E-3},{"$f":"IF(NOT(OR(F1375>0,G1375>0)),\"\",IF(HandicapPlay=\"x\",IF(F1375>G1375,10,-10),IF((F1375-G1375>0),(VLOOKUP(OFFSET(H1375,-7,0),(TABLE!WIN),(MATCH(E1375,WINCOL,0)+1))),(VLOOKUP(OFFSET(H1375,-7,0),(TABLE!LOSE),(MATCH(E1375,LOSECOL,0)+1))))))","v":""}]
[null,{"$f":"SCORECARD!C572","v":" Block 4 Player 7"},null,null,{"$f":"SCORECARD!F572","v":0},{"$f":"SCORECARD!G572","v":-1E-3},{"$f":"SCORECARD!H572","v":-1E-3},{"$f":"IF(NOT(OR(F1376>0,G1376>0)),\"\",IF(HandicapPlay=\"x\",IF(F1376>G1376,10,-10),IF((F1376-G1376>0),(VLOOKUP(OFFSET(H1376,-8,0),(TABLE!WIN),(MATCH(E1376,WINCOL,0)+1))),(VLOOKUP(OFFSET(H1376,-8,0),(TABLE!LOSE),(MATCH(E1376,LOSECOL,0)+1))))))","v":""}]
[null,{"$f":"SCORECARD!C573","v":" Bye "},null,null,{"$f":"SCORECARD!F573","v":0},{"$f":"SCORECARD!G573","v":-1E-3},{"$f":"SCORECARD!H573","v":-1E-3},{"$f":"IF(NOT(OR(F1377>0,G1377>0)),\"\",IF(HandicapPlay=\"x\",IF(F1377>G1377,10,-10),IF((F1377-G1377>0),(VLOOKUP(OFFSET(H1377,-9,0),(TABLE!WIN),(MATCH(E1377,WINCOL,0)+1))),(VLOOKUP(OFFSET(H1377,-9,0),(TABLE!LOSE),(MATCH(E1377,LOSECOL,0)+1))))))","v":""}]
[null,{"$f":"SCORECARD!C574","v":0},null,null,{"$f":"SCORECARD!F574","v":" "},{"$f":"SCORECARD!G574","v":0},{"$f":"SCORECARD!H574","v":0},{"$f":"IF(NOT(OR(F1378>0,G1378>0)),\"\",(IF((F1378-G1378>0),(VLOOKUP(H$1368,(TABLE!WIN),(E1378*2))),(VLOOKUP(H$1368,(TABLE!LOSE),(E1378*2))))))","v":""}]
[null,{"$f":"SCORECARD!C575","v":0},null,null,{"$f":"SCORECARD!F575","v":" "},{"$f":"SCORECARD!G575","v":0},{"$f":"SCORECARD!H575","v":0},{"$f":"IF(NOT(OR(F1379>0,G1379>0)),\"\",(IF((F1379-G1379>0),(VLOOKUP(H$1368,(TABLE!WIN),(E1379*2))),(VLOOKUP(H$1368,(TABLE!LOSE),(E1379*2))))))","v":""}]
[null,{"$f":"SCORECARD!C576","v":0},null,null,{"$f":"SCORECARD!F576","v":" "},{"$f":"SCORECARD!G576","v":0},{"$f":"SCORECARD!H576","v":0},{"$f":"IF(NOT(OR(F1380>0,G1380>0)),\"\",(IF((F1380-G1380>0),(VLOOKUP(H$1368,(TABLE!WIN),(E1380*2))),(VLOOKUP(H$1368,(TABLE!LOSE),(E1380*2))))))","v":""}]
[null,{"$f":"SCORECARD!C577","v":0},null,null,{"$f":"SCORECARD!F577","v":" "},{"$f":"SCORECARD!G577","v":0},{"$f":"SCORECARD!H577","v":0},{"$f":"IF(NOT(OR(F1381>0,G1381>0)),\"\",(IF((F1381-G1381>0),(VLOOKUP(H$1368,(TABLE!WIN),(E1381*2))),(VLOOKUP(H$1368,(TABLE!LOSE),(E1381*2))))))","v":""}]
[null,{"$f":"SCORECARD!C578","v":0},null,null,{"$f":"SCORECARD!F578","v":" "},{"$f":"SCORECARD!G578","v":0},{"$f":"SCORECARD!H578","v":0},{"$f":"IF(NOT(OR(F1382>0,G1382>0)),\"\",(IF((F1382-G1382>0),(VLOOKUP(H$1368,(TABLE!WIN),(E1382*2))),(VLOOKUP(H$1368,(TABLE!LOSE),(E1382*2))))))","v":""}]
[null,{"$f":"SCORECARD!C579","v":0},null,null,{"$f":"SCORECARD!F579","v":" "},{"$f":"SCORECARD!G579","v":0},{"$f":"SCORECARD!H579","v":0},{"$f":"IF(NOT(OR(F1383>0,G1383>0)),\"\",(IF((F1383-G1383>0),(VLOOKUP(H$1368,(TABLE!WIN),(E1383*2))),(VLOOKUP(H$1368,(TABLE!LOSE),(E1383*2))))))","v":""}]
[null,{"$f":"SCORECARD!C580","v":0},null,null,{"$f":"SCORECARD!F580","v":" "},{"$f":"SCORECARD!G580","v":0},{"$f":"SCORECARD!H580","v":0},{"$f":"IF(NOT(OR(F1384>0,G1384>0)),\"\",(IF((F1384-G1384>0),(VLOOKUP(H$1368,(TABLE!WIN),(E1384*2))),(VLOOKUP(H$1368,(TABLE!LOSE),(E1384*2))))))","v":""}]
[null,{"$f":"SCORECARD!C581","v":0},null,null,{"$f":"SCORECARD!F581","v":" "},{"$f":"SCORECARD!G581","v":0},{"$f":"SCORECARD!H581","v":0},{"$f":"IF(NOT(OR(F1385>0,G1385>0)),\"\",(IF((F1385-G1385>0),(VLOOKUP(H$1368,(TABLE!WIN),(E1385*2))),(VLOOKUP(H$1368,(TABLE!LOSE),(E1385*2))))))","v":""}]
[null,{"$f":"SCORECARD!C582","v":0},null,null,{"$f":"SCORECARD!F582","v":" "},{"$f":"SCORECARD!G582","v":0},{"$f":"SCORECARD!H582","v":0},{"$f":"IF(NOT(OR(F1386>0,G1386>0)),\"\",(IF((F1386-G1386>0),(VLOOKUP(H$1368,(TABLE!WIN),(E1386*2))),(VLOOKUP(H$1368,(TABLE!LOSE),(E1386*2))))))","v":""}]
[]
[null,null,null,null,null,null,"Handicap adjustment points total   ",{"$f":"SUM(H1371:H1387)","v":0}]
[]
[]
[]
[]
[]
[]
[]
[]
[]
[]
[]
[]
[{"$f":"note1","v":"Time limit 2.5 hours, Turn After Bell (61.1.6). Quadway hoops (3 11/16\"), Dawson International balls"}]
[{"$f":"note2","v":"Games may start early. Please be at the venue at least 30 minutes earlier than the scheduled start time."}]
[{"$f":"note3","v":"Entry Fee $40 will be invoiced by email. Please pay by EFT using the invoice No. as reference."}]
[{"$f":"note4","v":"Players please assist with setting and clearing courts."}]
[null,null,null,null,{"$f":"BLOCK!L99","v":" Block 4 Player 4"}]
[null,null,null,null,{"$f":"BLOCK!N95","v":"Tournament"}]
[null,null,null,null,{"$f":"BLOCK!J97","v":"Singles"}]
[null,null,null,null,{"$f":"BLOCK!B99","v":"BLOCK 4"}]
[]
[null,null,null,null,"BLOCK PLAY SCHEDULE"]
[null,"TIME","DAY","COURT",null,"OPPONENT",null,null,"Handicap","PS","OS"]
[null,{"$f":"GAMES!B99","v":"00:00:00"},{"$f":"GAMES!C99","v":"00:00:00"},{"$f":"GAMES!D99","v":0},null,{"$f":"GAMES!E99","v":" Block 4 Player 2"},null,null,{"$f":"$E$1424","v":0},{"$f":"$F$1424","v":-1E-3},{"$f":"$G$1424","v":-1E-3}]
[null,{"$f":"GAMES!B102","v":"00:00:00"},{"$f":"GAMES!C102","v":"00:00:00"},{"$f":"GAMES!D102","v":0},null,{"$f":"GAMES!E102","v":" Block 4 Player 1"},null,null,{"$f":"$E$1423","v":0},{"$f":"$F$1423","v":-1E-3},{"$f":"$G$1423","v":-1E-3}]
[null,{"$f":"GAMES!B107","v":"00:00:00"},{"$f":"GAMES!C107","v":"00:00:00"},{"$f":"GAMES!D107","v":0},null,{"$f":"GAMES!G107","v":" Block 4 Player 6"},null,null,{"$f":"$E$1427","v":0},{"$f":"$F$1427","v":-1E-3},{"$f":"$G$1427","v":-1E-3}]
[null,{"$f":"GAMES!B112","v":"00:00:00"},{"$f":"GAMES!C112","v":"00:00:00"},{"$f":"GAMES!D112","v":"--"},null,{"$f":"GAMES!G112","v":" Bye "},null,null,{"$f":"$E$1429","v":0},{"$f":"$F$1429","v":-1E-3},{"$f":"$G$1429","v":-1E-3}]
[null,{"$f":"GAMES!B117","v":"00:00:00"},{"$f":"GAMES!C117","v":"00:00:00"},{"$f":"GAMES!D117","v":0},null,{"$f":"GAMES!G117","v":" Block 4 Player 3"},null,null,{"$f":"$E$1425","v":0},{"$f":"$F$1425","v":-1E-3},{"$f":"$G$1425","v":-1E-3}]
[null,{"$f":"GAMES!B121","v":"00:00:00"},{"$f":"GAMES!C121","v":"00:00:00"},{"$f":"GAMES!D121","v":0},null,{"$f":"GAMES!E121","v":" Block 4 Player 5"},null,null,{"$f":"$E$1426","v":0},{"$f":"$F$1426","v":-1E-3},{"$f":"$G$1426","v":-1E-3}]
[null,{"$f":"GAMES!B124","v":"00:00:00"},{"$f":"GAMES!C124","v":"00:00:00"},{"$f":"GAMES!D124","v":0},null,{"$f":"GAMES!E124","v":" Block 4 Player 7"},null,null,{"$f":"$E$1428","v":0},{"$f":"$F$1428","v":-1E-3},{"$f":"$G$1428","v":-1E-3}]
[]
[null,"PLAYER:",{"$f":"SCORECARD!D584","v":" Block 4 Player 4"},null,null,null,"HANDICAP",{"$f":"SCORECARD!I584","v":0}]
[null,null,null,null,"OPP","PLAYER","OPP","H/CAP"]
[null,null,"OPPONENT",null,"HCP","SCORE","SCORE","PTS"]
[null,{"$f":"SCORECARD!C587","v":" Block 4 Player 1"},null,null,{"$f":"SCORECARD!F587","v":0},{"$f":"SCORECARD!G587","v":-1E-3},{"$f":"SCORECARD!H587","v":-1E-3},{"$f":"IF(NOT(OR(F1423>0,G1423>0)),\"\",IF(HandicapPlay=\"x\",IF(F1423>G1423,10,-10),IF((F1423-G1423>0),(VLOOKUP(OFFSET(H1423,-3,0),(TABLE!WIN),(MATCH(E1423,WINCOL,0)+1))),(VLOOKUP(OFFSET(H1423,-3,0),(TABLE!LOSE),(MATCH(E1423,LOSECOL,0)+1))))))","v":""}]
[null,{"$f":"SCORECARD!C588","v":" Block 4 Player 2"},null,null,{"$f":"SCORECARD!F588","v":0},{"$f":"SCORECARD!G588","v":-1E-3},{"$f":"SCORECARD!H588","v":-1E-3},{"$f":"IF(NOT(OR(F1424>0,G1424>0)),\"\",IF(HandicapPlay=\"x\",IF(F1424>G1424,10,-10),IF((F1424-G1424>0),(VLOOKUP(OFFSET(H1424,-4,0),(TABLE!WIN),(MATCH(E1424,WINCOL,0)+1))),(VLOOKUP(OFFSET(H1424,-4,0),(TABLE!LOSE),(MATCH(E1424,LOSECOL,0)+1))))))","v":""}]
[null,{"$f":"SCORECARD!C589","v":" Block 4 Player 3"},null,null,{"$f":"SCORECARD!F589","v":0},{"$f":"SCORECARD!G589","v":-1E-3},{"$f":"SCORECARD!H589","v":-1E-3},{"$f":"IF(NOT(OR(F1425>0,G1425>0)),\"\",IF(HandicapPlay=\"x\",IF(F1425>G1425,10,-10),IF((F1425-G1425>0),(VLOOKUP(OFFSET(H1425,-5,0),(TABLE!WIN),(MATCH(E1425,WINCOL,0)+1))),(VLOOKUP(OFFSET(H1425,-5,0),(TABLE!LOSE),(MATCH(E1425,LOSECOL,0)+1))))))","v":""}]
[null,{"$f":"SCORECARD!C590","v":" Block 4 Player 5"},null,null,{"$f":"SCORECARD!F590","v":0},{"$f":"SCORECARD!G590","v":-1E-3},{"$f":"SCORECARD!H590","v":-1E-3},{"$f":"IF(NOT(OR(F1426>0,G1426>0)),\"\",IF(HandicapPlay=\"x\",IF(F1426>G1426,10,-10),IF((F1426-G1426>0),(VLOOKUP(OFFSET(H1426,-6,0),(TABLE!WIN),(MATCH(E1426,WINCOL,0)+1))),(VLOOKUP(OFFSET(H1426,-6,0),(TABLE!LOSE),(MATCH(E1426,LOSECOL,0)+1))))))","v":""}]
[null,{"$f":"SCORECARD!C591","v":" Block 4 Player 6"},null,null,{"$f":"SCORECARD!F591","v":0},{"$f":"SCORECARD!G591","v":-1E-3},{"$f":"SCORECARD!H591","v":-1E-3},{"$f":"IF(NOT(OR(F1427>0,G1427>0)),\"\",IF(HandicapPlay=\"x\",IF(F1427>G1427,10,-10),IF((F1427-G1427>0),(VLOOKUP(OFFSET(H1427,-7,0),(TABLE!WIN),(MATCH(E1427,WINCOL,0)+1))),(VLOOKUP(OFFSET(H1427,-7,0),(TABLE!LOSE),(MATCH(E1427,LOSECOL,0)+1))))))","v":""}]
[null,{"$f":"SCORECARD!C592","v":" Block 4 Player 7"},null,null,{"$f":"SCORECARD!F592","v":0},{"$f":"SCORECARD!G592","v":-1E-3},{"$f":"SCORECARD!H592","v":-1E-3},{"$f":"IF(NOT(OR(F1428>0,G1428>0)),\"\",IF(HandicapPlay=\"x\",IF(F1428>G1428,10,-10),IF((F1428-G1428>0),(VLOOKUP(OFFSET(H1428,-8,0),(TABLE!WIN),(MATCH(E1428,WINCOL,0)+1))),(VLOOKUP(OFFSET(H1428,-8,0),(TABLE!LOSE),(MATCH(E1428,LOSECOL,0)+1))))))","v":""}]
[null,{"$f":"SCORECARD!C593","v":" Bye "},null,null,{"$f":"SCORECARD!F593","v":0},{"$f":"SCORECARD!G593","v":-1E-3},{"$f":"SCORECARD!H593","v":-1E-3},{"$f":"IF(NOT(OR(F1429>0,G1429>0)),\"\",IF(HandicapPlay=\"x\",IF(F1429>G1429,10,-10),IF((F1429-G1429>0),(VLOOKUP(OFFSET(H1429,-9,0),(TABLE!WIN),(MATCH(E1429,WINCOL,0)+1))),(VLOOKUP(OFFSET(H1429,-9,0),(TABLE!LOSE),(MATCH(E1429,LOSECOL,0)+1))))))","v":""}]
[null,{"$f":"SCORECARD!C594","v":0},null,null,{"$f":"SCORECARD!F594","v":" "},{"$f":"SCORECARD!G594","v":0},{"$f":"SCORECARD!H594","v":0},{"$f":"IF(NOT(OR(F1430>0,G1430>0)),\"\",(IF((F1430-G1430>0),(VLOOKUP(H$1420,(TABLE!WIN),(E1430*2))),(VLOOKUP(H$1420,(TABLE!LOSE),(E1430*2))))))","v":""}]
[null,{"$f":"SCORECARD!C595","v":0},null,null,{"$f":"SCORECARD!F595","v":" "},{"$f":"SCORECARD!G595","v":0},{"$f":"SCORECARD!H595","v":0},{"$f":"IF(NOT(OR(F1431>0,G1431>0)),\"\",(IF((F1431-G1431>0),(VLOOKUP(H$1420,(TABLE!WIN),(E1431*2))),(VLOOKUP(H$1420,(TABLE!LOSE),(E1431*2))))))","v":""}]
[null,{"$f":"SCORECARD!C596","v":0},null,null,{"$f":"SCORECARD!F596","v":" "},{"$f":"SCORECARD!G596","v":0},{"$f":"SCORECARD!H596","v":0},{"$f":"IF(NOT(OR(F1432>0,G1432>0)),\"\",(IF((F1432-G1432>0),(VLOOKUP(H$1420,(TABLE!WIN),(E1432*2))),(VLOOKUP(H$1420,(TABLE!LOSE),(E1432*2))))))","v":""}]
[null,{"$f":"SCORECARD!C597","v":0},null,null,{"$f":"SCORECARD!F597","v":" "},{"$f":"SCORECARD!G597","v":0},{"$f":"SCORECARD!H597","v":0},{"$f":"IF(NOT(OR(F1433>0,G1433>0)),\"\",(IF((F1433-G1433>0),(VLOOKUP(H$1420,(TABLE!WIN),(E1433*2))),(VLOOKUP(H$1420,(TABLE!LOSE),(E1433*2))))))","v":""}]
[null,{"$f":"SCORECARD!C598","v":0},null,null,{"$f":"SCORECARD!F598","v":" "},{"$f":"SCORECARD!G598","v":0},{"$f":"SCORECARD!H598","v":0},{"$f":"IF(NOT(OR(F1434>0,G1434>0)),\"\",(IF((F1434-G1434>0),(VLOOKUP(H$1420,(TABLE!WIN),(E1434*2))),(VLOOKUP(H$1420,(TABLE!LOSE),(E1434*2))))))","v":""}]
[null,{"$f":"SCORECARD!C599","v":0},null,null,{"$f":"SCORECARD!F599","v":" "},{"$f":"SCORECARD!G599","v":0},{"$f":"SCORECARD!H599","v":0},{"$f":"IF(NOT(OR(F1435>0,G1435>0)),\"\",(IF((F1435-G1435>0),(VLOOKUP(H$1420,(TABLE!WIN),(E1435*2))),(VLOOKUP(H$1420,(TABLE!LOSE),(E1435*2))))))","v":""}]
[null,{"$f":"SCORECARD!C600","v":0},null,null,{"$f":"SCORECARD!F600","v":" "},{"$f":"SCORECARD!G600","v":0},{"$f":"SCORECARD!H600","v":0},{"$f":"IF(NOT(OR(F1436>0,G1436>0)),\"\",(IF((F1436-G1436>0),(VLOOKUP(H$1420,(TABLE!WIN),(E1436*2))),(VLOOKUP(H$1420,(TABLE!LOSE),(E1436*2))))))","v":""}]
[null,{"$f":"SCORECARD!C601","v":0},null,null,{"$f":"SCORECARD!F601","v":" "},{"$f":"SCORECARD!G601","v":0},{"$f":"SCORECARD!H601","v":0},{"$f":"IF(NOT(OR(F1437>0,G1437>0)),\"\",(IF((F1437-G1437>0),(VLOOKUP(H$1420,(TABLE!WIN),(E1437*2))),(VLOOKUP(H$1420,(TABLE!LOSE),(E1437*2))))))","v":""}]
[null,{"$f":"SCORECARD!C602","v":0},null,null,{"$f":"SCORECARD!F602","v":" "},{"$f":"SCORECARD!G602","v":0},{"$f":"SCORECARD!H602","v":0},{"$f":"IF(NOT(OR(F1438>0,G1438>0)),\"\",(IF((F1438-G1438>0),(VLOOKUP(H$1420,(TABLE!WIN),(E1438*2))),(VLOOKUP(H$1420,(TABLE!LOSE),(E1438*2))))))","v":""}]
[]
[null,null,null,null,null,null,"Handicap adjustment points total   ",{"$f":"SUM(H1423:H1439)","v":0}]
[]
[]
[]
[]
[]
[]
[]
[]
[]
[]
[]
[]
[{"$f":"note1","v":"Time limit 2.5 hours, Turn After Bell (61.1.6). Quadway hoops (3 11/16\"), Dawson International balls"}]
[{"$f":"note2","v":"Games may start early. Please be at the venue at least 30 minutes earlier than the scheduled start time."}]
[{"$f":"note3","v":"Entry Fee $40 will be invoiced by email. Please pay by EFT using the invoice No. as reference."}]
[{"$f":"note4","v":"Players please assist with setting and clearing courts."}]
[null,null,null,null,{"$f":"BLOCK!O99","v":" Block 4 Player 5"}]
[null,null,null,null,{"$f":"BLOCK!N95","v":"Tournament"}]
[null,null,null,null,{"$f":"BLOCK!J97","v":"Singles"}]
[null,null,null,null,{"$f":"BLOCK!B99","v":"BLOCK 4"}]
[]
[null,null,null,null,"BLOCK PLAY SCHEDULE"]
[null,"TIME","DAY","COURT",null,"OPPONENT",null,null,"Handicap","PS","OS"]
[null,{"$f":"GAMES!B100","v":"00:00:00"},{"$f":"GAMES!C100","v":"00:00:00"},{"$f":"GAMES!D100","v":"--"},null,{"$f":"GAMES!E100","v":" Bye "},null,null,{"$f":"$E$1481","v":0},{"$f":"$F$1481","v":-1E-3},{"$f":"$G$1481","v":-1E-3}]
[null,{"$f":"GAMES!B103","v":"00:00:00"},{"$f":"GAMES!C103","v":"00:00:00"},{"$f":"GAMES!D103","v":0},null,{"$f":"GAMES!E103","v":" Block 4 Player 3"},null,null,{"$f":"$E$1477","v":0},{"$f":"$F$1477","v":-1E-3},{"$f":"$G$1477","v":-1E-3}]
[null,{"$f":"GAMES!B106","v":"00:00:00"},{"$f":"GAMES!C106","v":"00:00:00"},{"$f":"GAMES!D106","v":0},null,{"$f":"GAMES!E106","v":" Block 4 Player 1"},null,null,{"$f":"$E$1475","v":0},{"$f":"$F$1475","v":-1E-3},{"$f":"$G$1475","v":-1E-3}]
[null,{"$f":"GAMES!B111","v":"00:00:00"},{"$f":"GAMES!C111","v":"00:00:00"},{"$f":"GAMES!D111","v":0},null,{"$f":"GAMES!G111","v":" Block 4 Player 7"},null,null,{"$f":"$E$1480","v":0},{"$f":"$F$1480","v":-1E-3},{"$f":"$G$1480","v":-1E-3}]
[null,{"$f":"GAMES!B116","v":"00:00:00"},{"$f":"GAMES!C116","v":"00:00:00"},{"$f":"GAMES!D116","v":0},null,{"$f":"GAMES!G116","v":" Block 4 Player 2"},null,null,{"$f":"$E$1476","v":0},{"$f":"$F$1476","v":-1E-3},{"$f":"$G$1476","v":-1E-3}]
[null,{"$f":"GAMES!B121","v":"00:00:00"},{"$f":"GAMES!C121","v":"00:00:00"},{"$f":"GAMES!D121","v":0},null,{"$f":"GAMES!G121","v":" Block 4 Player 4"},null,null,{"$f":"$E$1478","v":0},{"$f":"$F$1478","v":-1E-3},{"$f":"$G$1478","v":-1E-3}]
[null,{"$f":"GAMES!B125","v":"00:00:00"},{"$f":"GAMES!C125","v":"00:00:00"},{"$f":"GAMES!D125","v":0},null,{"$f":"GAMES!E125","v":" Block 4 Player 6"},null,null,{"$f":"$E$1479","v":0},{"$f":"$F$1479","v":-1E-3},{"$f":"$G$1479","v":-1E-3}]
[]
[null,"PLAYER:",{"$f":"SCORECARD!D607","v":" Block 4 Player 5"},null,null,null,"HANDICAP",{"$f":"SCORECARD!I607","v":0}]
[null,null,null,null,"OPP","PLAYER","OPP","H/CAP"]
[null,null,"OPPONENT",null,"HCP","SCORE","SCORE","PTS"]
[null,{"$f":"SCORECARD!C610","v":" Block 4 Player 1"},null,null,{"$f":"SCORECARD!F610","v":0},{"$f":"SCORECARD!G610","v":-1E-3},{"$f":"SCORECARD!H610","v":-1E-3},{"$f":"IF(NOT(OR(F1475>0,G1475>0)),\"\",IF(HandicapPlay=\"x\",IF(F1475>G1475,10,-10),IF((F1475-G1475>0),(VLOOKUP(OFFSET(H1475,-3,0),(TABLE!WIN),(MATCH(E1475,WINCOL,0)+1))),(VLOOKUP(OFFSET(H1475,-3,0),(TABLE!LOSE),(MATCH(E1475,LOSECOL,0)+1))))))","v":""}]
[null,{"$f":"SCORECARD!C611","v":" Block 4 Player 2"},null,null,{"$f":"SCORECARD!F611","v":0},{"$f":"SCORECARD!G611","v":-1E-3},{"$f":"SCORECARD!H611","v":-1E-3},{"$f":"IF(NOT(OR(F1476>0,G1476>0)),\"\",IF(HandicapPlay=\"x\",IF(F1476>G1476,10,-10),IF((F1476-G1476>0),(VLOOKUP(OFFSET(H1476,-4,0),(TABLE!WIN),(MATCH(E1476,WINCOL,0)+1))),(VLOOKUP(OFFSET(H1476,-4,0),(TABLE!LOSE),(MATCH(E1476,LOSECOL,0)+1))))))","v":""}]
[null,{"$f":"SCORECARD!C612","v":" Block 4 Player 3"},null,null,{"$f":"SCORECARD!F612","v":0},{"$f":"SCORECARD!G612","v":-1E-3},{"$f":"SCORECARD!H612","v":-1E-3},{"$f":"IF(NOT(OR(F1477>0,G1477>0)),\"\",IF(HandicapPlay=\"x\",IF(F1477>G1477,10,-10),IF((F1477-G1477>0),(VLOOKUP(OFFSET(H1477,-5,0),(TABLE!WIN),(MATCH(E1477,WINCOL,0)+1))),(VLOOKUP(OFFSET(H1477,-5,0),(TABLE!LOSE),(MATCH(E1477,LOSECOL,0)+1))))))","v":""}]
[null,{"$f":"SCORECARD!C613","v":" Block 4 Player 4"},null,null,{"$f":"SCORECARD!F613","v":0},{"$f":"SCORECARD!G613","v":-1E-3},{"$f":"SCORECARD!H613","v":-1E-3},{"$f":"IF(NOT(OR(F1478>0,G1478>0)),\"\",IF(HandicapPlay=\"x\",IF(F1478>G1478,10,-10),IF((F1478-G1478>0),(VLOOKUP(OFFSET(H1478,-6,0),(TABLE!WIN),(MATCH(E1478,WINCOL,0)+1))),(VLOOKUP(OFFSET(H1478,-6,0),(TABLE!LOSE),(MATCH(E1478,LOSECOL,0)+1))))))","v":""}]
[null,{"$f":"SCORECARD!C614","v":" Block 4 Player 6"},null,null,{"$f":"SCORECARD!F614","v":0},{"$f":"SCORECARD!G614","v":-1E-3},{"$f":"SCORECARD!H614","v":-1E-3},{"$f":"IF(NOT(OR(F1479>0,G1479>0)),\"\",IF(HandicapPlay=\"x\",IF(F1479>G1479,10,-10),IF((F1479-G1479>0),(VLOOKUP(OFFSET(H1479,-7,0),(TABLE!WIN),(MATCH(E1479,WINCOL,0)+1))),(VLOOKUP(OFFSET(H1479,-7,0),(TABLE!LOSE),(MATCH(E1479,LOSECOL,0)+1))))))","v":""}]
[null,{"$f":"SCORECARD!C615","v":" Block 4 Player 7"},null,null,{"$f":"SCORECARD!F615","v":0},{"$f":"SCORECARD!G615","v":-1E-3},{"$f":"SCORECARD!H615","v":-1E-3},{"$f":"IF(NOT(OR(F1480>0,G1480>0)),\"\",IF(HandicapPlay=\"x\",IF(F1480>G1480,10,-10),IF((F1480-G1480>0),(VLOOKUP(OFFSET(H1480,-8,0),(TABLE!WIN),(MATCH(E1480,WINCOL,0)+1))),(VLOOKUP(OFFSET(H1480,-8,0),(TABLE!LOSE),(MATCH(E1480,LOSECOL,0)+1))))))","v":""}]
[null,{"$f":"SCORECARD!C616","v":" Bye "},null,null,{"$f":"SCORECARD!F616","v":0},{"$f":"SCORECARD!G616","v":-1E-3},{"$f":"SCORECARD!H616","v":-1E-3},{"$f":"IF(NOT(OR(F1481>0,G1481>0)),\"\",IF(HandicapPlay=\"x\",IF(F1481>G1481,10,-10),IF((F1481-G1481>0),(VLOOKUP(OFFSET(H1481,-9,0),(TABLE!WIN),(MATCH(E1481,WINCOL,0)+1))),(VLOOKUP(OFFSET(H1481,-9,0),(TABLE!LOSE),(MATCH(E1481,LOSECOL,0)+1))))))","v":""}]
[null,{"$f":"SCORECARD!C617","v":0},null,null,{"$f":"SCORECARD!F617","v":" "},{"$f":"SCORECARD!G617","v":0},{"$f":"SCORECARD!H617","v":0},{"$f":"IF(NOT(OR(F1482>0,G1482>0)),\"\",(IF((F1482-G1482>0),(VLOOKUP(H$1472,(TABLE!WIN),(E1482*2))),(VLOOKUP(H$1472,(TABLE!LOSE),(E1482*2))))))","v":""}]
[null,{"$f":"SCORECARD!C618","v":0},null,null,{"$f":"SCORECARD!F618","v":" "},{"$f":"SCORECARD!G618","v":0},{"$f":"SCORECARD!H618","v":0},{"$f":"IF(NOT(OR(F1483>0,G1483>0)),\"\",(IF((F1483-G1483>0),(VLOOKUP(H$1472,(TABLE!WIN),(E1483*2))),(VLOOKUP(H$1472,(TABLE!LOSE),(E1483*2))))))","v":""}]
[null,{"$f":"SCORECARD!C619","v":0},null,null,{"$f":"SCORECARD!F619","v":" "},{"$f":"SCORECARD!G619","v":0},{"$f":"SCORECARD!H619","v":0},{"$f":"IF(NOT(OR(F1484>0,G1484>0)),\"\",(IF((F1484-G1484>0),(VLOOKUP(H$1472,(TABLE!WIN),(E1484*2))),(VLOOKUP(H$1472,(TABLE!LOSE),(E1484*2))))))","v":""}]
[null,{"$f":"SCORECARD!C620","v":0},null,null,{"$f":"SCORECARD!F620","v":" "},{"$f":"SCORECARD!G620","v":0},{"$f":"SCORECARD!H620","v":0},{"$f":"IF(NOT(OR(F1485>0,G1485>0)),\"\",(IF((F1485-G1485>0),(VLOOKUP(H$1472,(TABLE!WIN),(E1485*2))),(VLOOKUP(H$1472,(TABLE!LOSE),(E1485*2))))))","v":""}]
[null,{"$f":"SCORECARD!C621","v":0},null,null,{"$f":"SCORECARD!F621","v":" "},{"$f":"SCORECARD!G621","v":0},{"$f":"SCORECARD!H621","v":0},{"$f":"IF(NOT(OR(F1486>0,G1486>0)),\"\",(IF((F1486-G1486>0),(VLOOKUP(H$1472,(TABLE!WIN),(E1486*2))),(VLOOKUP(H$1472,(TABLE!LOSE),(E1486*2))))))","v":""}]
[null,{"$f":"SCORECARD!C622","v":0},null,null,{"$f":"SCORECARD!F622","v":" "},{"$f":"SCORECARD!G622","v":0},{"$f":"SCORECARD!H622","v":0},{"$f":"IF(NOT(OR(F1487>0,G1487>0)),\"\",(IF((F1487-G1487>0),(VLOOKUP(H$1472,(TABLE!WIN),(E1487*2))),(VLOOKUP(H$1472,(TABLE!LOSE),(E1487*2))))))","v":""}]
[null,{"$f":"SCORECARD!C623","v":0},null,null,{"$f":"SCORECARD!F623","v":" "},{"$f":"SCORECARD!G623","v":0},{"$f":"SCORECARD!H623","v":0},{"$f":"IF(NOT(OR(F1488>0,G1488>0)),\"\",(IF((F1488-G1488>0),(VLOOKUP(H$1472,(TABLE!WIN),(E1488*2))),(VLOOKUP(H$1472,(TABLE!LOSE),(E1488*2))))))","v":""}]
[null,{"$f":"SCORECARD!C624","v":0},null,null,{"$f":"SCORECARD!F624","v":" "},{"$f":"SCORECARD!G624","v":0},{"$f":"SCORECARD!H624","v":0},{"$f":"IF(NOT(OR(F1489>0,G1489>0)),\"\",(IF((F1489-G1489>0),(VLOOKUP(H$1472,(TABLE!WIN),(E1489*2))),(VLOOKUP(H$1472,(TABLE!LOSE),(E1489*2))))))","v":""}]
[null,{"$f":"SCORECARD!C625","v":0},null,null,{"$f":"SCORECARD!F625","v":" "},{"$f":"SCORECARD!G625","v":0},{"$f":"SCORECARD!H625","v":0},{"$f":"IF(NOT(OR(F1490>0,G1490>0)),\"\",(IF((F1490-G1490>0),(VLOOKUP(H$1472,(TABLE!WIN),(E1490*2))),(VLOOKUP(H$1472,(TABLE!LOSE),(E1490*2))))))","v":""}]
[]
[null,null,null,null,null,null,"Handicap adjustment points total   ",{"$f":"SUM(H1475:H1491)","v":0}]
[]
[]
[]
[]
[]
[]
[]
[]
[]
[]
[]
[]
[{"$f":"note1","v":"Time limit 2.5 hours, Turn After Bell (61.1.6). Quadway hoops (3 11/16\"), Dawson International balls"}]
[{"$f":"note2","v":"Games may start early. Please be at the venue at least 30 minutes earlier than the scheduled start time."}]
[{"$f":"note3","v":"Entry Fee $40 will be invoiced by email. Please pay by EFT using the invoice No. as reference."}]
[{"$f":"note4","v":"Players please assist with setting and clearing courts."}]
[null,null,null,null,{"$f":"BLOCK!R99","v":" Block 4 Player 6"}]
[null,null,null,null,{"$f":"BLOCK!N95","v":"Tournament"}]
[null,null,null,null,{"$f":"BLOCK!J97","v":"Singles"}]
[null,null,null,null,{"$f":"BLOCK!B99","v":"BLOCK 4"}]
[]
[null,null,null,null,"BLOCK PLAY SCHEDULE"]
[null,"TIME","DAY","COURT",null,"OPPONENT",null,null,"Handicap","PS","OS"]
[null,{"$f":"GAMES!B101","v":"00:00:00"},{"$f":"GAMES!C101","v":"00:00:00"},{"$f":"GAMES!D101","v":0},null,{"$f":"GAMES!E101","v":" Block 4 Player 7"},null,null,{"$f":"$E$1532","v":0},{"$f":"$F$1532","v":-1E-3},{"$f":"$G$1532","v":-1E-3}]
[null,{"$f":"GAMES!B104","v":"00:00:00"},{"$f":"GAMES!C104","v":"00:00:00"},{"$f":"GAMES!D104","v":0},null,{"$f":"GAMES!E104","v":" Block 4 Player 2"},null,null,{"$f":"$E$1528","v":0},{"$f":"$F$1528","v":-1E-3},{"$f":"$G$1528","v":-1E-3}]
[null,{"$f":"GAMES!B107","v":"00:00:00"},{"$f":"GAMES!C107","v":"00:00:00"},{"$f":"GAMES!D107","v":0},null,{"$f":"GAMES!E107","v":" Block 4 Player 4"},null,null,{"$f":"$E$1530","v":0},{"$f":"$F$1530","v":-1E-3},{"$f":"$G$1530","v":-1E-3}]
[null,{"$f":"GAMES!B110","v":"00:00:00"},{"$f":"GAMES!C110","v":"00:00:00"},{"$f":"GAMES!D110","v":0},null,{"$f":"GAMES!E110","v":" Block 4 Player 1"},null,null,{"$f":"$E$1527","v":0},{"$f":"$F$1527","v":-1E-3},{"$f":"$G$1527","v":-1E-3}]
[null,{"$f":"GAMES!B115","v":"00:00:00"},{"$f":"GAMES!C115","v":"00:00:00"},{"$f":"GAMES!D115","v":"--"},null,{"$f":"GAMES!G115","v":" Bye "},null,null,{"$f":"$E$1533","v":0},{"$f":"$F$1533","v":-1E-3},{"$f":"$G$1533","v":-1E-3}]
[null,{"$f":"GAMES!B120","v":"00:00:00"},{"$f":"GAMES!C120","v":"00:00:00"},{"$f":"GAMES!D120","v":0},null,{"$f":"GAMES!G120","v":" Block 4 Player 3"},null,null,{"$f":"$E$1529","v":0},{"$f":"$F$1529","v":-1E-3},{"$f":"$G$1529","v":-1E-3}]
[null,{"$f":"GAMES!B125","v":"00:00:00"},{"$f":"GAMES!C125","v":"00:00:00"},{"$f":"GAMES!D125","v":0},null,{"$f":"GAMES!G125","v":" Block 4 Player 5"},null,null,{"$f":"$E$1531","v":0},{"$f":"$F$1531","v":-1E-3},{"$f":"$G$1531","v":-1E-3}]
[]
[null,"PLAYER:",{"$f":"SCORECARD!D627","v":" Block 4 Player 6"},null,null,null,"HANDICAP",{"$f":"SCORECARD!I627","v":0}]
[null,null,null,null,"OPP","PLAYER","OPP","H/CAP"]
[null,null,"OPPONENT",null,"HCP","SCORE","SCORE","PTS"]
[null,{"$f":"SCORECARD!C630","v":" Block 4 Player 1"},null,null,{"$f":"SCORECARD!F630","v":0},{"$f":"SCORECARD!G630","v":-1E-3},{"$f":"SCORECARD!H630","v":-1E-3},{"$f":"IF(NOT(OR(F1527>0,G1527>0)),\"\",IF(HandicapPlay=\"x\",IF(F1527>G1527,10,-10),IF((F1527-G1527>0),(VLOOKUP(OFFSET(H1527,-3,0),(TABLE!WIN),(MATCH(E1527,WINCOL,0)+1))),(VLOOKUP(OFFSET(H1527,-3,0),(TABLE!LOSE),(MATCH(E1527,LOSECOL,0)+1))))))","v":""}]
[null,{"$f":"SCORECARD!C631","v":" Block 4 Player 2"},null,null,{"$f":"SCORECARD!F631","v":0},{"$f":"SCORECARD!G631","v":-1E-3},{"$f":"SCORECARD!H631","v":-1E-3},{"$f":"IF(NOT(OR(F1528>0,G1528>0)),\"\",IF(HandicapPlay=\"x\",IF(F1528>G1528,10,-10),IF((F1528-G1528>0),(VLOOKUP(OFFSET(H1528,-4,0),(TABLE!WIN),(MATCH(E1528,WINCOL,0)+1))),(VLOOKUP(OFFSET(H1528,-4,0),(TABLE!LOSE),(MATCH(E1528,LOSECOL,0)+1))))))","v":""}]
[null,{"$f":"SCORECARD!C632","v":" Block 4 Player 3"},null,null,{"$f":"SCORECARD!F632","v":0},{"$f":"SCORECARD!G632","v":-1E-3},{"$f":"SCORECARD!H632","v":-1E-3},{"$f":"IF(NOT(OR(F1529>0,G1529>0)),\"\",IF(HandicapPlay=\"x\",IF(F1529>G1529,10,-10),IF((F1529-G1529>0),(VLOOKUP(OFFSET(H1529,-5,0),(TABLE!WIN),(MATCH(E1529,WINCOL,0)+1))),(VLOOKUP(OFFSET(H1529,-5,0),(TABLE!LOSE),(MATCH(E1529,LOSECOL,0)+1))))))","v":""}]
[null,{"$f":"SCORECARD!C633","v":" Block 4 Player 4"},null,null,{"$f":"SCORECARD!F633","v":0},{"$f":"SCORECARD!G633","v":-1E-3},{"$f":"SCORECARD!H633","v":-1E-3},{"$f":"IF(NOT(OR(F1530>0,G1530>0)),\"\",IF(HandicapPlay=\"x\",IF(F1530>G1530,10,-10),IF((F1530-G1530>0),(VLOOKUP(OFFSET(H1530,-6,0),(TABLE!WIN),(MATCH(E1530,WINCOL,0)+1))),(VLOOKUP(OFFSET(H1530,-6,0),(TABLE!LOSE),(MATCH(E1530,LOSECOL,0)+1))))))","v":""}]
[null,{"$f":"SCORECARD!C634","v":" Block 4 Player 5"},null,null,{"$f":"SCORECARD!F634","v":0},{"$f":"SCORECARD!G634","v":-1E-3},{"$f":"SCORECARD!H634","v":-1E-3},{"$f":"IF(NOT(OR(F1531>0,G1531>0)),\"\",IF(HandicapPlay=\"x\",IF(F1531>G1531,10,-10),IF((F1531-G1531>0),(VLOOKUP(OFFSET(H1531,-7,0),(TABLE!WIN),(MATCH(E1531,WINCOL,0)+1))),(VLOOKUP(OFFSET(H1531,-7,0),(TABLE!LOSE),(MATCH(E1531,LOSECOL,0)+1))))))","v":""}]
[null,{"$f":"SCORECARD!C635","v":" Block 4 Player 7"},null,null,{"$f":"SCORECARD!F635","v":0},{"$f":"SCORECARD!G635","v":-1E-3},{"$f":"SCORECARD!H635","v":-1E-3},{"$f":"IF(NOT(OR(F1532>0,G1532>0)),\"\",IF(HandicapPlay=\"x\",IF(F1532>G1532,10,-10),IF((F1532-G1532>0),(VLOOKUP(OFFSET(H1532,-8,0),(TABLE!WIN),(MATCH(E1532,WINCOL,0)+1))),(VLOOKUP(OFFSET(H1532,-8,0),(TABLE!LOSE),(MATCH(E1532,LOSECOL,0)+1))))))","v":""}]
[null,{"$f":"SCORECARD!C636","v":" Bye "},null,null,{"$f":"SCORECARD!F636","v":0},{"$f":"SCORECARD!G636","v":-1E-3},{"$f":"SCORECARD!H636","v":-1E-3},{"$f":"IF(NOT(OR(F1533>0,G1533>0)),\"\",IF(HandicapPlay=\"x\",IF(F1533>G1533,10,-10),IF((F1533-G1533>0),(VLOOKUP(OFFSET(H1533,-9,0),(TABLE!WIN),(MATCH(E1533,WINCOL,0)+1))),(VLOOKUP(OFFSET(H1533,-9,0),(TABLE!LOSE),(MATCH(E1533,LOSECOL,0)+1))))))","v":""}]
[null,{"$f":"SCORECARD!C637","v":0},null,null,{"$f":"SCORECARD!F637","v":" "},{"$f":"SCORECARD!G637","v":0},{"$f":"SCORECARD!H637","v":0},{"$f":"IF(NOT(OR(F1534>0,G1534>0)),\"\",(IF((F1534-G1534>0),(VLOOKUP(H$1524,(TABLE!WIN),(E1534*2))),(VLOOKUP(H$1524,(TABLE!LOSE),(E1534*2))))))","v":""}]
[null,{"$f":"SCORECARD!C638","v":0},null,null,{"$f":"SCORECARD!F638","v":" "},{"$f":"SCORECARD!G638","v":0},{"$f":"SCORECARD!H638","v":0},{"$f":"IF(NOT(OR(F1535>0,G1535>0)),\"\",(IF((F1535-G1535>0),(VLOOKUP(H$1524,(TABLE!WIN),(E1535*2))),(VLOOKUP(H$1524,(TABLE!LOSE),(E1535*2))))))","v":""}]
[null,{"$f":"SCORECARD!C639","v":0},null,null,{"$f":"SCORECARD!F639","v":" "},{"$f":"SCORECARD!G639","v":0},{"$f":"SCORECARD!H639","v":0},{"$f":"IF(NOT(OR(F1536>0,G1536>0)),\"\",(IF((F1536-G1536>0),(VLOOKUP(H$1524,(TABLE!WIN),(E1536*2))),(VLOOKUP(H$1524,(TABLE!LOSE),(E1536*2))))))","v":""}]
[null,{"$f":"SCORECARD!C640","v":0},null,null,{"$f":"SCORECARD!F640","v":" "},{"$f":"SCORECARD!G640","v":0},{"$f":"SCORECARD!H640","v":0},{"$f":"IF(NOT(OR(F1537>0,G1537>0)),\"\",(IF((F1537-G1537>0),(VLOOKUP(H$1524,(TABLE!WIN),(E1537*2))),(VLOOKUP(H$1524,(TABLE!LOSE),(E1537*2))))))","v":""}]
[null,{"$f":"SCORECARD!C641","v":0},null,null,{"$f":"SCORECARD!F641","v":" "},{"$f":"SCORECARD!G641","v":0},{"$f":"SCORECARD!H641","v":0},{"$f":"IF(NOT(OR(F1538>0,G1538>0)),\"\",(IF((F1538-G1538>0),(VLOOKUP(H$1524,(TABLE!WIN),(E1538*2))),(VLOOKUP(H$1524,(TABLE!LOSE),(E1538*2))))))","v":""}]
[null,{"$f":"SCORECARD!C642","v":0},null,null,{"$f":"SCORECARD!F642","v":" "},{"$f":"SCORECARD!G642","v":0},{"$f":"SCORECARD!H642","v":0},{"$f":"IF(NOT(OR(F1539>0,G1539>0)),\"\",(IF((F1539-G1539>0),(VLOOKUP(H$1524,(TABLE!WIN),(E1539*2))),(VLOOKUP(H$1524,(TABLE!LOSE),(E1539*2))))))","v":""}]
[null,{"$f":"SCORECARD!C643","v":0},null,null,{"$f":"SCORECARD!F643","v":" "},{"$f":"SCORECARD!G643","v":0},{"$f":"SCORECARD!H643","v":0},{"$f":"IF(NOT(OR(F1540>0,G1540>0)),\"\",(IF((F1540-G1540>0),(VLOOKUP(H$1524,(TABLE!WIN),(E1540*2))),(VLOOKUP(H$1524,(TABLE!LOSE),(E1540*2))))))","v":""}]
[null,{"$f":"SCORECARD!C644","v":0},null,null,{"$f":"SCORECARD!F644","v":" "},{"$f":"SCORECARD!G644","v":0},{"$f":"SCORECARD!H644","v":0},{"$f":"IF(NOT(OR(F1541>0,G1541>0)),\"\",(IF((F1541-G1541>0),(VLOOKUP(H$1524,(TABLE!WIN),(E1541*2))),(VLOOKUP(H$1524,(TABLE!LOSE),(E1541*2))))))","v":""}]
[null,{"$f":"SCORECARD!C645","v":0},null,null,{"$f":"SCORECARD!F645","v":" "},{"$f":"SCORECARD!G645","v":0},{"$f":"SCORECARD!H645","v":0},{"$f":"IF(NOT(OR(F1542>0,G1542>0)),\"\",(IF((F1542-G1542>0),(VLOOKUP(H$1524,(TABLE!WIN),(E1542*2))),(VLOOKUP(H$1524,(TABLE!LOSE),(E1542*2))))))","v":""}]
[]
[null,null,null,null,null,null,"Handicap adjustment points total   ",{"$f":"SUM(H1527:H1543)","v":0}]
[]
[]
[]
[]
[]
[]
[]
[]
[]
[]
[]
[]
[{"$f":"note1","v":"Time limit 2.5 hours, Turn After Bell (61.1.6). Quadway hoops (3 11/16\"), Dawson International balls"}]
[{"$f":"note2","v":"Games may start early. Please be at the venue at least 30 minutes earlier than the scheduled start time."}]
[{"$f":"note3","v":"Entry Fee $40 will be invoiced by email. Please pay by EFT using the invoice No. as reference."}]
[{"$f":"note4","v":"Players please assist with setting and clearing courts."}]
[null,null,null,null,{"$f":"BLOCK!U99","v":" Block 4 Player 7"}]
[null,null,null,null,{"$f":"BLOCK!N95","v":"Tournament"}]
[null,null,null,null,{"$f":"BLOCK!J97","v":"Singles"}]
[null,null,null,null,{"$f":"BLOCK!B99","v":"BLOCK 4"}]
[]
[null,null,null,null,"BLOCK PLAY SCHEDULE"]
[null,"TIME","DAY","COURT",null,"OPPONENT",null,null,"Handicap","PS","OS"]
[null,{"$f":"GAMES!B101","v":"00:00:00"},{"$f":"GAMES!C101","v":"00:00:00"},{"$f":"GAMES!D101","v":0},null,{"$f":"GAMES!G101","v":" Block 4 Player 6"},null,null,{"$f":"$E$1584","v":0},{"$f":"$F$1584","v":-1E-3},{"$f":"$G$1584","v":-1E-3}]
[null,{"$f":"GAMES!B105","v":"00:00:00"},{"$f":"GAMES!C105","v":"00:00:00"},{"$f":"GAMES!D105","v":"--"},null,{"$f":"GAMES!E105","v":" Bye "},null,null,{"$f":"$E$1585","v":0},{"$f":"$F$1585","v":-1E-3},{"$f":"$G$1585","v":-1E-3}]
[null,{"$f":"GAMES!B108","v":"00:00:00"},{"$f":"GAMES!C108","v":"00:00:00"},{"$f":"GAMES!D108","v":0},null,{"$f":"GAMES!E108","v":" Block 4 Player 3"},null,null,{"$f":"$E$1581","v":0},{"$f":"$F$1581","v":-1E-3},{"$f":"$G$1581","v":-1E-3}]
[null,{"$f":"GAMES!B111","v":"00:00:00"},{"$f":"GAMES!C111","v":"00:00:00"},{"$f":"GAMES!D111","v":0},null,{"$f":"GAMES!E111","v":" Block 4 Player 5"},null,null,{"$f":"$E$1583","v":0},{"$f":"$F$1583","v":-1E-3},{"$f":"$G$1583","v":-1E-3}]
[null,{"$f":"GAMES!B114","v":"00:00:00"},{"$f":"GAMES!C114","v":"00:00:00"},{"$f":"GAMES!D114","v":0},null,{"$f":"GAMES!E114","v":" Block 4 Player 1"},null,null,{"$f":"$E$1579","v":0},{"$f":"$F$1579","v":-1E-3},{"$f":"$G$1579","v":-1E-3}]
[null,{"$f":"GAMES!B119","v":"00:00:00"},{"$f":"GAMES!C119","v":"00:00:00"},{"$f":"GAMES!D119","v":0},null,{"$f":"GAMES!G119","v":" Block 4 Player 2"},null,null,{"$f":"$E$1580","v":0},{"$f":"$F$1580","v":-1E-3},{"$f":"$G$1580","v":-1E-3}]
[null,{"$f":"GAMES!B124","v":"00:00:00"},{"$f":"GAMES!C124","v":"00:00:00"},{"$f":"GAMES!D124","v":0},null,{"$f":"GAMES!G124","v":" Block 4 Player 4"},null,null,{"$f":"$E$1582","v":0},{"$f":"$F$1582","v":-1E-3},{"$f":"$G$1582","v":-1E-3}]
[]
[null,"PLAYER:",{"$f":"SCORECARD!D650","v":" Block 4 Player 7"},null,null,null,"HANDICAP",{"$f":"SCORECARD!I650","v":0}]
[null,null,null,null,"OPP","PLAYER","OPP","H/CAP"]
[null,null,"OPPONENT",null,"HCP","SCORE","SCORE","PTS"]
[null,{"$f":"SCORECARD!C653","v":" Block 4 Player 1"},null,null,{"$f":"SCORECARD!F653","v":0},{"$f":"SCORECARD!G653","v":-1E-3},{"$f":"SCORECARD!H653","v":-1E-3},{"$f":"IF(NOT(OR(F1579>0,G1579>0)),\"\",IF(HandicapPlay=\"x\",IF(F1579>G1579,10,-10),IF((F1579-G1579>0),(VLOOKUP(OFFSET(H1579,-3,0),(TABLE!WIN),(MATCH(E1579,WINCOL,0)+1))),(VLOOKUP(OFFSET(H1579,-3,0),(TABLE!LOSE),(MATCH(E1579,LOSECOL,0)+1))))))","v":""}]
[null,{"$f":"SCORECARD!C654","v":" Block 4 Player 2"},null,null,{"$f":"SCORECARD!F654","v":0},{"$f":"SCORECARD!G654","v":-1E-3},{"$f":"SCORECARD!H654","v":-1E-3},{"$f":"IF(NOT(OR(F1580>0,G1580>0)),\"\",IF(HandicapPlay=\"x\",IF(F1580>G1580,10,-10),IF((F1580-G1580>0),(VLOOKUP(OFFSET(H1580,-4,0),(TABLE!WIN),(MATCH(E1580,WINCOL,0)+1))),(VLOOKUP(OFFSET(H1580,-4,0),(TABLE!LOSE),(MATCH(E1580,LOSECOL,0)+1))))))","v":""}]
[null,{"$f":"SCORECARD!C655","v":" Block 4 Player 3"},null,null,{"$f":"SCORECARD!F655","v":0},{"$f":"SCORECARD!G655","v":-1E-3},{"$f":"SCORECARD!H655","v":-1E-3},{"$f":"IF(NOT(OR(F1581>0,G1581>0)),\"\",IF(HandicapPlay=\"x\",IF(F1581>G1581,10,-10),IF((F1581-G1581>0),(VLOOKUP(OFFSET(H1581,-5,0),(TABLE!WIN),(MATCH(E1581,WINCOL,0)+1))),(VLOOKUP(OFFSET(H1581,-5,0),(TABLE!LOSE),(MATCH(E1581,LOSECOL,0)+1))))))","v":""}]
[null,{"$f":"SCORECARD!C656","v":" Block 4 Player 4"},null,null,{"$f":"SCORECARD!F656","v":0},{"$f":"SCORECARD!G656","v":-1E-3},{"$f":"SCORECARD!H656","v":-1E-3},{"$f":"IF(NOT(OR(F1582>0,G1582>0)),\"\",IF(HandicapPlay=\"x\",IF(F1582>G1582,10,-10),IF((F1582-G1582>0),(VLOOKUP(OFFSET(H1582,-6,0),(TABLE!WIN),(MATCH(E1582,WINCOL,0)+1))),(VLOOKUP(OFFSET(H1582,-6,0),(TABLE!LOSE),(MATCH(E1582,LOSECOL,0)+1))))))","v":""}]
[null,{"$f":"SCORECARD!C657","v":" Block 4 Player 5"},null,null,{"$f":"SCORECARD!F657","v":0},{"$f":"SCORECARD!G657","v":-1E-3},{"$f":"SCORECARD!H657","v":-1E-3},{"$f":"IF(NOT(OR(F1583>0,G1583>0)),\"\",IF(HandicapPlay=\"x\",IF(F1583>G1583,10,-10),IF((F1583-G1583>0),(VLOOKUP(OFFSET(H1583,-7,0),(TABLE!WIN),(MATCH(E1583,WINCOL,0)+1))),(VLOOKUP(OFFSET(H1583,-7,0),(TABLE!LOSE),(MATCH(E1583,LOSECOL,0)+1))))))","v":""}]
[null,{"$f":"SCORECARD!C658","v":" Block 4 Player 6"},null,null,{"$f":"SCORECARD!F658","v":0},{"$f":"SCORECARD!G658","v":-1E-3},{"$f":"SCORECARD!H658","v":-1E-3},{"$f":"IF(NOT(OR(F1584>0,G1584>0)),\"\",IF(HandicapPlay=\"x\",IF(F1584>G1584,10,-10),IF((F1584-G1584>0),(VLOOKUP(OFFSET(H1584,-8,0),(TABLE!WIN),(MATCH(E1584,WINCOL,0)+1))),(VLOOKUP(OFFSET(H1584,-8,0),(TABLE!LOSE),(MATCH(E1584,LOSECOL,0)+1))))))","v":""}]
[null,{"$f":"SCORECARD!C659","v":" Bye "},null,null,{"$f":"SCORECARD!F659","v":0},{"$f":"SCORECARD!G659","v":-1E-3},{"$f":"SCORECARD!H659","v":-1E-3},{"$f":"IF(NOT(OR(F1585>0,G1585>0)),\"\",IF(HandicapPlay=\"x\",IF(F1585>G1585,10,-10),IF((F1585-G1585>0),(VLOOKUP(OFFSET(H1585,-9,0),(TABLE!WIN),(MATCH(E1585,WINCOL,0)+1))),(VLOOKUP(OFFSET(H1585,-9,0),(TABLE!LOSE),(MATCH(E1585,LOSECOL,0)+1))))))","v":""}]
[null,{"$f":"SCORECARD!C660","v":0},null,null,{"$f":"SCORECARD!F660","v":" "},{"$f":"SCORECARD!G660","v":0},{"$f":"SCORECARD!H660","v":0},{"$f":"IF(NOT(OR(F1586>0,G1586>0)),\"\",(IF((F1586-G1586>0),(VLOOKUP(H$1576,(TABLE!WIN),(E1586*2))),(VLOOKUP(H$1576,(TABLE!LOSE),(E1586*2))))))","v":""}]
[null,{"$f":"SCORECARD!C661","v":0},null,null,{"$f":"SCORECARD!F661","v":" "},{"$f":"SCORECARD!G661","v":0},{"$f":"SCORECARD!H661","v":0},{"$f":"IF(NOT(OR(F1587>0,G1587>0)),\"\",(IF((F1587-G1587>0),(VLOOKUP(H$1576,(TABLE!WIN),(E1587*2))),(VLOOKUP(H$1576,(TABLE!LOSE),(E1587*2))))))","v":""}]
[null,{"$f":"SCORECARD!C662","v":0},null,null,{"$f":"SCORECARD!F662","v":" "},{"$f":"SCORECARD!G662","v":0},{"$f":"SCORECARD!H662","v":0},{"$f":"IF(NOT(OR(F1588>0,G1588>0)),\"\",(IF((F1588-G1588>0),(VLOOKUP(H$1576,(TABLE!WIN),(E1588*2))),(VLOOKUP(H$1576,(TABLE!LOSE),(E1588*2))))))","v":""}]
[null,{"$f":"SCORECARD!C663","v":0},null,null,{"$f":"SCORECARD!F663","v":" "},{"$f":"SCORECARD!G663","v":0},{"$f":"SCORECARD!H663","v":0},{"$f":"IF(NOT(OR(F1589>0,G1589>0)),\"\",(IF((F1589-G1589>0),(VLOOKUP(H$1576,(TABLE!WIN),(E1589*2))),(VLOOKUP(H$1576,(TABLE!LOSE),(E1589*2))))))","v":""}]
[null,{"$f":"SCORECARD!C664","v":0},null,null,{"$f":"SCORECARD!F664","v":" "},{"$f":"SCORECARD!G664","v":0},{"$f":"SCORECARD!H664","v":0},{"$f":"IF(NOT(OR(F1590>0,G1590>0)),\"\",(IF((F1590-G1590>0),(VLOOKUP(H$1576,(TABLE!WIN),(E1590*2))),(VLOOKUP(H$1576,(TABLE!LOSE),(E1590*2))))))","v":""}]
[null,{"$f":"SCORECARD!C665","v":0},null,null,{"$f":"SCORECARD!F665","v":" "},{"$f":"SCORECARD!G665","v":0},{"$f":"SCORECARD!H665","v":0},{"$f":"IF(NOT(OR(F1591>0,G1591>0)),\"\",(IF((F1591-G1591>0),(VLOOKUP(H$1576,(TABLE!WIN),(E1591*2))),(VLOOKUP(H$1576,(TABLE!LOSE),(E1591*2))))))","v":""}]
[null,{"$f":"SCORECARD!C666","v":0},null,null,{"$f":"SCORECARD!F666","v":" "},{"$f":"SCORECARD!G666","v":0},{"$f":"SCORECARD!H666","v":0},{"$f":"IF(NOT(OR(F1592>0,G1592>0)),\"\",(IF((F1592-G1592>0),(VLOOKUP(H$1576,(TABLE!WIN),(E1592*2))),(VLOOKUP(H$1576,(TABLE!LOSE),(E1592*2))))))","v":""}]
[null,{"$f":"SCORECARD!C667","v":0},null,null,{"$f":"SCORECARD!F667","v":" "},{"$f":"SCORECARD!G667","v":0},{"$f":"SCORECARD!H667","v":0},{"$f":"IF(NOT(OR(F1593>0,G1593>0)),\"\",(IF((F1593-G1593>0),(VLOOKUP(H$1576,(TABLE!WIN),(E1593*2))),(VLOOKUP(H$1576,(TABLE!LOSE),(E1593*2))))))","v":""}]
[null,{"$f":"SCORECARD!C668","v":0},null,null,{"$f":"SCORECARD!F668","v":" "},{"$f":"SCORECARD!G668","v":0},{"$f":"SCORECARD!H668","v":0},{"$f":"IF(NOT(OR(F1594>0,G1594>0)),\"\",(IF((F1594-G1594>0),(VLOOKUP(H$1576,(TABLE!WIN),(E1594*2))),(VLOOKUP(H$1576,(TABLE!LOSE),(E1594*2))))))","v":""}]
[]
[null,null,null,null,null,null,"Handicap adjustment points total   ",{"$f":"SUM(H1579:H1595)","v":0}]
[]
[]
[]
[]
[]
[]
[]
[]
[]
[]
[]
[]
[{"$f":"note1","v":"Time limit 2.5 hours, Turn After Bell (61.1.6). Quadway hoops (3 11/16\"), Dawson International balls"}]
[{"$f":"note2","v":"Games may start early. Please be at the venue at least 30 minutes earlier than the scheduled start time."}]
[{"$f":"note3","v":"Entry Fee $40 will be invoiced by email. Please pay by EFT using the invoice No. as reference."}]
[{"$f":"note4","v":"Players please assist with setting and clearing courts."}]
[null,null,null,null,{"$f":"BLOCK!X99","v":" Bye "}]
[null,null,null,null,{"$f":"BLOCK!N95","v":"Tournament"}]
[null,null,null,null,{"$f":"BLOCK!J97","v":"Singles"}]
[null,null,null,null,{"$f":"BLOCK!B99","v":"BLOCK 4"}]
[]
[null,null,null,null,"BLOCK PLAY SCHEDULE"]
[null,"TIME","DAY","COURT",null,"OPPONENT",null,null,"Handicap","PS","OS"]
[null,{"$f":"GAMES!B100","v":"00:00:00"},{"$f":"GAMES!C100","v":"00:00:00"},{"$f":"GAMES!D100","v":"--"},null,{"$f":"GAMES!G100","v":" Block 4 Player 5"},null,null,{"$f":"$E$1635","v":0},{"$f":"$F$1635","v":-1E-3},{"$f":"$G$1635","v":-1E-3}]
[null,{"$f":"GAMES!B105","v":"00:00:00"},{"$f":"GAMES!C105","v":"00:00:00"},{"$f":"GAMES!D105","v":"--"},null,{"$f":"GAMES!G105","v":" Block 4 Player 7"},null,null,{"$f":"$E$1637","v":0},{"$f":"$F$1637","v":-1E-3},{"$f":"$G$1637","v":-1E-3}]
[null,{"$f":"GAMES!B109","v":"00:00:00"},{"$f":"GAMES!C109","v":"00:00:00"},{"$f":"GAMES!D109","v":"--"},null,{"$f":"GAMES!E109","v":" Block 4 Player 2"},null,null,{"$f":"$E$1632","v":0},{"$f":"$F$1632","v":-1E-3},{"$f":"$G$1632","v":-1E-3}]
[null,{"$f":"GAMES!B112","v":"00:00:00"},{"$f":"GAMES!C112","v":"00:00:00"},{"$f":"GAMES!D112","v":"--"},null,{"$f":"GAMES!E112","v":" Block 4 Player 4"},null,null,{"$f":"$E$1634","v":0},{"$f":"$F$1634","v":-1E-3},{"$f":"$G$1634","v":-1E-3}]
[null,{"$f":"GAMES!B115","v":"00:00:00"},{"$f":"GAMES!C115","v":"00:00:00"},{"$f":"GAMES!D115","v":"--"},null,{"$f":"GAMES!E115","v":" Block 4 Player 6"},null,null,{"$f":"$E$1636","v":0},{"$f":"$F$1636","v":-1E-3},{"$f":"$G$1636","v":-1E-3}]
[null,{"$f":"GAMES!B118","v":"00:00:00"},{"$f":"GAMES!C118","v":"00:00:00"},{"$f":"GAMES!D118","v":"--"},null,{"$f":"GAMES!E118","v":" Block 4 Player 1"},null,null,{"$f":"$E$1631","v":0},{"$f":"$F$1631","v":-1E-3},{"$f":"$G$1631","v":-1E-3}]
[null,{"$f":"GAMES!B123","v":"00:00:00"},{"$f":"GAMES!C123","v":"00:00:00"},{"$f":"GAMES!D123","v":"--"},null,{"$f":"GAMES!G123","v":" Block 4 Player 3"},null,null,{"$f":"$E$1633","v":0},{"$f":"$F$1633","v":-1E-3},{"$f":"$G$1633","v":-1E-3}]
[]
[null,"PLAYER:",{"$f":"SCORECARD!D670","v":" Bye "},null,null,null,"HANDICAP",{"$f":"SCORECARD!I670","v":0}]
[null,null,null,null,"OPP","PLAYER","OPP","H/CAP"]
[null,null,"OPPONENT",null,"HCP","SCORE","SCORE","PTS"]
[null,{"$f":"SCORECARD!C673","v":" Block 4 Player 1"},null,null,{"$f":"SCORECARD!F673","v":0},{"$f":"SCORECARD!G673","v":-1E-3},{"$f":"SCORECARD!H673","v":-1E-3},{"$f":"IF(NOT(OR(F1631>0,G1631>0)),\"\",IF(HandicapPlay=\"x\",IF(F1631>G1631,10,-10),IF((F1631-G1631>0),(VLOOKUP(OFFSET(H1631,-3,0),(TABLE!WIN),(MATCH(E1631,WINCOL,0)+1))),(VLOOKUP(OFFSET(H1631,-3,0),(TABLE!LOSE),(MATCH(E1631,LOSECOL,0)+1))))))","v":""}]
[null,{"$f":"SCORECARD!C674","v":" Block 4 Player 2"},null,null,{"$f":"SCORECARD!F674","v":0},{"$f":"SCORECARD!G674","v":-1E-3},{"$f":"SCORECARD!H674","v":-1E-3},{"$f":"IF(NOT(OR(F1632>0,G1632>0)),\"\",IF(HandicapPlay=\"x\",IF(F1632>G1632,10,-10),IF((F1632-G1632>0),(VLOOKUP(OFFSET(H1632,-4,0),(TABLE!WIN),(MATCH(E1632,WINCOL,0)+1))),(VLOOKUP(OFFSET(H1632,-4,0),(TABLE!LOSE),(MATCH(E1632,LOSECOL,0)+1))))))","v":""}]
[null,{"$f":"SCORECARD!C675","v":" Block 4 Player 3"},null,null,{"$f":"SCORECARD!F675","v":0},{"$f":"SCORECARD!G675","v":-1E-3},{"$f":"SCORECARD!H675","v":-1E-3},{"$f":"IF(NOT(OR(F1633>0,G1633>0)),\"\",IF(HandicapPlay=\"x\",IF(F1633>G1633,10,-10),IF((F1633-G1633>0),(VLOOKUP(OFFSET(H1633,-5,0),(TABLE!WIN),(MATCH(E1633,WINCOL,0)+1))),(VLOOKUP(OFFSET(H1633,-5,0),(TABLE!LOSE),(MATCH(E1633,LOSECOL,0)+1))))))","v":""}]
[null,{"$f":"SCORECARD!C676","v":" Block 4 Player 4"},null,null,{"$f":"SCORECARD!F676","v":0},{"$f":"SCORECARD!G676","v":-1E-3},{"$f":"SCORECARD!H676","v":-1E-3},{"$f":"IF(NOT(OR(F1634>0,G1634>0)),\"\",IF(HandicapPlay=\"x\",IF(F1634>G1634,10,-10),IF((F1634-G1634>0),(VLOOKUP(OFFSET(H1634,-6,0),(TABLE!WIN),(MATCH(E1634,WINCOL,0)+1))),(VLOOKUP(OFFSET(H1634,-6,0),(TABLE!LOSE),(MATCH(E1634,LOSECOL,0)+1))))))","v":""}]
[null,{"$f":"SCORECARD!C677","v":" Block 4 Player 5"},null,null,{"$f":"SCORECARD!F677","v":0},{"$f":"SCORECARD!G677","v":-1E-3},{"$f":"SCORECARD!H677","v":-1E-3},{"$f":"IF(NOT(OR(F1635>0,G1635>0)),\"\",IF(HandicapPlay=\"x\",IF(F1635>G1635,10,-10),IF((F1635-G1635>0),(VLOOKUP(OFFSET(H1635,-7,0),(TABLE!WIN),(MATCH(E1635,WINCOL,0)+1))),(VLOOKUP(OFFSET(H1635,-7,0),(TABLE!LOSE),(MATCH(E1635,LOSECOL,0)+1))))))","v":""}]
[null,{"$f":"SCORECARD!C678","v":" Block 4 Player 6"},null,null,{"$f":"SCORECARD!F678","v":0},{"$f":"SCORECARD!G678","v":-1E-3},{"$f":"SCORECARD!H678","v":-1E-3},{"$f":"IF(NOT(OR(F1636>0,G1636>0)),\"\",IF(HandicapPlay=\"x\",IF(F1636>G1636,10,-10),IF((F1636-G1636>0),(VLOOKUP(OFFSET(H1636,-8,0),(TABLE!WIN),(MATCH(E1636,WINCOL,0)+1))),(VLOOKUP(OFFSET(H1636,-8,0),(TABLE!LOSE),(MATCH(E1636,LOSECOL,0)+1))))))","v":""}]
[null,{"$f":"SCORECARD!C679","v":" Block 4 Player 7"},null,null,{"$f":"SCORECARD!F679","v":0},{"$f":"SCORECARD!G679","v":-1E-3},{"$f":"SCORECARD!H679","v":-1E-3},{"$f":"IF(NOT(OR(F1637>0,G1637>0)),\"\",IF(HandicapPlay=\"x\",IF(F1637>G1637,10,-10),IF((F1637-G1637>0),(VLOOKUP(OFFSET(H1637,-9,0),(TABLE!WIN),(MATCH(E1637,WINCOL,0)+1))),(VLOOKUP(OFFSET(H1637,-9,0),(TABLE!LOSE),(MATCH(E1637,LOSECOL,0)+1))))))","v":""}]
[null,{"$f":"SCORECARD!C680","v":0},null,null,{"$f":"SCORECARD!F680","v":" "},{"$f":"SCORECARD!G680","v":0},{"$f":"SCORECARD!H680","v":0},{"$f":"IF(NOT(OR(F1638>0,G1638>0)),\"\",(IF((F1638-G1638>0),(VLOOKUP(H$1628,(TABLE!WIN),(E1638*2))),(VLOOKUP(H$1628,(TABLE!LOSE),(E1638*2))))))","v":""}]
[null,{"$f":"SCORECARD!C681","v":0},null,null,{"$f":"SCORECARD!F681","v":" "},{"$f":"SCORECARD!G681","v":0},{"$f":"SCORECARD!H681","v":0},{"$f":"IF(NOT(OR(F1639>0,G1639>0)),\"\",(IF((F1639-G1639>0),(VLOOKUP(H$1628,(TABLE!WIN),(E1639*2))),(VLOOKUP(H$1628,(TABLE!LOSE),(E1639*2))))))","v":""}]
[null,{"$f":"SCORECARD!C682","v":0},null,null,{"$f":"SCORECARD!F682","v":" "},{"$f":"SCORECARD!G682","v":0},{"$f":"SCORECARD!H682","v":0},{"$f":"IF(NOT(OR(F1640>0,G1640>0)),\"\",(IF((F1640-G1640>0),(VLOOKUP(H$1628,(TABLE!WIN),(E1640*2))),(VLOOKUP(H$1628,(TABLE!LOSE),(E1640*2))))))","v":""}]
[null,{"$f":"SCORECARD!C683","v":0},null,null,{"$f":"SCORECARD!F683","v":" "},{"$f":"SCORECARD!G683","v":0},{"$f":"SCORECARD!H683","v":0},{"$f":"IF(NOT(OR(F1641>0,G1641>0)),\"\",(IF((F1641-G1641>0),(VLOOKUP(H$1628,(TABLE!WIN),(E1641*2))),(VLOOKUP(H$1628,(TABLE!LOSE),(E1641*2))))))","v":""}]
[null,{"$f":"SCORECARD!C684","v":0},null,null,{"$f":"SCORECARD!F684","v":" "},{"$f":"SCORECARD!G684","v":0},{"$f":"SCORECARD!H684","v":0},{"$f":"IF(NOT(OR(F1642>0,G1642>0)),\"\",(IF((F1642-G1642>0),(VLOOKUP(H$1628,(TABLE!WIN),(E1642*2))),(VLOOKUP(H$1628,(TABLE!LOSE),(E1642*2))))))","v":""}]
[null,{"$f":"SCORECARD!C685","v":0},null,null,{"$f":"SCORECARD!F685","v":" "},{"$f":"SCORECARD!G685","v":0},{"$f":"SCORECARD!H685","v":0},{"$f":"IF(NOT(OR(F1643>0,G1643>0)),\"\",(IF((F1643-G1643>0),(VLOOKUP(H$1628,(TABLE!WIN),(E1643*2))),(VLOOKUP(H$1628,(TABLE!LOSE),(E1643*2))))))","v":""}]
[null,{"$f":"SCORECARD!C686","v":0},null,null,{"$f":"SCORECARD!F686","v":" "},{"$f":"SCORECARD!G686","v":0},{"$f":"SCORECARD!H686","v":0},{"$f":"IF(NOT(OR(F1644>0,G1644>0)),\"\",(IF((F1644-G1644>0),(VLOOKUP(H$1628,(TABLE!WIN),(E1644*2))),(VLOOKUP(H$1628,(TABLE!LOSE),(E1644*2))))))","v":""}]
[null,{"$f":"SCORECARD!C687","v":0},null,null,{"$f":"SCORECARD!F687","v":" "},{"$f":"SCORECARD!G687","v":0},{"$f":"SCORECARD!H687","v":0},{"$f":"IF(NOT(OR(F1645>0,G1645>0)),\"\",(IF((F1645-G1645>0),(VLOOKUP(H$1628,(TABLE!WIN),(E1645*2))),(VLOOKUP(H$1628,(TABLE!LOSE),(E1645*2))))))","v":""}]
[null,{"$f":"SCORECARD!C688","v":0},null,null,{"$f":"SCORECARD!F688","v":" "},{"$f":"SCORECARD!G688","v":0},{"$f":"SCORECARD!H688","v":0},{"$f":"IF(NOT(OR(F1646>0,G1646>0)),\"\",(IF((F1646-G1646>0),(VLOOKUP(H$1628,(TABLE!WIN),(E1646*2))),(VLOOKUP(H$1628,(TABLE!LOSE),(E1646*2))))))","v":""}]
[]
[null,null,null,null,null,null,"Handicap adjustment points total   ",{"$f":"SUM(H1631:H1647)","v":0}]
[]
[]
[]
[]
[]
[]
[]
[]
[]
[]
[]
[]
[{"$f":"note1","v":"Time limit 2.5 hours, Turn After Bell (61.1.6). Quadway hoops (3 11/16\"), Dawson International balls"}]
[{"$f":"note2","v":"Games may start early. Please be at the venue at least 30 minutes earlier than the scheduled start time."}]
[{"$f":"note3","v":"Entry Fee $40 will be invoiced by email. Please pay by EFT using the invoice No. as reference."}]
[{"$f":"note4","v":"Players please assist with setting and clearing courts."}]
[null,null,null,null,{"$f":"BLOCK!C130","v":" Block 5 Player 1"}]
[null,null,null,null,{"$f":"BLOCK!N126","v":"Tournament"}]
[null,null,null,null,{"$f":"BLOCK!J128","v":"Singles"}]
[null,null,null,null,{"$f":"BLOCK!B130","v":"BLOCK 5"}]
[]
[null,null,null,null,"BLOCK PLAY SCHEDULE"]
[null,"TIME","DAY","COURT",null,"OPPONENT",null,null,"Handicap","PS","OS"]
[null,{"$f":"GAMES!B129","v":"00:00:00"},{"$f":"GAMES!C129","v":"00:00:00"},{"$f":"GAMES!D129","v":0},null,{"$f":"GAMES!G129","v":" Block 5 Player 3"},null,null,{"$f":"$E$1684","v":0},{"$f":"$F$1684","v":-1E-3},{"$f":"$G$1684","v":-1E-3}]
[null,{"$f":"GAMES!B133","v":"00:00:00"},{"$f":"GAMES!C133","v":"00:00:00"},{"$f":"GAMES!D133","v":0},null,{"$f":"GAMES!G133","v":" Block 5 Player 4"},null,null,{"$f":"$E$1685","v":0},{"$f":"$F$1685","v":-1E-3},{"$f":"$G$1685","v":-1E-3}]
[null,{"$f":"GAMES!B137","v":"00:00:00"},{"$f":"GAMES!C137","v":"00:00:00"},{"$f":"GAMES!D137","v":0},null,{"$f":"GAMES!G137","v":" Block 5 Player 5"},null,null,{"$f":"$E$1686","v":0},{"$f":"$F$1686","v":-1E-3},{"$f":"$G$1686","v":-1E-3}]
[null,{"$f":"GAMES!B141","v":"00:00:00"},{"$f":"GAMES!C141","v":"00:00:00"},{"$f":"GAMES!D141","v":0},null,{"$f":"GAMES!G141","v":" Block 5 Player 6"},null,null,{"$f":"$E$1687","v":0},{"$f":"$F$1687","v":-1E-3},{"$f":"$G$1687","v":-1E-3}]
[null,{"$f":"GAMES!B145","v":"00:00:00"},{"$f":"GAMES!C145","v":"00:00:00"},{"$f":"GAMES!D145","v":0},null,{"$f":"GAMES!G145","v":" Block 5 Player 7"},null,null,{"$f":"$E$1688","v":0},{"$f":"$F$1688","v":-1E-3},{"$f":"$G$1688","v":-1E-3}]
[null,{"$f":"GAMES!B149","v":"00:00:00"},{"$f":"GAMES!C149","v":"00:00:00"},{"$f":"GAMES!D149","v":"--"},null,{"$f":"GAMES!G149","v":" Bye "},null,null,{"$f":"$E$1689","v":0},{"$f":"$F$1689","v":-1E-3},{"$f":"$G$1689","v":-1E-3}]
[null,{"$f":"GAMES!B153","v":"00:00:00"},{"$f":"GAMES!C153","v":"00:00:00"},{"$f":"GAMES!D153","v":0},null,{"$f":"GAMES!G153","v":" Block 5 Player 2"},null,null,{"$f":"$E$1683","v":0},{"$f":"$F$1683","v":-1E-3},{"$f":"$G$1683","v":-1E-3}]
[]
[null,"PLAYER:",{"$f":"SCORECARD!D693","v":" Block 5 Player 1"},null,null,null,"HANDICAP",{"$f":"SCORECARD!I693","v":0}]
[null,null,null,null,"OPP","PLAYER","OPP","H/CAP"]
[null,null,"OPPONENT",null,"HCP","SCORE","SCORE","PTS"]
[null,{"$f":"SCORECARD!C696","v":" Block 5 Player 2"},null,null,{"$f":"SCORECARD!F696","v":0},{"$f":"SCORECARD!G696","v":-1E-3},{"$f":"SCORECARD!H696","v":-1E-3},{"$f":"IF(NOT(OR(F1683>0,G1683>0)),\"\",IF(HandicapPlay=\"x\",IF(F1683>G1683,10,-10),IF((F1683-G1683>0),(VLOOKUP(OFFSET(H1683,-3,0),(TABLE!WIN),(MATCH(E1683,WINCOL,0)+1))),(VLOOKUP(OFFSET(H1683,-3,0),(TABLE!LOSE),(MATCH(E1683,LOSECOL,0)+1))))))","v":""}]
[null,{"$f":"SCORECARD!C697","v":" Block 5 Player 3"},null,null,{"$f":"SCORECARD!F697","v":0},{"$f":"SCORECARD!G697","v":-1E-3},{"$f":"SCORECARD!H697","v":-1E-3},{"$f":"IF(NOT(OR(F1684>0,G1684>0)),\"\",IF(HandicapPlay=\"x\",IF(F1684>G1684,10,-10),IF((F1684-G1684>0),(VLOOKUP(OFFSET(H1684,-4,0),(TABLE!WIN),(MATCH(E1684,WINCOL,0)+1))),(VLOOKUP(OFFSET(H1684,-4,0),(TABLE!LOSE),(MATCH(E1684,LOSECOL,0)+1))))))","v":""}]
[null,{"$f":"SCORECARD!C698","v":" Block 5 Player 4"},null,null,{"$f":"SCORECARD!F698","v":0},{"$f":"SCORECARD!G698","v":-1E-3},{"$f":"SCORECARD!H698","v":-1E-3},{"$f":"IF(NOT(OR(F1685>0,G1685>0)),\"\",IF(HandicapPlay=\"x\",IF(F1685>G1685,10,-10),IF((F1685-G1685>0),(VLOOKUP(OFFSET(H1685,-5,0),(TABLE!WIN),(MATCH(E1685,WINCOL,0)+1))),(VLOOKUP(OFFSET(H1685,-5,0),(TABLE!LOSE),(MATCH(E1685,LOSECOL,0)+1))))))","v":""}]
[null,{"$f":"SCORECARD!C699","v":" Block 5 Player 5"},null,null,{"$f":"SCORECARD!F699","v":0},{"$f":"SCORECARD!G699","v":-1E-3},{"$f":"SCORECARD!H699","v":-1E-3},{"$f":"IF(NOT(OR(F1686>0,G1686>0)),\"\",IF(HandicapPlay=\"x\",IF(F1686>G1686,10,-10),IF((F1686-G1686>0),(VLOOKUP(OFFSET(H1686,-6,0),(TABLE!WIN),(MATCH(E1686,WINCOL,0)+1))),(VLOOKUP(OFFSET(H1686,-6,0),(TABLE!LOSE),(MATCH(E1686,LOSECOL,0)+1))))))","v":""}]
[null,{"$f":"SCORECARD!C700","v":" Block 5 Player 6"},null,null,{"$f":"SCORECARD!F700","v":0},{"$f":"SCORECARD!G700","v":-1E-3},{"$f":"SCORECARD!H700","v":-1E-3},{"$f":"IF(NOT(OR(F1687>0,G1687>0)),\"\",IF(HandicapPlay=\"x\",IF(F1687>G1687,10,-10),IF((F1687-G1687>0),(VLOOKUP(OFFSET(H1687,-7,0),(TABLE!WIN),(MATCH(E1687,WINCOL,0)+1))),(VLOOKUP(OFFSET(H1687,-7,0),(TABLE!LOSE),(MATCH(E1687,LOSECOL,0)+1))))))","v":""}]
[null,{"$f":"SCORECARD!C701","v":" Block 5 Player 7"},null,null,{"$f":"SCORECARD!F701","v":0},{"$f":"SCORECARD!G701","v":-1E-3},{"$f":"SCORECARD!H701","v":-1E-3},{"$f":"IF(NOT(OR(F1688>0,G1688>0)),\"\",IF(HandicapPlay=\"x\",IF(F1688>G1688,10,-10),IF((F1688-G1688>0),(VLOOKUP(OFFSET(H1688,-8,0),(TABLE!WIN),(MATCH(E1688,WINCOL,0)+1))),(VLOOKUP(OFFSET(H1688,-8,0),(TABLE!LOSE),(MATCH(E1688,LOSECOL,0)+1))))))","v":""}]
[null,{"$f":"SCORECARD!C702","v":" Bye "},null,null,{"$f":"SCORECARD!F702","v":0},{"$f":"SCORECARD!G702","v":-1E-3},{"$f":"SCORECARD!H702","v":-1E-3},{"$f":"IF(NOT(OR(F1689>0,G1689>0)),\"\",IF(HandicapPlay=\"x\",IF(F1689>G1689,10,-10),IF((F1689-G1689>0),(VLOOKUP(OFFSET(H1689,-9,0),(TABLE!WIN),(MATCH(E1689,WINCOL,0)+1))),(VLOOKUP(OFFSET(H1689,-9,0),(TABLE!LOSE),(MATCH(E1689,LOSECOL,0)+1))))))","v":""}]
[null,{"$f":"SCORECARD!C703","v":0},null,null,{"$f":"SCORECARD!F703","v":" "},{"$f":"SCORECARD!G703","v":0},{"$f":"SCORECARD!H703","v":0},{"$f":"IF(NOT(OR(F1690>0,G1690>0)),\"\",(IF((F1690-G1690>0),(VLOOKUP(H$1680,(TABLE!WIN),(E1690*2))),(VLOOKUP(H$1680,(TABLE!LOSE),(E1690*2))))))","v":""}]
[null,{"$f":"SCORECARD!C704","v":0},null,null,{"$f":"SCORECARD!F704","v":" "},{"$f":"SCORECARD!G704","v":0},{"$f":"SCORECARD!H704","v":0},{"$f":"IF(NOT(OR(F1691>0,G1691>0)),\"\",(IF((F1691-G1691>0),(VLOOKUP(H$1680,(TABLE!WIN),(E1691*2))),(VLOOKUP(H$1680,(TABLE!LOSE),(E1691*2))))))","v":""}]
[null,{"$f":"SCORECARD!C705","v":0},null,null,{"$f":"SCORECARD!F705","v":" "},{"$f":"SCORECARD!G705","v":0},{"$f":"SCORECARD!H705","v":0},{"$f":"IF(NOT(OR(F1692>0,G1692>0)),\"\",(IF((F1692-G1692>0),(VLOOKUP(H$1680,(TABLE!WIN),(E1692*2))),(VLOOKUP(H$1680,(TABLE!LOSE),(E1692*2))))))","v":""}]
[null,{"$f":"SCORECARD!C706","v":0},null,null,{"$f":"SCORECARD!F706","v":" "},{"$f":"SCORECARD!G706","v":0},{"$f":"SCORECARD!H706","v":0},{"$f":"IF(NOT(OR(F1693>0,G1693>0)),\"\",(IF((F1693-G1693>0),(VLOOKUP(H$1680,(TABLE!WIN),(E1693*2))),(VLOOKUP(H$1680,(TABLE!LOSE),(E1693*2))))))","v":""}]
[null,{"$f":"SCORECARD!C707","v":0},null,null,{"$f":"SCORECARD!F707","v":" "},{"$f":"SCORECARD!G707","v":0},{"$f":"SCORECARD!H707","v":0},{"$f":"IF(NOT(OR(F1694>0,G1694>0)),\"\",(IF((F1694-G1694>0),(VLOOKUP(H$1680,(TABLE!WIN),(E1694*2))),(VLOOKUP(H$1680,(TABLE!LOSE),(E1694*2))))))","v":""}]
[null,{"$f":"SCORECARD!C708","v":0},null,null,{"$f":"SCORECARD!F708","v":" "},{"$f":"SCORECARD!G708","v":0},{"$f":"SCORECARD!H708","v":0},{"$f":"IF(NOT(OR(F1695>0,G1695>0)),\"\",(IF((F1695-G1695>0),(VLOOKUP(H$1680,(TABLE!WIN),(E1695*2))),(VLOOKUP(H$1680,(TABLE!LOSE),(E1695*2))))))","v":""}]
[null,{"$f":"SCORECARD!C709","v":0},null,null,{"$f":"SCORECARD!F709","v":" "},{"$f":"SCORECARD!G709","v":0},{"$f":"SCORECARD!H709","v":0},{"$f":"IF(NOT(OR(F1696>0,G1696>0)),\"\",(IF((F1696-G1696>0),(VLOOKUP(H$1680,(TABLE!WIN),(E1696*2))),(VLOOKUP(H$1680,(TABLE!LOSE),(E1696*2))))))","v":""}]
[null,{"$f":"SCORECARD!C710","v":0},null,null,{"$f":"SCORECARD!F710","v":" "},{"$f":"SCORECARD!G710","v":0},{"$f":"SCORECARD!H710","v":0},{"$f":"IF(NOT(OR(F1697>0,G1697>0)),\"\",(IF((F1697-G1697>0),(VLOOKUP(H$1680,(TABLE!WIN),(E1697*2))),(VLOOKUP(H$1680,(TABLE!LOSE),(E1697*2))))))","v":""}]
[null,{"$f":"SCORECARD!C711","v":0},null,null,{"$f":"SCORECARD!F711","v":" "},{"$f":"SCORECARD!G711","v":0},{"$f":"SCORECARD!H711","v":0},{"$f":"IF(NOT(OR(F1698>0,G1698>0)),\"\",(IF((F1698-G1698>0),(VLOOKUP(H$1680,(TABLE!WIN),(E1698*2))),(VLOOKUP(H$1680,(TABLE!LOSE),(E1698*2))))))","v":""}]
[]
[null,null,null,null,null,null,"Handicap adjustment points total   ",{"$f":"SUM(H1683:H1699)","v":0}]
[]
[]
[]
[]
[]
[]
[]
[]
[]
[]
[]
[]
[{"$f":"note1","v":"Time limit 2.5 hours, Turn After Bell (61.1.6). Quadway hoops (3 11/16\"), Dawson International balls"}]
[{"$f":"note2","v":"Games may start early. Please be at the venue at least 30 minutes earlier than the scheduled start time."}]
[{"$f":"note3","v":"Entry Fee $40 will be invoiced by email. Please pay by EFT using the invoice No. as reference."}]
[{"$f":"note4","v":"Players please assist with setting and clearing courts."}]
[null,null,null,null,{"$f":"BLOCK!F130","v":" Block 5 Player 2"}]
[null,null,null,null,{"$f":"BLOCK!N126","v":"Tournament"}]
[null,null,null,null,{"$f":"BLOCK!J128","v":"Singles"}]
[null,null,null,null,{"$f":"BLOCK!B130","v":"BLOCK 5"}]
[]
[null,null,null,null,"BLOCK PLAY SCHEDULE"]
[null,"TIME","DAY","COURT",null,"OPPONENT",null,null,"Handicap","PS","OS"]
[null,{"$f":"GAMES!B130","v":"00:00:00"},{"$f":"GAMES!C130","v":"00:00:00"},{"$f":"GAMES!D130","v":0},null,{"$f":"GAMES!G130","v":" Block 5 Player 4"},null,null,{"$f":"$E$1737","v":0},{"$f":"$F$1737","v":-1E-3},{"$f":"$G$1737","v":-1E-3}]
[null,{"$f":"GAMES!B135","v":"00:00:00"},{"$f":"GAMES!C135","v":"00:00:00"},{"$f":"GAMES!D135","v":0},null,{"$f":"GAMES!G135","v":" Block 5 Player 6"},null,null,{"$f":"$E$1739","v":0},{"$f":"$F$1739","v":-1E-3},{"$f":"$G$1739","v":-1E-3}]
[null,{"$f":"GAMES!B140","v":"00:00:00"},{"$f":"GAMES!C140","v":"00:00:00"},{"$f":"GAMES!D140","v":"--"},null,{"$f":"GAMES!G140","v":" Bye "},null,null,{"$f":"$E$1741","v":0},{"$f":"$F$1741","v":-1E-3},{"$f":"$G$1741","v":-1E-3}]
[null,{"$f":"GAMES!B144","v":"00:00:00"},{"$f":"GAMES!C144","v":"00:00:00"},{"$f":"GAMES!D144","v":0},null,{"$f":"GAMES!E144","v":" Block 5 Player 3"},null,null,{"$f":"$E$1736","v":0},{"$f":"$F$1736","v":-1E-3},{"$f":"$G$1736","v":-1E-3}]
[null,{"$f":"GAMES!B147","v":"00:00:00"},{"$f":"GAMES!C147","v":"00:00:00"},{"$f":"GAMES!D147","v":0},null,{"$f":"GAMES!E147","v":" Block 5 Player 5"},null,null,{"$f":"$E$1738","v":0},{"$f":"$F$1738","v":-1E-3},{"$f":"$G$1738","v":-1E-3}]
[null,{"$f":"GAMES!B150","v":"00:00:00"},{"$f":"GAMES!C150","v":"00:00:00"},{"$f":"GAMES!D150","v":0},null,{"$f":"GAMES!E150","v":" Block 5 Player 7"},null,null,{"$f":"$E$1740","v":0},{"$f":"$F$1740","v":-1E-3},{"$f":"$G$1740","v":-1E-3}]
[null,{"$f":"GAMES!B153","v":"00:00:00"},{"$f":"GAMES!C153","v":"00:00:00"},{"$f":"GAMES!D153","v":0},null,{"$f":"GAMES!E153","v":" Block 5 Player 1"},null,null,{"$f":"$E$1735","v":0},{"$f":"$F$1735","v":-1E-3},{"$f":"$G$1735","v":-1E-3}]
[]
[null,"PLAYER:",{"$f":"SCORECARD!D713","v":" Block 5 Player 2"},null,null,null,"HANDICAP",{"$f":"SCORECARD!I713","v":0}]
[null,null,null,null,"OPP","PLAYER","OPP","H/CAP"]
[null,null,"OPPONENT",null,"HCP","SCORE","SCORE","PTS"]
[null,{"$f":"SCORECARD!C716","v":" Block 5 Player 1"},null,null,{"$f":"SCORECARD!F716","v":0},{"$f":"SCORECARD!G716","v":-1E-3},{"$f":"SCORECARD!H716","v":-1E-3},{"$f":"IF(NOT(OR(F1735>0,G1735>0)),\"\",IF(HandicapPlay=\"x\",IF(F1735>G1735,10,-10),IF((F1735-G1735>0),(VLOOKUP(OFFSET(H1735,-3,0),(TABLE!WIN),(MATCH(E1735,WINCOL,0)+1))),(VLOOKUP(OFFSET(H1735,-3,0),(TABLE!LOSE),(MATCH(E1735,LOSECOL,0)+1))))))","v":""}]
[null,{"$f":"SCORECARD!C717","v":" Block 5 Player 3"},null,null,{"$f":"SCORECARD!F717","v":0},{"$f":"SCORECARD!G717","v":-1E-3},{"$f":"SCORECARD!H717","v":-1E-3},{"$f":"IF(NOT(OR(F1736>0,G1736>0)),\"\",IF(HandicapPlay=\"x\",IF(F1736>G1736,10,-10),IF((F1736-G1736>0),(VLOOKUP(OFFSET(H1736,-4,0),(TABLE!WIN),(MATCH(E1736,WINCOL,0)+1))),(VLOOKUP(OFFSET(H1736,-4,0),(TABLE!LOSE),(MATCH(E1736,LOSECOL,0)+1))))))","v":""}]
[null,{"$f":"SCORECARD!C718","v":" Block 5 Player 4"},null,null,{"$f":"SCORECARD!F718","v":0},{"$f":"SCORECARD!G718","v":-1E-3},{"$f":"SCORECARD!H718","v":-1E-3},{"$f":"IF(NOT(OR(F1737>0,G1737>0)),\"\",IF(HandicapPlay=\"x\",IF(F1737>G1737,10,-10),IF((F1737-G1737>0),(VLOOKUP(OFFSET(H1737,-5,0),(TABLE!WIN),(MATCH(E1737,WINCOL,0)+1))),(VLOOKUP(OFFSET(H1737,-5,0),(TABLE!LOSE),(MATCH(E1737,LOSECOL,0)+1))))))","v":""}]
[null,{"$f":"SCORECARD!C719","v":" Block 5 Player 5"},null,null,{"$f":"SCORECARD!F719","v":0},{"$f":"SCORECARD!G719","v":-1E-3},{"$f":"SCORECARD!H719","v":-1E-3},{"$f":"IF(NOT(OR(F1738>0,G1738>0)),\"\",IF(HandicapPlay=\"x\",IF(F1738>G1738,10,-10),IF((F1738-G1738>0),(VLOOKUP(OFFSET(H1738,-6,0),(TABLE!WIN),(MATCH(E1738,WINCOL,0)+1))),(VLOOKUP(OFFSET(H1738,-6,0),(TABLE!LOSE),(MATCH(E1738,LOSECOL,0)+1))))))","v":""}]
[null,{"$f":"SCORECARD!C720","v":" Block 5 Player 6"},null,null,{"$f":"SCORECARD!F720","v":0},{"$f":"SCORECARD!G720","v":-1E-3},{"$f":"SCORECARD!H720","v":-1E-3},{"$f":"IF(NOT(OR(F1739>0,G1739>0)),\"\",IF(HandicapPlay=\"x\",IF(F1739>G1739,10,-10),IF((F1739-G1739>0),(VLOOKUP(OFFSET(H1739,-7,0),(TABLE!WIN),(MATCH(E1739,WINCOL,0)+1))),(VLOOKUP(OFFSET(H1739,-7,0),(TABLE!LOSE),(MATCH(E1739,LOSECOL,0)+1))))))","v":""}]
[null,{"$f":"SCORECARD!C721","v":" Block 5 Player 7"},null,null,{"$f":"SCORECARD!F721","v":0},{"$f":"SCORECARD!G721","v":-1E-3},{"$f":"SCORECARD!H721","v":-1E-3},{"$f":"IF(NOT(OR(F1740>0,G1740>0)),\"\",IF(HandicapPlay=\"x\",IF(F1740>G1740,10,-10),IF((F1740-G1740>0),(VLOOKUP(OFFSET(H1740,-8,0),(TABLE!WIN),(MATCH(E1740,WINCOL,0)+1))),(VLOOKUP(OFFSET(H1740,-8,0),(TABLE!LOSE),(MATCH(E1740,LOSECOL,0)+1))))))","v":""}]
[null,{"$f":"SCORECARD!C722","v":" Bye "},null,null,{"$f":"SCORECARD!F722","v":0},{"$f":"SCORECARD!G722","v":-1E-3},{"$f":"SCORECARD!H722","v":-1E-3},{"$f":"IF(NOT(OR(F1741>0,G1741>0)),\"\",IF(HandicapPlay=\"x\",IF(F1741>G1741,10,-10),IF((F1741-G1741>0),(VLOOKUP(OFFSET(H1741,-9,0),(TABLE!WIN),(MATCH(E1741,WINCOL,0)+1))),(VLOOKUP(OFFSET(H1741,-9,0),(TABLE!LOSE),(MATCH(E1741,LOSECOL,0)+1))))))","v":""}]
[null,{"$f":"SCORECARD!C723","v":0},null,null,{"$f":"SCORECARD!F723","v":" "},{"$f":"SCORECARD!G723","v":0},{"$f":"SCORECARD!H723","v":0},{"$f":"IF(NOT(OR(F1742>0,G1742>0)),\"\",(IF((F1742-G1742>0),(VLOOKUP(H$1732,(TABLE!WIN),(E1742*2))),(VLOOKUP(H$1732,(TABLE!LOSE),(E1742*2))))))","v":""}]
[null,{"$f":"SCORECARD!C724","v":0},null,null,{"$f":"SCORECARD!F724","v":" "},{"$f":"SCORECARD!G724","v":0},{"$f":"SCORECARD!H724","v":0},{"$f":"IF(NOT(OR(F1743>0,G1743>0)),\"\",(IF((F1743-G1743>0),(VLOOKUP(H$1732,(TABLE!WIN),(E1743*2))),(VLOOKUP(H$1732,(TABLE!LOSE),(E1743*2))))))","v":""}]
[null,{"$f":"SCORECARD!C725","v":0},null,null,{"$f":"SCORECARD!F725","v":" "},{"$f":"SCORECARD!G725","v":0},{"$f":"SCORECARD!H725","v":0},{"$f":"IF(NOT(OR(F1744>0,G1744>0)),\"\",(IF((F1744-G1744>0),(VLOOKUP(H$1732,(TABLE!WIN),(E1744*2))),(VLOOKUP(H$1732,(TABLE!LOSE),(E1744*2))))))","v":""}]
[null,{"$f":"SCORECARD!C726","v":0},null,null,{"$f":"SCORECARD!F726","v":" "},{"$f":"SCORECARD!G726","v":0},{"$f":"SCORECARD!H726","v":0},{"$f":"IF(NOT(OR(F1745>0,G1745>0)),\"\",(IF((F1745-G1745>0),(VLOOKUP(H$1732,(TABLE!WIN),(E1745*2))),(VLOOKUP(H$1732,(TABLE!LOSE),(E1745*2))))))","v":""}]
[null,{"$f":"SCORECARD!C727","v":0},null,null,{"$f":"SCORECARD!F727","v":" "},{"$f":"SCORECARD!G727","v":0},{"$f":"SCORECARD!H727","v":0},{"$f":"IF(NOT(OR(F1746>0,G1746>0)),\"\",(IF((F1746-G1746>0),(VLOOKUP(H$1732,(TABLE!WIN),(E1746*2))),(VLOOKUP(H$1732,(TABLE!LOSE),(E1746*2))))))","v":""}]
[null,{"$f":"SCORECARD!C728","v":0},null,null,{"$f":"SCORECARD!F728","v":" "},{"$f":"SCORECARD!G728","v":0},{"$f":"SCORECARD!H728","v":0},{"$f":"IF(NOT(OR(F1747>0,G1747>0)),\"\",(IF((F1747-G1747>0),(VLOOKUP(H$1732,(TABLE!WIN),(E1747*2))),(VLOOKUP(H$1732,(TABLE!LOSE),(E1747*2))))))","v":""}]
[null,{"$f":"SCORECARD!C729","v":0},null,null,{"$f":"SCORECARD!F729","v":" "},{"$f":"SCORECARD!G729","v":0},{"$f":"SCORECARD!H729","v":0},{"$f":"IF(NOT(OR(F1748>0,G1748>0)),\"\",(IF((F1748-G1748>0),(VLOOKUP(H$1732,(TABLE!WIN),(E1748*2))),(VLOOKUP(H$1732,(TABLE!LOSE),(E1748*2))))))","v":""}]
[null,{"$f":"SCORECARD!C730","v":0},null,null,{"$f":"SCORECARD!F730","v":" "},{"$f":"SCORECARD!G730","v":0},{"$f":"SCORECARD!H730","v":0},{"$f":"IF(NOT(OR(F1749>0,G1749>0)),\"\",(IF((F1749-G1749>0),(VLOOKUP(H$1732,(TABLE!WIN),(E1749*2))),(VLOOKUP(H$1732,(TABLE!LOSE),(E1749*2))))))","v":""}]
[null,{"$f":"SCORECARD!C731","v":0},null,null,{"$f":"SCORECARD!F731","v":" "},{"$f":"SCORECARD!G731","v":0},{"$f":"SCORECARD!H731","v":0},{"$f":"IF(NOT(OR(F1750>0,G1750>0)),\"\",(IF((F1750-G1750>0),(VLOOKUP(H$1732,(TABLE!WIN),(E1750*2))),(VLOOKUP(H$1732,(TABLE!LOSE),(E1750*2))))))","v":""}]
[]
[null,null,null,null,null,null,"Handicap adjustment points total   ",{"$f":"SUM(H1735:H1751)","v":0}]
[]
[]
[]
[]
[]
[]
[]
[]
[]
[]
[]
[]
[{"$f":"note1","v":"Time limit 2.5 hours, Turn After Bell (61.1.6). Quadway hoops (3 11/16\"), Dawson International balls"}]
[{"$f":"note2","v":"Games may start early. Please be at the venue at least 30 minutes earlier than the scheduled start time."}]
[{"$f":"note3","v":"Entry Fee $40 will be invoiced by email. Please pay by EFT using the invoice No. as reference."}]
[{"$f":"note4","v":"Players please assist with setting and clearing courts."}]
[null,null,null,null,{"$f":"BLOCK!I130","v":" Block 5 Player 3"}]
[null,null,null,null,{"$f":"BLOCK!N126","v":"Tournament"}]
[null,null,null,null,{"$f":"BLOCK!J128","v":"Singles"}]
[null,null,null,null,{"$f":"BLOCK!B130","v":"BLOCK 5"}]
[]
[null,null,null,null,"BLOCK PLAY SCHEDULE"]
[null,"TIME","DAY","COURT",null,"OPPONENT",null,null,"Handicap","PS","OS"]
[null,{"$f":"GAMES!B129","v":"00:00:00"},{"$f":"GAMES!C129","v":"00:00:00"},{"$f":"GAMES!D129","v":0},null,{"$f":"GAMES!E129","v":" Block 5 Player 1"},null,null,{"$f":"$E$1787","v":0},{"$f":"$F$1787","v":-1E-3},{"$f":"$G$1787","v":-1E-3}]
[null,{"$f":"GAMES!B134","v":"00:00:00"},{"$f":"GAMES!C134","v":"00:00:00"},{"$f":"GAMES!D134","v":0},null,{"$f":"GAMES!G134","v":" Block 5 Player 5"},null,null,{"$f":"$E$1790","v":0},{"$f":"$F$1790","v":-1E-3},{"$f":"$G$1790","v":-1E-3}]
[null,{"$f":"GAMES!B139","v":"00:00:00"},{"$f":"GAMES!C139","v":"00:00:00"},{"$f":"GAMES!D139","v":0},null,{"$f":"GAMES!G139","v":" Block 5 Player 7"},null,null,{"$f":"$E$1792","v":0},{"$f":"$F$1792","v":-1E-3},{"$f":"$G$1792","v":-1E-3}]
[null,{"$f":"GAMES!B144","v":"00:00:00"},{"$f":"GAMES!C144","v":"00:00:00"},{"$f":"GAMES!D144","v":0},null,{"$f":"GAMES!G144","v":" Block 5 Player 2"},null,null,{"$f":"$E$1788","v":0},{"$f":"$F$1788","v":-1E-3},{"$f":"$G$1788","v":-1E-3}]
[null,{"$f":"GAMES!B148","v":"00:00:00"},{"$f":"GAMES!C148","v":"00:00:00"},{"$f":"GAMES!D148","v":0},null,{"$f":"GAMES!E148","v":" Block 5 Player 4"},null,null,{"$f":"$E$1789","v":0},{"$f":"$F$1789","v":-1E-3},{"$f":"$G$1789","v":-1E-3}]
[null,{"$f":"GAMES!B151","v":"00:00:00"},{"$f":"GAMES!C151","v":"00:00:00"},{"$f":"GAMES!D151","v":0},null,{"$f":"GAMES!E151","v":" Block 5 Player 6"},null,null,{"$f":"$E$1791","v":0},{"$f":"$F$1791","v":-1E-3},{"$f":"$G$1791","v":-1E-3}]
[null,{"$f":"GAMES!B154","v":"00:00:00"},{"$f":"GAMES!C154","v":"00:00:00"},{"$f":"GAMES!D154","v":"--"},null,{"$f":"GAMES!E154","v":" Bye "},null,null,{"$f":"$E$1793","v":0},{"$f":"$F$1793","v":-1E-3},{"$f":"$G$1793","v":-1E-3}]
[]
[null,"PLAYER:",{"$f":"SCORECARD!D736","v":" Block 5 Player 3"},null,null,null,"HANDICAP",{"$f":"SCORECARD!I736","v":0}]
[null,null,null,null,"OPP","PLAYER","OPP","H/CAP"]
[null,null,"OPPONENT",null,"HCP","SCORE","SCORE","PTS"]
[null,{"$f":"SCORECARD!C739","v":" Block 5 Player 1"},null,null,{"$f":"SCORECARD!F739","v":0},{"$f":"SCORECARD!G739","v":-1E-3},{"$f":"SCORECARD!H739","v":-1E-3},{"$f":"IF(NOT(OR(F1787>0,G1787>0)),\"\",IF(HandicapPlay=\"x\",IF(F1787>G1787,10,-10),IF((F1787-G1787>0),(VLOOKUP(OFFSET(H1787,-3,0),(TABLE!WIN),(MATCH(E1787,WINCOL,0)+1))),(VLOOKUP(OFFSET(H1787,-3,0),(TABLE!LOSE),(MATCH(E1787,LOSECOL,0)+1))))))","v":""}]
[null,{"$f":"SCORECARD!C740","v":" Block 5 Player 2"},null,null,{"$f":"SCORECARD!F740","v":0},{"$f":"SCORECARD!G740","v":-1E-3},{"$f":"SCORECARD!H740","v":-1E-3},{"$f":"IF(NOT(OR(F1788>0,G1788>0)),\"\",IF(HandicapPlay=\"x\",IF(F1788>G1788,10,-10),IF((F1788-G1788>0),(VLOOKUP(OFFSET(H1788,-4,0),(TABLE!WIN),(MATCH(E1788,WINCOL,0)+1))),(VLOOKUP(OFFSET(H1788,-4,0),(TABLE!LOSE),(MATCH(E1788,LOSECOL,0)+1))))))","v":""}]
[null,{"$f":"SCORECARD!C741","v":" Block 5 Player 4"},null,null,{"$f":"SCORECARD!F741","v":0},{"$f":"SCORECARD!G741","v":-1E-3},{"$f":"SCORECARD!H741","v":-1E-3},{"$f":"IF(NOT(OR(F1789>0,G1789>0)),\"\",IF(HandicapPlay=\"x\",IF(F1789>G1789,10,-10),IF((F1789-G1789>0),(VLOOKUP(OFFSET(H1789,-5,0),(TABLE!WIN),(MATCH(E1789,WINCOL,0)+1))),(VLOOKUP(OFFSET(H1789,-5,0),(TABLE!LOSE),(MATCH(E1789,LOSECOL,0)+1))))))","v":""}]
[null,{"$f":"SCORECARD!C742","v":" Block 5 Player 5"},null,null,{"$f":"SCORECARD!F742","v":0},{"$f":"SCORECARD!G742","v":-1E-3},{"$f":"SCORECARD!H742","v":-1E-3},{"$f":"IF(NOT(OR(F1790>0,G1790>0)),\"\",IF(HandicapPlay=\"x\",IF(F1790>G1790,10,-10),IF((F1790-G1790>0),(VLOOKUP(OFFSET(H1790,-6,0),(TABLE!WIN),(MATCH(E1790,WINCOL,0)+1))),(VLOOKUP(OFFSET(H1790,-6,0),(TABLE!LOSE),(MATCH(E1790,LOSECOL,0)+1))))))","v":""}]
[null,{"$f":"SCORECARD!C743","v":" Block 5 Player 6"},null,null,{"$f":"SCORECARD!F743","v":0},{"$f":"SCORECARD!G743","v":-1E-3},{"$f":"SCORECARD!H743","v":-1E-3},{"$f":"IF(NOT(OR(F1791>0,G1791>0)),\"\",IF(HandicapPlay=\"x\",IF(F1791>G1791,10,-10),IF((F1791-G1791>0),(VLOOKUP(OFFSET(H1791,-7,0),(TABLE!WIN),(MATCH(E1791,WINCOL,0)+1))),(VLOOKUP(OFFSET(H1791,-7,0),(TABLE!LOSE),(MATCH(E1791,LOSECOL,0)+1))))))","v":""}]
[null,{"$f":"SCORECARD!C744","v":" Block 5 Player 7"},null,null,{"$f":"SCORECARD!F744","v":0},{"$f":"SCORECARD!G744","v":-1E-3},{"$f":"SCORECARD!H744","v":-1E-3},{"$f":"IF(NOT(OR(F1792>0,G1792>0)),\"\",IF(HandicapPlay=\"x\",IF(F1792>G1792,10,-10),IF((F1792-G1792>0),(VLOOKUP(OFFSET(H1792,-8,0),(TABLE!WIN),(MATCH(E1792,WINCOL,0)+1))),(VLOOKUP(OFFSET(H1792,-8,0),(TABLE!LOSE),(MATCH(E1792,LOSECOL,0)+1))))))","v":""}]
[null,{"$f":"SCORECARD!C745","v":" Bye "},null,null,{"$f":"SCORECARD!F745","v":0},{"$f":"SCORECARD!G745","v":-1E-3},{"$f":"SCORECARD!H745","v":-1E-3},{"$f":"IF(NOT(OR(F1793>0,G1793>0)),\"\",IF(HandicapPlay=\"x\",IF(F1793>G1793,10,-10),IF((F1793-G1793>0),(VLOOKUP(OFFSET(H1793,-9,0),(TABLE!WIN),(MATCH(E1793,WINCOL,0)+1))),(VLOOKUP(OFFSET(H1793,-9,0),(TABLE!LOSE),(MATCH(E1793,LOSECOL,0)+1))))))","v":""}]
[null,{"$f":"SCORECARD!C746","v":0},null,null,{"$f":"SCORECARD!F746","v":" "},{"$f":"SCORECARD!G746","v":0},{"$f":"SCORECARD!H746","v":0},{"$f":"IF(NOT(OR(F1794>0,G1794>0)),\"\",(IF((F1794-G1794>0),(VLOOKUP(H$1784,(TABLE!WIN),(E1794*2))),(VLOOKUP(H$1784,(TABLE!LOSE),(E1794*2))))))","v":""}]
[null,{"$f":"SCORECARD!C747","v":0},null,null,{"$f":"SCORECARD!F747","v":" "},{"$f":"SCORECARD!G747","v":0},{"$f":"SCORECARD!H747","v":0},{"$f":"IF(NOT(OR(F1795>0,G1795>0)),\"\",(IF((F1795-G1795>0),(VLOOKUP(H$1784,(TABLE!WIN),(E1795*2))),(VLOOKUP(H$1784,(TABLE!LOSE),(E1795*2))))))","v":""}]
[null,{"$f":"SCORECARD!C748","v":0},null,null,{"$f":"SCORECARD!F748","v":" "},{"$f":"SCORECARD!G748","v":0},{"$f":"SCORECARD!H748","v":0},{"$f":"IF(NOT(OR(F1796>0,G1796>0)),\"\",(IF((F1796-G1796>0),(VLOOKUP(H$1784,(TABLE!WIN),(E1796*2))),(VLOOKUP(H$1784,(TABLE!LOSE),(E1796*2))))))","v":""}]
[null,{"$f":"SCORECARD!C749","v":0},null,null,{"$f":"SCORECARD!F749","v":" "},{"$f":"SCORECARD!G749","v":0},{"$f":"SCORECARD!H749","v":0},{"$f":"IF(NOT(OR(F1797>0,G1797>0)),\"\",(IF((F1797-G1797>0),(VLOOKUP(H$1784,(TABLE!WIN),(E1797*2))),(VLOOKUP(H$1784,(TABLE!LOSE),(E1797*2))))))","v":""}]
[null,{"$f":"SCORECARD!C750","v":0},null,null,{"$f":"SCORECARD!F750","v":" "},{"$f":"SCORECARD!G750","v":0},{"$f":"SCORECARD!H750","v":0},{"$f":"IF(NOT(OR(F1798>0,G1798>0)),\"\",(IF((F1798-G1798>0),(VLOOKUP(H$1784,(TABLE!WIN),(E1798*2))),(VLOOKUP(H$1784,(TABLE!LOSE),(E1798*2))))))","v":""}]
[null,{"$f":"SCORECARD!C751","v":0},null,null,{"$f":"SCORECARD!F751","v":" "},{"$f":"SCORECARD!G751","v":0},{"$f":"SCORECARD!H751","v":0},{"$f":"IF(NOT(OR(F1799>0,G1799>0)),\"\",(IF((F1799-G1799>0),(VLOOKUP(H$1784,(TABLE!WIN),(E1799*2))),(VLOOKUP(H$1784,(TABLE!LOSE),(E1799*2))))))","v":""}]
[null,{"$f":"SCORECARD!C752","v":0},null,null,{"$f":"SCORECARD!F752","v":" "},{"$f":"SCORECARD!G752","v":0},{"$f":"SCORECARD!H752","v":0},{"$f":"IF(NOT(OR(F1800>0,G1800>0)),\"\",(IF((F1800-G1800>0),(VLOOKUP(H$1784,(TABLE!WIN),(E1800*2))),(VLOOKUP(H$1784,(TABLE!LOSE),(E1800*2))))))","v":""}]
[null,{"$f":"SCORECARD!C753","v":0},null,null,{"$f":"SCORECARD!F753","v":" "},{"$f":"SCORECARD!G753","v":0},{"$f":"SCORECARD!H753","v":0},{"$f":"IF(NOT(OR(F1801>0,G1801>0)),\"\",(IF((F1801-G1801>0),(VLOOKUP(H$1784,(TABLE!WIN),(E1801*2))),(VLOOKUP(H$1784,(TABLE!LOSE),(E1801*2))))))","v":""}]
[null,{"$f":"SCORECARD!C754","v":0},null,null,{"$f":"SCORECARD!F754","v":" "},{"$f":"SCORECARD!G754","v":0},{"$f":"SCORECARD!H754","v":0},{"$f":"IF(NOT(OR(F1802>0,G1802>0)),\"\",(IF((F1802-G1802>0),(VLOOKUP(H$1784,(TABLE!WIN),(E1802*2))),(VLOOKUP(H$1784,(TABLE!LOSE),(E1802*2))))))","v":""}]
[]
[null,null,null,null,null,null,"Handicap adjustment points total   ",{"$f":"SUM(H1787:H1803)","v":0}]
[]
[]
[]
[]
[]
[]
[]
[]
[]
[]
[]
[]
[{"$f":"note1","v":"Time limit 2.5 hours, Turn After Bell (61.1.6). Quadway hoops (3 11/16\"), Dawson International balls"}]
[{"$f":"note2","v":"Games may start early. Please be at the venue at least 30 minutes earlier than the scheduled start time."}]
[{"$f":"note3","v":"Entry Fee $40 will be invoiced by email. Please pay by EFT using the invoice No. as reference."}]
[{"$f":"note4","v":"Players please assist with setting and clearing courts."}]
[null,null,null,null,{"$f":"BLOCK!L130","v":" Block 5 Player 4"}]
[null,null,null,null,{"$f":"BLOCK!N126","v":"Tournament"}]
[null,null,null,null,{"$f":"BLOCK!J128","v":"Singles"}]
[null,null,null,null,{"$f":"BLOCK!B130","v":"BLOCK 5"}]
[]
[null,null,null,null,"BLOCK PLAY SCHEDULE"]
[null,"TIME","DAY","COURT",null,"OPPONENT",null,null,"Handicap","PS","OS"]
[null,{"$f":"GAMES!B130","v":"00:00:00"},{"$f":"GAMES!C130","v":"00:00:00"},{"$f":"GAMES!D130","v":0},null,{"$f":"GAMES!E130","v":" Block 5 Player 2"},null,null,{"$f":"$E$1840","v":0},{"$f":"$F$1840","v":-1E-3},{"$f":"$G$1840","v":-1E-3}]
[null,{"$f":"GAMES!B133","v":"00:00:00"},{"$f":"GAMES!C133","v":"00:00:00"},{"$f":"GAMES!D133","v":0},null,{"$f":"GAMES!E133","v":" Block 5 Player 1"},null,null,{"$f":"$E$1839","v":0},{"$f":"$F$1839","v":-1E-3},{"$f":"$G$1839","v":-1E-3}]
[null,{"$f":"GAMES!B138","v":"00:00:00"},{"$f":"GAMES!C138","v":"00:00:00"},{"$f":"GAMES!D138","v":0},null,{"$f":"GAMES!G138","v":" Block 5 Player 6"},null,null,{"$f":"$E$1843","v":0},{"$f":"$F$1843","v":-1E-3},{"$f":"$G$1843","v":-1E-3}]
[null,{"$f":"GAMES!B143","v":"00:00:00"},{"$f":"GAMES!C143","v":"00:00:00"},{"$f":"GAMES!D143","v":"--"},null,{"$f":"GAMES!G143","v":" Bye "},null,null,{"$f":"$E$1845","v":0},{"$f":"$F$1845","v":-1E-3},{"$f":"$G$1845","v":-1E-3}]
[null,{"$f":"GAMES!B148","v":"00:00:00"},{"$f":"GAMES!C148","v":"00:00:00"},{"$f":"GAMES!D148","v":0},null,{"$f":"GAMES!G148","v":" Block 5 Player 3"},null,null,{"$f":"$E$1841","v":0},{"$f":"$F$1841","v":-1E-3},{"$f":"$G$1841","v":-1E-3}]
[null,{"$f":"GAMES!B152","v":"00:00:00"},{"$f":"GAMES!C152","v":"00:00:00"},{"$f":"GAMES!D152","v":0},null,{"$f":"GAMES!E152","v":" Block 5 Player 5"},null,null,{"$f":"$E$1842","v":0},{"$f":"$F$1842","v":-1E-3},{"$f":"$G$1842","v":-1E-3}]
[null,{"$f":"GAMES!B155","v":"00:00:00"},{"$f":"GAMES!C155","v":"00:00:00"},{"$f":"GAMES!D155","v":0},null,{"$f":"GAMES!E155","v":" Block 5 Player 7"},null,null,{"$f":"$E$1844","v":0},{"$f":"$F$1844","v":-1E-3},{"$f":"$G$1844","v":-1E-3}]
[]
[null,"PLAYER:",{"$f":"SCORECARD!D756","v":" Block 5 Player 4"},null,null,null,"HANDICAP",{"$f":"SCORECARD!I756","v":0}]
[null,null,null,null,"OPP","PLAYER","OPP","H/CAP"]
[null,null,"OPPONENT",null,"HCP","SCORE","SCORE","PTS"]
[null,{"$f":"SCORECARD!C759","v":" Block 5 Player 1"},null,null,{"$f":"SCORECARD!F759","v":0},{"$f":"SCORECARD!G759","v":-1E-3},{"$f":"SCORECARD!H759","v":-1E-3},{"$f":"IF(NOT(OR(F1839>0,G1839>0)),\"\",IF(HandicapPlay=\"x\",IF(F1839>G1839,10,-10),IF((F1839-G1839>0),(VLOOKUP(OFFSET(H1839,-3,0),(TABLE!WIN),(MATCH(E1839,WINCOL,0)+1))),(VLOOKUP(OFFSET(H1839,-3,0),(TABLE!LOSE),(MATCH(E1839,LOSECOL,0)+1))))))","v":""}]
[null,{"$f":"SCORECARD!C760","v":" Block 5 Player 2"},null,null,{"$f":"SCORECARD!F760","v":0},{"$f":"SCORECARD!G760","v":-1E-3},{"$f":"SCORECARD!H760","v":-1E-3},{"$f":"IF(NOT(OR(F1840>0,G1840>0)),\"\",IF(HandicapPlay=\"x\",IF(F1840>G1840,10,-10),IF((F1840-G1840>0),(VLOOKUP(OFFSET(H1840,-4,0),(TABLE!WIN),(MATCH(E1840,WINCOL,0)+1))),(VLOOKUP(OFFSET(H1840,-4,0),(TABLE!LOSE),(MATCH(E1840,LOSECOL,0)+1))))))","v":""}]
[null,{"$f":"SCORECARD!C761","v":" Block 5 Player 3"},null,null,{"$f":"SCORECARD!F761","v":0},{"$f":"SCORECARD!G761","v":-1E-3},{"$f":"SCORECARD!H761","v":-1E-3},{"$f":"IF(NOT(OR(F1841>0,G1841>0)),\"\",IF(HandicapPlay=\"x\",IF(F1841>G1841,10,-10),IF((F1841-G1841>0),(VLOOKUP(OFFSET(H1841,-5,0),(TABLE!WIN),(MATCH(E1841,WINCOL,0)+1))),(VLOOKUP(OFFSET(H1841,-5,0),(TABLE!LOSE),(MATCH(E1841,LOSECOL,0)+1))))))","v":""}]
[null,{"$f":"SCORECARD!C762","v":" Block 5 Player 5"},null,null,{"$f":"SCORECARD!F762","v":0},{"$f":"SCORECARD!G762","v":-1E-3},{"$f":"SCORECARD!H762","v":-1E-3},{"$f":"IF(NOT(OR(F1842>0,G1842>0)),\"\",IF(HandicapPlay=\"x\",IF(F1842>G1842,10,-10),IF((F1842-G1842>0),(VLOOKUP(OFFSET(H1842,-6,0),(TABLE!WIN),(MATCH(E1842,WINCOL,0)+1))),(VLOOKUP(OFFSET(H1842,-6,0),(TABLE!LOSE),(MATCH(E1842,LOSECOL,0)+1))))))","v":""}]
[null,{"$f":"SCORECARD!C763","v":" Block 5 Player 6"},null,null,{"$f":"SCORECARD!F763","v":0},{"$f":"SCORECARD!G763","v":-1E-3},{"$f":"SCORECARD!H763","v":-1E-3},{"$f":"IF(NOT(OR(F1843>0,G1843>0)),\"\",IF(HandicapPlay=\"x\",IF(F1843>G1843,10,-10),IF((F1843-G1843>0),(VLOOKUP(OFFSET(H1843,-7,0),(TABLE!WIN),(MATCH(E1843,WINCOL,0)+1))),(VLOOKUP(OFFSET(H1843,-7,0),(TABLE!LOSE),(MATCH(E1843,LOSECOL,0)+1))))))","v":""}]
[null,{"$f":"SCORECARD!C764","v":" Block 5 Player 7"},null,null,{"$f":"SCORECARD!F764","v":0},{"$f":"SCORECARD!G764","v":-1E-3},{"$f":"SCORECARD!H764","v":-1E-3},{"$f":"IF(NOT(OR(F1844>0,G1844>0)),\"\",IF(HandicapPlay=\"x\",IF(F1844>G1844,10,-10),IF((F1844-G1844>0),(VLOOKUP(OFFSET(H1844,-8,0),(TABLE!WIN),(MATCH(E1844,WINCOL,0)+1))),(VLOOKUP(OFFSET(H1844,-8,0),(TABLE!LOSE),(MATCH(E1844,LOSECOL,0)+1))))))","v":""}]
[null,{"$f":"SCORECARD!C765","v":" Bye "},null,null,{"$f":"SCORECARD!F765","v":0},{"$f":"SCORECARD!G765","v":-1E-3},{"$f":"SCORECARD!H765","v":-1E-3},{"$f":"IF(NOT(OR(F1845>0,G1845>0)),\"\",IF(HandicapPlay=\"x\",IF(F1845>G1845,10,-10),IF((F1845-G1845>0),(VLOOKUP(OFFSET(H1845,-9,0),(TABLE!WIN),(MATCH(E1845,WINCOL,0)+1))),(VLOOKUP(OFFSET(H1845,-9,0),(TABLE!LOSE),(MATCH(E1845,LOSECOL,0)+1))))))","v":""}]
[null,{"$f":"SCORECARD!C766","v":0},null,null,{"$f":"SCORECARD!F766","v":" "},{"$f":"SCORECARD!G766","v":0},{"$f":"SCORECARD!H766","v":0},{"$f":"IF(NOT(OR(F1846>0,G1846>0)),\"\",(IF((F1846-G1846>0),(VLOOKUP(H$1836,(TABLE!WIN),(E1846*2))),(VLOOKUP(H$1836,(TABLE!LOSE),(E1846*2))))))","v":""}]
[null,{"$f":"SCORECARD!C767","v":0},null,null,{"$f":"SCORECARD!F767","v":" "},{"$f":"SCORECARD!G767","v":0},{"$f":"SCORECARD!H767","v":0},{"$f":"IF(NOT(OR(F1847>0,G1847>0)),\"\",(IF((F1847-G1847>0),(VLOOKUP(H$1836,(TABLE!WIN),(E1847*2))),(VLOOKUP(H$1836,(TABLE!LOSE),(E1847*2))))))","v":""}]
[null,{"$f":"SCORECARD!C768","v":0},null,null,{"$f":"SCORECARD!F768","v":" "},{"$f":"SCORECARD!G768","v":0},{"$f":"SCORECARD!H768","v":0},{"$f":"IF(NOT(OR(F1848>0,G1848>0)),\"\",(IF((F1848-G1848>0),(VLOOKUP(H$1836,(TABLE!WIN),(E1848*2))),(VLOOKUP(H$1836,(TABLE!LOSE),(E1848*2))))))","v":""}]
[null,{"$f":"SCORECARD!C769","v":0},null,null,{"$f":"SCORECARD!F769","v":" "},{"$f":"SCORECARD!G769","v":0},{"$f":"SCORECARD!H769","v":0},{"$f":"IF(NOT(OR(F1849>0,G1849>0)),\"\",(IF((F1849-G1849>0),(VLOOKUP(H$1836,(TABLE!WIN),(E1849*2))),(VLOOKUP(H$1836,(TABLE!LOSE),(E1849*2))))))","v":""}]
[null,{"$f":"SCORECARD!C770","v":0},null,null,{"$f":"SCORECARD!F770","v":" "},{"$f":"SCORECARD!G770","v":0},{"$f":"SCORECARD!H770","v":0},{"$f":"IF(NOT(OR(F1850>0,G1850>0)),\"\",(IF((F1850-G1850>0),(VLOOKUP(H$1836,(TABLE!WIN),(E1850*2))),(VLOOKUP(H$1836,(TABLE!LOSE),(E1850*2))))))","v":""}]
[null,{"$f":"SCORECARD!C771","v":0},null,null,{"$f":"SCORECARD!F771","v":" "},{"$f":"SCORECARD!G771","v":0},{"$f":"SCORECARD!H771","v":0},{"$f":"IF(NOT(OR(F1851>0,G1851>0)),\"\",(IF((F1851-G1851>0),(VLOOKUP(H$1836,(TABLE!WIN),(E1851*2))),(VLOOKUP(H$1836,(TABLE!LOSE),(E1851*2))))))","v":""}]
[null,{"$f":"SCORECARD!C772","v":0},null,null,{"$f":"SCORECARD!F772","v":" "},{"$f":"SCORECARD!G772","v":0},{"$f":"SCORECARD!H772","v":0},{"$f":"IF(NOT(OR(F1852>0,G1852>0)),\"\",(IF((F1852-G1852>0),(VLOOKUP(H$1836,(TABLE!WIN),(E1852*2))),(VLOOKUP(H$1836,(TABLE!LOSE),(E1852*2))))))","v":""}]
[null,{"$f":"SCORECARD!C773","v":0},null,null,{"$f":"SCORECARD!F773","v":" "},{"$f":"SCORECARD!G773","v":0},{"$f":"SCORECARD!H773","v":0},{"$f":"IF(NOT(OR(F1853>0,G1853>0)),\"\",(IF((F1853-G1853>0),(VLOOKUP(H$1836,(TABLE!WIN),(E1853*2))),(VLOOKUP(H$1836,(TABLE!LOSE),(E1853*2))))))","v":""}]
[null,{"$f":"SCORECARD!C774","v":0},null,null,{"$f":"SCORECARD!F774","v":" "},{"$f":"SCORECARD!G774","v":0},{"$f":"SCORECARD!H774","v":0},{"$f":"IF(NOT(OR(F1854>0,G1854>0)),\"\",(IF((F1854-G1854>0),(VLOOKUP(H$1836,(TABLE!WIN),(E1854*2))),(VLOOKUP(H$1836,(TABLE!LOSE),(E1854*2))))))","v":""}]
[]
[null,null,null,null,null,null,"Handicap adjustment points total   ",{"$f":"SUM(H1839:H1855)","v":0}]
[]
[]
[]
[]
[]
[]
[]
[]
[]
[]
[]
[]
[{"$f":"note1","v":"Time limit 2.5 hours, Turn After Bell (61.1.6). Quadway hoops (3 11/16\"), Dawson International balls"}]
[{"$f":"note2","v":"Games may start early. Please be at the venue at least 30 minutes earlier than the scheduled start time."}]
[{"$f":"note3","v":"Entry Fee $40 will be invoiced by email. Please pay by EFT using the invoice No. as reference."}]
[{"$f":"note4","v":"Players please assist with setting and clearing courts."}]
[null,null,null,null,{"$f":"BLOCK!O130","v":" Block 5 Player 5"}]
[null,null,null,null,{"$f":"BLOCK!N126","v":"Tournament"}]
[null,null,null,null,{"$f":"BLOCK!J128","v":"Singles"}]
[null,null,null,null,{"$f":"BLOCK!B130","v":"BLOCK 5"}]
[]
[null,null,null,null,"BLOCK PLAY SCHEDULE"]
[null,"TIME","DAY","COURT",null,"OPPONENT",null,null,"Handicap","PS","OS"]
[null,{"$f":"GAMES!B131","v":"00:00:00"},{"$f":"GAMES!C131","v":"00:00:00"},{"$f":"GAMES!D131","v":"--"},null,{"$f":"GAMES!E131","v":" Bye "},null,null,{"$f":"$E$1897","v":0},{"$f":"$F$1897","v":-1E-3},{"$f":"$G$1897","v":-1E-3}]
[null,{"$f":"GAMES!B134","v":"00:00:00"},{"$f":"GAMES!C134","v":"00:00:00"},{"$f":"GAMES!D134","v":0},null,{"$f":"GAMES!E134","v":" Block 5 Player 3"},null,null,{"$f":"$E$1893","v":0},{"$f":"$F$1893","v":-1E-3},{"$f":"$G$1893","v":-1E-3}]
[null,{"$f":"GAMES!B137","v":"00:00:00"},{"$f":"GAMES!C137","v":"00:00:00"},{"$f":"GAMES!D137","v":0},null,{"$f":"GAMES!E137","v":" Block 5 Player 1"},null,null,{"$f":"$E$1891","v":0},{"$f":"$F$1891","v":-1E-3},{"$f":"$G$1891","v":-1E-3}]
[null,{"$f":"GAMES!B142","v":"00:00:00"},{"$f":"GAMES!C142","v":"00:00:00"},{"$f":"GAMES!D142","v":0},null,{"$f":"GAMES!G142","v":" Block 5 Player 7"},null,null,{"$f":"$E$1896","v":0},{"$f":"$F$1896","v":-1E-3},{"$f":"$G$1896","v":-1E-3}]
[null,{"$f":"GAMES!B147","v":"00:00:00"},{"$f":"GAMES!C147","v":"00:00:00"},{"$f":"GAMES!D147","v":0},null,{"$f":"GAMES!G147","v":" Block 5 Player 2"},null,null,{"$f":"$E$1892","v":0},{"$f":"$F$1892","v":-1E-3},{"$f":"$G$1892","v":-1E-3}]
[null,{"$f":"GAMES!B152","v":"00:00:00"},{"$f":"GAMES!C152","v":"00:00:00"},{"$f":"GAMES!D152","v":0},null,{"$f":"GAMES!G152","v":" Block 5 Player 4"},null,null,{"$f":"$E$1894","v":0},{"$f":"$F$1894","v":-1E-3},{"$f":"$G$1894","v":-1E-3}]
[null,{"$f":"GAMES!B156","v":"00:00:00"},{"$f":"GAMES!C156","v":"00:00:00"},{"$f":"GAMES!D156","v":0},null,{"$f":"GAMES!E156","v":" Block 5 Player 6"},null,null,{"$f":"$E$1895","v":0},{"$f":"$F$1895","v":-1E-3},{"$f":"$G$1895","v":-1E-3}]
[]
[null,"PLAYER:",{"$f":"SCORECARD!D779","v":" Block 5 Player 5"},null,null,null,"HANDICAP",{"$f":"SCORECARD!I779","v":0}]
[null,null,null,null,"OPP","PLAYER","OPP","H/CAP"]
[null,null,"OPPONENT",null,"HCP","SCORE","SCORE","PTS"]
[null,{"$f":"SCORECARD!C782","v":" Block 5 Player 1"},null,null,{"$f":"SCORECARD!F782","v":0},{"$f":"SCORECARD!G782","v":-1E-3},{"$f":"SCORECARD!H782","v":-1E-3},{"$f":"IF(NOT(OR(F1891>0,G1891>0)),\"\",IF(HandicapPlay=\"x\",IF(F1891>G1891,10,-10),IF((F1891-G1891>0),(VLOOKUP(OFFSET(H1891,-3,0),(TABLE!WIN),(MATCH(E1891,WINCOL,0)+1))),(VLOOKUP(OFFSET(H1891,-3,0),(TABLE!LOSE),(MATCH(E1891,LOSECOL,0)+1))))))","v":""}]
[null,{"$f":"SCORECARD!C783","v":" Block 5 Player 2"},null,null,{"$f":"SCORECARD!F783","v":0},{"$f":"SCORECARD!G783","v":-1E-3},{"$f":"SCORECARD!H783","v":-1E-3},{"$f":"IF(NOT(OR(F1892>0,G1892>0)),\"\",IF(HandicapPlay=\"x\",IF(F1892>G1892,10,-10),IF((F1892-G1892>0),(VLOOKUP(OFFSET(H1892,-4,0),(TABLE!WIN),(MATCH(E1892,WINCOL,0)+1))),(VLOOKUP(OFFSET(H1892,-4,0),(TABLE!LOSE),(MATCH(E1892,LOSECOL,0)+1))))))","v":""}]
[null,{"$f":"SCORECARD!C784","v":" Block 5 Player 3"},null,null,{"$f":"SCORECARD!F784","v":0},{"$f":"SCORECARD!G784","v":-1E-3},{"$f":"SCORECARD!H784","v":-1E-3},{"$f":"IF(NOT(OR(F1893>0,G1893>0)),\"\",IF(HandicapPlay=\"x\",IF(F1893>G1893,10,-10),IF((F1893-G1893>0),(VLOOKUP(OFFSET(H1893,-5,0),(TABLE!WIN),(MATCH(E1893,WINCOL,0)+1))),(VLOOKUP(OFFSET(H1893,-5,0),(TABLE!LOSE),(MATCH(E1893,LOSECOL,0)+1))))))","v":""}]
[null,{"$f":"SCORECARD!C785","v":" Block 5 Player 4"},null,null,{"$f":"SCORECARD!F785","v":0},{"$f":"SCORECARD!G785","v":-1E-3},{"$f":"SCORECARD!H785","v":-1E-3},{"$f":"IF(NOT(OR(F1894>0,G1894>0)),\"\",IF(HandicapPlay=\"x\",IF(F1894>G1894,10,-10),IF((F1894-G1894>0),(VLOOKUP(OFFSET(H1894,-6,0),(TABLE!WIN),(MATCH(E1894,WINCOL,0)+1))),(VLOOKUP(OFFSET(H1894,-6,0),(TABLE!LOSE),(MATCH(E1894,LOSECOL,0)+1))))))","v":""}]
[null,{"$f":"SCORECARD!C786","v":" Block 5 Player 6"},null,null,{"$f":"SCORECARD!F786","v":0},{"$f":"SCORECARD!G786","v":-1E-3},{"$f":"SCORECARD!H786","v":-1E-3},{"$f":"IF(NOT(OR(F1895>0,G1895>0)),\"\",IF(HandicapPlay=\"x\",IF(F1895>G1895,10,-10),IF((F1895-G1895>0),(VLOOKUP(OFFSET(H1895,-7,0),(TABLE!WIN),(MATCH(E1895,WINCOL,0)+1))),(VLOOKUP(OFFSET(H1895,-7,0),(TABLE!LOSE),(MATCH(E1895,LOSECOL,0)+1))))))","v":""}]
[null,{"$f":"SCORECARD!C787","v":" Block 5 Player 7"},null,null,{"$f":"SCORECARD!F787","v":0},{"$f":"SCORECARD!G787","v":-1E-3},{"$f":"SCORECARD!H787","v":-1E-3},{"$f":"IF(NOT(OR(F1896>0,G1896>0)),\"\",IF(HandicapPlay=\"x\",IF(F1896>G1896,10,-10),IF((F1896-G1896>0),(VLOOKUP(OFFSET(H1896,-8,0),(TABLE!WIN),(MATCH(E1896,WINCOL,0)+1))),(VLOOKUP(OFFSET(H1896,-8,0),(TABLE!LOSE),(MATCH(E1896,LOSECOL,0)+1))))))","v":""}]
[null,{"$f":"SCORECARD!C788","v":" Bye "},null,null,{"$f":"SCORECARD!F788","v":0},{"$f":"SCORECARD!G788","v":-1E-3},{"$f":"SCORECARD!H788","v":-1E-3},{"$f":"IF(NOT(OR(F1897>0,G1897>0)),\"\",IF(HandicapPlay=\"x\",IF(F1897>G1897,10,-10),IF((F1897-G1897>0),(VLOOKUP(OFFSET(H1897,-9,0),(TABLE!WIN),(MATCH(E1897,WINCOL,0)+1))),(VLOOKUP(OFFSET(H1897,-9,0),(TABLE!LOSE),(MATCH(E1897,LOSECOL,0)+1))))))","v":""}]
[null,{"$f":"SCORECARD!C789","v":0},null,null,{"$f":"SCORECARD!F789","v":" "},{"$f":"SCORECARD!G789","v":0},{"$f":"SCORECARD!H789","v":0},{"$f":"IF(NOT(OR(F1898>0,G1898>0)),\"\",(IF((F1898-G1898>0),(VLOOKUP(H$1888,(TABLE!WIN),(E1898*2))),(VLOOKUP(H$1888,(TABLE!LOSE),(E1898*2))))))","v":""}]
[null,{"$f":"SCORECARD!C790","v":0},null,null,{"$f":"SCORECARD!F790","v":" "},{"$f":"SCORECARD!G790","v":0},{"$f":"SCORECARD!H790","v":0},{"$f":"IF(NOT(OR(F1899>0,G1899>0)),\"\",(IF((F1899-G1899>0),(VLOOKUP(H$1888,(TABLE!WIN),(E1899*2))),(VLOOKUP(H$1888,(TABLE!LOSE),(E1899*2))))))","v":""}]
[null,{"$f":"SCORECARD!C791","v":0},null,null,{"$f":"SCORECARD!F791","v":" "},{"$f":"SCORECARD!G791","v":0},{"$f":"SCORECARD!H791","v":0},{"$f":"IF(NOT(OR(F1900>0,G1900>0)),\"\",(IF((F1900-G1900>0),(VLOOKUP(H$1888,(TABLE!WIN),(E1900*2))),(VLOOKUP(H$1888,(TABLE!LOSE),(E1900*2))))))","v":""}]
[null,{"$f":"SCORECARD!C792","v":0},null,null,{"$f":"SCORECARD!F792","v":" "},{"$f":"SCORECARD!G792","v":0},{"$f":"SCORECARD!H792","v":0},{"$f":"IF(NOT(OR(F1901>0,G1901>0)),\"\",(IF((F1901-G1901>0),(VLOOKUP(H$1888,(TABLE!WIN),(E1901*2))),(VLOOKUP(H$1888,(TABLE!LOSE),(E1901*2))))))","v":""}]
[null,{"$f":"SCORECARD!C793","v":0},null,null,{"$f":"SCORECARD!F793","v":" "},{"$f":"SCORECARD!G793","v":0},{"$f":"SCORECARD!H793","v":0},{"$f":"IF(NOT(OR(F1902>0,G1902>0)),\"\",(IF((F1902-G1902>0),(VLOOKUP(H$1888,(TABLE!WIN),(E1902*2))),(VLOOKUP(H$1888,(TABLE!LOSE),(E1902*2))))))","v":""}]
[null,{"$f":"SCORECARD!C794","v":0},null,null,{"$f":"SCORECARD!F794","v":" "},{"$f":"SCORECARD!G794","v":0},{"$f":"SCORECARD!H794","v":0},{"$f":"IF(NOT(OR(F1903>0,G1903>0)),\"\",(IF((F1903-G1903>0),(VLOOKUP(H$1888,(TABLE!WIN),(E1903*2))),(VLOOKUP(H$1888,(TABLE!LOSE),(E1903*2))))))","v":""}]
[null,{"$f":"SCORECARD!C795","v":0},null,null,{"$f":"SCORECARD!F795","v":" "},{"$f":"SCORECARD!G795","v":0},{"$f":"SCORECARD!H795","v":0},{"$f":"IF(NOT(OR(F1904>0,G1904>0)),\"\",(IF((F1904-G1904>0),(VLOOKUP(H$1888,(TABLE!WIN),(E1904*2))),(VLOOKUP(H$1888,(TABLE!LOSE),(E1904*2))))))","v":""}]
[null,{"$f":"SCORECARD!C796","v":0},null,null,{"$f":"SCORECARD!F796","v":" "},{"$f":"SCORECARD!G796","v":0},{"$f":"SCORECARD!H796","v":0},{"$f":"IF(NOT(OR(F1905>0,G1905>0)),\"\",(IF((F1905-G1905>0),(VLOOKUP(H$1888,(TABLE!WIN),(E1905*2))),(VLOOKUP(H$1888,(TABLE!LOSE),(E1905*2))))))","v":""}]
[null,{"$f":"SCORECARD!C797","v":0},null,null,{"$f":"SCORECARD!F797","v":" "},{"$f":"SCORECARD!G797","v":0},{"$f":"SCORECARD!H797","v":0},{"$f":"IF(NOT(OR(F1906>0,G1906>0)),\"\",(IF((F1906-G1906>0),(VLOOKUP(H$1888,(TABLE!WIN),(E1906*2))),(VLOOKUP(H$1888,(TABLE!LOSE),(E1906*2))))))","v":""}]
[]
[null,null,null,null,null,null,"Handicap adjustment points total   ",{"$f":"SUM(H1891:H1906)","v":0}]
[]
[]
[]
[]
[]
[]
[]
[]
[]
[]
[]
[]
[{"$f":"note1","v":"Time limit 2.5 hours, Turn After Bell (61.1.6). Quadway hoops (3 11/16\"), Dawson International balls"}]
[{"$f":"note2","v":"Games may start early. Please be at the venue at least 30 minutes earlier than the scheduled start time."}]
[{"$f":"note3","v":"Entry Fee $40 will be invoiced by email. Please pay by EFT using the invoice No. as reference."}]
[{"$f":"note4","v":"Players please assist with setting and clearing courts."}]
[null,null,null,null,{"$f":"BLOCK!R130","v":" Block 5 Player 6"}]
[null,null,null,null,{"$f":"BLOCK!N126","v":"Tournament"}]
[null,null,null,null,{"$f":"BLOCK!J128","v":"Singles"}]
[null,null,null,null,{"$f":"BLOCK!B130","v":"BLOCK 5"}]
[]
[null,null,null,null,"BLOCK PLAY SCHEDULE"]
[null,"TIME","DAY","COURT",null,"OPPONENT",null,null,"Handicap","PS","OS"]
[null,{"$f":"GAMES!B132","v":"00:00:00"},{"$f":"GAMES!C132","v":"00:00:00"},{"$f":"GAMES!D132","v":0},null,{"$f":"GAMES!E132","v":" Block 5 Player 7"},null,null,{"$f":"$E$1948","v":0},{"$f":"$F$1948","v":-1E-3},{"$f":"$G$1948","v":-1E-3}]
[null,{"$f":"GAMES!B135","v":"00:00:00"},{"$f":"GAMES!C135","v":"00:00:00"},{"$f":"GAMES!D135","v":0},null,{"$f":"GAMES!E135","v":" Block 5 Player 2"},null,null,{"$f":"$E$1944","v":0},{"$f":"$F$1944","v":-1E-3},{"$f":"$G$1944","v":-1E-3}]
[null,{"$f":"GAMES!B138","v":"00:00:00"},{"$f":"GAMES!C138","v":"00:00:00"},{"$f":"GAMES!D138","v":0},null,{"$f":"GAMES!E138","v":" Block 5 Player 4"},null,null,{"$f":"$E$1946","v":0},{"$f":"$F$1946","v":-1E-3},{"$f":"$G$1946","v":-1E-3}]
[null,{"$f":"GAMES!B141","v":"00:00:00"},{"$f":"GAMES!C141","v":"00:00:00"},{"$f":"GAMES!D141","v":0},null,{"$f":"GAMES!E141","v":" Block 5 Player 1"},null,null,{"$f":"$E$1943","v":0},{"$f":"$F$1943","v":-1E-3},{"$f":"$G$1943","v":-1E-3}]
[null,{"$f":"GAMES!B146","v":"00:00:00"},{"$f":"GAMES!C146","v":"00:00:00"},{"$f":"GAMES!D146","v":"--"},null,{"$f":"GAMES!G146","v":" Bye "},null,null,{"$f":"$E$1949","v":0},{"$f":"$F$1949","v":-1E-3},{"$f":"$G$1949","v":-1E-3}]
[null,{"$f":"GAMES!B151","v":"00:00:00"},{"$f":"GAMES!C151","v":"00:00:00"},{"$f":"GAMES!D151","v":0},null,{"$f":"GAMES!G151","v":" Block 5 Player 3"},null,null,{"$f":"$E$1945","v":0},{"$f":"$F$1945","v":-1E-3},{"$f":"$G$1945","v":-1E-3}]
[null,{"$f":"GAMES!B156","v":"00:00:00"},{"$f":"GAMES!C156","v":"00:00:00"},{"$f":"GAMES!D156","v":0},null,{"$f":"GAMES!G156","v":" Block 5 Player 5"},null,null,{"$f":"$E$1947","v":0},{"$f":"$F$1947","v":-1E-3},{"$f":"$G$1947","v":-1E-3}]
[]
[null,"PLAYER:",{"$f":"SCORECARD!D799","v":" Block 5 Player 6"},null,null,null,"HANDICAP",{"$f":"SCORECARD!I799","v":0}]
[null,null,null,null,"OPP","PLAYER","OPP","H/CAP"]
[null,null,"OPPONENT",null,"HCP","SCORE","SCORE","PTS"]
[null,{"$f":"SCORECARD!C802","v":" Block 5 Player 1"},null,null,{"$f":"SCORECARD!F802","v":0},{"$f":"SCORECARD!G802","v":-1E-3},{"$f":"SCORECARD!H802","v":-1E-3},{"$f":"IF(NOT(OR(F1943>0,G1943>0)),\"\",IF(HandicapPlay=\"x\",IF(F1943>G1943,10,-10),IF((F1943-G1943>0),(VLOOKUP(OFFSET(H1943,-3,0),(TABLE!WIN),(MATCH(E1943,WINCOL,0)+1))),(VLOOKUP(OFFSET(H1943,-3,0),(TABLE!LOSE),(MATCH(E1943,LOSECOL,0)+1))))))","v":""}]
[null,{"$f":"SCORECARD!C803","v":" Block 5 Player 2"},null,null,{"$f":"SCORECARD!F803","v":0},{"$f":"SCORECARD!G803","v":-1E-3},{"$f":"SCORECARD!H803","v":-1E-3},{"$f":"IF(NOT(OR(F1944>0,G1944>0)),\"\",IF(HandicapPlay=\"x\",IF(F1944>G1944,10,-10),IF((F1944-G1944>0),(VLOOKUP(OFFSET(H1944,-4,0),(TABLE!WIN),(MATCH(E1944,WINCOL,0)+1))),(VLOOKUP(OFFSET(H1944,-4,0),(TABLE!LOSE),(MATCH(E1944,LOSECOL,0)+1))))))","v":""}]
[null,{"$f":"SCORECARD!C804","v":" Block 5 Player 3"},null,null,{"$f":"SCORECARD!F804","v":0},{"$f":"SCORECARD!G804","v":-1E-3},{"$f":"SCORECARD!H804","v":-1E-3},{"$f":"IF(NOT(OR(F1945>0,G1945>0)),\"\",IF(HandicapPlay=\"x\",IF(F1945>G1945,10,-10),IF((F1945-G1945>0),(VLOOKUP(OFFSET(H1945,-5,0),(TABLE!WIN),(MATCH(E1945,WINCOL,0)+1))),(VLOOKUP(OFFSET(H1945,-5,0),(TABLE!LOSE),(MATCH(E1945,LOSECOL,0)+1))))))","v":""}]
[null,{"$f":"SCORECARD!C805","v":" Block 5 Player 4"},null,null,{"$f":"SCORECARD!F805","v":0},{"$f":"SCORECARD!G805","v":-1E-3},{"$f":"SCORECARD!H805","v":-1E-3},{"$f":"IF(NOT(OR(F1946>0,G1946>0)),\"\",IF(HandicapPlay=\"x\",IF(F1946>G1946,10,-10),IF((F1946-G1946>0),(VLOOKUP(OFFSET(H1946,-6,0),(TABLE!WIN),(MATCH(E1946,WINCOL,0)+1))),(VLOOKUP(OFFSET(H1946,-6,0),(TABLE!LOSE),(MATCH(E1946,LOSECOL,0)+1))))))","v":""}]
[null,{"$f":"SCORECARD!C806","v":" Block 5 Player 5"},null,null,{"$f":"SCORECARD!F806","v":0},{"$f":"SCORECARD!G806","v":-1E-3},{"$f":"SCORECARD!H806","v":-1E-3},{"$f":"IF(NOT(OR(F1947>0,G1947>0)),\"\",IF(HandicapPlay=\"x\",IF(F1947>G1947,10,-10),IF((F1947-G1947>0),(VLOOKUP(OFFSET(H1947,-7,0),(TABLE!WIN),(MATCH(E1947,WINCOL,0)+1))),(VLOOKUP(OFFSET(H1947,-7,0),(TABLE!LOSE),(MATCH(E1947,LOSECOL,0)+1))))))","v":""}]
[null,{"$f":"SCORECARD!C807","v":" Block 5 Player 7"},null,null,{"$f":"SCORECARD!F807","v":0},{"$f":"SCORECARD!G807","v":-1E-3},{"$f":"SCORECARD!H807","v":-1E-3},{"$f":"IF(NOT(OR(F1948>0,G1948>0)),\"\",IF(HandicapPlay=\"x\",IF(F1948>G1948,10,-10),IF((F1948-G1948>0),(VLOOKUP(OFFSET(H1948,-8,0),(TABLE!WIN),(MATCH(E1948,WINCOL,0)+1))),(VLOOKUP(OFFSET(H1948,-8,0),(TABLE!LOSE),(MATCH(E1948,LOSECOL,0)+1))))))","v":""}]
[null,{"$f":"SCORECARD!C808","v":" Bye "},null,null,{"$f":"SCORECARD!F808","v":0},{"$f":"SCORECARD!G808","v":-1E-3},{"$f":"SCORECARD!H808","v":-1E-3},{"$f":"IF(NOT(OR(F1949>0,G1949>0)),\"\",IF(HandicapPlay=\"x\",IF(F1949>G1949,10,-10),IF((F1949-G1949>0),(VLOOKUP(OFFSET(H1949,-9,0),(TABLE!WIN),(MATCH(E1949,WINCOL,0)+1))),(VLOOKUP(OFFSET(H1949,-9,0),(TABLE!LOSE),(MATCH(E1949,LOSECOL,0)+1))))))","v":""}]
[null,{"$f":"SCORECARD!C809","v":0},null,null,{"$f":"SCORECARD!F809","v":" "},{"$f":"SCORECARD!G809","v":0},{"$f":"SCORECARD!H809","v":0},{"$f":"IF(NOT(OR(F1950>0,G1950>0)),\"\",(IF((F1950-G1950>0),(VLOOKUP(H$1940,(TABLE!WIN),(E1950*2))),(VLOOKUP(H$1940,(TABLE!LOSE),(E1950*2))))))","v":""}]
[null,{"$f":"SCORECARD!C810","v":0},null,null,{"$f":"SCORECARD!F810","v":" "},{"$f":"SCORECARD!G810","v":0},{"$f":"SCORECARD!H810","v":0},{"$f":"IF(NOT(OR(F1951>0,G1951>0)),\"\",(IF((F1951-G1951>0),(VLOOKUP(H$1940,(TABLE!WIN),(E1951*2))),(VLOOKUP(H$1940,(TABLE!LOSE),(E1951*2))))))","v":""}]
[null,{"$f":"SCORECARD!C811","v":0},null,null,{"$f":"SCORECARD!F811","v":" "},{"$f":"SCORECARD!G811","v":0},{"$f":"SCORECARD!H811","v":0},{"$f":"IF(NOT(OR(F1952>0,G1952>0)),\"\",(IF((F1952-G1952>0),(VLOOKUP(H$1940,(TABLE!WIN),(E1952*2))),(VLOOKUP(H$1940,(TABLE!LOSE),(E1952*2))))))","v":""}]
[null,{"$f":"SCORECARD!C812","v":0},null,null,{"$f":"SCORECARD!F812","v":" "},{"$f":"SCORECARD!G812","v":0},{"$f":"SCORECARD!H812","v":0},{"$f":"IF(NOT(OR(F1953>0,G1953>0)),\"\",(IF((F1953-G1953>0),(VLOOKUP(H$1940,(TABLE!WIN),(E1953*2))),(VLOOKUP(H$1940,(TABLE!LOSE),(E1953*2))))))","v":""}]
[null,{"$f":"SCORECARD!C813","v":0},null,null,{"$f":"SCORECARD!F813","v":" "},{"$f":"SCORECARD!G813","v":0},{"$f":"SCORECARD!H813","v":0},{"$f":"IF(NOT(OR(F1954>0,G1954>0)),\"\",(IF((F1954-G1954>0),(VLOOKUP(H$1940,(TABLE!WIN),(E1954*2))),(VLOOKUP(H$1940,(TABLE!LOSE),(E1954*2))))))","v":""}]
[null,{"$f":"SCORECARD!C814","v":0},null,null,{"$f":"SCORECARD!F814","v":" "},{"$f":"SCORECARD!G814","v":0},{"$f":"SCORECARD!H814","v":0},{"$f":"IF(NOT(OR(F1955>0,G1955>0)),\"\",(IF((F1955-G1955>0),(VLOOKUP(H$1940,(TABLE!WIN),(E1955*2))),(VLOOKUP(H$1940,(TABLE!LOSE),(E1955*2))))))","v":""}]
[null,{"$f":"SCORECARD!C815","v":0},null,null,{"$f":"SCORECARD!F815","v":" "},{"$f":"SCORECARD!G815","v":0},{"$f":"SCORECARD!H815","v":0},{"$f":"IF(NOT(OR(F1956>0,G1956>0)),\"\",(IF((F1956-G1956>0),(VLOOKUP(H$1940,(TABLE!WIN),(E1956*2))),(VLOOKUP(H$1940,(TABLE!LOSE),(E1956*2))))))","v":""}]
[null,{"$f":"SCORECARD!C816","v":0},null,null,{"$f":"SCORECARD!F816","v":" "},{"$f":"SCORECARD!G816","v":0},{"$f":"SCORECARD!H816","v":0},{"$f":"IF(NOT(OR(F1957>0,G1957>0)),\"\",(IF((F1957-G1957>0),(VLOOKUP(H$1940,(TABLE!WIN),(E1957*2))),(VLOOKUP(H$1940,(TABLE!LOSE),(E1957*2))))))","v":""}]
[null,{"$f":"SCORECARD!C817","v":0},null,null,{"$f":"SCORECARD!F817","v":" "},{"$f":"SCORECARD!G817","v":0},{"$f":"SCORECARD!H817","v":0},{"$f":"IF(NOT(OR(F1958>0,G1958>0)),\"\",(IF((F1958-G1958>0),(VLOOKUP(H$1940,(TABLE!WIN),(E1958*2))),(VLOOKUP(H$1940,(TABLE!LOSE),(E1958*2))))))","v":""}]
[]
[null,null,null,null,null,null,"Handicap adjustment points total   ",{"$f":"SUM(H1943:H1959)","v":0}]
[]
[]
[]
[]
[]
[]
[]
[]
[]
[]
[]
[]
[{"$f":"note1","v":"Time limit 2.5 hours, Turn After Bell (61.1.6). Quadway hoops (3 11/16\"), Dawson International balls"}]
[{"$f":"note2","v":"Games may start early. Please be at the venue at least 30 minutes earlier than the scheduled start time."}]
[{"$f":"note3","v":"Entry Fee $40 will be invoiced by email. Please pay by EFT using the invoice No. as reference."}]
[{"$f":"note4","v":"Players please assist with setting and clearing courts."}]
[null,null,null,null,{"$f":"BLOCK!U130","v":" Block 5 Player 7"}]
[null,null,null,null,{"$f":"BLOCK!N126","v":"Tournament"}]
[null,null,null,null,{"$f":"BLOCK!J128","v":"Singles"}]
[null,null,null,null,{"$f":"BLOCK!B130","v":"BLOCK 5"}]
[]
[null,null,null,null,"BLOCK PLAY SCHEDULE"]
[null,"TIME","DAY","COURT",null,"OPPONENT",null,null,"Handicap","PS","OS"]
[null,{"$f":"GAMES!B132","v":"00:00:00"},{"$f":"GAMES!C132","v":"00:00:00"},{"$f":"GAMES!D132","v":0},null,{"$f":"GAMES!G132","v":" Block 5 Player 6"},null,null,{"$f":"$E$2000","v":0},{"$f":"$F$2000","v":-1E-3},{"$f":"$G$2000","v":-1E-3}]
[null,{"$f":"GAMES!B136","v":"00:00:00"},{"$f":"GAMES!C136","v":"00:00:00"},{"$f":"GAMES!D136","v":"--"},null,{"$f":"GAMES!E136","v":" Bye "},null,null,{"$f":"$E$2001","v":0},{"$f":"$F$2001","v":-1E-3},{"$f":"$G$2001","v":-1E-3}]
[null,{"$f":"GAMES!B139","v":"00:00:00"},{"$f":"GAMES!C139","v":"00:00:00"},{"$f":"GAMES!D139","v":0},null,{"$f":"GAMES!E139","v":" Block 5 Player 3"},null,null,{"$f":"$E$1997","v":0},{"$f":"$F$1997","v":-1E-3},{"$f":"$G$1997","v":-1E-3}]
[null,{"$f":"GAMES!B142","v":"00:00:00"},{"$f":"GAMES!C142","v":"00:00:00"},{"$f":"GAMES!D142","v":0},null,{"$f":"GAMES!E142","v":" Block 5 Player 5"},null,null,{"$f":"$E$1999","v":0},{"$f":"$F$1999","v":-1E-3},{"$f":"$G$1999","v":-1E-3}]
[null,{"$f":"GAMES!B145","v":"00:00:00"},{"$f":"GAMES!C145","v":"00:00:00"},{"$f":"GAMES!D145","v":0},null,{"$f":"GAMES!E145","v":" Block 5 Player 1"},null,null,{"$f":"$E$1995","v":0},{"$f":"$F$1995","v":-1E-3},{"$f":"$G$1995","v":-1E-3}]
[null,{"$f":"GAMES!B150","v":"00:00:00"},{"$f":"GAMES!C150","v":"00:00:00"},{"$f":"GAMES!D150","v":0},null,{"$f":"GAMES!G150","v":" Block 5 Player 2"},null,null,{"$f":"$E$1996","v":0},{"$f":"$F$1996","v":-1E-3},{"$f":"$G$1996","v":-1E-3}]
[null,{"$f":"GAMES!B155","v":"00:00:00"},{"$f":"GAMES!C155","v":"00:00:00"},{"$f":"GAMES!D155","v":0},null,{"$f":"GAMES!G155","v":" Block 5 Player 4"},null,null,{"$f":"$E$1998","v":0},{"$f":"$F$1998","v":-1E-3},{"$f":"$G$1998","v":-1E-3}]
[]
[null,"PLAYER:",{"$f":"SCORECARD!D822","v":" Block 5 Player 7"},null,null,null,"HANDICAP",{"$f":"SCORECARD!I822","v":0}]
[null,null,null,null,"OPP","PLAYER","OPP","H/CAP"]
[null,null,"OPPONENT",null,"HCP","SCORE","SCORE","PTS"]
[null,{"$f":"SCORECARD!C825","v":" Block 5 Player 1"},null,null,{"$f":"SCORECARD!F825","v":0},{"$f":"SCORECARD!G825","v":-1E-3},{"$f":"SCORECARD!H825","v":-1E-3},{"$f":"IF(NOT(OR(F1995>0,G1995>0)),\"\",IF(HandicapPlay=\"x\",IF(F1995>G1995,10,-10),IF((F1995-G1995>0),(VLOOKUP(OFFSET(H1995,-3,0),(TABLE!WIN),(MATCH(E1995,WINCOL,0)+1))),(VLOOKUP(OFFSET(H1995,-3,0),(TABLE!LOSE),(MATCH(E1995,LOSECOL,0)+1))))))","v":""}]
[null,{"$f":"SCORECARD!C826","v":" Block 5 Player 2"},null,null,{"$f":"SCORECARD!F826","v":0},{"$f":"SCORECARD!G826","v":-1E-3},{"$f":"SCORECARD!H826","v":-1E-3},{"$f":"IF(NOT(OR(F1996>0,G1996>0)),\"\",IF(HandicapPlay=\"x\",IF(F1996>G1996,10,-10),IF((F1996-G1996>0),(VLOOKUP(OFFSET(H1996,-4,0),(TABLE!WIN),(MATCH(E1996,WINCOL,0)+1))),(VLOOKUP(OFFSET(H1996,-4,0),(TABLE!LOSE),(MATCH(E1996,LOSECOL,0)+1))))))","v":""}]
[null,{"$f":"SCORECARD!C827","v":" Block 5 Player 3"},null,null,{"$f":"SCORECARD!F827","v":0},{"$f":"SCORECARD!G827","v":-1E-3},{"$f":"SCORECARD!H827","v":-1E-3},{"$f":"IF(NOT(OR(F1997>0,G1997>0)),\"\",IF(HandicapPlay=\"x\",IF(F1997>G1997,10,-10),IF((F1997-G1997>0),(VLOOKUP(OFFSET(H1997,-5,0),(TABLE!WIN),(MATCH(E1997,WINCOL,0)+1))),(VLOOKUP(OFFSET(H1997,-5,0),(TABLE!LOSE),(MATCH(E1997,LOSECOL,0)+1))))))","v":""}]
[null,{"$f":"SCORECARD!C828","v":" Block 5 Player 4"},null,null,{"$f":"SCORECARD!F828","v":0},{"$f":"SCORECARD!G828","v":-1E-3},{"$f":"SCORECARD!H828","v":-1E-3},{"$f":"IF(NOT(OR(F1998>0,G1998>0)),\"\",IF(HandicapPlay=\"x\",IF(F1998>G1998,10,-10),IF((F1998-G1998>0),(VLOOKUP(OFFSET(H1998,-6,0),(TABLE!WIN),(MATCH(E1998,WINCOL,0)+1))),(VLOOKUP(OFFSET(H1998,-6,0),(TABLE!LOSE),(MATCH(E1998,LOSECOL,0)+1))))))","v":""}]
[null,{"$f":"SCORECARD!C829","v":" Block 5 Player 5"},null,null,{"$f":"SCORECARD!F829","v":0},{"$f":"SCORECARD!G829","v":-1E-3},{"$f":"SCORECARD!H829","v":-1E-3},{"$f":"IF(NOT(OR(F1999>0,G1999>0)),\"\",IF(HandicapPlay=\"x\",IF(F1999>G1999,10,-10),IF((F1999-G1999>0),(VLOOKUP(OFFSET(H1999,-7,0),(TABLE!WIN),(MATCH(E1999,WINCOL,0)+1))),(VLOOKUP(OFFSET(H1999,-7,0),(TABLE!LOSE),(MATCH(E1999,LOSECOL,0)+1))))))","v":""}]
[null,{"$f":"SCORECARD!C830","v":" Block 5 Player 6"},null,null,{"$f":"SCORECARD!F830","v":0},{"$f":"SCORECARD!G830","v":-1E-3},{"$f":"SCORECARD!H830","v":-1E-3},{"$f":"IF(NOT(OR(F2000>0,G2000>0)),\"\",IF(HandicapPlay=\"x\",IF(F2000>G2000,10,-10),IF((F2000-G2000>0),(VLOOKUP(OFFSET(H2000,-8,0),(TABLE!WIN),(MATCH(E2000,WINCOL,0)+1))),(VLOOKUP(OFFSET(H2000,-8,0),(TABLE!LOSE),(MATCH(E2000,LOSECOL,0)+1))))))","v":""}]
[null,{"$f":"SCORECARD!C831","v":" Bye "},null,null,{"$f":"SCORECARD!F831","v":0},{"$f":"SCORECARD!G831","v":-1E-3},{"$f":"SCORECARD!H831","v":-1E-3},{"$f":"IF(NOT(OR(F2001>0,G2001>0)),\"\",IF(HandicapPlay=\"x\",IF(F2001>G2001,10,-10),IF((F2001-G2001>0),(VLOOKUP(OFFSET(H2001,-9,0),(TABLE!WIN),(MATCH(E2001,WINCOL,0)+1))),(VLOOKUP(OFFSET(H2001,-9,0),(TABLE!LOSE),(MATCH(E2001,LOSECOL,0)+1))))))","v":""}]
[null,{"$f":"SCORECARD!C832","v":0},null,null,{"$f":"SCORECARD!F832","v":" "},{"$f":"SCORECARD!G832","v":0},{"$f":"SCORECARD!H832","v":0},{"$f":"IF(NOT(OR(F2002>0,G2002>0)),\"\",(IF((F2002-G2002>0),(VLOOKUP(H$1992,(TABLE!WIN),(E2002*2))),(VLOOKUP(H$1992,(TABLE!LOSE),(E2002*2))))))","v":""}]
[null,{"$f":"SCORECARD!C833","v":0},null,null,{"$f":"SCORECARD!F833","v":" "},{"$f":"SCORECARD!G833","v":0},{"$f":"SCORECARD!H833","v":0},{"$f":"IF(NOT(OR(F2003>0,G2003>0)),\"\",(IF((F2003-G2003>0),(VLOOKUP(H$1992,(TABLE!WIN),(E2003*2))),(VLOOKUP(H$1992,(TABLE!LOSE),(E2003*2))))))","v":""}]
[null,{"$f":"SCORECARD!C834","v":0},null,null,{"$f":"SCORECARD!F834","v":" "},{"$f":"SCORECARD!G834","v":0},{"$f":"SCORECARD!H834","v":0},{"$f":"IF(NOT(OR(F2004>0,G2004>0)),\"\",(IF((F2004-G2004>0),(VLOOKUP(H$1992,(TABLE!WIN),(E2004*2))),(VLOOKUP(H$1992,(TABLE!LOSE),(E2004*2))))))","v":""}]
[null,{"$f":"SCORECARD!C835","v":0},null,null,{"$f":"SCORECARD!F835","v":" "},{"$f":"SCORECARD!G835","v":0},{"$f":"SCORECARD!H835","v":0},{"$f":"IF(NOT(OR(F2005>0,G2005>0)),\"\",(IF((F2005-G2005>0),(VLOOKUP(H$1992,(TABLE!WIN),(E2005*2))),(VLOOKUP(H$1992,(TABLE!LOSE),(E2005*2))))))","v":""}]
[null,{"$f":"SCORECARD!C836","v":0},null,null,{"$f":"SCORECARD!F836","v":" "},{"$f":"SCORECARD!G836","v":0},{"$f":"SCORECARD!H836","v":0},{"$f":"IF(NOT(OR(F2006>0,G2006>0)),\"\",(IF((F2006-G2006>0),(VLOOKUP(H$1992,(TABLE!WIN),(E2006*2))),(VLOOKUP(H$1992,(TABLE!LOSE),(E2006*2))))))","v":""}]
[null,{"$f":"SCORECARD!C837","v":0},null,null,{"$f":"SCORECARD!F837","v":" "},{"$f":"SCORECARD!G837","v":0},{"$f":"SCORECARD!H837","v":0},{"$f":"IF(NOT(OR(F2007>0,G2007>0)),\"\",(IF((F2007-G2007>0),(VLOOKUP(H$1992,(TABLE!WIN),(E2007*2))),(VLOOKUP(H$1992,(TABLE!LOSE),(E2007*2))))))","v":""}]
[null,{"$f":"SCORECARD!C838","v":0},null,null,{"$f":"SCORECARD!F838","v":" "},{"$f":"SCORECARD!G838","v":0},{"$f":"SCORECARD!H838","v":0},{"$f":"IF(NOT(OR(F2008>0,G2008>0)),\"\",(IF((F2008-G2008>0),(VLOOKUP(H$1992,(TABLE!WIN),(E2008*2))),(VLOOKUP(H$1992,(TABLE!LOSE),(E2008*2))))))","v":""}]
[null,{"$f":"SCORECARD!C839","v":0},null,null,{"$f":"SCORECARD!F839","v":" "},{"$f":"SCORECARD!G839","v":0},{"$f":"SCORECARD!H839","v":0},{"$f":"IF(NOT(OR(F2009>0,G2009>0)),\"\",(IF((F2009-G2009>0),(VLOOKUP(H$1992,(TABLE!WIN),(E2009*2))),(VLOOKUP(H$1992,(TABLE!LOSE),(E2009*2))))))","v":""}]
[null,{"$f":"SCORECARD!C840","v":0},null,null,{"$f":"SCORECARD!F840","v":" "},{"$f":"SCORECARD!G840","v":0},{"$f":"SCORECARD!H840","v":0},{"$f":"IF(NOT(OR(F2010>0,G2010>0)),\"\",(IF((F2010-G2010>0),(VLOOKUP(H$1992,(TABLE!WIN),(E2010*2))),(VLOOKUP(H$1992,(TABLE!LOSE),(E2010*2))))))","v":""}]
[]
[null,null,null,null,null,null,"Handicap adjustment points total   ",{"$f":"SUM(H1995:H2011)","v":0}]
[]
[]
[]
[]
[]
[]
[]
[]
[]
[]
[]
[]
[{"$f":"note1","v":"Time limit 2.5 hours, Turn After Bell (61.1.6). Quadway hoops (3 11/16\"), Dawson International balls"}]
[{"$f":"note2","v":"Games may start early. Please be at the venue at least 30 minutes earlier than the scheduled start time."}]
[{"$f":"note3","v":"Entry Fee $40 will be invoiced by email. Please pay by EFT using the invoice No. as reference."}]
[{"$f":"note4","v":"Players please assist with setting and clearing courts."}]
[null,null,null,null,{"$f":"BLOCK!X130","v":" Bye "}]
[null,null,null,null,{"$f":"BLOCK!N126","v":"Tournament"}]
[null,null,null,null,{"$f":"BLOCK!J128","v":"Singles"}]
[null,null,null,null,{"$f":"BLOCK!B130","v":"BLOCK 5"}]
[]
[null,null,null,null,"BLOCK PLAY SCHEDULE"]
[null,"TIME","DAY","COURT",null,"OPPONENT",null,null,"Handicap","PS","OS"]
[null,{"$f":"GAMES!B131","v":"00:00:00"},{"$f":"GAMES!C131","v":"00:00:00"},{"$f":"GAMES!D131","v":"--"},null,{"$f":"GAMES!G131","v":" Block 5 Player 5"},null,null,{"$f":"$E$2051","v":0},{"$f":"$F$2051","v":-1E-3},{"$f":"$G$2051","v":-1E-3}]
[null,{"$f":"GAMES!B136","v":"00:00:00"},{"$f":"GAMES!C136","v":"00:00:00"},{"$f":"GAMES!D136","v":"--"},null,{"$f":"GAMES!G136","v":" Block 5 Player 7"},null,null,{"$f":"$E$2053","v":0},{"$f":"$F$2053","v":-1E-3},{"$f":"$G$2053","v":-1E-3}]
[null,{"$f":"GAMES!B140","v":"00:00:00"},{"$f":"GAMES!C140","v":"00:00:00"},{"$f":"GAMES!D140","v":"--"},null,{"$f":"GAMES!E140","v":" Block 5 Player 2"},null,null,{"$f":"$E$2048","v":0},{"$f":"$F$2048","v":-1E-3},{"$f":"$G$2048","v":-1E-3}]
[null,{"$f":"GAMES!B143","v":"00:00:00"},{"$f":"GAMES!C143","v":"00:00:00"},{"$f":"GAMES!D143","v":"--"},null,{"$f":"GAMES!E143","v":" Block 5 Player 4"},null,null,{"$f":"$E$2050","v":0},{"$f":"$F$2050","v":-1E-3},{"$f":"$G$2050","v":-1E-3}]
[null,{"$f":"GAMES!B146","v":"00:00:00"},{"$f":"GAMES!C146","v":"00:00:00"},{"$f":"GAMES!D146","v":"--"},null,{"$f":"GAMES!E146","v":" Block 5 Player 6"},null,null,{"$f":"$E$2052","v":0},{"$f":"$F$2052","v":-1E-3},{"$f":"$G$2052","v":-1E-3}]
[null,{"$f":"GAMES!B149","v":"00:00:00"},{"$f":"GAMES!C149","v":"00:00:00"},{"$f":"GAMES!D149","v":"--"},null,{"$f":"GAMES!E149","v":" Block 5 Player 1"},null,null,{"$f":"$E$2047","v":0},{"$f":"$F$2047","v":-1E-3},{"$f":"$G$2047","v":-1E-3}]
[null,{"$f":"GAMES!B154","v":"00:00:00"},{"$f":"GAMES!C154","v":"00:00:00"},{"$f":"GAMES!D154","v":"--"},null,{"$f":"GAMES!G154","v":" Block 5 Player 3"},null,null,{"$f":"$E$2049","v":0},{"$f":"$F$2049","v":-1E-3},{"$f":"$G$2049","v":-1E-3}]
[]
[null,"PLAYER:",{"$f":"SCORECARD!D842","v":" Bye "},null,null,null,"HANDICAP",{"$f":"SCORECARD!I842","v":0}]
[null,null,null,null,"OPP","PLAYER","OPP","H/CAP"]
[null,null,"OPPONENT",null,"HCP","SCORE","SCORE","PTS"]
[null,{"$f":"SCORECARD!C845","v":" Block 5 Player 1"},null,null,{"$f":"SCORECARD!F845","v":0},{"$f":"SCORECARD!G845","v":-1E-3},{"$f":"SCORECARD!H845","v":-1E-3},{"$f":"IF(NOT(OR(F2047>0,G2047>0)),\"\",IF(HandicapPlay=\"x\",IF(F2047>G2047,10,-10),IF((F2047-G2047>0),(VLOOKUP(OFFSET(H2047,-3,0),(TABLE!WIN),(MATCH(E2047,WINCOL,0)+1))),(VLOOKUP(OFFSET(H2047,-3,0),(TABLE!LOSE),(MATCH(E2047,LOSECOL,0)+1))))))","v":""}]
[null,{"$f":"SCORECARD!C846","v":" Block 5 Player 2"},null,null,{"$f":"SCORECARD!F846","v":0},{"$f":"SCORECARD!G846","v":-1E-3},{"$f":"SCORECARD!H846","v":-1E-3},{"$f":"IF(NOT(OR(F2048>0,G2048>0)),\"\",IF(HandicapPlay=\"x\",IF(F2048>G2048,10,-10),IF((F2048-G2048>0),(VLOOKUP(OFFSET(H2048,-4,0),(TABLE!WIN),(MATCH(E2048,WINCOL,0)+1))),(VLOOKUP(OFFSET(H2048,-4,0),(TABLE!LOSE),(MATCH(E2048,LOSECOL,0)+1))))))","v":""}]
[null,{"$f":"SCORECARD!C847","v":" Block 5 Player 3"},null,null,{"$f":"SCORECARD!F847","v":0},{"$f":"SCORECARD!G847","v":-1E-3},{"$f":"SCORECARD!H847","v":-1E-3},{"$f":"IF(NOT(OR(F2049>0,G2049>0)),\"\",IF(HandicapPlay=\"x\",IF(F2049>G2049,10,-10),IF((F2049-G2049>0),(VLOOKUP(OFFSET(H2049,-5,0),(TABLE!WIN),(MATCH(E2049,WINCOL,0)+1))),(VLOOKUP(OFFSET(H2049,-5,0),(TABLE!LOSE),(MATCH(E2049,LOSECOL,0)+1))))))","v":""}]
[null,{"$f":"SCORECARD!C848","v":" Block 5 Player 4"},null,null,{"$f":"SCORECARD!F848","v":0},{"$f":"SCORECARD!G848","v":-1E-3},{"$f":"SCORECARD!H848","v":-1E-3},{"$f":"IF(NOT(OR(F2050>0,G2050>0)),\"\",IF(HandicapPlay=\"x\",IF(F2050>G2050,10,-10),IF((F2050-G2050>0),(VLOOKUP(OFFSET(H2050,-6,0),(TABLE!WIN),(MATCH(E2050,WINCOL,0)+1))),(VLOOKUP(OFFSET(H2050,-6,0),(TABLE!LOSE),(MATCH(E2050,LOSECOL,0)+1))))))","v":""}]
[null,{"$f":"SCORECARD!C849","v":" Block 5 Player 5"},null,null,{"$f":"SCORECARD!F849","v":0},{"$f":"SCORECARD!G849","v":-1E-3},{"$f":"SCORECARD!H849","v":-1E-3},{"$f":"IF(NOT(OR(F2051>0,G2051>0)),\"\",IF(HandicapPlay=\"x\",IF(F2051>G2051,10,-10),IF((F2051-G2051>0),(VLOOKUP(OFFSET(H2051,-7,0),(TABLE!WIN),(MATCH(E2051,WINCOL,0)+1))),(VLOOKUP(OFFSET(H2051,-7,0),(TABLE!LOSE),(MATCH(E2051,LOSECOL,0)+1))))))","v":""}]
[null,{"$f":"SCORECARD!C850","v":" Block 5 Player 6"},null,null,{"$f":"SCORECARD!F850","v":0},{"$f":"SCORECARD!G850","v":-1E-3},{"$f":"SCORECARD!H850","v":-1E-3},{"$f":"IF(NOT(OR(F2052>0,G2052>0)),\"\",IF(HandicapPlay=\"x\",IF(F2052>G2052,10,-10),IF((F2052-G2052>0),(VLOOKUP(OFFSET(H2052,-8,0),(TABLE!WIN),(MATCH(E2052,WINCOL,0)+1))),(VLOOKUP(OFFSET(H2052,-8,0),(TABLE!LOSE),(MATCH(E2052,LOSECOL,0)+1))))))","v":""}]
[null,{"$f":"SCORECARD!C851","v":" Block 5 Player 7"},null,null,{"$f":"SCORECARD!F851","v":0},{"$f":"SCORECARD!G851","v":-1E-3},{"$f":"SCORECARD!H851","v":-1E-3},{"$f":"IF(NOT(OR(F2053>0,G2053>0)),\"\",IF(HandicapPlay=\"x\",IF(F2053>G2053,10,-10),IF((F2053-G2053>0),(VLOOKUP(OFFSET(H2053,-9,0),(TABLE!WIN),(MATCH(E2053,WINCOL,0)+1))),(VLOOKUP(OFFSET(H2053,-9,0),(TABLE!LOSE),(MATCH(E2053,LOSECOL,0)+1))))))","v":""}]
[null,{"$f":"SCORECARD!C852","v":0},null,null,{"$f":"SCORECARD!F852","v":" "},{"$f":"SCORECARD!G852","v":0},{"$f":"SCORECARD!H852","v":0},{"$f":"IF(NOT(OR(F2054>0,G2054>0)),\"\",(IF((F2054-G2054>0),(VLOOKUP(H$2044,(TABLE!WIN),(E2054*2))),(VLOOKUP(H$2044,(TABLE!LOSE),(E2054*2))))))","v":""}]
[null,{"$f":"SCORECARD!C853","v":0},null,null,{"$f":"SCORECARD!F853","v":" "},{"$f":"SCORECARD!G853","v":0},{"$f":"SCORECARD!H853","v":0},{"$f":"IF(NOT(OR(F2055>0,G2055>0)),\"\",(IF((F2055-G2055>0),(VLOOKUP(H$2044,(TABLE!WIN),(E2055*2))),(VLOOKUP(H$2044,(TABLE!LOSE),(E2055*2))))))","v":""}]
[null,{"$f":"SCORECARD!C854","v":0},null,null,{"$f":"SCORECARD!F854","v":" "},{"$f":"SCORECARD!G854","v":0},{"$f":"SCORECARD!H854","v":0},{"$f":"IF(NOT(OR(F2056>0,G2056>0)),\"\",(IF((F2056-G2056>0),(VLOOKUP(H$2044,(TABLE!WIN),(E2056*2))),(VLOOKUP(H$2044,(TABLE!LOSE),(E2056*2))))))","v":""}]
[null,{"$f":"SCORECARD!C855","v":0},null,null,{"$f":"SCORECARD!F855","v":" "},{"$f":"SCORECARD!G855","v":0},{"$f":"SCORECARD!H855","v":0},{"$f":"IF(NOT(OR(F2057>0,G2057>0)),\"\",(IF((F2057-G2057>0),(VLOOKUP(H$2044,(TABLE!WIN),(E2057*2))),(VLOOKUP(H$2044,(TABLE!LOSE),(E2057*2))))))","v":""}]
[null,{"$f":"SCORECARD!C856","v":0},null,null,{"$f":"SCORECARD!F856","v":" "},{"$f":"SCORECARD!G856","v":0},{"$f":"SCORECARD!H856","v":0},{"$f":"IF(NOT(OR(F2058>0,G2058>0)),\"\",(IF((F2058-G2058>0),(VLOOKUP(H$2044,(TABLE!WIN),(E2058*2))),(VLOOKUP(H$2044,(TABLE!LOSE),(E2058*2))))))","v":""}]
[null,{"$f":"SCORECARD!C857","v":0},null,null,{"$f":"SCORECARD!F857","v":" "},{"$f":"SCORECARD!G857","v":0},{"$f":"SCORECARD!H857","v":0},{"$f":"IF(NOT(OR(F2059>0,G2059>0)),\"\",(IF((F2059-G2059>0),(VLOOKUP(H$2044,(TABLE!WIN),(E2059*2))),(VLOOKUP(H$2044,(TABLE!LOSE),(E2059*2))))))","v":""}]
[null,{"$f":"SCORECARD!C858","v":0},null,null,{"$f":"SCORECARD!F858","v":" "},{"$f":"SCORECARD!G858","v":0},{"$f":"SCORECARD!H858","v":0},{"$f":"IF(NOT(OR(F2060>0,G2060>0)),\"\",(IF((F2060-G2060>0),(VLOOKUP(H$2044,(TABLE!WIN),(E2060*2))),(VLOOKUP(H$2044,(TABLE!LOSE),(E2060*2))))))","v":""}]
[null,{"$f":"SCORECARD!C859","v":0},null,null,{"$f":"SCORECARD!F859","v":" "},{"$f":"SCORECARD!G859","v":0},{"$f":"SCORECARD!H859","v":0},{"$f":"IF(NOT(OR(F2061>0,G2061>0)),\"\",(IF((F2061-G2061>0),(VLOOKUP(H$2044,(TABLE!WIN),(E2061*2))),(VLOOKUP(H$2044,(TABLE!LOSE),(E2061*2))))))","v":""}]
[null,{"$f":"SCORECARD!C860","v":0},null,null,{"$f":"SCORECARD!F860","v":" "},{"$f":"SCORECARD!G860","v":0},{"$f":"SCORECARD!H860","v":0},{"$f":"IF(NOT(OR(F2062>0,G2062>0)),\"\",(IF((F2062-G2062>0),(VLOOKUP(H$2044,(TABLE!WIN),(E2062*2))),(VLOOKUP(H$2044,(TABLE!LOSE),(E2062*2))))))","v":""}]
[]
[null,null,null,null,null,null,"Handicap adjustment points total   ",{"$f":"SUM(H2047:H2063)","v":0}]
[]
[]
[]
[]
[]
[]
[]
[]
[]
[]
[]
[]
[{"$f":"note1","v":"Time limit 2.5 hours, Turn After Bell (61.1.6). Quadway hoops (3 11/16\"), Dawson International balls"}]
[{"$f":"note2","v":"Games may start early. Please be at the venue at least 30 minutes earlier than the scheduled start time."}]
[{"$f":"note3","v":"Entry Fee $40 will be invoiced by email. Please pay by EFT using the invoice No. as reference."}]
[{"$f":"note4","v":"Players please assist with setting and clearing courts."}]
[]
[]
[{"$f":"note3","v":"Entry Fee $40 will be invoiced by email. Please pay by EFT using the invoice No. as reference."}]
[{"$f":"note4","v":"Players please assist with setting and clearing courts."}]

{"sheet":"WORLD RANKING RESULTS","index":11,"n_rows":466,"n_cols":13,"rows_kept":466,"cut":false,"hidden":false,"merged":[]}
[]
[]
[]
["BLOCK 1",null,"Name",null,"Name","Margin","Peels","Time","Day",null,"LU Name","Score","Peels"]
[null,1,{"$f":"IF(L5<0,\"\",IF(L5>L6,K5,K6))","v":""},"beat",{"$f":"IF(L5<0,\"\",IF(L5>L6,K6,K5))","v":""},{"$f":"IF(L5>L6,L5-L6,L6-L5)","v":0},{"$f":"IF(C5=\"\",\"\",IF(ISTEXT(M5),M5,IF(ISTEXT(M6),M6,\"\")))","v":""},{"$f":"GAMES!B5","v":"00:00:00"},{"$f":"GAMES!C5","v":"00:00:00"},null,{"$f":"RESULTS!C5","v":" Block 1 Player 1"},{"$f":"RESULTS!D5","v":-1E-3},{"$f":"RESULTS!E5","v":-1E-3}]
[null,2,{"$f":"IF(L7<0,\"\",IF(L7>L8,K7,K8))","v":""},"beat",{"$f":"IF(L7<0,\"\",IF(L7>L8,K8,K7))","v":""},{"$f":"IF(L7>L8,L7-L8,L8-L7)","v":0},{"$f":"IF(C6=\"\",\"\",IF(ISTEXT(M7),M7,IF(ISTEXT(M8),M8,\"\")))","v":""},{"$f":"GAMES!B6","v":"00:00:00"},{"$f":"GAMES!C6","v":"00:00:00"},null,{"$f":"RESULTS!C6","v":" Block 1 Player 3"},{"$f":"RESULTS!D6","v":-1E-3},{"$f":"RESULTS!E6","v":-1E-3}]
[null,3,{"$f":"IF(L9<0,\"\",IF(L9>L10,K9,K10))","v":""},"beat",{"$f":"IF(L9<0,\"\",IF(L9>L10,K10,K9))","v":""},{"$f":"IF(L9>L10,L9-L10,L10-L9)","v":0},{"$f":"IF(C7=\"\",\"\",IF(ISTEXT(M9),M9,IF(ISTEXT(M10),M10,\"\")))","v":""},{"$f":"GAMES!B7","v":"00:00:00"},{"$f":"GAMES!C7","v":"00:00:00"},null,{"$f":"RESULTS!C7","v":" Block 1 Player 2"},{"$f":"RESULTS!D7","v":-1E-3},{"$f":"RESULTS!E7","v":-1E-3}]
[null,4,{"$f":"IF(L11<0,\"\",IF(L11>L12,K11,K12))","v":""},"beat",{"$f":"IF(L11<0,\"\",IF(L11>L12,K12,K11))","v":""},{"$f":"IF(L11>L12,L11-L12,L12-L11)","v":0},{"$f":"IF(C8=\"\",\"\",IF(ISTEXT(M11),M11,IF(ISTEXT(M12),M12,\"\")))","v":""},{"$f":"GAMES!B8","v":"00:00:00"},{"$f":"GAMES!C8","v":"00:00:00"},null,{"$f":"RESULTS!C8","v":" Block 1 Player 4"},{"$f":"RESULTS!D8","v":-1E-3},{"$f":"RESULTS!E8","v":-1E-3}]
[null,5,{"$f":"IF(L13<0,\"\",IF(L13>L14,K13,K14))","v":""},"beat",{"$f":"IF(L13<0,\"\",IF(L13>L14,K14,K13))","v":""},{"$f":"IF(L13>L14,L13-L14,L14-L13)","v":0},{"$f":"IF(C9=\"\",\"\",IF(ISTEXT(M13),M13,IF(ISTEXT(M14),M14,\"\")))","v":""},{"$f":"GAMES!B9","v":"00:00:00"},{"$f":"GAMES!C9","v":"00:00:00"},null,{"$f":"RESULTS!C9","v":" Bye "},{"$f":"RESULTS!D9","v":-1E-3},{"$f":"RESULTS!E9","v":-1E-3}]
[null,6,{"$f":"IF(L15<0,\"\",IF(L15>L16,K15,K16))","v":""},"beat",{"$f":"IF(L15<0,\"\",IF(L15>L16,K16,K15))","v":""},{"$f":"IF(L15>L16,L15-L16,L16-L15)","v":0},{"$f":"IF(C10=\"\",\"\",IF(ISTEXT(M15),M15,IF(ISTEXT(M16),M16,\"\")))","v":""},{"$f":"GAMES!B10","v":"00:00:00"},{"$f":"GAMES!C10","v":"00:00:00"},null,{"$f":"RESULTS!C10","v":" Block 1 Player 5"},{"$f":"RESULTS!D10","v":-1E-3},{"$f":"RESULTS!E10","v":-1E-3}]
[null,7,{"$f":"IF(L17<0,\"\",IF(L17>L18,K17,K18))","v":""},"beat",{"$f":"IF(L17<0,\"\",IF(L17>L18,K18,K17))","v":""},{"$f":"IF(L17>L18,L17-L18,L18-L17)","v":0},{"$f":"IF(C11=\"\",\"\",IF(ISTEXT(M17),M17,IF(ISTEXT(M18),M18,\"\")))","v":""},{"$f":"GAMES!B11","v":"00:00:00"},{"$f":"GAMES!C11","v":"00:00:00"},null,{"$f":"RESULTS!C11","v":" Block 1 Player 7"},{"$f":"RESULTS!D11","v":-1E-3},{"$f":"RESULTS!E11","v":-1E-3}]
[null,8,{"$f":"IF(L19<0,\"\",IF(L19>L20,K19,K20))","v":""},"beat",{"$f":"IF(L19<0,\"\",IF(L19>L20,K20,K19))","v":""},{"$f":"IF(L19>L20,L19-L20,L20-L19)","v":0},{"$f":"IF(C12=\"\",\"\",IF(ISTEXT(M19),M19,IF(ISTEXT(M20),M20,\"\")))","v":""},{"$f":"GAMES!B12","v":"00:00:00"},{"$f":"GAMES!C12","v":"00:00:00"},null,{"$f":"RESULTS!C12","v":" Block 1 Player 6"},{"$f":"RESULTS!D12","v":-1E-3},{"$f":"RESULTS!E12","v":-1E-3}]
[null,9,{"$f":"IF(L21<0,\"\",IF(L21>L22,K21,K22))","v":""},"beat",{"$f":"IF(L21<0,\"\",IF(L21>L22,K22,K21))","v":""},{"$f":"IF(L21>L22,L21-L22,L22-L21)","v":0},{"$f":"IF(C13=\"\",\"\",IF(ISTEXT(M21),M21,IF(ISTEXT(M22),M22,\"\")))","v":""},{"$f":"GAMES!B13","v":"00:00:00"},{"$f":"GAMES!C13","v":"00:00:00"},null,{"$f":"RESULTS!C13","v":" Block 1 Player 1"},{"$f":"RESULTS!D13","v":-1E-3},{"$f":"RESULTS!E13","v":-1E-3}]
[null,10,{"$f":"IF(L23<0,\"\",IF(L23>L24,K23,K24))","v":""},"beat",{"$f":"IF(L23<0,\"\",IF(L23>L24,K24,K23))","v":""},{"$f":"IF(L23>L24,L23-L24,L24-L23)","v":0},{"$f":"IF(C14=\"\",\"\",IF(ISTEXT(M23),M23,IF(ISTEXT(M24),M24,\"\")))","v":""},{"$f":"GAMES!B14","v":"00:00:00"},{"$f":"GAMES!C14","v":"00:00:00"},null,{"$f":"RESULTS!C14","v":" Block 1 Player 4"},{"$f":"RESULTS!D14","v":-1E-3},{"$f":"RESULTS!E14","v":-1E-3}]
[null,11,{"$f":"IF(L25<0,\"\",IF(L25>L26,K25,K26))","v":""},"beat",{"$f":"IF(L25<0,\"\",IF(L25>L26,K26,K25))","v":""},{"$f":"IF(L25>L26,L25-L26,L26-L25)","v":0},{"$f":"IF(C15=\"\",\"\",IF(ISTEXT(M25),M25,IF(ISTEXT(M26),M26,\"\")))","v":""},{"$f":"GAMES!B15","v":"00:00:00"},{"$f":"GAMES!C15","v":"00:00:00"},null,{"$f":"RESULTS!C15","v":" Block 1 Player 3"},{"$f":"RESULTS!D15","v":-1E-3},{"$f":"RESULTS!E15","v":-1E-3}]
[null,12,{"$f":"IF(L27<0,\"\",IF(L27>L28,K27,K28))","v":""},"beat",{"$f":"IF(L27<0,\"\",IF(L27>L28,K28,K27))","v":""},{"$f":"IF(L27>L28,L27-L28,L28-L27)","v":0},{"$f":"IF(C16=\"\",\"\",IF(ISTEXT(M27),M27,IF(ISTEXT(M28),M28,\"\")))","v":""},{"$f":"GAMES!B16","v":"00:00:00"},{"$f":"GAMES!C16","v":"00:00:00"},null,{"$f":"RESULTS!C16","v":" Block 1 Player 5"},{"$f":"RESULTS!D16","v":-1E-3},{"$f":"RESULTS!E16","v":-1E-3}]
[null,13,{"$f":"IF(L29<0,\"\",IF(L29>L30,K29,K30))","v":""},"beat",{"$f":"IF(L29<0,\"\",IF(L29>L30,K30,K29))","v":""},{"$f":"IF(L29>L30,L29-L30,L30-L29)","v":0},{"$f":"IF(C17=\"\",\"\",IF(ISTEXT(M29),M29,IF(ISTEXT(M30),M30,\"\")))","v":""},{"$f":"GAMES!B17","v":"00:00:00"},{"$f":"GAMES!C17","v":"00:00:00"},null,{"$f":"RESULTS!C17","v":" Block 1 Player 2"},{"$f":"RESULTS!D17","v":-1E-3},{"$f":"RESULTS!E17","v":-1E-3}]
[null,14,{"$f":"IF(L31<0,\"\",IF(L31>L32,K31,K32))","v":""},"beat",{"$f":"IF(L31<0,\"\",IF(L31>L32,K32,K31))","v":""},{"$f":"IF(L31>L32,L31-L32,L32-L31)","v":0},{"$f":"IF(C18=\"\",\"\",IF(ISTEXT(M31),M31,IF(ISTEXT(M32),M32,\"\")))","v":""},{"$f":"GAMES!B18","v":"00:00:00"},{"$f":"GAMES!C18","v":"00:00:00"},null,{"$f":"RESULTS!C18","v":" Block 1 Player 6"},{"$f":"RESULTS!D18","v":-1E-3},{"$f":"RESULTS!E18","v":-1E-3}]
[null,15,{"$f":"IF(L33<0,\"\",IF(L33>L34,K33,K34))","v":""},"beat",{"$f":"IF(L33<0,\"\",IF(L33>L34,K34,K33))","v":""},{"$f":"IF(L33>L34,L33-L34,L34-L33)","v":0},{"$f":"IF(C19=\"\",\"\",IF(ISTEXT(M33),M33,IF(ISTEXT(M34),M34,\"\")))","v":""},{"$f":"GAMES!B19","v":"00:00:00"},{"$f":"GAMES!C19","v":"00:00:00"},null,{"$f":"RESULTS!C19","v":" Bye "},{"$f":"RESULTS!D19","v":-1E-3},{"$f":"RESULTS!E19","v":-1E-3}]
[null,16,{"$f":"IF(L35<0,\"\",IF(L35>L36,K35,K36))","v":""},"beat",{"$f":"IF(L35<0,\"\",IF(L35>L36,K36,K35))","v":""},{"$f":"IF(L35>L36,L35-L36,L36-L35)","v":0},{"$f":"IF(C20=\"\",\"\",IF(ISTEXT(M35),M35,IF(ISTEXT(M36),M36,\"\")))","v":""},{"$f":"GAMES!B20","v":"00:00:00"},{"$f":"GAMES!C20","v":"00:00:00"},null,{"$f":"RESULTS!C20","v":" Block 1 Player 7"},{"$f":"RESULTS!D20","v":-1E-3},{"$f":"RESULTS!E20","v":-1E-3}]
[null,17,{"$f":"IF(L37<0,\"\",IF(L37>L38,K37,K38))","v":""},"beat",{"$f":"IF(L37<0,\"\",IF(L37>L38,K38,K37))","v":""},{"$f":"IF(L37>L38,L37-L38,L38-L37)","v":0},{"$f":"IF(C21=\"\",\"\",IF(ISTEXT(M37),M37,IF(ISTEXT(M38),M38,\"\")))","v":""},{"$f":"GAMES!B21","v":"00:00:00"},{"$f":"GAMES!C21","v":"00:00:00"},null,{"$f":"RESULTS!C21","v":" Block 1 Player 1"},{"$f":"RESULTS!D21","v":-1E-3},{"$f":"RESULTS!E21","v":-1E-3}]
[null,18,{"$f":"IF(L39<0,\"\",IF(L39>L40,K39,K40))","v":""},"beat",{"$f":"IF(L39<0,\"\",IF(L39>L40,K40,K39))","v":""},{"$f":"IF(L39>L40,L39-L40,L40-L39)","v":0},{"$f":"IF(C22=\"\",\"\",IF(ISTEXT(M39),M39,IF(ISTEXT(M40),M40,\"\")))","v":""},{"$f":"GAMES!B22","v":"00:00:00"},{"$f":"GAMES!C22","v":"00:00:00"},null,{"$f":"RESULTS!C22","v":" Block 1 Player 5"},{"$f":"RESULTS!D22","v":-1E-3},{"$f":"RESULTS!E22","v":-1E-3}]
[null,19,{"$f":"IF(L41<0,\"\",IF(L41>L42,K41,K42))","v":""},"beat",{"$f":"IF(L41<0,\"\",IF(L41>L42,K42,K41))","v":""},{"$f":"IF(L41>L42,L41-L42,L42-L41)","v":0},{"$f":"IF(C23=\"\",\"\",IF(ISTEXT(M41),M41,IF(ISTEXT(M42),M42,\"\")))","v":""},{"$f":"GAMES!B23","v":"00:00:00"},{"$f":"GAMES!C23","v":"00:00:00"},null,{"$f":"RESULTS!C23","v":" Block 1 Player 4"},{"$f":"RESULTS!D23","v":-1E-3},{"$f":"RESULTS!E23","v":-1E-3}]
[null,20,{"$f":"IF(L43<0,\"\",IF(L43>L44,K43,K44))","v":""},"beat",{"$f":"IF(L43<0,\"\",IF(L43>L44,K44,K43))","v":""},{"$f":"IF(L43>L44,L43-L44,L44-L43)","v":0},{"$f":"IF(C24=\"\",\"\",IF(ISTEXT(M43),M43,IF(ISTEXT(M44),M44,\"\")))","v":""},{"$f":"GAMES!B24","v":"00:00:00"},{"$f":"GAMES!C24","v":"00:00:00"},null,{"$f":"RESULTS!C24","v":" Block 1 Player 6"},{"$f":"RESULTS!D24","v":-1E-3},{"$f":"RESULTS!E24","v":-1E-3}]
[null,21,{"$f":"IF(L45<0,\"\",IF(L45>L46,K45,K46))","v":""},"beat",{"$f":"IF(L45<0,\"\",IF(L45>L46,K46,K45))","v":""},{"$f":"IF(L45>L46,L45-L46,L46-L45)","v":0},{"$f":"IF(C25=\"\",\"\",IF(ISTEXT(M45),M45,IF(ISTEXT(M46),M46,\"\")))","v":""},{"$f":"GAMES!B25","v":"00:00:00"},{"$f":"GAMES!C25","v":"00:00:00"},null,{"$f":"RESULTS!G5","v":" Block 1 Player 3"},{"$f":"RESULTS!H5","v":-1E-3},{"$f":"RESULTS!I5","v":-1E-3}]
[null,22,{"$f":"IF(L47<0,\"\",IF(L47>L48,K47,K48))","v":""},"beat",{"$f":"IF(L47<0,\"\",IF(L47>L48,K48,K47))","v":""},{"$f":"IF(L47>L48,L47-L48,L48-L47)","v":0},{"$f":"IF(C26=\"\",\"\",IF(ISTEXT(M47),M47,IF(ISTEXT(M48),M48,\"\")))","v":""},{"$f":"GAMES!B26","v":"00:00:00"},{"$f":"GAMES!C26","v":"00:00:00"},null,{"$f":"RESULTS!G6","v":" Block 1 Player 7"},{"$f":"RESULTS!H6","v":-1E-3},{"$f":"RESULTS!I6","v":-1E-3}]
[null,23,{"$f":"IF(L49<0,\"\",IF(L49>L50,K49,K50))","v":""},"beat",{"$f":"IF(L49<0,\"\",IF(L49>L50,K50,K49))","v":""},{"$f":"IF(L49>L50,L49-L50,L50-L49)","v":0},{"$f":"IF(C27=\"\",\"\",IF(ISTEXT(M49),M49,IF(ISTEXT(M50),M50,\"\")))","v":""},{"$f":"GAMES!B27","v":"00:00:00"},{"$f":"GAMES!C27","v":"00:00:00"},null,{"$f":"RESULTS!G7","v":" Block 1 Player 2"},{"$f":"RESULTS!H7","v":-1E-3},{"$f":"RESULTS!I7","v":-1E-3}]
[null,24,{"$f":"IF(L51<0,\"\",IF(L51>L52,K51,K52))","v":""},"beat",{"$f":"IF(L51<0,\"\",IF(L51>L52,K52,K51))","v":""},{"$f":"IF(L51>L52,L51-L52,L52-L51)","v":0},{"$f":"IF(C28=\"\",\"\",IF(ISTEXT(M51),M51,IF(ISTEXT(M52),M52,\"\")))","v":""},{"$f":"GAMES!B28","v":"00:00:00"},{"$f":"GAMES!C28","v":"00:00:00"},null,{"$f":"RESULTS!G8","v":" Bye "},{"$f":"RESULTS!H8","v":-1E-3},{"$f":"RESULTS!I8","v":-1E-3}]
[null,25,{"$f":"IF(L53<0,\"\",IF(L53>L54,K53,K54))","v":""},"beat",{"$f":"IF(L53<0,\"\",IF(L53>L54,K54,K53))","v":""},{"$f":"IF(L53>L54,L53-L54,L54-L53)","v":0},{"$f":"IF(C29=\"\",\"\",IF(ISTEXT(M53),M53,IF(ISTEXT(M54),M54,\"\")))","v":""},{"$f":"GAMES!B29","v":"00:00:00"},{"$f":"GAMES!C29","v":"00:00:00"},null,{"$f":"RESULTS!G9","v":" Block 1 Player 1"},{"$f":"RESULTS!H9","v":-1E-3},{"$f":"RESULTS!I9","v":-1E-3}]
[null,26,{"$f":"IF(L55<0,\"\",IF(L55>L56,K55,K56))","v":""},"beat",{"$f":"IF(L55<0,\"\",IF(L55>L56,K56,K55))","v":""},{"$f":"IF(L55>L56,L55-L56,L56-L55)","v":0},{"$f":"IF(C30=\"\",\"\",IF(ISTEXT(M55),M55,IF(ISTEXT(M56),M56,\"\")))","v":""},{"$f":"GAMES!B30","v":"00:00:00"},{"$f":"GAMES!C30","v":"00:00:00"},null,{"$f":"RESULTS!G10","v":" Block 1 Player 6"},{"$f":"RESULTS!H10","v":-1E-3},{"$f":"RESULTS!I10","v":-1E-3}]
[null,27,{"$f":"IF(L57<0,\"\",IF(L57>L58,K57,K58))","v":""},"beat",{"$f":"IF(L57<0,\"\",IF(L57>L58,K58,K57))","v":""},{"$f":"IF(L57>L58,L57-L58,L58-L57)","v":0},{"$f":"IF(C31=\"\",\"\",IF(ISTEXT(M57),M57,IF(ISTEXT(M58),M58,\"\")))","v":""},{"$f":"GAMES!B31","v":"00:00:00"},{"$f":"GAMES!C31","v":"00:00:00"},null,{"$f":"RESULTS!G11","v":" Block 1 Player 5"},{"$f":"RESULTS!H11","v":-1E-3},{"$f":"RESULTS!I11","v":-1E-3}]
[null,28,{"$f":"IF(L59<0,\"\",IF(L59>L60,K59,K60))","v":""},"beat",{"$f":"IF(L59<0,\"\",IF(L59>L60,K60,K59))","v":""},{"$f":"IF(L59>L60,L59-L60,L60-L59)","v":0},{"$f":"IF(C32=\"\",\"\",IF(ISTEXT(M59),M59,IF(ISTEXT(M60),M60,\"\")))","v":""},{"$f":"GAMES!B32","v":"00:00:00"},{"$f":"GAMES!C32","v":"00:00:00"},null,{"$f":"RESULTS!G12","v":" Block 1 Player 7"},{"$f":"RESULTS!H12","v":-1E-3},{"$f":"RESULTS!I12","v":-1E-3}]
[null,null,null,null,null,null,null,null,null,null,{"$f":"RESULTS!G13","v":" Block 1 Player 4"},{"$f":"RESULTS!H13","v":-1E-3},{"$f":"RESULTS!I13","v":-1E-3}]
[null,null,null,null,null,null,null,null,null,null,{"$f":"RESULTS!G14","v":" Bye "},{"$f":"RESULTS!H14","v":-1E-3},{"$f":"RESULTS!I14","v":-1E-3}]
[null,null,null,null,null,null,null,null,null,null,{"$f":"RESULTS!G15","v":" Block 1 Player 3"},{"$f":"RESULTS!H15","v":-1E-3},{"$f":"RESULTS!I15","v":-1E-3}]
[null,null,null,null,null,null,null,null,null,null,{"$f":"RESULTS!G16","v":" Block 1 Player 2"},{"$f":"RESULTS!H16","v":-1E-3},{"$f":"RESULTS!I16","v":-1E-3}]
[null,null,null,null,null,null,null,null,null,null,{"$f":"RESULTS!G17","v":" Block 1 Player 1"},{"$f":"RESULTS!H17","v":-1E-3},{"$f":"RESULTS!I17","v":-1E-3}]
[null,null,null,null,null,null,null,null,null,null,{"$f":"RESULTS!G18","v":" Block 1 Player 7"},{"$f":"RESULTS!H18","v":-1E-3},{"$f":"RESULTS!I18","v":-1E-3}]
[null,null,null,null,null,null,null,null,null,null,{"$f":"RESULTS!G19","v":" Block 1 Player 6"},{"$f":"RESULTS!H19","v":-1E-3},{"$f":"RESULTS!I19","v":-1E-3}]
[null,null,null,null,null,null,null,null,null,null,{"$f":"RESULTS!G20","v":" Bye "},{"$f":"RESULTS!H20","v":-1E-3},{"$f":"RESULTS!I20","v":-1E-3}]
[null,null,null,null,null,null,null,null,null,null,{"$f":"RESULTS!G21","v":" Block 1 Player 5"},{"$f":"RESULTS!H21","v":-1E-3},{"$f":"RESULTS!I21","v":-1E-3}]
[null,null,null,null,null,null,null,null,null,null,{"$f":"RESULTS!G22","v":" Block 1 Player 2"},{"$f":"RESULTS!H22","v":-1E-3},{"$f":"RESULTS!I22","v":-1E-3}]
[null,null,null,null,null,null,null,null,null,null,{"$f":"RESULTS!G23","v":" Block 1 Player 4"},{"$f":"RESULTS!H23","v":-1E-3},{"$f":"RESULTS!I23","v":-1E-3}]
[null,null,null,null,null,null,null,null,null,null,{"$f":"RESULTS!G24","v":" Block 1 Player 3"},{"$f":"RESULTS!H24","v":-1E-3},{"$f":"RESULTS!I24","v":-1E-3}]
[null,null,null,null,null,null,null,null,null,null,{"$f":"RESULTS!K5","v":" Block 1 Player 1"},{"$f":"RESULTS!L5","v":-1E-3},{"$f":"RESULTS!M5","v":-1E-3}]
[null,null,null,null,null,null,null,null,null,null,{"$f":"RESULTS!K6","v":" Bye "},{"$f":"RESULTS!L6","v":-1E-3},{"$f":"RESULTS!M6","v":-1E-3}]
[null,null,null,null,null,null,null,null,null,null,{"$f":"RESULTS!K7","v":" Block 1 Player 7"},{"$f":"RESULTS!L7","v":-1E-3},{"$f":"RESULTS!M7","v":-1E-3}]
[null,null,null,null,null,null,null,null,null,null,{"$f":"RESULTS!K8","v":" Block 1 Player 2"},{"$f":"RESULTS!L8","v":-1E-3},{"$f":"RESULTS!M8","v":-1E-3}]
[null,null,null,null,null,null,null,null,null,null,{"$f":"RESULTS!K9","v":" Block 1 Player 6"},{"$f":"RESULTS!L9","v":-1E-3},{"$f":"RESULTS!M9","v":-1E-3}]
[null,null,null,null,null,null,null,null,null,null,{"$f":"RESULTS!K10","v":" Block 1 Player 3"},{"$f":"RESULTS!L10","v":-1E-3},{"$f":"RESULTS!M10","v":-1E-3}]
[null,null,null,null,null,null,null,null,null,null,{"$f":"RESULTS!K11","v":" Block 1 Player 5"},{"$f":"RESULTS!L11","v":-1E-3},{"$f":"RESULTS!M11","v":-1E-3}]
[null,null,null,null,null,null,null,null,null,null,{"$f":"RESULTS!K12","v":" Block 1 Player 4"},{"$f":"RESULTS!L12","v":-1E-3},{"$f":"RESULTS!M12","v":-1E-3}]
[null,null,null,null,null,null,null,null,null,null,{"$f":"RESULTS!K13","v":" Block 1 Player 1"},{"$f":"RESULTS!L13","v":-1E-3},{"$f":"RESULTS!M13","v":-1E-3}]
[null,null,null,null,null,null,null,null,null,null,{"$f":"RESULTS!K14","v":" Block 1 Player 2"},{"$f":"RESULTS!L14","v":-1E-3},{"$f":"RESULTS!M14","v":-1E-3}]
[null,null,null,null,null,null,null,null,null,null,{"$f":"RESULTS!K15","v":" Bye "},{"$f":"RESULTS!L15","v":-1E-3},{"$f":"RESULTS!M15","v":-1E-3}]
[null,null,null,null,null,null,null,null,null,null,{"$f":"RESULTS!K16","v":" Block 1 Player 3"},{"$f":"RESULTS!L16","v":-1E-3},{"$f":"RESULTS!M16","v":-1E-3}]
[null,null,null,null,null,null,null,null,null,null,{"$f":"RESULTS!K17","v":" Block 1 Player 7"},{"$f":"RESULTS!L17","v":-1E-3},{"$f":"RESULTS!M17","v":-1E-3}]
[null,null,null,null,null,null,null,null,null,null,{"$f":"RESULTS!K18","v":" Block 1 Player 4"},{"$f":"RESULTS!L18","v":-1E-3},{"$f":"RESULTS!M18","v":-1E-3}]
[null,null,null,null,null,null,null,null,null,null,{"$f":"RESULTS!K19","v":" Block 1 Player 6"},{"$f":"RESULTS!L19","v":-1E-3},{"$f":"RESULTS!M19","v":-1E-3}]
[null,null,null,null,null,null,null,null,null,null,{"$f":"RESULTS!K20","v":" Block 1 Player 5"},{"$f":"RESULTS!L20","v":-1E-3},{"$f":"RESULTS!M20","v":-1E-3}]
[]
[]
["BLOCK 2",null,"Name",null,"Name","Margin","Peels","Time","Day",null,"LU Name","Score","Peels"]
[null,1,{"$f":"IF(L64<0,\"\",IF(L64>L65,K64,K65))","v":""},"beat",{"$f":"IF(L64<0,\"\",IF(L64>L65,K65,K64))","v":""},{"$f":"IF(L64>L65,L64-L65,L65-L64)","v":0},{"$f":"IF(C64=\"\",\"\",IF(ISTEXT(M64),M64,IF(ISTEXT(M65),M65,\"\")))","v":""},{"$f":"GAMES!B36","v":"00:00:00"},{"$f":"GAMES!C36","v":"00:00:00"},null,{"$f":"RESULTS!C29","v":" Block 2 Player 1"},{"$f":"RESULTS!D29","v":-1E-3},{"$f":"RESULTS!E29","v":-1E-3}]
[null,2,{"$f":"IF(L66<0,\"\",IF(L66>L67,K66,K67))","v":""},"beat",{"$f":"IF(L66<0,\"\",IF(L66>L67,K67,K66))","v":""},{"$f":"IF(L66>L67,L66-L67,L67-L66)","v":0},{"$f":"IF(C65=\"\",\"\",IF(ISTEXT(M66),M66,IF(ISTEXT(M67),M67,\"\")))","v":""},{"$f":"GAMES!B37","v":"00:00:00"},{"$f":"GAMES!C37","v":"00:00:00"},null,{"$f":"RESULTS!C30","v":" Block 2 Player 3"},{"$f":"RESULTS!D30","v":-1E-3},{"$f":"RESULTS!E30","v":-1E-3}]
[null,3,{"$f":"IF(L68<0,\"\",IF(L68>L69,K68,K69))","v":""},"beat",{"$f":"IF(L68<0,\"\",IF(L68>L69,K69,K68))","v":""},{"$f":"IF(L68>L69,L68-L69,L69-L68)","v":0},{"$f":"IF(C66=\"\",\"\",IF(ISTEXT(M68),M68,IF(ISTEXT(M69),M69,\"\")))","v":""},{"$f":"GAMES!B38","v":"00:00:00"},{"$f":"GAMES!C38","v":"00:00:00"},null,{"$f":"RESULTS!C31","v":" Block 2 Player 2"},{"$f":"RESULTS!D31","v":-1E-3},{"$f":"RESULTS!E31","v":-1E-3}]
[null,4,{"$f":"IF(L70<0,\"\",IF(L70>L71,K70,K71))","v":""},"beat",{"$f":"IF(L70<0,\"\",IF(L70>L71,K71,K70))","v":""},{"$f":"IF(L70>L71,L70-L71,L71-L70)","v":0},{"$f":"IF(C67=\"\",\"\",IF(ISTEXT(M70),M70,IF(ISTEXT(M71),M71,\"\")))","v":""},{"$f":"GAMES!B39","v":"00:00:00"},{"$f":"GAMES!C39","v":"00:00:00"},null,{"$f":"RESULTS!C32","v":" Block 2 Player 4"},{"$f":"RESULTS!D32","v":-1E-3},{"$f":"RESULTS!E32","v":-1E-3}]
[null,5,{"$f":"IF(L72<0,\"\",IF(L72>L73,K72,K73))","v":""},"beat",{"$f":"IF(L72<0,\"\",IF(L72>L73,K73,K72))","v":""},{"$f":"IF(L72>L73,L72-L73,L73-L72)","v":0},{"$f":"IF(C68=\"\",\"\",IF(ISTEXT(M72),M72,IF(ISTEXT(M73),M73,\"\")))","v":""},{"$f":"GAMES!B40","v":"00:00:00"},{"$f":"GAMES!C40","v":"00:00:00"},null,{"$f":"RESULTS!C33","v":" Bye "},{"$f":"RESULTS!D33","v":-1E-3},{"$f":"RESULTS!E33","v":-1E-3}]
[null,6,{"$f":"IF(L74<0,\"\",IF(L74>L75,K74,K75))","v":""},"beat",{"$f":"IF(L74<0,\"\",IF(L74>L75,K75,K74))","v":""},{"$f":"IF(L74>L75,L74-L75,L75-L74)","v":0},{"$f":"IF(C69=\"\",\"\",IF(ISTEXT(M74),M74,IF(ISTEXT(M75),M75,\"\")))","v":""},{"$f":"GAMES!B41","v":"00:00:00"},{"$f":"GAMES!C41","v":"00:00:00"},null,{"$f":"RESULTS!C34","v":" Block 2 Player 5"},{"$f":"RESULTS!D34","v":-1E-3},{"$f":"RESULTS!E34","v":-1E-3}]
[null,7,{"$f":"IF(L76<0,\"\",IF(L76>L77,K76,K77))","v":""},"beat",{"$f":"IF(L76<0,\"\",IF(L76>L77,K77,K76))","v":""},{"$f":"IF(L76>L77,L76-L77,L77-L76)","v":0},{"$f":"IF(C70=\"\",\"\",IF(ISTEXT(M76),M76,IF(ISTEXT(M77),M77,\"\")))","v":""},{"$f":"GAMES!B42","v":"00:00:00"},{"$f":"GAMES!C42","v":"00:00:00"},null,{"$f":"RESULTS!C35","v":" Block 2 Player 7"},{"$f":"RESULTS!D35","v":-1E-3},{"$f":"RESULTS!E35","v":-1E-3}]
[null,8,{"$f":"IF(L78<0,\"\",IF(L78>L79,K78,K79))","v":""},"beat",{"$f":"IF(L78<0,\"\",IF(L78>L79,K79,K78))","v":""},{"$f":"IF(L78>L79,L78-L79,L79-L78)","v":0},{"$f":"IF(C71=\"\",\"\",IF(ISTEXT(M78),M78,IF(ISTEXT(M79),M79,\"\")))","v":""},{"$f":"GAMES!B43","v":"00:00:00"},{"$f":"GAMES!C43","v":"00:00:00"},null,{"$f":"RESULTS!C36","v":" Block 2 Player 6"},{"$f":"RESULTS!D36","v":-1E-3},{"$f":"RESULTS!E36","v":-1E-3}]
[null,9,{"$f":"IF(L80<0,\"\",IF(L80>L81,K80,K81))","v":""},"beat",{"$f":"IF(L80<0,\"\",IF(L80>L81,K81,K80))","v":""},{"$f":"IF(L80>L81,L80-L81,L81-L80)","v":0},{"$f":"IF(C72=\"\",\"\",IF(ISTEXT(M80),M80,IF(ISTEXT(M81),M81,\"\")))","v":""},{"$f":"GAMES!B44","v":"00:00:00"},{"$f":"GAMES!C44","v":"00:00:00"},null,{"$f":"RESULTS!C37","v":" Block 2 Player 1"},{"$f":"RESULTS!D37","v":-1E-3},{"$f":"RESULTS!E37","v":-1E-3}]
[null,10,{"$f":"IF(L82<0,\"\",IF(L82>L83,K82,K83))","v":""},"beat",{"$f":"IF(L82<0,\"\",IF(L82>L83,K83,K82))","v":""},{"$f":"IF(L82>L83,L82-L83,L83-L82)","v":0},{"$f":"IF(C73=\"\",\"\",IF(ISTEXT(M82),M82,IF(ISTEXT(M83),M83,\"\")))","v":""},{"$f":"GAMES!B45","v":"00:00:00"},{"$f":"GAMES!C45","v":"00:00:00"},null,{"$f":"RESULTS!C38","v":" Block 2 Player 4"},{"$f":"RESULTS!D38","v":-1E-3},{"$f":"RESULTS!E38","v":-1E-3}]
[null,11,{"$f":"IF(L84<0,\"\",IF(L84>L85,K84,K85))","v":""},"beat",{"$f":"IF(L84<0,\"\",IF(L84>L85,K85,K84))","v":""},{"$f":"IF(L84>L85,L84-L85,L85-L84)","v":0},{"$f":"IF(C74=\"\",\"\",IF(ISTEXT(M84),M84,IF(ISTEXT(M85),M85,\"\")))","v":""},{"$f":"GAMES!B46","v":"00:00:00"},{"$f":"GAMES!C46","v":"00:00:00"},null,{"$f":"RESULTS!C39","v":" Block 2 Player 3"},{"$f":"RESULTS!D39","v":-1E-3},{"$f":"RESULTS!E39","v":-1E-3}]
[null,12,{"$f":"IF(L86<0,\"\",IF(L86>L87,K86,K87))","v":""},"beat",{"$f":"IF(L86<0,\"\",IF(L86>L87,K87,K86))","v":""},{"$f":"IF(L86>L87,L86-L87,L87-L86)","v":0},{"$f":"IF(C75=\"\",\"\",IF(ISTEXT(M86),M86,IF(ISTEXT(M87),M87,\"\")))","v":""},{"$f":"GAMES!B47","v":"00:00:00"},{"$f":"GAMES!C47","v":"00:00:00"},null,{"$f":"RESULTS!C40","v":" Block 2 Player 5"},{"$f":"RESULTS!D40","v":-1E-3},{"$f":"RESULTS!E40","v":-1E-3}]
[null,13,{"$f":"IF(L88<0,\"\",IF(L88>L89,K88,K89))","v":""},"beat",{"$f":"IF(L88<0,\"\",IF(L88>L89,K89,K88))","v":""},{"$f":"IF(L88>L89,L88-L89,L89-L88)","v":0},{"$f":"IF(C76=\"\",\"\",IF(ISTEXT(M88),M88,IF(ISTEXT(M89),M89,\"\")))","v":""},{"$f":"GAMES!B48","v":"00:00:00"},{"$f":"GAMES!C48","v":"00:00:00"},null,{"$f":"RESULTS!C41","v":" Block 2 Player 2"},{"$f":"RESULTS!D41","v":-1E-3},{"$f":"RESULTS!E41","v":-1E-3}]
[null,14,{"$f":"IF(L90<0,\"\",IF(L90>L91,K90,K91))","v":""},"beat",{"$f":"IF(L90<0,\"\",IF(L90>L91,K91,K90))","v":""},{"$f":"IF(L90>L91,L90-L91,L91-L90)","v":0},{"$f":"IF(C77=\"\",\"\",IF(ISTEXT(M90),M90,IF(ISTEXT(M91),M91,\"\")))","v":""},{"$f":"GAMES!B49","v":"00:00:00"},{"$f":"GAMES!C49","v":"00:00:00"},null,{"$f":"RESULTS!C42","v":" Block 2 Player 6"},{"$f":"RESULTS!D42","v":-1E-3},{"$f":"RESULTS!E42","v":-1E-3}]
[null,15,{"$f":"IF(L92<0,\"\",IF(L92>L93,K92,K93))","v":""},"beat",{"$f":"IF(L92<0,\"\",IF(L92>L93,K93,K92))","v":""},{"$f":"IF(L92>L93,L92-L93,L93-L92)","v":0},{"$f":"IF(C78=\"\",\"\",IF(ISTEXT(M92),M92,IF(ISTEXT(M93),M93,\"\")))","v":""},{"$f":"GAMES!B50","v":"00:00:00"},{"$f":"GAMES!C50","v":"00:00:00"},null,{"$f":"RESULTS!C43","v":" Bye "},{"$f":"RESULTS!D43","v":-1E-3},{"$f":"RESULTS!E43","v":-1E-3}]
[null,16,{"$f":"IF(L94<0,\"\",IF(L94>L95,K94,K95))","v":""},"beat",{"$f":"IF(L94<0,\"\",IF(L94>L95,K95,K94))","v":""},{"$f":"IF(L94>L95,L94-L95,L95-L94)","v":0},{"$f":"IF(C79=\"\",\"\",IF(ISTEXT(M94),M94,IF(ISTEXT(M95),M95,\"\")))","v":""},{"$f":"GAMES!B51","v":"00:00:00"},{"$f":"GAMES!C51","v":"00:00:00"},null,{"$f":"RESULTS!C44","v":" Block 2 Player 7"},{"$f":"RESULTS!D44","v":-1E-3},{"$f":"RESULTS!E44","v":-1E-3}]
[null,17,{"$f":"IF(L96<0,\"\",IF(L96>L97,K96,K97))","v":""},"beat",{"$f":"IF(L96<0,\"\",IF(L96>L97,K97,K96))","v":""},{"$f":"IF(L96>L97,L96-L97,L97-L96)","v":0},{"$f":"IF(C80=\"\",\"\",IF(ISTEXT(M96),M96,IF(ISTEXT(M97),M97,\"\")))","v":""},{"$f":"GAMES!B52","v":"00:00:00"},{"$f":"GAMES!C52","v":"00:00:00"},null,{"$f":"RESULTS!C45","v":" Block 2 Player 1"},{"$f":"RESULTS!D45","v":-1E-3},{"$f":"RESULTS!E45","v":-1E-3}]
[null,18,{"$f":"IF(L98<0,\"\",IF(L98>L99,K98,K99))","v":""},"beat",{"$f":"IF(L98<0,\"\",IF(L98>L99,K99,K98))","v":""},{"$f":"IF(L98>L99,L98-L99,L99-L98)","v":0},{"$f":"IF(C81=\"\",\"\",IF(ISTEXT(M98),M98,IF(ISTEXT(M99),M99,\"\")))","v":""},{"$f":"GAMES!B53","v":"00:00:00"},{"$f":"GAMES!C53","v":"00:00:00"},null,{"$f":"RESULTS!C46","v":" Block 2 Player 5"},{"$f":"RESULTS!D46","v":-1E-3},{"$f":"RESULTS!E46","v":-1E-3}]
[null,19,{"$f":"IF(L100<0,\"\",IF(L100>L101,K100,K101))","v":""},"beat",{"$f":"IF(L100<0,\"\",IF(L100>L101,K101,K100))","v":""},{"$f":"IF(L100>L101,L100-L101,L101-L100)","v":0},{"$f":"IF(C82=\"\",\"\",IF(ISTEXT(M100),M100,IF(ISTEXT(M101),M101,\"\")))","v":""},{"$f":"GAMES!B54","v":"00:00:00"},{"$f":"GAMES!C54","v":"00:00:00"},null,{"$f":"RESULTS!C47","v":" Block 2 Player 4"},{"$f":"RESULTS!D47","v":-1E-3},{"$f":"RESULTS!E47","v":-1E-3}]
[null,20,{"$f":"IF(L102<0,\"\",IF(L102>L103,K102,K103))","v":""},"beat",{"$f":"IF(L102<0,\"\",IF(L102>L103,K103,K102))","v":""},{"$f":"IF(L102>L103,L102-L103,L103-L102)","v":0},{"$f":"IF(C83=\"\",\"\",IF(ISTEXT(M102),M102,IF(ISTEXT(M103),M103,\"\")))","v":""},{"$f":"GAMES!B55","v":"00:00:00"},{"$f":"GAMES!C55","v":"00:00:00"},null,{"$f":"RESULTS!C48","v":" Block 2 Player 6"},{"$f":"RESULTS!D48","v":-1E-3},{"$f":"RESULTS!E48","v":-1E-3}]
[null,21,{"$f":"IF(L104<0,\"\",IF(L104>L105,K104,K105))","v":""},"beat",{"$f":"IF(L104<0,\"\",IF(L104>L105,K105,K104))","v":""},{"$f":"IF(L104>L105,L104-L105,L105-L104)","v":0},{"$f":"IF(C84=\"\",\"\",IF(ISTEXT(M104),M104,IF(ISTEXT(M105),M105,\"\")))","v":""},{"$f":"GAMES!B56","v":"00:00:00"},{"$f":"GAMES!C56","v":"00:00:00"},null,{"$f":"RESULTS!G29","v":" Block 2 Player 3"},{"$f":"RESULTS!H29","v":-1E-3},{"$f":"RESULTS!I29","v":-1E-3}]
[null,22,{"$f":"IF(L106<0,\"\",IF(L106>L107,K106,K107))","v":""},"beat",{"$f":"IF(L106<0,\"\",IF(L106>L107,K107,K106))","v":""},{"$f":"IF(L106>L107,L106-L107,L107-L106)","v":0},{"$f":"IF(C85=\"\",\"\",IF(ISTEXT(M106),M106,IF(ISTEXT(M107),M107,\"\")))","v":""},{"$f":"GAMES!B57","v":"00:00:00"},{"$f":"GAMES!C57","v":"00:00:00"},null,{"$f":"RESULTS!G30","v":" Block 2 Player 7"},{"$f":"RESULTS!H30","v":-1E-3},{"$f":"RESULTS!I30","v":-1E-3}]
[null,23,{"$f":"IF(L108<0,\"\",IF(L108>L109,K108,K109))","v":""},"beat",{"$f":"IF(L108<0,\"\",IF(L108>L109,K109,K108))","v":""},{"$f":"IF(L108>L109,L108-L109,L109-L108)","v":0},{"$f":"IF(C86=\"\",\"\",IF(ISTEXT(M108),M108,IF(ISTEXT(M109),M109,\"\")))","v":""},{"$f":"GAMES!B58","v":"00:00:00"},{"$f":"GAMES!C58","v":"00:00:00"},null,{"$f":"RESULTS!G31","v":" Block 2 Player 2"},{"$f":"RESULTS!H31","v":-1E-3},{"$f":"RESULTS!I31","v":-1E-3}]
[null,24,{"$f":"IF(L110<0,\"\",IF(L110>L111,K110,K111))","v":""},"beat",{"$f":"IF(L110<0,\"\",IF(L110>L111,K111,K110))","v":""},{"$f":"IF(L110>L111,L110-L111,L111-L110)","v":0},{"$f":"IF(C87=\"\",\"\",IF(ISTEXT(M110),M110,IF(ISTEXT(M111),M111,\"\")))","v":""},{"$f":"GAMES!B59","v":"00:00:00"},{"$f":"GAMES!C59","v":"00:00:00"},null,{"$f":"RESULTS!G32","v":" Bye "},{"$f":"RESULTS!H32","v":-1E-3},{"$f":"RESULTS!I32","v":-1E-3}]
[null,25,{"$f":"IF(L112<0,\"\",IF(L112>L113,K112,K113))","v":""},"beat",{"$f":"IF(L112<0,\"\",IF(L112>L113,K113,K112))","v":""},{"$f":"IF(L112>L113,L112-L113,L113-L112)","v":0},{"$f":"IF(C88=\"\",\"\",IF(ISTEXT(M112),M112,IF(ISTEXT(M113),M113,\"\")))","v":""},{"$f":"GAMES!B60","v":"00:00:00"},{"$f":"GAMES!C60","v":"00:00:00"},null,{"$f":"RESULTS!G33","v":" Block 2 Player 1"},{"$f":"RESULTS!H33","v":-1E-3},{"$f":"RESULTS!I33","v":-1E-3}]
[null,26,{"$f":"IF(L114<0,\"\",IF(L114>L115,K114,K115))","v":""},"beat",{"$f":"IF(L114<0,\"\",IF(L114>L115,K115,K114))","v":""},{"$f":"IF(L114>L115,L114-L115,L115-L114)","v":0},{"$f":"IF(C89=\"\",\"\",IF(ISTEXT(M114),M114,IF(ISTEXT(M115),M115,\"\")))","v":""},{"$f":"GAMES!B61","v":"00:00:00"},{"$f":"GAMES!C61","v":"00:00:00"},null,{"$f":"RESULTS!G34","v":" Block 2 Player 6"},{"$f":"RESULTS!H34","v":-1E-3},{"$f":"RESULTS!I34","v":-1E-3}]
[null,27,{"$f":"IF(L116<0,\"\",IF(L116>L117,K116,K117))","v":""},"beat",{"$f":"IF(L116<0,\"\",IF(L116>L117,K117,K116))","v":""},{"$f":"IF(L116>L117,L116-L117,L117-L116)","v":0},{"$f":"IF(C90=\"\",\"\",IF(ISTEXT(M116),M116,IF(ISTEXT(M117),M117,\"\")))","v":""},{"$f":"GAMES!B62","v":"00:00:00"},{"$f":"GAMES!C62","v":"00:00:00"},null,{"$f":"RESULTS!G35","v":" Block 2 Player 5"},{"$f":"RESULTS!H35","v":-1E-3},{"$f":"RESULTS!I35","v":-1E-3}]
[null,28,{"$f":"IF(L118<0,\"\",IF(L118>L119,K118,K119))","v":""},"beat",{"$f":"IF(L118<0,\"\",IF(L118>L119,K119,K118))","v":""},{"$f":"IF(L118>L119,L118-L119,L119-L118)","v":0},{"$f":"IF(C91=\"\",\"\",IF(ISTEXT(M118),M118,IF(ISTEXT(M119),M119,\"\")))","v":""},{"$f":"GAMES!B63","v":"00:00:00"},{"$f":"GAMES!C63","v":"00:00:00"},null,{"$f":"RESULTS!G36","v":" Block 2 Player 7"},{"$f":"RESULTS!H36","v":-1E-3},{"$f":"RESULTS!I36","v":-1E-3}]
[null,null,null,null,null,null,null,null,null,null,{"$f":"RESULTS!G37","v":" Block 2 Player 4"},{"$f":"RESULTS!H37","v":-1E-3},{"$f":"RESULTS!I37","v":-1E-3}]
[null,null,null,null,null,null,null,null,null,null,{"$f":"RESULTS!G38","v":" Bye "},{"$f":"RESULTS!H38","v":-1E-3},{"$f":"RESULTS!I38","v":-1E-3}]
[null,null,null,null,null,null,null,null,null,null,{"$f":"RESULTS!G39","v":" Block 2 Player 3"},{"$f":"RESULTS!H39","v":-1E-3},{"$f":"RESULTS!I39","v":-1E-3}]
[null,null,null,null,null,null,null,null,null,null,{"$f":"RESULTS!G40","v":" Block 2 Player 2"},{"$f":"RESULTS!H40","v":-1E-3},{"$f":"RESULTS!I40","v":-1E-3}]
[null,null,null,null,null,null,null,null,null,null,{"$f":"RESULTS!G41","v":" Block 2 Player 1"},{"$f":"RESULTS!H41","v":-1E-3},{"$f":"RESULTS!I41","v":-1E-3}]
[null,null,null,null,null,null,null,null,null,null,{"$f":"RESULTS!G42","v":" Block 2 Player 7"},{"$f":"RESULTS!H42","v":-1E-3},{"$f":"RESULTS!I42","v":-1E-3}]
[null,null,null,null,null,null,null,null,null,null,{"$f":"RESULTS!G43","v":" Block 2 Player 6"},{"$f":"RESULTS!H43","v":-1E-3},{"$f":"RESULTS!I43","v":-1E-3}]
[null,null,null,null,null,null,null,null,null,null,{"$f":"RESULTS!G44","v":" Bye "},{"$f":"RESULTS!H44","v":-1E-3},{"$f":"RESULTS!I44","v":-1E-3}]
[null,null,null,null,null,null,null,null,null,null,{"$f":"RESULTS!G45","v":" Block 2 Player 5"},{"$f":"RESULTS!H45","v":-1E-3},{"$f":"RESULTS!I45","v":-1E-3}]
[null,null,null,null,null,null,null,null,null,null,{"$f":"RESULTS!G46","v":" Block 2 Player 2"},{"$f":"RESULTS!H46","v":-1E-3},{"$f":"RESULTS!I46","v":-1E-3}]
[null,null,null,null,null,null,null,null,null,null,{"$f":"RESULTS!G47","v":" Block 2 Player 4"},{"$f":"RESULTS!H47","v":-1E-3},{"$f":"RESULTS!I47","v":-1E-3}]
[null,null,null,null,null,null,null,null,null,null,{"$f":"RESULTS!G48","v":" Block 2 Player 3"},{"$f":"RESULTS!H48","v":-1E-3},{"$f":"RESULTS!I48","v":-1E-3}]
[null,null,null,null,null,null,null,null,null,null,{"$f":"RESULTS!K29","v":" Block 2 Player 1"},{"$f":"RESULTS!L29","v":-1E-3},{"$f":"RESULTS!M29","v":-1E-3}]
[null,null,null,null,null,null,null,null,null,null,{"$f":"RESULTS!K30","v":" Bye "},{"$f":"RESULTS!L30","v":-1E-3},{"$f":"RESULTS!M30","v":-1E-3}]
[null,null,null,null,null,null,null,null,null,null,{"$f":"RESULTS!K31","v":" Block 2 Player 7"},{"$f":"RESULTS!L31","v":-1E-3},{"$f":"RESULTS!M31","v":-1E-3}]
[null,null,null,null,null,null,null,null,null,null,{"$f":"RESULTS!K32","v":" Block 2 Player 2"},{"$f":"RESULTS!L32","v":-1E-3},{"$f":"RESULTS!M32","v":-1E-3}]
[null,null,null,null,null,null,null,null,null,null,{"$f":"RESULTS!K33","v":" Block 2 Player 6"},{"$f":"RESULTS!L33","v":-1E-3},{"$f":"RESULTS!M33","v":-1E-3}]
[null,null,null,null,null,null,null,null,null,null,{"$f":"RESULTS!K34","v":" Block 2 Player 3"},{"$f":"RESULTS!L34","v":-1E-3},{"$f":"RESULTS!M34","v":-1E-3}]
[null,null,null,null,null,null,null,null,null,null,{"$f":"RESULTS!K35","v":" Block 2 Player 5"},{"$f":"RESULTS!L35","v":-1E-3},{"$f":"RESULTS!M35","v":-1E-3}]
[null,null,null,null,null,null,null,null,null,null,{"$f":"RESULTS!K36","v":" Block 2 Player 4"},{"$f":"RESULTS!L36","v":-1E-3},{"$f":"RESULTS!M36","v":-1E-3}]
[null,null,null,null,null,null,null,null,null,null,{"$f":"RESULTS!K37","v":" Block 2 Player 1"},{"$f":"RESULTS!L37","v":-1E-3},{"$f":"RESULTS!M37","v":-1E-3}]
[null,null,null,null,null,null,null,null,null,null,{"$f":"RESULTS!K38","v":" Block 2 Player 2"},{"$f":"RESULTS!L38","v":-1E-3},{"$f":"RESULTS!M38","v":-1E-3}]
[null,null,null,null,null,null,null,null,null,null,{"$f":"RESULTS!K39","v":" Bye "},{"$f":"RESULTS!L39","v":-1E-3},{"$f":"RESULTS!M39","v":-1E-3}]
[null,null,null,null,null,null,null,null,null,null,{"$f":"RESULTS!K40","v":" Block 2 Player 3"},{"$f":"RESULTS!L40","v":-1E-3},{"$f":"RESULTS!M40","v":-1E-3}]
[null,null,null,null,null,null,null,null,null,null,{"$f":"RESULTS!K41","v":" Block 2 Player 7"},{"$f":"RESULTS!L41","v":-1E-3},{"$f":"RESULTS!M41","v":-1E-3}]
[null,null,null,null,null,null,null,null,null,null,{"$f":"RESULTS!K42","v":" Block 2 Player 4"},{"$f":"RESULTS!L42","v":-1E-3},{"$f":"RESULTS!M42","v":-1E-3}]
[null,null,null,null,null,null,null,null,null,null,{"$f":"RESULTS!K43","v":" Block 2 Player 6"},{"$f":"RESULTS!L43","v":-1E-3},{"$f":"RESULTS!M43","v":-1E-3}]
[null,null,null,null,null,null,null,null,null,null,{"$f":"RESULTS!K44","v":" Block 2 Player 5"},{"$f":"RESULTS!L44","v":-1E-3},{"$f":"RESULTS!M44","v":-1E-3}]
[]
[]
["BLOCK 3",null,"Name",null,"Name","Margin","Peels","Time","Day",null,"LU Name","Score","Peels"]
[null,1,{"$f":"IF(L123<0,\"\",IF(L123>L124,K123,K124))","v":""},"beat",{"$f":"IF(L123<0,\"\",IF(L123>L124,K124,K123))","v":""},{"$f":"IF(L123>L124,L123-L124,L124-L123)","v":0},{"$f":"IF(C123=\"\",\"\",IF(ISTEXT(M123),M123,IF(ISTEXT(M124),M124,\"\")))","v":""},{"$f":"GAMES!B67","v":"00:00:00"},{"$f":"GAMES!C67","v":"00:00:00"},null,{"$f":"RESULTS!C53","v":" Block 3 Player 1"},{"$f":"RESULTS!D53","v":-1E-3},{"$f":"RESULTS!E53","v":-1E-3}]
[null,2,{"$f":"IF(L125<0,\"\",IF(L125>L126,K125,K126))","v":""},"beat",{"$f":"IF(L125<0,\"\",IF(L125>L126,K126,K125))","v":""},{"$f":"IF(L125>L126,L125-L126,L126-L125)","v":0},{"$f":"IF(C124=\"\",\"\",IF(ISTEXT(M125),M125,IF(ISTEXT(M126),M126,\"\")))","v":""},{"$f":"GAMES!B68","v":"00:00:00"},{"$f":"GAMES!C68","v":"00:00:00"},null,{"$f":"RESULTS!C54","v":" Block 3 Player 3"},{"$f":"RESULTS!D54","v":-1E-3},{"$f":"RESULTS!E54","v":-1E-3}]
[null,3,{"$f":"IF(L127<0,\"\",IF(L127>L128,K127,K128))","v":""},"beat",{"$f":"IF(L127<0,\"\",IF(L127>L128,K128,K127))","v":""},{"$f":"IF(L127>L128,L127-L128,L128-L127)","v":0},{"$f":"IF(C125=\"\",\"\",IF(ISTEXT(M127),M127,IF(ISTEXT(M128),M128,\"\")))","v":""},{"$f":"GAMES!B69","v":"00:00:00"},{"$f":"GAMES!C69","v":"00:00:00"},null,{"$f":"RESULTS!C55","v":" Block 3 Player 2"},{"$f":"RESULTS!D55","v":-1E-3},{"$f":"RESULTS!E55","v":-1E-3}]
[null,4,{"$f":"IF(L129<0,\"\",IF(L129>L130,K129,K130))","v":""},"beat",{"$f":"IF(L129<0,\"\",IF(L129>L130,K130,K129))","v":""},{"$f":"IF(L129>L130,L129-L130,L130-L129)","v":0},{"$f":"IF(C126=\"\",\"\",IF(ISTEXT(M129),M129,IF(ISTEXT(M130),M130,\"\")))","v":""},{"$f":"GAMES!B70","v":"00:00:00"},{"$f":"GAMES!C70","v":"00:00:00"},null,{"$f":"RESULTS!C56","v":" Block 3 Player 4"},{"$f":"RESULTS!D56","v":-1E-3},{"$f":"RESULTS!E56","v":-1E-3}]
[null,5,{"$f":"IF(L131<0,\"\",IF(L131>L132,K131,K132))","v":""},"beat",{"$f":"IF(L131<0,\"\",IF(L131>L132,K132,K131))","v":""},{"$f":"IF(L131>L132,L131-L132,L132-L131)","v":0},{"$f":"IF(C127=\"\",\"\",IF(ISTEXT(M131),M131,IF(ISTEXT(M132),M132,\"\")))","v":""},{"$f":"GAMES!B71","v":"00:00:00"},{"$f":"GAMES!C71","v":"00:00:00"},null,{"$f":"RESULTS!C57","v":" Bye "},{"$f":"RESULTS!D57","v":-1E-3},{"$f":"RESULTS!E57","v":-1E-3}]
[null,6,{"$f":"IF(L133<0,\"\",IF(L133>L134,K133,K134))","v":""},"beat",{"$f":"IF(L133<0,\"\",IF(L133>L134,K134,K133))","v":""},{"$f":"IF(L133>L134,L133-L134,L134-L133)","v":0},{"$f":"IF(C128=\"\",\"\",IF(ISTEXT(M133),M133,IF(ISTEXT(M134),M134,\"\")))","v":""},{"$f":"GAMES!B72","v":"00:00:00"},{"$f":"GAMES!C72","v":"00:00:00"},null,{"$f":"RESULTS!C58","v":" Block 3 Player 5"},{"$f":"RESULTS!D58","v":-1E-3},{"$f":"RESULTS!E58","v":-1E-3}]
[null,7,{"$f":"IF(L135<0,\"\",IF(L135>L136,K135,K136))","v":""},"beat",{"$f":"IF(L135<0,\"\",IF(L135>L136,K136,K135))","v":""},{"$f":"IF(L135>L136,L135-L136,L136-L135)","v":0},{"$f":"IF(C129=\"\",\"\",IF(ISTEXT(M135),M135,IF(ISTEXT(M136),M136,\"\")))","v":""},{"$f":"GAMES!B73","v":"00:00:00"},{"$f":"GAMES!C73","v":"00:00:00"},null,{"$f":"RESULTS!C59","v":" Block 3 Player 7"},{"$f":"RESULTS!D59","v":-1E-3},{"$f":"RESULTS!E59","v":-1E-3}]
[null,8,{"$f":"IF(L137<0,\"\",IF(L137>L138,K137,K138))","v":""},"beat",{"$f":"IF(L137<0,\"\",IF(L137>L138,K138,K137))","v":""},{"$f":"IF(L137>L138,L137-L138,L138-L137)","v":0},{"$f":"IF(C130=\"\",\"\",IF(ISTEXT(M137),M137,IF(ISTEXT(M138),M138,\"\")))","v":""},{"$f":"GAMES!B74","v":"00:00:00"},{"$f":"GAMES!C74","v":"00:00:00"},null,{"$f":"RESULTS!C60","v":" Block 3 Player 6"},{"$f":"RESULTS!D60","v":-1E-3},{"$f":"RESULTS!E60","v":-1E-3}]
[null,9,{"$f":"IF(L139<0,\"\",IF(L139>L140,K139,K140))","v":""},"beat",{"$f":"IF(L139<0,\"\",IF(L139>L140,K140,K139))","v":""},{"$f":"IF(L139>L140,L139-L140,L140-L139)","v":0},{"$f":"IF(C131=\"\",\"\",IF(ISTEXT(M139),M139,IF(ISTEXT(M140),M140,\"\")))","v":""},{"$f":"GAMES!B75","v":"00:00:00"},{"$f":"GAMES!C75","v":"00:00:00"},null,{"$f":"RESULTS!C61","v":" Block 3 Player 1"},{"$f":"RESULTS!D61","v":-1E-3},{"$f":"RESULTS!E61","v":-1E-3}]
[null,10,{"$f":"IF(L141<0,\"\",IF(L141>L142,K141,K142))","v":""},"beat",{"$f":"IF(L141<0,\"\",IF(L141>L142,K142,K141))","v":""},{"$f":"IF(L141>L142,L141-L142,L142-L141)","v":0},{"$f":"IF(C132=\"\",\"\",IF(ISTEXT(M141),M141,IF(ISTEXT(M142),M142,\"\")))","v":""},{"$f":"GAMES!B76","v":"00:00:00"},{"$f":"GAMES!C76","v":"00:00:00"},null,{"$f":"RESULTS!C62","v":" Block 3 Player 4"},{"$f":"RESULTS!D62","v":-1E-3},{"$f":"RESULTS!E62","v":-1E-3}]
[null,11,{"$f":"IF(L143<0,\"\",IF(L143>L144,K143,K144))","v":""},"beat",{"$f":"IF(L143<0,\"\",IF(L143>L144,K144,K143))","v":""},{"$f":"IF(L143>L144,L143-L144,L144-L143)","v":0},{"$f":"IF(C133=\"\",\"\",IF(ISTEXT(M143),M143,IF(ISTEXT(M144),M144,\"\")))","v":""},{"$f":"GAMES!B77","v":"00:00:00"},{"$f":"GAMES!C77","v":"00:00:00"},null,{"$f":"RESULTS!C63","v":" Block 3 Player 3"},{"$f":"RESULTS!D63","v":-1E-3},{"$f":"RESULTS!E63","v":-1E-3}]
[null,12,{"$f":"IF(L145<0,\"\",IF(L145>L146,K145,K146))","v":""},"beat",{"$f":"IF(L145<0,\"\",IF(L145>L146,K146,K145))","v":""},{"$f":"IF(L145>L146,L145-L146,L146-L145)","v":0},{"$f":"IF(C134=\"\",\"\",IF(ISTEXT(M145),M145,IF(ISTEXT(M146),M146,\"\")))","v":""},{"$f":"GAMES!B78","v":"00:00:00"},{"$f":"GAMES!C78","v":"00:00:00"},null,{"$f":"RESULTS!C64","v":" Block 3 Player 5"},{"$f":"RESULTS!D64","v":-1E-3},{"$f":"RESULTS!E64","v":-1E-3}]
[null,13,{"$f":"IF(L147<0,\"\",IF(L147>L148,K147,K148))","v":""},"beat",{"$f":"IF(L147<0,\"\",IF(L147>L148,K148,K147))","v":""},{"$f":"IF(L147>L148,L147-L148,L148-L147)","v":0},{"$f":"IF(C135=\"\",\"\",IF(ISTEXT(M147),M147,IF(ISTEXT(M148),M148,\"\")))","v":""},{"$f":"GAMES!B79","v":"00:00:00"},{"$f":"GAMES!C79","v":"00:00:00"},null,{"$f":"RESULTS!C65","v":" Block 3 Player 2"},{"$f":"RESULTS!D65","v":-1E-3},{"$f":"RESULTS!E65","v":-1E-3}]
[null,14,{"$f":"IF(L149<0,\"\",IF(L149>L150,K149,K150))","v":""},"beat",{"$f":"IF(L149<0,\"\",IF(L149>L150,K150,K149))","v":""},{"$f":"IF(L149>L150,L149-L150,L150-L149)","v":0},{"$f":"IF(C136=\"\",\"\",IF(ISTEXT(M149),M149,IF(ISTEXT(M150),M150,\"\")))","v":""},{"$f":"GAMES!B80","v":"00:00:00"},{"$f":"GAMES!C80","v":"00:00:00"},null,{"$f":"RESULTS!C66","v":" Block 3 Player 6"},{"$f":"RESULTS!D66","v":-1E-3},{"$f":"RESULTS!E66","v":-1E-3}]
[null,15,{"$f":"IF(L151<0,\"\",IF(L151>L152,K151,K152))","v":""},"beat",{"$f":"IF(L151<0,\"\",IF(L151>L152,K152,K151))","v":""},{"$f":"IF(L151>L152,L151-L152,L152-L151)","v":0},{"$f":"IF(C137=\"\",\"\",IF(ISTEXT(M151),M151,IF(ISTEXT(M152),M152,\"\")))","v":""},{"$f":"GAMES!B81","v":"00:00:00"},{"$f":"GAMES!C81","v":"00:00:00"},null,{"$f":"RESULTS!C67","v":" Bye "},{"$f":"RESULTS!D67","v":-1E-3},{"$f":"RESULTS!E67","v":-1E-3}]
[null,16,{"$f":"IF(L153<0,\"\",IF(L153>L154,K153,K154))","v":""},"beat",{"$f":"IF(L153<0,\"\",IF(L153>L154,K154,K153))","v":""},{"$f":"IF(L153>L154,L153-L154,L154-L153)","v":0},{"$f":"IF(C138=\"\",\"\",IF(ISTEXT(M153),M153,IF(ISTEXT(M154),M154,\"\")))","v":""},{"$f":"GAMES!B82","v":"00:00:00"},{"$f":"GAMES!C82","v":"00:00:00"},null,{"$f":"RESULTS!C68","v":" Block 3 Player 7"},{"$f":"RESULTS!D68","v":-1E-3},{"$f":"RESULTS!E68","v":-1E-3}]
[null,17,{"$f":"IF(L155<0,\"\",IF(L155>L156,K155,K156))","v":""},"beat",{"$f":"IF(L155<0,\"\",IF(L155>L156,K156,K155))","v":""},{"$f":"IF(L155>L156,L155-L156,L156-L155)","v":0},{"$f":"IF(C139=\"\",\"\",IF(ISTEXT(M155),M155,IF(ISTEXT(M156),M156,\"\")))","v":""},{"$f":"GAMES!B83","v":"00:00:00"},{"$f":"GAMES!C83","v":"00:00:00"},null,{"$f":"RESULTS!C69","v":" Block 3 Player 1"},{"$f":"RESULTS!D69","v":-1E-3},{"$f":"RESULTS!E69","v":-1E-3}]
[null,18,{"$f":"IF(L157<0,\"\",IF(L157>L158,K157,K158))","v":""},"beat",{"$f":"IF(L157<0,\"\",IF(L157>L158,K158,K157))","v":""},{"$f":"IF(L157>L158,L157-L158,L158-L157)","v":0},{"$f":"IF(C140=\"\",\"\",IF(ISTEXT(M157),M157,IF(ISTEXT(M158),M158,\"\")))","v":""},{"$f":"GAMES!B84","v":"00:00:00"},{"$f":"GAMES!C84","v":"00:00:00"},null,{"$f":"RESULTS!C70","v":" Block 3 Player 5"},{"$f":"RESULTS!D70","v":-1E-3},{"$f":"RESULTS!E70","v":-1E-3}]
[null,19,{"$f":"IF(L159<0,\"\",IF(L159>L160,K159,K160))","v":""},"beat",{"$f":"IF(L159<0,\"\",IF(L159>L160,K160,K159))","v":""},{"$f":"IF(L159>L160,L159-L160,L160-L159)","v":0},{"$f":"IF(C141=\"\",\"\",IF(ISTEXT(M159),M159,IF(ISTEXT(M160),M160,\"\")))","v":""},{"$f":"GAMES!B85","v":"00:00:00"},{"$f":"GAMES!C85","v":"00:00:00"},null,{"$f":"RESULTS!C71","v":" Block 3 Player 4"},{"$f":"RESULTS!D71","v":-1E-3},{"$f":"RESULTS!E71","v":-1E-3}]
[null,20,{"$f":"IF(L161<0,\"\",IF(L161>L162,K161,K162))","v":""},"beat",{"$f":"IF(L161<0,\"\",IF(L161>L162,K162,K161))","v":""},{"$f":"IF(L161>L162,L161-L162,L162-L161)","v":0},{"$f":"IF(C142=\"\",\"\",IF(ISTEXT(M161),M161,IF(ISTEXT(M162),M162,\"\")))","v":""},{"$f":"GAMES!B86","v":"00:00:00"},{"$f":"GAMES!C86","v":"00:00:00"},null,{"$f":"RESULTS!C72","v":" Block 3 Player 6"},{"$f":"RESULTS!D72","v":-1E-3},{"$f":"RESULTS!E72","v":-1E-3}]
[null,21,{"$f":"IF(L163<0,\"\",IF(L163>L164,K163,K164))","v":""},"beat",{"$f":"IF(L163<0,\"\",IF(L163>L164,K164,K163))","v":""},{"$f":"IF(L163>L164,L163-L164,L164-L163)","v":0},{"$f":"IF(C143=\"\",\"\",IF(ISTEXT(M163),M163,IF(ISTEXT(M164),M164,\"\")))","v":""},{"$f":"GAMES!B87","v":"00:00:00"},{"$f":"GAMES!C87","v":"00:00:00"},null,{"$f":"RESULTS!G53","v":" Block 3 Player 3"},{"$f":"RESULTS!H53","v":-1E-3},{"$f":"RESULTS!I53","v":-1E-3}]
[null,22,{"$f":"IF(L165<0,\"\",IF(L165>L166,K165,K166))","v":""},"beat",{"$f":"IF(L165<0,\"\",IF(L165>L166,K166,K165))","v":""},{"$f":"IF(L165>L166,L165-L166,L166-L165)","v":0},{"$f":"IF(C144=\"\",\"\",IF(ISTEXT(M165),M165,IF(ISTEXT(M166),M166,\"\")))","v":""},{"$f":"GAMES!B88","v":"00:00:00"},{"$f":"GAMES!C88","v":"00:00:00"},null,{"$f":"RESULTS!G54","v":" Block 3 Player 7"},{"$f":"RESULTS!H54","v":-1E-3},{"$f":"RESULTS!I54","v":-1E-3}]
[null,23,{"$f":"IF(L167<0,\"\",IF(L167>L168,K167,K168))","v":""},"beat",{"$f":"IF(L167<0,\"\",IF(L167>L168,K168,K167))","v":""},{"$f":"IF(L167>L168,L167-L168,L168-L167)","v":0},{"$f":"IF(C145=\"\",\"\",IF(ISTEXT(M167),M167,IF(ISTEXT(M168),M168,\"\")))","v":""},{"$f":"GAMES!B89","v":"00:00:00"},{"$f":"GAMES!C89","v":"00:00:00"},null,{"$f":"RESULTS!G55","v":" Block 3 Player 2"},{"$f":"RESULTS!H55","v":-1E-3},{"$f":"RESULTS!I55","v":-1E-3}]
[null,24,{"$f":"IF(L169<0,\"\",IF(L169>L170,K169,K170))","v":""},"beat",{"$f":"IF(L169<0,\"\",IF(L169>L170,K170,K169))","v":""},{"$f":"IF(L169>L170,L169-L170,L170-L169)","v":0},{"$f":"IF(C146=\"\",\"\",IF(ISTEXT(M169),M169,IF(ISTEXT(M170),M170,\"\")))","v":""},{"$f":"GAMES!B90","v":"00:00:00"},{"$f":"GAMES!C90","v":"00:00:00"},null,{"$f":"RESULTS!G56","v":" Bye "},{"$f":"RESULTS!H56","v":-1E-3},{"$f":"RESULTS!I56","v":-1E-3}]
[null,25,{"$f":"IF(L171<0,\"\",IF(L171>L172,K171,K172))","v":""},"beat",{"$f":"IF(L171<0,\"\",IF(L171>L172,K172,K171))","v":""},{"$f":"IF(L171>L172,L171-L172,L172-L171)","v":0},{"$f":"IF(C147=\"\",\"\",IF(ISTEXT(M171),M171,IF(ISTEXT(M172),M172,\"\")))","v":""},{"$f":"GAMES!B91","v":"00:00:00"},{"$f":"GAMES!C91","v":"00:00:00"},null,{"$f":"RESULTS!G57","v":" Block 3 Player 1"},{"$f":"RESULTS!H57","v":-1E-3},{"$f":"RESULTS!I57","v":-1E-3}]
[null,26,{"$f":"IF(L173<0,\"\",IF(L173>L174,K173,K174))","v":""},"beat",{"$f":"IF(L173<0,\"\",IF(L173>L174,K174,K173))","v":""},{"$f":"IF(L173>L174,L173-L174,L174-L173)","v":0},{"$f":"IF(C148=\"\",\"\",IF(ISTEXT(M173),M173,IF(ISTEXT(M174),M174,\"\")))","v":""},{"$f":"GAMES!B92","v":"00:00:00"},{"$f":"GAMES!C92","v":"00:00:00"},null,{"$f":"RESULTS!G58","v":" Block 3 Player 6"},{"$f":"RESULTS!H58","v":-1E-3},{"$f":"RESULTS!I58","v":-1E-3}]
[null,27,{"$f":"IF(L175<0,\"\",IF(L175>L176,K175,K176))","v":""},"beat",{"$f":"IF(L175<0,\"\",IF(L175>L176,K176,K175))","v":""},{"$f":"IF(L175>L176,L175-L176,L176-L175)","v":0},{"$f":"IF(C149=\"\",\"\",IF(ISTEXT(M175),M175,IF(ISTEXT(M176),M176,\"\")))","v":""},{"$f":"GAMES!B93","v":"00:00:00"},{"$f":"GAMES!C93","v":"00:00:00"},null,{"$f":"RESULTS!G59","v":" Block 3 Player 5"},{"$f":"RESULTS!H59","v":-1E-3},{"$f":"RESULTS!I59","v":-1E-3}]
[null,28,{"$f":"IF(L177<0,\"\",IF(L177>L178,K177,K178))","v":""},"beat",{"$f":"IF(L177<0,\"\",IF(L177>L178,K178,K177))","v":""},{"$f":"IF(L177>L178,L177-L178,L178-L177)","v":0},{"$f":"IF(C150=\"\",\"\",IF(ISTEXT(M177),M177,IF(ISTEXT(M178),M178,\"\")))","v":""},{"$f":"GAMES!B94","v":"00:00:00"},{"$f":"GAMES!C94","v":"00:00:00"},null,{"$f":"RESULTS!G60","v":" Block 3 Player 7"},{"$f":"RESULTS!H60","v":-1E-3},{"$f":"RESULTS!I60","v":-1E-3}]
[null,null,null,null,null,null,null,null,null,null,{"$f":"RESULTS!G61","v":" Block 3 Player 4"},{"$f":"RESULTS!H61","v":-1E-3},{"$f":"RESULTS!I61","v":-1E-3}]
[null,null,null,null,null,null,null,null,null,null,{"$f":"RESULTS!G62","v":" Bye "},{"$f":"RESULTS!H62","v":-1E-3},{"$f":"RESULTS!I62","v":-1E-3}]
[null,null,null,null,null,null,null,null,null,null,{"$f":"RESULTS!G63","v":" Block 3 Player 3"},{"$f":"RESULTS!H63","v":-1E-3},{"$f":"RESULTS!I63","v":-1E-3}]
[null,null,null,null,null,null,null,null,null,null,{"$f":"RESULTS!G64","v":" Block 3 Player 2"},{"$f":"RESULTS!H64","v":-1E-3},{"$f":"RESULTS!I64","v":-1E-3}]
[null,null,null,null,null,null,null,null,null,null,{"$f":"RESULTS!G65","v":" Block 3 Player 1"},{"$f":"RESULTS!H65","v":-1E-3},{"$f":"RESULTS!I65","v":-1E-3}]
[null,null,null,null,null,null,null,null,null,null,{"$f":"RESULTS!G66","v":" Block 3 Player 7"},{"$f":"RESULTS!H66","v":-1E-3},{"$f":"RESULTS!I66","v":-1E-3}]
[null,null,null,null,null,null,null,null,null,null,{"$f":"RESULTS!G67","v":" Block 3 Player 6"},{"$f":"RESULTS!H67","v":-1E-3},{"$f":"RESULTS!I67","v":-1E-3}]
[null,null,null,null,null,null,null,null,null,null,{"$f":"RESULTS!G68","v":" Bye "},{"$f":"RESULTS!H68","v":-1E-3},{"$f":"RESULTS!I68","v":-1E-3}]
[null,null,null,null,null,null,null,null,null,null,{"$f":"RESULTS!G69","v":" Block 3 Player 5"},{"$f":"RESULTS!H69","v":-1E-3},{"$f":"RESULTS!I69","v":-1E-3}]
[null,null,null,null,null,null,null,null,null,null,{"$f":"RESULTS!G70","v":" Block 3 Player 2"},{"$f":"RESULTS!H70","v":-1E-3},{"$f":"RESULTS!I70","v":-1E-3}]
[null,null,null,null,null,null,null,null,null,null,{"$f":"RESULTS!G71","v":" Block 3 Player 4"},{"$f":"RESULTS!H71","v":-1E-3},{"$f":"RESULTS!I71","v":-1E-3}]
[null,null,null,null,null,null,null,null,null,null,{"$f":"RESULTS!G72","v":" Block 3 Player 3"},{"$f":"RESULTS!H72","v":-1E-3},{"$f":"RESULTS!I72","v":-1E-3}]
[null,null,null,null,null,null,null,null,null,null,{"$f":"RESULTS!K53","v":" Block 3 Player 1"},{"$f":"RESULTS!L53","v":-1E-3},{"$f":"RESULTS!M53","v":-1E-3}]
[null,null,null,null,null,null,null,null,null,null,{"$f":"RESULTS!K54","v":" Bye "},{"$f":"RESULTS!L54","v":-1E-3},{"$f":"RESULTS!M54","v":-1E-3}]
[null,null,null,null,null,null,null,null,null,null,{"$f":"RESULTS!K55","v":" Block 3 Player 7"},{"$f":"RESULTS!L55","v":-1E-3},{"$f":"RESULTS!M55","v":-1E-3}]
[null,null,null,null,null,null,null,null,null,null,{"$f":"RESULTS!K56","v":" Block 3 Player 2"},{"$f":"RESULTS!L56","v":-1E-3},{"$f":"RESULTS!M56","v":-1E-3}]
[null,null,null,null,null,null,null,null,null,null,{"$f":"RESULTS!K57","v":" Block 3 Player 6"},{"$f":"RESULTS!L57","v":-1E-3},{"$f":"RESULTS!M57","v":-1E-3}]
[null,null,null,null,null,null,null,null,null,null,{"$f":"RESULTS!K58","v":" Block 3 Player 3"},{"$f":"RESULTS!L58","v":-1E-3},{"$f":"RESULTS!M58","v":-1E-3}]
[null,null,null,null,null,null,null,null,null,null,{"$f":"RESULTS!K59","v":" Block 3 Player 5"},{"$f":"RESULTS!L59","v":-1E-3},{"$f":"RESULTS!M59","v":-1E-3}]
[null,null,null,null,null,null,null,null,null,null,{"$f":"RESULTS!K60","v":" Block 3 Player 4"},{"$f":"RESULTS!L60","v":-1E-3},{"$f":"RESULTS!M60","v":-1E-3}]
[null,null,null,null,null,null,null,null,null,null,{"$f":"RESULTS!K61","v":" Block 3 Player 1"},{"$f":"RESULTS!L61","v":-1E-3},{"$f":"RESULTS!M61","v":-1E-3}]
[null,null,null,null,null,null,null,null,null,null,{"$f":"RESULTS!K62","v":" Block 3 Player 2"},{"$f":"RESULTS!L62","v":-1E-3},{"$f":"RESULTS!M62","v":-1E-3}]
[null,null,null,null,null,null,null,null,null,null,{"$f":"RESULTS!K63","v":" Bye "},{"$f":"RESULTS!L63","v":-1E-3},{"$f":"RESULTS!M63","v":-1E-3}]
[null,null,null,null,null,null,null,null,null,null,{"$f":"RESULTS!K64","v":" Block 3 Player 3"},{"$f":"RESULTS!L64","v":-1E-3},{"$f":"RESULTS!M64","v":-1E-3}]
[null,null,null,null,null,null,null,null,null,null,{"$f":"RESULTS!K65","v":" Block 3 Player 7"},{"$f":"RESULTS!L65","v":-1E-3},{"$f":"RESULTS!M65","v":-1E-3}]
[null,null,null,null,null,null,null,null,null,null,{"$f":"RESULTS!K66","v":" Block 3 Player 4"},{"$f":"RESULTS!L66","v":-1E-3},{"$f":"RESULTS!M66","v":-1E-3}]
[null,null,null,null,null,null,null,null,null,null,{"$f":"RESULTS!K67","v":" Block 3 Player 6"},{"$f":"RESULTS!L67","v":-1E-3},{"$f":"RESULTS!M67","v":-1E-3}]
[null,null,null,null,null,null,null,null,null,null,{"$f":"RESULTS!K68","v":" Block 3 Player 5"},{"$f":"RESULTS!L68","v":-1E-3},{"$f":"RESULTS!M68","v":-1E-3}]
[]
[]
["BLOCK 4",null,"Name",null,"Name","Margin","Peels","Time","Day",null,"LU Name","Score","Peels"]
[null,1,{"$f":"IF(L182<0,\"\",IF(L182>L183,K182,K183))","v":""},"beat",{"$f":"IF(L182<0,\"\",IF(L182>L183,K183,K182))","v":""},{"$f":"IF(L182>L183,L182-L183,L183-L182)","v":0},{"$f":"IF(C182=\"\",\"\",IF(ISTEXT(M182),M182,IF(ISTEXT(M183),M183,\"\")))","v":""},{"$f":"GAMES!B98","v":"00:00:00"},{"$f":"GAMES!C98","v":"00:00:00"},null,{"$f":"RESULTS!C77","v":" Block 4 Player 1"},{"$f":"RESULTS!D77","v":-1E-3},{"$f":"RESULTS!E77","v":-1E-3}]
[null,2,{"$f":"IF(L184<0,\"\",IF(L184>L185,K184,K185))","v":""},"beat",{"$f":"IF(L184<0,\"\",IF(L184>L185,K185,K184))","v":""},{"$f":"IF(L184>L185,L184-L185,L185-L184)","v":0},{"$f":"IF(C183=\"\",\"\",IF(ISTEXT(M184),M184,IF(ISTEXT(M185),M185,\"\")))","v":""},{"$f":"GAMES!B99","v":"00:00:00"},{"$f":"GAMES!C99","v":"00:00:00"},null,{"$f":"RESULTS!C78","v":" Block 4 Player 3"},{"$f":"RESULTS!D78","v":-1E-3},{"$f":"RESULTS!E78","v":-1E-3}]
[null,3,{"$f":"IF(L186<0,\"\",IF(L186>L187,K186,K187))","v":""},"beat",{"$f":"IF(L186<0,\"\",IF(L186>L187,K187,K186))","v":""},{"$f":"IF(L186>L187,L186-L187,L187-L186)","v":0},{"$f":"IF(C184=\"\",\"\",IF(ISTEXT(M186),M186,IF(ISTEXT(M187),M187,\"\")))","v":""},{"$f":"GAMES!B100","v":"00:00:00"},{"$f":"GAMES!C100","v":"00:00:00"},null,{"$f":"RESULTS!C79","v":" Block 4 Player 2"},{"$f":"RESULTS!D79","v":-1E-3},{"$f":"RESULTS!E79","v":-1E-3}]
[null,4,{"$f":"IF(L188<0,\"\",IF(L188>L189,K188,K189))","v":""},"beat",{"$f":"IF(L188<0,\"\",IF(L188>L189,K189,K188))","v":""},{"$f":"IF(L188>L189,L188-L189,L189-L188)","v":0},{"$f":"IF(C185=\"\",\"\",IF(ISTEXT(M188),M188,IF(ISTEXT(M189),M189,\"\")))","v":""},{"$f":"GAMES!B101","v":"00:00:00"},{"$f":"GAMES!C101","v":"00:00:00"},null,{"$f":"RESULTS!C80","v":" Block 4 Player 4"},{"$f":"RESULTS!D80","v":-1E-3},{"$f":"RESULTS!E80","v":-1E-3}]
[null,5,{"$f":"IF(L190<0,\"\",IF(L190>L191,K190,K191))","v":""},"beat",{"$f":"IF(L190<0,\"\",IF(L190>L191,K191,K190))","v":""},{"$f":"IF(L190>L191,L190-L191,L191-L190)","v":0},{"$f":"IF(C186=\"\",\"\",IF(ISTEXT(M190),M190,IF(ISTEXT(M191),M191,\"\")))","v":""},{"$f":"GAMES!B102","v":"00:00:00"},{"$f":"GAMES!C102","v":"00:00:00"},null,{"$f":"RESULTS!C81","v":" Bye "},{"$f":"RESULTS!D81","v":-1E-3},{"$f":"RESULTS!E81","v":-1E-3}]
[null,6,{"$f":"IF(L192<0,\"\",IF(L192>L193,K192,K193))","v":""},"beat",{"$f":"IF(L192<0,\"\",IF(L192>L193,K193,K192))","v":""},{"$f":"IF(L192>L193,L192-L193,L193-L192)","v":0},{"$f":"IF(C187=\"\",\"\",IF(ISTEXT(M192),M192,IF(ISTEXT(M193),M193,\"\")))","v":""},{"$f":"GAMES!B103","v":"00:00:00"},{"$f":"GAMES!C103","v":"00:00:00"},null,{"$f":"RESULTS!C82","v":" Block 4 Player 5"},{"$f":"RESULTS!D82","v":-1E-3},{"$f":"RESULTS!E82","v":-1E-3}]
[null,7,{"$f":"IF(L194<0,\"\",IF(L194>L195,K194,K195))","v":""},"beat",{"$f":"IF(L194<0,\"\",IF(L194>L195,K195,K194))","v":""},{"$f":"IF(L194>L195,L194-L195,L195-L194)","v":0},{"$f":"IF(C188=\"\",\"\",IF(ISTEXT(M194),M194,IF(ISTEXT(M195),M195,\"\")))","v":""},{"$f":"GAMES!B104","v":"00:00:00"},{"$f":"GAMES!C104","v":"00:00:00"},null,{"$f":"RESULTS!C83","v":" Block 4 Player 7"},{"$f":"RESULTS!D83","v":-1E-3},{"$f":"RESULTS!E83","v":-1E-3}]
[null,8,{"$f":"IF(L196<0,\"\",IF(L196>L197,K196,K197))","v":""},"beat",{"$f":"IF(L196<0,\"\",IF(L196>L197,K197,K196))","v":""},{"$f":"IF(L196>L197,L196-L197,L197-L196)","v":0},{"$f":"IF(C189=\"\",\"\",IF(ISTEXT(M196),M196,IF(ISTEXT(M197),M197,\"\")))","v":""},{"$f":"GAMES!B105","v":"00:00:00"},{"$f":"GAMES!C105","v":"00:00:00"},null,{"$f":"RESULTS!C84","v":" Block 4 Player 6"},{"$f":"RESULTS!D84","v":-1E-3},{"$f":"RESULTS!E84","v":-1E-3}]
[null,9,{"$f":"IF(L198<0,\"\",IF(L198>L199,K198,K199))","v":""},"beat",{"$f":"IF(L198<0,\"\",IF(L198>L199,K199,K198))","v":""},{"$f":"IF(L198>L199,L198-L199,L199-L198)","v":0},{"$f":"IF(C190=\"\",\"\",IF(ISTEXT(M198),M198,IF(ISTEXT(M199),M199,\"\")))","v":""},{"$f":"GAMES!B106","v":"00:00:00"},{"$f":"GAMES!C106","v":"00:00:00"},null,{"$f":"RESULTS!C85","v":" Block 4 Player 1"},{"$f":"RESULTS!D85","v":-1E-3},{"$f":"RESULTS!E85","v":-1E-3}]
[null,10,{"$f":"IF(L200<0,\"\",IF(L200>L201,K200,K201))","v":""},"beat",{"$f":"IF(L200<0,\"\",IF(L200>L201,K201,K200))","v":""},{"$f":"IF(L200>L201,L200-L201,L201-L200)","v":0},{"$f":"IF(C191=\"\",\"\",IF(ISTEXT(M200),M200,IF(ISTEXT(M201),M201,\"\")))","v":""},{"$f":"GAMES!B107","v":"00:00:00"},{"$f":"GAMES!C107","v":"00:00:00"},null,{"$f":"RESULTS!C86","v":" Block 4 Player 4"},{"$f":"RESULTS!D86","v":-1E-3},{"$f":"RESULTS!E86","v":-1E-3}]
[null,11,{"$f":"IF(L202<0,\"\",IF(L202>L203,K202,K203))","v":""},"beat",{"$f":"IF(L202<0,\"\",IF(L202>L203,K203,K202))","v":""},{"$f":"IF(L202>L203,L202-L203,L203-L202)","v":0},{"$f":"IF(C192=\"\",\"\",IF(ISTEXT(M202),M202,IF(ISTEXT(M203),M203,\"\")))","v":""},{"$f":"GAMES!B108","v":"00:00:00"},{"$f":"GAMES!C108","v":"00:00:00"},null,{"$f":"RESULTS!C87","v":" Block 4 Player 3"},{"$f":"RESULTS!D87","v":-1E-3},{"$f":"RESULTS!E87","v":-1E-3}]
[null,12,{"$f":"IF(L204<0,\"\",IF(L204>L205,K204,K205))","v":""},"beat",{"$f":"IF(L204<0,\"\",IF(L204>L205,K205,K204))","v":""},{"$f":"IF(L204>L205,L204-L205,L205-L204)","v":0},{"$f":"IF(C193=\"\",\"\",IF(ISTEXT(M204),M204,IF(ISTEXT(M205),M205,\"\")))","v":""},{"$f":"GAMES!B109","v":"00:00:00"},{"$f":"GAMES!C109","v":"00:00:00"},null,{"$f":"RESULTS!C88","v":" Block 4 Player 5"},{"$f":"RESULTS!D88","v":-1E-3},{"$f":"RESULTS!E88","v":-1E-3}]
[null,13,{"$f":"IF(L206<0,\"\",IF(L206>L207,K206,K207))","v":""},"beat",{"$f":"IF(L206<0,\"\",IF(L206>L207,K207,K206))","v":""},{"$f":"IF(L206>L207,L206-L207,L207-L206)","v":0},{"$f":"IF(C194=\"\",\"\",IF(ISTEXT(M206),M206,IF(ISTEXT(M207),M207,\"\")))","v":""},{"$f":"GAMES!B110","v":"00:00:00"},{"$f":"GAMES!C110","v":"00:00:00"},null,{"$f":"RESULTS!C89","v":" Block 4 Player 2"},{"$f":"RESULTS!D89","v":-1E-3},{"$f":"RESULTS!E89","v":-1E-3}]
[null,14,{"$f":"IF(L208<0,\"\",IF(L208>L209,K208,K209))","v":""},"beat",{"$f":"IF(L208<0,\"\",IF(L208>L209,K209,K208))","v":""},{"$f":"IF(L208>L209,L208-L209,L209-L208)","v":0},{"$f":"IF(C195=\"\",\"\",IF(ISTEXT(M208),M208,IF(ISTEXT(M209),M209,\"\")))","v":""},{"$f":"GAMES!B111","v":"00:00:00"},{"$f":"GAMES!C111","v":"00:00:00"},null,{"$f":"RESULTS!C90","v":" Block 4 Player 6"},{"$f":"RESULTS!D90","v":-1E-3},{"$f":"RESULTS!E90","v":-1E-3}]
[null,15,{"$f":"IF(L210<0,\"\",IF(L210>L211,K210,K211))","v":""},"beat",{"$f":"IF(L210<0,\"\",IF(L210>L211,K211,K210))","v":""},{"$f":"IF(L210>L211,L210-L211,L211-L210)","v":0},{"$f":"IF(C196=\"\",\"\",IF(ISTEXT(M210),M210,IF(ISTEXT(M211),M211,\"\")))","v":""},{"$f":"GAMES!B112","v":"00:00:00"},{"$f":"GAMES!C112","v":"00:00:00"},null,{"$f":"RESULTS!C91","v":" Bye "},{"$f":"RESULTS!D91","v":-1E-3},{"$f":"RESULTS!E91","v":-1E-3}]
[null,16,{"$f":"IF(L212<0,\"\",IF(L212>L213,K212,K213))","v":""},"beat",{"$f":"IF(L212<0,\"\",IF(L212>L213,K213,K212))","v":""},{"$f":"IF(L212>L213,L212-L213,L213-L212)","v":0},{"$f":"IF(C197=\"\",\"\",IF(ISTEXT(M212),M212,IF(ISTEXT(M213),M213,\"\")))","v":""},{"$f":"GAMES!B113","v":"00:00:00"},{"$f":"GAMES!C113","v":"00:00:00"},null,{"$f":"RESULTS!C92","v":" Block 4 Player 7"},{"$f":"RESULTS!D92","v":-1E-3},{"$f":"RESULTS!E92","v":-1E-3}]
[null,17,{"$f":"IF(L214<0,\"\",IF(L214>L215,K214,K215))","v":""},"beat",{"$f":"IF(L214<0,\"\",IF(L214>L215,K215,K214))","v":""},{"$f":"IF(L214>L215,L214-L215,L215-L214)","v":0},{"$f":"IF(C198=\"\",\"\",IF(ISTEXT(M214),M214,IF(ISTEXT(M215),M215,\"\")))","v":""},{"$f":"GAMES!B114","v":"00:00:00"},{"$f":"GAMES!C114","v":"00:00:00"},null,{"$f":"RESULTS!C93","v":" Block 4 Player 1"},{"$f":"RESULTS!D93","v":-1E-3},{"$f":"RESULTS!E93","v":-1E-3}]
[null,18,{"$f":"IF(L216<0,\"\",IF(L216>L217,K216,K217))","v":""},"beat",{"$f":"IF(L216<0,\"\",IF(L216>L217,K217,K216))","v":""},{"$f":"IF(L216>L217,L216-L217,L217-L216)","v":0},{"$f":"IF(C199=\"\",\"\",IF(ISTEXT(M216),M216,IF(ISTEXT(M217),M217,\"\")))","v":""},{"$f":"GAMES!B115","v":"00:00:00"},{"$f":"GAMES!C115","v":"00:00:00"},null,{"$f":"RESULTS!C94","v":" Block 4 Player 5"},{"$f":"RESULTS!D94","v":-1E-3},{"$f":"RESULTS!E94","v":-1E-3}]
[null,19,{"$f":"IF(L218<0,\"\",IF(L218>L219,K218,K219))","v":""},"beat",{"$f":"IF(L218<0,\"\",IF(L218>L219,K219,K218))","v":""},{"$f":"IF(L218>L219,L218-L219,L219-L218)","v":0},{"$f":"IF(C200=\"\",\"\",IF(ISTEXT(M218),M218,IF(ISTEXT(M219),M219,\"\")))","v":""},{"$f":"GAMES!B116","v":"00:00:00"},{"$f":"GAMES!C116","v":"00:00:00"},null,{"$f":"RESULTS!C95","v":" Block 4 Player 4"},{"$f":"RESULTS!D95","v":-1E-3},{"$f":"RESULTS!E95","v":-1E-3}]
[null,20,{"$f":"IF(L220<0,\"\",IF(L220>L221,K220,K221))","v":""},"beat",{"$f":"IF(L220<0,\"\",IF(L220>L221,K221,K220))","v":""},{"$f":"IF(L220>L221,L220-L221,L221-L220)","v":0},{"$f":"IF(C201=\"\",\"\",IF(ISTEXT(M220),M220,IF(ISTEXT(M221),M221,\"\")))","v":""},{"$f":"GAMES!B117","v":"00:00:00"},{"$f":"GAMES!C117","v":"00:00:00"},null,{"$f":"RESULTS!C96","v":" Block 4 Player 6"},{"$f":"RESULTS!D96","v":-1E-3},{"$f":"RESULTS!E96","v":-1E-3}]
[null,21,{"$f":"IF(L222<0,\"\",IF(L222>L223,K222,K223))","v":""},"beat",{"$f":"IF(L222<0,\"\",IF(L222>L223,K223,K222))","v":""},{"$f":"IF(L222>L223,L222-L223,L223-L222)","v":0},{"$f":"IF(C202=\"\",\"\",IF(ISTEXT(M222),M222,IF(ISTEXT(M223),M223,\"\")))","v":""},{"$f":"GAMES!B118","v":"00:00:00"},{"$f":"GAMES!C118","v":"00:00:00"},null,{"$f":"RESULTS!G77","v":" Block 4 Player 3"},{"$f":"RESULTS!H77","v":-1E-3},{"$f":"RESULTS!I77","v":-1E-3}]
[null,22,{"$f":"IF(L224<0,\"\",IF(L224>L225,K224,K225))","v":""},"beat",{"$f":"IF(L224<0,\"\",IF(L224>L225,K225,K224))","v":""},{"$f":"IF(L224>L225,L224-L225,L225-L224)","v":0},{"$f":"IF(C203=\"\",\"\",IF(ISTEXT(M224),M224,IF(ISTEXT(M225),M225,\"\")))","v":""},{"$f":"GAMES!B119","v":"00:00:00"},{"$f":"GAMES!C119","v":"00:00:00"},null,{"$f":"RESULTS!G78","v":" Block 4 Player 7"},{"$f":"RESULTS!H78","v":-1E-3},{"$f":"RESULTS!I78","v":-1E-3}]
[null,23,{"$f":"IF(L226<0,\"\",IF(L226>L227,K226,K227))","v":""},"beat",{"$f":"IF(L226<0,\"\",IF(L226>L227,K227,K226))","v":""},{"$f":"IF(L226>L227,L226-L227,L227-L226)","v":0},{"$f":"IF(C204=\"\",\"\",IF(ISTEXT(M226),M226,IF(ISTEXT(M227),M227,\"\")))","v":""},{"$f":"GAMES!B120","v":"00:00:00"},{"$f":"GAMES!C120","v":"00:00:00"},null,{"$f":"RESULTS!G79","v":" Block 4 Player 2"},{"$f":"RESULTS!H79","v":-1E-3},{"$f":"RESULTS!I79","v":-1E-3}]
[null,24,{"$f":"IF(L228<0,\"\",IF(L228>L229,K228,K229))","v":""},"beat",{"$f":"IF(L228<0,\"\",IF(L228>L229,K229,K228))","v":""},{"$f":"IF(L228>L229,L228-L229,L229-L228)","v":0},{"$f":"IF(C205=\"\",\"\",IF(ISTEXT(M228),M228,IF(ISTEXT(M229),M229,\"\")))","v":""},{"$f":"GAMES!B121","v":"00:00:00"},{"$f":"GAMES!C121","v":"00:00:00"},null,{"$f":"RESULTS!G80","v":" Bye "},{"$f":"RESULTS!H80","v":-1E-3},{"$f":"RESULTS!I80","v":-1E-3}]
[null,25,{"$f":"IF(L230<0,\"\",IF(L230>L231,K230,K231))","v":""},"beat",{"$f":"IF(L230<0,\"\",IF(L230>L231,K231,K230))","v":""},{"$f":"IF(L230>L231,L230-L231,L231-L230)","v":0},{"$f":"IF(C206=\"\",\"\",IF(ISTEXT(M230),M230,IF(ISTEXT(M231),M231,\"\")))","v":""},{"$f":"GAMES!B122","v":"00:00:00"},{"$f":"GAMES!C122","v":"00:00:00"},null,{"$f":"RESULTS!G81","v":" Block 4 Player 1"},{"$f":"RESULTS!H81","v":-1E-3},{"$f":"RESULTS!I81","v":-1E-3}]
[null,26,{"$f":"IF(L232<0,\"\",IF(L232>L233,K232,K233))","v":""},"beat",{"$f":"IF(L232<0,\"\",IF(L232>L233,K233,K232))","v":""},{"$f":"IF(L232>L233,L232-L233,L233-L232)","v":0},{"$f":"IF(C207=\"\",\"\",IF(ISTEXT(M232),M232,IF(ISTEXT(M233),M233,\"\")))","v":""},{"$f":"GAMES!B123","v":"00:00:00"},{"$f":"GAMES!C123","v":"00:00:00"},null,{"$f":"RESULTS!G82","v":" Block 4 Player 6"},{"$f":"RESULTS!H82","v":-1E-3},{"$f":"RESULTS!I82","v":-1E-3}]
[null,27,{"$f":"IF(L234<0,\"\",IF(L234>L235,K234,K235))","v":""},"beat",{"$f":"IF(L234<0,\"\",IF(L234>L235,K235,K234))","v":""},{"$f":"IF(L234>L235,L234-L235,L235-L234)","v":0},{"$f":"IF(C208=\"\",\"\",IF(ISTEXT(M234),M234,IF(ISTEXT(M235),M235,\"\")))","v":""},{"$f":"GAMES!B124","v":"00:00:00"},{"$f":"GAMES!C124","v":"00:00:00"},null,{"$f":"RESULTS!G83","v":" Block 4 Player 5"},{"$f":"RESULTS!H83","v":-1E-3},{"$f":"RESULTS!I83","v":-1E-3}]
[null,28,{"$f":"IF(L236<0,\"\",IF(L236>L237,K236,K237))","v":""},"beat",{"$f":"IF(L236<0,\"\",IF(L236>L237,K237,K236))","v":""},{"$f":"IF(L236>L237,L236-L237,L237-L236)","v":0},{"$f":"IF(C209=\"\",\"\",IF(ISTEXT(M236),M236,IF(ISTEXT(M237),M237,\"\")))","v":""},{"$f":"GAMES!B125","v":"00:00:00"},{"$f":"GAMES!C125","v":"00:00:00"},null,{"$f":"RESULTS!G84","v":" Block 4 Player 7"},{"$f":"RESULTS!H84","v":-1E-3},{"$f":"RESULTS!I84","v":-1E-3}]
[null,null,null,null,null,null,null,null,null,null,{"$f":"RESULTS!G85","v":" Block 4 Player 4"},{"$f":"RESULTS!H85","v":-1E-3},{"$f":"RESULTS!I85","v":-1E-3}]
[null,null,null,null,null,null,null,null,null,null,{"$f":"RESULTS!G86","v":" Bye "},{"$f":"RESULTS!H86","v":-1E-3},{"$f":"RESULTS!I86","v":-1E-3}]
[null,null,null,null,null,null,null,null,null,null,{"$f":"RESULTS!G87","v":" Block 4 Player 3"},{"$f":"RESULTS!H87","v":-1E-3},{"$f":"RESULTS!I87","v":-1E-3}]
[null,null,null,null,null,null,null,null,null,null,{"$f":"RESULTS!G88","v":" Block 4 Player 2"},{"$f":"RESULTS!H88","v":-1E-3},{"$f":"RESULTS!I88","v":-1E-3}]
[null,null,null,null,null,null,null,null,null,null,{"$f":"RESULTS!G89","v":" Block 4 Player 1"},{"$f":"RESULTS!H89","v":-1E-3},{"$f":"RESULTS!I89","v":-1E-3}]
[null,null,null,null,null,null,null,null,null,null,{"$f":"RESULTS!G90","v":" Block 4 Player 7"},{"$f":"RESULTS!H90","v":-1E-3},{"$f":"RESULTS!I90","v":-1E-3}]
[null,null,null,null,null,null,null,null,null,null,{"$f":"RESULTS!G91","v":" Block 4 Player 6"},{"$f":"RESULTS!H91","v":-1E-3},{"$f":"RESULTS!I91","v":-1E-3}]
[null,null,null,null,null,null,null,null,null,null,{"$f":"RESULTS!G92","v":" Bye "},{"$f":"RESULTS!H92","v":-1E-3},{"$f":"RESULTS!I92","v":-1E-3}]
[null,null,null,null,null,null,null,null,null,null,{"$f":"RESULTS!G93","v":" Block 4 Player 5"},{"$f":"RESULTS!H93","v":-1E-3},{"$f":"RESULTS!I93","v":-1E-3}]
[null,null,null,null,null,null,null,null,null,null,{"$f":"RESULTS!G94","v":" Block 4 Player 2"},{"$f":"RESULTS!H94","v":-1E-3},{"$f":"RESULTS!I94","v":-1E-3}]
[null,null,null,null,null,null,null,null,null,null,{"$f":"RESULTS!G95","v":" Block 4 Player 4"},{"$f":"RESULTS!H95","v":-1E-3},{"$f":"RESULTS!I95","v":-1E-3}]
[null,null,null,null,null,null,null,null,null,null,{"$f":"RESULTS!G96","v":" Block 4 Player 3"},{"$f":"RESULTS!H96","v":-1E-3},{"$f":"RESULTS!I96","v":-1E-3}]
[null,null,null,null,null,null,null,null,null,null,{"$f":"RESULTS!K77","v":" Block 4 Player 1"},{"$f":"RESULTS!L77","v":-1E-3},{"$f":"RESULTS!M77","v":-1E-3}]
[null,null,null,null,null,null,null,null,null,null,{"$f":"RESULTS!K78","v":" Bye "},{"$f":"RESULTS!L78","v":-1E-3},{"$f":"RESULTS!M78","v":-1E-3}]
[null,null,null,null,null,null,null,null,null,null,{"$f":"RESULTS!K79","v":" Block 4 Player 7"},{"$f":"RESULTS!L79","v":-1E-3},{"$f":"RESULTS!M79","v":-1E-3}]
[null,null,null,null,null,null,null,null,null,null,{"$f":"RESULTS!K80","v":" Block 4 Player 2"},{"$f":"RESULTS!L80","v":-1E-3},{"$f":"RESULTS!M80","v":-1E-3}]
[null,null,null,null,null,null,null,null,null,null,{"$f":"RESULTS!K81","v":" Block 4 Player 6"},{"$f":"RESULTS!L81","v":-1E-3},{"$f":"RESULTS!M81","v":-1E-3}]
[null,null,null,null,null,null,null,null,null,null,{"$f":"RESULTS!K82","v":" Block 4 Player 3"},{"$f":"RESULTS!L82","v":-1E-3},{"$f":"RESULTS!M82","v":-1E-3}]
[null,null,null,null,null,null,null,null,null,null,{"$f":"RESULTS!K83","v":" Block 4 Player 5"},{"$f":"RESULTS!L83","v":-1E-3},{"$f":"RESULTS!M83","v":-1E-3}]
[null,null,null,null,null,null,null,null,null,null,{"$f":"RESULTS!K84","v":" Block 4 Player 4"},{"$f":"RESULTS!L84","v":-1E-3},{"$f":"RESULTS!M84","v":-1E-3}]
[null,null,null,null,null,null,null,null,null,null,{"$f":"RESULTS!K85","v":" Block 4 Player 1"},{"$f":"RESULTS!L85","v":-1E-3},{"$f":"RESULTS!M85","v":-1E-3}]
[null,null,null,null,null,null,null,null,null,null,{"$f":"RESULTS!K86","v":" Block 4 Player 2"},{"$f":"RESULTS!L86","v":-1E-3},{"$f":"RESULTS!M86","v":-1E-3}]
[null,null,null,null,null,null,null,null,null,null,{"$f":"RESULTS!K87","v":" Bye "},{"$f":"RESULTS!L87","v":-1E-3},{"$f":"RESULTS!M87","v":-1E-3}]
[null,null,null,null,null,null,null,null,null,null,{"$f":"RESULTS!K88","v":" Block 4 Player 3"},{"$f":"RESULTS!L88","v":-1E-3},{"$f":"RESULTS!M88","v":-1E-3}]
[null,null,null,null,null,null,null,null,null,null,{"$f":"RESULTS!K89","v":" Block 4 Player 7"},{"$f":"RESULTS!L89","v":-1E-3},{"$f":"RESULTS!M89","v":-1E-3}]
[null,null,null,null,null,null,null,null,null,null,{"$f":"RESULTS!K90","v":" Block 4 Player 4"},{"$f":"RESULTS!L90","v":-1E-3},{"$f":"RESULTS!M90","v":-1E-3}]
[null,null,null,null,null,null,null,null,null,null,{"$f":"RESULTS!K91","v":" Block 4 Player 6"},{"$f":"RESULTS!L91","v":-1E-3},{"$f":"RESULTS!M91","v":-1E-3}]
[null,null,null,null,null,null,null,null,null,null,{"$f":"RESULTS!K92","v":" Block 4 Player 5"},{"$f":"RESULTS!L92","v":-1E-3},{"$f":"RESULTS!M92","v":-1E-3}]
[]
[]
["BLOCK 5",null,"Name",null,"Name","Margin","Peels","Time","Day",null,"LU Name","Score","Peels"]
[null,1,{"$f":"IF(L241<0,\"\",IF(L241>L242,K241,K242))","v":""},"beat",{"$f":"IF(L241<0,\"\",IF(L241>L242,K242,K241))","v":""},{"$f":"IF(L241>L242,L241-L242,L242-L241)","v":0},{"$f":"IF(C241=\"\",\"\",IF(ISTEXT(M241),M241,IF(ISTEXT(M242),M242,\"\")))","v":""},{"$f":"GAMES!B129","v":"00:00:00"},{"$f":"GAMES!C129","v":"00:00:00"},null,{"$f":"RESULTS!C101","v":" Block 5 Player 1"},{"$f":"RESULTS!D101","v":-1E-3},{"$f":"RESULTS!E101","v":-1E-3}]
[null,2,{"$f":"IF(L243<0,\"\",IF(L243>L244,K243,K244))","v":""},"beat",{"$f":"IF(L243<0,\"\",IF(L243>L244,K244,K243))","v":""},{"$f":"IF(L243>L244,L243-L244,L244-L243)","v":0},{"$f":"IF(C242=\"\",\"\",IF(ISTEXT(M243),M243,IF(ISTEXT(M244),M244,\"\")))","v":""},{"$f":"GAMES!B130","v":"00:00:00"},{"$f":"GAMES!C130","v":"00:00:00"},null,{"$f":"RESULTS!C102","v":" Block 5 Player 3"},{"$f":"RESULTS!D102","v":-1E-3},{"$f":"RESULTS!E102","v":-1E-3}]
[null,3,{"$f":"IF(L245<0,\"\",IF(L245>L246,K245,K246))","v":""},"beat",{"$f":"IF(L245<0,\"\",IF(L245>L246,K246,K245))","v":""},{"$f":"IF(L245>L246,L245-L246,L246-L245)","v":0},{"$f":"IF(C243=\"\",\"\",IF(ISTEXT(M245),M245,IF(ISTEXT(M246),M246,\"\")))","v":""},{"$f":"GAMES!B131","v":"00:00:00"},{"$f":"GAMES!C131","v":"00:00:00"},null,{"$f":"RESULTS!C103","v":" Block 5 Player 2"},{"$f":"RESULTS!D103","v":-1E-3},{"$f":"RESULTS!E103","v":-1E-3}]
[null,4,{"$f":"IF(L247<0,\"\",IF(L247>L248,K247,K248))","v":""},"beat",{"$f":"IF(L247<0,\"\",IF(L247>L248,K248,K247))","v":""},{"$f":"IF(L247>L248,L247-L248,L248-L247)","v":0},{"$f":"IF(C244=\"\",\"\",IF(ISTEXT(M247),M247,IF(ISTEXT(M248),M248,\"\")))","v":""},{"$f":"GAMES!B132","v":"00:00:00"},{"$f":"GAMES!C132","v":"00:00:00"},null,{"$f":"RESULTS!C104","v":" Block 5 Player 4"},{"$f":"RESULTS!D104","v":-1E-3},{"$f":"RESULTS!E104","v":-1E-3}]
[null,5,{"$f":"IF(L249<0,\"\",IF(L249>L250,K249,K250))","v":""},"beat",{"$f":"IF(L249<0,\"\",IF(L249>L250,K250,K249))","v":""},{"$f":"IF(L249>L250,L249-L250,L250-L249)","v":0},{"$f":"IF(C245=\"\",\"\",IF(ISTEXT(M249),M249,IF(ISTEXT(M250),M250,\"\")))","v":""},{"$f":"GAMES!B133","v":"00:00:00"},{"$f":"GAMES!C133","v":"00:00:00"},null,{"$f":"RESULTS!C105","v":" Bye "},{"$f":"RESULTS!D105","v":-1E-3},{"$f":"RESULTS!E105","v":-1E-3}]
[null,6,{"$f":"IF(L251<0,\"\",IF(L251>L252,K251,K252))","v":""},"beat",{"$f":"IF(L251<0,\"\",IF(L251>L252,K252,K251))","v":""},{"$f":"IF(L251>L252,L251-L252,L252-L251)","v":0},{"$f":"IF(C246=\"\",\"\",IF(ISTEXT(M251),M251,IF(ISTEXT(M252),M252,\"\")))","v":""},{"$f":"GAMES!B134","v":"00:00:00"},{"$f":"GAMES!C134","v":"00:00:00"},null,{"$f":"RESULTS!C106","v":" Block 5 Player 5"},{"$f":"RESULTS!D106","v":-1E-3},{"$f":"RESULTS!E106","v":-1E-3}]
[null,7,{"$f":"IF(L253<0,\"\",IF(L253>L254,K253,K254))","v":""},"beat",{"$f":"IF(L253<0,\"\",IF(L253>L254,K254,K253))","v":""},{"$f":"IF(L253>L254,L253-L254,L254-L253)","v":0},{"$f":"IF(C247=\"\",\"\",IF(ISTEXT(M253),M253,IF(ISTEXT(M254),M254,\"\")))","v":""},{"$f":"GAMES!B135","v":"00:00:00"},{"$f":"GAMES!C135","v":"00:00:00"},null,{"$f":"RESULTS!C107","v":" Block 5 Player 7"},{"$f":"RESULTS!D107","v":-1E-3},{"$f":"RESULTS!E107","v":-1E-3}]
[null,8,{"$f":"IF(L255<0,\"\",IF(L255>L256,K255,K256))","v":""},"beat",{"$f":"IF(L255<0,\"\",IF(L255>L256,K256,K255))","v":""},{"$f":"IF(L255>L256,L255-L256,L256-L255)","v":0},{"$f":"IF(C248=\"\",\"\",IF(ISTEXT(M255),M255,IF(ISTEXT(M256),M256,\"\")))","v":""},{"$f":"GAMES!B136","v":"00:00:00"},{"$f":"GAMES!C136","v":"00:00:00"},null,{"$f":"RESULTS!C108","v":" Block 5 Player 6"},{"$f":"RESULTS!D108","v":-1E-3},{"$f":"RESULTS!E108","v":-1E-3}]
[null,9,{"$f":"IF(L257<0,\"\",IF(L257>L258,K257,K258))","v":""},"beat",{"$f":"IF(L257<0,\"\",IF(L257>L258,K258,K257))","v":""},{"$f":"IF(L257>L258,L257-L258,L258-L257)","v":0},{"$f":"IF(C249=\"\",\"\",IF(ISTEXT(M257),M257,IF(ISTEXT(M258),M258,\"\")))","v":""},{"$f":"GAMES!B137","v":"00:00:00"},{"$f":"GAMES!C137","v":"00:00:00"},null,{"$f":"RESULTS!C109","v":" Block 5 Player 1"},{"$f":"RESULTS!D109","v":-1E-3},{"$f":"RESULTS!E109","v":-1E-3}]
[null,10,{"$f":"IF(L259<0,\"\",IF(L259>L260,K259,K260))","v":""},"beat",{"$f":"IF(L259<0,\"\",IF(L259>L260,K260,K259))","v":""},{"$f":"IF(L259>L260,L259-L260,L260-L259)","v":0},{"$f":"IF(C250=\"\",\"\",IF(ISTEXT(M259),M259,IF(ISTEXT(M260),M260,\"\")))","v":""},{"$f":"GAMES!B138","v":"00:00:00"},{"$f":"GAMES!C138","v":"00:00:00"},null,{"$f":"RESULTS!C110","v":" Block 5 Player 4"},{"$f":"RESULTS!D110","v":-1E-3},{"$f":"RESULTS!E110","v":-1E-3}]
[null,11,{"$f":"IF(L261<0,\"\",IF(L261>L262,K261,K262))","v":""},"beat",{"$f":"IF(L261<0,\"\",IF(L261>L262,K262,K261))","v":""},{"$f":"IF(L261>L262,L261-L262,L262-L261)","v":0},{"$f":"IF(C251=\"\",\"\",IF(ISTEXT(M261),M261,IF(ISTEXT(M262),M262,\"\")))","v":""},{"$f":"GAMES!B139","v":"00:00:00"},{"$f":"GAMES!C139","v":"00:00:00"},null,{"$f":"RESULTS!C111","v":" Block 5 Player 3"},{"$f":"RESULTS!D111","v":-1E-3},{"$f":"RESULTS!E111","v":-1E-3}]
[null,12,{"$f":"IF(L263<0,\"\",IF(L263>L264,K263,K264))","v":""},"beat",{"$f":"IF(L263<0,\"\",IF(L263>L264,K264,K263))","v":""},{"$f":"IF(L263>L264,L263-L264,L264-L263)","v":0},{"$f":"IF(C252=\"\",\"\",IF(ISTEXT(M263),M263,IF(ISTEXT(M264),M264,\"\")))","v":""},{"$f":"GAMES!B140","v":"00:00:00"},{"$f":"GAMES!C140","v":"00:00:00"},null,{"$f":"RESULTS!C112","v":" Block 5 Player 5"},{"$f":"RESULTS!D112","v":-1E-3},{"$f":"RESULTS!E112","v":-1E-3}]
[null,13,{"$f":"IF(L265<0,\"\",IF(L265>L266,K265,K266))","v":""},"beat",{"$f":"IF(L265<0,\"\",IF(L265>L266,K266,K265))","v":""},{"$f":"IF(L265>L266,L265-L266,L266-L265)","v":0},{"$f":"IF(C253=\"\",\"\",IF(ISTEXT(M265),M265,IF(ISTEXT(M266),M266,\"\")))","v":""},{"$f":"GAMES!B141","v":"00:00:00"},{"$f":"GAMES!C141","v":"00:00:00"},null,{"$f":"RESULTS!C113","v":" Block 5 Player 2"},{"$f":"RESULTS!D113","v":-1E-3},{"$f":"RESULTS!E113","v":-1E-3}]
[null,14,{"$f":"IF(L267<0,\"\",IF(L267>L268,K267,K268))","v":""},"beat",{"$f":"IF(L267<0,\"\",IF(L267>L268,K268,K267))","v":""},{"$f":"IF(L267>L268,L267-L268,L268-L267)","v":0},{"$f":"IF(C254=\"\",\"\",IF(ISTEXT(M267),M267,IF(ISTEXT(M268),M268,\"\")))","v":""},{"$f":"GAMES!B142","v":"00:00:00"},{"$f":"GAMES!C142","v":"00:00:00"},null,{"$f":"RESULTS!C114","v":" Block 5 Player 6"},{"$f":"RESULTS!D114","v":-1E-3},{"$f":"RESULTS!E114","v":-1E-3}]
[null,15,{"$f":"IF(L269<0,\"\",IF(L269>L270,K269,K270))","v":""},"beat",{"$f":"IF(L269<0,\"\",IF(L269>L270,K270,K269))","v":""},{"$f":"IF(L269>L270,L269-L270,L270-L269)","v":0},{"$f":"IF(C255=\"\",\"\",IF(ISTEXT(M269),M269,IF(ISTEXT(M270),M270,\"\")))","v":""},{"$f":"GAMES!B143","v":"00:00:00"},{"$f":"GAMES!C143","v":"00:00:00"},null,{"$f":"RESULTS!C115","v":" Bye "},{"$f":"RESULTS!D115","v":-1E-3},{"$f":"RESULTS!E115","v":-1E-3}]
[null,16,{"$f":"IF(L271<0,\"\",IF(L271>L272,K271,K272))","v":""},"beat",{"$f":"IF(L271<0,\"\",IF(L271>L272,K272,K271))","v":""},{"$f":"IF(L271>L272,L271-L272,L272-L271)","v":0},{"$f":"IF(C256=\"\",\"\",IF(ISTEXT(M271),M271,IF(ISTEXT(M272),M272,\"\")))","v":""},{"$f":"GAMES!B144","v":"00:00:00"},{"$f":"GAMES!C144","v":"00:00:00"},null,{"$f":"RESULTS!C116","v":" Block 5 Player 7"},{"$f":"RESULTS!D116","v":-1E-3},{"$f":"RESULTS!E116","v":-1E-3}]
[null,17,{"$f":"IF(L273<0,\"\",IF(L273>L274,K273,K274))","v":""},"beat",{"$f":"IF(L273<0,\"\",IF(L273>L274,K274,K273))","v":""},{"$f":"IF(L273>L274,L273-L274,L274-L273)","v":0},{"$f":"IF(C257=\"\",\"\",IF(ISTEXT(M273),M273,IF(ISTEXT(M274),M274,\"\")))","v":""},{"$f":"GAMES!B145","v":"00:00:00"},{"$f":"GAMES!C145","v":"00:00:00"},null,{"$f":"RESULTS!C117","v":" Block 5 Player 1"},{"$f":"RESULTS!D117","v":-1E-3},{"$f":"RESULTS!E117","v":-1E-3}]
[null,18,{"$f":"IF(L275<0,\"\",IF(L275>L276,K275,K276))","v":""},"beat",{"$f":"IF(L275<0,\"\",IF(L275>L276,K276,K275))","v":""},{"$f":"IF(L275>L276,L275-L276,L276-L275)","v":0},{"$f":"IF(C258=\"\",\"\",IF(ISTEXT(M275),M275,IF(ISTEXT(M276),M276,\"\")))","v":""},{"$f":"GAMES!B146","v":"00:00:00"},{"$f":"GAMES!C146","v":"00:00:00"},null,{"$f":"RESULTS!C118","v":" Block 5 Player 5"},{"$f":"RESULTS!D118","v":-1E-3},{"$f":"RESULTS!E118","v":-1E-3}]
[null,19,{"$f":"IF(L277<0,\"\",IF(L277>L278,K277,K278))","v":""},"beat",{"$f":"IF(L277<0,\"\",IF(L277>L278,K278,K277))","v":""},{"$f":"IF(L277>L278,L277-L278,L278-L277)","v":0},{"$f":"IF(C259=\"\",\"\",IF(ISTEXT(M277),M277,IF(ISTEXT(M278),M278,\"\")))","v":""},{"$f":"GAMES!B147","v":"00:00:00"},{"$f":"GAMES!C147","v":"00:00:00"},null,{"$f":"RESULTS!C119","v":" Block 5 Player 4"},{"$f":"RESULTS!D119","v":-1E-3},{"$f":"RESULTS!E119","v":-1E-3}]
[null,20,{"$f":"IF(L279<0,\"\",IF(L279>L280,K279,K280))","v":""},"beat",{"$f":"IF(L279<0,\"\",IF(L279>L280,K280,K279))","v":""},{"$f":"IF(L279>L280,L279-L280,L280-L279)","v":0},{"$f":"IF(C260=\"\",\"\",IF(ISTEXT(M279),M279,IF(ISTEXT(M280),M280,\"\")))","v":""},{"$f":"GAMES!B148","v":"00:00:00"},{"$f":"GAMES!C148","v":"00:00:00"},null,{"$f":"RESULTS!C120","v":" Block 5 Player 6"},{"$f":"RESULTS!D120","v":-1E-3},{"$f":"RESULTS!E120","v":-1E-3}]
[null,21,{"$f":"IF(L281<0,\"\",IF(L281>L282,K281,K282))","v":""},"beat",{"$f":"IF(L281<0,\"\",IF(L281>L282,K282,K281))","v":""},{"$f":"IF(L281>L282,L281-L282,L282-L281)","v":0},{"$f":"IF(C261=\"\",\"\",IF(ISTEXT(M281),M281,IF(ISTEXT(M282),M282,\"\")))","v":""},{"$f":"GAMES!B149","v":"00:00:00"},{"$f":"GAMES!C149","v":"00:00:00"},null,{"$f":"RESULTS!G101","v":" Block 5 Player 3"},{"$f":"RESULTS!H101","v":-1E-3},{"$f":"RESULTS!I101","v":-1E-3}]
[null,22,{"$f":"IF(L283<0,\"\",IF(L283>L284,K283,K284))","v":""},"beat",{"$f":"IF(L283<0,\"\",IF(L283>L284,K284,K283))","v":""},{"$f":"IF(L283>L284,L283-L284,L284-L283)","v":0},{"$f":"IF(C262=\"\",\"\",IF(ISTEXT(M283),M283,IF(ISTEXT(M284),M284,\"\")))","v":""},{"$f":"GAMES!B150","v":"00:00:00"},{"$f":"GAMES!C150","v":"00:00:00"},null,{"$f":"RESULTS!G102","v":" Block 5 Player 7"},{"$f":"RESULTS!H102","v":-1E-3},{"$f":"RESULTS!I102","v":-1E-3}]
[null,23,{"$f":"IF(L285<0,\"\",IF(L285>L286,K285,K286))","v":""},"beat",{"$f":"IF(L285<0,\"\",IF(L285>L286,K286,K285))","v":""},{"$f":"IF(L285>L286,L285-L286,L286-L285)","v":0},{"$f":"IF(C263=\"\",\"\",IF(ISTEXT(M285),M285,IF(ISTEXT(M286),M286,\"\")))","v":""},{"$f":"GAMES!B151","v":"00:00:00"},{"$f":"GAMES!C151","v":"00:00:00"},null,{"$f":"RESULTS!G103","v":" Block 5 Player 2"},{"$f":"RESULTS!H103","v":-1E-3},{"$f":"RESULTS!I103","v":-1E-3}]
[null,24,{"$f":"IF(L287<0,\"\",IF(L287>L288,K287,K288))","v":""},"beat",{"$f":"IF(L287<0,\"\",IF(L287>L288,K288,K287))","v":""},{"$f":"IF(L287>L288,L287-L288,L288-L287)","v":0},{"$f":"IF(C264=\"\",\"\",IF(ISTEXT(M287),M287,IF(ISTEXT(M288),M288,\"\")))","v":""},{"$f":"GAMES!B152","v":"00:00:00"},{"$f":"GAMES!C152","v":"00:00:00"},null,{"$f":"RESULTS!G104","v":" Bye "},{"$f":"RESULTS!H104","v":-1E-3},{"$f":"RESULTS!I104","v":-1E-3}]
[null,25,{"$f":"IF(L289<0,\"\",IF(L289>L290,K289,K290))","v":""},"beat",{"$f":"IF(L289<0,\"\",IF(L289>L290,K290,K289))","v":""},{"$f":"IF(L289>L290,L289-L290,L290-L289)","v":0},{"$f":"IF(C265=\"\",\"\",IF(ISTEXT(M289),M289,IF(ISTEXT(M290),M290,\"\")))","v":""},{"$f":"GAMES!B153","v":"00:00:00"},{"$f":"GAMES!C153","v":"00:00:00"},null,{"$f":"RESULTS!G105","v":" Block 5 Player 1"},{"$f":"RESULTS!H105","v":-1E-3},{"$f":"RESULTS!I105","v":-1E-3}]
[null,26,{"$f":"IF(L291<0,\"\",IF(L291>L292,K291,K292))","v":""},"beat",{"$f":"IF(L291<0,\"\",IF(L291>L292,K292,K291))","v":""},{"$f":"IF(L291>L292,L291-L292,L292-L291)","v":0},{"$f":"IF(C266=\"\",\"\",IF(ISTEXT(M291),M291,IF(ISTEXT(M292),M292,\"\")))","v":""},{"$f":"GAMES!B154","v":"00:00:00"},{"$f":"GAMES!C154","v":"00:00:00"},null,{"$f":"RESULTS!G106","v":" Block 5 Player 6"},{"$f":"RESULTS!H106","v":-1E-3},{"$f":"RESULTS!I106","v":-1E-3}]
[null,27,{"$f":"IF(L293<0,\"\",IF(L293>L294,K293,K294))","v":""},"beat",{"$f":"IF(L293<0,\"\",IF(L293>L294,K294,K293))","v":""},{"$f":"IF(L293>L294,L293-L294,L294-L293)","v":0},{"$f":"IF(C267=\"\",\"\",IF(ISTEXT(M293),M293,IF(ISTEXT(M294),M294,\"\")))","v":""},{"$f":"GAMES!B155","v":"00:00:00"},{"$f":"GAMES!C155","v":"00:00:00"},null,{"$f":"RESULTS!G107","v":" Block 5 Player 5"},{"$f":"RESULTS!H107","v":-1E-3},{"$f":"RESULTS!I107","v":-1E-3}]
[null,28,{"$f":"IF(L295<0,\"\",IF(L295>L296,K295,K296))","v":""},"beat",{"$f":"IF(L295<0,\"\",IF(L295>L296,K296,K295))","v":""},{"$f":"IF(L295>L296,L295-L296,L296-L295)","v":0},{"$f":"IF(C268=\"\",\"\",IF(ISTEXT(M295),M295,IF(ISTEXT(M296),M296,\"\")))","v":""},{"$f":"GAMES!B156","v":"00:00:00"},{"$f":"GAMES!C156","v":"00:00:00"},null,{"$f":"RESULTS!G108","v":" Block 5 Player 7"},{"$f":"RESULTS!H108","v":-1E-3},{"$f":"RESULTS!I108","v":-1E-3}]
[null,null,null,null,null,null,null,null,null,null,{"$f":"RESULTS!G109","v":" Block 5 Player 4"},{"$f":"RESULTS!H109","v":-1E-3},{"$f":"RESULTS!I109","v":-1E-3}]
[null,null,null,null,null,null,null,null,null,null,{"$f":"RESULTS!G110","v":" Bye "},{"$f":"RESULTS!H110","v":-1E-3},{"$f":"RESULTS!I110","v":-1E-3}]
[null,null,null,null,null,null,null,null,null,null,{"$f":"RESULTS!G111","v":" Block 5 Player 3"},{"$f":"RESULTS!H111","v":-1E-3},{"$f":"RESULTS!I111","v":-1E-3}]
[null,null,null,null,null,null,null,null,null,null,{"$f":"RESULTS!G112","v":" Block 5 Player 2"},{"$f":"RESULTS!H112","v":-1E-3},{"$f":"RESULTS!I112","v":-1E-3}]
[null,null,null,null,null,null,null,null,null,null,{"$f":"RESULTS!G113","v":" Block 5 Player 1"},{"$f":"RESULTS!H113","v":-1E-3},{"$f":"RESULTS!I113","v":-1E-3}]
[null,null,null,null,null,null,null,null,null,null,{"$f":"RESULTS!G114","v":" Block 5 Player 7"},{"$f":"RESULTS!H114","v":-1E-3},{"$f":"RESULTS!I114","v":-1E-3}]
[null,null,null,null,null,null,null,null,null,null,{"$f":"RESULTS!G115","v":" Block 5 Player 6"},{"$f":"RESULTS!H115","v":-1E-3},{"$f":"RESULTS!I115","v":-1E-3}]
[null,null,null,null,null,null,null,null,null,null,{"$f":"RESULTS!G116","v":" Bye "},{"$f":"RESULTS!H116","v":-1E-3},{"$f":"RESULTS!I116","v":-1E-3}]
[null,null,null,null,null,null,null,null,null,null,{"$f":"RESULTS!G117","v":" Block 5 Player 5"},{"$f":"RESULTS!H117","v":-1E-3},{"$f":"RESULTS!I117","v":-1E-3}]
[null,null,null,null,null,null,null,null,null,null,{"$f":"RESULTS!G118","v":" Block 5 Player 2"},{"$f":"RESULTS!H118","v":-1E-3},{"$f":"RESULTS!I118","v":-1E-3}]
[null,null,null,null,null,null,null,null,null,null,{"$f":"RESULTS!G119","v":" Block 5 Player 4"},{"$f":"RESULTS!H119","v":-1E-3},{"$f":"RESULTS!I119","v":-1E-3}]
[null,null,null,null,null,null,null,null,null,null,{"$f":"RESULTS!G120","v":" Block 5 Player 3"},{"$f":"RESULTS!H120","v":-1E-3},{"$f":"RESULTS!I120","v":-1E-3}]
[null,null,null,null,null,null,null,null,null,null,{"$f":"RESULTS!K101","v":" Block 5 Player 1"},{"$f":"RESULTS!L101","v":-1E-3},{"$f":"RESULTS!M101","v":-1E-3}]
[null,null,null,null,null,null,null,null,null,null,{"$f":"RESULTS!K102","v":" Bye "},{"$f":"RESULTS!L102","v":-1E-3},{"$f":"RESULTS!M102","v":-1E-3}]
[null,null,null,null,null,null,null,null,null,null,{"$f":"RESULTS!K103","v":" Block 5 Player 7"},{"$f":"RESULTS!L103","v":-1E-3},{"$f":"RESULTS!M103","v":-1E-3}]
[null,null,null,null,null,null,null,null,null,null,{"$f":"RESULTS!K104","v":" Block 5 Player 2"},{"$f":"RESULTS!L104","v":-1E-3},{"$f":"RESULTS!M104","v":-1E-3}]
[null,null,null,null,null,null,null,null,null,null,{"$f":"RESULTS!K105","v":" Block 5 Player 6"},{"$f":"RESULTS!L105","v":-1E-3},{"$f":"RESULTS!M105","v":-1E-3}]
[null,null,null,null,null,null,null,null,null,null,{"$f":"RESULTS!K106","v":" Block 5 Player 3"},{"$f":"RESULTS!L106","v":-1E-3},{"$f":"RESULTS!M106","v":-1E-3}]
[null,null,null,null,null,null,null,null,null,null,{"$f":"RESULTS!K107","v":" Block 5 Player 5"},{"$f":"RESULTS!L107","v":-1E-3},{"$f":"RESULTS!M107","v":-1E-3}]
[null,null,null,null,null,null,null,null,null,null,{"$f":"RESULTS!K108","v":" Block 5 Player 4"},{"$f":"RESULTS!L108","v":-1E-3},{"$f":"RESULTS!M108","v":-1E-3}]
[null,null,null,null,null,null,null,null,null,null,{"$f":"RESULTS!K109","v":" Block 5 Player 1"},{"$f":"RESULTS!L109","v":-1E-3},{"$f":"RESULTS!M109","v":-1E-3}]
[null,null,null,null,null,null,null,null,null,null,{"$f":"RESULTS!K110","v":" Block 5 Player 2"},{"$f":"RESULTS!L110","v":-1E-3},{"$f":"RESULTS!M110","v":-1E-3}]
[null,null,null,null,null,null,null,null,null,null,{"$f":"RESULTS!K111","v":" Bye "},{"$f":"RESULTS!L111","v":-1E-3},{"$f":"RESULTS!M111","v":-1E-3}]
[null,null,null,null,null,null,null,null,null,null,{"$f":"RESULTS!K112","v":" Block 5 Player 3"},{"$f":"RESULTS!L112","v":-1E-3},{"$f":"RESULTS!M112","v":-1E-3}]
[null,null,null,null,null,null,null,null,null,null,{"$f":"RESULTS!K113","v":" Block 5 Player 7"},{"$f":"RESULTS!L113","v":-1E-3},{"$f":"RESULTS!M113","v":-1E-3}]
[null,null,null,null,null,null,null,null,null,null,{"$f":"RESULTS!K114","v":" Block 5 Player 4"},{"$f":"RESULTS!L114","v":-1E-3},{"$f":"RESULTS!M114","v":-1E-3}]
[null,null,null,null,null,null,null,null,null,null,{"$f":"RESULTS!K115","v":" Block 5 Player 6"},{"$f":"RESULTS!L115","v":-1E-3},{"$f":"RESULTS!M115","v":-1E-3}]
[null,null,null,null,null,null,null,null,null,null,{"$f":"RESULTS!K116","v":" Block 5 Player 5"},{"$f":"RESULTS!L116","v":-1E-3},{"$f":"RESULTS!M116","v":-1E-3}]
[]
[]
[null,null,{"$f":"NAMES!$C$7","v":"Tournament"}]
[null,null,{"$f":"NAMES!$C$9","v":"Date"}]
[null,null,{"$f":"NAMES!$C$8","v":"Singles"},null,{"$f":"NAMES!$C$10","v":"BLOCK 1"}]
[null,null,"Name",null,"Name","Margin","Peels","Time","Day"]
[null,1,"","beat","",0,"","00:00:00","00:00:00"]
[null,2,"","beat","",0,"","00:00:00","00:00:00"]
[null,3,"","beat","",0,"","00:00:00","00:00:00"]
[null,4,"","beat","",0,"","00:00:00","00:00:00"]
[null,5,"","beat","",0,"","00:00:00","00:00:00"]
[null,6,"","beat","",0,"","00:00:00","00:00:00"]
[null,7,"","beat","",0,"","00:00:00","00:00:00"]
[null,8,"","beat","",0,"","00:00:00","00:00:00"]
[null,9,"","beat","",0,"","00:00:00","00:00:00"]
[null,10,"","beat","",0,"","00:00:00","00:00:00"]
[null,11,"","beat","",0,"","00:00:00","00:00:00"]
[null,12,"","beat","",0,"","00:00:00","00:00:00"]
[null,13,"","beat","",0,"","00:00:00","00:00:00"]
[null,14,"","beat","",0,"","00:00:00","00:00:00"]
[null,15,"","beat","",0,"","00:00:00","00:00:00"]
[null,16,"","beat","",0,"","00:00:00","00:00:00"]
[null,17,"","beat","",0,"","00:00:00","00:00:00"]
[null,18,"","beat","",0,"","00:00:00","00:00:00"]
[null,19,"","beat","",0,"","00:00:00","00:00:00"]
[null,20,"","beat","",0,"","00:00:00","00:00:00"]
[null,21,"","beat","",0,"","00:00:00","00:00:00"]
[null,22,"","beat","",0,"","00:00:00","00:00:00"]
[null,23,"","beat","",0,"","00:00:00","00:00:00"]
[null,24,"","beat","",0,"","00:00:00","00:00:00"]
[null,25,"","beat","",0,"","00:00:00","00:00:00"]
[null,26,"","beat","",0,"","00:00:00","00:00:00"]
[null,27,"","beat","",0,"","00:00:00","00:00:00"]
[null,28,"","beat","",0,"","00:00:00","00:00:00"]
[]
[]
[null,null,{"$f":"NAMES!$C$7","v":"Tournament"}]
[null,null,{"$f":"NAMES!$C$9","v":"Date"}]
[null,null,{"$f":"NAMES!$C$8","v":"Singles"},null,{"$f":"NAMES!$C$51","v":"BLOCK 2"}]
[null,null,"Name",null,"Name","Margin","Peels","Time","Day"]
[null,1,"","beat","",0,"","00:00:00","00:00:00"]
[null,2,"","beat","",0,"","00:00:00","00:00:00"]
[null,3,"","beat","",0,"","00:00:00","00:00:00"]
[null,4,"","beat","",0,"","00:00:00","00:00:00"]
[null,5,"","beat","",0,"","00:00:00","00:00:00"]
[null,6,"","beat","",0,"","00:00:00","00:00:00"]
[null,7,"","beat","",0,"","00:00:00","00:00:00"]
[null,8,"","beat","",0,"","00:00:00","00:00:00"]
[null,9,"","beat","",0,"","00:00:00","00:00:00"]
[null,10,"","beat","",0,"","00:00:00","00:00:00"]
[null,11,"","beat","",0,"","00:00:00","00:00:00"]
[null,12,"","beat","",0,"","00:00:00","00:00:00"]
[null,13,"","beat","",0,"","00:00:00","00:00:00"]
[null,14,"","beat","",0,"","00:00:00","00:00:00"]
[null,15,"","beat","",0,"","00:00:00","00:00:00"]
[null,16,"","beat","",0,"","00:00:00","00:00:00"]
[null,17,"","beat","",0,"","00:00:00","00:00:00"]
[null,18,"","beat","",0,"","00:00:00","00:00:00"]
[null,19,"","beat","",0,"","00:00:00","00:00:00"]
[null,20,"","beat","",0,"","00:00:00","00:00:00"]
[null,21,"","beat","",0,"","00:00:00","00:00:00"]
[null,22,"","beat","",0,"","00:00:00","00:00:00"]
[null,23,"","beat","",0,"","00:00:00","00:00:00"]
[null,24,"","beat","",0,"","00:00:00","00:00:00"]
[null,25,"","beat","",0,"","00:00:00","00:00:00"]
[null,26,"","beat","",0,"","00:00:00","00:00:00"]
[null,27,"","beat","",0,"","00:00:00","00:00:00"]
[null,28,"","beat","",0,"","00:00:00","00:00:00"]
[]
[]
[null,null,{"$f":"NAMES!$C$7","v":"Tournament"}]
[null,null,{"$f":"NAMES!$C$9","v":"Date"}]
[null,null,{"$f":"NAMES!$C$8","v":"Singles"},null,{"$f":"NAMES!$C$92","v":"BLOCK 3"}]
[null,null,"Name",null,"Name","Margin","Peels","Time","Day"]
[null,1,"","beat","",0,"","00:00:00","00:00:00"]
[null,2,"","beat","",0,"","00:00:00","00:00:00"]
[null,3,"","beat","",0,"","00:00:00","00:00:00"]
[null,4,"","beat","",0,"","00:00:00","00:00:00"]
[null,5,"","beat","",0,"","00:00:00","00:00:00"]
[null,6,"","beat","",0,"","00:00:00","00:00:00"]
[null,7,"","beat","",0,"","00:00:00","00:00:00"]
[null,8,"","beat","",0,"","00:00:00","00:00:00"]
[null,9,"","beat","",0,"","00:00:00","00:00:00"]
[null,10,"","beat","",0,"","00:00:00","00:00:00"]
[null,11,"","beat","",0,"","00:00:00","00:00:00"]
[null,12,"","beat","",0,"","00:00:00","00:00:00"]
[null,13,"","beat","",0,"","00:00:00","00:00:00"]
[null,14,"","beat","",0,"","00:00:00","00:00:00"]
[null,15,"","beat","",0,"","00:00:00","00:00:00"]
[null,16,"","beat","",0,"","00:00:00","00:00:00"]
[null,17,"","beat","",0,"","00:00:00","00:00:00"]
[null,18,"","beat","",0,"","00:00:00","00:00:00"]
[null,19,"","beat","",0,"","00:00:00","00:00:00"]
[null,20,"","beat","",0,"","00:00:00","00:00:00"]
[null,21,"","beat","",0,"","00:00:00","00:00:00"]
[null,22,"","beat","",0,"","00:00:00","00:00:00"]
[null,23,"","beat","",0,"","00:00:00","00:00:00"]
[null,24,"","beat","",0,"","00:00:00","00:00:00"]
[null,25,"","beat","",0,"","00:00:00","00:00:00"]
[null,26,"","beat","",0,"","00:00:00","00:00:00"]
[null,27,"","beat","",0,"","00:00:00","00:00:00"]
[null,28,"","beat","",0,"","00:00:00","00:00:00"]
[]
[]
[null,null,{"$f":"NAMES!$C$7","v":"Tournament"}]
[null,null,{"$f":"NAMES!$C$9","v":"Date"}]
[null,null,{"$f":"NAMES!$C$8","v":"Singles"},null,{"$f":"NAMES!$C$133","v":"BLOCK 4"}]
[null,null,"Name",null,"Name","Margin","Peels","Time","Day"]
[null,1,"","beat","",0,"","00:00:00","00:00:00"]
[null,2,"","beat","",0,"","00:00:00","00:00:00"]
[null,3,"","beat","",0,"","00:00:00","00:00:00"]
[null,4,"","beat","",0,"","00:00:00","00:00:00"]
[null,5,"","beat","",0,"","00:00:00","00:00:00"]
[null,6,"","beat","",0,"","00:00:00","00:00:00"]
[null,7,"","beat","",0,"","00:00:00","00:00:00"]
[null,8,"","beat","",0,"","00:00:00","00:00:00"]
[null,9,"","beat","",0,"","00:00:00","00:00:00"]
[null,10,"","beat","",0,"","00:00:00","00:00:00"]
[null,11,"","beat","",0,"","00:00:00","00:00:00"]
[null,12,"","beat","",0,"","00:00:00","00:00:00"]
[null,13,"","beat","",0,"","00:00:00","00:00:00"]
[null,14,"","beat","",0,"","00:00:00","00:00:00"]
[null,15,"","beat","",0,"","00:00:00","00:00:00"]
[null,16,"","beat","",0,"","00:00:00","00:00:00"]
[null,17,"","beat","",0,"","00:00:00","00:00:00"]
[null,18,"","beat","",0,"","00:00:00","00:00:00"]
[null,19,"","beat","",0,"","00:00:00","00:00:00"]
[null,20,"","beat","",0,"","00:00:00","00:00:00"]
[null,21,"","beat","",0,"","00:00:00","00:00:00"]
[null,22,"","beat","",0,"","00:00:00","00:00:00"]
[null,23,"","beat","",0,"","00:00:00","00:00:00"]
[null,24,"","beat","",0,"","00:00:00","00:00:00"]
[null,25,"","beat","",0,"","00:00:00","00:00:00"]
[null,26,"","beat","",0,"","00:00:00","00:00:00"]
[null,27,"","beat","",0,"","00:00:00","00:00:00"]
[null,28,"","beat","",0,"","00:00:00","00:00:00"]
[]
[]
[null,null,{"$f":"NAMES!$C$7","v":"Tournament"}]
[null,null,{"$f":"NAMES!$C$9","v":"Date"}]
[null,null,{"$f":"NAMES!$C$8","v":"Singles"},null,{"$f":"NAMES!$C$174","v":"BLOCK 5"}]
[null,null,"Name",null,"Name","Margin","Peels","Time","Day"]
[null,1,"","beat","",0,"","00:00:00","00:00:00"]
[null,2,"","beat","",0,"","00:00:00","00:00:00"]
[null,3,"","beat","",0,"","00:00:00","00:00:00"]
[null,4,"","beat","",0,"","00:00:00","00:00:00"]
[null,5,"","beat","",0,"","00:00:00","00:00:00"]
[null,6,"","beat","",0,"","00:00:00","00:00:00"]
[null,7,"","beat","",0,"","00:00:00","00:00:00"]
[null,8,"","beat","",0,"","00:00:00","00:00:00"]
[null,9,"","beat","",0,"","00:00:00","00:00:00"]
[null,10,"","beat","",0,"","00:00:00","00:00:00"]
[null,11,"","beat","",0,"","00:00:00","00:00:00"]
[null,12,"","beat","",0,"","00:00:00","00:00:00"]
[null,13,"","beat","",0,"","00:00:00","00:00:00"]
[null,14,"","beat","",0,"","00:00:00","00:00:00"]
[null,15,"","beat","",0,"","00:00:00","00:00:00"]
[null,16,"","beat","",0,"","00:00:00","00:00:00"]
[null,17,"","beat","",0,"","00:00:00","00:00:00"]
[null,18,"","beat","",0,"","00:00:00","00:00:00"]
[null,19,"","beat","",0,"","00:00:00","00:00:00"]
[null,20,"","beat","",0,"","00:00:00","00:00:00"]
[null,21,"","beat","",0,"","00:00:00","00:00:00"]
[null,22,"","beat","",0,"","00:00:00","00:00:00"]
[null,23,"","beat","",0,"","00:00:00","00:00:00"]
[null,24,"","beat","",0,"","00:00:00","00:00:00"]
[null,25,"","beat","",0,"","00:00:00","00:00:00"]
[null,26,"","beat","",0,"","00:00:00","00:00:00"]
[null,27,"","beat","",0,"","00:00:00","00:00:00"]
[null,28,"","beat","",0,"","00:00:00","00:00:00"]

{"sheet":"HANDICAP CARD","index":12,"n_rows":400,"n_cols":21,"rows_kept":400,"cut":false,"hidden":false,"merged":[[81,17,81,18],[81,28,82,28],[82,22,82,23],[230,13,230,14],[230,24,231,24],[231,18,231,19],[111,13,111,14],[121,13,121,14],[91,13,91,14],[191,13,191,14],[81,13,81,14],[101,13,101,14],[211,13,211,14],[171,13,171,14],[181,13,181,14],[71,12,72,12],[81,12,82,12],[231,12,232,12],[241,12,242,12],[251,12,252,12],[132,6,132,7],[171,1,171,2],[172,6,172,7],[181,1,181,2],[171,12,172,12],[181,12,182,12],[92,6,92,7],[101,1,101,2],[101,12,102,12],[391,12,392,12],[381,12,382,12],[111,12,112,12],[121,12,122,12],[131,12,132,12],[141,12,142,12],[0,1,0,11],[1,1,1,2],[1,13,1,14],[2,6,2,7],[1,12,2,12],[11,13,11,14],[31,1,31,2],[32,6,32,7],[41,1,41,2],[11,1,11,2],[12,6,12,7],[21,1,21,2],[22,6,22,7],[11,12,12,12],[41,12,42,12],[21,12,22,12],[31,12,32,12],[21,13,21,14],[31,13,31,14],[41,13,41,14],[51,13,51,14],[61,13,61,14],[71,13,71,14],[42,6,42,7],[131,1,131,2],[131,13,131,14],[71,1,71,2],[81,1,81,2],[80,1,80,11],[111,1,111,2],[72,6,72,7],[82,6,82,7],[91,1,91,2],[102,6,102,7],[91,12,92,12],[112,6,112,7],[121,1,121,2],[122,6,122,7],[51,12,52,12],[61,12,62,12],[51,1,51,2],[52,6,52,7],[61,1,61,2],[62,6,62,7],[141,1,141,2],[141,13,141,14],[151,13,151,14],[151,12,152,12],[152,6,152,7],[161,1,161,2],[161,13,161,14],[160,1,160,11],[161,12,162,12],[182,6,182,7],[142,6,142,7],[151,1,151,2],[162,6,162,7],[212,6,212,7],[221,13,221,14],[222,6,222,7],[211,12,212,12],[221,12,222,12],[192,6,192,7],[201,1,201,2],[201,13,201,14],[191,12,192,12],[201,12,202,12],[202,6,202,7],[211,1,211,2],[191,1,191,2],[221,1,221,2],[231,1,231,2],[281,1,281,2],[281,13,281,14],[271,12,272,12],[281,12,282,12],[282,6,282,7],[291,1,291,2],[291,13,291,14],[261,13,261,14],[262,6,262,7],[261,12,262,12],[271,1,271,2],[271,13,271,14],[272,6,272,7],[252,6,252,7],[232,6,232,7],[261,1,261,2],[241,13,241,14],[242,6,242,7],[251,1,251,2],[251,13,251,14],[241,1,241,2],[240,1,240,11],[362,6,362,7],[321,1,321,2],[321,13,321,14],[322,6,322,7],[321,12,322,12],[331,1,331,2],[331,13,331,14],[292,6,292,7],[291,12,292,12],[301,1,301,2],[301,13,301,14],[302,6,302,7],[311,1,311,2],[311,13,311,14],[301,12,302,12],[311,12,312,12],[312,6,312,7],[391,1,391,2],[391,13,391,14],[392,6,392,7],[320,1,320,11],[372,6,372,7],[381,1,381,2],[381,13,381,14],[382,6,382,7],[361,1,361,2],[361,13,361,14],[371,1,371,2],[371,13,371,14],[342,6,342,7],[351,1,351,2],[351,13,351,14],[352,6,352,7],[351,12,352,12],[361,12,362,12],[371,12,372,12],[332,6,332,7],[341,1,341,2],[341,13,341,14],[331,12,332,12],[341,12,342,12]]}
[null,{"$f":"SEED!$D$4","v":"BLOCK 1"}]
[null,"Player",null,{"$f":"SEED!$D$6","v":" Block 1 Player 1"},null,null,"Start H/C",{"$f":"SEED!$E$6","v":0},"New H/C",{"$f":"VLOOKUP(D2,HCTableBlk1,2,FALSE)","v":0},"Start Index",{"$f":"SEED!$C$6","v":0},"HC Change Indicator","BLOCK 1"]
[null,"Date","Event","Opponent","Op Hcap","Lev / Hcap","Score",null,"Won / Lost","Change +/-",null,"New Index",null,"Player","H/C","Temp H/C",null,null,null,"HC Change Flags"]
[null,{"$f":"NAMES!$C$9","v":"Date"},{"$f":"NAMES!$C$7","v":"Tournament"},{"$f":"PLAYER!F8","v":" Block 1 Player 3"},{"$f":"IF(UPPER(TRIM($D$4))=\"BYE\",\"-\",VLOOKUP($D$4,HCTableBlk1,2,FALSE))","v":0},{"$f":"IF(HandicapPlay=\"x\",\"H\",\"L\")","v":"L"},{"$f":"IF(UPPER(TRIM(D4))=\"BYE\",\"0\",PLAYER!J8)","v":-1E-3},{"$f":"IF(UPPER(TRIM(D4))=\"BYE\",\"0\",PLAYER!K8)","v":-1E-3},{"$f":"IF(UPPER(TRIM(D4))=\"BYE\",\"-\",IF(G4<0,\"\",(IF(G4>H4,\"W\",\"L\"))))","v":""},null,null,{"$f":"IF(J4=\"\",\"\",IF((L2+J4)<900,900,(L2+J4)))","v":""},null,{"$f":"SEED!D6","v":" Block 1 Player 1"},{"$f":"SEED!E6","v":0},null,null,{"$f":"IF(UPPER(TRIM($D$4))=\"BYE\",\"-\",VLOOKUP($D$4,HCTableBlk1,2,FALSE))","v":0},null,0,1]
[null,"\"","\"                  \"",{"$f":"PLAYER!F9","v":" Block 1 Player 4"},{"$f":"IF(UPPER(TRIM($D$5))=\"BYE\",\"-\",VLOOKUP($D$5,HCTableBlk1,2,FALSE))","v":0},"L",{"$f":"IF(UPPER(TRIM(D5))=\"BYE\",\"0\",PLAYER!J9)","v":-1E-3},{"$f":"IF(UPPER(TRIM(D5))=\"BYE\",\"0\",PLAYER!K9)","v":-1E-3},{"$f":"IF(UPPER(TRIM(D5))=\"BYE\",\"-\",IF(G5<0,\"\",(IF(G5>H5,\"W\",\"L\"))))","v":""},null,null,{"$f":"IF(J5=\"\",\"\",IF((L4+J5)<900,900,(L4+J5)))","v":""},null,{"$f":"SEED!D7","v":" Block 1 Player 2"},{"$f":"SEED!E7","v":0},null,null,{"$f":"IF(UPPER(TRIM($D$5))=\"BYE\",\"-\",VLOOKUP($D$5,HCTableBlk1,2,FALSE))","v":0},null,0,2]
[null,"\"","\"                  \"",{"$f":"PLAYER!F10","v":" Block 1 Player 5"},{"$f":"IF(UPPER(TRIM($D$6))=\"BYE\",\"-\",VLOOKUP($D$6,HCTableBlk1,2,FALSE))","v":0},"L",{"$f":"IF(UPPER(TRIM(D6))=\"BYE\",\"0\",PLAYER!J10)","v":-1E-3},{"$f":"IF(UPPER(TRIM(D6))=\"BYE\",\"0\",PLAYER!K10)","v":-1E-3},"",null,null,"",null,{"$f":"SEED!D8","v":" Block 1 Player 3"},{"$f":"SEED!E8","v":0},null,null,{"$f":"IF(UPPER(TRIM($D$6))=\"BYE\",\"-\",VLOOKUP($D$6,HCTableBlk1,2,FALSE))","v":0},null,0,3]
[null,"\"","\"                  \"",{"$f":"PLAYER!F11","v":" Block 1 Player 6"},{"$f":"IF(UPPER(TRIM($D$7))=\"BYE\",\"-\",VLOOKUP($D$7,HCTableBlk1,2,FALSE))","v":0},"L",{"$f":"IF(UPPER(TRIM(D7))=\"BYE\",\"0\",PLAYER!J11)","v":-1E-3},{"$f":"IF(UPPER(TRIM(D7))=\"BYE\",\"0\",PLAYER!K11)","v":-1E-3},"",null,null,"",null,{"$f":"SEED!D9","v":" Block 1 Player 4"},{"$f":"SEED!E9","v":0},null,null,{"$f":"IF(UPPER(TRIM($D$7))=\"BYE\",\"-\",VLOOKUP($D$7,HCTableBlk1,2,FALSE))","v":0},null,0,4]
[null,"\"","\"                  \"",{"$f":"PLAYER!F12","v":" Block 1 Player 7"},{"$f":"IF(UPPER(TRIM($D$8))=\"BYE\",\"-\",VLOOKUP($D$8,HCTableBlk1,2,FALSE))","v":0},"L",{"$f":"IF(UPPER(TRIM(D8))=\"BYE\",\"0\",PLAYER!J12)","v":-1E-3},{"$f":"IF(UPPER(TRIM(D8))=\"BYE\",\"0\",PLAYER!K12)","v":-1E-3},"",null,null,"",null,{"$f":"SEED!D10","v":" Block 1 Player 5"},{"$f":"SEED!E10","v":0},null,null,{"$f":"IF(UPPER(TRIM($D$8))=\"BYE\",\"-\",VLOOKUP($D$8,HCTableBlk1,2,FALSE))","v":0},null,0,5]
[null,"\"","\"                  \"",{"$f":"PLAYER!F13","v":" Bye "},{"$f":"IF(UPPER(TRIM($D$9))=\"BYE\",\"-\",VLOOKUP($D$9,HCTableBlk1,2,FALSE))","v":"-"},"L",{"$f":"IF(UPPER(TRIM(D9))=\"BYE\",\"0\",PLAYER!J13)","v":"0"},{"$f":"IF(UPPER(TRIM(D9))=\"BYE\",\"0\",PLAYER!K13)","v":"0"},"-",null,null,"",null,{"$f":"SEED!D11","v":" Block 1 Player 6"},{"$f":"SEED!E11","v":0},null,null,{"$f":"IF(UPPER(TRIM($D$9))=\"BYE\",\"-\",VLOOKUP($D$9,HCTableBlk1,2,FALSE))","v":"-"},null,0,6]
[null,"\"","\"                  \"",{"$f":"PLAYER!F14","v":" Block 1 Player 2"},{"$f":"IF(UPPER(TRIM($D$10))=\"BYE\",\"-\",VLOOKUP($D$10,HCTableBlk1,2,FALSE))","v":0},"L",{"$f":"IF(UPPER(TRIM(D10))=\"BYE\",\"0\",PLAYER!J14)","v":-1E-3},{"$f":"IF(UPPER(TRIM(D10))=\"BYE\",\"0\",PLAYER!K14)","v":-1E-3},"",null,"Finish >","",null,{"$f":"SEED!D12","v":" Block 1 Player 7"},{"$f":"SEED!E12","v":0},null,null,{"$f":"IF(UPPER(TRIM($D$10))=\"BYE\",\"-\",VLOOKUP($D$10,HCTableBlk1,2,FALSE))","v":0},null,0,7]
[null,null,null,null,null,null,null,null,null,null,null,null,null,{"$f":"SEED!D13","v":" Bye "},{"$f":"SEED!E13","v":0},null,null,null,null,0,"(8)"]
[null,"Player",null,{"$f":"SEED!$D$7","v":" Block 1 Player 2"},null,null,"Start H/C",{"$f":"SEED!$E$7","v":0},"New H/C",{"$f":"VLOOKUP(D12,HCTableBlk1,2,FALSE)","v":0},"Start Index",{"$f":"SEED!$C$7","v":0},"HC Change Indicator"]
[null,"Date","Event","Opponent","Op Hcap","Lev / Hcap","Score",null,"Won / Lost","Change +/-",null,"New Index"]
[null,{"$f":"NAMES!$C$9","v":"Date"},{"$f":"NAMES!$C$7","v":"Tournament"},{"$f":"PLAYER!F60","v":" Block 1 Player 4"},{"$f":"IF(UPPER(TRIM($D$14))=\"BYE\",\"-\",VLOOKUP($D$14,HCTableBlk1,2,FALSE))","v":0},{"$f":"IF(HandicapPlay=\"x\",\"H\",\"L\")","v":"L"},{"$f":"IF(UPPER(TRIM(D14))=\"BYE\",\"0\",PLAYER!J60)","v":-1E-3},{"$f":"IF(UPPER(TRIM(D14))=\"BYE\",\"0\",PLAYER!K60)","v":-1E-3},{"$f":"IF(UPPER(TRIM(D14))=\"BYE\",\"-\",IF(G14<0,\"\",(IF(G14>H14,\"W\",\"L\"))))","v":""},null,null,{"$f":"IF(J14=\"\",\"\",IF((L12+J14)<900,900,(L12+J14)))","v":""},null,null,null,null,null,{"$f":"IF(UPPER(TRIM($D$14))=\"BYE\",\"-\",VLOOKUP($D$14,HCTableBlk1,2,FALSE))","v":0}]
[null,"\"","\"                  \"",{"$f":"PLAYER!F61","v":" Block 1 Player 6"},{"$f":"IF(UPPER(TRIM($D$15))=\"BYE\",\"-\",VLOOKUP($D$15,HCTableBlk1,2,FALSE))","v":0},"L",{"$f":"IF(UPPER(TRIM(D15))=\"BYE\",\"0\",PLAYER!J61)","v":-1E-3},{"$f":"IF(UPPER(TRIM(D15))=\"BYE\",\"0\",PLAYER!K61)","v":-1E-3},{"$f":"IF(UPPER(TRIM(D15))=\"BYE\",\"-\",IF(G15<0,\"\",(IF(G15>H15,\"W\",\"L\"))))","v":""},null,null,{"$f":"IF(J15=\"\",\"\",IF((L14+J15)<900,900,(L14+J15)))","v":""},null,null,null,null,null,{"$f":"IF(UPPER(TRIM($D$15))=\"BYE\",\"-\",VLOOKUP($D$15,HCTableBlk1,2,FALSE))","v":0}]
[null,"\"","\"                  \"",{"$f":"PLAYER!F62","v":" Bye "},{"$f":"IF(UPPER(TRIM($D$16))=\"BYE\",\"-\",VLOOKUP($D$16,HCTableBlk1,2,FALSE))","v":"-"},"L",{"$f":"IF(UPPER(TRIM(D16))=\"BYE\",\"0\",PLAYER!J62)","v":"0"},{"$f":"IF(UPPER(TRIM(D16))=\"BYE\",\"0\",PLAYER!K62)","v":"0"},"-",null,null,"",null,null,null,null,null,{"$f":"IF(UPPER(TRIM($D$16))=\"BYE\",\"-\",VLOOKUP($D$16,HCTableBlk1,2,FALSE))","v":"-"}]
[null,"\"","\"                  \"",{"$f":"PLAYER!F63","v":" Block 1 Player 3"},{"$f":"IF(UPPER(TRIM($D$17))=\"BYE\",\"-\",VLOOKUP($D$17,HCTableBlk1,2,FALSE))","v":0},"L",{"$f":"IF(UPPER(TRIM(D17))=\"BYE\",\"0\",PLAYER!J63)","v":-1E-3},{"$f":"IF(UPPER(TRIM(D17))=\"BYE\",\"0\",PLAYER!K63)","v":-1E-3},"",null,null,"",null,null,null,null,null,{"$f":"IF(UPPER(TRIM($D$17))=\"BYE\",\"-\",VLOOKUP($D$17,HCTableBlk1,2,FALSE))","v":0}]
[null,"\"","\"                  \"",{"$f":"PLAYER!F64","v":" Block 1 Player 5"},{"$f":"IF(UPPER(TRIM($D$18))=\"BYE\",\"-\",VLOOKUP($D$18,HCTableBlk1,2,FALSE))","v":0},"L",{"$f":"IF(UPPER(TRIM(D18))=\"BYE\",\"0\",PLAYER!J64)","v":-1E-3},{"$f":"IF(UPPER(TRIM(D18))=\"BYE\",\"0\",PLAYER!K64)","v":-1E-3},"",null,null,"",null,null,null,null,null,{"$f":"IF(UPPER(TRIM($D$18))=\"BYE\",\"-\",VLOOKUP($D$18,HCTableBlk1,2,FALSE))","v":0}]
[null,"\"","\"                  \"",{"$f":"PLAYER!F65","v":" Block 1 Player 7"},{"$f":"IF(UPPER(TRIM($D$19))=\"BYE\",\"-\",VLOOKUP($D$19,HCTableBlk1,2,FALSE))","v":0},"L",{"$f":"IF(UPPER(TRIM(D19))=\"BYE\",\"0\",PLAYER!J65)","v":-1E-3},{"$f":"IF(UPPER(TRIM(D19))=\"BYE\",\"0\",PLAYER!K65)","v":-1E-3},"",null,null,"",null,null,null,null,null,{"$f":"IF(UPPER(TRIM($D$19))=\"BYE\",\"-\",VLOOKUP($D$19,HCTableBlk1,2,FALSE))","v":0}]
[null,"\"","\"                  \"",{"$f":"PLAYER!F66","v":" Block 1 Player 1"},{"$f":"IF(UPPER(TRIM($D$20))=\"BYE\",\"-\",VLOOKUP($D$20,HCTableBlk1,2,FALSE))","v":0},"L",{"$f":"IF(UPPER(TRIM(D20))=\"BYE\",\"0\",PLAYER!J66)","v":-1E-3},{"$f":"IF(UPPER(TRIM(D20))=\"BYE\",\"0\",PLAYER!K66)","v":-1E-3},"",null,"Finish >","",null,null,null,null,null,{"$f":"IF(UPPER(TRIM($D$20))=\"BYE\",\"-\",VLOOKUP($D$20,HCTableBlk1,2,FALSE))","v":0}]
[]
[null,"Player",null,{"$f":"SEED!$D$8","v":" Block 1 Player 3"},null,null,"Start H/C",{"$f":"SEED!$E$8","v":0},"New H/C",{"$f":"VLOOKUP(D22,HCTableBlk1,2,FALSE)","v":0},"Start Index",{"$f":"SEED!$C$8","v":0},"HC Change Indicator"]
[null,"Date","Event","Opponent","Op Hcap","Lev / Hcap","Score",null,"Won / Lost","Change +/-",null,"New Index"]
[null,{"$f":"NAMES!$C$9","v":"Date"},{"$f":"NAMES!$C$7","v":"Tournament"},{"$f":"PLAYER!F112","v":" Block 1 Player 1"},{"$f":"IF(UPPER(TRIM($D$24))=\"BYE\",\"-\",VLOOKUP($D$24,HCTableBlk1,2,FALSE))","v":0},{"$f":"IF(HandicapPlay=\"x\",\"H\",\"L\")","v":"L"},{"$f":"IF(UPPER(TRIM(D24))=\"BYE\",\"0\",PLAYER!J112)","v":-1E-3},{"$f":"IF(UPPER(TRIM(D24))=\"BYE\",\"0\",PLAYER!K112)","v":-1E-3},{"$f":"IF(UPPER(TRIM(D24))=\"BYE\",\"-\",IF(G24<0,\"\",(IF(G24>H24,\"W\",\"L\"))))","v":""},null,null,{"$f":"IF(J24=\"\",\"\",IF((L22+J24)<900,900,(L22+J24)))","v":""},null,null,null,null,null,{"$f":"IF(UPPER(TRIM($D$24))=\"BYE\",\"-\",VLOOKUP($D$24,HCTableBlk1,2,FALSE))","v":0}]
[null,"\"","\"                  \"",{"$f":"PLAYER!F113","v":" Block 1 Player 5"},{"$f":"IF(UPPER(TRIM($D$25))=\"BYE\",\"-\",VLOOKUP($D$25,HCTableBlk1,2,FALSE))","v":0},"L",{"$f":"IF(UPPER(TRIM(D25))=\"BYE\",\"0\",PLAYER!J113)","v":-1E-3},{"$f":"IF(UPPER(TRIM(D25))=\"BYE\",\"0\",PLAYER!K113)","v":-1E-3},{"$f":"IF(UPPER(TRIM(D25))=\"BYE\",\"-\",IF(G25<0,\"\",(IF(G25>H25,\"W\",\"L\"))))","v":""},null,null,{"$f":"IF(J25=\"\",\"\",IF((L24+J25)<900,900,(L24+J25)))","v":""},null,null,null,null,null,{"$f":"IF(UPPER(TRIM($D$25))=\"BYE\",\"-\",VLOOKUP($D$25,HCTableBlk1,2,FALSE))","v":0}]
[null,"\"","\"                  \"",{"$f":"PLAYER!F114","v":" Block 1 Player 7"},{"$f":"IF(UPPER(TRIM($D$26))=\"BYE\",\"-\",VLOOKUP($D$26,HCTableBlk1,2,FALSE))","v":0},"L",{"$f":"IF(UPPER(TRIM(D26))=\"BYE\",\"0\",PLAYER!J114)","v":-1E-3},{"$f":"IF(UPPER(TRIM(D26))=\"BYE\",\"0\",PLAYER!K114)","v":-1E-3},"",null,null,"",null,null,null,null,null,{"$f":"IF(UPPER(TRIM($D$26))=\"BYE\",\"-\",VLOOKUP($D$26,HCTableBlk1,2,FALSE))","v":0}]
[null,"\"","\"                  \"",{"$f":"PLAYER!F115","v":" Block 1 Player 2"},{"$f":"IF(UPPER(TRIM($D$27))=\"BYE\",\"-\",VLOOKUP($D$27,HCTableBlk1,2,FALSE))","v":0},"L",{"$f":"IF(UPPER(TRIM(D27))=\"BYE\",\"0\",PLAYER!J115)","v":-1E-3},{"$f":"IF(UPPER(TRIM(D27))=\"BYE\",\"0\",PLAYER!K115)","v":-1E-3},"",null,null,"",null,null,null,null,null,{"$f":"IF(UPPER(TRIM($D$27))=\"BYE\",\"-\",VLOOKUP($D$27,HCTableBlk1,2,FALSE))","v":0}]
[null,"\"","\"                  \"",{"$f":"PLAYER!F116","v":" Block 1 Player 4"},{"$f":"IF(UPPER(TRIM($D$28))=\"BYE\",\"-\",VLOOKUP($D$28,HCTableBlk1,2,FALSE))","v":0},"L",{"$f":"IF(UPPER(TRIM(D28))=\"BYE\",\"0\",PLAYER!J116)","v":-1E-3},{"$f":"IF(UPPER(TRIM(D28))=\"BYE\",\"0\",PLAYER!K116)","v":-1E-3},"",null,null,"",null,null,null,null,null,{"$f":"IF(UPPER(TRIM($D$28))=\"BYE\",\"-\",VLOOKUP($D$28,HCTableBlk1,2,FALSE))","v":0}]
[null,"\"","\"                  \"",{"$f":"PLAYER!F117","v":" Block 1 Player 6"},{"$f":"IF(UPPER(TRIM($D$29))=\"BYE\",\"-\",VLOOKUP($D$29,HCTableBlk1,2,FALSE))","v":0},"L",{"$f":"IF(UPPER(TRIM(D29))=\"BYE\",\"0\",PLAYER!J117)","v":-1E-3},{"$f":"IF(UPPER(TRIM(D29))=\"BYE\",\"0\",PLAYER!K117)","v":-1E-3},"",null,null,"",null,null,null,null,null,{"$f":"IF(UPPER(TRIM($D$29))=\"BYE\",\"-\",VLOOKUP($D$29,HCTableBlk1,2,FALSE))","v":0}]
[null,"\"","\"                  \"",{"$f":"PLAYER!F118","v":" Bye "},{"$f":"IF(UPPER(TRIM($D$30))=\"BYE\",\"-\",VLOOKUP($D$30,HCTableBlk1,2,FALSE))","v":"-"},"L",{"$f":"IF(UPPER(TRIM(D30))=\"BYE\",\"0\",PLAYER!J118)","v":"0"},{"$f":"IF(UPPER(TRIM(D30))=\"BYE\",\"0\",PLAYER!K118)","v":"0"},"-",null,"Finish >","",null,null,null,null,null,{"$f":"IF(UPPER(TRIM($D$30))=\"BYE\",\"-\",VLOOKUP($D$30,HCTableBlk1,2,FALSE))","v":"-"}]
[]
[null,"Player",null,{"$f":"SEED!$D$9","v":" Block 1 Player 4"},null,null,"Start H/C",{"$f":"SEED!$E$9","v":0},"New H/C",{"$f":"VLOOKUP(D32,HCTableBlk1,2,FALSE)","v":0},"Start Index",{"$f":"SEED!$C$9","v":0},"HC Change Indicator"]
[null,"Date","Event","Opponent","Op Hcap","Lev / Hcap","Score",null,"Won / Lost","Change +/-",null,"New Index"]
[null,{"$f":"NAMES!$C$9","v":"Date"},{"$f":"NAMES!$C$7","v":"Tournament"},{"$f":"PLAYER!F164","v":" Block 1 Player 2"},{"$f":"IF(UPPER(TRIM($D$34))=\"BYE\",\"-\",VLOOKUP($D$34,HCTableBlk1,2,FALSE))","v":0},{"$f":"IF(HandicapPlay=\"x\",\"H\",\"L\")","v":"L"},{"$f":"IF(UPPER(TRIM(D34))=\"BYE\",\"0\",PLAYER!J164)","v":-1E-3},{"$f":"IF(UPPER(TRIM(D34))=\"BYE\",\"0\",PLAYER!K164)","v":-1E-3},{"$f":"IF(UPPER(TRIM(D34))=\"BYE\",\"-\",IF(G34<0,\"\",(IF(G34>H34,\"W\",\"L\"))))","v":""},null,null,{"$f":"IF(J34=\"\",\"\",IF((L32+J34)<900,900,(L32+J34)))","v":""},null,null,null,null,null,{"$f":"IF(UPPER(TRIM($D$34))=\"BYE\",\"-\",VLOOKUP($D$34,HCTableBlk1,2,FALSE))","v":0}]
[null,"\"","\"                  \"",{"$f":"PLAYER!F165","v":" Block 1 Player 1"},{"$f":"IF(UPPER(TRIM($D$35))=\"BYE\",\"-\",VLOOKUP($D$35,HCTableBlk1,2,FALSE))","v":0},"L",{"$f":"IF(UPPER(TRIM(D35))=\"BYE\",\"0\",PLAYER!J165)","v":-1E-3},{"$f":"IF(UPPER(TRIM(D35))=\"BYE\",\"0\",PLAYER!K165)","v":-1E-3},{"$f":"IF(UPPER(TRIM(D35))=\"BYE\",\"-\",IF(G35<0,\"\",(IF(G35>H35,\"W\",\"L\"))))","v":""},null,null,{"$f":"IF(J35=\"\",\"\",IF((L34+J35)<900,900,(L34+J35)))","v":""},null,null,null,null,null,{"$f":"IF(UPPER(TRIM($D$35))=\"BYE\",\"-\",VLOOKUP($D$35,HCTableBlk1,2,FALSE))","v":0}]
[null,"\"","\"                  \"",{"$f":"PLAYER!F166","v":" Block 1 Player 6"},{"$f":"IF(UPPER(TRIM($D$36))=\"BYE\",\"-\",VLOOKUP($D$36,HCTableBlk1,2,FALSE))","v":0},"L",{"$f":"IF(UPPER(TRIM(D36))=\"BYE\",\"0\",PLAYER!J166)","v":-1E-3},{"$f":"IF(UPPER(TRIM(D36))=\"BYE\",\"0\",PLAYER!K166)","v":-1E-3},"",null,null,"",null,null,null,null,null,{"$f":"IF(UPPER(TRIM($D$36))=\"BYE\",\"-\",VLOOKUP($D$36,HCTableBlk1,2,FALSE))","v":0}]
[null,"\"","\"                  \"",{"$f":"PLAYER!F167","v":" Bye "},{"$f":"IF(UPPER(TRIM($D$37))=\"BYE\",\"-\",VLOOKUP($D$37,HCTableBlk1,2,FALSE))","v":"-"},"L",{"$f":"IF(UPPER(TRIM(D37))=\"BYE\",\"0\",PLAYER!J167)","v":"0"},{"$f":"IF(UPPER(TRIM(D37))=\"BYE\",\"0\",PLAYER!K167)","v":"0"},"-",null,null,"",null,null,null,null,null,{"$f":"IF(UPPER(TRIM($D$37))=\"BYE\",\"-\",VLOOKUP($D$37,HCTableBlk1,2,FALSE))","v":"-"}]
[null,"\"","\"                  \"",{"$f":"PLAYER!F168","v":" Block 1 Player 3"},{"$f":"IF(UPPER(TRIM($D$38))=\"BYE\",\"-\",VLOOKUP($D$38,HCTableBlk1,2,FALSE))","v":0},"L",{"$f":"IF(UPPER(TRIM(D38))=\"BYE\",\"0\",PLAYER!J168)","v":-1E-3},{"$f":"IF(UPPER(TRIM(D38))=\"BYE\",\"0\",PLAYER!K168)","v":-1E-3},"",null,null,"",null,null,null,null,null,{"$f":"IF(UPPER(TRIM($D$38))=\"BYE\",\"-\",VLOOKUP($D$38,HCTableBlk1,2,FALSE))","v":0}]
[null,"\"","\"                  \"",{"$f":"PLAYER!F169","v":" Block 1 Player 5"},{"$f":"IF(UPPER(TRIM($D$39))=\"BYE\",\"-\",VLOOKUP($D$39,HCTableBlk1,2,FALSE))","v":0},"L",{"$f":"IF(UPPER(TRIM(D39))=\"BYE\",\"0\",PLAYER!J169)","v":-1E-3},{"$f":"IF(UPPER(TRIM(D39))=\"BYE\",\"0\",PLAYER!K169)","v":-1E-3},"",null,null,"",null,null,null,null,null,{"$f":"IF(UPPER(TRIM($D$39))=\"BYE\",\"-\",VLOOKUP($D$39,HCTableBlk1,2,FALSE))","v":0}]
[null,"\"","\"                  \"",{"$f":"PLAYER!F170","v":" Block 1 Player 7"},{"$f":"IF(UPPER(TRIM($D$40))=\"BYE\",\"-\",VLOOKUP($D$40,HCTableBlk1,2,FALSE))","v":0},"L",{"$f":"IF(UPPER(TRIM(D40))=\"BYE\",\"0\",PLAYER!J170)","v":-1E-3},{"$f":"IF(UPPER(TRIM(D40))=\"BYE\",\"0\",PLAYER!K170)","v":-1E-3},"",null,"Finish >","",null,null,null,null,null,{"$f":"IF(UPPER(TRIM($D$40))=\"BYE\",\"-\",VLOOKUP($D$40,HCTableBlk1,2,FALSE))","v":0}]
[]
[null,"Player",null,{"$f":"SEED!$D$10","v":" Block 1 Player 5"},null,null,"Start H/C",{"$f":"SEED!$E$10","v":0},"New H/C",{"$f":"VLOOKUP(D42,HCTableBlk1,2,FALSE)","v":0},"Start Index",{"$f":"SEED!$C$10","v":0},"HC Change Indicator"]
[null,"Date","Event","Opponent","Op Hcap","Lev / Hcap","Score",null,"Won / Lost","Change +/-",null,"New Index"]
[null,{"$f":"NAMES!$C$9","v":"Date"},{"$f":"NAMES!$C$7","v":"Tournament"},{"$f":"PLAYER!F216","v":" Bye "},{"$f":"IF(UPPER(TRIM($D$44))=\"BYE\",\"-\",VLOOKUP($D$44,HCTableBlk1,2,FALSE))","v":"-"},{"$f":"IF(HandicapPlay=\"x\",\"H\",\"L\")","v":"L"},{"$f":"IF(UPPER(TRIM(D44))=\"BYE\",\"0\",PLAYER!J216)","v":"0"},{"$f":"IF(UPPER(TRIM(D44))=\"BYE\",\"0\",PLAYER!K216)","v":"0"},{"$f":"IF(UPPER(TRIM(D44))=\"BYE\",\"-\",IF(G44<0,\"\",(IF(G44>H44,\"W\",\"L\"))))","v":"-"},null,null,{"$f":"IF(J44=\"\",\"\",IF((L42+J44)<900,900,(L42+J44)))","v":""},null,null,null,null,null,{"$f":"IF(UPPER(TRIM($D$44))=\"BYE\",\"-\",VLOOKUP($D$44,HCTableBlk1,2,FALSE))","v":"-"}]
[null,"\"","\"                  \"",{"$f":"PLAYER!F217","v":" Block 1 Player 3"},{"$f":"IF(UPPER(TRIM($D$45))=\"BYE\",\"-\",VLOOKUP($D$45,HCTableBlk1,2,FALSE))","v":0},"L",{"$f":"IF(UPPER(TRIM(D45))=\"BYE\",\"0\",PLAYER!J217)","v":-1E-3},{"$f":"IF(UPPER(TRIM(D45))=\"BYE\",\"0\",PLAYER!K217)","v":-1E-3},{"$f":"IF(UPPER(TRIM(D45))=\"BYE\",\"-\",IF(G45<0,\"\",(IF(G45>H45,\"W\",\"L\"))))","v":""},null,null,{"$f":"IF(J45=\"\",\"\",IF((L44+J45)<900,900,(L44+J45)))","v":""},null,null,null,null,null,{"$f":"IF(UPPER(TRIM($D$45))=\"BYE\",\"-\",VLOOKUP($D$45,HCTableBlk1,2,FALSE))","v":0}]
[null,"\"","\"                  \"",{"$f":"PLAYER!F218","v":" Block 1 Player 1"},{"$f":"IF(UPPER(TRIM($D$46))=\"BYE\",\"-\",VLOOKUP($D$46,HCTableBlk1,2,FALSE))","v":0},"L",{"$f":"IF(UPPER(TRIM(D46))=\"BYE\",\"0\",PLAYER!J218)","v":-1E-3},{"$f":"IF(UPPER(TRIM(D46))=\"BYE\",\"0\",PLAYER!K218)","v":-1E-3},"",null,null,"",null,null,null,null,null,{"$f":"IF(UPPER(TRIM($D$46))=\"BYE\",\"-\",VLOOKUP($D$46,HCTableBlk1,2,FALSE))","v":0}]
[null,"\"","\"                  \"",{"$f":"PLAYER!F219","v":" Block 1 Player 7"},{"$f":"IF(UPPER(TRIM($D$47))=\"BYE\",\"-\",VLOOKUP($D$47,HCTableBlk1,2,FALSE))","v":0},"L",{"$f":"IF(UPPER(TRIM(D47))=\"BYE\",\"0\",PLAYER!J219)","v":-1E-3},{"$f":"IF(UPPER(TRIM(D47))=\"BYE\",\"0\",PLAYER!K219)","v":-1E-3},"",null,null,"",null,null,null,null,null,{"$f":"IF(UPPER(TRIM($D$47))=\"BYE\",\"-\",VLOOKUP($D$47,HCTableBlk1,2,FALSE))","v":0}]
[null,"\"","\"                  \"",{"$f":"PLAYER!F220","v":" Block 1 Player 2"},{"$f":"IF(UPPER(TRIM($D$48))=\"BYE\",\"-\",VLOOKUP($D$48,HCTableBlk1,2,FALSE))","v":0},"L",{"$f":"IF(UPPER(TRIM(D48))=\"BYE\",\"0\",PLAYER!J220)","v":-1E-3},{"$f":"IF(UPPER(TRIM(D48))=\"BYE\",\"0\",PLAYER!K220)","v":-1E-3},"",null,null,"",null,null,null,null,null,{"$f":"IF(UPPER(TRIM($D$48))=\"BYE\",\"-\",VLOOKUP($D$48,HCTableBlk1,2,FALSE))","v":0}]
[null,"\"","\"                  \"",{"$f":"PLAYER!F221","v":" Block 1 Player 4"},{"$f":"IF(UPPER(TRIM($D$49))=\"BYE\",\"-\",VLOOKUP($D$49,HCTableBlk1,2,FALSE))","v":0},"L",{"$f":"IF(UPPER(TRIM(D49))=\"BYE\",\"0\",PLAYER!J221)","v":-1E-3},{"$f":"IF(UPPER(TRIM(D49))=\"BYE\",\"0\",PLAYER!K221)","v":-1E-3},"",null,null,"",null,null,null,null,null,{"$f":"IF(UPPER(TRIM($D$49))=\"BYE\",\"-\",VLOOKUP($D$49,HCTableBlk1,2,FALSE))","v":0}]
[null,"\"","\"                  \"",{"$f":"PLAYER!F222","v":" Block 1 Player 6"},{"$f":"IF(UPPER(TRIM($D$50))=\"BYE\",\"-\",VLOOKUP($D$50,HCTableBlk1,2,FALSE))","v":0},"L",{"$f":"IF(UPPER(TRIM(D50))=\"BYE\",\"0\",PLAYER!J222)","v":-1E-3},{"$f":"IF(UPPER(TRIM(D50))=\"BYE\",\"0\",PLAYER!K222)","v":-1E-3},"",null,"Finish >","",null,null,null,null,null,{"$f":"IF(UPPER(TRIM($D$50))=\"BYE\",\"-\",VLOOKUP($D$50,HCTableBlk1,2,FALSE))","v":0}]
[]
[null,"Player",null,{"$f":"SEED!$D$11","v":" Block 1 Player 6"},null,null,"Start H/C",{"$f":"SEED!$E$11","v":0},"New H/C",{"$f":"VLOOKUP(D52,HCTableBlk1,2,FALSE)","v":0},"Start Index",{"$f":"SEED!$C$11","v":0},"HC Change Indicator"]
[null,"Date","Event","Opponent","Op Hcap","Lev / Hcap","Score",null,"Won / Lost","Change +/-",null,"New Index"]
[null,{"$f":"NAMES!$C$9","v":"Date"},{"$f":"NAMES!$C$7","v":"Tournament"},{"$f":"PLAYER!F268","v":" Block 1 Player 7"},{"$f":"IF(UPPER(TRIM($D$54))=\"BYE\",\"-\",VLOOKUP($D$54,HCTableBlk1,2,FALSE))","v":0},{"$f":"IF(HandicapPlay=\"x\",\"H\",\"L\")","v":"L"},{"$f":"IF(UPPER(TRIM(D54))=\"BYE\",\"0\",PLAYER!J268)","v":-1E-3},{"$f":"IF(UPPER(TRIM(D54))=\"BYE\",\"0\",PLAYER!K268)","v":-1E-3},{"$f":"IF(UPPER(TRIM(D54))=\"BYE\",\"-\",IF(G54<0,\"\",(IF(G54>H54,\"W\",\"L\"))))","v":""},null,null,{"$f":"IF(J54=\"\",\"\",IF((L52+J54)<900,900,(L52+J54)))","v":""},null,null,null,null,null,{"$f":"IF(UPPER(TRIM($D$54))=\"BYE\",\"-\",VLOOKUP($D$54,HCTableBlk1,2,FALSE))","v":0}]
[null,"\"","\"                  \"",{"$f":"PLAYER!F269","v":" Block 1 Player 2"},{"$f":"IF(UPPER(TRIM($D$55))=\"BYE\",\"-\",VLOOKUP($D$55,HCTableBlk1,2,FALSE))","v":0},"L",{"$f":"IF(UPPER(TRIM(D55))=\"BYE\",\"0\",PLAYER!J269)","v":-1E-3},{"$f":"IF(UPPER(TRIM(D55))=\"BYE\",\"0\",PLAYER!K269)","v":-1E-3},{"$f":"IF(UPPER(TRIM(D55))=\"BYE\",\"-\",IF(G55<0,\"\",(IF(G55>H55,\"W\",\"L\"))))","v":""},null,null,{"$f":"IF(J55=\"\",\"\",IF((L54+J55)<900,900,(L54+J55)))","v":""},null,null,null,null,null,{"$f":"IF(UPPER(TRIM($D$55))=\"BYE\",\"-\",VLOOKUP($D$55,HCTableBlk1,2,FALSE))","v":0}]
[null,"\"","\"                  \"",{"$f":"PLAYER!F270","v":" Block 1 Player 4"},{"$f":"IF(UPPER(TRIM($D$56))=\"BYE\",\"-\",VLOOKUP($D$56,HCTableBlk1,2,FALSE))","v":0},"L",{"$f":"IF(UPPER(TRIM(D56))=\"BYE\",\"0\",PLAYER!J270)","v":-1E-3},{"$f":"IF(UPPER(TRIM(D56))=\"BYE\",\"0\",PLAYER!K270)","v":-1E-3},"",null,null,"",null,null,null,null,null,{"$f":"IF(UPPER(TRIM($D$56))=\"BYE\",\"-\",VLOOKUP($D$56,HCTableBlk1,2,FALSE))","v":0}]
[null,"\"","\"                  \"",{"$f":"PLAYER!F271","v":" Block 1 Player 1"},{"$f":"IF(UPPER(TRIM($D$57))=\"BYE\",\"-\",VLOOKUP($D$57,HCTableBlk1,2,FALSE))","v":0},"L",{"$f":"IF(UPPER(TRIM(D57))=\"BYE\",\"0\",PLAYER!J271)","v":-1E-3},{"$f":"IF(UPPER(TRIM(D57))=\"BYE\",\"0\",PLAYER!K271)","v":-1E-3},"",null,null,"",null,null,null,null,null,{"$f":"IF(UPPER(TRIM($D$57))=\"BYE\",\"-\",VLOOKUP($D$57,HCTableBlk1,2,FALSE))","v":0}]
[null,"\"","\"                  \"",{"$f":"PLAYER!F272","v":" Bye "},{"$f":"IF(UPPER(TRIM($D$58))=\"BYE\",\"-\",VLOOKUP($D$58,HCTableBlk1,2,FALSE))","v":"-"},"L",{"$f":"IF(UPPER(TRIM(D58))=\"BYE\",\"0\",PLAYER!J272)","v":"0"},{"$f":"IF(UPPER(TRIM(D58))=\"BYE\",\"0\",PLAYER!K272)","v":"0"},"-",null,null,"",null,null,null,null,null,{"$f":"IF(UPPER(TRIM($D$58))=\"BYE\",\"-\",VLOOKUP($D$58,HCTableBlk1,2,FALSE))","v":"-"}]
[null,"\"","\"                  \"",{"$f":"PLAYER!F273","v":" Block 1 Player 3"},{"$f":"IF(UPPER(TRIM($D$59))=\"BYE\",\"-\",VLOOKUP($D$59,HCTableBlk1,2,FALSE))","v":0},"L",{"$f":"IF(UPPER(TRIM(D59))=\"BYE\",\"0\",PLAYER!J273)","v":-1E-3},{"$f":"IF(UPPER(TRIM(D59))=\"BYE\",\"0\",PLAYER!K273)","v":-1E-3},"",null,null,"",null,null,null,null,null,{"$f":"IF(UPPER(TRIM($D$59))=\"BYE\",\"-\",VLOOKUP($D$59,HCTableBlk1,2,FALSE))","v":0}]
[null,"\"","\"                  \"",{"$f":"PLAYER!F274","v":" Block 1 Player 5"},{"$f":"IF(UPPER(TRIM($D$60))=\"BYE\",\"-\",VLOOKUP($D$60,HCTableBlk1,2,FALSE))","v":0},"L",{"$f":"IF(UPPER(TRIM(D60))=\"BYE\",\"0\",PLAYER!J274)","v":-1E-3},{"$f":"IF(UPPER(TRIM(D60))=\"BYE\",\"0\",PLAYER!K274)","v":-1E-3},"",null,"Finish >","",null,null,null,null,null,{"$f":"IF(UPPER(TRIM($D$60))=\"BYE\",\"-\",VLOOKUP($D$60,HCTableBlk1,2,FALSE))","v":0}]
[]
[null,"Player",null,{"$f":"SEED!$D$12","v":" Block 1 Player 7"},null,null,"Start H/C",{"$f":"SEED!$E$12","v":0},"New H/C",{"$f":"VLOOKUP(D62,HCTableBlk1,2,FALSE)","v":0},"Start Index",{"$f":"SEED!$C$12","v":0},"HC Change Indicator"]
[null,"Date","Event","Opponent","Op Hcap","Lev / Hcap","Score",null,"Won / Lost","Change +/-",null,"New Index"]
[null,{"$f":"NAMES!$C$9","v":"Date"},{"$f":"NAMES!$C$7","v":"Tournament"},{"$f":"PLAYER!F320","v":" Block 1 Player 6"},{"$f":"IF(UPPER(TRIM($D$64))=\"BYE\",\"-\",VLOOKUP($D$64,HCTableBlk1,2,FALSE))","v":0},{"$f":"IF(HandicapPlay=\"x\",\"H\",\"L\")","v":"L"},{"$f":"IF(UPPER(TRIM(D64))=\"BYE\",\"0\",PLAYER!J320)","v":-1E-3},{"$f":"IF(UPPER(TRIM(D64))=\"BYE\",\"0\",PLAYER!K320)","v":-1E-3},{"$f":"IF(UPPER(TRIM(D64))=\"BYE\",\"-\",IF(G64<0,\"\",(IF(G64>H64,\"W\",\"L\"))))","v":""},null,null,{"$f":"IF(J64=\"\",\"\",IF((L62+J64)<900,900,(L62+J64)))","v":""},null,null,null,null,null,{"$f":"IF(UPPER(TRIM($D$64))=\"BYE\",\"-\",VLOOKUP($D$64,HCTableBlk1,2,FALSE))","v":0}]
[null,"\"","\"                  \"",{"$f":"PLAYER!F321","v":" Bye "},{"$f":"IF(UPPER(TRIM($D$65))=\"BYE\",\"-\",VLOOKUP($D$65,HCTableBlk1,2,FALSE))","v":"-"},"L",{"$f":"IF(UPPER(TRIM(D65))=\"BYE\",\"0\",PLAYER!J321)","v":"0"},{"$f":"IF(UPPER(TRIM(D65))=\"BYE\",\"0\",PLAYER!K321)","v":"0"},{"$f":"IF(UPPER(TRIM(D65))=\"BYE\",\"-\",IF(G65<0,\"\",(IF(G65>H65,\"W\",\"L\"))))","v":"-"},null,null,{"$f":"IF(J65=\"\",\"\",IF((L64+J65)<900,900,(L64+J65)))","v":""},null,null,null,null,null,{"$f":"IF(UPPER(TRIM($D$65))=\"BYE\",\"-\",VLOOKUP($D$65,HCTableBlk1,2,FALSE))","v":"-"}]
[null,"\"","\"                  \"",{"$f":"PLAYER!F322","v":" Block 1 Player 3"},{"$f":"IF(UPPER(TRIM($D$66))=\"BYE\",\"-\",VLOOKUP($D$66,HCTableBlk1,2,FALSE))","v":0},"L",{"$f":"IF(UPPER(TRIM(D66))=\"BYE\",\"0\",PLAYER!J322)","v":-1E-3},{"$f":"IF(UPPER(TRIM(D66))=\"BYE\",\"0\",PLAYER!K322)","v":-1E-3},"",null,null,"",null,null,null,null,null,{"$f":"IF(UPPER(TRIM($D$66))=\"BYE\",\"-\",VLOOKUP($D$66,HCTableBlk1,2,FALSE))","v":0}]
[null,"\"","\"                  \"",{"$f":"PLAYER!F323","v":" Block 1 Player 5"},{"$f":"IF(UPPER(TRIM($D$67))=\"BYE\",\"-\",VLOOKUP($D$67,HCTableBlk1,2,FALSE))","v":0},"L",{"$f":"IF(UPPER(TRIM(D67))=\"BYE\",\"0\",PLAYER!J323)","v":-1E-3},{"$f":"IF(UPPER(TRIM(D67))=\"BYE\",\"0\",PLAYER!K323)","v":-1E-3},"",null,null,"",null,null,null,null,null,{"$f":"IF(UPPER(TRIM($D$67))=\"BYE\",\"-\",VLOOKUP($D$67,HCTableBlk1,2,FALSE))","v":0}]
[null,"\"","\"                  \"",{"$f":"PLAYER!F324","v":" Block 1 Player 1"},{"$f":"IF(UPPER(TRIM($D$68))=\"BYE\",\"-\",VLOOKUP($D$68,HCTableBlk1,2,FALSE))","v":0},"L",{"$f":"IF(UPPER(TRIM(D68))=\"BYE\",\"0\",PLAYER!J324)","v":-1E-3},{"$f":"IF(UPPER(TRIM(D68))=\"BYE\",\"0\",PLAYER!K324)","v":-1E-3},"",null,null,"",null,null,null,null,null,{"$f":"IF(UPPER(TRIM($D$68))=\"BYE\",\"-\",VLOOKUP($D$68,HCTableBlk1,2,FALSE))","v":0}]
[null,"\"","\"                  \"",{"$f":"PLAYER!F325","v":" Block 1 Player 2"},{"$f":"IF(UPPER(TRIM($D$69))=\"BYE\",\"-\",VLOOKUP($D$69,HCTableBlk1,2,FALSE))","v":0},"L",{"$f":"IF(UPPER(TRIM(D69))=\"BYE\",\"0\",PLAYER!J325)","v":-1E-3},{"$f":"IF(UPPER(TRIM(D69))=\"BYE\",\"0\",PLAYER!K325)","v":-1E-3},"",null,null,"",null,null,null,null,null,{"$f":"IF(UPPER(TRIM($D$69))=\"BYE\",\"-\",VLOOKUP($D$69,HCTableBlk1,2,FALSE))","v":0}]
[null,"\"","\"                  \"",{"$f":"PLAYER!F326","v":" Block 1 Player 4"},{"$f":"IF(UPPER(TRIM($D$70))=\"BYE\",\"-\",VLOOKUP($D$70,HCTableBlk1,2,FALSE))","v":0},"L",{"$f":"IF(UPPER(TRIM(D70))=\"BYE\",\"0\",PLAYER!J326)","v":-1E-3},{"$f":"IF(UPPER(TRIM(D70))=\"BYE\",\"0\",PLAYER!K326)","v":-1E-3},"",null,"Finish >","",null,null,null,null,null,{"$f":"IF(UPPER(TRIM($D$70))=\"BYE\",\"-\",VLOOKUP($D$70,HCTableBlk1,2,FALSE))","v":0}]
[]
[null,"Player",null,{"$f":"SEED!$D$13","v":" Bye "},null,null,"Start H/C",{"$f":"SEED!$E$13","v":0},"New H/C",{"$f":"VLOOKUP(D72,HCTableBlk1,2,FALSE)","v":0},"Start Index",{"$f":"SEED!$C$13","v":0},"HC Change Indicator"]
[null,"Date","Event","Opponent","Op Hcap","Lev / Hcap","Score",null,"Won / Lost","Change +/-",null,"New Index"]
[null,{"$f":"NAMES!$C$9","v":"Date"},{"$f":"NAMES!$C$7","v":"Tournament"},{"$f":"PLAYER!F372","v":" Block 1 Player 5"},6,{"$f":"IF(HandicapPlay=\"x\",\"H\",\"L\")","v":"L"},{"$f":"PLAYER!J372","v":-1E-3},{"$f":"PLAYER!K372","v":-1E-3},{"$f":"IF(G74<0,\"\",(IF(G74>H74,\"W\",\"L\")))","v":""},null,null,{"$f":"IF(J74=\"\",\"\",L72+J74)","v":""}]
[null,"\"","\"                  \"",{"$f":"PLAYER!F373","v":" Block 1 Player 7"},5,"L",{"$f":"PLAYER!J373","v":-1E-3},{"$f":"PLAYER!K373","v":-1E-3},{"$f":"IF(G75<0,\"\",(IF(G75>H75,\"W\",\"L\")))","v":""},null,null,{"$f":"IF(J75=\"\",\"\",L74+J75)","v":""}]
[null,"\"","\"                  \"",{"$f":"PLAYER!F374","v":" Block 1 Player 2"},4,"L",{"$f":"PLAYER!J374","v":-1E-3},{"$f":"PLAYER!K374","v":-1E-3},"",null,null,""]
[null,"\"","\"                  \"",{"$f":"PLAYER!F375","v":" Block 1 Player 4"},5,"L",{"$f":"PLAYER!J375","v":-1E-3},{"$f":"PLAYER!K375","v":-1E-3},"",null,null,""]
[null,"\"","\"                  \"",{"$f":"PLAYER!F376","v":" Block 1 Player 6"},8,"L",{"$f":"PLAYER!J376","v":-1E-3},{"$f":"PLAYER!K376","v":-1E-3},"",null,null,""]
[null,"\"","\"                  \"",{"$f":"PLAYER!F377","v":" Block 1 Player 1"},5,"L",{"$f":"PLAYER!J377","v":-1E-3},{"$f":"PLAYER!K377","v":-1E-3},"",null,null,""]
[null,"\"","\"                  \"",{"$f":"PLAYER!F378","v":" Block 1 Player 3"},6,"L",{"$f":"PLAYER!J378","v":-1E-3},{"$f":"PLAYER!K378","v":-1E-3},"",null,"Finish >",""]
[null,{"$f":"SEED!$I$4","v":"BLOCK 2"}]
[null,"Player",null,{"$f":"SEED!$I$6","v":" Block 2 Player 1"},null,null,"Start H/C",{"$f":"SEED!$J$6","v":0},"New H/C",{"$f":"VLOOKUP(D82,HCTableBlk2,2,FALSE)","v":0},"Start Index",{"$f":"SEED!$H$6","v":0},"HC Change Indicator","BLOCK 2"]
[null,"Date","Event","Opponent","Op Hcap","Lev / Hcap","Score",null,"Won / Lost","Change +/-",null,"New Index",null,"Player","H/C","Temp H/C",null,null,null,"HC Change Flags"]
[null,{"$f":"NAMES!$C$9","v":"Date"},{"$f":"NAMES!$C$7","v":"Tournament"},{"$f":"PLAYER!F424","v":" Block 2 Player 3"},{"$f":"IF(UPPER(TRIM($D$84))=\"BYE\",\"-\",VLOOKUP($D$84,HCTableBlk2,2,FALSE))","v":0},{"$f":"IF(HandicapPlay=\"x\",\"H\",\"L\")","v":"L"},{"$f":"IF(UPPER(TRIM(D84))=\"BYE\",\"0\",PLAYER!J424)","v":-1E-3},{"$f":"IF(UPPER(TRIM(D84))=\"BYE\",\"0\",PLAYER!K424)","v":-1E-3},{"$f":"IF(UPPER(TRIM(D84))=\"BYE\",\"-\",IF(G84<0,\"\",(IF(G84>H84,\"W\",\"L\"))))","v":""},null,null,{"$f":"IF(J84=\"\",\"\",IF((L82+J84)<900,900,(L82+J84)))","v":""},null,{"$f":"SEED!I6","v":" Block 2 Player 1"},{"$f":"SEED!J6","v":0},null,null,{"$f":"IF(UPPER(TRIM($D$84))=\"BYE\",\"-\",VLOOKUP($D$84,HCTableBlk2,2,FALSE))","v":0},null,0,"9"]
[null,"\"","\"                  \"",{"$f":"PLAYER!F425","v":" Block 2 Player 4"},{"$f":"IF(UPPER(TRIM($D$85))=\"BYE\",\"-\",VLOOKUP($D$85,HCTableBlk2,2,FALSE))","v":0},"L",{"$f":"IF(UPPER(TRIM(D85))=\"BYE\",\"0\",PLAYER!J425)","v":-1E-3},{"$f":"IF(UPPER(TRIM(D85))=\"BYE\",\"0\",PLAYER!K425)","v":-1E-3},{"$f":"IF(UPPER(TRIM(D85))=\"BYE\",\"-\",IF(G85<0,\"\",(IF(G85>H85,\"W\",\"L\"))))","v":""},null,null,{"$f":"IF(J85=\"\",\"\",IF((L84+J85)<900,900,(L84+J85)))","v":""},null,{"$f":"SEED!I7","v":" Block 2 Player 2"},{"$f":"SEED!J7","v":0},null,null,{"$f":"IF(UPPER(TRIM($D$85))=\"BYE\",\"-\",VLOOKUP($D$85,HCTableBlk2,2,FALSE))","v":0},null,0,"10"]
[null,"\"","\"                  \"",{"$f":"PLAYER!F426","v":" Block 2 Player 5"},{"$f":"IF(UPPER(TRIM($D$86))=\"BYE\",\"-\",VLOOKUP($D$86,HCTableBlk2,2,FALSE))","v":0},"L",{"$f":"IF(UPPER(TRIM(D86))=\"BYE\",\"0\",PLAYER!J426)","v":-1E-3},{"$f":"IF(UPPER(TRIM(D86))=\"BYE\",\"0\",PLAYER!K426)","v":-1E-3},"",null,null,"",null,{"$f":"SEED!I8","v":" Block 2 Player 3"},{"$f":"SEED!J8","v":0},null,null,{"$f":"IF(UPPER(TRIM($D$86))=\"BYE\",\"-\",VLOOKUP($D$86,HCTableBlk2,2,FALSE))","v":0},null,0,"11"]
[null,"\"","\"                  \"",{"$f":"PLAYER!F427","v":" Block 2 Player 6"},{"$f":"IF(UPPER(TRIM($D$87))=\"BYE\",\"-\",VLOOKUP($D$87,HCTableBlk2,2,FALSE))","v":0},"L",{"$f":"IF(UPPER(TRIM(D87))=\"BYE\",\"0\",PLAYER!J427)","v":-1E-3},{"$f":"IF(UPPER(TRIM(D87))=\"BYE\",\"0\",PLAYER!K427)","v":-1E-3},"",null,null,"",null,{"$f":"SEED!I9","v":" Block 2 Player 4"},{"$f":"SEED!J9","v":0},null,null,{"$f":"IF(UPPER(TRIM($D$87))=\"BYE\",\"-\",VLOOKUP($D$87,HCTableBlk2,2,FALSE))","v":0},null,0,"12"]
[null,"\"","\"                  \"",{"$f":"PLAYER!F428","v":" Block 2 Player 7"},{"$f":"IF(UPPER(TRIM($D$88))=\"BYE\",\"-\",VLOOKUP($D$88,HCTableBlk2,2,FALSE))","v":0},"L",{"$f":"IF(UPPER(TRIM(D88))=\"BYE\",\"0\",PLAYER!J428)","v":-1E-3},{"$f":"IF(UPPER(TRIM(D88))=\"BYE\",\"0\",PLAYER!K428)","v":-1E-3},"",null,null,"",null,{"$f":"SEED!I10","v":" Block 2 Player 5"},{"$f":"SEED!J10","v":0},null,null,{"$f":"IF(UPPER(TRIM($D$88))=\"BYE\",\"-\",VLOOKUP($D$88,HCTableBlk2,2,FALSE))","v":0},null,0,"13"]
[null,"\"","\"                  \"",{"$f":"PLAYER!F429","v":" Bye "},{"$f":"IF(UPPER(TRIM($D$89))=\"BYE\",\"-\",VLOOKUP($D$89,HCTableBlk2,2,FALSE))","v":"-"},"L",{"$f":"IF(UPPER(TRIM(D89))=\"BYE\",\"0\",PLAYER!J429)","v":"0"},{"$f":"IF(UPPER(TRIM(D89))=\"BYE\",\"0\",PLAYER!K429)","v":"0"},"-",null,null,"",null,{"$f":"SEED!I11","v":" Block 2 Player 6"},{"$f":"SEED!J11","v":0},null,null,{"$f":"IF(UPPER(TRIM($D$89))=\"BYE\",\"-\",VLOOKUP($D$89,HCTableBlk2,2,FALSE))","v":"-"},null,0,"14"]
[null,"\"","\"                  \"",{"$f":"PLAYER!F430","v":" Block 2 Player 2"},{"$f":"IF(UPPER(TRIM($D$90))=\"BYE\",\"-\",VLOOKUP($D$90,HCTableBlk2,2,FALSE))","v":0},"L",{"$f":"IF(UPPER(TRIM(D90))=\"BYE\",\"0\",PLAYER!J430)","v":-1E-3},{"$f":"IF(UPPER(TRIM(D90))=\"BYE\",\"0\",PLAYER!K430)","v":-1E-3},"",null,"Finish >","",null,{"$f":"SEED!I12","v":" Block 2 Player 7"},{"$f":"SEED!J12","v":0},null,null,{"$f":"IF(UPPER(TRIM($D$90))=\"BYE\",\"-\",VLOOKUP($D$90,HCTableBlk2,2,FALSE))","v":0},null,0,"15"]
[null,null,null,null,null,null,null,null,null,null,null,null,null,{"$f":"SEED!I13","v":" Bye "},{"$f":"SEED!J13","v":0},null,null,null,null,0,"(16)"]
[null,"Player",null,{"$f":"SEED!$I$7","v":" Block 2 Player 2"},null,null,"Start H/C",{"$f":"SEED!$J$7","v":0},"New H/C",{"$f":"VLOOKUP(D92,HCTableBlk2,2,FALSE)","v":0},"Start Index",{"$f":"SEED!$H$7","v":0},"HC Change Indicator"]
[null,"Date","Event","Opponent","Op Hcap","Lev / Hcap","Score",null,"Won / Lost","Change +/-",null,"New Index"]
[null,{"$f":"NAMES!$C$9","v":"Date"},{"$f":"NAMES!$C$7","v":"Tournament"},{"$f":"PLAYER!F476","v":" Block 2 Player 4"},{"$f":"IF(UPPER(TRIM($D$94))=\"BYE\",\"-\",VLOOKUP($D$94,HCTableBlk2,2,FALSE))","v":0},{"$f":"IF(HandicapPlay=\"x\",\"H\",\"L\")","v":"L"},{"$f":"IF(UPPER(TRIM(D94))=\"BYE\",\"0\",PLAYER!J476)","v":-1E-3},{"$f":"IF(UPPER(TRIM(D94))=\"BYE\",\"0\",PLAYER!K476)","v":-1E-3},{"$f":"IF(UPPER(TRIM(D94))=\"BYE\",\"-\",IF(G94<0,\"\",(IF(G94>H94,\"W\",\"L\"))))","v":""},null,null,{"$f":"IF(J94=\"\",\"\",IF((L92+J94)<900,900,(L92+J94)))","v":""},null,null,null,null,null,{"$f":"IF(UPPER(TRIM($D$94))=\"BYE\",\"-\",VLOOKUP($D$94,HCTableBlk2,2,FALSE))","v":0}]
[null,"\"","\"                  \"",{"$f":"PLAYER!F477","v":" Block 2 Player 6"},{"$f":"IF(UPPER(TRIM($D$95))=\"BYE\",\"-\",VLOOKUP($D$95,HCTableBlk2,2,FALSE))","v":0},"L",{"$f":"IF(UPPER(TRIM(D95))=\"BYE\",\"0\",PLAYER!J477)","v":-1E-3},{"$f":"IF(UPPER(TRIM(D95))=\"BYE\",\"0\",PLAYER!K477)","v":-1E-3},{"$f":"IF(UPPER(TRIM(D95))=\"BYE\",\"-\",IF(G95<0,\"\",(IF(G95>H95,\"W\",\"L\"))))","v":""},null,null,{"$f":"IF(J95=\"\",\"\",IF((L94+J95)<900,900,(L94+J95)))","v":""},null,null,null,null,null,{"$f":"IF(UPPER(TRIM($D$95))=\"BYE\",\"-\",VLOOKUP($D$95,HCTableBlk2,2,FALSE))","v":0}]
[null,"\"","\"                  \"",{"$f":"PLAYER!F478","v":" Bye "},{"$f":"IF(UPPER(TRIM($D$96))=\"BYE\",\"-\",VLOOKUP($D$96,HCTableBlk2,2,FALSE))","v":"-"},"L",{"$f":"IF(UPPER(TRIM(D96))=\"BYE\",\"0\",PLAYER!J478)","v":"0"},{"$f":"IF(UPPER(TRIM(D96))=\"BYE\",\"0\",PLAYER!K478)","v":"0"},"-",null,null,"",null,null,null,null,null,{"$f":"IF(UPPER(TRIM($D$96))=\"BYE\",\"-\",VLOOKUP($D$96,HCTableBlk2,2,FALSE))","v":"-"}]
[null,"\"","\"                  \"",{"$f":"PLAYER!F479","v":" Block 2 Player 3"},{"$f":"IF(UPPER(TRIM($D$97))=\"BYE\",\"-\",VLOOKUP($D$97,HCTableBlk2,2,FALSE))","v":0},"L",{"$f":"IF(UPPER(TRIM(D97))=\"BYE\",\"0\",PLAYER!J479)","v":-1E-3},{"$f":"IF(UPPER(TRIM(D97))=\"BYE\",\"0\",PLAYER!K479)","v":-1E-3},"",null,null,"",null,null,null,null,null,{"$f":"IF(UPPER(TRIM($D$97))=\"BYE\",\"-\",VLOOKUP($D$97,HCTableBlk2,2,FALSE))","v":0}]
[null,"\"","\"                  \"",{"$f":"PLAYER!F480","v":" Block 2 Player 5"},{"$f":"IF(UPPER(TRIM($D$98))=\"BYE\",\"-\",VLOOKUP($D$98,HCTableBlk2,2,FALSE))","v":0},"L",{"$f":"IF(UPPER(TRIM(D98))=\"BYE\",\"0\",PLAYER!J480)","v":-1E-3},{"$f":"IF(UPPER(TRIM(D98))=\"BYE\",\"0\",PLAYER!K480)","v":-1E-3},"",null,null,"",null,null,null,null,null,{"$f":"IF(UPPER(TRIM($D$98))=\"BYE\",\"-\",VLOOKUP($D$98,HCTableBlk2,2,FALSE))","v":0}]
[null,"\"","\"                  \"",{"$f":"PLAYER!F481","v":" Block 2 Player 7"},{"$f":"IF(UPPER(TRIM($D$99))=\"BYE\",\"-\",VLOOKUP($D$99,HCTableBlk2,2,FALSE))","v":0},"L",{"$f":"IF(UPPER(TRIM(D99))=\"BYE\",\"0\",PLAYER!J481)","v":-1E-3},{"$f":"IF(UPPER(TRIM(D99))=\"BYE\",\"0\",PLAYER!K481)","v":-1E-3},"",null,null,"",null,null,null,null,null,{"$f":"IF(UPPER(TRIM($D$99))=\"BYE\",\"-\",VLOOKUP($D$99,HCTableBlk2,2,FALSE))","v":0}]
[null,"\"","\"                  \"",{"$f":"PLAYER!F482","v":" Block 2 Player 1"},{"$f":"IF(UPPER(TRIM($D$100))=\"BYE\",\"-\",VLOOKUP($D$100,HCTableBlk2,2,FALSE))","v":0},"L",{"$f":"IF(UPPER(TRIM(D100))=\"BYE\",\"0\",PLAYER!J482)","v":-1E-3},{"$f":"IF(UPPER(TRIM(D100))=\"BYE\",\"0\",PLAYER!K482)","v":-1E-3},"",null,"Finish >","",null,null,null,null,null,{"$f":"IF(UPPER(TRIM($D$100))=\"BYE\",\"-\",VLOOKUP($D$100,HCTableBlk2,2,FALSE))","v":0}]
[]
[null,"Player",null,{"$f":"SEED!$I$8","v":" Block 2 Player 3"},null,null,"Start H/C",{"$f":"SEED!$J$8","v":0},"New H/C",{"$f":"VLOOKUP(D102,HCTableBlk2,2,FALSE)","v":0},"Start Index",{"$f":"SEED!$H$8","v":0},"HC Change Indicator"]
[null,"Date","Event","Opponent","Op Hcap","Lev / Hcap","Score",null,"Won / Lost","Change +/-",null,"New Index"]
[null,{"$f":"NAMES!$C$9","v":"Date"},{"$f":"NAMES!$C$7","v":"Tournament"},{"$f":"PLAYER!F528","v":" Block 2 Player 1"},{"$f":"IF(UPPER(TRIM($D$104))=\"BYE\",\"-\",VLOOKUP($D$104,HCTableBlk2,2,FALSE))","v":0},{"$f":"IF(HandicapPlay=\"x\",\"H\",\"L\")","v":"L"},{"$f":"IF(UPPER(TRIM(D104))=\"BYE\",\"0\",PLAYER!J528)","v":-1E-3},{"$f":"IF(UPPER(TRIM(D104))=\"BYE\",\"0\",PLAYER!K528)","v":-1E-3},{"$f":"IF(UPPER(TRIM(D104))=\"BYE\",\"-\",IF(G104<0,\"\",(IF(G104>H104,\"W\",\"L\"))))","v":""},null,null,{"$f":"IF(J104=\"\",\"\",IF((L102+J104)<900,900,(L102+J104)))","v":""},null,null,null,null,null,{"$f":"IF(UPPER(TRIM($D$104))=\"BYE\",\"-\",VLOOKUP($D$104,HCTableBlk2,2,FALSE))","v":0}]
[null,"\"","\"                  \"",{"$f":"PLAYER!F529","v":" Block 2 Player 5"},{"$f":"IF(UPPER(TRIM($D$105))=\"BYE\",\"-\",VLOOKUP($D$105,HCTableBlk2,2,FALSE))","v":0},"L",{"$f":"IF(UPPER(TRIM(D105))=\"BYE\",\"0\",PLAYER!J529)","v":-1E-3},{"$f":"IF(UPPER(TRIM(D105))=\"BYE\",\"0\",PLAYER!K529)","v":-1E-3},{"$f":"IF(UPPER(TRIM(D105))=\"BYE\",\"-\",IF(G105<0,\"\",(IF(G105>H105,\"W\",\"L\"))))","v":""},null,null,{"$f":"IF(J105=\"\",\"\",IF((L104+J105)<900,900,(L104+J105)))","v":""},null,null,null,null,null,{"$f":"IF(UPPER(TRIM($D$105))=\"BYE\",\"-\",VLOOKUP($D$105,HCTableBlk2,2,FALSE))","v":0}]
[null,"\"","\"                  \"",{"$f":"PLAYER!F530","v":" Block 2 Player 7"},{"$f":"IF(UPPER(TRIM($D$106))=\"BYE\",\"-\",VLOOKUP($D$106,HCTableBlk2,2,FALSE))","v":0},"L",{"$f":"IF(UPPER(TRIM(D106))=\"BYE\",\"0\",PLAYER!J530)","v":-1E-3},{"$f":"IF(UPPER(TRIM(D106))=\"BYE\",\"0\",PLAYER!K530)","v":-1E-3},"",null,null,"",null,null,null,null,null,{"$f":"IF(UPPER(TRIM($D$106))=\"BYE\",\"-\",VLOOKUP($D$106,HCTableBlk2,2,FALSE))","v":0}]
[null,"\"","\"                  \"",{"$f":"PLAYER!F531","v":" Block 2 Player 2"},{"$f":"IF(UPPER(TRIM($D$107))=\"BYE\",\"-\",VLOOKUP($D$107,HCTableBlk2,2,FALSE))","v":0},"L",{"$f":"IF(UPPER(TRIM(D107))=\"BYE\",\"0\",PLAYER!J531)","v":-1E-3},{"$f":"IF(UPPER(TRIM(D107))=\"BYE\",\"0\",PLAYER!K531)","v":-1E-3},"",null,null,"",null,null,null,null,null,{"$f":"IF(UPPER(TRIM($D$107))=\"BYE\",\"-\",VLOOKUP($D$107,HCTableBlk2,2,FALSE))","v":0}]
[null,"\"","\"                  \"",{"$f":"PLAYER!F532","v":" Block 2 Player 4"},{"$f":"IF(UPPER(TRIM($D$108))=\"BYE\",\"-\",VLOOKUP($D$108,HCTableBlk2,2,FALSE))","v":0},"L",{"$f":"IF(UPPER(TRIM(D108))=\"BYE\",\"0\",PLAYER!J532)","v":-1E-3},{"$f":"IF(UPPER(TRIM(D108))=\"BYE\",\"0\",PLAYER!K532)","v":-1E-3},"",null,null,"",null,null,null,null,null,{"$f":"IF(UPPER(TRIM($D$108))=\"BYE\",\"-\",VLOOKUP($D$108,HCTableBlk2,2,FALSE))","v":0}]
[null,"\"","\"                  \"",{"$f":"PLAYER!F533","v":" Block 2 Player 6"},{"$f":"IF(UPPER(TRIM($D$109))=\"BYE\",\"-\",VLOOKUP($D$109,HCTableBlk2,2,FALSE))","v":0},"L",{"$f":"IF(UPPER(TRIM(D109))=\"BYE\",\"0\",PLAYER!J533)","v":-1E-3},{"$f":"IF(UPPER(TRIM(D109))=\"BYE\",\"0\",PLAYER!K533)","v":-1E-3},"",null,null,"",null,null,null,null,null,{"$f":"IF(UPPER(TRIM($D$109))=\"BYE\",\"-\",VLOOKUP($D$109,HCTableBlk2,2,FALSE))","v":0}]
[null,"\"","\"                  \"",{"$f":"PLAYER!F534","v":" Bye "},{"$f":"IF(UPPER(TRIM($D$110))=\"BYE\",\"-\",VLOOKUP($D$110,HCTableBlk2,2,FALSE))","v":"-"},"L",{"$f":"IF(UPPER(TRIM(D110))=\"BYE\",\"0\",PLAYER!J534)","v":"0"},{"$f":"IF(UPPER(TRIM(D110))=\"BYE\",\"0\",PLAYER!K534)","v":"0"},"-",null,"Finish >","",null,null,null,null,null,{"$f":"IF(UPPER(TRIM($D$110))=\"BYE\",\"-\",VLOOKUP($D$110,HCTableBlk2,2,FALSE))","v":"-"}]
[]
[null,"Player",null,{"$f":"SEED!$I$9","v":" Block 2 Player 4"},null,null,"Start H/C",{"$f":"SEED!$J$9","v":0},"New H/C",{"$f":"VLOOKUP(D112,HCTableBlk2,2,FALSE)","v":0},"Start Index",{"$f":"SEED!$H$9","v":0},"HC Change Indicator"]
[null,"Date","Event","Opponent","Op Hcap","Lev / Hcap","Score",null,"Won / Lost","Change +/-",null,"New Index"]
[null,{"$f":"NAMES!$C$9","v":"Date"},{"$f":"NAMES!$C$7","v":"Tournament"},{"$f":"PLAYER!F580","v":" Block 2 Player 2"},{"$f":"IF(UPPER(TRIM($D$114))=\"BYE\",\"-\",VLOOKUP($D$114,HCTableBlk2,2,FALSE))","v":0},{"$f":"IF(HandicapPlay=\"x\",\"H\",\"L\")","v":"L"},{"$f":"IF(UPPER(TRIM(D114))=\"BYE\",\"0\",PLAYER!J580)","v":-1E-3},{"$f":"IF(UPPER(TRIM(D114))=\"BYE\",\"0\",PLAYER!K580)","v":-1E-3},{"$f":"IF(UPPER(TRIM(D114))=\"BYE\",\"-\",IF(G114<0,\"\",(IF(G114>H114,\"W\",\"L\"))))","v":""},null,null,{"$f":"IF(J114=\"\",\"\",IF((L112+J114)<900,900,(L112+J114)))","v":""},null,null,null,null,null,{"$f":"IF(UPPER(TRIM($D$114))=\"BYE\",\"-\",VLOOKUP($D$114,HCTableBlk2,2,FALSE))","v":0}]
[null,"\"","\"                  \"",{"$f":"PLAYER!F581","v":" Block 2 Player 1"},{"$f":"IF(UPPER(TRIM($D$115))=\"BYE\",\"-\",VLOOKUP($D$115,HCTableBlk2,2,FALSE))","v":0},"L",{"$f":"IF(UPPER(TRIM(D115))=\"BYE\",\"0\",PLAYER!J581)","v":-1E-3},{"$f":"IF(UPPER(TRIM(D115))=\"BYE\",\"0\",PLAYER!K581)","v":-1E-3},{"$f":"IF(UPPER(TRIM(D115))=\"BYE\",\"-\",IF(G115<0,\"\",(IF(G115>H115,\"W\",\"L\"))))","v":""},null,null,{"$f":"IF(J115=\"\",\"\",IF((L114+J115)<900,900,(L114+J115)))","v":""},null,null,null,null,null,{"$f":"IF(UPPER(TRIM($D$115))=\"BYE\",\"-\",VLOOKUP($D$115,HCTableBlk2,2,FALSE))","v":0}]
[null,"\"","\"                  \"",{"$f":"PLAYER!F582","v":" Block 2 Player 6"},{"$f":"IF(UPPER(TRIM($D$116))=\"BYE\",\"-\",VLOOKUP($D$116,HCTableBlk2,2,FALSE))","v":0},"L",{"$f":"IF(UPPER(TRIM(D116))=\"BYE\",\"0\",PLAYER!J582)","v":-1E-3},{"$f":"IF(UPPER(TRIM(D116))=\"BYE\",\"0\",PLAYER!K582)","v":-1E-3},"",null,null,"",null,null,null,null,null,{"$f":"IF(UPPER(TRIM($D$116))=\"BYE\",\"-\",VLOOKUP($D$116,HCTableBlk2,2,FALSE))","v":0}]
[null,"\"","\"                  \"",{"$f":"PLAYER!F583","v":" Bye "},{"$f":"IF(UPPER(TRIM($D$117))=\"BYE\",\"-\",VLOOKUP($D$117,HCTableBlk2,2,FALSE))","v":"-"},"L",{"$f":"IF(UPPER(TRIM(D117))=\"BYE\",\"0\",PLAYER!J583)","v":"0"},{"$f":"IF(UPPER(TRIM(D117))=\"BYE\",\"0\",PLAYER!K583)","v":"0"},"-",null,null,"",null,null,null,null,null,{"$f":"IF(UPPER(TRIM($D$117))=\"BYE\",\"-\",VLOOKUP($D$117,HCTableBlk2,2,FALSE))","v":"-"}]
[null,"\"","\"                  \"",{"$f":"PLAYER!F584","v":" Block 2 Player 3"},{"$f":"IF(UPPER(TRIM($D$118))=\"BYE\",\"-\",VLOOKUP($D$118,HCTableBlk2,2,FALSE))","v":0},"L",{"$f":"IF(UPPER(TRIM(D118))=\"BYE\",\"0\",PLAYER!J584)","v":-1E-3},{"$f":"IF(UPPER(TRIM(D118))=\"BYE\",\"0\",PLAYER!K584)","v":-1E-3},"",null,null,"",null,null,null,null,null,{"$f":"IF(UPPER(TRIM($D$118))=\"BYE\",\"-\",VLOOKUP($D$118,HCTableBlk2,2,FALSE))","v":0}]
[null,"\"","\"                  \"",{"$f":"PLAYER!F585","v":" Block 2 Player 5"},{"$f":"IF(UPPER(TRIM($D$119))=\"BYE\",\"-\",VLOOKUP($D$119,HCTableBlk2,2,FALSE))","v":0},"L",{"$f":"IF(UPPER(TRIM(D119))=\"BYE\",\"0\",PLAYER!J585)","v":-1E-3},{"$f":"IF(UPPER(TRIM(D119))=\"BYE\",\"0\",PLAYER!K585)","v":-1E-3},"",null,null,"",null,null,null,null,null,{"$f":"IF(UPPER(TRIM($D$119))=\"BYE\",\"-\",VLOOKUP($D$119,HCTableBlk2,2,FALSE))","v":0}]
[null,"\"","\"                  \"",{"$f":"PLAYER!F586","v":" Block 2 Player 7"},{"$f":"IF(UPPER(TRIM($D$120))=\"BYE\",\"-\",VLOOKUP($D$120,HCTableBlk2,2,FALSE))","v":0},"L",{"$f":"IF(UPPER(TRIM(D120))=\"BYE\",\"0\",PLAYER!J586)","v":-1E-3},{"$f":"IF(UPPER(TRIM(D120))=\"BYE\",\"0\",PLAYER!K586)","v":-1E-3},"",null,"Finish >","",null,null,null,null,null,{"$f":"IF(UPPER(TRIM($D$120))=\"BYE\",\"-\",VLOOKUP($D$120,HCTableBlk2,2,FALSE))","v":0}]
[]
[null,"Player",null,{"$f":"SEED!$I$10","v":" Block 2 Player 5"},null,null,"Start H/C",{"$f":"SEED!$J$10","v":0},"New H/C",{"$f":"VLOOKUP(D122,HCTableBlk2,2,FALSE)","v":0},"Start Index",{"$f":"SEED!$H$10","v":0},"HC Change Indicator"]
[null,"Date","Event","Opponent","Op Hcap","Lev / Hcap","Score",null,"Won / Lost","Change +/-",null,"New Index"]
[null,{"$f":"NAMES!$C$9","v":"Date"},{"$f":"NAMES!$C$7","v":"Tournament"},{"$f":"PLAYER!F632","v":" Bye "},{"$f":"IF(UPPER(TRIM($D$124))=\"BYE\",\"-\",VLOOKUP($D$124,HCTableBlk2,2,FALSE))","v":"-"},{"$f":"IF(HandicapPlay=\"x\",\"H\",\"L\")","v":"L"},{"$f":"IF(UPPER(TRIM(D124))=\"BYE\",\"0\",PLAYER!J632)","v":"0"},{"$f":"IF(UPPER(TRIM(D124))=\"BYE\",\"0\",PLAYER!K632)","v":"0"},{"$f":"IF(UPPER(TRIM(D124))=\"BYE\",\"-\",IF(G124<0,\"\",(IF(G124>H124,\"W\",\"L\"))))","v":"-"},null,null,{"$f":"IF(J124=\"\",\"\",IF((L122+J124)<900,900,(L122+J124)))","v":""},null,null,null,null,null,{"$f":"IF(UPPER(TRIM($D$124))=\"BYE\",\"-\",VLOOKUP($D$124,HCTableBlk2,2,FALSE))","v":"-"}]
[null,"\"","\"                  \"",{"$f":"PLAYER!F633","v":" Block 2 Player 3"},{"$f":"IF(UPPER(TRIM($D$125))=\"BYE\",\"-\",VLOOKUP($D$125,HCTableBlk2,2,FALSE))","v":0},"L",{"$f":"IF(UPPER(TRIM(D125))=\"BYE\",\"0\",PLAYER!J633)","v":-1E-3},{"$f":"IF(UPPER(TRIM(D125))=\"BYE\",\"0\",PLAYER!K633)","v":-1E-3},{"$f":"IF(UPPER(TRIM(D125))=\"BYE\",\"-\",IF(G125<0,\"\",(IF(G125>H125,\"W\",\"L\"))))","v":""},null,null,{"$f":"IF(J125=\"\",\"\",IF((L124+J125)<900,900,(L124+J125)))","v":""},null,null,null,null,null,{"$f":"IF(UPPER(TRIM($D$125))=\"BYE\",\"-\",VLOOKUP($D$125,HCTableBlk2,2,FALSE))","v":0}]
[null,"\"","\"                  \"",{"$f":"PLAYER!F634","v":" Block 2 Player 1"},{"$f":"IF(UPPER(TRIM($D$126))=\"BYE\",\"-\",VLOOKUP($D$126,HCTableBlk2,2,FALSE))","v":0},"L",{"$f":"IF(UPPER(TRIM(D126))=\"BYE\",\"0\",PLAYER!J634)","v":-1E-3},{"$f":"IF(UPPER(TRIM(D126))=\"BYE\",\"0\",PLAYER!K634)","v":-1E-3},"",null,null,"",null,null,null,null,null,{"$f":"IF(UPPER(TRIM($D$126))=\"BYE\",\"-\",VLOOKUP($D$126,HCTableBlk2,2,FALSE))","v":0}]
[null,"\"","\"                  \"",{"$f":"PLAYER!F635","v":" Block 2 Player 7"},{"$f":"IF(UPPER(TRIM($D$127))=\"BYE\",\"-\",VLOOKUP($D$127,HCTableBlk2,2,FALSE))","v":0},"L",{"$f":"IF(UPPER(TRIM(D127))=\"BYE\",\"0\",PLAYER!J635)","v":-1E-3},{"$f":"IF(UPPER(TRIM(D127))=\"BYE\",\"0\",PLAYER!K635)","v":-1E-3},"",null,null,"",null,null,null,null,null,{"$f":"IF(UPPER(TRIM($D$127))=\"BYE\",\"-\",VLOOKUP($D$127,HCTableBlk2,2,FALSE))","v":0}]
[null,"\"","\"                  \"",{"$f":"PLAYER!F636","v":" Block 2 Player 2"},{"$f":"IF(UPPER(TRIM($D$128))=\"BYE\",\"-\",VLOOKUP($D$128,HCTableBlk2,2,FALSE))","v":0},"L",{"$f":"IF(UPPER(TRIM(D128))=\"BYE\",\"0\",PLAYER!J636)","v":-1E-3},{"$f":"IF(UPPER(TRIM(D128))=\"BYE\",\"0\",PLAYER!K636)","v":-1E-3},"",null,null,"",null,null,null,null,null,{"$f":"IF(UPPER(TRIM($D$128))=\"BYE\",\"-\",VLOOKUP($D$128,HCTableBlk2,2,FALSE))","v":0}]
[null,"\"","\"                  \"",{"$f":"PLAYER!F637","v":" Block 2 Player 4"},{"$f":"IF(UPPER(TRIM($D$129))=\"BYE\",\"-\",VLOOKUP($D$129,HCTableBlk2,2,FALSE))","v":0},"L",{"$f":"IF(UPPER(TRIM(D129))=\"BYE\",\"0\",PLAYER!J637)","v":-1E-3},{"$f":"IF(UPPER(TRIM(D129))=\"BYE\",\"0\",PLAYER!K637)","v":-1E-3},"",null,null,"",null,null,null,null,null,{"$f":"IF(UPPER(TRIM($D$129))=\"BYE\",\"-\",VLOOKUP($D$129,HCTableBlk2,2,FALSE))","v":0}]
[null,"\"","\"                  \"",{"$f":"PLAYER!F638","v":" Block 2 Player 6"},{"$f":"IF(UPPER(TRIM($D$130))=\"BYE\",\"-\",VLOOKUP($D$130,HCTableBlk2,2,FALSE))","v":0},"L",{"$f":"IF(UPPER(TRIM(D130))=\"BYE\",\"0\",PLAYER!J638)","v":-1E-3},{"$f":"IF(UPPER(TRIM(D130))=\"BYE\",\"0\",PLAYER!K638)","v":-1E-3},"",null,"Finish >","",null,null,null,null,null,{"$f":"IF(UPPER(TRIM($D$130))=\"BYE\",\"-\",VLOOKUP($D$130,HCTableBlk2,2,FALSE))","v":0}]
[]
[null,"Player",null,{"$f":"SEED!$I$11","v":" Block 2 Player 6"},null,null,"Start H/C",{"$f":"SEED!$J$11","v":0},"New H/C",{"$f":"VLOOKUP(D132,HCTableBlk2,2,FALSE)","v":0},"Start Index",{"$f":"SEED!$H$11","v":0},"HC Change Indicator"]
[null,"Date","Event","Opponent","Op Hcap","Lev / Hcap","Score",null,"Won / Lost","Change +/-",null,"New Index"]
[null,{"$f":"NAMES!$C$9","v":"Date"},{"$f":"NAMES!$C$7","v":"Tournament"},{"$f":"PLAYER!F684","v":" Block 2 Player 7"},{"$f":"IF(UPPER(TRIM($D$134))=\"BYE\",\"-\",VLOOKUP($D$134,HCTableBlk2,2,FALSE))","v":0},{"$f":"IF(HandicapPlay=\"x\",\"H\",\"L\")","v":"L"},{"$f":"IF(UPPER(TRIM(D134))=\"BYE\",\"0\",PLAYER!J684)","v":-1E-3},{"$f":"IF(UPPER(TRIM(D134))=\"BYE\",\"0\",PLAYER!K684)","v":-1E-3},{"$f":"IF(UPPER(TRIM(D134))=\"BYE\",\"-\",IF(G134<0,\"\",(IF(G134>H134,\"W\",\"L\"))))","v":""},null,null,{"$f":"IF(J134=\"\",\"\",IF((L132+J134)<900,900,(L132+J134)))","v":""},null,null,null,null,null,{"$f":"IF(UPPER(TRIM($D$134))=\"BYE\",\"-\",VLOOKUP($D$134,HCTableBlk2,2,FALSE))","v":0}]
[null,"\"","\"                  \"",{"$f":"PLAYER!F685","v":" Block 2 Player 2"},{"$f":"IF(UPPER(TRIM($D$135))=\"BYE\",\"-\",VLOOKUP($D$135,HCTableBlk2,2,FALSE))","v":0},"L",{"$f":"IF(UPPER(TRIM(D135))=\"BYE\",\"0\",PLAYER!J685)","v":-1E-3},{"$f":"IF(UPPER(TRIM(D135))=\"BYE\",\"0\",PLAYER!K685)","v":-1E-3},{"$f":"IF(UPPER(TRIM(D135))=\"BYE\",\"-\",IF(G135<0,\"\",(IF(G135>H135,\"W\",\"L\"))))","v":""},null,null,{"$f":"IF(J135=\"\",\"\",IF((L134+J135)<900,900,(L134+J135)))","v":""},null,null,null,null,null,{"$f":"IF(UPPER(TRIM($D$135))=\"BYE\",\"-\",VLOOKUP($D$135,HCTableBlk2,2,FALSE))","v":0}]
[null,"\"","\"                  \"",{"$f":"PLAYER!F686","v":" Block 2 Player 4"},{"$f":"IF(UPPER(TRIM($D$136))=\"BYE\",\"-\",VLOOKUP($D$136,HCTableBlk2,2,FALSE))","v":0},"L",{"$f":"IF(UPPER(TRIM(D136))=\"BYE\",\"0\",PLAYER!J686)","v":-1E-3},{"$f":"IF(UPPER(TRIM(D136))=\"BYE\",\"0\",PLAYER!K686)","v":-1E-3},"",null,null,"",null,null,null,null,null,{"$f":"IF(UPPER(TRIM($D$136))=\"BYE\",\"-\",VLOOKUP($D$136,HCTableBlk2,2,FALSE))","v":0}]
[null,"\"","\"                  \"",{"$f":"PLAYER!F687","v":" Block 2 Player 1"},{"$f":"IF(UPPER(TRIM($D$137))=\"BYE\",\"-\",VLOOKUP($D$137,HCTableBlk2,2,FALSE))","v":0},"L",{"$f":"IF(UPPER(TRIM(D137))=\"BYE\",\"0\",PLAYER!J687)","v":-1E-3},{"$f":"IF(UPPER(TRIM(D137))=\"BYE\",\"0\",PLAYER!K687)","v":-1E-3},"",null,null,"",null,null,null,null,null,{"$f":"IF(UPPER(TRIM($D$137))=\"BYE\",\"-\",VLOOKUP($D$137,HCTableBlk2,2,FALSE))","v":0}]
[null,"\"","\"                  \"",{"$f":"PLAYER!F688","v":" Bye "},{"$f":"IF(UPPER(TRIM($D$138))=\"BYE\",\"-\",VLOOKUP($D$138,HCTableBlk2,2,FALSE))","v":"-"},"L",{"$f":"IF(UPPER(TRIM(D138))=\"BYE\",\"0\",PLAYER!J688)","v":"0"},{"$f":"IF(UPPER(TRIM(D138))=\"BYE\",\"0\",PLAYER!K688)","v":"0"},"-",null,null,"",null,null,null,null,null,{"$f":"IF(UPPER(TRIM($D$138))=\"BYE\",\"-\",VLOOKUP($D$138,HCTableBlk2,2,FALSE))","v":"-"}]
[null,"\"","\"                  \"",{"$f":"PLAYER!F689","v":" Block 2 Player 3"},{"$f":"IF(UPPER(TRIM($D$139))=\"BYE\",\"-\",VLOOKUP($D$139,HCTableBlk2,2,FALSE))","v":0},"L",{"$f":"IF(UPPER(TRIM(D139))=\"BYE\",\"0\",PLAYER!J689)","v":-1E-3},{"$f":"IF(UPPER(TRIM(D139))=\"BYE\",\"0\",PLAYER!K689)","v":-1E-3},"",null,null,"",null,null,null,null,null,{"$f":"IF(UPPER(TRIM($D$139))=\"BYE\",\"-\",VLOOKUP($D$139,HCTableBlk2,2,FALSE))","v":0}]
[null,"\"","\"                  \"",{"$f":"PLAYER!F690","v":" Block 2 Player 5"},{"$f":"IF(UPPER(TRIM($D$140))=\"BYE\",\"-\",VLOOKUP($D$140,HCTableBlk2,2,FALSE))","v":0},"L",{"$f":"IF(UPPER(TRIM(D140))=\"BYE\",\"0\",PLAYER!J690)","v":-1E-3},{"$f":"IF(UPPER(TRIM(D140))=\"BYE\",\"0\",PLAYER!K690)","v":-1E-3},"",null,"Finish >","",null,null,null,null,null,{"$f":"IF(UPPER(TRIM($D$140))=\"BYE\",\"-\",VLOOKUP($D$140,HCTableBlk2,2,FALSE))","v":0}]
[]
[null,"Player",null,{"$f":"SEED!$I$12","v":" Block 2 Player 7"},null,null,"Start H/C",{"$f":"SEED!$J$12","v":0},"New H/C",{"$f":"VLOOKUP(D142,HCTableBlk2,2,FALSE)","v":0},"Start Index",{"$f":"SEED!$H$12","v":0},"HC Change Indicator"]
[null,"Date","Event","Opponent","Op Hcap","Lev / Hcap","Score",null,"Won / Lost","Change +/-",null,"New Index"]
[null,{"$f":"NAMES!$C$9","v":"Date"},{"$f":"NAMES!$C$7","v":"Tournament"},{"$f":"PLAYER!F736","v":" Block 2 Player 6"},{"$f":"IF(UPPER(TRIM($D$144))=\"BYE\",\"-\",VLOOKUP($D$144,HCTableBlk2,2,FALSE))","v":0},{"$f":"IF(HandicapPlay=\"x\",\"H\",\"L\")","v":"L"},{"$f":"IF(UPPER(TRIM(D144))=\"BYE\",\"0\",PLAYER!J736)","v":-1E-3},{"$f":"IF(UPPER(TRIM(D144))=\"BYE\",\"0\",PLAYER!K736)","v":-1E-3},{"$f":"IF(UPPER(TRIM(D144))=\"BYE\",\"-\",IF(G144<0,\"\",(IF(G144>H144,\"W\",\"L\"))))","v":""},null,null,{"$f":"IF(J144=\"\",\"\",IF((L142+J144)<900,900,(L142+J144)))","v":""},null,null,null,null,null,{"$f":"IF(UPPER(TRIM($D$144))=\"BYE\",\"-\",VLOOKUP($D$144,HCTableBlk2,2,FALSE))","v":0}]
[null,"\"","\"                  \"",{"$f":"PLAYER!F737","v":" Bye "},{"$f":"IF(UPPER(TRIM($D$145))=\"BYE\",\"-\",VLOOKUP($D$145,HCTableBlk2,2,FALSE))","v":"-"},"L",{"$f":"IF(UPPER(TRIM(D145))=\"BYE\",\"0\",PLAYER!J737)","v":"0"},{"$f":"IF(UPPER(TRIM(D145))=\"BYE\",\"0\",PLAYER!K737)","v":"0"},{"$f":"IF(UPPER(TRIM(D145))=\"BYE\",\"-\",IF(G145<0,\"\",(IF(G145>H145,\"W\",\"L\"))))","v":"-"},null,null,{"$f":"IF(J145=\"\",\"\",IF((L144+J145)<900,900,(L144+J145)))","v":""},null,null,null,null,null,{"$f":"IF(UPPER(TRIM($D$145))=\"BYE\",\"-\",VLOOKUP($D$145,HCTableBlk2,2,FALSE))","v":"-"}]
[null,"\"","\"                  \"",{"$f":"PLAYER!F738","v":" Block 2 Player 3"},{"$f":"IF(UPPER(TRIM($D$146))=\"BYE\",\"-\",VLOOKUP($D$146,HCTableBlk2,2,FALSE))","v":0},"L",{"$f":"IF(UPPER(TRIM(D146))=\"BYE\",\"0\",PLAYER!J738)","v":-1E-3},{"$f":"IF(UPPER(TRIM(D146))=\"BYE\",\"0\",PLAYER!K738)","v":-1E-3},"",null,null,"",null,null,null,null,null,{"$f":"IF(UPPER(TRIM($D$146))=\"BYE\",\"-\",VLOOKUP($D$146,HCTableBlk2,2,FALSE))","v":0}]
[null,"\"","\"                  \"",{"$f":"PLAYER!F739","v":" Block 2 Player 5"},{"$f":"IF(UPPER(TRIM($D$147))=\"BYE\",\"-\",VLOOKUP($D$147,HCTableBlk2,2,FALSE))","v":0},"L",{"$f":"IF(UPPER(TRIM(D147))=\"BYE\",\"0\",PLAYER!J739)","v":-1E-3},{"$f":"IF(UPPER(TRIM(D147))=\"BYE\",\"0\",PLAYER!K739)","v":-1E-3},"",null,null,"",null,null,null,null,null,{"$f":"IF(UPPER(TRIM($D$147))=\"BYE\",\"-\",VLOOKUP($D$147,HCTableBlk2,2,FALSE))","v":0}]
[null,"\"","\"                  \"",{"$f":"PLAYER!F740","v":" Block 2 Player 1"},{"$f":"IF(UPPER(TRIM($D$148))=\"BYE\",\"-\",VLOOKUP($D$148,HCTableBlk2,2,FALSE))","v":0},"L",{"$f":"IF(UPPER(TRIM(D148))=\"BYE\",\"0\",PLAYER!J740)","v":-1E-3},{"$f":"IF(UPPER(TRIM(D148))=\"BYE\",\"0\",PLAYER!K740)","v":-1E-3},"",null,null,"",null,null,null,null,null,{"$f":"IF(UPPER(TRIM($D$148))=\"BYE\",\"-\",VLOOKUP($D$148,HCTableBlk2,2,FALSE))","v":0}]
[null,"\"","\"                  \"",{"$f":"PLAYER!F741","v":" Block 2 Player 2"},{"$f":"IF(UPPER(TRIM($D$149))=\"BYE\",\"-\",VLOOKUP($D$149,HCTableBlk2,2,FALSE))","v":0},"L",{"$f":"IF(UPPER(TRIM(D149))=\"BYE\",\"0\",PLAYER!J741)","v":-1E-3},{"$f":"IF(UPPER(TRIM(D149))=\"BYE\",\"0\",PLAYER!K741)","v":-1E-3},"",null,null,"",null,null,null,null,null,{"$f":"IF(UPPER(TRIM($D$149))=\"BYE\",\"-\",VLOOKUP($D$149,HCTableBlk2,2,FALSE))","v":0}]
[null,"\"","\"                  \"",{"$f":"PLAYER!F742","v":" Block 2 Player 4"},{"$f":"IF(UPPER(TRIM($D$150))=\"BYE\",\"-\",VLOOKUP($D$150,HCTableBlk2,2,FALSE))","v":0},"L",{"$f":"IF(UPPER(TRIM(D150))=\"BYE\",\"0\",PLAYER!J742)","v":-1E-3},{"$f":"IF(UPPER(TRIM(D150))=\"BYE\",\"0\",PLAYER!K742)","v":-1E-3},"",null,"Finish >","",null,null,null,null,null,{"$f":"IF(UPPER(TRIM($D$150))=\"BYE\",\"-\",VLOOKUP($D$150,HCTableBlk2,2,FALSE))","v":0}]
[]
[null,"Player",null,{"$f":"SEED!$I$13","v":" Bye "},null,null,"Start H/C",{"$f":"SEED!$J$13","v":0},"New H/C",{"$f":"VLOOKUP(D152,HCTableBlk2,2,FALSE)","v":0},"Start Index",{"$f":"SEED!$H$13","v":0},"HC Change Indicator"]
[null,"Date","Event","Opponent","Op Hcap","Lev / Hcap","Score",null,"Won / Lost","Change +/-",null,"New Index"]
[null,{"$f":"NAMES!$C$9","v":"Date"},{"$f":"NAMES!$C$7","v":"Tournament"},{"$f":"PLAYER!F788","v":" Block 2 Player 5"},6,{"$f":"IF(HandicapPlay=\"x\",\"H\",\"L\")","v":"L"},{"$f":"PLAYER!J788","v":-1E-3},{"$f":"PLAYER!K788","v":-1E-3},{"$f":"IF(G154<0,\"\",(IF(G154>H154,\"W\",\"L\")))","v":""},null,null,{"$f":"IF(J154=\"\",\"\",L152+J154)","v":""}]
[null,"\"","\"                  \"",{"$f":"PLAYER!F789","v":" Block 2 Player 7"},5,"L",{"$f":"PLAYER!J789","v":-1E-3},{"$f":"PLAYER!K789","v":-1E-3},{"$f":"IF(G155<0,\"\",(IF(G155>H155,\"W\",\"L\")))","v":""},null,null,{"$f":"IF(J155=\"\",\"\",L154+J155)","v":""}]
[null,"\"","\"                  \"",{"$f":"PLAYER!F790","v":" Block 2 Player 2"},4,"L",{"$f":"PLAYER!J790","v":-1E-3},{"$f":"PLAYER!K790","v":-1E-3},"",null,null,""]
[null,"\"","\"                  \"",{"$f":"PLAYER!F791","v":" Block 2 Player 4"},5,"L",{"$f":"PLAYER!J791","v":-1E-3},{"$f":"PLAYER!K791","v":-1E-3},"",null,null,""]
[null,"\"","\"                  \"",{"$f":"PLAYER!F792","v":" Block 2 Player 6"},8,"L",{"$f":"PLAYER!J792","v":-1E-3},{"$f":"PLAYER!K792","v":-1E-3},"",null,null,""]
[null,"\"","\"                  \"",{"$f":"PLAYER!F793","v":" Block 2 Player 1"},5,"L",{"$f":"PLAYER!J793","v":-1E-3},{"$f":"PLAYER!K793","v":-1E-3},"",null,null,""]
[null,"\"","\"                  \"",{"$f":"PLAYER!F794","v":" Block 2 Player 3"},6,"L",{"$f":"PLAYER!J794","v":-1E-3},{"$f":"PLAYER!K794","v":-1E-3},"",null,"Finish >",""]
[null,{"$f":"SEED!$D$16","v":"BLOCK 3"}]
[null,"Player",null,{"$f":"SEED!$D$18","v":" Block 3 Player 1"},null,null,"Start H/C",{"$f":"SEED!$E$18","v":0},"New H/C",{"$f":"VLOOKUP(D162,HCTableBlk3,2,FALSE)","v":0},"Start Index",{"$f":"SEED!$C$18","v":0},"HC Change Indicator","BLOCK 3"]
[null,"Date","Event","Opponent","Op Hcap","Lev / Hcap","Score",null,"Won / Lost","Change +/-",null,"New Index",null,"Player","H/C","Temp H/C",null,null,null,"HC Change Flags"]
[null,{"$f":"NAMES!$C$9","v":"Date"},{"$f":"NAMES!$C$7","v":"Tournament"},{"$f":"PLAYER!F840","v":" Block 3 Player 3"},{"$f":"IF(UPPER(TRIM($D$164))=\"BYE\",\"-\",VLOOKUP($D$164,HCTableBlk3,2,FALSE))","v":0},{"$f":"IF(HandicapPlay=\"x\",\"H\",\"L\")","v":"L"},{"$f":"IF(UPPER(TRIM(D164))=\"BYE\",\"0\",PLAYER!J840)","v":-1E-3},{"$f":"IF(UPPER(TRIM(D164))=\"BYE\",\"0\",PLAYER!K840)","v":-1E-3},{"$f":"IF(UPPER(TRIM(D164))=\"BYE\",\"-\",IF(G164<0,\"\",(IF(G164>H164,\"W\",\"L\"))))","v":""},null,null,{"$f":"IF(J164=\"\",\"\",IF((L162+J164)<900,900,(L162+J164)))","v":""},null,{"$f":"SEED!D18","v":" Block 3 Player 1"},{"$f":"SEED!E18","v":0},null,null,{"$f":"IF(UPPER(TRIM($D$164))=\"BYE\",\"-\",VLOOKUP($D$164,HCTableBlk3,2,FALSE))","v":0},null,0,"17"]
[null,"\"","\"                  \"",{"$f":"PLAYER!F841","v":" Block 3 Player 4"},{"$f":"IF(UPPER(TRIM($D$165))=\"BYE\",\"-\",VLOOKUP($D$165,HCTableBlk3,2,FALSE))","v":0},"L",{"$f":"IF(UPPER(TRIM(D165))=\"BYE\",\"0\",PLAYER!J841)","v":-1E-3},{"$f":"IF(UPPER(TRIM(D165))=\"BYE\",\"0\",PLAYER!K841)","v":-1E-3},{"$f":"IF(UPPER(TRIM(D165))=\"BYE\",\"-\",IF(G165<0,\"\",(IF(G165>H165,\"W\",\"L\"))))","v":""},null,null,{"$f":"IF(J165=\"\",\"\",IF((L164+J165)<900,900,(L164+J165)))","v":""},null,{"$f":"SEED!D19","v":" Block 3 Player 2"},{"$f":"SEED!E19","v":0},null,null,{"$f":"IF(UPPER(TRIM($D$165))=\"BYE\",\"-\",VLOOKUP($D$165,HCTableBlk3,2,FALSE))","v":0},null,0,"18"]
[null,"\"","\"                  \"",{"$f":"PLAYER!F842","v":" Block 3 Player 5"},{"$f":"IF(UPPER(TRIM($D$166))=\"BYE\",\"-\",VLOOKUP($D$166,HCTableBlk3,2,FALSE))","v":0},"L",{"$f":"IF(UPPER(TRIM(D166))=\"BYE\",\"0\",PLAYER!J842)","v":-1E-3},{"$f":"IF(UPPER(TRIM(D166))=\"BYE\",\"0\",PLAYER!K842)","v":-1E-3},"",null,null,"",null,{"$f":"SEED!D20","v":" Block 3 Player 3"},{"$f":"SEED!E20","v":0},null,null,{"$f":"IF(UPPER(TRIM($D$166))=\"BYE\",\"-\",VLOOKUP($D$166,HCTableBlk3,2,FALSE))","v":0},null,0,"19"]
[null,"\"","\"                  \"",{"$f":"PLAYER!F843","v":" Block 3 Player 6"},{"$f":"IF(UPPER(TRIM($D$167))=\"BYE\",\"-\",VLOOKUP($D$167,HCTableBlk3,2,FALSE))","v":0},"L",{"$f":"IF(UPPER(TRIM(D167))=\"BYE\",\"0\",PLAYER!J843)","v":-1E-3},{"$f":"IF(UPPER(TRIM(D167))=\"BYE\",\"0\",PLAYER!K843)","v":-1E-3},"",null,null,"",null,{"$f":"SEED!D21","v":" Block 3 Player 4"},{"$f":"SEED!E21","v":0},null,null,{"$f":"IF(UPPER(TRIM($D$167))=\"BYE\",\"-\",VLOOKUP($D$167,HCTableBlk3,2,FALSE))","v":0},null,0,"20"]
[null,"\"","\"                  \"",{"$f":"PLAYER!F844","v":" Block 3 Player 7"},{"$f":"IF(UPPER(TRIM($D$168))=\"BYE\",\"-\",VLOOKUP($D$168,HCTableBlk3,2,FALSE))","v":0},"L",{"$f":"IF(UPPER(TRIM(D168))=\"BYE\",\"0\",PLAYER!J844)","v":-1E-3},{"$f":"IF(UPPER(TRIM(D168))=\"BYE\",\"0\",PLAYER!K844)","v":-1E-3},"",null,null,"",null,{"$f":"SEED!D22","v":" Block 3 Player 5"},{"$f":"SEED!E22","v":0},null,null,{"$f":"IF(UPPER(TRIM($D$168))=\"BYE\",\"-\",VLOOKUP($D$168,HCTableBlk3,2,FALSE))","v":0},null,0,"21"]
[null,"\"","\"                  \"",{"$f":"PLAYER!F845","v":" Bye "},{"$f":"IF(UPPER(TRIM($D$169))=\"BYE\",\"-\",VLOOKUP($D$169,HCTableBlk3,2,FALSE))","v":"-"},"L",{"$f":"IF(UPPER(TRIM(D169))=\"BYE\",\"0\",PLAYER!J845)","v":"0"},{"$f":"IF(UPPER(TRIM(D169))=\"BYE\",\"0\",PLAYER!K845)","v":"0"},"-",null,null,"",null,{"$f":"SEED!D23","v":" Block 3 Player 6"},{"$f":"SEED!E23","v":0},null,null,{"$f":"IF(UPPER(TRIM($D$169))=\"BYE\",\"-\",VLOOKUP($D$169,HCTableBlk3,2,FALSE))","v":"-"},null,0,"22"]
[null,"\"","\"                  \"",{"$f":"PLAYER!F846","v":" Block 3 Player 2"},{"$f":"IF(UPPER(TRIM($D$170))=\"BYE\",\"-\",VLOOKUP($D$170,HCTableBlk3,2,FALSE))","v":0},"L",{"$f":"IF(UPPER(TRIM(D170))=\"BYE\",\"0\",PLAYER!J846)","v":-1E-3},{"$f":"IF(UPPER(TRIM(D170))=\"BYE\",\"0\",PLAYER!K846)","v":-1E-3},"",null,"Finish >","",null,{"$f":"SEED!D24","v":" Block 3 Player 7"},{"$f":"SEED!E24","v":0},null,null,{"$f":"IF(UPPER(TRIM($D$170))=\"BYE\",\"-\",VLOOKUP($D$170,HCTableBlk3,2,FALSE))","v":0},null,0,"23"]
[null,null,null,null,null,null,null,null,null,null,null,null,null,{"$f":"SEED!D25","v":" Bye "},{"$f":"SEED!E25","v":0},null,null,null,null,0,"(24)"]
[null,"Player",null,{"$f":"SEED!$D$19","v":" Block 3 Player 2"},null,null,"Start H/C",{"$f":"SEED!$E$19","v":0},"New H/C",{"$f":"VLOOKUP(D172,HCTableBlk3,2,FALSE)","v":0},"Start Index",{"$f":"SEED!$C$19","v":0},"HC Change Indicator"]
[null,"Date","Event","Opponent","Op Hcap","Lev / Hcap","Score",null,"Won / Lost","Change +/-",null,"New Index"]
[null,{"$f":"NAMES!$C$9","v":"Date"},{"$f":"NAMES!$C$7","v":"Tournament"},{"$f":"PLAYER!F892","v":" Block 3 Player 4"},{"$f":"IF(UPPER(TRIM($D$174))=\"BYE\",\"-\",VLOOKUP($D$174,HCTableBlk3,2,FALSE))","v":0},{"$f":"IF(HandicapPlay=\"x\",\"H\",\"L\")","v":"L"},{"$f":"IF(UPPER(TRIM(D174))=\"BYE\",\"0\",PLAYER!J892)","v":-1E-3},{"$f":"IF(UPPER(TRIM(D174))=\"BYE\",\"0\",PLAYER!K892)","v":-1E-3},{"$f":"IF(UPPER(TRIM(D174))=\"BYE\",\"-\",IF(G174<0,\"\",(IF(G174>H174,\"W\",\"L\"))))","v":""},null,null,{"$f":"IF(J174=\"\",\"\",IF((L172+J174)<900,900,(L172+J174)))","v":""},null,null,null,null,null,{"$f":"IF(UPPER(TRIM($D$174))=\"BYE\",\"-\",VLOOKUP($D$174,HCTableBlk3,2,FALSE))","v":0}]
[null,"\"","\"                  \"",{"$f":"PLAYER!F893","v":" Block 3 Player 6"},{"$f":"IF(UPPER(TRIM($D$175))=\"BYE\",\"-\",VLOOKUP($D$175,HCTableBlk3,2,FALSE))","v":0},"L",{"$f":"IF(UPPER(TRIM(D175))=\"BYE\",\"0\",PLAYER!J893)","v":-1E-3},{"$f":"IF(UPPER(TRIM(D175))=\"BYE\",\"0\",PLAYER!K893)","v":-1E-3},{"$f":"IF(UPPER(TRIM(D175))=\"BYE\",\"-\",IF(G175<0,\"\",(IF(G175>H175,\"W\",\"L\"))))","v":""},null,null,{"$f":"IF(J175=\"\",\"\",IF((L174+J175)<900,900,(L174+J175)))","v":""},null,null,null,null,null,{"$f":"IF(UPPER(TRIM($D$175))=\"BYE\",\"-\",VLOOKUP($D$175,HCTableBlk3,2,FALSE))","v":0}]
[null,"\"","\"                  \"",{"$f":"PLAYER!F894","v":" Bye "},{"$f":"IF(UPPER(TRIM($D$176))=\"BYE\",\"-\",VLOOKUP($D$176,HCTableBlk3,2,FALSE))","v":"-"},"L",{"$f":"IF(UPPER(TRIM(D176))=\"BYE\",\"0\",PLAYER!J894)","v":"0"},{"$f":"IF(UPPER(TRIM(D176))=\"BYE\",\"0\",PLAYER!K894)","v":"0"},"-",null,null,"",null,null,null,null,null,{"$f":"IF(UPPER(TRIM($D$176))=\"BYE\",\"-\",VLOOKUP($D$176,HCTableBlk3,2,FALSE))","v":"-"}]
[null,"\"","\"                  \"",{"$f":"PLAYER!F895","v":" Block 3 Player 3"},{"$f":"IF(UPPER(TRIM($D$177))=\"BYE\",\"-\",VLOOKUP($D$177,HCTableBlk3,2,FALSE))","v":0},"L",{"$f":"IF(UPPER(TRIM(D177))=\"BYE\",\"0\",PLAYER!J895)","v":-1E-3},{"$f":"IF(UPPER(TRIM(D177))=\"BYE\",\"0\",PLAYER!K895)","v":-1E-3},"",null,null,"",null,null,null,null,null,{"$f":"IF(UPPER(TRIM($D$177))=\"BYE\",\"-\",VLOOKUP($D$177,HCTableBlk3,2,FALSE))","v":0}]
[null,"\"","\"                  \"",{"$f":"PLAYER!F896","v":" Block 3 Player 5"},{"$f":"IF(UPPER(TRIM($D$178))=\"BYE\",\"-\",VLOOKUP($D$178,HCTableBlk3,2,FALSE))","v":0},"L",{"$f":"IF(UPPER(TRIM(D178))=\"BYE\",\"0\",PLAYER!J896)","v":-1E-3},{"$f":"IF(UPPER(TRIM(D178))=\"BYE\",\"0\",PLAYER!K896)","v":-1E-3},"",null,null,"",null,null,null,null,null,{"$f":"IF(UPPER(TRIM($D$178))=\"BYE\",\"-\",VLOOKUP($D$178,HCTableBlk3,2,FALSE))","v":0}]
[null,"\"","\"                  \"",{"$f":"PLAYER!F897","v":" Block 3 Player 7"},{"$f":"IF(UPPER(TRIM($D$179))=\"BYE\",\"-\",VLOOKUP($D$179,HCTableBlk3,2,FALSE))","v":0},"L",{"$f":"IF(UPPER(TRIM(D179))=\"BYE\",\"0\",PLAYER!J897)","v":-1E-3},{"$f":"IF(UPPER(TRIM(D179))=\"BYE\",\"0\",PLAYER!K897)","v":-1E-3},"",null,null,"",null,null,null,null,null,{"$f":"IF(UPPER(TRIM($D$179))=\"BYE\",\"-\",VLOOKUP($D$179,HCTableBlk3,2,FALSE))","v":0}]
[null,"\"","\"                  \"",{"$f":"PLAYER!F898","v":" Block 3 Player 1"},{"$f":"IF(UPPER(TRIM($D$180))=\"BYE\",\"-\",VLOOKUP($D$180,HCTableBlk3,2,FALSE))","v":0},"L",{"$f":"IF(UPPER(TRIM(D180))=\"BYE\",\"0\",PLAYER!J898)","v":-1E-3},{"$f":"IF(UPPER(TRIM(D180))=\"BYE\",\"0\",PLAYER!K898)","v":-1E-3},"",null,"Finish >","",null,null,null,null,null,{"$f":"IF(UPPER(TRIM($D$180))=\"BYE\",\"-\",VLOOKUP($D$180,HCTableBlk3,2,FALSE))","v":0}]
[]
[null,"Player",null,{"$f":"SEED!$D$20","v":" Block 3 Player 3"},null,null,"Start H/C",{"$f":"SEED!$E$20","v":0},"New H/C",{"$f":"VLOOKUP(D182,HCTableBlk3,2,FALSE)","v":0},"Start Index",{"$f":"SEED!$C$20","v":0},"HC Change Indicator"]
[null,"Date","Event","Opponent","Op Hcap","Lev / Hcap","Score",null,"Won / Lost","Change +/-",null,"New Index"]
[null,{"$f":"NAMES!$C$9","v":"Date"},{"$f":"NAMES!$C$7","v":"Tournament"},{"$f":"PLAYER!F944","v":" Block 3 Player 1"},{"$f":"IF(UPPER(TRIM($D$184))=\"BYE\",\"-\",VLOOKUP($D$184,HCTableBlk3,2,FALSE))","v":0},{"$f":"IF(HandicapPlay=\"x\",\"H\",\"L\")","v":"L"},{"$f":"IF(UPPER(TRIM(D184))=\"BYE\",\"0\",PLAYER!J944)","v":-1E-3},{"$f":"IF(UPPER(TRIM(D184))=\"BYE\",\"0\",PLAYER!K944)","v":-1E-3},{"$f":"IF(UPPER(TRIM(D184))=\"BYE\",\"-\",IF(G184<0,\"\",(IF(G184>H184,\"W\",\"L\"))))","v":""},null,null,{"$f":"IF(J184=\"\",\"\",IF((L182+J184)<900,900,(L182+J184)))","v":""},null,null,null,null,null,{"$f":"IF(UPPER(TRIM($D$184))=\"BYE\",\"-\",VLOOKUP($D$184,HCTableBlk3,2,FALSE))","v":0}]
[null,"\"","\"                  \"",{"$f":"PLAYER!F945","v":" Block 3 Player 5"},{"$f":"IF(UPPER(TRIM($D$185))=\"BYE\",\"-\",VLOOKUP($D$185,HCTableBlk3,2,FALSE))","v":0},"L",{"$f":"IF(UPPER(TRIM(D185))=\"BYE\",\"0\",PLAYER!J945)","v":-1E-3},{"$f":"IF(UPPER(TRIM(D185))=\"BYE\",\"0\",PLAYER!K945)","v":-1E-3},{"$f":"IF(UPPER(TRIM(D185))=\"BYE\",\"-\",IF(G185<0,\"\",(IF(G185>H185,\"W\",\"L\"))))","v":""},null,null,{"$f":"IF(J185=\"\",\"\",IF((L184+J185)<900,900,(L184+J185)))","v":""},null,null,null,null,null,{"$f":"IF(UPPER(TRIM($D$185))=\"BYE\",\"-\",VLOOKUP($D$185,HCTableBlk3,2,FALSE))","v":0}]
[null,"\"","\"                  \"",{"$f":"PLAYER!F946","v":" Block 3 Player 7"},{"$f":"IF(UPPER(TRIM($D$186))=\"BYE\",\"-\",VLOOKUP($D$186,HCTableBlk3,2,FALSE))","v":0},"L",{"$f":"IF(UPPER(TRIM(D186))=\"BYE\",\"0\",PLAYER!J946)","v":-1E-3},{"$f":"IF(UPPER(TRIM(D186))=\"BYE\",\"0\",PLAYER!K946)","v":-1E-3},"",null,null,"",null,null,null,null,null,{"$f":"IF(UPPER(TRIM($D$186))=\"BYE\",\"-\",VLOOKUP($D$186,HCTableBlk3,2,FALSE))","v":0}]
[null,"\"","\"                  \"",{"$f":"PLAYER!F947","v":" Block 3 Player 2"},{"$f":"IF(UPPER(TRIM($D$187))=\"BYE\",\"-\",VLOOKUP($D$187,HCTableBlk3,2,FALSE))","v":0},"L",{"$f":"IF(UPPER(TRIM(D187))=\"BYE\",\"0\",PLAYER!J947)","v":-1E-3},{"$f":"IF(UPPER(TRIM(D187))=\"BYE\",\"0\",PLAYER!K947)","v":-1E-3},"",null,null,"",null,null,null,null,null,{"$f":"IF(UPPER(TRIM($D$187))=\"BYE\",\"-\",VLOOKUP($D$187,HCTableBlk3,2,FALSE))","v":0}]
[null,"\"","\"                  \"",{"$f":"PLAYER!F948","v":" Block 3 Player 4"},{"$f":"IF(UPPER(TRIM($D$188))=\"BYE\",\"-\",VLOOKUP($D$188,HCTableBlk3,2,FALSE))","v":0},"L",{"$f":"IF(UPPER(TRIM(D188))=\"BYE\",\"0\",PLAYER!J948)","v":-1E-3},{"$f":"IF(UPPER(TRIM(D188))=\"BYE\",\"0\",PLAYER!K948)","v":-1E-3},"",null,null,"",null,null,null,null,null,{"$f":"IF(UPPER(TRIM($D$188))=\"BYE\",\"-\",VLOOKUP($D$188,HCTableBlk3,2,FALSE))","v":0}]
[null,"\"","\"                  \"",{"$f":"PLAYER!F949","v":" Block 3 Player 6"},{"$f":"IF(UPPER(TRIM($D$189))=\"BYE\",\"-\",VLOOKUP($D$189,HCTableBlk3,2,FALSE))","v":0},"L",{"$f":"IF(UPPER(TRIM(D189))=\"BYE\",\"0\",PLAYER!J949)","v":-1E-3},{"$f":"IF(UPPER(TRIM(D189))=\"BYE\",\"0\",PLAYER!K949)","v":-1E-3},"",null,null,"",null,null,null,null,null,{"$f":"IF(UPPER(TRIM($D$189))=\"BYE\",\"-\",VLOOKUP($D$189,HCTableBlk3,2,FALSE))","v":0}]
[null,"\"","\"                  \"",{"$f":"PLAYER!F950","v":" Bye "},{"$f":"IF(UPPER(TRIM($D$190))=\"BYE\",\"-\",VLOOKUP($D$190,HCTableBlk3,2,FALSE))","v":"-"},"L",{"$f":"IF(UPPER(TRIM(D190))=\"BYE\",\"0\",PLAYER!J950)","v":"0"},{"$f":"IF(UPPER(TRIM(D190))=\"BYE\",\"0\",PLAYER!K950)","v":"0"},"-",null,"Finish >","",null,null,null,null,null,{"$f":"IF(UPPER(TRIM($D$190))=\"BYE\",\"-\",VLOOKUP($D$190,HCTableBlk3,2,FALSE))","v":"-"}]
[]
[null,"Player",null,{"$f":"SEED!$D$21","v":" Block 3 Player 4"},null,null,"Start H/C",{"$f":"SEED!$E$21","v":0},"New H/C",{"$f":"VLOOKUP(D192,HCTableBlk3,2,FALSE)","v":0},"Start Index",{"$f":"SEED!$C$21","v":0},"HC Change Indicator"]
[null,"Date","Event","Opponent","Op Hcap","Lev / Hcap","Score",null,"Won / Lost","Change +/-",null,"New Index"]
[null,{"$f":"NAMES!$C$9","v":"Date"},{"$f":"NAMES!$C$7","v":"Tournament"},{"$f":"PLAYER!F996","v":" Block 3 Player 2"},{"$f":"IF(UPPER(TRIM($D$194))=\"BYE\",\"-\",VLOOKUP($D$194,HCTableBlk3,2,FALSE))","v":0},{"$f":"IF(HandicapPlay=\"x\",\"H\",\"L\")","v":"L"},{"$f":"IF(UPPER(TRIM(D194))=\"BYE\",\"0\",PLAYER!J996)","v":-1E-3},{"$f":"IF(UPPER(TRIM(D194))=\"BYE\",\"0\",PLAYER!K996)","v":-1E-3},{"$f":"IF(UPPER(TRIM(D194))=\"BYE\",\"-\",IF(G194<0,\"\",(IF(G194>H194,\"W\",\"L\"))))","v":""},null,null,{"$f":"IF(J194=\"\",\"\",IF((L192+J194)<900,900,(L192+J194)))","v":""},null,null,null,null,null,{"$f":"IF(UPPER(TRIM($D$194))=\"BYE\",\"-\",VLOOKUP($D$194,HCTableBlk3,2,FALSE))","v":0}]
[null,"\"","\"                  \"",{"$f":"PLAYER!F997","v":" Block 3 Player 1"},{"$f":"IF(UPPER(TRIM($D$195))=\"BYE\",\"-\",VLOOKUP($D$195,HCTableBlk3,2,FALSE))","v":0},"L",{"$f":"IF(UPPER(TRIM(D195))=\"BYE\",\"0\",PLAYER!J997)","v":-1E-3},{"$f":"IF(UPPER(TRIM(D195))=\"BYE\",\"0\",PLAYER!K997)","v":-1E-3},{"$f":"IF(UPPER(TRIM(D195))=\"BYE\",\"-\",IF(G195<0,\"\",(IF(G195>H195,\"W\",\"L\"))))","v":""},null,null,{"$f":"IF(J195=\"\",\"\",IF((L194+J195)<900,900,(L194+J195)))","v":""},null,null,null,null,null,{"$f":"IF(UPPER(TRIM($D$195))=\"BYE\",\"-\",VLOOKUP($D$195,HCTableBlk3,2,FALSE))","v":0}]
[null,"\"","\"                  \"",{"$f":"PLAYER!F998","v":" Block 3 Player 6"},{"$f":"IF(UPPER(TRIM($D$196))=\"BYE\",\"-\",VLOOKUP($D$196,HCTableBlk3,2,FALSE))","v":0},"L",{"$f":"IF(UPPER(TRIM(D196))=\"BYE\",\"0\",PLAYER!J998)","v":-1E-3},{"$f":"IF(UPPER(TRIM(D196))=\"BYE\",\"0\",PLAYER!K998)","v":-1E-3},"",null,null,"",null,null,null,null,null,{"$f":"IF(UPPER(TRIM($D$196))=\"BYE\",\"-\",VLOOKUP($D$196,HCTableBlk3,2,FALSE))","v":0}]
[null,"\"","\"                  \"",{"$f":"PLAYER!F999","v":" Bye "},{"$f":"IF(UPPER(TRIM($D$197))=\"BYE\",\"-\",VLOOKUP($D$197,HCTableBlk3,2,FALSE))","v":"-"},"L",{"$f":"IF(UPPER(TRIM(D197))=\"BYE\",\"0\",PLAYER!J999)","v":"0"},{"$f":"IF(UPPER(TRIM(D197))=\"BYE\",\"0\",PLAYER!K999)","v":"0"},"-",null,null,"",null,null,null,null,null,{"$f":"IF(UPPER(TRIM($D$197))=\"BYE\",\"-\",VLOOKUP($D$197,HCTableBlk3,2,FALSE))","v":"-"}]
[null,"\"","\"                  \"",{"$f":"PLAYER!F1000","v":" Block 3 Player 3"},{"$f":"IF(UPPER(TRIM($D$198))=\"BYE\",\"-\",VLOOKUP($D$198,HCTableBlk3,2,FALSE))","v":0},"L",{"$f":"IF(UPPER(TRIM(D198))=\"BYE\",\"0\",PLAYER!J1000)","v":-1E-3},{"$f":"IF(UPPER(TRIM(D198))=\"BYE\",\"0\",PLAYER!K1000)","v":-1E-3},"",null,null,"",null,null,null,null,null,{"$f":"IF(UPPER(TRIM($D$198))=\"BYE\",\"-\",VLOOKUP($D$198,HCTableBlk3,2,FALSE))","v":0}]
[null,"\"","\"                  \"",{"$f":"PLAYER!F1001","v":" Block 3 Player 5"},{"$f":"IF(UPPER(TRIM($D$199))=\"BYE\",\"-\",VLOOKUP($D$199,HCTableBlk3,2,FALSE))","v":0},"L",{"$f":"IF(UPPER(TRIM(D199))=\"BYE\",\"0\",PLAYER!J1001)","v":-1E-3},{"$f":"IF(UPPER(TRIM(D199))=\"BYE\",\"0\",PLAYER!K1001)","v":-1E-3},"",null,null,"",null,null,null,null,null,{"$f":"IF(UPPER(TRIM($D$199))=\"BYE\",\"-\",VLOOKUP($D$199,HCTableBlk3,2,FALSE))","v":0}]
[null,"\"","\"                  \"",{"$f":"PLAYER!F1002","v":" Block 3 Player 7"},{"$f":"IF(UPPER(TRIM($D$200))=\"BYE\",\"-\",VLOOKUP($D$200,HCTableBlk3,2,FALSE))","v":0},"L",{"$f":"IF(UPPER(TRIM(D200))=\"BYE\",\"0\",PLAYER!J1002)","v":-1E-3},{"$f":"IF(UPPER(TRIM(D200))=\"BYE\",\"0\",PLAYER!K1002)","v":-1E-3},"",null,"Finish >","",null,null,null,null,null,{"$f":"IF(UPPER(TRIM($D$200))=\"BYE\",\"-\",VLOOKUP($D$200,HCTableBlk3,2,FALSE))","v":0}]
[]
[null,"Player",null,{"$f":"SEED!$D$22","v":" Block 3 Player 5"},null,null,"Start H/C",{"$f":"SEED!$E$22","v":0},"New H/C",{"$f":"VLOOKUP(D202,HCTableBlk3,2,FALSE)","v":0},"Start Index",{"$f":"SEED!$C$22","v":0},"HC Change Indicator"]
[null,"Date","Event","Opponent","Op Hcap","Lev / Hcap","Score",null,"Won / Lost","Change +/-",null,"New Index"]
[null,{"$f":"NAMES!$C$9","v":"Date"},{"$f":"NAMES!$C$7","v":"Tournament"},{"$f":"PLAYER!F1048","v":" Bye "},{"$f":"IF(UPPER(TRIM($D$204))=\"BYE\",\"-\",VLOOKUP($D$204,HCTableBlk3,2,FALSE))","v":"-"},{"$f":"IF(HandicapPlay=\"x\",\"H\",\"L\")","v":"L"},{"$f":"IF(UPPER(TRIM(D204))=\"BYE\",\"0\",PLAYER!J1048)","v":"0"},{"$f":"IF(UPPER(TRIM(D204))=\"BYE\",\"0\",PLAYER!K1048)","v":"0"},{"$f":"IF(UPPER(TRIM(D204))=\"BYE\",\"-\",IF(G204<0,\"\",(IF(G204>H204,\"W\",\"L\"))))","v":"-"},null,null,{"$f":"IF(J204=\"\",\"\",IF((L202+J204)<900,900,(L202+J204)))","v":""},null,null,null,null,null,{"$f":"IF(UPPER(TRIM($D$204))=\"BYE\",\"-\",VLOOKUP($D$204,HCTableBlk3,2,FALSE))","v":"-"}]
[null,"\"","\"                  \"",{"$f":"PLAYER!F1049","v":" Block 3 Player 3"},{"$f":"IF(UPPER(TRIM($D$205))=\"BYE\",\"-\",VLOOKUP($D$205,HCTableBlk3,2,FALSE))","v":0},"L",{"$f":"IF(UPPER(TRIM(D205))=\"BYE\",\"0\",PLAYER!J1049)","v":-1E-3},{"$f":"IF(UPPER(TRIM(D205))=\"BYE\",\"0\",PLAYER!K1049)","v":-1E-3},{"$f":"IF(UPPER(TRIM(D205))=\"BYE\",\"-\",IF(G205<0,\"\",(IF(G205>H205,\"W\",\"L\"))))","v":""},null,null,{"$f":"IF(J205=\"\",\"\",IF((L204+J205)<900,900,(L204+J205)))","v":""},null,null,null,null,null,{"$f":"IF(UPPER(TRIM($D$205))=\"BYE\",\"-\",VLOOKUP($D$205,HCTableBlk3,2,FALSE))","v":0}]
[null,"\"","\"                  \"",{"$f":"PLAYER!F1050","v":" Block 3 Player 1"},{"$f":"IF(UPPER(TRIM($D$206))=\"BYE\",\"-\",VLOOKUP($D$206,HCTableBlk3,2,FALSE))","v":0},"L",{"$f":"IF(UPPER(TRIM(D206))=\"BYE\",\"0\",PLAYER!J1050)","v":-1E-3},{"$f":"IF(UPPER(TRIM(D206))=\"BYE\",\"0\",PLAYER!K1050)","v":-1E-3},"",null,null,"",null,null,null,null,null,{"$f":"IF(UPPER(TRIM($D$206))=\"BYE\",\"-\",VLOOKUP($D$206,HCTableBlk3,2,FALSE))","v":0}]
[null,"\"","\"                  \"",{"$f":"PLAYER!F1051","v":" Block 3 Player 7"},{"$f":"IF(UPPER(TRIM($D$207))=\"BYE\",\"-\",VLOOKUP($D$207,HCTableBlk3,2,FALSE))","v":0},"L",{"$f":"IF(UPPER(TRIM(D207))=\"BYE\",\"0\",PLAYER!J1051)","v":-1E-3},{"$f":"IF(UPPER(TRIM(D207))=\"BYE\",\"0\",PLAYER!K1051)","v":-1E-3},"",null,null,"",null,null,null,null,null,{"$f":"IF(UPPER(TRIM($D$207))=\"BYE\",\"-\",VLOOKUP($D$207,HCTableBlk3,2,FALSE))","v":0}]
[null,"\"","\"                  \"",{"$f":"PLAYER!F1052","v":" Block 3 Player 2"},{"$f":"IF(UPPER(TRIM($D$208))=\"BYE\",\"-\",VLOOKUP($D$208,HCTableBlk3,2,FALSE))","v":0},"L",{"$f":"IF(UPPER(TRIM(D208))=\"BYE\",\"0\",PLAYER!J1052)","v":-1E-3},{"$f":"IF(UPPER(TRIM(D208))=\"BYE\",\"0\",PLAYER!K1052)","v":-1E-3},"",null,null,"",null,null,null,null,null,{"$f":"IF(UPPER(TRIM($D$208))=\"BYE\",\"-\",VLOOKUP($D$208,HCTableBlk3,2,FALSE))","v":0}]
[null,"\"","\"                  \"",{"$f":"PLAYER!F1053","v":" Block 3 Player 4"},{"$f":"IF(UPPER(TRIM($D$209))=\"BYE\",\"-\",VLOOKUP($D$209,HCTableBlk3,2,FALSE))","v":0},"L",{"$f":"IF(UPPER(TRIM(D209))=\"BYE\",\"0\",PLAYER!J1053)","v":-1E-3},{"$f":"IF(UPPER(TRIM(D209))=\"BYE\",\"0\",PLAYER!K1053)","v":-1E-3},"",null,null,"",null,null,null,null,null,{"$f":"IF(UPPER(TRIM($D$209))=\"BYE\",\"-\",VLOOKUP($D$209,HCTableBlk3,2,FALSE))","v":0}]
[null,"\"","\"                  \"",{"$f":"PLAYER!F1054","v":" Block 3 Player 6"},{"$f":"IF(UPPER(TRIM($D$210))=\"BYE\",\"-\",VLOOKUP($D$210,HCTableBlk3,2,FALSE))","v":0},"L",{"$f":"IF(UPPER(TRIM(D210))=\"BYE\",\"0\",PLAYER!J1054)","v":-1E-3},{"$f":"IF(UPPER(TRIM(D210))=\"BYE\",\"0\",PLAYER!K1054)","v":-1E-3},"",null,"Finish >","",null,null,null,null,null,{"$f":"IF(UPPER(TRIM($D$210))=\"BYE\",\"-\",VLOOKUP($D$210,HCTableBlk3,2,FALSE))","v":0}]
[]
[null,"Player",null,{"$f":"SEED!$D$23","v":" Block 3 Player 6"},null,null,"Start H/C",{"$f":"SEED!$E$23","v":0},"New H/C",{"$f":"VLOOKUP(D212,HCTableBlk3,2,FALSE)","v":0},"Start Index",{"$f":"SEED!$C$23","v":0},"HC Change Indicator"]
[null,"Date","Event","Opponent","Op Hcap","Lev / Hcap","Score",null,"Won / Lost","Change +/-",null,"New Index"]
[null,{"$f":"NAMES!$C$9","v":"Date"},{"$f":"NAMES!$C$7","v":"Tournament"},{"$f":"PLAYER!F1100","v":" Block 3 Player 7"},{"$f":"IF(UPPER(TRIM($D$214))=\"BYE\",\"-\",VLOOKUP($D$214,HCTableBlk3,2,FALSE))","v":0},{"$f":"IF(HandicapPlay=\"x\",\"H\",\"L\")","v":"L"},{"$f":"IF(UPPER(TRIM(D214))=\"BYE\",\"0\",PLAYER!J1100)","v":-1E-3},{"$f":"IF(UPPER(TRIM(D214))=\"BYE\",\"0\",PLAYER!K1100)","v":-1E-3},{"$f":"IF(UPPER(TRIM(D214))=\"BYE\",\"-\",IF(G214<0,\"\",(IF(G214>H214,\"W\",\"L\"))))","v":""},null,null,{"$f":"IF(J214=\"\",\"\",IF((L212+J214)<900,900,(L212+J214)))","v":""},null,null,null,null,null,{"$f":"IF(UPPER(TRIM($D$214))=\"BYE\",\"-\",VLOOKUP($D$214,HCTableBlk3,2,FALSE))","v":0}]
[null,"\"","\"                  \"",{"$f":"PLAYER!F1101","v":" Block 3 Player 2"},{"$f":"IF(UPPER(TRIM($D$215))=\"BYE\",\"-\",VLOOKUP($D$215,HCTableBlk3,2,FALSE))","v":0},"L",{"$f":"IF(UPPER(TRIM(D215))=\"BYE\",\"0\",PLAYER!J1101)","v":-1E-3},{"$f":"IF(UPPER(TRIM(D215))=\"BYE\",\"0\",PLAYER!K1101)","v":-1E-3},{"$f":"IF(UPPER(TRIM(D215))=\"BYE\",\"-\",IF(G215<0,\"\",(IF(G215>H215,\"W\",\"L\"))))","v":""},null,null,{"$f":"IF(J215=\"\",\"\",IF((L214+J215)<900,900,(L214+J215)))","v":""},null,null,null,null,null,{"$f":"IF(UPPER(TRIM($D$215))=\"BYE\",\"-\",VLOOKUP($D$215,HCTableBlk3,2,FALSE))","v":0}]
[null,"\"","\"                  \"",{"$f":"PLAYER!F1102","v":" Block 3 Player 4"},{"$f":"IF(UPPER(TRIM($D$216))=\"BYE\",\"-\",VLOOKUP($D$216,HCTableBlk3,2,FALSE))","v":0},"L",{"$f":"IF(UPPER(TRIM(D216))=\"BYE\",\"0\",PLAYER!J1102)","v":-1E-3},{"$f":"IF(UPPER(TRIM(D216))=\"BYE\",\"0\",PLAYER!K1102)","v":-1E-3},"",null,null,"",null,null,null,null,null,{"$f":"IF(UPPER(TRIM($D$216))=\"BYE\",\"-\",VLOOKUP($D$216,HCTableBlk3,2,FALSE))","v":0}]
[null,"\"","\"                  \"",{"$f":"PLAYER!F1103","v":" Block 3 Player 1"},{"$f":"IF(UPPER(TRIM($D$217))=\"BYE\",\"-\",VLOOKUP($D$217,HCTableBlk3,2,FALSE))","v":0},"L",{"$f":"IF(UPPER(TRIM(D217))=\"BYE\",\"0\",PLAYER!J1103)","v":-1E-3},{"$f":"IF(UPPER(TRIM(D217))=\"BYE\",\"0\",PLAYER!K1103)","v":-1E-3},"",null,null,"",null,null,null,null,null,{"$f":"IF(UPPER(TRIM($D$217))=\"BYE\",\"-\",VLOOKUP($D$217,HCTableBlk3,2,FALSE))","v":0}]
[null,"\"","\"                  \"",{"$f":"PLAYER!F1104","v":" Bye "},{"$f":"IF(UPPER(TRIM($D$218))=\"BYE\",\"-\",VLOOKUP($D$218,HCTableBlk3,2,FALSE))","v":"-"},"L",{"$f":"IF(UPPER(TRIM(D218))=\"BYE\",\"0\",PLAYER!J1104)","v":"0"},{"$f":"IF(UPPER(TRIM(D218))=\"BYE\",\"0\",PLAYER!K1104)","v":"0"},"-",null,null,"",null,null,null,null,null,{"$f":"IF(UPPER(TRIM($D$218))=\"BYE\",\"-\",VLOOKUP($D$218,HCTableBlk3,2,FALSE))","v":"-"}]
[null,"\"","\"                  \"",{"$f":"PLAYER!F1105","v":" Block 3 Player 3"},{"$f":"IF(UPPER(TRIM($D$219))=\"BYE\",\"-\",VLOOKUP($D$219,HCTableBlk3,2,FALSE))","v":0},"L",{"$f":"IF(UPPER(TRIM(D219))=\"BYE\",\"0\",PLAYER!J1105)","v":-1E-3},{"$f":"IF(UPPER(TRIM(D219))=\"BYE\",\"0\",PLAYER!K1105)","v":-1E-3},"",null,null,"",null,null,null,null,null,{"$f":"IF(UPPER(TRIM($D$219))=\"BYE\",\"-\",VLOOKUP($D$219,HCTableBlk3,2,FALSE))","v":0}]
[null,"\"","\"                  \"",{"$f":"PLAYER!F1106","v":" Block 3 Player 5"},{"$f":"IF(UPPER(TRIM($D$220))=\"BYE\",\"-\",VLOOKUP($D$220,HCTableBlk3,2,FALSE))","v":0},"L",{"$f":"IF(UPPER(TRIM(D220))=\"BYE\",\"0\",PLAYER!J1106)","v":-1E-3},{"$f":"IF(UPPER(TRIM(D220))=\"BYE\",\"0\",PLAYER!K1106)","v":-1E-3},"",null,"Finish >","",null,null,null,null,null,{"$f":"IF(UPPER(TRIM($D$220))=\"BYE\",\"-\",VLOOKUP($D$220,HCTableBlk3,2,FALSE))","v":0}]
[]
[null,"Player",null,{"$f":"SEED!$D$24","v":" Block 3 Player 7"},null,null,"Start H/C",{"$f":"SEED!$E$24","v":0},"New H/C",{"$f":"VLOOKUP(D222,HCTableBlk3,2,FALSE)","v":0},"Start Index",{"$f":"SEED!$C$24","v":0},"HC Change Indicator"]
[null,"Date","Event","Opponent","Op Hcap","Lev / Hcap","Score",null,"Won / Lost","Change +/-",null,"New Index"]
[null,{"$f":"NAMES!$C$9","v":"Date"},{"$f":"NAMES!$C$7","v":"Tournament"},{"$f":"PLAYER!F1152","v":" Block 3 Player 6"},{"$f":"IF(UPPER(TRIM($D$224))=\"BYE\",\"-\",VLOOKUP($D$224,HCTableBlk3,2,FALSE))","v":0},{"$f":"IF(HandicapPlay=\"x\",\"H\",\"L\")","v":"L"},{"$f":"IF(UPPER(TRIM(D224))=\"BYE\",\"0\",PLAYER!J1152)","v":-1E-3},{"$f":"IF(UPPER(TRIM(D224))=\"BYE\",\"0\",PLAYER!K1152)","v":-1E-3},{"$f":"IF(UPPER(TRIM(D224))=\"BYE\",\"-\",IF(G224<0,\"\",(IF(G224>H224,\"W\",\"L\"))))","v":""},null,null,{"$f":"IF(J224=\"\",\"\",IF((L222+J224)<900,900,(L222+J224)))","v":""},null,null,null,null,null,{"$f":"IF(UPPER(TRIM($D$224))=\"BYE\",\"-\",VLOOKUP($D$224,HCTableBlk3,2,FALSE))","v":0}]
[null,"\"","\"                  \"",{"$f":"PLAYER!F1153","v":" Bye "},{"$f":"IF(UPPER(TRIM($D$225))=\"BYE\",\"-\",VLOOKUP($D$225,HCTableBlk3,2,FALSE))","v":"-"},"L",{"$f":"IF(UPPER(TRIM(D225))=\"BYE\",\"0\",PLAYER!J1153)","v":"0"},{"$f":"IF(UPPER(TRIM(D225))=\"BYE\",\"0\",PLAYER!K1153)","v":"0"},{"$f":"IF(UPPER(TRIM(D225))=\"BYE\",\"-\",IF(G225<0,\"\",(IF(G225>H225,\"W\",\"L\"))))","v":"-"},null,null,{"$f":"IF(J225=\"\",\"\",IF((L224+J225)<900,900,(L224+J225)))","v":""},null,null,null,null,null,{"$f":"IF(UPPER(TRIM($D$225))=\"BYE\",\"-\",VLOOKUP($D$225,HCTableBlk3,2,FALSE))","v":"-"}]
[null,"\"","\"                  \"",{"$f":"PLAYER!F1154","v":" Block 3 Player 3"},{"$f":"IF(UPPER(TRIM($D$226))=\"BYE\",\"-\",VLOOKUP($D$226,HCTableBlk3,2,FALSE))","v":0},"L",{"$f":"IF(UPPER(TRIM(D226))=\"BYE\",\"0\",PLAYER!J1154)","v":-1E-3},{"$f":"IF(UPPER(TRIM(D226))=\"BYE\",\"0\",PLAYER!K1154)","v":-1E-3},"",null,null,"",null,null,null,null,null,{"$f":"IF(UPPER(TRIM($D$226))=\"BYE\",\"-\",VLOOKUP($D$226,HCTableBlk3,2,FALSE))","v":0}]
[null,"\"","\"                  \"",{"$f":"PLAYER!F1155","v":" Block 3 Player 5"},{"$f":"IF(UPPER(TRIM($D$227))=\"BYE\",\"-\",VLOOKUP($D$227,HCTableBlk3,2,FALSE))","v":0},"L",{"$f":"IF(UPPER(TRIM(D227))=\"BYE\",\"0\",PLAYER!J1155)","v":-1E-3},{"$f":"IF(UPPER(TRIM(D227))=\"BYE\",\"0\",PLAYER!K1155)","v":-1E-3},"",null,null,"",null,null,null,null,null,{"$f":"IF(UPPER(TRIM($D$227))=\"BYE\",\"-\",VLOOKUP($D$227,HCTableBlk3,2,FALSE))","v":0}]
[null,"\"","\"                  \"",{"$f":"PLAYER!F1156","v":" Block 3 Player 1"},{"$f":"IF(UPPER(TRIM($D$228))=\"BYE\",\"-\",VLOOKUP($D$228,HCTableBlk3,2,FALSE))","v":0},"L",{"$f":"IF(UPPER(TRIM(D228))=\"BYE\",\"0\",PLAYER!J1156)","v":-1E-3},{"$f":"IF(UPPER(TRIM(D228))=\"BYE\",\"0\",PLAYER!K1156)","v":-1E-3},"",null,null,"",null,null,null,null,null,{"$f":"IF(UPPER(TRIM($D$228))=\"BYE\",\"-\",VLOOKUP($D$228,HCTableBlk3,2,FALSE))","v":0}]
[null,"\"","\"                  \"",{"$f":"PLAYER!F1157","v":" Block 3 Player 2"},{"$f":"IF(UPPER(TRIM($D$229))=\"BYE\",\"-\",VLOOKUP($D$229,HCTableBlk3,2,FALSE))","v":0},"L",{"$f":"IF(UPPER(TRIM(D229))=\"BYE\",\"0\",PLAYER!J1157)","v":-1E-3},{"$f":"IF(UPPER(TRIM(D229))=\"BYE\",\"0\",PLAYER!K1157)","v":-1E-3},"",null,null,"",null,null,null,null,null,{"$f":"IF(UPPER(TRIM($D$229))=\"BYE\",\"-\",VLOOKUP($D$229,HCTableBlk3,2,FALSE))","v":0}]
[null,"\"","\"                  \"",{"$f":"PLAYER!F1158","v":" Block 3 Player 4"},{"$f":"IF(UPPER(TRIM($D$230))=\"BYE\",\"-\",VLOOKUP($D$230,HCTableBlk3,2,FALSE))","v":0},"L",{"$f":"IF(UPPER(TRIM(D230))=\"BYE\",\"0\",PLAYER!J1158)","v":-1E-3},{"$f":"IF(UPPER(TRIM(D230))=\"BYE\",\"0\",PLAYER!K1158)","v":-1E-3},"",null,"Finish >","",null,null,null,null,null,{"$f":"IF(UPPER(TRIM($D$230))=\"BYE\",\"-\",VLOOKUP($D$230,HCTableBlk3,2,FALSE))","v":0}]
[]
[null,"Player",null,{"$f":"SEED!$D$25","v":" Bye "},null,null,"Start H/C",{"$f":"SEED!$E$25","v":0},"New H/C",{"$f":"VLOOKUP(D232,HCTableBlk3,2,FALSE)","v":0},"Start Index",{"$f":"SEED!$C$25","v":0},"HC Change Indicator"]
[null,"Date","Event","Opponent","Op Hcap","Lev / Hcap","Score",null,"Won / Lost","Change +/-",null,"New Index"]
[null,{"$f":"NAMES!$C$9","v":"Date"},{"$f":"NAMES!$C$7","v":"Tournament"},{"$f":"PLAYER!F1204","v":" Block 3 Player 5"},6,{"$f":"IF(HandicapPlay=\"x\",\"H\",\"L\")","v":"L"},{"$f":"PLAYER!J1204","v":-1E-3},{"$f":"PLAYER!K1204","v":-1E-3},{"$f":"IF(G234<0,\"\",(IF(G234>H234,\"W\",\"L\")))","v":""},null,null,{"$f":"IF(J234=\"\",\"\",L232+J234)","v":""}]
[null,"\"","\"                  \"",{"$f":"PLAYER!F1205","v":" Block 3 Player 7"},5,"L",{"$f":"PLAYER!J1205","v":-1E-3},{"$f":"PLAYER!K1205","v":-1E-3},{"$f":"IF(G235<0,\"\",(IF(G235>H235,\"W\",\"L\")))","v":""},null,null,{"$f":"IF(J235=\"\",\"\",L234+J235)","v":""}]
[null,"\"","\"                  \"",{"$f":"PLAYER!F1206","v":" Block 3 Player 2"},4,"L",{"$f":"PLAYER!J1206","v":-1E-3},{"$f":"PLAYER!K1206","v":-1E-3},"",null,null,""]
[null,"\"","\"                  \"",{"$f":"PLAYER!F1207","v":" Block 3 Player 4"},5,"L",{"$f":"PLAYER!J1207","v":-1E-3},{"$f":"PLAYER!K1207","v":-1E-3},"",null,null,""]
[null,"\"","\"                  \"",{"$f":"PLAYER!F1208","v":" Block 3 Player 6"},8,"L",{"$f":"PLAYER!J1208","v":-1E-3},{"$f":"PLAYER!K1208","v":-1E-3},"",null,null,""]
[null,"\"","\"                  \"",{"$f":"PLAYER!F1209","v":" Block 3 Player 1"},5,"L",{"$f":"PLAYER!J1209","v":-1E-3},{"$f":"PLAYER!K1209","v":-1E-3},"",null,null,""]
[null,"\"","\"                  \"",{"$f":"PLAYER!F1210","v":" Block 3 Player 3"},6,"L",{"$f":"PLAYER!J1210","v":-1E-3},{"$f":"PLAYER!K1210","v":-1E-3},"",null,"Finish >",""]
[null,{"$f":"SEED!$I$16","v":"BLOCK 4"}]
[null,"Player",null,{"$f":"SEED!$I$18","v":" Block 4 Player 1"},null,null,"Start H/C",{"$f":"SEED!$J$18","v":0},"New H/C",{"$f":"VLOOKUP(D242,HCTableBlk4,2,FALSE)","v":0},"Start Index",{"$f":"SEED!$H$18","v":0},"HC Change Indicator","BLOCK 4"]
[null,"Date","Event","Opponent","Op Hcap","Lev / Hcap","Score",null,"Won / Lost","Change +/-",null,"New Index",null,"Player","H/C","Temp H/C",null,null,null,"HC Change Flags"]
[null,{"$f":"NAMES!$C$9","v":"Date"},{"$f":"NAMES!$C$7","v":"Tournament"},{"$f":"PLAYER!F1256","v":" Block 4 Player 3"},{"$f":"IF(UPPER(TRIM($D$244))=\"BYE\",\"-\",VLOOKUP($D$244,HCTableBlk4,2,FALSE))","v":0},{"$f":"IF(HandicapPlay=\"x\",\"H\",\"L\")","v":"L"},{"$f":"IF(UPPER(TRIM(D244))=\"BYE\",\"0\",PLAYER!J1256)","v":-1E-3},{"$f":"IF(UPPER(TRIM(D244))=\"BYE\",\"0\",PLAYER!K1256)","v":-1E-3},{"$f":"IF(UPPER(TRIM(D244))=\"BYE\",\"-\",IF(G244<0,\"\",(IF(G244>H244,\"W\",\"L\"))))","v":""},null,null,{"$f":"IF(J244=\"\",\"\",IF((L242+J244)<900,900,(L242+J244)))","v":""},null,{"$f":"SEED!I18","v":" Block 4 Player 1"},{"$f":"SEED!J18","v":0},null,null,{"$f":"IF(UPPER(TRIM($D$244))=\"BYE\",\"-\",VLOOKUP($D$244,HCTableBlk4,2,FALSE))","v":0},null,0,"25"]
[null,"\"","\"                  \"",{"$f":"PLAYER!F1257","v":" Block 4 Player 4"},{"$f":"IF(UPPER(TRIM($D$245))=\"BYE\",\"-\",VLOOKUP($D$245,HCTableBlk4,2,FALSE))","v":0},"L",{"$f":"IF(UPPER(TRIM(D245))=\"BYE\",\"0\",PLAYER!J1257)","v":-1E-3},{"$f":"IF(UPPER(TRIM(D245))=\"BYE\",\"0\",PLAYER!K1257)","v":-1E-3},{"$f":"IF(UPPER(TRIM(D245))=\"BYE\",\"-\",IF(G245<0,\"\",(IF(G245>H245,\"W\",\"L\"))))","v":""},null,null,{"$f":"IF(J245=\"\",\"\",IF((L244+J245)<900,900,(L244+J245)))","v":""},null,{"$f":"SEED!I19","v":" Block 4 Player 2"},{"$f":"SEED!J19","v":0},null,null,{"$f":"IF(UPPER(TRIM($D$245))=\"BYE\",\"-\",VLOOKUP($D$245,HCTableBlk4,2,FALSE))","v":0},null,0,"26"]
[null,"\"","\"                  \"",{"$f":"PLAYER!F1258","v":" Block 4 Player 5"},{"$f":"IF(UPPER(TRIM($D$246))=\"BYE\",\"-\",VLOOKUP($D$246,HCTableBlk4,2,FALSE))","v":0},"L",{"$f":"IF(UPPER(TRIM(D246))=\"BYE\",\"0\",PLAYER!J1258)","v":-1E-3},{"$f":"IF(UPPER(TRIM(D246))=\"BYE\",\"0\",PLAYER!K1258)","v":-1E-3},"",null,null,"",null,{"$f":"SEED!I20","v":" Block 4 Player 3"},{"$f":"SEED!J20","v":0},null,null,{"$f":"IF(UPPER(TRIM($D$246))=\"BYE\",\"-\",VLOOKUP($D$246,HCTableBlk4,2,FALSE))","v":0},null,0,"27"]
[null,"\"","\"                  \"",{"$f":"PLAYER!F1259","v":" Block 4 Player 6"},{"$f":"IF(UPPER(TRIM($D$247))=\"BYE\",\"-\",VLOOKUP($D$247,HCTableBlk4,2,FALSE))","v":0},"L",{"$f":"IF(UPPER(TRIM(D247))=\"BYE\",\"0\",PLAYER!J1259)","v":-1E-3},{"$f":"IF(UPPER(TRIM(D247))=\"BYE\",\"0\",PLAYER!K1259)","v":-1E-3},"",null,null,"",null,{"$f":"SEED!I21","v":" Block 4 Player 4"},{"$f":"SEED!J21","v":0},null,null,{"$f":"IF(UPPER(TRIM($D$247))=\"BYE\",\"-\",VLOOKUP($D$247,HCTableBlk4,2,FALSE))","v":0},null,0,"28"]
[null,"\"","\"                  \"",{"$f":"PLAYER!F1260","v":" Block 4 Player 7"},{"$f":"IF(UPPER(TRIM($D$248))=\"BYE\",\"-\",VLOOKUP($D$248,HCTableBlk4,2,FALSE))","v":0},"L",{"$f":"IF(UPPER(TRIM(D248))=\"BYE\",\"0\",PLAYER!J1260)","v":-1E-3},{"$f":"IF(UPPER(TRIM(D248))=\"BYE\",\"0\",PLAYER!K1260)","v":-1E-3},"",null,null,"",null,{"$f":"SEED!I22","v":" Block 4 Player 5"},{"$f":"SEED!J22","v":0},null,null,{"$f":"IF(UPPER(TRIM($D$248))=\"BYE\",\"-\",VLOOKUP($D$248,HCTableBlk4,2,FALSE))","v":0},null,0,"29"]
[null,"\"","\"                  \"",{"$f":"PLAYER!F1261","v":" Bye "},{"$f":"IF(UPPER(TRIM($D$249))=\"BYE\",\"-\",VLOOKUP($D$249,HCTableBlk4,2,FALSE))","v":"-"},"L",{"$f":"IF(UPPER(TRIM(D249))=\"BYE\",\"0\",PLAYER!J1261)","v":"0"},{"$f":"IF(UPPER(TRIM(D249))=\"BYE\",\"0\",PLAYER!K1261)","v":"0"},"-",null,null,"",null,{"$f":"SEED!I23","v":" Block 4 Player 6"},{"$f":"SEED!J23","v":0},null,null,{"$f":"IF(UPPER(TRIM($D$249))=\"BYE\",\"-\",VLOOKUP($D$249,HCTableBlk4,2,FALSE))","v":"-"},null,0,"30"]
[null,"\"","\"                  \"",{"$f":"PLAYER!F1262","v":" Block 4 Player 2"},{"$f":"IF(UPPER(TRIM($D$250))=\"BYE\",\"-\",VLOOKUP($D$250,HCTableBlk4,2,FALSE))","v":0},"L",{"$f":"IF(UPPER(TRIM(D250))=\"BYE\",\"0\",PLAYER!J1262)","v":-1E-3},{"$f":"IF(UPPER(TRIM(D250))=\"BYE\",\"0\",PLAYER!K1262)","v":-1E-3},"",null,"Finish >","",null,{"$f":"SEED!I24","v":" Block 4 Player 7"},{"$f":"SEED!J24","v":0},null,null,{"$f":"IF(UPPER(TRIM($D$250))=\"BYE\",\"-\",VLOOKUP($D$250,HCTableBlk4,2,FALSE))","v":0},null,0,"31"]
[null,null,null,null,null,null,null,null,null,null,null,null,null,{"$f":"SEED!I25","v":" Bye "},{"$f":"SEED!J25","v":0},null,null,null,null,0,"(32)"]
[null,"Player",null,{"$f":"SEED!$I$19","v":" Block 4 Player 2"},null,null,"Start H/C",{"$f":"SEED!$J$19","v":0},"New H/C",{"$f":"VLOOKUP(D252,HCTableBlk4,2,FALSE)","v":0},"Start Index",{"$f":"SEED!$H$19","v":0},"HC Change Indicator"]
[null,"Date","Event","Opponent","Op Hcap","Lev / Hcap","Score",null,"Won / Lost","Change +/-",null,"New Index"]
[null,{"$f":"NAMES!$C$9","v":"Date"},{"$f":"NAMES!$C$7","v":"Tournament"},{"$f":"PLAYER!F1308","v":" Block 4 Player 4"},{"$f":"IF(UPPER(TRIM($D$254))=\"BYE\",\"-\",VLOOKUP($D$254,HCTableBlk4,2,FALSE))","v":0},{"$f":"IF(HandicapPlay=\"x\",\"H\",\"L\")","v":"L"},{"$f":"IF(UPPER(TRIM(D254))=\"BYE\",\"0\",PLAYER!J1308)","v":-1E-3},{"$f":"IF(UPPER(TRIM(D254))=\"BYE\",\"0\",PLAYER!K1308)","v":-1E-3},{"$f":"IF(UPPER(TRIM(D254))=\"BYE\",\"-\",IF(G254<0,\"\",(IF(G254>H254,\"W\",\"L\"))))","v":""},null,null,{"$f":"IF(J254=\"\",\"\",IF((L252+J254)<900,900,(L252+J254)))","v":""},null,null,null,null,null,{"$f":"IF(UPPER(TRIM($D$254))=\"BYE\",\"-\",VLOOKUP($D$254,HCTableBlk4,2,FALSE))","v":0}]
[null,"\"","\"                  \"",{"$f":"PLAYER!F1309","v":" Block 4 Player 6"},{"$f":"IF(UPPER(TRIM($D$255))=\"BYE\",\"-\",VLOOKUP($D$255,HCTableBlk4,2,FALSE))","v":0},"L",{"$f":"IF(UPPER(TRIM(D255))=\"BYE\",\"0\",PLAYER!J1309)","v":-1E-3},{"$f":"IF(UPPER(TRIM(D255))=\"BYE\",\"0\",PLAYER!K1309)","v":-1E-3},{"$f":"IF(UPPER(TRIM(D255))=\"BYE\",\"-\",IF(G255<0,\"\",(IF(G255>H255,\"W\",\"L\"))))","v":""},null,null,{"$f":"IF(J255=\"\",\"\",IF((L254+J255)<900,900,(L254+J255)))","v":""},null,null,null,null,null,{"$f":"IF(UPPER(TRIM($D$255))=\"BYE\",\"-\",VLOOKUP($D$255,HCTableBlk4,2,FALSE))","v":0}]
[null,"\"","\"                  \"",{"$f":"PLAYER!F1310","v":" Bye "},{"$f":"IF(UPPER(TRIM($D$256))=\"BYE\",\"-\",VLOOKUP($D$256,HCTableBlk4,2,FALSE))","v":"-"},"L",{"$f":"IF(UPPER(TRIM(D256))=\"BYE\",\"0\",PLAYER!J1310)","v":"0"},{"$f":"IF(UPPER(TRIM(D256))=\"BYE\",\"0\",PLAYER!K1310)","v":"0"},"-",null,null,"",null,null,null,null,null,{"$f":"IF(UPPER(TRIM($D$256))=\"BYE\",\"-\",VLOOKUP($D$256,HCTableBlk4,2,FALSE))","v":"-"}]
[null,"\"","\"                  \"",{"$f":"PLAYER!F1311","v":" Block 4 Player 3"},{"$f":"IF(UPPER(TRIM($D$257))=\"BYE\",\"-\",VLOOKUP($D$257,HCTableBlk4,2,FALSE))","v":0},"L",{"$f":"IF(UPPER(TRIM(D257))=\"BYE\",\"0\",PLAYER!J1311)","v":-1E-3},{"$f":"IF(UPPER(TRIM(D257))=\"BYE\",\"0\",PLAYER!K1311)","v":-1E-3},"",null,null,"",null,null,null,null,null,{"$f":"IF(UPPER(TRIM($D$257))=\"BYE\",\"-\",VLOOKUP($D$257,HCTableBlk4,2,FALSE))","v":0}]
[null,"\"","\"                  \"",{"$f":"PLAYER!F1312","v":" Block 4 Player 5"},{"$f":"IF(UPPER(TRIM($D$258))=\"BYE\",\"-\",VLOOKUP($D$258,HCTableBlk4,2,FALSE))","v":0},"L",{"$f":"IF(UPPER(TRIM(D258))=\"BYE\",\"0\",PLAYER!J1312)","v":-1E-3},{"$f":"IF(UPPER(TRIM(D258))=\"BYE\",\"0\",PLAYER!K1312)","v":-1E-3},"",null,null,"",null,null,null,null,null,{"$f":"IF(UPPER(TRIM($D$258))=\"BYE\",\"-\",VLOOKUP($D$258,HCTableBlk4,2,FALSE))","v":0}]
[null,"\"","\"                  \"",{"$f":"PLAYER!F1313","v":" Block 4 Player 7"},{"$f":"IF(UPPER(TRIM($D$259))=\"BYE\",\"-\",VLOOKUP($D$259,HCTableBlk4,2,FALSE))","v":0},"L",{"$f":"IF(UPPER(TRIM(D259))=\"BYE\",\"0\",PLAYER!J1313)","v":-1E-3},{"$f":"IF(UPPER(TRIM(D259))=\"BYE\",\"0\",PLAYER!K1313)","v":-1E-3},"",null,null,"",null,null,null,null,null,{"$f":"IF(UPPER(TRIM($D$259))=\"BYE\",\"-\",VLOOKUP($D$259,HCTableBlk4,2,FALSE))","v":0}]
[null,"\"","\"                  \"",{"$f":"PLAYER!F1314","v":" Block 4 Player 1"},{"$f":"IF(UPPER(TRIM($D$260))=\"BYE\",\"-\",VLOOKUP($D$260,HCTableBlk4,2,FALSE))","v":0},"L",{"$f":"IF(UPPER(TRIM(D260))=\"BYE\",\"0\",PLAYER!J1314)","v":-1E-3},{"$f":"IF(UPPER(TRIM(D260))=\"BYE\",\"0\",PLAYER!K1314)","v":-1E-3},"",null,"Finish >","",null,null,null,null,null,{"$f":"IF(UPPER(TRIM($D$260))=\"BYE\",\"-\",VLOOKUP($D$260,HCTableBlk4,2,FALSE))","v":0}]
[]
[null,"Player",null,{"$f":"SEED!$I$20","v":" Block 4 Player 3"},null,null,"Start H/C",{"$f":"SEED!$J$20","v":0},"New H/C",{"$f":"VLOOKUP(D262,HCTableBlk4,2,FALSE)","v":0},"Start Index",{"$f":"SEED!$H$20","v":0},"HC Change Indicator"]
[null,"Date","Event","Opponent","Op Hcap","Lev / Hcap","Score",null,"Won / Lost","Change +/-",null,"New Index"]
[null,{"$f":"NAMES!$C$9","v":"Date"},{"$f":"NAMES!$C$7","v":"Tournament"},{"$f":"PLAYER!F1360","v":" Block 4 Player 1"},{"$f":"IF(UPPER(TRIM($D$264))=\"BYE\",\"-\",VLOOKUP($D$264,HCTableBlk4,2,FALSE))","v":0},{"$f":"IF(HandicapPlay=\"x\",\"H\",\"L\")","v":"L"},{"$f":"IF(UPPER(TRIM(D264))=\"BYE\",\"0\",PLAYER!J1360)","v":-1E-3},{"$f":"IF(UPPER(TRIM(D264))=\"BYE\",\"0\",PLAYER!K1360)","v":-1E-3},{"$f":"IF(UPPER(TRIM(D264))=\"BYE\",\"-\",IF(G264<0,\"\",(IF(G264>H264,\"W\",\"L\"))))","v":""},null,null,{"$f":"IF(J264=\"\",\"\",IF((L262+J264)<900,900,(L262+J264)))","v":""},null,null,null,null,null,{"$f":"IF(UPPER(TRIM($D$264))=\"BYE\",\"-\",VLOOKUP($D$264,HCTableBlk4,2,FALSE))","v":0}]
[null,"\"","\"                  \"",{"$f":"PLAYER!F1361","v":" Block 4 Player 5"},{"$f":"IF(UPPER(TRIM($D$265))=\"BYE\",\"-\",VLOOKUP($D$265,HCTableBlk4,2,FALSE))","v":0},"L",{"$f":"IF(UPPER(TRIM(D265))=\"BYE\",\"0\",PLAYER!J1361)","v":-1E-3},{"$f":"IF(UPPER(TRIM(D265))=\"BYE\",\"0\",PLAYER!K1361)","v":-1E-3},{"$f":"IF(UPPER(TRIM(D265))=\"BYE\",\"-\",IF(G265<0,\"\",(IF(G265>H265,\"W\",\"L\"))))","v":""},null,null,{"$f":"IF(J265=\"\",\"\",IF((L264+J265)<900,900,(L264+J265)))","v":""},null,null,null,null,null,{"$f":"IF(UPPER(TRIM($D$265))=\"BYE\",\"-\",VLOOKUP($D$265,HCTableBlk4,2,FALSE))","v":0}]
[null,"\"","\"                  \"",{"$f":"PLAYER!F1362","v":" Block 4 Player 7"},{"$f":"IF(UPPER(TRIM($D$266))=\"BYE\",\"-\",VLOOKUP($D$266,HCTableBlk4,2,FALSE))","v":0},"L",{"$f":"IF(UPPER(TRIM(D266))=\"BYE\",\"0\",PLAYER!J1362)","v":-1E-3},{"$f":"IF(UPPER(TRIM(D266))=\"BYE\",\"0\",PLAYER!K1362)","v":-1E-3},"",null,null,"",null,null,null,null,null,{"$f":"IF(UPPER(TRIM($D$266))=\"BYE\",\"-\",VLOOKUP($D$266,HCTableBlk4,2,FALSE))","v":0}]
[null,"\"","\"                  \"",{"$f":"PLAYER!F1363","v":" Block 4 Player 2"},{"$f":"IF(UPPER(TRIM($D$267))=\"BYE\",\"-\",VLOOKUP($D$267,HCTableBlk4,2,FALSE))","v":0},"L",{"$f":"IF(UPPER(TRIM(D267))=\"BYE\",\"0\",PLAYER!J1363)","v":-1E-3},{"$f":"IF(UPPER(TRIM(D267))=\"BYE\",\"0\",PLAYER!K1363)","v":-1E-3},"",null,null,"",null,null,null,null,null,{"$f":"IF(UPPER(TRIM($D$267))=\"BYE\",\"-\",VLOOKUP($D$267,HCTableBlk4,2,FALSE))","v":0}]
[null,"\"","\"                  \"",{"$f":"PLAYER!F1364","v":" Block 4 Player 4"},{"$f":"IF(UPPER(TRIM($D$268))=\"BYE\",\"-\",VLOOKUP($D$268,HCTableBlk4,2,FALSE))","v":0},"L",{"$f":"IF(UPPER(TRIM(D268))=\"BYE\",\"0\",PLAYER!J1364)","v":-1E-3},{"$f":"IF(UPPER(TRIM(D268))=\"BYE\",\"0\",PLAYER!K1364)","v":-1E-3},"",null,null,"",null,null,null,null,null,{"$f":"IF(UPPER(TRIM($D$268))=\"BYE\",\"-\",VLOOKUP($D$268,HCTableBlk4,2,FALSE))","v":0}]
[null,"\"","\"                  \"",{"$f":"PLAYER!F1365","v":" Block 4 Player 6"},{"$f":"IF(UPPER(TRIM($D$269))=\"BYE\",\"-\",VLOOKUP($D$269,HCTableBlk4,2,FALSE))","v":0},"L",{"$f":"IF(UPPER(TRIM(D269))=\"BYE\",\"0\",PLAYER!J1365)","v":-1E-3},{"$f":"IF(UPPER(TRIM(D269))=\"BYE\",\"0\",PLAYER!K1365)","v":-1E-3},"",null,null,"",null,null,null,null,null,{"$f":"IF(UPPER(TRIM($D$269))=\"BYE\",\"-\",VLOOKUP($D$269,HCTableBlk4,2,FALSE))","v":0}]
[null,"\"","\"                  \"",{"$f":"PLAYER!F1366","v":" Bye "},{"$f":"IF(UPPER(TRIM($D$270))=\"BYE\",\"-\",VLOOKUP($D$270,HCTableBlk4,2,FALSE))","v":"-"},"L",{"$f":"IF(UPPER(TRIM(D270))=\"BYE\",\"0\",PLAYER!J1366)","v":"0"},{"$f":"IF(UPPER(TRIM(D270))=\"BYE\",\"0\",PLAYER!K1366)","v":"0"},"-",null,"Finish >","",null,null,null,null,null,{"$f":"IF(UPPER(TRIM($D$270))=\"BYE\",\"-\",VLOOKUP($D$270,HCTableBlk4,2,FALSE))","v":"-"}]
[]
[null,"Player",null,{"$f":"SEED!$I$21","v":" Block 4 Player 4"},null,null,"Start H/C",{"$f":"SEED!$J$21","v":0},"New H/C",{"$f":"VLOOKUP(D272,HCTableBlk4,2,FALSE)","v":0},"Start Index",{"$f":"SEED!$H$21","v":0},"HC Change Indicator"]
[null,"Date","Event","Opponent","Op Hcap","Lev / Hcap","Score",null,"Won / Lost","Change +/-",null,"New Index"]
[null,{"$f":"NAMES!$C$9","v":"Date"},{"$f":"NAMES!$C$7","v":"Tournament"},{"$f":"PLAYER!F1412","v":" Block 4 Player 2"},{"$f":"IF(UPPER(TRIM($D$274))=\"BYE\",\"-\",VLOOKUP($D$274,HCTableBlk4,2,FALSE))","v":0},{"$f":"IF(HandicapPlay=\"x\",\"H\",\"L\")","v":"L"},{"$f":"IF(UPPER(TRIM(D274))=\"BYE\",\"0\",PLAYER!J1412)","v":-1E-3},{"$f":"IF(UPPER(TRIM(D274))=\"BYE\",\"0\",PLAYER!K1412)","v":-1E-3},{"$f":"IF(UPPER(TRIM(D274))=\"BYE\",\"-\",IF(G274<0,\"\",(IF(G274>H274,\"W\",\"L\"))))","v":""},null,null,{"$f":"IF(J274=\"\",\"\",IF((L272+J274)<900,900,(L272+J274)))","v":""},null,null,null,null,null,{"$f":"IF(UPPER(TRIM($D$274))=\"BYE\",\"-\",VLOOKUP($D$274,HCTableBlk4,2,FALSE))","v":0}]
[null,"\"","\"                  \"",{"$f":"PLAYER!F1413","v":" Block 4 Player 1"},{"$f":"IF(UPPER(TRIM($D$275))=\"BYE\",\"-\",VLOOKUP($D$275,HCTableBlk4,2,FALSE))","v":0},"L",{"$f":"IF(UPPER(TRIM(D275))=\"BYE\",\"0\",PLAYER!J1413)","v":-1E-3},{"$f":"IF(UPPER(TRIM(D275))=\"BYE\",\"0\",PLAYER!K1413)","v":-1E-3},{"$f":"IF(UPPER(TRIM(D275))=\"BYE\",\"-\",IF(G275<0,\"\",(IF(G275>H275,\"W\",\"L\"))))","v":""},null,null,{"$f":"IF(J275=\"\",\"\",IF((L274+J275)<900,900,(L274+J275)))","v":""},null,null,null,null,null,{"$f":"IF(UPPER(TRIM($D$275))=\"BYE\",\"-\",VLOOKUP($D$275,HCTableBlk4,2,FALSE))","v":0}]
[null,"\"","\"                  \"",{"$f":"PLAYER!F1414","v":" Block 4 Player 6"},{"$f":"IF(UPPER(TRIM($D$276))=\"BYE\",\"-\",VLOOKUP($D$276,HCTableBlk4,2,FALSE))","v":0},"L",{"$f":"IF(UPPER(TRIM(D276))=\"BYE\",\"0\",PLAYER!J1414)","v":-1E-3},{"$f":"IF(UPPER(TRIM(D276))=\"BYE\",\"0\",PLAYER!K1414)","v":-1E-3},"",null,null,"",null,null,null,null,null,{"$f":"IF(UPPER(TRIM($D$276))=\"BYE\",\"-\",VLOOKUP($D$276,HCTableBlk4,2,FALSE))","v":0}]
[null,"\"","\"                  \"",{"$f":"PLAYER!F1415","v":" Bye "},{"$f":"IF(UPPER(TRIM($D$277))=\"BYE\",\"-\",VLOOKUP($D$277,HCTableBlk4,2,FALSE))","v":"-"},"L",{"$f":"IF(UPPER(TRIM(D277))=\"BYE\",\"0\",PLAYER!J1415)","v":"0"},{"$f":"IF(UPPER(TRIM(D277))=\"BYE\",\"0\",PLAYER!K1415)","v":"0"},"-",null,null,"",null,null,null,null,null,{"$f":"IF(UPPER(TRIM($D$277))=\"BYE\",\"-\",VLOOKUP($D$277,HCTableBlk4,2,FALSE))","v":"-"}]
[null,"\"","\"                  \"",{"$f":"PLAYER!F1416","v":" Block 4 Player 3"},{"$f":"IF(UPPER(TRIM($D$278))=\"BYE\",\"-\",VLOOKUP($D$278,HCTableBlk4,2,FALSE))","v":0},"L",{"$f":"IF(UPPER(TRIM(D278))=\"BYE\",\"0\",PLAYER!J1416)","v":-1E-3},{"$f":"IF(UPPER(TRIM(D278))=\"BYE\",\"0\",PLAYER!K1416)","v":-1E-3},"",null,null,"",null,null,null,null,null,{"$f":"IF(UPPER(TRIM($D$278))=\"BYE\",\"-\",VLOOKUP($D$278,HCTableBlk4,2,FALSE))","v":0}]
[null,"\"","\"                  \"",{"$f":"PLAYER!F1417","v":" Block 4 Player 5"},{"$f":"IF(UPPER(TRIM($D$279))=\"BYE\",\"-\",VLOOKUP($D$279,HCTableBlk4,2,FALSE))","v":0},"L",{"$f":"IF(UPPER(TRIM(D279))=\"BYE\",\"0\",PLAYER!J1417)","v":-1E-3},{"$f":"IF(UPPER(TRIM(D279))=\"BYE\",\"0\",PLAYER!K1417)","v":-1E-3},"",null,null,"",null,null,null,null,null,{"$f":"IF(UPPER(TRIM($D$279))=\"BYE\",\"-\",VLOOKUP($D$279,HCTableBlk4,2,FALSE))","v":0}]
[null,"\"","\"                  \"",{"$f":"PLAYER!F1418","v":" Block 4 Player 7"},{"$f":"IF(UPPER(TRIM($D$280))=\"BYE\",\"-\",VLOOKUP($D$280,HCTableBlk4,2,FALSE))","v":0},"L",{"$f":"IF(UPPER(TRIM(D280))=\"BYE\",\"0\",PLAYER!J1418)","v":-1E-3},{"$f":"IF(UPPER(TRIM(D280))=\"BYE\",\"0\",PLAYER!K1418)","v":-1E-3},"",null,"Finish >","",null,null,null,null,null,{"$f":"IF(UPPER(TRIM($D$280))=\"BYE\",\"-\",VLOOKUP($D$280,HCTableBlk4,2,FALSE))","v":0}]
[]
[null,"Player",null,{"$f":"SEED!$I$22","v":" Block 4 Player 5"},null,null,"Start H/C",{"$f":"SEED!$J$22","v":0},"New H/C",{"$f":"VLOOKUP(D282,HCTableBlk4,2,FALSE)","v":0},"Start Index",{"$f":"SEED!$H$22","v":0},"HC Change Indicator"]
[null,"Date","Event","Opponent","Op Hcap","Lev / Hcap","Score",null,"Won / Lost","Change +/-",null,"New Index"]
[null,{"$f":"NAMES!$C$9","v":"Date"},{"$f":"NAMES!$C$7","v":"Tournament"},{"$f":"PLAYER!F1464","v":" Bye "},{"$f":"IF(UPPER(TRIM($D$284))=\"BYE\",\"-\",VLOOKUP($D$284,HCTableBlk4,2,FALSE))","v":"-"},{"$f":"IF(HandicapPlay=\"x\",\"H\",\"L\")","v":"L"},{"$f":"IF(UPPER(TRIM(D284))=\"BYE\",\"0\",PLAYER!J1464)","v":"0"},{"$f":"IF(UPPER(TRIM(D284))=\"BYE\",\"0\",PLAYER!K1464)","v":"0"},{"$f":"IF(UPPER(TRIM(D284))=\"BYE\",\"-\",IF(G284<0,\"\",(IF(G284>H284,\"W\",\"L\"))))","v":"-"},null,null,{"$f":"IF(J284=\"\",\"\",IF((L282+J284)<900,900,(L282+J284)))","v":""},null,null,null,null,null,{"$f":"IF(UPPER(TRIM($D$284))=\"BYE\",\"-\",VLOOKUP($D$284,HCTableBlk4,2,FALSE))","v":"-"}]
[null,"\"","\"                  \"",{"$f":"PLAYER!F1465","v":" Block 4 Player 3"},{"$f":"IF(UPPER(TRIM($D$285))=\"BYE\",\"-\",VLOOKUP($D$285,HCTableBlk4,2,FALSE))","v":0},"L",{"$f":"IF(UPPER(TRIM(D285))=\"BYE\",\"0\",PLAYER!J1465)","v":-1E-3},{"$f":"IF(UPPER(TRIM(D285))=\"BYE\",\"0\",PLAYER!K1465)","v":-1E-3},{"$f":"IF(UPPER(TRIM(D285))=\"BYE\",\"-\",IF(G285<0,\"\",(IF(G285>H285,\"W\",\"L\"))))","v":""},null,null,{"$f":"IF(J285=\"\",\"\",IF((L284+J285)<900,900,(L284+J285)))","v":""},null,null,null,null,null,{"$f":"IF(UPPER(TRIM($D$285))=\"BYE\",\"-\",VLOOKUP($D$285,HCTableBlk4,2,FALSE))","v":0}]
[null,"\"","\"                  \"",{"$f":"PLAYER!F1466","v":" Block 4 Player 1"},{"$f":"IF(UPPER(TRIM($D$286))=\"BYE\",\"-\",VLOOKUP($D$286,HCTableBlk4,2,FALSE))","v":0},"L",{"$f":"IF(UPPER(TRIM(D286))=\"BYE\",\"0\",PLAYER!J1466)","v":-1E-3},{"$f":"IF(UPPER(TRIM(D286))=\"BYE\",\"0\",PLAYER!K1466)","v":-1E-3},"",null,null,"",null,null,null,null,null,{"$f":"IF(UPPER(TRIM($D$286))=\"BYE\",\"-\",VLOOKUP($D$286,HCTableBlk4,2,FALSE))","v":0}]
[null,"\"","\"                  \"",{"$f":"PLAYER!F1467","v":" Block 4 Player 7"},{"$f":"IF(UPPER(TRIM($D$287))=\"BYE\",\"-\",VLOOKUP($D$287,HCTableBlk4,2,FALSE))","v":0},"L",{"$f":"IF(UPPER(TRIM(D287))=\"BYE\",\"0\",PLAYER!J1467)","v":-1E-3},{"$f":"IF(UPPER(TRIM(D287))=\"BYE\",\"0\",PLAYER!K1467)","v":-1E-3},"",null,null,"",null,null,null,null,null,{"$f":"IF(UPPER(TRIM($D$287))=\"BYE\",\"-\",VLOOKUP($D$287,HCTableBlk4,2,FALSE))","v":0}]
[null,"\"","\"                  \"",{"$f":"PLAYER!F1468","v":" Block 4 Player 2"},{"$f":"IF(UPPER(TRIM($D$288))=\"BYE\",\"-\",VLOOKUP($D$288,HCTableBlk4,2,FALSE))","v":0},"L",{"$f":"IF(UPPER(TRIM(D288))=\"BYE\",\"0\",PLAYER!J1468)","v":-1E-3},{"$f":"IF(UPPER(TRIM(D288))=\"BYE\",\"0\",PLAYER!K1468)","v":-1E-3},"",null,null,"",null,null,null,null,null,{"$f":"IF(UPPER(TRIM($D$288))=\"BYE\",\"-\",VLOOKUP($D$288,HCTableBlk4,2,FALSE))","v":0}]
[null,"\"","\"                  \"",{"$f":"PLAYER!F1469","v":" Block 4 Player 4"},{"$f":"IF(UPPER(TRIM($D$289))=\"BYE\",\"-\",VLOOKUP($D$289,HCTableBlk4,2,FALSE))","v":0},"L",{"$f":"IF(UPPER(TRIM(D289))=\"BYE\",\"0\",PLAYER!J1469)","v":-1E-3},{"$f":"IF(UPPER(TRIM(D289))=\"BYE\",\"0\",PLAYER!K1469)","v":-1E-3},"",null,null,"",null,null,null,null,null,{"$f":"IF(UPPER(TRIM($D$289))=\"BYE\",\"-\",VLOOKUP($D$289,HCTableBlk4,2,FALSE))","v":0}]
[null,"\"","\"                  \"",{"$f":"PLAYER!F1470","v":" Block 4 Player 6"},{"$f":"IF(UPPER(TRIM($D$290))=\"BYE\",\"-\",VLOOKUP($D$290,HCTableBlk4,2,FALSE))","v":0},"L",{"$f":"IF(UPPER(TRIM(D290))=\"BYE\",\"0\",PLAYER!J1470)","v":-1E-3},{"$f":"IF(UPPER(TRIM(D290))=\"BYE\",\"0\",PLAYER!K1470)","v":-1E-3},"",null,null,"",null,null,null,null,null,{"$f":"IF(UPPER(TRIM($D$290))=\"BYE\",\"-\",VLOOKUP($D$290,HCTableBlk4,2,FALSE))","v":0}]
[]
[null,"Player",null,{"$f":"SEED!$I$23","v":" Block 4 Player 6"},null,null,"Start H/C",{"$f":"SEED!$J$23","v":0},"New H/C",{"$f":"VLOOKUP(D292,HCTableBlk4,2,FALSE)","v":0},"Start Index",{"$f":"SEED!$H$23","v":0},"HC Change Indicator"]
[null,"Date","Event","Opponent","Op Hcap","Lev / Hcap","Score",null,"Won / Lost","Change +/-",null,"New Index"]
[null,{"$f":"NAMES!$C$9","v":"Date"},{"$f":"NAMES!$C$7","v":"Tournament"},{"$f":"PLAYER!F1516","v":" Block 4 Player 7"},{"$f":"IF(UPPER(TRIM($D$294))=\"BYE\",\"-\",VLOOKUP($D$294,HCTableBlk4,2,FALSE))","v":0},{"$f":"IF(HandicapPlay=\"x\",\"H\",\"L\")","v":"L"},{"$f":"IF(UPPER(TRIM(D294))=\"BYE\",\"0\",PLAYER!J1516)","v":-1E-3},{"$f":"IF(UPPER(TRIM(D294))=\"BYE\",\"0\",PLAYER!K1516)","v":-1E-3},{"$f":"IF(UPPER(TRIM(D294))=\"BYE\",\"-\",IF(G294<0,\"\",(IF(G294>H294,\"W\",\"L\"))))","v":""},null,null,{"$f":"IF(J294=\"\",\"\",IF((L292+J294)<900,900,(L292+J294)))","v":""},null,null,null,null,null,{"$f":"IF(UPPER(TRIM($D$294))=\"BYE\",\"-\",VLOOKUP($D$294,HCTableBlk4,2,FALSE))","v":0}]
[null,"\"","\"                  \"",{"$f":"PLAYER!F1517","v":" Block 4 Player 2"},{"$f":"IF(UPPER(TRIM($D$295))=\"BYE\",\"-\",VLOOKUP($D$295,HCTableBlk4,2,FALSE))","v":0},"L",{"$f":"IF(UPPER(TRIM(D295))=\"BYE\",\"0\",PLAYER!J1517)","v":-1E-3},{"$f":"IF(UPPER(TRIM(D295))=\"BYE\",\"0\",PLAYER!K1517)","v":-1E-3},{"$f":"IF(UPPER(TRIM(D295))=\"BYE\",\"-\",IF(G295<0,\"\",(IF(G295>H295,\"W\",\"L\"))))","v":""},null,null,{"$f":"IF(J295=\"\",\"\",IF((L294+J295)<900,900,(L294+J295)))","v":""},null,null,null,null,null,{"$f":"IF(UPPER(TRIM($D$295))=\"BYE\",\"-\",VLOOKUP($D$295,HCTableBlk4,2,FALSE))","v":0}]
[null,"\"","\"                  \"",{"$f":"PLAYER!F1518","v":" Block 4 Player 4"},{"$f":"IF(UPPER(TRIM($D$296))=\"BYE\",\"-\",VLOOKUP($D$296,HCTableBlk4,2,FALSE))","v":0},"L",{"$f":"IF(UPPER(TRIM(D296))=\"BYE\",\"0\",PLAYER!J1518)","v":-1E-3},{"$f":"IF(UPPER(TRIM(D296))=\"BYE\",\"0\",PLAYER!K1518)","v":-1E-3},"",null,null,"",null,null,null,null,null,{"$f":"IF(UPPER(TRIM($D$296))=\"BYE\",\"-\",VLOOKUP($D$296,HCTableBlk4,2,FALSE))","v":0}]
[null,"\"","\"                  \"",{"$f":"PLAYER!F1519","v":" Block 4 Player 1"},{"$f":"IF(UPPER(TRIM($D$297))=\"BYE\",\"-\",VLOOKUP($D$297,HCTableBlk4,2,FALSE))","v":0},"L",{"$f":"IF(UPPER(TRIM(D297))=\"BYE\",\"0\",PLAYER!J1519)","v":-1E-3},{"$f":"IF(UPPER(TRIM(D297))=\"BYE\",\"0\",PLAYER!K1519)","v":-1E-3},"",null,null,"",null,null,null,null,null,{"$f":"IF(UPPER(TRIM($D$297))=\"BYE\",\"-\",VLOOKUP($D$297,HCTableBlk4,2,FALSE))","v":0}]
[null,"\"","\"                  \"",{"$f":"PLAYER!F1520","v":" Bye "},{"$f":"IF(UPPER(TRIM($D$298))=\"BYE\",\"-\",VLOOKUP($D$298,HCTableBlk4,2,FALSE))","v":"-"},"L",{"$f":"IF(UPPER(TRIM(D298))=\"BYE\",\"0\",PLAYER!J1520)","v":"0"},{"$f":"IF(UPPER(TRIM(D298))=\"BYE\",\"0\",PLAYER!K1520)","v":"0"},"-",null,null,"",null,null,null,null,null,{"$f":"IF(UPPER(TRIM($D$298))=\"BYE\",\"-\",VLOOKUP($D$298,HCTableBlk4,2,FALSE))","v":"-"}]
[null,"\"","\"                  \"",{"$f":"PLAYER!F1521","v":" Block 4 Player 3"},{"$f":"IF(UPPER(TRIM($D$299))=\"BYE\",\"-\",VLOOKUP($D$299,HCTableBlk4,2,FALSE))","v":0},"L",{"$f":"IF(UPPER(TRIM(D299))=\"BYE\",\"0\",PLAYER!J1521)","v":-1E-3},{"$f":"IF(UPPER(TRIM(D299))=\"BYE\",\"0\",PLAYER!K1521)","v":-1E-3},"",null,null,"",null,null,null,null,null,{"$f":"IF(UPPER(TRIM($D$299))=\"BYE\",\"-\",VLOOKUP($D$299,HCTableBlk4,2,FALSE))","v":0}]
[null,"\"","\"                  \"",{"$f":"PLAYER!F1522","v":" Block 4 Player 5"},{"$f":"IF(UPPER(TRIM($D$300))=\"BYE\",\"-\",VLOOKUP($D$300,HCTableBlk4,2,FALSE))","v":0},"L",{"$f":"IF(UPPER(TRIM(D300))=\"BYE\",\"0\",PLAYER!J1522)","v":-1E-3},{"$f":"IF(UPPER(TRIM(D300))=\"BYE\",\"0\",PLAYER!K1522)","v":-1E-3},"",null,"Finish >","",null,null,null,null,null,{"$f":"IF(UPPER(TRIM($D$300))=\"BYE\",\"-\",VLOOKUP($D$300,HCTableBlk4,2,FALSE))","v":0}]
[]
[null,"Player",null,{"$f":"SEED!$I$24","v":" Block 4 Player 7"},null,null,"Start H/C",{"$f":"SEED!$J$24","v":0},"New H/C",{"$f":"VLOOKUP(D302,HCTableBlk4,2,FALSE)","v":0},"Start Index",{"$f":"SEED!$H$24","v":0},"HC Change Indicator"]
[null,"Date","Event","Opponent","Op Hcap","Lev / Hcap","Score",null,"Won / Lost","Change +/-",null,"New Index"]
[null,{"$f":"NAMES!$C$9","v":"Date"},{"$f":"NAMES!$C$7","v":"Tournament"},{"$f":"PLAYER!F1568","v":" Block 4 Player 6"},{"$f":"IF(UPPER(TRIM($D$304))=\"BYE\",\"-\",VLOOKUP($D$304,HCTableBlk4,2,FALSE))","v":0},{"$f":"IF(HandicapPlay=\"x\",\"H\",\"L\")","v":"L"},{"$f":"IF(UPPER(TRIM(D304))=\"BYE\",\"0\",PLAYER!J1568)","v":-1E-3},{"$f":"IF(UPPER(TRIM(D304))=\"BYE\",\"0\",PLAYER!K1568)","v":-1E-3},{"$f":"IF(UPPER(TRIM(D304))=\"BYE\",\"-\",IF(G304<0,\"\",(IF(G304>H304,\"W\",\"L\"))))","v":""},null,null,{"$f":"IF(J304=\"\",\"\",IF((L302+J304)<900,900,(L302+J304)))","v":""},null,null,null,null,null,{"$f":"IF(UPPER(TRIM($D$304))=\"BYE\",\"-\",VLOOKUP($D$304,HCTableBlk4,2,FALSE))","v":0}]
[null,"\"","\"                  \"",{"$f":"PLAYER!F1569","v":" Bye "},{"$f":"IF(UPPER(TRIM($D$305))=\"BYE\",\"-\",VLOOKUP($D$305,HCTableBlk4,2,FALSE))","v":"-"},"L",{"$f":"IF(UPPER(TRIM(D305))=\"BYE\",\"0\",PLAYER!J1569)","v":"0"},{"$f":"IF(UPPER(TRIM(D305))=\"BYE\",\"0\",PLAYER!K1569)","v":"0"},{"$f":"IF(UPPER(TRIM(D305))=\"BYE\",\"-\",IF(G305<0,\"\",(IF(G305>H305,\"W\",\"L\"))))","v":"-"},null,null,{"$f":"IF(J305=\"\",\"\",IF((L304+J305)<900,900,(L304+J305)))","v":""},null,null,null,null,null,{"$f":"IF(UPPER(TRIM($D$305))=\"BYE\",\"-\",VLOOKUP($D$305,HCTableBlk4,2,FALSE))","v":"-"}]
[null,"\"","\"                  \"",{"$f":"PLAYER!F1570","v":" Block 4 Player 3"},{"$f":"IF(UPPER(TRIM($D$306))=\"BYE\",\"-\",VLOOKUP($D$306,HCTableBlk4,2,FALSE))","v":0},"L",{"$f":"IF(UPPER(TRIM(D306))=\"BYE\",\"0\",PLAYER!J1570)","v":-1E-3},{"$f":"IF(UPPER(TRIM(D306))=\"BYE\",\"0\",PLAYER!K1570)","v":-1E-3},"",null,null,"",null,null,null,null,null,{"$f":"IF(UPPER(TRIM($D$306))=\"BYE\",\"-\",VLOOKUP($D$306,HCTableBlk4,2,FALSE))","v":0}]
[null,"\"","\"                  \"",{"$f":"PLAYER!F1571","v":" Block 4 Player 5"},{"$f":"IF(UPPER(TRIM($D$307))=\"BYE\",\"-\",VLOOKUP($D$307,HCTableBlk4,2,FALSE))","v":0},"L",{"$f":"IF(UPPER(TRIM(D307))=\"BYE\",\"0\",PLAYER!J1571)","v":-1E-3},{"$f":"IF(UPPER(TRIM(D307))=\"BYE\",\"0\",PLAYER!K1571)","v":-1E-3},"",null,null,"",null,null,null,null,null,{"$f":"IF(UPPER(TRIM($D$307))=\"BYE\",\"-\",VLOOKUP($D$307,HCTableBlk4,2,FALSE))","v":0}]
[null,"\"","\"                  \"",{"$f":"PLAYER!F1572","v":" Block 4 Player 1"},{"$f":"IF(UPPER(TRIM($D$308))=\"BYE\",\"-\",VLOOKUP($D$308,HCTableBlk4,2,FALSE))","v":0},"L",{"$f":"IF(UPPER(TRIM(D308))=\"BYE\",\"0\",PLAYER!J1572)","v":-1E-3},{"$f":"IF(UPPER(TRIM(D308))=\"BYE\",\"0\",PLAYER!K1572)","v":-1E-3},"",null,null,"",null,null,null,null,null,{"$f":"IF(UPPER(TRIM($D$308))=\"BYE\",\"-\",VLOOKUP($D$308,HCTableBlk4,2,FALSE))","v":0}]
[null,"\"","\"                  \"",{"$f":"PLAYER!F1573","v":" Block 4 Player 2"},{"$f":"IF(UPPER(TRIM($D$309))=\"BYE\",\"-\",VLOOKUP($D$309,HCTableBlk4,2,FALSE))","v":0},"L",{"$f":"IF(UPPER(TRIM(D309))=\"BYE\",\"0\",PLAYER!J1573)","v":-1E-3},{"$f":"IF(UPPER(TRIM(D309))=\"BYE\",\"0\",PLAYER!K1573)","v":-1E-3},"",null,null,"",null,null,null,null,null,{"$f":"IF(UPPER(TRIM($D$309))=\"BYE\",\"-\",VLOOKUP($D$309,HCTableBlk4,2,FALSE))","v":0}]
[null,"\"","\"                  \"",{"$f":"PLAYER!F1574","v":" Block 4 Player 4"},{"$f":"IF(UPPER(TRIM($D$310))=\"BYE\",\"-\",VLOOKUP($D$310,HCTableBlk4,2,FALSE))","v":0},"L",{"$f":"IF(UPPER(TRIM(D310))=\"BYE\",\"0\",PLAYER!J1574)","v":-1E-3},{"$f":"IF(UPPER(TRIM(D310))=\"BYE\",\"0\",PLAYER!K1574)","v":-1E-3},"",null,"Finish >","",null,null,null,null,null,{"$f":"IF(UPPER(TRIM($D$310))=\"BYE\",\"-\",VLOOKUP($D$310,HCTableBlk4,2,FALSE))","v":0}]
[]
[null,"Player",null,{"$f":"SEED!$I$25","v":" Bye "},null,null,"Start H/C",{"$f":"SEED!$J$25","v":0},"New H/C",{"$f":"VLOOKUP(D312,HCTableBlk4,2,FALSE)","v":0},"Start Index",{"$f":"SEED!$H$25","v":0},"HC Change Indicator"]
[null,"Date","Event","Opponent","Op Hcap","Lev / Hcap","Score",null,"Won / Lost","Change +/-",null,"New Index"]
[null,{"$f":"NAMES!$C$9","v":"Date"},{"$f":"NAMES!$C$7","v":"Tournament"},{"$f":"PLAYER!F1620","v":" Block 4 Player 5"},6,{"$f":"IF(HandicapPlay=\"x\",\"H\",\"L\")","v":"L"},{"$f":"PLAYER!J1620","v":-1E-3},{"$f":"PLAYER!K1620","v":-1E-3},{"$f":"IF(G314<0,\"\",(IF(G314>H314,\"W\",\"L\")))","v":""},null,null,{"$f":"IF(J314=\"\",\"\",L312+J314)","v":""}]
[null,"\"","\"                  \"",{"$f":"PLAYER!F1621","v":" Block 4 Player 7"},5,"L",{"$f":"PLAYER!J1621","v":-1E-3},{"$f":"PLAYER!K1621","v":-1E-3},{"$f":"IF(G315<0,\"\",(IF(G315>H315,\"W\",\"L\")))","v":""},null,null,{"$f":"IF(J315=\"\",\"\",L314+J315)","v":""}]
[null,"\"","\"                  \"",{"$f":"PLAYER!F1622","v":" Block 4 Player 2"},4,"L",{"$f":"PLAYER!J1622","v":-1E-3},{"$f":"PLAYER!K1622","v":-1E-3},"",null,null,""]
[null,"\"","\"                  \"",{"$f":"PLAYER!F1623","v":" Block 4 Player 4"},5,"L",{"$f":"PLAYER!J1623","v":-1E-3},{"$f":"PLAYER!K1623","v":-1E-3},"",null,null,""]
[null,"\"","\"                  \"",{"$f":"PLAYER!F1624","v":" Block 4 Player 6"},8,"L",{"$f":"PLAYER!J1624","v":-1E-3},{"$f":"PLAYER!K1624","v":-1E-3},"",null,null,""]
[null,"\"","\"                  \"",{"$f":"PLAYER!F1625","v":" Block 4 Player 1"},5,"L",{"$f":"PLAYER!J1625","v":-1E-3},{"$f":"PLAYER!K1625","v":-1E-3},"",null,null,""]
[null,"\"","\"                  \"",{"$f":"PLAYER!F1626","v":" Block 4 Player 3"},6,"L",{"$f":"PLAYER!J1626","v":-1E-3},{"$f":"PLAYER!K1626","v":-1E-3},"",null,"Finish >",""]
[null,"BLOCK 5"]
[null,"Player",null,{"$f":"SEED!$D$30","v":" Block 5 Player 1"},null,null,"Start H/C",{"$f":"SEED!$E$30","v":0},"New H/C",{"$f":"VLOOKUP(D322,HCTableBlk5,2,FALSE)","v":0},"Start Index",{"$f":"SEED!$C$30","v":0},"HC Change Indicator","BLOCK 5"]
[null,"Date","Event","Opponent","Op Hcap","Lev / Hcap","Score",null,"Won / Lost","Change +/-",null,"New Index",null,"Player","H/C","Temp H/C",null,null,null,"HC Change Flags"]
[null,{"$f":"NAMES!$C$9","v":"Date"},{"$f":"NAMES!$C$7","v":"Tournament"},{"$f":"PLAYER!F1672","v":" Block 5 Player 3"},{"$f":"IF(UPPER(TRIM($D$324))=\"BYE\",\"-\",VLOOKUP($D$324,HCTableBlk5,2,FALSE))","v":0},{"$f":"IF(HandicapPlay=\"x\",\"H\",\"L\")","v":"L"},{"$f":"IF(UPPER(TRIM(D324))=\"BYE\",\"0\",PLAYER!J1672)","v":-1E-3},{"$f":"IF(UPPER(TRIM(D324))=\"BYE\",\"0\",PLAYER!K1672)","v":-1E-3},{"$f":"IF(UPPER(TRIM(D324))=\"BYE\",\"-\",IF(G324<0,\"\",(IF(G324>H324,\"W\",\"L\"))))","v":""},null,null,{"$f":"IF(J324=\"\",\"\",IF((L322+J324)<900,900,(L322+J324)))","v":""},null,{"$f":"SEED!D30","v":" Block 5 Player 1"},{"$f":"SEED!E30","v":0},null,null,{"$f":"IF(UPPER(TRIM($D$324))=\"BYE\",\"-\",VLOOKUP($D$324,HCTableBlk5,2,FALSE))","v":0},null,0,"33"]
[null,"\"","\"                  \"",{"$f":"PLAYER!F1673","v":" Block 5 Player 4"},{"$f":"IF(UPPER(TRIM($D$325))=\"BYE\",\"-\",VLOOKUP($D$325,HCTableBlk5,2,FALSE))","v":0},"L",{"$f":"IF(UPPER(TRIM(D325))=\"BYE\",\"0\",PLAYER!J1673)","v":-1E-3},{"$f":"IF(UPPER(TRIM(D325))=\"BYE\",\"0\",PLAYER!K1673)","v":-1E-3},{"$f":"IF(UPPER(TRIM(D325))=\"BYE\",\"-\",IF(G325<0,\"\",(IF(G325>H325,\"W\",\"L\"))))","v":""},null,null,{"$f":"IF(J325=\"\",\"\",IF((L324+J325)<900,900,(L324+J325)))","v":""},null,{"$f":"SEED!D31","v":" Block 5 Player 2"},{"$f":"SEED!E31","v":0},null,null,{"$f":"IF(UPPER(TRIM($D$325))=\"BYE\",\"-\",VLOOKUP($D$325,HCTableBlk5,2,FALSE))","v":0},null,0,"34"]
[null,"\"","\"                  \"",{"$f":"PLAYER!F1674","v":" Block 5 Player 5"},{"$f":"IF(UPPER(TRIM($D$326))=\"BYE\",\"-\",VLOOKUP($D$326,HCTableBlk5,2,FALSE))","v":0},"L",{"$f":"IF(UPPER(TRIM(D326))=\"BYE\",\"0\",PLAYER!J1674)","v":-1E-3},{"$f":"IF(UPPER(TRIM(D326))=\"BYE\",\"0\",PLAYER!K1674)","v":-1E-3},"",null,null,"",null,{"$f":"SEED!D32","v":" Block 5 Player 3"},{"$f":"SEED!E32","v":0},null,null,{"$f":"IF(UPPER(TRIM($D$326))=\"BYE\",\"-\",VLOOKUP($D$326,HCTableBlk5,2,FALSE))","v":0},null,0,"35"]
[null,"\"","\"                  \"",{"$f":"PLAYER!F1675","v":" Block 5 Player 6"},{"$f":"IF(UPPER(TRIM($D$327))=\"BYE\",\"-\",VLOOKUP($D$327,HCTableBlk5,2,FALSE))","v":0},"L",{"$f":"IF(UPPER(TRIM(D327))=\"BYE\",\"0\",PLAYER!J1675)","v":-1E-3},{"$f":"IF(UPPER(TRIM(D327))=\"BYE\",\"0\",PLAYER!K1675)","v":-1E-3},"",null,null,"",null,{"$f":"SEED!D33","v":" Block 5 Player 4"},{"$f":"SEED!E33","v":0},null,null,{"$f":"IF(UPPER(TRIM($D$327))=\"BYE\",\"-\",VLOOKUP($D$327,HCTableBlk5,2,FALSE))","v":0},null,0,"36"]
[null,"\"","\"                  \"",{"$f":"PLAYER!F1676","v":" Block 5 Player 7"},{"$f":"IF(UPPER(TRIM($D$328))=\"BYE\",\"-\",VLOOKUP($D$328,HCTableBlk5,2,FALSE))","v":0},"L",{"$f":"IF(UPPER(TRIM(D328))=\"BYE\",\"0\",PLAYER!J1676)","v":-1E-3},{"$f":"IF(UPPER(TRIM(D328))=\"BYE\",\"0\",PLAYER!K1676)","v":-1E-3},"",null,null,"",null,{"$f":"SEED!D34","v":" Block 5 Player 5"},{"$f":"SEED!E34","v":0},null,null,{"$f":"IF(UPPER(TRIM($D$328))=\"BYE\",\"-\",VLOOKUP($D$328,HCTableBlk5,2,FALSE))","v":0},null,0,"37"]
[null,"\"","\"                  \"",{"$f":"PLAYER!F1677","v":" Bye "},{"$f":"IF(UPPER(TRIM($D$329))=\"BYE\",\"-\",VLOOKUP($D$329,HCTableBlk5,2,FALSE))","v":"-"},"L",{"$f":"IF(UPPER(TRIM(D329))=\"BYE\",\"0\",PLAYER!J1677)","v":"0"},{"$f":"IF(UPPER(TRIM(D329))=\"BYE\",\"0\",PLAYER!K1677)","v":"0"},"-",null,null,"",null,{"$f":"SEED!D35","v":" Block 5 Player 6"},{"$f":"SEED!E35","v":0},null,null,{"$f":"IF(UPPER(TRIM($D$329))=\"BYE\",\"-\",VLOOKUP($D$329,HCTableBlk5,2,FALSE))","v":"-"},null,0,"38"]
[null,"\"","\"                  \"",{"$f":"PLAYER!F1678","v":" Block 5 Player 2"},{"$f":"IF(UPPER(TRIM($D$330))=\"BYE\",\"-\",VLOOKUP($D$330,HCTableBlk5,2,FALSE))","v":0},"L",{"$f":"IF(UPPER(TRIM(D330))=\"BYE\",\"0\",PLAYER!J1678)","v":-1E-3},{"$f":"IF(UPPER(TRIM(D330))=\"BYE\",\"0\",PLAYER!K1678)","v":-1E-3},"",null,"Finish >","",null,{"$f":"SEED!D36","v":" Block 5 Player 7"},{"$f":"SEED!E36","v":0},null,null,{"$f":"IF(UPPER(TRIM($D$330))=\"BYE\",\"-\",VLOOKUP($D$330,HCTableBlk5,2,FALSE))","v":0},null,0,"39"]
[null,null,null,null,null,null,null,null,null,null,null,null,null,{"$f":"SEED!D37","v":" Bye "},{"$f":"SEED!E37","v":0},null,null,null,null,0,"(40)"]
[null,"Player",null,{"$f":"SEED!$D$31","v":" Block 5 Player 2"},null,null,"Start H/C",{"$f":"SEED!$E$31","v":0},"New H/C",{"$f":"VLOOKUP(D332,HCTableBlk5,2,FALSE)","v":0},"Start Index",{"$f":"SEED!$C$31","v":0},"HC Change Indicator"]
[null,"Date","Event","Opponent","Op Hcap","Lev / Hcap","Score",null,"Won / Lost","Change +/-",null,"New Index"]
[null,{"$f":"NAMES!$C$9","v":"Date"},{"$f":"NAMES!$C$7","v":"Tournament"},{"$f":"PLAYER!F1724","v":" Block 5 Player 4"},{"$f":"IF(UPPER(TRIM($D$334))=\"BYE\",\"-\",VLOOKUP($D$334,HCTableBlk5,2,FALSE))","v":0},{"$f":"IF(HandicapPlay=\"x\",\"H\",\"L\")","v":"L"},{"$f":"IF(UPPER(TRIM(D334))=\"BYE\",\"0\",PLAYER!J1724)","v":-1E-3},{"$f":"IF(UPPER(TRIM(D334))=\"BYE\",\"0\",PLAYER!K1724)","v":-1E-3},{"$f":"IF(UPPER(TRIM(D334))=\"BYE\",\"-\",IF(G334<0,\"\",(IF(G334>H334,\"W\",\"L\"))))","v":""},null,null,{"$f":"IF(J334=\"\",\"\",IF((L332+J334)<900,900,(L332+J334)))","v":""},null,null,null,null,null,{"$f":"IF(UPPER(TRIM($D$334))=\"BYE\",\"-\",VLOOKUP($D$334,HCTableBlk5,2,FALSE))","v":0}]
[null,"\"","\"                  \"",{"$f":"PLAYER!F1725","v":" Block 5 Player 6"},{"$f":"IF(UPPER(TRIM($D$335))=\"BYE\",\"-\",VLOOKUP($D$335,HCTableBlk5,2,FALSE))","v":0},"L",{"$f":"IF(UPPER(TRIM(D335))=\"BYE\",\"0\",PLAYER!J1725)","v":-1E-3},{"$f":"IF(UPPER(TRIM(D335))=\"BYE\",\"0\",PLAYER!K1725)","v":-1E-3},{"$f":"IF(UPPER(TRIM(D335))=\"BYE\",\"-\",IF(G335<0,\"\",(IF(G335>H335,\"W\",\"L\"))))","v":""},null,null,{"$f":"IF(J335=\"\",\"\",IF((L334+J335)<900,900,(L334+J335)))","v":""},null,null,null,null,null,{"$f":"IF(UPPER(TRIM($D$335))=\"BYE\",\"-\",VLOOKUP($D$335,HCTableBlk5,2,FALSE))","v":0}]
[null,"\"","\"                  \"",{"$f":"PLAYER!F1726","v":" Bye "},{"$f":"IF(UPPER(TRIM($D$336))=\"BYE\",\"-\",VLOOKUP($D$336,HCTableBlk5,2,FALSE))","v":"-"},"L",{"$f":"IF(UPPER(TRIM(D336))=\"BYE\",\"0\",PLAYER!J1726)","v":"0"},{"$f":"IF(UPPER(TRIM(D336))=\"BYE\",\"0\",PLAYER!K1726)","v":"0"},"-",null,null,"",null,null,null,null,null,{"$f":"IF(UPPER(TRIM($D$336))=\"BYE\",\"-\",VLOOKUP($D$336,HCTableBlk5,2,FALSE))","v":"-"}]
[null,"\"","\"                  \"",{"$f":"PLAYER!F1727","v":" Block 5 Player 3"},{"$f":"IF(UPPER(TRIM($D$337))=\"BYE\",\"-\",VLOOKUP($D$337,HCTableBlk5,2,FALSE))","v":0},"L",{"$f":"IF(UPPER(TRIM(D337))=\"BYE\",\"0\",PLAYER!J1727)","v":-1E-3},{"$f":"IF(UPPER(TRIM(D337))=\"BYE\",\"0\",PLAYER!K1727)","v":-1E-3},"",null,null,"",null,null,null,null,null,{"$f":"IF(UPPER(TRIM($D$337))=\"BYE\",\"-\",VLOOKUP($D$337,HCTableBlk5,2,FALSE))","v":0}]
[null,"\"","\"                  \"",{"$f":"PLAYER!F1728","v":" Block 5 Player 5"},{"$f":"IF(UPPER(TRIM($D$338))=\"BYE\",\"-\",VLOOKUP($D$338,HCTableBlk5,2,FALSE))","v":0},"L",{"$f":"IF(UPPER(TRIM(D338))=\"BYE\",\"0\",PLAYER!J1728)","v":-1E-3},{"$f":"IF(UPPER(TRIM(D338))=\"BYE\",\"0\",PLAYER!K1728)","v":-1E-3},"",null,null,"",null,null,null,null,null,{"$f":"IF(UPPER(TRIM($D$338))=\"BYE\",\"-\",VLOOKUP($D$338,HCTableBlk5,2,FALSE))","v":0}]
[null,"\"","\"                  \"",{"$f":"PLAYER!F1729","v":" Block 5 Player 7"},{"$f":"IF(UPPER(TRIM($D$339))=\"BYE\",\"-\",VLOOKUP($D$339,HCTableBlk5,2,FALSE))","v":0},"L",{"$f":"IF(UPPER(TRIM(D339))=\"BYE\",\"0\",PLAYER!J1729)","v":-1E-3},{"$f":"IF(UPPER(TRIM(D339))=\"BYE\",\"0\",PLAYER!K1729)","v":-1E-3},"",null,null,"",null,null,null,null,null,{"$f":"IF(UPPER(TRIM($D$339))=\"BYE\",\"-\",VLOOKUP($D$339,HCTableBlk5,2,FALSE))","v":0}]
[null,"\"","\"                  \"",{"$f":"PLAYER!F1730","v":" Block 5 Player 1"},{"$f":"IF(UPPER(TRIM($D$340))=\"BYE\",\"-\",VLOOKUP($D$340,HCTableBlk5,2,FALSE))","v":0},"L",{"$f":"IF(UPPER(TRIM(D340))=\"BYE\",\"0\",PLAYER!J1730)","v":-1E-3},{"$f":"IF(UPPER(TRIM(D340))=\"BYE\",\"0\",PLAYER!K1730)","v":-1E-3},"",null,"Finish >","",null,null,null,null,null,{"$f":"IF(UPPER(TRIM($D$340))=\"BYE\",\"-\",VLOOKUP($D$340,HCTableBlk5,2,FALSE))","v":0}]
[]
[null,"Player",null,{"$f":"SEED!$D$32","v":" Block 5 Player 3"},null,null,"Start H/C",{"$f":"SEED!$E$32","v":0},"New H/C",{"$f":"VLOOKUP(D342,HCTableBlk5,2,FALSE)","v":0},"Start Index",{"$f":"SEED!$C$32","v":0},"HC Change Indicator"]
[null,"Date","Event","Opponent","Op Hcap","Lev / Hcap","Score",null,"Won / Lost","Change +/-",null,"New Index"]
[null,{"$f":"NAMES!$C$9","v":"Date"},{"$f":"NAMES!$C$7","v":"Tournament"},{"$f":"PLAYER!F1776","v":" Block 5 Player 1"},{"$f":"IF(UPPER(TRIM($D$344))=\"BYE\",\"-\",VLOOKUP($D$344,HCTableBlk5,2,FALSE))","v":0},{"$f":"IF(HandicapPlay=\"x\",\"H\",\"L\")","v":"L"},{"$f":"IF(UPPER(TRIM(D344))=\"BYE\",\"0\",PLAYER!J1776)","v":-1E-3},{"$f":"IF(UPPER(TRIM(D344))=\"BYE\",\"0\",PLAYER!K1776)","v":-1E-3},{"$f":"IF(UPPER(TRIM(D344))=\"BYE\",\"-\",IF(G344<0,\"\",(IF(G344>H344,\"W\",\"L\"))))","v":""},null,null,{"$f":"IF(J344=\"\",\"\",IF((L342+J344)<900,900,(L342+J344)))","v":""},null,null,null,null,null,{"$f":"IF(UPPER(TRIM($D$344))=\"BYE\",\"-\",VLOOKUP($D$344,HCTableBlk5,2,FALSE))","v":0}]
[null,"\"","\"                  \"",{"$f":"PLAYER!F1777","v":" Block 5 Player 5"},{"$f":"IF(UPPER(TRIM($D$345))=\"BYE\",\"-\",VLOOKUP($D$345,HCTableBlk5,2,FALSE))","v":0},"L",{"$f":"IF(UPPER(TRIM(D345))=\"BYE\",\"0\",PLAYER!J1777)","v":-1E-3},{"$f":"IF(UPPER(TRIM(D345))=\"BYE\",\"0\",PLAYER!K1777)","v":-1E-3},{"$f":"IF(UPPER(TRIM(D345))=\"BYE\",\"-\",IF(G345<0,\"\",(IF(G345>H345,\"W\",\"L\"))))","v":""},null,null,{"$f":"IF(J345=\"\",\"\",IF((L344+J345)<900,900,(L344+J345)))","v":""},null,null,null,null,null,{"$f":"IF(UPPER(TRIM($D$345))=\"BYE\",\"-\",VLOOKUP($D$345,HCTableBlk5,2,FALSE))","v":0}]
[null,"\"","\"                  \"",{"$f":"PLAYER!F1778","v":" Block 5 Player 7"},{"$f":"IF(UPPER(TRIM($D$346))=\"BYE\",\"-\",VLOOKUP($D$346,HCTableBlk5,2,FALSE))","v":0},"L",{"$f":"IF(UPPER(TRIM(D346))=\"BYE\",\"0\",PLAYER!J1778)","v":-1E-3},{"$f":"IF(UPPER(TRIM(D346))=\"BYE\",\"0\",PLAYER!K1778)","v":-1E-3},"",null,null,"",null,null,null,null,null,{"$f":"IF(UPPER(TRIM($D$346))=\"BYE\",\"-\",VLOOKUP($D$346,HCTableBlk5,2,FALSE))","v":0}]
[null,"\"","\"                  \"",{"$f":"PLAYER!F1779","v":" Block 5 Player 2"},{"$f":"IF(UPPER(TRIM($D$347))=\"BYE\",\"-\",VLOOKUP($D$347,HCTableBlk5,2,FALSE))","v":0},"L",{"$f":"IF(UPPER(TRIM(D347))=\"BYE\",\"0\",PLAYER!J1779)","v":-1E-3},{"$f":"IF(UPPER(TRIM(D347))=\"BYE\",\"0\",PLAYER!K1779)","v":-1E-3},"",null,null,"",null,null,null,null,null,{"$f":"IF(UPPER(TRIM($D$347))=\"BYE\",\"-\",VLOOKUP($D$347,HCTableBlk5,2,FALSE))","v":0}]
[null,"\"","\"                  \"",{"$f":"PLAYER!F1780","v":" Block 5 Player 4"},{"$f":"IF(UPPER(TRIM($D$348))=\"BYE\",\"-\",VLOOKUP($D$348,HCTableBlk5,2,FALSE))","v":0},"L",{"$f":"IF(UPPER(TRIM(D348))=\"BYE\",\"0\",PLAYER!J1780)","v":-1E-3},{"$f":"IF(UPPER(TRIM(D348))=\"BYE\",\"0\",PLAYER!K1780)","v":-1E-3},"",null,null,"",null,null,null,null,null,{"$f":"IF(UPPER(TRIM($D$348))=\"BYE\",\"-\",VLOOKUP($D$348,HCTableBlk5,2,FALSE))","v":0}]
[null,"\"","\"                  \"",{"$f":"PLAYER!F1781","v":" Block 5 Player 6"},{"$f":"IF(UPPER(TRIM($D$349))=\"BYE\",\"-\",VLOOKUP($D$349,HCTableBlk5,2,FALSE))","v":0},"L",{"$f":"IF(UPPER(TRIM(D349))=\"BYE\",\"0\",PLAYER!J1781)","v":-1E-3},{"$f":"IF(UPPER(TRIM(D349))=\"BYE\",\"0\",PLAYER!K1781)","v":-1E-3},"",null,null,"",null,null,null,null,null,{"$f":"IF(UPPER(TRIM($D$349))=\"BYE\",\"-\",VLOOKUP($D$349,HCTableBlk5,2,FALSE))","v":0}]
[null,"\"","\"                  \"",{"$f":"PLAYER!F1782","v":" Bye "},{"$f":"IF(UPPER(TRIM($D$350))=\"BYE\",\"-\",VLOOKUP($D$350,HCTableBlk5,2,FALSE))","v":"-"},"L",{"$f":"IF(UPPER(TRIM(D350))=\"BYE\",\"0\",PLAYER!J1782)","v":"0"},{"$f":"IF(UPPER(TRIM(D350))=\"BYE\",\"0\",PLAYER!K1782)","v":"0"},"-",null,"Finish >","",null,null,null,null,null,{"$f":"IF(UPPER(TRIM($D$350))=\"BYE\",\"-\",VLOOKUP($D$350,HCTableBlk5,2,FALSE))","v":"-"}]
[]
[null,"Player",null,{"$f":"SEED!$D$33","v":" Block 5 Player 4"},null,null,"Start H/C",{"$f":"SEED!$E$33","v":0},"New H/C",{"$f":"VLOOKUP(D352,HCTableBlk5,2,FALSE)","v":0},"Start Index",{"$f":"SEED!$C$33","v":0},"HC Change Indicator"]
[null,"Date","Event","Opponent","Op Hcap","Lev / Hcap","Score",null,"Won / Lost","Change +/-",null,"New Index"]
[null,{"$f":"NAMES!$C$9","v":"Date"},{"$f":"NAMES!$C$7","v":"Tournament"},{"$f":"PLAYER!F1828","v":" Block 5 Player 2"},{"$f":"IF(UPPER(TRIM($D$354))=\"BYE\",\"-\",VLOOKUP($D$354,HCTableBlk5,2,FALSE))","v":0},{"$f":"IF(HandicapPlay=\"x\",\"H\",\"L\")","v":"L"},{"$f":"IF(UPPER(TRIM(D354))=\"BYE\",\"0\",PLAYER!J1828)","v":-1E-3},{"$f":"IF(UPPER(TRIM(D354))=\"BYE\",\"0\",PLAYER!K1828)","v":-1E-3},{"$f":"IF(UPPER(TRIM(D354))=\"BYE\",\"-\",IF(G354<0,\"\",(IF(G354>H354,\"W\",\"L\"))))","v":""},null,null,{"$f":"IF(J354=\"\",\"\",IF((L352+J354)<900,900,(L352+J354)))","v":""},null,null,null,null,null,{"$f":"IF(UPPER(TRIM($D$354))=\"BYE\",\"-\",VLOOKUP($D$354,HCTableBlk5,2,FALSE))","v":0}]
[null,"\"","\"                  \"",{"$f":"PLAYER!F1829","v":" Block 5 Player 1"},{"$f":"IF(UPPER(TRIM($D$355))=\"BYE\",\"-\",VLOOKUP($D$355,HCTableBlk5,2,FALSE))","v":0},"L",{"$f":"IF(UPPER(TRIM(D355))=\"BYE\",\"0\",PLAYER!J1829)","v":-1E-3},{"$f":"IF(UPPER(TRIM(D355))=\"BYE\",\"0\",PLAYER!K1829)","v":-1E-3},{"$f":"IF(UPPER(TRIM(D355))=\"BYE\",\"-\",IF(G355<0,\"\",(IF(G355>H355,\"W\",\"L\"))))","v":""},null,null,{"$f":"IF(J355=\"\",\"\",IF((L354+J355)<900,900,(L354+J355)))","v":""},null,null,null,null,null,{"$f":"IF(UPPER(TRIM($D$355))=\"BYE\",\"-\",VLOOKUP($D$355,HCTableBlk5,2,FALSE))","v":0}]
[null,"\"","\"                  \"",{"$f":"PLAYER!F1830","v":" Block 5 Player 6"},{"$f":"IF(UPPER(TRIM($D$356))=\"BYE\",\"-\",VLOOKUP($D$356,HCTableBlk5,2,FALSE))","v":0},"L",{"$f":"IF(UPPER(TRIM(D356))=\"BYE\",\"0\",PLAYER!J1830)","v":-1E-3},{"$f":"IF(UPPER(TRIM(D356))=\"BYE\",\"0\",PLAYER!K1830)","v":-1E-3},"",null,null,"",null,null,null,null,null,{"$f":"IF(UPPER(TRIM($D$356))=\"BYE\",\"-\",VLOOKUP($D$356,HCTableBlk5,2,FALSE))","v":0}]
[null,"\"","\"                  \"",{"$f":"PLAYER!F1831","v":" Bye "},{"$f":"IF(UPPER(TRIM($D$357))=\"BYE\",\"-\",VLOOKUP($D$357,HCTableBlk5,2,FALSE))","v":"-"},"L",{"$f":"IF(UPPER(TRIM(D357))=\"BYE\",\"0\",PLAYER!J1831)","v":"0"},{"$f":"IF(UPPER(TRIM(D357))=\"BYE\",\"0\",PLAYER!K1831)","v":"0"},"-",null,null,"",null,null,null,null,null,{"$f":"IF(UPPER(TRIM($D$357))=\"BYE\",\"-\",VLOOKUP($D$357,HCTableBlk5,2,FALSE))","v":"-"}]
[null,"\"","\"                  \"",{"$f":"PLAYER!F1832","v":" Block 5 Player 3"},{"$f":"IF(UPPER(TRIM($D$358))=\"BYE\",\"-\",VLOOKUP($D$358,HCTableBlk5,2,FALSE))","v":0},"L",{"$f":"IF(UPPER(TRIM(D358))=\"BYE\",\"0\",PLAYER!J1832)","v":-1E-3},{"$f":"IF(UPPER(TRIM(D358))=\"BYE\",\"0\",PLAYER!K1832)","v":-1E-3},"",null,null,"",null,null,null,null,null,{"$f":"IF(UPPER(TRIM($D$358))=\"BYE\",\"-\",VLOOKUP($D$358,HCTableBlk5,2,FALSE))","v":0}]
[null,"\"","\"                  \"",{"$f":"PLAYER!F1833","v":" Block 5 Player 5"},{"$f":"IF(UPPER(TRIM($D$359))=\"BYE\",\"-\",VLOOKUP($D$359,HCTableBlk5,2,FALSE))","v":0},"L",{"$f":"IF(UPPER(TRIM(D359))=\"BYE\",\"0\",PLAYER!J1833)","v":-1E-3},{"$f":"IF(UPPER(TRIM(D359))=\"BYE\",\"0\",PLAYER!K1833)","v":-1E-3},"",null,null,"",null,null,null,null,null,{"$f":"IF(UPPER(TRIM($D$359))=\"BYE\",\"-\",VLOOKUP($D$359,HCTableBlk5,2,FALSE))","v":0}]
[null,"\"","\"                  \"",{"$f":"PLAYER!F1834","v":" Block 5 Player 7"},{"$f":"IF(UPPER(TRIM($D$360))=\"BYE\",\"-\",VLOOKUP($D$360,HCTableBlk5,2,FALSE))","v":0},"L",{"$f":"IF(UPPER(TRIM(D360))=\"BYE\",\"0\",PLAYER!J1834)","v":-1E-3},{"$f":"IF(UPPER(TRIM(D360))=\"BYE\",\"0\",PLAYER!K1834)","v":-1E-3},"",null,"Finish >","",null,null,null,null,null,{"$f":"IF(UPPER(TRIM($D$360))=\"BYE\",\"-\",VLOOKUP($D$360,HCTableBlk5,2,FALSE))","v":0}]
[]
[null,"Player",null,{"$f":"SEED!$D$34","v":" Block 5 Player 5"},null,null,"Start H/C",{"$f":"SEED!$E$34","v":0},"New H/C",{"$f":"VLOOKUP(D362,HCTableBlk5,2,FALSE)","v":0},"Start Index",{"$f":"SEED!$C$34","v":0},"HC Change Indicator"]
[null,"Date","Event","Opponent","Op Hcap","Lev / Hcap","Score",null,"Won / Lost","Change +/-",null,"New Index"]
[null,{"$f":"NAMES!$C$9","v":"Date"},{"$f":"NAMES!$C$7","v":"Tournament"},{"$f":"PLAYER!F1880","v":" Bye "},{"$f":"IF(UPPER(TRIM($D$364))=\"BYE\",\"-\",VLOOKUP($D$364,HCTableBlk5,2,FALSE))","v":"-"},{"$f":"IF(HandicapPlay=\"x\",\"H\",\"L\")","v":"L"},{"$f":"IF(UPPER(TRIM(D364))=\"BYE\",\"0\",PLAYER!J1880)","v":"0"},{"$f":"IF(UPPER(TRIM(D364))=\"BYE\",\"0\",PLAYER!K1880)","v":"0"},{"$f":"IF(UPPER(TRIM(D364))=\"BYE\",\"-\",IF(G364<0,\"\",(IF(G364>H364,\"W\",\"L\"))))","v":"-"},null,null,{"$f":"IF(J364=\"\",\"\",IF((L362+J364)<900,900,(L362+J364)))","v":""},null,null,null,null,null,{"$f":"IF(UPPER(TRIM($D$364))=\"BYE\",\"-\",VLOOKUP($D$364,HCTableBlk5,2,FALSE))","v":"-"}]
[null,"\"","\"                  \"",{"$f":"PLAYER!F1881","v":" Block 5 Player 3"},{"$f":"IF(UPPER(TRIM($D$365))=\"BYE\",\"-\",VLOOKUP($D$365,HCTableBlk5,2,FALSE))","v":0},"L",{"$f":"IF(UPPER(TRIM(D365))=\"BYE\",\"0\",PLAYER!J1881)","v":-1E-3},{"$f":"IF(UPPER(TRIM(D365))=\"BYE\",\"0\",PLAYER!K1881)","v":-1E-3},{"$f":"IF(UPPER(TRIM(D365))=\"BYE\",\"-\",IF(G365<0,\"\",(IF(G365>H365,\"W\",\"L\"))))","v":""},null,null,{"$f":"IF(J365=\"\",\"\",IF((L364+J365)<900,900,(L364+J365)))","v":""},null,null,null,null,null,{"$f":"IF(UPPER(TRIM($D$365))=\"BYE\",\"-\",VLOOKUP($D$365,HCTableBlk5,2,FALSE))","v":0}]
[null,"\"","\"                  \"",{"$f":"PLAYER!F1882","v":" Block 5 Player 1"},{"$f":"IF(UPPER(TRIM($D$366))=\"BYE\",\"-\",VLOOKUP($D$366,HCTableBlk5,2,FALSE))","v":0},"L",{"$f":"IF(UPPER(TRIM(D366))=\"BYE\",\"0\",PLAYER!J1882)","v":-1E-3},{"$f":"IF(UPPER(TRIM(D366))=\"BYE\",\"0\",PLAYER!K1882)","v":-1E-3},"",null,null,"",null,null,null,null,null,{"$f":"IF(UPPER(TRIM($D$366))=\"BYE\",\"-\",VLOOKUP($D$366,HCTableBlk5,2,FALSE))","v":0}]
[null,"\"","\"                  \"",{"$f":"PLAYER!F1883","v":" Block 5 Player 7"},{"$f":"IF(UPPER(TRIM($D$367))=\"BYE\",\"-\",VLOOKUP($D$367,HCTableBlk5,2,FALSE))","v":0},"L",{"$f":"IF(UPPER(TRIM(D367))=\"BYE\",\"0\",PLAYER!J1883)","v":-1E-3},{"$f":"IF(UPPER(TRIM(D367))=\"BYE\",\"0\",PLAYER!K1883)","v":-1E-3},"",null,null,"",null,null,null,null,null,{"$f":"IF(UPPER(TRIM($D$367))=\"BYE\",\"-\",VLOOKUP($D$367,HCTableBlk5,2,FALSE))","v":0}]
[null,"\"","\"                  \"",{"$f":"PLAYER!F1884","v":" Block 5 Player 2"},{"$f":"IF(UPPER(TRIM($D$368))=\"BYE\",\"-\",VLOOKUP($D$368,HCTableBlk5,2,FALSE))","v":0},"L",{"$f":"IF(UPPER(TRIM(D368))=\"BYE\",\"0\",PLAYER!J1884)","v":-1E-3},{"$f":"IF(UPPER(TRIM(D368))=\"BYE\",\"0\",PLAYER!K1884)","v":-1E-3},"",null,null,"",null,null,null,null,null,{"$f":"IF(UPPER(TRIM($D$368))=\"BYE\",\"-\",VLOOKUP($D$368,HCTableBlk5,2,FALSE))","v":0}]
[null,"\"","\"                  \"",{"$f":"PLAYER!F1885","v":" Block 5 Player 4"},{"$f":"IF(UPPER(TRIM($D$369))=\"BYE\",\"-\",VLOOKUP($D$369,HCTableBlk5,2,FALSE))","v":0},"L",{"$f":"IF(UPPER(TRIM(D369))=\"BYE\",\"0\",PLAYER!J1885)","v":-1E-3},{"$f":"IF(UPPER(TRIM(D369))=\"BYE\",\"0\",PLAYER!K1885)","v":-1E-3},"",null,null,"",null,null,null,null,null,{"$f":"IF(UPPER(TRIM($D$369))=\"BYE\",\"-\",VLOOKUP($D$369,HCTableBlk5,2,FALSE))","v":0}]
[null,"\"","\"                  \"",{"$f":"PLAYER!F1886","v":" Block 5 Player 6"},{"$f":"IF(UPPER(TRIM($D$370))=\"BYE\",\"-\",VLOOKUP($D$370,HCTableBlk5,2,FALSE))","v":0},"L",{"$f":"IF(UPPER(TRIM(D370))=\"BYE\",\"0\",PLAYER!J1886)","v":-1E-3},{"$f":"IF(UPPER(TRIM(D370))=\"BYE\",\"0\",PLAYER!K1886)","v":-1E-3},"",null,"Finish >","",null,null,null,null,null,{"$f":"IF(UPPER(TRIM($D$370))=\"BYE\",\"-\",VLOOKUP($D$370,HCTableBlk5,2,FALSE))","v":0}]
[]
[null,"Player",null,{"$f":"SEED!$D$35","v":" Block 5 Player 6"},null,null,"Start H/C",{"$f":"SEED!$E$35","v":0},"New H/C",{"$f":"VLOOKUP(D372,HCTableBlk5,2,FALSE)","v":0},"Start Index",{"$f":"SEED!$C$35","v":0},"HC Change Indicator"]
[null,"Date","Event","Opponent","Op Hcap","Lev / Hcap","Score",null,"Won / Lost","Change +/-",null,"New Index"]
[null,{"$f":"NAMES!$C$9","v":"Date"},{"$f":"NAMES!$C$7","v":"Tournament"},{"$f":"PLAYER!F1932","v":" Block 5 Player 7"},{"$f":"IF(UPPER(TRIM($D$374))=\"BYE\",\"-\",VLOOKUP($D$374,HCTableBlk5,2,FALSE))","v":0},{"$f":"IF(HandicapPlay=\"x\",\"H\",\"L\")","v":"L"},{"$f":"IF(UPPER(TRIM(D374))=\"BYE\",\"0\",PLAYER!J1932)","v":-1E-3},{"$f":"IF(UPPER(TRIM(D374))=\"BYE\",\"0\",PLAYER!K1932)","v":-1E-3},{"$f":"IF(UPPER(TRIM(D374))=\"BYE\",\"-\",IF(G374<0,\"\",(IF(G374>H374,\"W\",\"L\"))))","v":""},null,null,{"$f":"IF(J374=\"\",\"\",IF((L372+J374)<900,900,(L372+J374)))","v":""},null,null,null,null,null,{"$f":"IF(UPPER(TRIM($D$374))=\"BYE\",\"-\",VLOOKUP($D$374,HCTableBlk5,2,FALSE))","v":0}]
[null,"\"","\"                  \"",{"$f":"PLAYER!F1933","v":" Block 5 Player 2"},{"$f":"IF(UPPER(TRIM($D$375))=\"BYE\",\"-\",VLOOKUP($D$375,HCTableBlk5,2,FALSE))","v":0},"L",{"$f":"IF(UPPER(TRIM(D375))=\"BYE\",\"0\",PLAYER!J1933)","v":-1E-3},{"$f":"IF(UPPER(TRIM(D375))=\"BYE\",\"0\",PLAYER!K1933)","v":-1E-3},{"$f":"IF(UPPER(TRIM(D375))=\"BYE\",\"-\",IF(G375<0,\"\",(IF(G375>H375,\"W\",\"L\"))))","v":""},null,null,{"$f":"IF(J375=\"\",\"\",IF((L374+J375)<900,900,(L374+J375)))","v":""},null,null,null,null,null,{"$f":"IF(UPPER(TRIM($D$375))=\"BYE\",\"-\",VLOOKUP($D$375,HCTableBlk5,2,FALSE))","v":0}]
[null,"\"","\"                  \"",{"$f":"PLAYER!F1934","v":" Block 5 Player 4"},{"$f":"IF(UPPER(TRIM($D$376))=\"BYE\",\"-\",VLOOKUP($D$376,HCTableBlk5,2,FALSE))","v":0},"L",{"$f":"IF(UPPER(TRIM(D376))=\"BYE\",\"0\",PLAYER!J1934)","v":-1E-3},{"$f":"IF(UPPER(TRIM(D376))=\"BYE\",\"0\",PLAYER!K1934)","v":-1E-3},"",null,null,"",null,null,null,null,null,{"$f":"IF(UPPER(TRIM($D$376))=\"BYE\",\"-\",VLOOKUP($D$376,HCTableBlk5,2,FALSE))","v":0}]
[null,"\"","\"                  \"",{"$f":"PLAYER!F1935","v":" Block 5 Player 1"},{"$f":"IF(UPPER(TRIM($D$377))=\"BYE\",\"-\",VLOOKUP($D$377,HCTableBlk5,2,FALSE))","v":0},"L",{"$f":"IF(UPPER(TRIM(D377))=\"BYE\",\"0\",PLAYER!J1935)","v":-1E-3},{"$f":"IF(UPPER(TRIM(D377))=\"BYE\",\"0\",PLAYER!K1935)","v":-1E-3},"",null,null,"",null,null,null,null,null,{"$f":"IF(UPPER(TRIM($D$377))=\"BYE\",\"-\",VLOOKUP($D$377,HCTableBlk5,2,FALSE))","v":0}]
[null,"\"","\"                  \"",{"$f":"PLAYER!F1936","v":" Bye "},{"$f":"IF(UPPER(TRIM($D$378))=\"BYE\",\"-\",VLOOKUP($D$378,HCTableBlk5,2,FALSE))","v":"-"},"L",{"$f":"IF(UPPER(TRIM(D378))=\"BYE\",\"0\",PLAYER!J1936)","v":"0"},{"$f":"IF(UPPER(TRIM(D378))=\"BYE\",\"0\",PLAYER!K1936)","v":"0"},"-",null,null,"",null,null,null,null,null,{"$f":"IF(UPPER(TRIM($D$378))=\"BYE\",\"-\",VLOOKUP($D$378,HCTableBlk5,2,FALSE))","v":"-"}]
[null,"\"","\"                  \"",{"$f":"PLAYER!F1937","v":" Block 5 Player 3"},{"$f":"IF(UPPER(TRIM($D$379))=\"BYE\",\"-\",VLOOKUP($D$379,HCTableBlk5,2,FALSE))","v":0},"L",{"$f":"IF(UPPER(TRIM(D379))=\"BYE\",\"0\",PLAYER!J1937)","v":-1E-3},{"$f":"IF(UPPER(TRIM(D379))=\"BYE\",\"0\",PLAYER!K1937)","v":-1E-3},"",null,null,"",null,null,null,null,null,{"$f":"IF(UPPER(TRIM($D$379))=\"BYE\",\"-\",VLOOKUP($D$379,HCTableBlk5,2,FALSE))","v":0}]
[null,"\"","\"                  \"",{"$f":"PLAYER!F1938","v":" Block 5 Player 5"},{"$f":"IF(UPPER(TRIM($D$380))=\"BYE\",\"-\",VLOOKUP($D$380,HCTableBlk5,2,FALSE))","v":0},"L",{"$f":"IF(UPPER(TRIM(D380))=\"BYE\",\"0\",PLAYER!J1938)","v":-1E-3},{"$f":"IF(UPPER(TRIM(D380))=\"BYE\",\"0\",PLAYER!K1938)","v":-1E-3},"",null,"Finish >","",null,null,null,null,null,{"$f":"IF(UPPER(TRIM($D$380))=\"BYE\",\"-\",VLOOKUP($D$380,HCTableBlk5,2,FALSE))","v":0}]
[]
[null,"Player",null,{"$f":"SEED!$D$36","v":" Block 5 Player 7"},null,null,"Start H/C",{"$f":"SEED!$E$36","v":0},"New H/C",{"$f":"VLOOKUP(D382,HCTableBlk5,2,FALSE)","v":0},"Start Index",{"$f":"SEED!$C$36","v":0},"Change Indicator"]
[null,"Date","Event","Opponent","Op Hcap","Lev / Hcap","Score",null,"Won / Lost","Change +/-",null,"New Index"]
[null,{"$f":"NAMES!$C$9","v":"Date"},{"$f":"NAMES!$C$7","v":"Tournament"},{"$f":"PLAYER!F1984","v":" Block 5 Player 6"},{"$f":"IF(UPPER(TRIM($D$384))=\"BYE\",\"-\",VLOOKUP($D$384,HCTableBlk5,2,FALSE))","v":0},{"$f":"IF(HandicapPlay=\"x\",\"H\",\"L\")","v":"L"},{"$f":"IF(UPPER(TRIM(D384))=\"BYE\",\"0\",PLAYER!J1984)","v":-1E-3},{"$f":"IF(UPPER(TRIM(D384))=\"BYE\",\"0\",PLAYER!K1984)","v":-1E-3},{"$f":"IF(UPPER(TRIM(D384))=\"BYE\",\"-\",IF(G384<0,\"\",(IF(G384>H384,\"W\",\"L\"))))","v":""},null,null,{"$f":"IF(J384=\"\",\"\",IF((L382+J384)<900,900,(L382+J384)))","v":""},null,null,null,null,null,{"$f":"IF(UPPER(TRIM($D$384))=\"BYE\",\"-\",VLOOKUP($D$384,HCTableBlk5,2,FALSE))","v":0}]
[null,"\"","\"                  \"",{"$f":"PLAYER!F1985","v":" Bye "},{"$f":"IF(UPPER(TRIM($D$385))=\"BYE\",\"-\",VLOOKUP($D$385,HCTableBlk5,2,FALSE))","v":"-"},"L",{"$f":"IF(UPPER(TRIM(D385))=\"BYE\",\"0\",PLAYER!J1985)","v":"0"},{"$f":"IF(UPPER(TRIM(D385))=\"BYE\",\"0\",PLAYER!K1985)","v":"0"},{"$f":"IF(UPPER(TRIM(D385))=\"BYE\",\"-\",IF(G385<0,\"\",(IF(G385>H385,\"W\",\"L\"))))","v":"-"},null,null,{"$f":"IF(J385=\"\",\"\",IF((L384+J385)<900,900,(L384+J385)))","v":""},null,null,null,null,null,{"$f":"IF(UPPER(TRIM($D$385))=\"BYE\",\"-\",VLOOKUP($D$385,HCTableBlk5,2,FALSE))","v":"-"}]
[null,"\"","\"                  \"",{"$f":"PLAYER!F1986","v":" Block 5 Player 3"},{"$f":"IF(UPPER(TRIM($D$386))=\"BYE\",\"-\",VLOOKUP($D$386,HCTableBlk5,2,FALSE))","v":0},"L",{"$f":"IF(UPPER(TRIM(D386))=\"BYE\",\"0\",PLAYER!J1986)","v":-1E-3},{"$f":"IF(UPPER(TRIM(D386))=\"BYE\",\"0\",PLAYER!K1986)","v":-1E-3},"",null,null,"",null,null,null,null,null,{"$f":"IF(UPPER(TRIM($D$386))=\"BYE\",\"-\",VLOOKUP($D$386,HCTableBlk5,2,FALSE))","v":0}]
[null,"\"","\"                  \"",{"$f":"PLAYER!F1987","v":" Block 5 Player 5"},{"$f":"IF(UPPER(TRIM($D$387))=\"BYE\",\"-\",VLOOKUP($D$387,HCTableBlk5,2,FALSE))","v":0},"L",{"$f":"IF(UPPER(TRIM(D387))=\"BYE\",\"0\",PLAYER!J1987)","v":-1E-3},{"$f":"IF(UPPER(TRIM(D387))=\"BYE\",\"0\",PLAYER!K1987)","v":-1E-3},"",null,null,"",null,null,null,null,null,{"$f":"IF(UPPER(TRIM($D$387))=\"BYE\",\"-\",VLOOKUP($D$387,HCTableBlk5,2,FALSE))","v":0}]
[null,"\"","\"                  \"",{"$f":"PLAYER!F1988","v":" Block 5 Player 1"},{"$f":"IF(UPPER(TRIM($D$388))=\"BYE\",\"-\",VLOOKUP($D$388,HCTableBlk5,2,FALSE))","v":0},"L",{"$f":"IF(UPPER(TRIM(D388))=\"BYE\",\"0\",PLAYER!J1988)","v":-1E-3},{"$f":"IF(UPPER(TRIM(D388))=\"BYE\",\"0\",PLAYER!K1988)","v":-1E-3},"",null,null,"",null,null,null,null,null,{"$f":"IF(UPPER(TRIM($D$388))=\"BYE\",\"-\",VLOOKUP($D$388,HCTableBlk5,2,FALSE))","v":0}]
[null,"\"","\"                  \"",{"$f":"PLAYER!F1989","v":" Block 5 Player 2"},{"$f":"IF(UPPER(TRIM($D$389))=\"BYE\",\"-\",VLOOKUP($D$389,HCTableBlk5,2,FALSE))","v":0},"L",{"$f":"IF(UPPER(TRIM(D389))=\"BYE\",\"0\",PLAYER!J1989)","v":-1E-3},{"$f":"IF(UPPER(TRIM(D389))=\"BYE\",\"0\",PLAYER!K1989)","v":-1E-3},"",null,null,"",null,null,null,null,null,{"$f":"IF(UPPER(TRIM($D$389))=\"BYE\",\"-\",VLOOKUP($D$389,HCTableBlk5,2,FALSE))","v":0}]
[null,"\"","\"                  \"",{"$f":"PLAYER!F1990","v":" Block 5 Player 4"},{"$f":"IF(UPPER(TRIM($D$390))=\"BYE\",\"-\",VLOOKUP($D$390,HCTableBlk5,2,FALSE))","v":0},"L",{"$f":"IF(UPPER(TRIM(D390))=\"BYE\",\"0\",PLAYER!J1990)","v":-1E-3},{"$f":"IF(UPPER(TRIM(D390))=\"BYE\",\"0\",PLAYER!K1990)","v":-1E-3},"",null,"Finish >","",null,null,null,null,null,{"$f":"IF(UPPER(TRIM($D$390))=\"BYE\",\"-\",VLOOKUP($D$390,HCTableBlk5,2,FALSE))","v":0}]
[]
[null,"Player",null,{"$f":"SEED!$D$37","v":" Bye "},null,null,"Start H/C",{"$f":"SEED!$E$37","v":0},"New H/C",{"$f":"VLOOKUP(D392,HCTableBlk5,2,FALSE)","v":0},"Start Index",{"$f":"SEED!$C$37","v":0},"HC Change Indicator"]
[null,"Date","Event","Opponent","Op Hcap","Lev / Hcap","Score",null,"Won / Lost","Change +/-",null,"New Index"]
[null,{"$f":"NAMES!$C$9","v":"Date"},{"$f":"NAMES!$C$7","v":"Tournament"},{"$f":"PLAYER!F2036","v":" Block 5 Player 5"},6,{"$f":"IF(HandicapPlay=\"x\",\"H\",\"L\")","v":"L"},{"$f":"PLAYER!J2036","v":-1E-3},{"$f":"PLAYER!K2036","v":-1E-3},{"$f":"IF(G394<0,\"\",(IF(G394>H394,\"W\",\"L\")))","v":""},null,null,{"$f":"IF(J394=\"\",\"\",L392+J394)","v":""}]
[null,"\"","\"                  \"",{"$f":"PLAYER!F2037","v":" Block 5 Player 7"},5,"L",{"$f":"PLAYER!J2037","v":-1E-3},{"$f":"PLAYER!K2037","v":-1E-3},{"$f":"IF(G395<0,\"\",(IF(G395>H395,\"W\",\"L\")))","v":""},null,null,{"$f":"IF(J395=\"\",\"\",L394+J395)","v":""}]
[null,"\"","\"                  \"",{"$f":"PLAYER!F2038","v":" Block 5 Player 2"},4,"L",{"$f":"PLAYER!J2038","v":-1E-3},{"$f":"PLAYER!K2038","v":-1E-3},"",null,null,""]
[null,"\"","\"                  \"",{"$f":"PLAYER!F2039","v":" Block 5 Player 4"},5,"L",{"$f":"PLAYER!J2039","v":-1E-3},{"$f":"PLAYER!K2039","v":-1E-3},"",null,null,""]
[null,"\"","\"                  \"",{"$f":"PLAYER!F2040","v":" Block 5 Player 6"},8,"L",{"$f":"PLAYER!J2040","v":-1E-3},{"$f":"PLAYER!K2040","v":-1E-3},"",null,null,""]
[null,"\"","\"                  \"",{"$f":"PLAYER!F2041","v":" Block 5 Player 1"},5,"L",{"$f":"PLAYER!J2041","v":-1E-3},{"$f":"PLAYER!K2041","v":-1E-3},"",null,null,""]
[null,"\"","\"                  \"",{"$f":"PLAYER!F2042","v":" Block 5 Player 3"},6,"L",{"$f":"PLAYER!J2042","v":-1E-3},{"$f":"PLAYER!K2042","v":-1E-3},"",null,"Finish >",""]

{"sheet":"AHS1","index":13,"n_rows":56,"n_cols":18,"rows_kept":56,"cut":false,"hidden":false,"merged":[[14,17,15,17],[14,16,15,16],[54,3,54,5],[55,3,55,5],[46,3,46,5],[47,3,47,5],[48,3,48,5],[49,3,49,5],[42,3,42,5],[43,3,43,5],[44,3,44,5],[45,3,45,5],[38,3,38,5],[39,3,39,5],[40,3,40,5],[41,3,41,5],[56,3,56,5],[57,3,57,5],[50,3,50,5],[51,3,51,5],[52,3,52,5],[53,3,53,5],[34,3,34,5],[35,3,35,5],[36,3,36,5],[37,3,37,5],[30,3,30,5],[31,3,31,5],[32,3,32,5],[33,3,33,5],[26,3,26,5],[27,3,27,5],[28,3,28,5],[29,3,29,5],[22,3,22,5],[23,3,23,5],[24,3,24,5],[25,3,25,5],[18,3,18,5],[19,3,19,5],[20,3,20,5],[21,3,21,5],[14,7,14,8],[16,3,16,5],[17,3,17,5],[12,3,12,6],[14,2,15,2],[14,3,15,5],[14,6,15,6],[2,2,5,4],[3,5,3,10],[8,2,8,10],[9,2,9,10],[14,9,14,10]]}
[]
[]
[null,null,"AHS1"]
[null,null,null,null,null,"HANDICAP CHANGES REPORT FORM"]
[]
[]
[]
[]
[null,null,"Players are to fill in the details from their National Handicap Cards and hand the slips to the"]
[null,null,"Tournament Handicapper before leaving the venue at the end of the tournament"]
[]
[]
[null,null,"Event:",{"$f":"NAMES!$C$7","v":"Tournament"},null,null,null,"State:",null,"Date:",{"$f":"NAMES!$C$9","v":"Date"}]
[]
[null,null,"ACA ID","NAME",null,null,"*Non AHS","HANDICAP",null,"INDEX",null,null,null,"H/Cap","Index",null,"Running Handicaps","Calculated Handicaps"]
[null,null,null,null,null,null,null,"Start","Finish","Start","Finish",null,null,-3,3050]
[null,1,{"$f":"SEED!B6","v":0},{"$f":"SEED!D6","v":" Block 1 Player 1"},null,null,null,{"$f":"SEED!E6","v":0},{"$f":"'HANDICAP CARD'!$J$2","v":0},{"$f":"SEED!C6","v":0},{"$f":"'HANDICAP CARD'!$L$10","v":""},null,null,-2.5,2800,null,0,{"$f":"Handicap(Q17,J17,K17)","v":{"$error":"#NAME?"}}]
[null,2,{"$f":"SEED!B7","v":0},{"$f":"SEED!D7","v":" Block 1 Player 2"},null,null,null,{"$f":"SEED!E7","v":0},{"$f":"'HANDICAP CARD'!$J$12","v":0},{"$f":"SEED!C7","v":0},{"$f":"'HANDICAP CARD'!$L$20","v":""},null,null,-2,2600,null,0,{"$f":"Handicap(Q18,J18,K18)","v":{"$error":"#NAME?"}}]
[null,3,{"$f":"SEED!B8","v":0},{"$f":"SEED!D8","v":" Block 1 Player 3"},null,null,null,{"$f":"SEED!E8","v":0},{"$f":"'HANDICAP CARD'!$J$22","v":0},{"$f":"SEED!C8","v":0},{"$f":"'HANDICAP CARD'!$L$30","v":""},null,null,-1.5,2400,null,0,{"$error":"#NAME?"}]
[null,4,{"$f":"SEED!B9","v":0},{"$f":"SEED!D9","v":" Block 1 Player 4"},null,null,null,{"$f":"SEED!E9","v":0},{"$f":"'HANDICAP CARD'!$J$32","v":0},{"$f":"SEED!C9","v":0},{"$f":"'HANDICAP CARD'!$L$40","v":""},null,null,-1,2250,null,0,{"$error":"#NAME?"}]
[null,5,{"$f":"SEED!B10","v":0},{"$f":"SEED!D10","v":" Block 1 Player 5"},null,null,null,{"$f":"SEED!E10","v":0},{"$f":"'HANDICAP CARD'!$J$42","v":0},{"$f":"SEED!C10","v":0},{"$f":"'HANDICAP CARD'!$L$50","v":""},null,null,-0.5,2100,null,0,{"$error":"#NAME?"}]
[null,6,{"$f":"SEED!B11","v":0},{"$f":"SEED!D11","v":" Block 1 Player 6"},null,null,null,{"$f":"SEED!E11","v":0},{"$f":"'HANDICAP CARD'!$J$52","v":0},{"$f":"SEED!C11","v":0},{"$f":"'HANDICAP CARD'!$L$60","v":""},null,null,0,2000,null,0,{"$error":"#NAME?"}]
[null,7,{"$f":"SEED!B12","v":0},{"$f":"SEED!D12","v":" Block 1 Player 7"},null,null,null,{"$f":"SEED!E12","v":0},{"$f":"'HANDICAP CARD'!$J$62","v":0},{"$f":"SEED!C12","v":0},{"$f":"'HANDICAP CARD'!$L$70","v":""},null,null,0.5,1950,null,0,{"$error":"#NAME?"}]
[null,8,{"$f":"SEED!B13","v":0},{"$f":"SEED!D13","v":" Bye "},null,null,null,{"$f":"SEED!E13","v":0},{"$f":"'HANDICAP CARD'!$J$72","v":0},{"$f":"SEED!C13","v":0},{"$f":"'HANDICAP CARD'!$L$80","v":""},null,null,1,1900,null,0,{"$error":"#NAME?"}]
[null,9,{"$f":"SEED!G6","v":0},{"$f":"SEED!I6","v":" Block 2 Player 1"},null,null,null,{"$f":"SEED!J6","v":0},{"$f":"'HANDICAP CARD'!$J$82","v":0},{"$f":"SEED!H6","v":0},{"$f":"'HANDICAP CARD'!$L$90","v":""},null,null,1.5,1850,null,0,{"$error":"#NAME?"}]
[null,10,{"$f":"SEED!G7","v":0},{"$f":"SEED!I7","v":" Block 2 Player 2"},null,null,null,{"$f":"SEED!J7","v":0},{"$f":"'HANDICAP CARD'!$J$92","v":0},{"$f":"SEED!H7","v":0},{"$f":"'HANDICAP CARD'!$L$100","v":""},null,null,2,1800,null,0,{"$error":"#NAME?"}]
[null,11,{"$f":"SEED!G8","v":0},{"$f":"SEED!I8","v":" Block 2 Player 3"},null,null,null,{"$f":"SEED!J8","v":0},{"$f":"'HANDICAP CARD'!$J$102","v":0},{"$f":"SEED!H8","v":0},{"$f":"'HANDICAP CARD'!$L$110","v":""},null,null,2.5,1750,null,0,{"$error":"#NAME?"}]
[null,12,{"$f":"SEED!G9","v":0},{"$f":"SEED!I9","v":" Block 2 Player 4"},null,null,null,{"$f":"SEED!J9","v":0},{"$f":"'HANDICAP CARD'!$J$112","v":0},{"$f":"SEED!H9","v":0},{"$f":"'HANDICAP CARD'!$L$120","v":""},null,null,3,1700,null,0,{"$error":"#NAME?"}]
[null,13,{"$f":"SEED!G10","v":0},{"$f":"SEED!I10","v":" Block 2 Player 5"},null,null,null,{"$f":"SEED!J10","v":0},{"$f":"'HANDICAP CARD'!$J$122","v":0},{"$f":"SEED!H10","v":0},{"$f":"'HANDICAP CARD'!$L$130","v":""},null,null,3.5,1650,null,0,{"$error":"#NAME?"}]
[null,14,{"$f":"SEED!G11","v":0},{"$f":"SEED!I11","v":" Block 2 Player 6"},null,null,null,{"$f":"SEED!J11","v":0},{"$f":"'HANDICAP CARD'!$J$132","v":0},{"$f":"SEED!H11","v":0},{"$f":"'HANDICAP CARD'!$L$140","v":""},null,null,4,1600,null,0,{"$error":"#NAME?"}]
[null,15,{"$f":"SEED!G12","v":0},{"$f":"SEED!I12","v":" Block 2 Player 7"},null,null,null,{"$f":"SEED!J12","v":0},{"$f":"'HANDICAP CARD'!$J$142","v":0},{"$f":"SEED!H12","v":0},{"$f":"'HANDICAP CARD'!$L$150","v":""},null,null,4.5,1550,null,0,{"$error":"#NAME?"}]
[null,16,{"$f":"SEED!G13","v":0},{"$f":"SEED!I13","v":" Bye "},null,null,null,{"$f":"SEED!J13","v":0},{"$f":"'HANDICAP CARD'!$J$152","v":0},{"$f":"SEED!H13","v":0},{"$f":"'HANDICAP CARD'!$L$160","v":""},null,null,5,1500,null,0,{"$error":"#NAME?"}]
[null,17,{"$f":"SEED!B18","v":0},{"$f":"SEED!D18","v":" Block 3 Player 1"},null,null,null,{"$f":"SEED!E18","v":0},{"$f":"'HANDICAP CARD'!$J$162","v":0},{"$f":"SEED!C18","v":0},{"$f":"'HANDICAP CARD'!$L$170","v":""},null,null,6,1450,null,0,{"$error":"#NAME?"}]
[null,18,{"$f":"SEED!B19","v":0},{"$f":"SEED!D19","v":" Block 3 Player 2"},null,null,null,{"$f":"SEED!E19","v":0},{"$f":"'HANDICAP CARD'!$J$172","v":0},{"$f":"SEED!C19","v":0},{"$f":"'HANDICAP CARD'!$L$180","v":""},null,null,7,1400,null,0,{"$error":"#NAME?"}]
[null,19,{"$f":"SEED!B20","v":0},{"$f":"SEED!D20","v":" Block 3 Player 3"},null,null,null,{"$f":"SEED!E20","v":0},{"$f":"'HANDICAP CARD'!$J$182","v":0},{"$f":"SEED!C20","v":0},{"$f":"'HANDICAP CARD'!$L$190","v":""},null,null,8,1350,null,0,{"$error":"#NAME?"}]
[null,20,{"$f":"SEED!B21","v":0},{"$f":"SEED!D21","v":" Block 3 Player 4"},null,null,null,{"$f":"SEED!E21","v":0},{"$f":"'HANDICAP CARD'!$J$192","v":0},{"$f":"SEED!C21","v":0},{"$f":"'HANDICAP CARD'!$L$200","v":""},null,null,9,1300,null,0,{"$error":"#NAME?"}]
[null,21,{"$f":"SEED!B22","v":0},{"$f":"SEED!D22","v":" Block 3 Player 5"},null,null,null,{"$f":"SEED!E22","v":0},{"$f":"'HANDICAP CARD'!$J$202","v":0},{"$f":"SEED!C22","v":0},{"$f":"'HANDICAP CARD'!$L$210","v":""},null,null,10,1250,null,0,{"$error":"#NAME?"}]
[null,22,{"$f":"SEED!B23","v":0},{"$f":"SEED!D23","v":" Block 3 Player 6"},null,null,null,{"$f":"SEED!E23","v":0},{"$f":"'HANDICAP CARD'!$J$212","v":0},{"$f":"SEED!C23","v":0},{"$f":"'HANDICAP CARD'!$L$220","v":""},null,null,11,1200,null,0,{"$error":"#NAME?"}]
[null,23,{"$f":"SEED!B24","v":0},{"$f":"SEED!D24","v":" Block 3 Player 7"},null,null,null,{"$f":"SEED!E24","v":0},{"$f":"'HANDICAP CARD'!$J$222","v":0},{"$f":"SEED!C24","v":0},{"$f":"'HANDICAP CARD'!$L$230","v":""},null,null,12,1150,null,0,{"$error":"#NAME?"}]
[null,24,{"$f":"SEED!B25","v":0},{"$f":"SEED!D25","v":" Bye "},null,null,null,{"$f":"SEED!E25","v":0},{"$f":"'HANDICAP CARD'!$J$232","v":0},{"$f":"SEED!C25","v":0},{"$f":"'HANDICAP CARD'!$L$240","v":""},null,null,14,1100,null,0,{"$error":"#NAME?"}]
[null,25,{"$f":"SEED!G18","v":0},{"$f":"SEED!I18","v":" Block 4 Player 1"},null,null,null,{"$f":"SEED!J18","v":0},{"$f":"'HANDICAP CARD'!$J$242","v":0},{"$f":"SEED!H18","v":0},{"$f":"'HANDICAP CARD'!$L$250","v":""},null,null,16,1050,null,0,{"$error":"#NAME?"}]
[null,26,{"$f":"SEED!G19","v":0},{"$f":"SEED!I19","v":" Block 4 Player 2"},null,null,null,{"$f":"SEED!J19","v":0},{"$f":"'HANDICAP CARD'!$J$252","v":0},{"$f":"SEED!H19","v":0},{"$f":"'HANDICAP CARD'!$L$260","v":""},null,null,18,1000,null,0,{"$error":"#NAME?"}]
[null,27,{"$f":"SEED!G20","v":0},{"$f":"SEED!I20","v":" Block 4 Player 3"},null,null,null,{"$f":"SEED!J20","v":0},{"$f":"'HANDICAP CARD'!$J$262","v":0},{"$f":"SEED!H20","v":0},{"$f":"'HANDICAP CARD'!$L$270","v":""},null,null,20,950,null,0,{"$error":"#NAME?"}]
[null,28,{"$f":"SEED!G21","v":0},{"$f":"SEED!I21","v":" Block 4 Player 4"},null,null,null,{"$f":"SEED!J21","v":0},{"$f":"'HANDICAP CARD'!$J$272","v":0},{"$f":"SEED!H21","v":0},{"$f":"'HANDICAP CARD'!$L$280","v":""},null,null,22,900,null,0,{"$error":"#NAME?"}]
[null,29,{"$f":"SEED!G22","v":0},{"$f":"SEED!I22","v":" Block 4 Player 5"},null,null,null,{"$f":"SEED!J22","v":0},{"$f":"'HANDICAP CARD'!$J$282","v":0},{"$f":"SEED!H22","v":0},{"$f":"'HANDICAP CARD'!$L$290","v":""},null,null,24,850,null,0,{"$error":"#NAME?"}]
[null,30,{"$f":"SEED!G23","v":0},{"$f":"SEED!I23","v":" Block 4 Player 6"},null,null,null,{"$f":"SEED!J23","v":0},{"$f":"'HANDICAP CARD'!$J$292","v":0},{"$f":"SEED!H23","v":0},{"$f":"'HANDICAP CARD'!$L$300","v":""},null,null,null,null,null,0,{"$error":"#NAME?"}]
[null,31,{"$f":"SEED!G24","v":0},{"$f":"SEED!I24","v":" Block 4 Player 7"},null,null,null,{"$f":"SEED!J24","v":0},{"$f":"'HANDICAP CARD'!$J$302","v":0},{"$f":"SEED!H24","v":0},{"$f":"'HANDICAP CARD'!$L$310","v":""},null,null,null,null,null,0,{"$error":"#NAME?"}]
[null,32,{"$f":"SEED!G25","v":0},{"$f":"SEED!I25","v":" Bye "},null,null,null,{"$f":"SEED!J25","v":0},{"$f":"'HANDICAP CARD'!$J$312","v":0},{"$f":"SEED!H25","v":0},{"$f":"'HANDICAP CARD'!$L$320","v":""},null,null,null,null,null,0,{"$error":"#NAME?"}]
[null,33,{"$f":"SEED!B30","v":0},{"$f":"SEED!D30","v":" Block 5 Player 1"},null,null,null,{"$f":"SEED!E30","v":0},{"$f":"'HANDICAP CARD'!$J$322","v":0},{"$f":"SEED!C30","v":0},{"$f":"'HANDICAP CARD'!$L$330","v":""},null,null,null,null,null,0,{"$error":"#NAME?"}]
[null,34,{"$f":"SEED!B31","v":0},{"$f":"SEED!D31","v":" Block 5 Player 2"},null,null,null,{"$f":"SEED!E31","v":0},{"$f":"'HANDICAP CARD'!$J$332","v":0},{"$f":"SEED!C31","v":0},{"$f":"'HANDICAP CARD'!$L$340","v":""},null,null,null,null,null,0,{"$error":"#NAME?"}]
[null,35,{"$f":"SEED!B32","v":0},{"$f":"SEED!D32","v":" Block 5 Player 3"},null,null,null,{"$f":"SEED!E32","v":0},{"$f":"'HANDICAP CARD'!$J$342","v":0},{"$f":"SEED!C32","v":0},{"$f":"'HANDICAP CARD'!$L$350","v":""},null,null,null,null,null,0,{"$error":"#NAME?"}]
[null,36,{"$f":"SEED!B33","v":0},{"$f":"SEED!D33","v":" Block 5 Player 4"},null,null,null,{"$f":"SEED!E33","v":0},{"$f":"'HANDICAP CARD'!$J$352","v":0},{"$f":"SEED!C33","v":0},{"$f":"'HANDICAP CARD'!$L$360","v":""},null,null,null,null,null,0,{"$error":"#NAME?"}]
[null,37,{"$f":"SEED!B34","v":0},{"$f":"SEED!D34","v":" Block 5 Player 5"},null,null,null,{"$f":"SEED!E34","v":0},{"$f":"'HANDICAP CARD'!$J$362","v":0},{"$f":"SEED!C34","v":0},{"$f":"'HANDICAP CARD'!$L$370","v":""},null,null,null,null,null,0,{"$error":"#NAME?"}]
[null,38,{"$f":"SEED!B35","v":0},{"$f":"SEED!D35","v":" Block 5 Player 6"},null,null,null,{"$f":"SEED!E35","v":0},{"$f":"'HANDICAP CARD'!$J$372","v":0},{"$f":"SEED!C35","v":0},{"$f":"'HANDICAP CARD'!$L$380","v":""},null,null,null,null,null,0,{"$error":"#NAME?"}]
[null,39,{"$f":"SEED!B36","v":0},{"$f":"SEED!D36","v":" Block 5 Player 7"},null,null,null,{"$f":"SEED!E36","v":0},{"$f":"'HANDICAP CARD'!$J$382","v":0},{"$f":"SEED!C36","v":0},{"$f":"'HANDICAP CARD'!$L$390","v":""},null,null,null,null,null,0,{"$error":"#NAME?"}]
[null,40,{"$f":"SEED!B37","v":0},{"$f":"SEED!D37","v":" Bye "},null,null,null,{"$f":"SEED!E37","v":0},{"$f":"'HANDICAP CARD'!$J$392","v":0},{"$f":"SEED!C37","v":0},{"$f":"'HANDICAP CARD'!$L$400","v":""},null,null,null,null,null,0,{"$error":"#NAME?"}]

{"sheet":"HANDICAPS","index":14,"n_rows":90,"n_cols":24,"rows_kept":90,"cut":false,"hidden":true,"merged":[]}
[]
[null,null,null,null,null,null,null,null,null,{"$f":"BLOCK!N2","v":"Tournament"}]
[null,null,null,null,null,null,null,null,null,null,{"$f":"BLOCK!J4","v":"Singles"}]
[null,"PLAYERS NAME","H/CAP","WIN / LOSS RECORD",null,null,null,null,null,null,null,null,null,null,null,null,null,null,null,null,null,null,null,"PNTS"]
[null,{"$f":"SCORECARD!D5","v":" Block 1 Player 1"},{"$f":"SCORECARD!I5","v":0},{"$f":"IF(SCORECARD!I8>0,\"W\",(IF(SCORECARD!I8<0,\"L\",\"\")))","v":""},{"$f":"SCORECARD!F8","v":0},{"$f":"IF(SCORECARD!I9>0,\"W\",(IF(SCORECARD!I9<0,\"L\",\"\")))","v":""},{"$f":"SCORECARD!F9","v":0},{"$f":"IF(SCORECARD!I10>0,\"W\",(IF(SCORECARD!I10<0,\"L\",\"\")))","v":""},{"$f":"SCORECARD!F10","v":0},{"$f":"IF(SCORECARD!I11>0,\"W\",(IF(SCORECARD!I11<0,\"L\",\"\")))","v":""},{"$f":"SCORECARD!F11","v":0},{"$f":"IF(SCORECARD!I12>0,\"W\",(IF(SCORECARD!I12<0,\"L\",\"\")))","v":""},{"$f":"SCORECARD!F12","v":0},{"$f":"IF(SCORECARD!I13>0,\"W\",(IF(SCORECARD!I13<0,\"L\",\"\")))","v":""},{"$f":"SCORECARD!F13","v":0},{"$f":"IF(SCORECARD!$I14>0,\"W\",(IF(SCORECARD!$I14<0,\"L\",\"\")))","v":""},{"$f":"SCORECARD!F14","v":0},{"$f":"IF(SCORECARD!I15>0,\"W\",(IF(SCORECARD!I15<0,\"L\",\"\")))","v":""},{"$f":"SCORECARD!F15","v":" "},{"$f":"IF(SCORECARD!I16>0,\"W\",(IF(SCORECARD!I16<0,\"L\",\"\")))","v":""},{"$f":"SCORECARD!F16","v":" "},{"$f":"IF(SCORECARD!I17>0,\"W\",(IF(SCORECARD!I17<0,\"L\",\"\")))","v":""},{"$f":"SCORECARD!F17","v":" "}]
[null,null,null,{"$f":"IF(NOT(OR(D5=\"W\",D5=\"L\")),\"\",IF(HandicapPlay=\"x\",IF(D5=\"W\",10,-10),IF(D5=\"W\",(VLOOKUP($C5,(TABLE!WIN),(MATCH(E5,WINCOL,0)+1))),(VLOOKUP($C5,(TABLE!LOSE),(MATCH(E5,LOSECOL,0)+1))))))","v":""},null,{"$f":"IF(NOT(OR(F5=\"W\",F5=\"L\")),\"\",IF(HandicapPlay=\"x\",IF(F5=\"W\",10,-10),IF(F5=\"W\",(VLOOKUP($C5,(TABLE!WIN),(MATCH(G5,WINCOL,0)+1))),(VLOOKUP($C5,(TABLE!LOSE),(MATCH(G5,LOSECOL,0)+1))))))","v":""},null,{"$f":"IF(NOT(OR(H5=\"W\",H5=\"L\")),\"\",IF(HandicapPlay=\"x\",IF(H5=\"W\",10,-10),IF(H5=\"W\",(VLOOKUP($C5,(TABLE!WIN),(MATCH(I5,WINCOL,0)+1))),(VLOOKUP($C5,(TABLE!LOSE),(MATCH(I5,LOSECOL,0)+1))))))","v":""},null,{"$f":"IF(NOT(OR(J5=\"W\",J5=\"L\")),\"\",IF(HandicapPlay=\"x\",IF(J5=\"W\",10,-10),IF(J5=\"W\",(VLOOKUP($C5,(TABLE!WIN),(MATCH(K5,WINCOL,0)+1))),(VLOOKUP($C5,(TABLE!LOSE),(MATCH(K5,LOSECOL,0)+1))))))","v":""},null,{"$f":"IF(NOT(OR(L5=\"W\",L5=\"L\")),\"\",IF(HandicapPlay=\"x\",IF(L5=\"W\",10,-10),IF(L5=\"W\",(VLOOKUP($C5,(TABLE!WIN),(MATCH(M5,WINCOL,0)+1))),(VLOOKUP($C5,(TABLE!LOSE),(MATCH(M5,LOSECOL,0)+1))))))","v":""},null,{"$f":"IF(NOT(OR(N5=\"W\",N5=\"L\")),\"\",IF(HandicapPlay=\"x\",IF(N5=\"W\",10,-10),IF(N5=\"W\",(VLOOKUP($C5,(TABLE!WIN),(MATCH(O5,WINCOL,0)+1))),(VLOOKUP($C5,(TABLE!LOSE),(MATCH(O5,LOSECOL,0)+1))))))","v":""},null,{"$f":"IF(NOT(OR(P5=\"W\",P5=\"L\")),\"\",IF(HandicapPlay=\"x\",IF(P5=\"W\",10,-10),IF(P5=\"W\",(VLOOKUP($C5,(TABLE!WIN),(MATCH(Q5,WINCOL,0)+1))),(VLOOKUP($C5,(TABLE!LOSE),(MATCH(Q5,LOSECOL,0)+1))))))","v":""},null,{"$f":"IF(NOT(OR(R5=\"W\",R5=\"L\")),\"\",(IF(R5=\"W\",(VLOOKUP($C5,(TABLE!WIN),((S5+5)*2+2))),(VLOOKUP($C5,(TABLE!LOSE),((S5+5)*2+2))))))","v":""},null,{"$f":"IF(NOT(OR(T5=\"W\",T5=\"L\")),\"\",(IF(T5=\"W\",(VLOOKUP($C5,(TABLE!WIN),((U5+5)*2+2))),(VLOOKUP($C5,(TABLE!LOSE),((U5+5)*2+2))))))","v":""},null,{"$f":"IF(NOT(OR(V5=\"W\",V5=\"L\")),\"\",(IF(V5=\"W\",(VLOOKUP($C5,(TABLE!WIN),((W5+5)*2+2))),(VLOOKUP($C5,(TABLE!LOSE),((W5+5)*2+2))))))","v":""},null,{"$f":"SUM(D6:W6)","v":0}]
[null,{"$f":"SCORECARD!D25","v":" Block 1 Player 2"},{"$f":"SCORECARD!I25","v":0},{"$f":"IF(SCORECARD!$I28>0,\"W\",(IF(SCORECARD!$I28<0,\"L\",\"\")))","v":""},{"$f":"SCORECARD!F28","v":0},{"$f":"IF(SCORECARD!$I29>0,\"W\",(IF(SCORECARD!$I29<0,\"L\",\"\")))","v":""},{"$f":"SCORECARD!F29","v":0},{"$f":"IF(SCORECARD!$I30>0,\"W\",(IF(SCORECARD!$I30<0,\"L\",\"\")))","v":""},{"$f":"SCORECARD!F30","v":0},{"$f":"IF(SCORECARD!$I31>0,\"W\",(IF(SCORECARD!$I31<0,\"L\",\"\")))","v":""},{"$f":"SCORECARD!F31","v":0},{"$f":"IF(SCORECARD!$I32>0,\"W\",(IF(SCORECARD!$I32<0,\"L\",\"\")))","v":""},{"$f":"SCORECARD!$F$32","v":0},{"$f":"IF(SCORECARD!$I33>0,\"W\",(IF(SCORECARD!$I33<0,\"L\",\"\")))","v":""},{"$f":"SCORECARD!$F$33","v":0},{"$f":"IF(SCORECARD!$I34>0,\"W\",(IF(SCORECARD!$I34<0,\"L\",\"\")))","v":""},{"$f":"SCORECARD!$F$34","v":0},{"$f":"IF(SCORECARD!$I35>0,\"W\",(IF(SCORECARD!$I35<0,\"L\",\"\")))","v":""},{"$f":"SCORECARD!$F$35","v":" "},{"$f":"IF(SCORECARD!$I36>0,\"W\",(IF(SCORECARD!$I36<0,\"L\",\"\")))","v":""},{"$f":"SCORECARD!$F$36","v":" "},{"$f":"IF(SCORECARD!$I37>0,\"W\",(IF(SCORECARD!$I37<0,\"L\",\"\")))","v":""},{"$f":"SCORECARD!$F$37","v":" "}]
[null,null,null,{"$f":"IF(NOT(OR(D7=\"W\",D7=\"L\")),\"\",IF(HandicapPlay=\"x\",IF(D7=\"W\",10,-10),IF(D7=\"W\",(VLOOKUP($C7,(TABLE!WIN),(MATCH(E7,WINCOL,0)+1))),(VLOOKUP($C7,(TABLE!LOSE),(MATCH(E7,LOSECOL,0)+1))))))","v":""},null,{"$f":"IF(NOT(OR(F7=\"W\",F7=\"L\")),\"\",IF(HandicapPlay=\"x\",IF(F7=\"W\",10,-10),IF(F7=\"W\",(VLOOKUP($C7,(TABLE!WIN),(MATCH(G7,WINCOL,0)+1))),(VLOOKUP($C7,(TABLE!LOSE),(MATCH(G7,LOSECOL,0)+1))))))","v":""},null,{"$f":"IF(NOT(OR(H7=\"W\",H7=\"L\")),\"\",IF(HandicapPlay=\"x\",IF(H7=\"W\",10,-10),IF(H7=\"W\",(VLOOKUP($C7,(TABLE!WIN),(MATCH(I7,WINCOL,0)+1))),(VLOOKUP($C7,(TABLE!LOSE),(MATCH(I7,LOSECOL,0)+1))))))","v":""},null,{"$f":"IF(NOT(OR(J7=\"W\",J7=\"L\")),\"\",IF(HandicapPlay=\"x\",IF(J7=\"W\",10,-10),IF(J7=\"W\",(VLOOKUP($C7,(TABLE!WIN),(MATCH(K7,WINCOL,0)+1))),(VLOOKUP($C7,(TABLE!LOSE),(MATCH(K7,LOSECOL,0)+1))))))","v":""},null,{"$f":"IF(NOT(OR(L7=\"W\",L7=\"L\")),\"\",IF(HandicapPlay=\"x\",IF(L7=\"W\",10,-10),IF(L7=\"W\",(VLOOKUP($C7,(TABLE!WIN),(MATCH(M7,WINCOL,0)+1))),(VLOOKUP($C7,(TABLE!LOSE),(MATCH(M7,LOSECOL,0)+1))))))","v":""},null,{"$f":"IF(NOT(OR(N7=\"W\",N7=\"L\")),\"\",IF(HandicapPlay=\"x\",IF(N7=\"W\",10,-10),IF(N7=\"W\",(VLOOKUP($C7,(TABLE!WIN),(MATCH(O7,WINCOL,0)+1))),(VLOOKUP($C7,(TABLE!LOSE),(MATCH(O7,LOSECOL,0)+1))))))","v":""},null,{"$f":"IF(NOT(OR(P7=\"W\",P7=\"L\")),\"\",IF(HandicapPlay=\"x\",IF(P7=\"W\",10,-10),IF(P7=\"W\",(VLOOKUP($C7,(TABLE!WIN),(MATCH(Q7,WINCOL,0)+1))),(VLOOKUP($C7,(TABLE!LOSE),(MATCH(Q7,LOSECOL,0)+1))))))","v":""},null,{"$f":"IF(NOT(OR(R7=\"W\",R7=\"L\")),\"\",(IF(R7=\"W\",(VLOOKUP($C7,(TABLE!WIN),((S7+5)*2+2))),(VLOOKUP($C7,(TABLE!LOSE),((S7+5)*2+2))))))","v":""},null,{"$f":"IF(NOT(OR(T7=\"W\",T7=\"L\")),\"\",(IF(T7=\"W\",(VLOOKUP($C7,(TABLE!WIN),((U7+5)*2+2))),(VLOOKUP($C7,(TABLE!LOSE),((U7+5)*2+2))))))","v":""},null,{"$f":"IF(NOT(OR(V7=\"W\",V7=\"L\")),\"\",(IF(V7=\"W\",(VLOOKUP($C7,(TABLE!WIN),((W7+5)*2+2))),(VLOOKUP($C7,(TABLE!LOSE),((W7+5)*2+2))))))","v":""},null,{"$f":"SUM(D8:W8)","v":0}]
[null,{"$f":"SCORECARD!D48","v":" Block 1 Player 3"},{"$f":"SCORECARD!I48","v":0},{"$f":"IF(SCORECARD!$I51>0,\"W\",(IF(SCORECARD!$I51<0,\"L\",\"\")))","v":""},{"$f":"SCORECARD!F51","v":0},{"$f":"IF(SCORECARD!$I52>0,\"W\",(IF(SCORECARD!$I52<0,\"L\",\"\")))","v":""},{"$f":"SCORECARD!F52","v":0},{"$f":"IF(SCORECARD!$I53>0,\"W\",(IF(SCORECARD!$I53<0,\"L\",\"\")))","v":""},{"$f":"SCORECARD!F53","v":0},{"$f":"IF(SCORECARD!$I54>0,\"W\",(IF(SCORECARD!$I54<0,\"L\",\"\")))","v":""},{"$f":"SCORECARD!F54","v":0},{"$f":"IF(SCORECARD!$I55>0,\"W\",(IF(SCORECARD!$I55<0,\"L\",\"\")))","v":""},{"$f":"SCORECARD!F55","v":0},{"$f":"IF(SCORECARD!$I56>0,\"W\",(IF(SCORECARD!$I56<0,\"L\",\"\")))","v":""},{"$f":"SCORECARD!F56","v":0},{"$f":"IF(SCORECARD!$I57>0,\"W\",(IF(SCORECARD!$I57<0,\"L\",\"\")))","v":""},{"$f":"SCORECARD!F57","v":0},{"$f":"IF(SCORECARD!$I58>0,\"W\",(IF(SCORECARD!$I58<0,\"L\",\"\")))","v":""},{"$f":"SCORECARD!F58","v":" "},{"$f":"IF(SCORECARD!$I59>0,\"W\",(IF(SCORECARD!$I59<0,\"L\",\"\")))","v":""},{"$f":"SCORECARD!F59","v":" "},{"$f":"IF(SCORECARD!$I60>0,\"W\",(IF(SCORECARD!$I60<0,\"L\",\"\")))","v":""},{"$f":"SCORECARD!F60","v":" "}]
[null,null,null,{"$f":"IF(NOT(OR(D9=\"W\",D9=\"L\")),\"\",IF(HandicapPlay=\"x\",IF(D9=\"W\",10,-10),IF(D9=\"W\",(VLOOKUP($C9,(TABLE!WIN),(MATCH(E9,WINCOL,0)+1))),(VLOOKUP($C9,(TABLE!LOSE),(MATCH(E9,LOSECOL,0)+1))))))","v":""},null,{"$f":"IF(NOT(OR(F9=\"W\",F9=\"L\")),\"\",IF(HandicapPlay=\"x\",IF(F9=\"W\",10,-10),IF(F9=\"W\",(VLOOKUP($C9,(TABLE!WIN),(MATCH(G9,WINCOL,0)+1))),(VLOOKUP($C9,(TABLE!LOSE),(MATCH(G9,LOSECOL,0)+1))))))","v":""},null,{"$f":"IF(NOT(OR(H9=\"W\",H9=\"L\")),\"\",IF(HandicapPlay=\"x\",IF(H9=\"W\",10,-10),IF(H9=\"W\",(VLOOKUP($C9,(TABLE!WIN),(MATCH(I9,WINCOL,0)+1))),(VLOOKUP($C9,(TABLE!LOSE),(MATCH(I9,LOSECOL,0)+1))))))","v":""},null,{"$f":"IF(NOT(OR(J9=\"W\",J9=\"L\")),\"\",IF(HandicapPlay=\"x\",IF(J9=\"W\",10,-10),IF(J9=\"W\",(VLOOKUP($C9,(TABLE!WIN),(MATCH(K9,WINCOL,0)+1))),(VLOOKUP($C9,(TABLE!LOSE),(MATCH(K9,LOSECOL,0)+1))))))","v":""},null,{"$f":"IF(NOT(OR(L9=\"W\",L9=\"L\")),\"\",IF(HandicapPlay=\"x\",IF(L9=\"W\",10,-10),IF(L9=\"W\",(VLOOKUP($C9,(TABLE!WIN),(MATCH(M9,WINCOL,0)+1))),(VLOOKUP($C9,(TABLE!LOSE),(MATCH(M9,LOSECOL,0)+1))))))","v":""},null,{"$f":"IF(NOT(OR(N9=\"W\",N9=\"L\")),\"\",IF(HandicapPlay=\"x\",IF(N9=\"W\",10,-10),IF(N9=\"W\",(VLOOKUP($C9,(TABLE!WIN),(MATCH(O9,WINCOL,0)+1))),(VLOOKUP($C9,(TABLE!LOSE),(MATCH(O9,LOSECOL,0)+1))))))","v":""},null,{"$f":"IF(NOT(OR(P9=\"W\",P9=\"L\")),\"\",IF(HandicapPlay=\"x\",IF(P9=\"W\",10,-10),IF(P9=\"W\",(VLOOKUP($C9,(TABLE!WIN),(MATCH(Q9,WINCOL,0)+1))),(VLOOKUP($C9,(TABLE!LOSE),(MATCH(Q9,LOSECOL,0)+1))))))","v":""},null,{"$f":"IF(NOT(OR(R9=\"W\",R9=\"L\")),\"\",(IF(R9=\"W\",(VLOOKUP($C9,(TABLE!WIN),((S9+5)*2+2))),(VLOOKUP($C9,(TABLE!LOSE),((S9+5)*2+2))))))","v":""},null,{"$f":"IF(NOT(OR(T9=\"W\",T9=\"L\")),\"\",(IF(T9=\"W\",(VLOOKUP($C9,(TABLE!WIN),((U9+5)*2+2))),(VLOOKUP($C9,(TABLE!LOSE),((U9+5)*2+2))))))","v":""},null,{"$f":"IF(NOT(OR(V9=\"W\",V9=\"L\")),\"\",(IF(V9=\"W\",(VLOOKUP($C9,(TABLE!WIN),((W9+5)*2+2))),(VLOOKUP($C9,(TABLE!LOSE),((W9+5)*2+2))))))","v":""},null,{"$f":"SUM(D10:W10)","v":0}]
[null,{"$f":"SCORECARD!D68","v":" Block 1 Player 4"},{"$f":"SCORECARD!I68","v":0},{"$f":"IF(SCORECARD!$I71>0,\"W\",(IF(SCORECARD!$I71<0,\"L\",\"\")))","v":""},{"$f":"SCORECARD!F71","v":0},{"$f":"IF(SCORECARD!$I72>0,\"W\",(IF(SCORECARD!$I72<0,\"L\",\"\")))","v":""},{"$f":"SCORECARD!F72","v":0},{"$f":"IF(SCORECARD!$I73>0,\"W\",(IF(SCORECARD!$I73<0,\"L\",\"\")))","v":""},{"$f":"SCORECARD!F73","v":0},{"$f":"IF(SCORECARD!$I74>0,\"W\",(IF(SCORECARD!$I74<0,\"L\",\"\")))","v":""},{"$f":"SCORECARD!F74","v":0},{"$f":"IF(SCORECARD!$I75>0,\"W\",(IF(SCORECARD!$I75<0,\"L\",\"\")))","v":""},{"$f":"SCORECARD!F75","v":0},{"$f":"IF(SCORECARD!$I76>0,\"W\",(IF(SCORECARD!$I76<0,\"L\",\"\")))","v":""},{"$f":"SCORECARD!F76","v":0},{"$f":"IF(SCORECARD!$I77>0,\"W\",(IF(SCORECARD!$I77<0,\"L\",\"\")))","v":""},{"$f":"SCORECARD!F77","v":0},{"$f":"IF(SCORECARD!$I78>0,\"W\",(IF(SCORECARD!$I78<0,\"L\",\"\")))","v":""},{"$f":"SCORECARD!F78","v":" "},{"$f":"IF(SCORECARD!$I79>0,\"W\",(IF(SCORECARD!$I79<0,\"L\",\"\")))","v":""},{"$f":"SCORECARD!F79","v":" "},{"$f":"IF(SCORECARD!$I80>0,\"W\",(IF(SCORECARD!$I80<0,\"L\",\"\")))","v":""},{"$f":"SCORECARD!F80","v":" "}]
[null,null,null,{"$f":"IF(NOT(OR(D11=\"W\",D11=\"L\")),\"\",IF(HandicapPlay=\"x\",IF(D11=\"W\",10,-10),IF(D11=\"W\",(VLOOKUP($C11,(TABLE!WIN),(MATCH(E11,WINCOL,0)+1))),(VLOOKUP($C11,(TABLE!LOSE),(MATCH(E11,LOSECOL,0)+1))))))","v":""},null,{"$f":"IF(NOT(OR(F11=\"W\",F11=\"L\")),\"\",IF(HandicapPlay=\"x\",IF(F11=\"W\",10,-10),IF(F11=\"W\",(VLOOKUP($C11,(TABLE!WIN),(MATCH(G11,WINCOL,0)+1))),(VLOOKUP($C11,(TABLE!LOSE),(MATCH(G11,LOSECOL,0)+1))))))","v":""},null,{"$f":"IF(NOT(OR(H11=\"W\",H11=\"L\")),\"\",IF(HandicapPlay=\"x\",IF(H11=\"W\",10,-10),IF(H11=\"W\",(VLOOKUP($C11,(TABLE!WIN),(MATCH(I11,WINCOL,0)+1))),(VLOOKUP($C11,(TABLE!LOSE),(MATCH(I11,LOSECOL,0)+1))))))","v":""},null,{"$f":"IF(NOT(OR(J11=\"W\",J11=\"L\")),\"\",IF(HandicapPlay=\"x\",IF(J11=\"W\",10,-10),IF(J11=\"W\",(VLOOKUP($C11,(TABLE!WIN),(MATCH(K11,WINCOL,0)+1))),(VLOOKUP($C11,(TABLE!LOSE),(MATCH(K11,LOSECOL,0)+1))))))","v":""},null,{"$f":"IF(NOT(OR(L11=\"W\",L11=\"L\")),\"\",IF(HandicapPlay=\"x\",IF(L11=\"W\",10,-10),IF(L11=\"W\",(VLOOKUP($C11,(TABLE!WIN),(MATCH(M11,WINCOL,0)+1))),(VLOOKUP($C11,(TABLE!LOSE),(MATCH(M11,LOSECOL,0)+1))))))","v":""},null,{"$f":"IF(NOT(OR(N11=\"W\",N11=\"L\")),\"\",IF(HandicapPlay=\"x\",IF(N11=\"W\",10,-10),IF(N11=\"W\",(VLOOKUP($C11,(TABLE!WIN),(MATCH(O11,WINCOL,0)+1))),(VLOOKUP($C11,(TABLE!LOSE),(MATCH(O11,LOSECOL,0)+1))))))","v":""},null,{"$f":"IF(NOT(OR(P11=\"W\",P11=\"L\")),\"\",IF(HandicapPlay=\"x\",IF(P11=\"W\",10,-10),IF(P11=\"W\",(VLOOKUP($C11,(TABLE!WIN),(MATCH(Q11,WINCOL,0)+1))),(VLOOKUP($C11,(TABLE!LOSE),(MATCH(Q11,LOSECOL,0)+1))))))","v":""},null,{"$f":"IF(NOT(OR(R11=\"W\",R11=\"L\")),\"\",(IF(R11=\"W\",(VLOOKUP($C11,(TABLE!WIN),((S11+5)*2+2))),(VLOOKUP($C11,(TABLE!LOSE),((S11+5)*2+2))))))","v":""},null,{"$f":"IF(NOT(OR(T11=\"W\",T11=\"L\")),\"\",(IF(T11=\"W\",(VLOOKUP($C11,(TABLE!WIN),((U11+5)*2+2))),(VLOOKUP($C11,(TABLE!LOSE),((U11+5)*2+2))))))","v":""},null,{"$f":"IF(NOT(OR(V11=\"W\",V11=\"L\")),\"\",(IF(V11=\"W\",(VLOOKUP($C11,(TABLE!WIN),((W11+5)*2+2))),(VLOOKUP($C11,(TABLE!LOSE),((W11+5)*2+2))))))","v":""},null,{"$f":"SUM(D12:W12)","v":0}]
[null,{"$f":"SCORECARD!D91","v":" Block 1 Player 5"},{"$f":"SCORECARD!I91","v":0},{"$f":"IF(SCORECARD!$I94>0,\"W\",(IF(SCORECARD!I94<0,\"L\",\"\")))","v":""},{"$f":"SCORECARD!F94","v":0},{"$f":"IF(SCORECARD!$I95>0,\"W\",(IF(SCORECARD!$I95<0,\"L\",\"\")))","v":""},{"$f":"SCORECARD!F95","v":0},{"$f":"IF(SCORECARD!$I96>0,\"W\",(IF(SCORECARD!$I96<0,\"L\",\"\")))","v":""},{"$f":"SCORECARD!F96","v":0},{"$f":"IF(SCORECARD!$I97>0,\"W\",(IF(SCORECARD!$I97<0,\"L\",\"\")))","v":""},{"$f":"SCORECARD!F97","v":0},{"$f":"IF(SCORECARD!$I98>0,\"W\",(IF(SCORECARD!$I98<0,\"L\",\"\")))","v":""},{"$f":"SCORECARD!F98","v":0},{"$f":"IF(SCORECARD!$I99>0,\"W\",(IF(SCORECARD!$I99<0,\"L\",\"\")))","v":""},{"$f":"SCORECARD!F99","v":0},{"$f":"IF(SCORECARD!$I100>0,\"W\",(IF(SCORECARD!$I100<0,\"L\",\"\")))","v":""},{"$f":"SCORECARD!F100","v":0},{"$f":"IF(SCORECARD!$I101>0,\"W\",(IF(SCORECARD!$I101<0,\"L\",\"\")))","v":""},{"$f":"SCORECARD!F101","v":" "},{"$f":"IF(SCORECARD!$I102>0,\"W\",(IF(SCORECARD!$I102,\"L\",\"\")))","v":""},{"$f":"SCORECARD!F102","v":" "},{"$f":"IF(SCORECARD!$I103>0,\"W\",(IF(SCORECARD!$I103<0,\"L\",\"\")))","v":""},{"$f":"SCORECARD!F103","v":" "}]
[null,null,null,{"$f":"IF(NOT(OR(D13=\"W\",D13=\"L\")),\"\",IF(HandicapPlay=\"x\",IF(D13=\"W\",10,-10),IF(D13=\"W\",(VLOOKUP($C13,(TABLE!WIN),(MATCH(E13,WINCOL,0)+1))),(VLOOKUP($C13,(TABLE!LOSE),(MATCH(E13,LOSECOL,0)+1))))))","v":""},null,{"$f":"IF(NOT(OR(F13=\"W\",F13=\"L\")),\"\",IF(HandicapPlay=\"x\",IF(F13=\"W\",10,-10),IF(F13=\"W\",(VLOOKUP($C13,(TABLE!WIN),(MATCH(G13,WINCOL,0)+1))),(VLOOKUP($C13,(TABLE!LOSE),(MATCH(G13,LOSECOL,0)+1))))))","v":""},null,{"$f":"IF(NOT(OR(H13=\"W\",H13=\"L\")),\"\",IF(HandicapPlay=\"x\",IF(H13=\"W\",10,-10),IF(H13=\"W\",(VLOOKUP($C13,(TABLE!WIN),(MATCH(I13,WINCOL,0)+1))),(VLOOKUP($C13,(TABLE!LOSE),(MATCH(I13,LOSECOL,0)+1))))))","v":""},null,{"$f":"IF(NOT(OR(J13=\"W\",J13=\"L\")),\"\",IF(HandicapPlay=\"x\",IF(J13=\"W\",10,-10),IF(J13=\"W\",(VLOOKUP($C13,(TABLE!WIN),(MATCH(K13,WINCOL,0)+1))),(VLOOKUP($C13,(TABLE!LOSE),(MATCH(K13,LOSECOL,0)+1))))))","v":""},null,{"$f":"IF(NOT(OR(L13=\"W\",L13=\"L\")),\"\",IF(HandicapPlay=\"x\",IF(L13=\"W\",10,-10),IF(L13=\"W\",(VLOOKUP($C13,(TABLE!WIN),(MATCH(M13,WINCOL,0)+1))),(VLOOKUP($C13,(TABLE!LOSE),(MATCH(M13,LOSECOL,0)+1))))))","v":""},null,{"$f":"IF(NOT(OR(N13=\"W\",N13=\"L\")),\"\",IF(HandicapPlay=\"x\",IF(N13=\"W\",10,-10),IF(N13=\"W\",(VLOOKUP($C13,(TABLE!WIN),(MATCH(O13,WINCOL,0)+1))),(VLOOKUP($C13,(TABLE!LOSE),(MATCH(O13,LOSECOL,0)+1))))))","v":""},null,{"$f":"IF(NOT(OR(P13=\"W\",P13=\"L\")),\"\",IF(HandicapPlay=\"x\",IF(P13=\"W\",10,-10),IF(P13=\"W\",(VLOOKUP($C13,(TABLE!WIN),(MATCH(Q13,WINCOL,0)+1))),(VLOOKUP($C13,(TABLE!LOSE),(MATCH(Q13,LOSECOL,0)+1))))))","v":""},null,{"$f":"IF(NOT(OR(R13=\"W\",R13=\"L\")),\"\",(IF(R13=\"W\",(VLOOKUP($C13,(TABLE!WIN),((S13+5)*2+2))),(VLOOKUP($C13,(TABLE!LOSE),((S13+5)*2+2))))))","v":""},null,{"$f":"IF(NOT(OR(T13=\"W\",T13=\"L\")),\"\",(IF(T13=\"W\",(VLOOKUP($C13,(TABLE!WIN),((U13+5)*2+2))),(VLOOKUP($C13,(TABLE!LOSE),((U13+5)*2+2))))))","v":""},null,{"$f":"IF(NOT(OR(V13=\"W\",V13=\"L\")),\"\",(IF(V13=\"W\",(VLOOKUP($C13,(TABLE!WIN),((W13+5)*2+2))),(VLOOKUP($C13,(TABLE!LOSE),((W13+5)*2+2))))))","v":""},null,{"$f":"SUM(D14:W14)","v":0}]
[null,{"$f":"SCORECARD!D111","v":" Block 1 Player 6"},{"$f":"SCORECARD!I111","v":0},{"$f":"IF(SCORECARD!$I114>0,\"W\",(IF(SCORECARD!$I114<0,\"L\",\"\")))","v":""},{"$f":"SCORECARD!F114","v":0},{"$f":"IF(SCORECARD!$I115>0,\"W\",(IF(SCORECARD!$I115<0,\"L\",\"\")))","v":""},{"$f":"SCORECARD!F115","v":0},{"$f":"IF(SCORECARD!$I116>0,\"W\",(IF(SCORECARD!$I116<0,\"L\",\"\")))","v":""},{"$f":"SCORECARD!F116","v":0},{"$f":"IF(SCORECARD!$I117>0,\"W\",(IF(SCORECARD!$I117<0,\"L\",\"\")))","v":""},{"$f":"SCORECARD!F117","v":0},{"$f":"IF(SCORECARD!$I118>0,\"W\",(IF(SCORECARD!$I118<0,\"L\",\"\")))","v":""},{"$f":"SCORECARD!F118","v":0},{"$f":"IF(SCORECARD!$I119>0,\"W\",(IF(SCORECARD!$I119<0,\"L\",\"\")))","v":""},{"$f":"SCORECARD!F119","v":0},{"$f":"IF(SCORECARD!$I120>0,\"W\",(IF(SCORECARD!$I120<0,\"L\",\"\")))","v":""},{"$f":"SCORECARD!F120","v":0},{"$f":"IF(SCORECARD!$I121>0,\"W\",(IF(SCORECARD!$I121<0,\"L\",\"\")))","v":""},{"$f":"SCORECARD!F121","v":" "},{"$f":"IF(SCORECARD!$I122>0,\"W\",(IF(SCORECARD!$I122<0,\"L\",\"\")))","v":""},{"$f":"SCORECARD!F122","v":" "},{"$f":"IF(SCORECARD!$I123>0,\"W\",(IF(SCORECARD!$I123<0,\"L\",\"\")))","v":""},{"$f":"SCORECARD!F123","v":" "}]
[null,null,null,{"$f":"IF(NOT(OR(D15=\"W\",D15=\"L\")),\"\",IF(HandicapPlay=\"x\",IF(D15=\"W\",10,-10),IF(D15=\"W\",(VLOOKUP($C15,(TABLE!WIN),(MATCH(E15,WINCOL,0)+1))),(VLOOKUP($C15,(TABLE!LOSE),(MATCH(E15,LOSECOL,0)+1))))))","v":""},null,{"$f":"IF(NOT(OR(F15=\"W\",F15=\"L\")),\"\",IF(HandicapPlay=\"x\",IF(F15=\"W\",10,-10),IF(F15=\"W\",(VLOOKUP($C15,(TABLE!WIN),(MATCH(G15,WINCOL,0)+1))),(VLOOKUP($C15,(TABLE!LOSE),(MATCH(G15,LOSECOL,0)+1))))))","v":""},null,{"$f":"IF(NOT(OR(H15=\"W\",H15=\"L\")),\"\",IF(HandicapPlay=\"x\",IF(H15=\"W\",10,-10),IF(H15=\"W\",(VLOOKUP($C15,(TABLE!WIN),(MATCH(I15,WINCOL,0)+1))),(VLOOKUP($C15,(TABLE!LOSE),(MATCH(I15,LOSECOL,0)+1))))))","v":""},null,{"$f":"IF(NOT(OR(J15=\"W\",J15=\"L\")),\"\",IF(HandicapPlay=\"x\",IF(J15=\"W\",10,-10),IF(J15=\"W\",(VLOOKUP($C15,(TABLE!WIN),(MATCH(K15,WINCOL,0)+1))),(VLOOKUP($C15,(TABLE!LOSE),(MATCH(K15,LOSECOL,0)+1))))))","v":""},null,{"$f":"IF(NOT(OR(L15=\"W\",L15=\"L\")),\"\",IF(HandicapPlay=\"x\",IF(L15=\"W\",10,-10),IF(L15=\"W\",(VLOOKUP($C15,(TABLE!WIN),(MATCH(M15,WINCOL,0)+1))),(VLOOKUP($C15,(TABLE!LOSE),(MATCH(M15,LOSECOL,0)+1))))))","v":""},null,{"$f":"IF(NOT(OR(N15=\"W\",N15=\"L\")),\"\",IF(HandicapPlay=\"x\",IF(N15=\"W\",10,-10),IF(N15=\"W\",(VLOOKUP($C15,(TABLE!WIN),(MATCH(O15,WINCOL,0)+1))),(VLOOKUP($C15,(TABLE!LOSE),(MATCH(O15,LOSECOL,0)+1))))))","v":""},null,{"$f":"IF(NOT(OR(P15=\"W\",P15=\"L\")),\"\",IF(HandicapPlay=\"x\",IF(P15=\"W\",10,-10),IF(P15=\"W\",(VLOOKUP($C15,(TABLE!WIN),(MATCH(Q15,WINCOL,0)+1))),(VLOOKUP($C15,(TABLE!LOSE),(MATCH(Q15,LOSECOL,0)+1))))))","v":""},null,{"$f":"IF(NOT(OR(R15=\"W\",R15=\"L\")),\"\",(IF(R15=\"W\",(VLOOKUP($C15,(TABLE!WIN),((S15+5)*2+2))),(VLOOKUP($C15,(TABLE!LOSE),((S15+5)*2+2))))))","v":""},null,{"$f":"IF(NOT(OR(T15=\"W\",T15=\"L\")),\"\",(IF(T15=\"W\",(VLOOKUP($C15,(TABLE!WIN),((U15+5)*2+2))),(VLOOKUP($C15,(TABLE!LOSE),((U15+5)*2+2))))))","v":""},null,{"$f":"IF(NOT(OR(V15=\"W\",V15=\"L\")),\"\",(IF(V15=\"W\",(VLOOKUP($C15,(TABLE!WIN),((W15+5)*2+2))),(VLOOKUP($C15,(TABLE!LOSE),((W15+5)*2+2))))))","v":""},null,{"$f":"SUM(D16:W16)","v":0}]
[null,{"$f":"SCORECARD!D134","v":" Block 1 Player 7"},{"$f":"SCORECARD!I134","v":0},{"$f":"IF(SCORECARD!$I137>0,\"W\",(IF(SCORECARD!$I137<0,\"L\",\"\")))","v":""},{"$f":"SCORECARD!F137","v":0},{"$f":"IF(SCORECARD!$I138>0,\"W\",(IF(SCORECARD!$I138<0,\"L\",\"\")))","v":""},{"$f":"SCORECARD!F138","v":0},{"$f":"IF(SCORECARD!$I139>0,\"W\",(IF(SCORECARD!$I139<0,\"L\",\"\")))","v":""},{"$f":"SCORECARD!F139","v":0},{"$f":"IF(SCORECARD!$I140>0,\"W\",(IF(SCORECARD!$I140<0,\"L\",\"\")))","v":""},{"$f":"SCORECARD!F140","v":0},{"$f":"IF(SCORECARD!$I141>0,\"W\",(IF(SCORECARD!$I141<0,\"L\",\"\")))","v":""},{"$f":"SCORECARD!F141","v":0},{"$f":"IF(SCORECARD!$I142>0,\"W\",(IF(SCORECARD!$I142<0,\"L\",\"\")))","v":""},{"$f":"SCORECARD!F142","v":0},{"$f":"IF(SCORECARD!$I143>0,\"W\",(IF(SCORECARD!$I143<0,\"L\",\"\")))","v":""},{"$f":"SCORECARD!F143","v":0},{"$f":"IF(SCORECARD!$I144>0,\"W\",(IF(SCORECARD!$I144<0,\"L\",\"\")))","v":""},{"$f":"SCORECARD!F144","v":" "},{"$f":"IF(SCORECARD!$I145>0,\"W\",(IF(SCORECARD!$I145<0,\"L\",\"\")))","v":""},{"$f":"SCORECARD!F145","v":" "},{"$f":"IF(SCORECARD!$I146>0,\"W\",(IF(SCORECARD!$I146<0,\"L\",\"\")))","v":""},{"$f":"SCORECARD!F146","v":" "}]
[null,null,null,{"$f":"IF(NOT(OR(D17=\"W\",D17=\"L\")),\"\",IF(HandicapPlay=\"x\",IF(D17=\"W\",10,-10),IF(D17=\"W\",(VLOOKUP($C17,(TABLE!WIN),(MATCH(E17,WINCOL,0)+1))),(VLOOKUP($C17,(TABLE!LOSE),(MATCH(E17,LOSECOL,0)+1))))))","v":""},null,{"$f":"IF(NOT(OR(F17=\"W\",F17=\"L\")),\"\",IF(HandicapPlay=\"x\",IF(F17=\"W\",10,-10),IF(F17=\"W\",(VLOOKUP($C17,(TABLE!WIN),(MATCH(G17,WINCOL,0)+1))),(VLOOKUP($C17,(TABLE!LOSE),(MATCH(G17,LOSECOL,0)+1))))))","v":""},null,{"$f":"IF(NOT(OR(H17=\"W\",H17=\"L\")),\"\",IF(HandicapPlay=\"x\",IF(H17=\"W\",10,-10),IF(H17=\"W\",(VLOOKUP($C17,(TABLE!WIN),(MATCH(I17,WINCOL,0)+1))),(VLOOKUP($C17,(TABLE!LOSE),(MATCH(I17,LOSECOL,0)+1))))))","v":""},null,{"$f":"IF(NOT(OR(J17=\"W\",J17=\"L\")),\"\",IF(HandicapPlay=\"x\",IF(J17=\"W\",10,-10),IF(J17=\"W\",(VLOOKUP($C17,(TABLE!WIN),(MATCH(K17,WINCOL,0)+1))),(VLOOKUP($C17,(TABLE!LOSE),(MATCH(K17,LOSECOL,0)+1))))))","v":""},null,{"$f":"IF(NOT(OR(L17=\"W\",L17=\"L\")),\"\",IF(HandicapPlay=\"x\",IF(L17=\"W\",10,-10),IF(L17=\"W\",(VLOOKUP($C17,(TABLE!WIN),(MATCH(M17,WINCOL,0)+1))),(VLOOKUP($C17,(TABLE!LOSE),(MATCH(M17,LOSECOL,0)+1))))))","v":""},null,{"$f":"IF(NOT(OR(N17=\"W\",N17=\"L\")),\"\",IF(HandicapPlay=\"x\",IF(N17=\"W\",10,-10),IF(N17=\"W\",(VLOOKUP($C17,(TABLE!WIN),(MATCH(O17,WINCOL,0)+1))),(VLOOKUP($C17,(TABLE!LOSE),(MATCH(O17,LOSECOL,0)+1))))))","v":""},null,{"$f":"IF(NOT(OR(P17=\"W\",P17=\"L\")),\"\",IF(HandicapPlay=\"x\",IF(P17=\"W\",10,-10),IF(P17=\"W\",(VLOOKUP($C17,(TABLE!WIN),(MATCH(Q17,WINCOL,0)+1))),(VLOOKUP($C17,(TABLE!LOSE),(MATCH(Q17,LOSECOL,0)+1))))))","v":""},null,{"$f":"IF(NOT(OR(R17=\"W\",R17=\"L\")),\"\",(IF(R17=\"W\",(VLOOKUP($C17,(TABLE!WIN),((S17+5)*2+2))),(VLOOKUP($C17,(TABLE!LOSE),((S17+5)*2+2))))))","v":""},null,{"$f":"IF(NOT(OR(T17=\"W\",T17=\"L\")),\"\",(IF(T17=\"W\",(VLOOKUP($C17,(TABLE!WIN),((U17+5)*2+2))),(VLOOKUP($C17,(TABLE!LOSE),((U17+5)*2+2))))))","v":""},null,{"$f":"IF(NOT(OR(V17=\"W\",V17=\"L\")),\"\",(IF(V17=\"W\",(VLOOKUP($C17,(TABLE!WIN),((W17+5)*2+2))),(VLOOKUP($C17,(TABLE!LOSE),((W17+5)*2+2))))))","v":""},null,{"$f":"SUM(D18:W18)","v":0}]
[null,{"$f":"SCORECARD!D154","v":" Bye "},{"$f":"SCORECARD!I154","v":0},{"$f":"IF(SCORECARD!$I157>0,\"W\",(IF(SCORECARD!$I157<0,\"L\",\"\")))","v":""},{"$f":"SCORECARD!$F157","v":0},{"$f":"IF(SCORECARD!$I158>0,\"W\",(IF(SCORECARD!$I158<0,\"L\",\"\")))","v":""},{"$f":"SCORECARD!$F158","v":0},{"$f":"IF(SCORECARD!$I159>0,\"W\",(IF(SCORECARD!$I159<0,\"L\",\"\")))","v":""},{"$f":"SCORECARD!$F159","v":0},{"$f":"IF(SCORECARD!$I160>0,\"W\",(IF(SCORECARD!$I160<0,\"L\",\"\")))","v":""},{"$f":"SCORECARD!$F160","v":0},{"$f":"IF(SCORECARD!$I161>0,\"W\",(IF(SCORECARD!$I161<0,\"L\",\"\")))","v":""},{"$f":"SCORECARD!$F161","v":0},{"$f":"IF(SCORECARD!$I162>0,\"W\",(IF(SCORECARD!$I162<0,\"L\",\"\")))","v":""},{"$f":"SCORECARD!$F162","v":0},{"$f":"IF(SCORECARD!$I163>0,\"W\",(IF(SCORECARD!$I163<0,\"L\",\"\")))","v":""},{"$f":"SCORECARD!$F163","v":0},{"$f":"IF(SCORECARD!$I164>0,\"W\",(IF(SCORECARD!$I164<0,\"L\",\"\")))","v":""},{"$f":"SCORECARD!$F164","v":" "},{"$f":"IF(SCORECARD!$I165>0,\"W\",(IF(SCORECARD!$I165<0,\"L\",\"\")))","v":""},{"$f":"SCORECARD!$F165","v":" "},{"$f":"IF(SCORECARD!$I166>0,\"W\",(IF(SCORECARD!$I166<0,\"L\",\"\")))","v":""},{"$f":"SCORECARD!$F166","v":" "}]
[null,null,null,{"$f":"IF(NOT(OR(D19=\"W\",D19=\"L\")),\"\",IF(HandicapPlay=\"x\",IF(D19=\"W\",10,-10),IF(D19=\"W\",(VLOOKUP($C19,(TABLE!WIN),(MATCH(E19,WINCOL,0)+1))),(VLOOKUP($C19,(TABLE!LOSE),(MATCH(E19,LOSECOL,0)+1))))))","v":""},null,{"$f":"IF(NOT(OR(F19=\"W\",F19=\"L\")),\"\",IF(HandicapPlay=\"x\",IF(F19=\"W\",10,-10),IF(F19=\"W\",(VLOOKUP($C19,(TABLE!WIN),(MATCH(G19,WINCOL,0)+1))),(VLOOKUP($C19,(TABLE!LOSE),(MATCH(G19,LOSECOL,0)+1))))))","v":""},null,{"$f":"IF(NOT(OR(H19=\"W\",H19=\"L\")),\"\",IF(HandicapPlay=\"x\",IF(H19=\"W\",10,-10),IF(H19=\"W\",(VLOOKUP($C19,(TABLE!WIN),(MATCH(I19,WINCOL,0)+1))),(VLOOKUP($C19,(TABLE!LOSE),(MATCH(I19,LOSECOL,0)+1))))))","v":""},null,{"$f":"IF(NOT(OR(J19=\"W\",J19=\"L\")),\"\",IF(HandicapPlay=\"x\",IF(J19=\"W\",10,-10),IF(J19=\"W\",(VLOOKUP($C19,(TABLE!WIN),(MATCH(K19,WINCOL,0)+1))),(VLOOKUP($C19,(TABLE!LOSE),(MATCH(K19,LOSECOL,0)+1))))))","v":""},null,{"$f":"IF(NOT(OR(L19=\"W\",L19=\"L\")),\"\",IF(HandicapPlay=\"x\",IF(L19=\"W\",10,-10),IF(L19=\"W\",(VLOOKUP($C19,(TABLE!WIN),(MATCH(M19,WINCOL,0)+1))),(VLOOKUP($C19,(TABLE!LOSE),(MATCH(M19,LOSECOL,0)+1))))))","v":""},null,{"$f":"IF(NOT(OR(N19=\"W\",N19=\"L\")),\"\",IF(HandicapPlay=\"x\",IF(N19=\"W\",10,-10),IF(N19=\"W\",(VLOOKUP($C19,(TABLE!WIN),(MATCH(O19,WINCOL,0)+1))),(VLOOKUP($C19,(TABLE!LOSE),(MATCH(O19,LOSECOL,0)+1))))))","v":""},null,{"$f":"IF(NOT(OR(P19=\"W\",P19=\"L\")),\"\",IF(HandicapPlay=\"x\",IF(P19=\"W\",10,-10),IF(P19=\"W\",(VLOOKUP($C19,(TABLE!WIN),(MATCH(Q19,WINCOL,0)+1))),(VLOOKUP($C19,(TABLE!LOSE),(MATCH(Q19,LOSECOL,0)+1))))))","v":""},null,{"$f":"IF(NOT(OR(R19=\"W\",R19=\"L\")),\"\",(IF(R19=\"W\",(VLOOKUP($C19,(TABLE!WIN),((S19+5)*2+2))),(VLOOKUP($C19,(TABLE!LOSE),((S19+5)*2+2))))))","v":""},null,{"$f":"IF(NOT(OR(T19=\"W\",T19=\"L\")),\"\",(IF(T19=\"W\",(VLOOKUP($C19,(TABLE!WIN),((U19+5)*2+2))),(VLOOKUP($C19,(TABLE!LOSE),((U19+5)*2+2))))))","v":""},null,{"$f":"IF(NOT(OR(V19=\"W\",V19=\"L\")),\"\",(IF(V19=\"W\",(VLOOKUP($C19,(TABLE!WIN),((W19+5)*2+2))),(VLOOKUP($C19,(TABLE!LOSE),((W19+5)*2+2))))))","v":""},null,{"$f":"SUM(D20:W20)","v":0}]
[null,{"$f":"SCORECARD!D177","v":" Block 2 Player 1"},{"$f":"SCORECARD!I177","v":0},{"$f":"IF(SCORECARD!$I180>0,\"W\",(IF(SCORECARD!$I180<0,\"L\",\"\")))","v":""},{"$f":"SCORECARD!F180","v":0},{"$f":"IF(SCORECARD!$I181>0,\"W\",(IF(SCORECARD!$I181<0,\"L\",\"\")))","v":""},{"$f":"SCORECARD!F181","v":0},{"$f":"IF(SCORECARD!$I182>0,\"W\",(IF(SCORECARD!$I182<0,\"L\",\"\")))","v":""},{"$f":"SCORECARD!F182","v":0},{"$f":"IF(SCORECARD!$I183>0,\"W\",(IF(SCORECARD!$I183<0,\"L\",\"\")))","v":""},{"$f":"SCORECARD!F183","v":0},{"$f":"IF(SCORECARD!$I184>0,\"W\",(IF(SCORECARD!$I184<0,\"L\",\"\")))","v":""},{"$f":"SCORECARD!F184","v":0},{"$f":"IF(SCORECARD!$I185>0,\"W\",(IF(SCORECARD!$I185<0,\"L\",\"\")))","v":""},{"$f":"SCORECARD!F185","v":0},{"$f":"IF(SCORECARD!$I186>0,\"W\",(IF(SCORECARD!$I186<0,\"L\",\"\")))","v":""},{"$f":"SCORECARD!F186","v":0},{"$f":"IF(SCORECARD!$I187>0,\"W\",(IF(SCORECARD!$I187<0,\"L\",\"\")))","v":""},{"$f":"SCORECARD!F187","v":" "},{"$f":"IF(SCORECARD!$I188>0,\"W\",(IF(SCORECARD!$I188<0,\"L\",\"\")))","v":""},{"$f":"SCORECARD!F188","v":" "},{"$f":"IF(SCORECARD!$I189>0,\"W\",(IF(SCORECARD!$I189<0,\"L\",\"\")))","v":""},{"$f":"SCORECARD!F189","v":" "}]
[null,null,null,{"$f":"IF(NOT(OR(D21=\"W\",D21=\"L\")),\"\",IF(HandicapPlay=\"x\",IF(D21=\"W\",10,-10),IF(D21=\"W\",(VLOOKUP($C21,(TABLE!WIN),(MATCH(E21,WINCOL,0)+1))),(VLOOKUP($C21,(TABLE!LOSE),(MATCH(E21,LOSECOL,0)+1))))))","v":""},null,{"$f":"IF(NOT(OR(F21=\"W\",F21=\"L\")),\"\",IF(HandicapPlay=\"x\",IF(F21=\"W\",10,-10),IF(F21=\"W\",(VLOOKUP($C21,(TABLE!WIN),(MATCH(G21,WINCOL,0)+1))),(VLOOKUP($C21,(TABLE!LOSE),(MATCH(G21,LOSECOL,0)+1))))))","v":""},null,{"$f":"IF(NOT(OR(H21=\"W\",H21=\"L\")),\"\",IF(HandicapPlay=\"x\",IF(H21=\"W\",10,-10),IF(H21=\"W\",(VLOOKUP($C21,(TABLE!WIN),(MATCH(I21,WINCOL,0)+1))),(VLOOKUP($C21,(TABLE!LOSE),(MATCH(I21,LOSECOL,0)+1))))))","v":""},null,{"$f":"IF(NOT(OR(J21=\"W\",J21=\"L\")),\"\",IF(HandicapPlay=\"x\",IF(J21=\"W\",10,-10),IF(J21=\"W\",(VLOOKUP($C21,(TABLE!WIN),(MATCH(K21,WINCOL,0)+1))),(VLOOKUP($C21,(TABLE!LOSE),(MATCH(K21,LOSECOL,0)+1))))))","v":""},null,{"$f":"IF(NOT(OR(L21=\"W\",L21=\"L\")),\"\",IF(HandicapPlay=\"x\",IF(L21=\"W\",10,-10),IF(L21=\"W\",(VLOOKUP($C21,(TABLE!WIN),(MATCH(M21,WINCOL,0)+1))),(VLOOKUP($C21,(TABLE!LOSE),(MATCH(M21,LOSECOL,0)+1))))))","v":""},null,{"$f":"IF(NOT(OR(N21=\"W\",N21=\"L\")),\"\",IF(HandicapPlay=\"x\",IF(N21=\"W\",10,-10),IF(N21=\"W\",(VLOOKUP($C21,(TABLE!WIN),(MATCH(O21,WINCOL,0)+1))),(VLOOKUP($C21,(TABLE!LOSE),(MATCH(O21,LOSECOL,0)+1))))))","v":""},null,{"$f":"IF(NOT(OR(P21=\"W\",P21=\"L\")),\"\",IF(HandicapPlay=\"x\",IF(P21=\"W\",10,-10),IF(P21=\"W\",(VLOOKUP($C21,(TABLE!WIN),(MATCH(Q21,WINCOL,0)+1))),(VLOOKUP($C21,(TABLE!LOSE),(MATCH(Q21,LOSECOL,0)+1))))))","v":""},null,{"$f":"IF(NOT(OR(R21=\"W\",R21=\"L\")),\"\",(IF(R21=\"W\",(VLOOKUP($C21,(TABLE!WIN),((S21+5)*2+2))),(VLOOKUP($C21,(TABLE!LOSE),((S21+5)*2+2))))))","v":""},null,{"$f":"IF(NOT(OR(T21=\"W\",T21=\"L\")),\"\",(IF(T21=\"W\",(VLOOKUP($C21,(TABLE!WIN),((U21+5)*2+2))),(VLOOKUP($C21,(TABLE!LOSE),((U21+5)*2+2))))))","v":""},null,{"$f":"IF(NOT(OR(V21=\"W\",V21=\"L\")),\"\",(IF(V21=\"W\",(VLOOKUP($C21,(TABLE!WIN),((W21+5)*2+2))),(VLOOKUP($C21,(TABLE!LOSE),((W21+5)*2+2))))))","v":""},null,{"$f":"SUM(D22:W22)","v":0}]
[null,{"$f":"SCORECARD!D197","v":" Block 2 Player 2"},{"$f":"SCORECARD!I197","v":0},{"$f":"IF(SCORECARD!$I200>0,\"W\",(IF(SCORECARD!$I200<0,\"L\",\"\")))","v":""},{"$f":"SCORECARD!F200","v":0},{"$f":"IF(SCORECARD!$I201>0,\"W\",(IF(SCORECARD!$I201<0,\"L\",\"\")))","v":""},{"$f":"SCORECARD!F201","v":0},{"$f":"IF(SCORECARD!$I202>0,\"W\",(IF(SCORECARD!$I202<0,\"L\",\"\")))","v":""},{"$f":"SCORECARD!F202","v":0},{"$f":"IF(SCORECARD!$I203>0,\"W\",(IF(SCORECARD!$I203<0,\"L\",\"\")))","v":""},{"$f":"SCORECARD!F203","v":0},{"$f":"IF(SCORECARD!$I204>0,\"W\",(IF(SCORECARD!$I204<0,\"L\",\"\")))","v":""},{"$f":"SCORECARD!F204","v":0},{"$f":"IF(SCORECARD!$I205>0,\"W\",(IF(SCORECARD!$I205<0,\"L\",\"\")))","v":""},{"$f":"SCORECARD!F205","v":0},{"$f":"IF(SCORECARD!$I206>0,\"W\",(IF(SCORECARD!$I206<0,\"L\",\"\")))","v":""},{"$f":"SCORECARD!F206","v":0},{"$f":"IF(SCORECARD!$I207>0,\"W\",(IF(SCORECARD!$I207<0,\"L\",\"\")))","v":""},{"$f":"SCORECARD!F207","v":" "},{"$f":"IF(SCORECARD!$I208>0,\"W\",(IF(SCORECARD!$I208<0,\"L\",\"\")))","v":""},{"$f":"SCORECARD!F208","v":" "},{"$f":"IF(SCORECARD!$I209>0,\"W\",(IF(SCORECARD!$I209<0,\"L\",\"\")))","v":""},{"$f":"SCORECARD!F209","v":" "}]
[null,null,null,{"$f":"IF(NOT(OR(D23=\"W\",D23=\"L\")),\"\",IF(HandicapPlay=\"x\",IF(D23=\"W\",10,-10),IF(D23=\"W\",(VLOOKUP($C23,(TABLE!WIN),(MATCH(E23,WINCOL,0)+1))),(VLOOKUP($C23,(TABLE!LOSE),(MATCH(E23,LOSECOL,0)+1))))))","v":""},null,{"$f":"IF(NOT(OR(F23=\"W\",F23=\"L\")),\"\",IF(HandicapPlay=\"x\",IF(F23=\"W\",10,-10),IF(F23=\"W\",(VLOOKUP($C23,(TABLE!WIN),(MATCH(G23,WINCOL,0)+1))),(VLOOKUP($C23,(TABLE!LOSE),(MATCH(G23,LOSECOL,0)+1))))))","v":""},null,{"$f":"IF(NOT(OR(H23=\"W\",H23=\"L\")),\"\",IF(HandicapPlay=\"x\",IF(H23=\"W\",10,-10),IF(H23=\"W\",(VLOOKUP($C23,(TABLE!WIN),(MATCH(I23,WINCOL,0)+1))),(VLOOKUP($C23,(TABLE!LOSE),(MATCH(I23,LOSECOL,0)+1))))))","v":""},null,{"$f":"IF(NOT(OR(J23=\"W\",J23=\"L\")),\"\",IF(HandicapPlay=\"x\",IF(J23=\"W\",10,-10),IF(J23=\"W\",(VLOOKUP($C23,(TABLE!WIN),(MATCH(K23,WINCOL,0)+1))),(VLOOKUP($C23,(TABLE!LOSE),(MATCH(K23,LOSECOL,0)+1))))))","v":""},null,{"$f":"IF(NOT(OR(L23=\"W\",L23=\"L\")),\"\",IF(HandicapPlay=\"x\",IF(L23=\"W\",10,-10),IF(L23=\"W\",(VLOOKUP($C23,(TABLE!WIN),(MATCH(M23,WINCOL,0)+1))),(VLOOKUP($C23,(TABLE!LOSE),(MATCH(M23,LOSECOL,0)+1))))))","v":""},null,{"$f":"IF(NOT(OR(N23=\"W\",N23=\"L\")),\"\",IF(HandicapPlay=\"x\",IF(N23=\"W\",10,-10),IF(N23=\"W\",(VLOOKUP($C23,(TABLE!WIN),(MATCH(O23,WINCOL,0)+1))),(VLOOKUP($C23,(TABLE!LOSE),(MATCH(O23,LOSECOL,0)+1))))))","v":""},null,{"$f":"IF(NOT(OR(P23=\"W\",P23=\"L\")),\"\",IF(HandicapPlay=\"x\",IF(P23=\"W\",10,-10),IF(P23=\"W\",(VLOOKUP($C23,(TABLE!WIN),(MATCH(Q23,WINCOL,0)+1))),(VLOOKUP($C23,(TABLE!LOSE),(MATCH(Q23,LOSECOL,0)+1))))))","v":""},null,{"$f":"IF(NOT(OR(R23=\"W\",R23=\"L\")),\"\",(IF(R23=\"W\",(VLOOKUP($C23,(TABLE!WIN),((S23+5)*2+2))),(VLOOKUP($C23,(TABLE!LOSE),((S23+5)*2+2))))))","v":""},null,{"$f":"IF(NOT(OR(T23=\"W\",T23=\"L\")),\"\",(IF(T23=\"W\",(VLOOKUP($C23,(TABLE!WIN),((U23+5)*2+2))),(VLOOKUP($C23,(TABLE!LOSE),((U23+5)*2+2))))))","v":""},null,{"$f":"IF(NOT(OR(V23=\"W\",V23=\"L\")),\"\",(IF(V23=\"W\",(VLOOKUP($C23,(TABLE!WIN),((W23+5)*2+2))),(VLOOKUP($C23,(TABLE!LOSE),((W23+5)*2+2))))))","v":""},null,{"$f":"SUM(D24:W24)","v":0}]
[null,{"$f":"SCORECARD!D220","v":" Block 2 Player 3"},{"$f":"SCORECARD!I220","v":0},{"$f":"IF(SCORECARD!$I223>0,\"W\",(IF(SCORECARD!$I223<0,\"L\",\"\")))","v":""},{"$f":"SCORECARD!F223","v":0},{"$f":"IF(SCORECARD!$I224>0,\"W\",(IF(SCORECARD!$I224<0,\"L\",\"\")))","v":""},{"$f":"SCORECARD!F224","v":0},{"$f":"IF(SCORECARD!$I225>0,\"W\",(IF(SCORECARD!$I225<0,\"L\",\"\")))","v":""},{"$f":"SCORECARD!F225","v":0},{"$f":"IF(SCORECARD!$I226>0,\"W\",(IF(SCORECARD!$I226<0,\"L\",\"\")))","v":""},{"$f":"SCORECARD!F226","v":0},{"$f":"IF(SCORECARD!$I227>0,\"W\",(IF(SCORECARD!$I227<0,\"L\",\"\")))","v":""},{"$f":"SCORECARD!F227","v":0},{"$f":"IF(SCORECARD!$I228>0,\"W\",(IF(SCORECARD!$I228<0,\"L\",\"\")))","v":""},{"$f":"SCORECARD!F228","v":0},{"$f":"IF(SCORECARD!$I229>0,\"W\",(IF(SCORECARD!$I229<0,\"L\",\"\")))","v":""},{"$f":"SCORECARD!F229","v":0},{"$f":"IF(SCORECARD!$I230>0,\"W\",(IF(SCORECARD!$I230<0,\"L\",\"\")))","v":""},{"$f":"SCORECARD!F230","v":" "},{"$f":"IF(SCORECARD!$I231>0,\"W\",(IF(SCORECARD!$I231<0,\"L\",\"\")))","v":""},{"$f":"SCORECARD!F231","v":" "},{"$f":"IF(SCORECARD!$I232>0,\"W\",(IF(SCORECARD!$I232<0,\"L\",\"\")))","v":""},{"$f":"SCORECARD!F232","v":" "}]
[null,null,null,{"$f":"IF(NOT(OR(D25=\"W\",D25=\"L\")),\"\",IF(HandicapPlay=\"x\",IF(D25=\"W\",10,-10),IF(D25=\"W\",(VLOOKUP($C25,(TABLE!WIN),(MATCH(E25,WINCOL,0)+1))),(VLOOKUP($C25,(TABLE!LOSE),(MATCH(E25,LOSECOL,0)+1))))))","v":""},null,{"$f":"IF(NOT(OR(F25=\"W\",F25=\"L\")),\"\",IF(HandicapPlay=\"x\",IF(F25=\"W\",10,-10),IF(F25=\"W\",(VLOOKUP($C25,(TABLE!WIN),(MATCH(G25,WINCOL,0)+1))),(VLOOKUP($C25,(TABLE!LOSE),(MATCH(G25,LOSECOL,0)+1))))))","v":""},null,{"$f":"IF(NOT(OR(H25=\"W\",H25=\"L\")),\"\",IF(HandicapPlay=\"x\",IF(H25=\"W\",10,-10),IF(H25=\"W\",(VLOOKUP($C25,(TABLE!WIN),(MATCH(I25,WINCOL,0)+1))),(VLOOKUP($C25,(TABLE!LOSE),(MATCH(I25,LOSECOL,0)+1))))))","v":""},null,{"$f":"IF(NOT(OR(J25=\"W\",J25=\"L\")),\"\",IF(HandicapPlay=\"x\",IF(J25=\"W\",10,-10),IF(J25=\"W\",(VLOOKUP($C25,(TABLE!WIN),(MATCH(K25,WINCOL,0)+1))),(VLOOKUP($C25,(TABLE!LOSE),(MATCH(K25,LOSECOL,0)+1))))))","v":""},null,{"$f":"IF(NOT(OR(L25=\"W\",L25=\"L\")),\"\",IF(HandicapPlay=\"x\",IF(L25=\"W\",10,-10),IF(L25=\"W\",(VLOOKUP($C25,(TABLE!WIN),(MATCH(M25,WINCOL,0)+1))),(VLOOKUP($C25,(TABLE!LOSE),(MATCH(M25,LOSECOL,0)+1))))))","v":""},null,{"$f":"IF(NOT(OR(N25=\"W\",N25=\"L\")),\"\",IF(HandicapPlay=\"x\",IF(N25=\"W\",10,-10),IF(N25=\"W\",(VLOOKUP($C25,(TABLE!WIN),(MATCH(O25,WINCOL,0)+1))),(VLOOKUP($C25,(TABLE!LOSE),(MATCH(O25,LOSECOL,0)+1))))))","v":""},null,{"$f":"IF(NOT(OR(P25=\"W\",P25=\"L\")),\"\",IF(HandicapPlay=\"x\",IF(P25=\"W\",10,-10),IF(P25=\"W\",(VLOOKUP($C25,(TABLE!WIN),(MATCH(Q25,WINCOL,0)+1))),(VLOOKUP($C25,(TABLE!LOSE),(MATCH(Q25,LOSECOL,0)+1))))))","v":""},null,{"$f":"IF(NOT(OR(R25=\"W\",R25=\"L\")),\"\",(IF(R25=\"W\",(VLOOKUP($C25,(TABLE!WIN),((S25+5)*2+2))),(VLOOKUP($C25,(TABLE!LOSE),((S25+5)*2+2))))))","v":""},null,{"$f":"IF(NOT(OR(T25=\"W\",T25=\"L\")),\"\",(IF(T25=\"W\",(VLOOKUP($C25,(TABLE!WIN),((U25+5)*2+2))),(VLOOKUP($C25,(TABLE!LOSE),((U25+5)*2+2))))))","v":""},null,{"$f":"IF(NOT(OR(V25=\"W\",V25=\"L\")),\"\",(IF(V25=\"W\",(VLOOKUP($C25,(TABLE!WIN),((W25+5)*2+2))),(VLOOKUP($C25,(TABLE!LOSE),((W25+5)*2+2))))))","v":""},null,{"$f":"SUM(D26:W26)","v":0}]
[null,{"$f":"SCORECARD!D240","v":" Block 2 Player 4"},{"$f":"SCORECARD!I240","v":0},{"$f":"IF(SCORECARD!$I243>0,\"W\",(IF(SCORECARD!$I243<0,\"L\",\"\")))","v":""},{"$f":"SCORECARD!F243","v":0},{"$f":"IF(SCORECARD!$I244>0,\"W\",(IF(SCORECARD!$I244<0,\"L\",\"\")))","v":""},{"$f":"SCORECARD!F244","v":0},{"$f":"IF(SCORECARD!$I245>0,\"W\",(IF(SCORECARD!$I245<0,\"L\",\"\")))","v":""},{"$f":"SCORECARD!F245","v":0},{"$f":"IF(SCORECARD!$I246>0,\"W\",(IF(SCORECARD!$I246<0,\"L\",\"\")))","v":""},{"$f":"SCORECARD!F246","v":0},{"$f":"IF(SCORECARD!$I247>0,\"W\",(IF(SCORECARD!$I247<0,\"L\",\"\")))","v":""},{"$f":"SCORECARD!F247","v":0},{"$f":"IF(SCORECARD!$I248>0,\"W\",(IF(SCORECARD!$I248<0,\"L\",\"\")))","v":""},{"$f":"SCORECARD!F248","v":0},{"$f":"IF(SCORECARD!$I249>0,\"W\",(IF(SCORECARD!$I249<0,\"L\",\"\")))","v":""},{"$f":"SCORECARD!F249","v":0},{"$f":"IF(SCORECARD!$I250>0,\"W\",(IF(SCORECARD!$I250<0,\"L\",\"\")))","v":""},{"$f":"SCORECARD!F250","v":" "},{"$f":"IF(SCORECARD!$I251>0,\"W\",(IF(SCORECARD!$I251<0,\"L\",\"\")))","v":""},{"$f":"SCORECARD!F251","v":" "},{"$f":"IF(SCORECARD!$I252>0,\"W\",(IF(SCORECARD!$I252<0,\"L\",\"\")))","v":""},{"$f":"SCORECARD!F252","v":" "}]
[null,null,null,{"$f":"IF(NOT(OR(D27=\"W\",D27=\"L\")),\"\",IF(HandicapPlay=\"x\",IF(D27=\"W\",10,-10),IF(D27=\"W\",(VLOOKUP($C27,(TABLE!WIN),(MATCH(E27,WINCOL,0)+1))),(VLOOKUP($C27,(TABLE!LOSE),(MATCH(E27,LOSECOL,0)+1))))))","v":""},null,{"$f":"IF(NOT(OR(F27=\"W\",F27=\"L\")),\"\",IF(HandicapPlay=\"x\",IF(F27=\"W\",10,-10),IF(F27=\"W\",(VLOOKUP($C27,(TABLE!WIN),(MATCH(G27,WINCOL,0)+1))),(VLOOKUP($C27,(TABLE!LOSE),(MATCH(G27,LOSECOL,0)+1))))))","v":""},null,{"$f":"IF(NOT(OR(H27=\"W\",H27=\"L\")),\"\",IF(HandicapPlay=\"x\",IF(H27=\"W\",10,-10),IF(H27=\"W\",(VLOOKUP($C27,(TABLE!WIN),(MATCH(I27,WINCOL,0)+1))),(VLOOKUP($C27,(TABLE!LOSE),(MATCH(I27,LOSECOL,0)+1))))))","v":""},null,{"$f":"IF(NOT(OR(J27=\"W\",J27=\"L\")),\"\",IF(HandicapPlay=\"x\",IF(J27=\"W\",10,-10),IF(J27=\"W\",(VLOOKUP($C27,(TABLE!WIN),(MATCH(K27,WINCOL,0)+1))),(VLOOKUP($C27,(TABLE!LOSE),(MATCH(K27,LOSECOL,0)+1))))))","v":""},null,{"$f":"IF(NOT(OR(L27=\"W\",L27=\"L\")),\"\",IF(HandicapPlay=\"x\",IF(L27=\"W\",10,-10),IF(L27=\"W\",(VLOOKUP($C27,(TABLE!WIN),(MATCH(M27,WINCOL,0)+1))),(VLOOKUP($C27,(TABLE!LOSE),(MATCH(M27,LOSECOL,0)+1))))))","v":""},null,{"$f":"IF(NOT(OR(N27=\"W\",N27=\"L\")),\"\",IF(HandicapPlay=\"x\",IF(N27=\"W\",10,-10),IF(N27=\"W\",(VLOOKUP($C27,(TABLE!WIN),(MATCH(O27,WINCOL,0)+1))),(VLOOKUP($C27,(TABLE!LOSE),(MATCH(O27,LOSECOL,0)+1))))))","v":""},null,{"$f":"IF(NOT(OR(P27=\"W\",P27=\"L\")),\"\",IF(HandicapPlay=\"x\",IF(P27=\"W\",10,-10),IF(P27=\"W\",(VLOOKUP($C27,(TABLE!WIN),(MATCH(Q27,WINCOL,0)+1))),(VLOOKUP($C27,(TABLE!LOSE),(MATCH(Q27,LOSECOL,0)+1))))))","v":""},null,{"$f":"IF(NOT(OR(R27=\"W\",R27=\"L\")),\"\",(IF(R27=\"W\",(VLOOKUP($C27,(TABLE!WIN),((S27+5)*2+2))),(VLOOKUP($C27,(TABLE!LOSE),((S27+5)*2+2))))))","v":""},null,{"$f":"IF(NOT(OR(T27=\"W\",T27=\"L\")),\"\",(IF(T27=\"W\",(VLOOKUP($C27,(TABLE!WIN),((U27+5)*2+2))),(VLOOKUP($C27,(TABLE!LOSE),((U27+5)*2+2))))))","v":""},null,{"$f":"IF(NOT(OR(V27=\"W\",V27=\"L\")),\"\",(IF(V27=\"W\",(VLOOKUP($C27,(TABLE!WIN),((W27+5)*2+2))),(VLOOKUP($C27,(TABLE!LOSE),((W27+5)*2+2))))))","v":""},null,{"$f":"SUM(D28:W28)","v":0}]
[null,{"$f":"SCORECARD!D263","v":" Block 2 Player 5"},{"$f":"SCORECARD!I263","v":0},{"$f":"IF(SCORECARD!$I266>0,\"W\",(IF(SCORECARD!$I266<0,\"L\",\"\")))","v":""},{"$f":"SCORECARD!F266","v":0},{"$f":"IF(SCORECARD!$I267>0,\"W\",(IF(SCORECARD!$I267<0,\"L\",\"\")))","v":""},{"$f":"SCORECARD!F267","v":0},{"$f":"IF(SCORECARD!$I268>0,\"W\",(IF(SCORECARD!$I268<0,\"L\",\"\")))","v":""},{"$f":"SCORECARD!F268","v":0},{"$f":"IF(SCORECARD!$I269>0,\"W\",(IF(SCORECARD!$I269<0,\"L\",\"\")))","v":""},{"$f":"SCORECARD!F269","v":0},{"$f":"IF(SCORECARD!$I270>0,\"W\",(IF(SCORECARD!$I270<0,\"L\",\"\")))","v":""},{"$f":"SCORECARD!F270","v":0},{"$f":"IF(SCORECARD!$I271>0,\"W\",(IF(SCORECARD!$I271<0,\"L\",\"\")))","v":""},{"$f":"SCORECARD!F271","v":0},{"$f":"IF(SCORECARD!$I272>0,\"W\",(IF(SCORECARD!$I272<0,\"L\",\"\")))","v":""},{"$f":"SCORECARD!F272","v":0},{"$f":"IF(SCORECARD!$I273>0,\"W\",(IF(SCORECARD!$I273<0,\"L\",\"\")))","v":""},{"$f":"SCORECARD!F273","v":" "},{"$f":"IF(SCORECARD!$I274>0,\"W\",(IF(SCORECARD!$I274<0,\"L\",\"\")))","v":""},{"$f":"SCORECARD!F274","v":" "},{"$f":"IF(SCORECARD!$I275>0,\"W\",(IF(SCORECARD!$I275<0,\"L\",\"\")))","v":""},{"$f":"SCORECARD!F275","v":" "}]
[null,null,null,{"$f":"IF(NOT(OR(D29=\"W\",D29=\"L\")),\"\",IF(HandicapPlay=\"x\",IF(D29=\"W\",10,-10),IF(D29=\"W\",(VLOOKUP($C29,(TABLE!WIN),(MATCH(E29,WINCOL,0)+1))),(VLOOKUP($C29,(TABLE!LOSE),(MATCH(E29,LOSECOL,0)+1))))))","v":""},null,{"$f":"IF(NOT(OR(F29=\"W\",F29=\"L\")),\"\",IF(HandicapPlay=\"x\",IF(F29=\"W\",10,-10),IF(F29=\"W\",(VLOOKUP($C29,(TABLE!WIN),(MATCH(G29,WINCOL,0)+1))),(VLOOKUP($C29,(TABLE!LOSE),(MATCH(G29,LOSECOL,0)+1))))))","v":""},null,{"$f":"IF(NOT(OR(H29=\"W\",H29=\"L\")),\"\",IF(HandicapPlay=\"x\",IF(H29=\"W\",10,-10),IF(H29=\"W\",(VLOOKUP($C29,(TABLE!WIN),(MATCH(I29,WINCOL,0)+1))),(VLOOKUP($C29,(TABLE!LOSE),(MATCH(I29,LOSECOL,0)+1))))))","v":""},null,{"$f":"IF(NOT(OR(J29=\"W\",J29=\"L\")),\"\",IF(HandicapPlay=\"x\",IF(J29=\"W\",10,-10),IF(J29=\"W\",(VLOOKUP($C29,(TABLE!WIN),(MATCH(K29,WINCOL,0)+1))),(VLOOKUP($C29,(TABLE!LOSE),(MATCH(K29,LOSECOL,0)+1))))))","v":""},null,{"$f":"IF(NOT(OR(L29=\"W\",L29=\"L\")),\"\",IF(HandicapPlay=\"x\",IF(L29=\"W\",10,-10),IF(L29=\"W\",(VLOOKUP($C29,(TABLE!WIN),(MATCH(M29,WINCOL,0)+1))),(VLOOKUP($C29,(TABLE!LOSE),(MATCH(M29,LOSECOL,0)+1))))))","v":""},null,{"$f":"IF(NOT(OR(N29=\"W\",N29=\"L\")),\"\",IF(HandicapPlay=\"x\",IF(N29=\"W\",10,-10),IF(N29=\"W\",(VLOOKUP($C29,(TABLE!WIN),(MATCH(O29,WINCOL,0)+1))),(VLOOKUP($C29,(TABLE!LOSE),(MATCH(O29,LOSECOL,0)+1))))))","v":""},null,{"$f":"IF(NOT(OR(P29=\"W\",P29=\"L\")),\"\",IF(HandicapPlay=\"x\",IF(P29=\"W\",10,-10),IF(P29=\"W\",(VLOOKUP($C29,(TABLE!WIN),(MATCH(Q29,WINCOL,0)+1))),(VLOOKUP($C29,(TABLE!LOSE),(MATCH(Q29,LOSECOL,0)+1))))))","v":""},null,{"$f":"IF(NOT(OR(R29=\"W\",R29=\"L\")),\"\",(IF(R29=\"W\",(VLOOKUP($C29,(TABLE!WIN),((S29+5)*2+2))),(VLOOKUP($C29,(TABLE!LOSE),((S29+5)*2+2))))))","v":""},null,{"$f":"IF(NOT(OR(T29=\"W\",T29=\"L\")),\"\",(IF(T29=\"W\",(VLOOKUP($C29,(TABLE!WIN),((U29+5)*2+2))),(VLOOKUP($C29,(TABLE!LOSE),((U29+5)*2+2))))))","v":""},null,{"$f":"IF(NOT(OR(V29=\"W\",V29=\"L\")),\"\",(IF(V29=\"W\",(VLOOKUP($C29,(TABLE!WIN),((W29+5)*2+2))),(VLOOKUP($C29,(TABLE!LOSE),((W29+5)*2+2))))))","v":""},null,{"$f":"SUM(D30:W30)","v":0}]
[null,{"$f":"SCORECARD!D283","v":" Block 2 Player 6"},{"$f":"SCORECARD!I283","v":0},{"$f":"IF(SCORECARD!$I286>0,\"W\",(IF(SCORECARD!$I286<0,\"L\",\"\")))","v":""},{"$f":"SCORECARD!F286","v":0},{"$f":"IF(SCORECARD!$I287>0,\"W\",(IF(SCORECARD!$I287<0,\"L\",\"\")))","v":""},{"$f":"SCORECARD!F287","v":0},{"$f":"IF(SCORECARD!$I288>0,\"W\",(IF(SCORECARD!$I288<0,\"L\",\"\")))","v":""},{"$f":"SCORECARD!F288","v":0},{"$f":"IF(SCORECARD!$I289>0,\"W\",(IF(SCORECARD!$I289<0,\"L\",\"\")))","v":""},{"$f":"SCORECARD!F289","v":0},{"$f":"IF(SCORECARD!$I290>0,\"W\",(IF(SCORECARD!$I290<0,\"L\",\"\")))","v":""},{"$f":"SCORECARD!F290","v":0},{"$f":"IF(SCORECARD!$I291>0,\"W\",(IF(SCORECARD!$I291<0,\"L\",\"\")))","v":""},{"$f":"SCORECARD!F291","v":0},{"$f":"IF(SCORECARD!$I292>0,\"W\",(IF(SCORECARD!$I292<0,\"L\",\"\")))","v":""},{"$f":"SCORECARD!F292","v":0},{"$f":"IF(SCORECARD!$I293>0,\"W\",(IF(SCORECARD!$I293<0,\"L\",\"\")))","v":""},{"$f":"SCORECARD!F293","v":" "},{"$f":"IF(SCORECARD!$I294>0,\"W\",(IF(SCORECARD!$I294<0,\"L\",\"\")))","v":""},{"$f":"SCORECARD!F294","v":" "},{"$f":"IF(SCORECARD!$I295>0,\"W\",(IF(SCORECARD!$I295<0,\"L\",\"\")))","v":""},{"$f":"SCORECARD!F295","v":" "}]
[null,null,null,{"$f":"IF(NOT(OR(D31=\"W\",D31=\"L\")),\"\",IF(HandicapPlay=\"x\",IF(D31=\"W\",10,-10),IF(D31=\"W\",(VLOOKUP($C31,(TABLE!WIN),(MATCH(E31,WINCOL,0)+1))),(VLOOKUP($C31,(TABLE!LOSE),(MATCH(E31,LOSECOL,0)+1))))))","v":""},null,{"$f":"IF(NOT(OR(F31=\"W\",F31=\"L\")),\"\",IF(HandicapPlay=\"x\",IF(F31=\"W\",10,-10),IF(F31=\"W\",(VLOOKUP($C31,(TABLE!WIN),(MATCH(G31,WINCOL,0)+1))),(VLOOKUP($C31,(TABLE!LOSE),(MATCH(G31,LOSECOL,0)+1))))))","v":""},null,{"$f":"IF(NOT(OR(H31=\"W\",H31=\"L\")),\"\",IF(HandicapPlay=\"x\",IF(H31=\"W\",10,-10),IF(H31=\"W\",(VLOOKUP($C31,(TABLE!WIN),(MATCH(I31,WINCOL,0)+1))),(VLOOKUP($C31,(TABLE!LOSE),(MATCH(I31,LOSECOL,0)+1))))))","v":""},null,{"$f":"IF(NOT(OR(J31=\"W\",J31=\"L\")),\"\",IF(HandicapPlay=\"x\",IF(J31=\"W\",10,-10),IF(J31=\"W\",(VLOOKUP($C31,(TABLE!WIN),(MATCH(K31,WINCOL,0)+1))),(VLOOKUP($C31,(TABLE!LOSE),(MATCH(K31,LOSECOL,0)+1))))))","v":""},null,{"$f":"IF(NOT(OR(L31=\"W\",L31=\"L\")),\"\",IF(HandicapPlay=\"x\",IF(L31=\"W\",10,-10),IF(L31=\"W\",(VLOOKUP($C31,(TABLE!WIN),(MATCH(M31,WINCOL,0)+1))),(VLOOKUP($C31,(TABLE!LOSE),(MATCH(M31,LOSECOL,0)+1))))))","v":""},null,{"$f":"IF(NOT(OR(N31=\"W\",N31=\"L\")),\"\",IF(HandicapPlay=\"x\",IF(N31=\"W\",10,-10),IF(N31=\"W\",(VLOOKUP($C31,(TABLE!WIN),(MATCH(O31,WINCOL,0)+1))),(VLOOKUP($C31,(TABLE!LOSE),(MATCH(O31,LOSECOL,0)+1))))))","v":""},null,{"$f":"IF(NOT(OR(P31=\"W\",P31=\"L\")),\"\",IF(HandicapPlay=\"x\",IF(P31=\"W\",10,-10),IF(P31=\"W\",(VLOOKUP($C31,(TABLE!WIN),(MATCH(Q31,WINCOL,0)+1))),(VLOOKUP($C31,(TABLE!LOSE),(MATCH(Q31,LOSECOL,0)+1))))))","v":""},null,{"$f":"IF(NOT(OR(R31=\"W\",R31=\"L\")),\"\",(IF(R31=\"W\",(VLOOKUP($C31,(TABLE!WIN),((S31+5)*2+2))),(VLOOKUP($C31,(TABLE!LOSE),((S31+5)*2+2))))))","v":""},null,{"$f":"IF(NOT(OR(T31=\"W\",T31=\"L\")),\"\",(IF(T31=\"W\",(VLOOKUP($C31,(TABLE!WIN),((U31+5)*2+2))),(VLOOKUP($C31,(TABLE!LOSE),((U31+5)*2+2))))))","v":""},null,{"$f":"IF(NOT(OR(V31=\"W\",V31=\"L\")),\"\",(IF(V31=\"W\",(VLOOKUP($C31,(TABLE!WIN),((W31+5)*2+2))),(VLOOKUP($C31,(TABLE!LOSE),((W31+5)*2+2))))))","v":""},null,{"$f":"SUM(D32:W32)","v":0}]
[null,{"$f":"SCORECARD!D306","v":" Block 2 Player 7"},{"$f":"SCORECARD!I306","v":0},{"$f":"IF(SCORECARD!$I309>0,\"W\",(IF(SCORECARD!$I309<0,\"L\",\"\")))","v":""},{"$f":"SCORECARD!$F309","v":0},{"$f":"IF(SCORECARD!$I310>0,\"W\",(IF(SCORECARD!$I310<0,\"L\",\"\")))","v":""},{"$f":"SCORECARD!$F310","v":0},{"$f":"IF(SCORECARD!$I311>0,\"W\",(IF(SCORECARD!$I311<0,\"L\",\"\")))","v":""},{"$f":"SCORECARD!$F311","v":0},{"$f":"IF(SCORECARD!$I312>0,\"W\",(IF(SCORECARD!$I312<0,\"L\",\"\")))","v":""},{"$f":"SCORECARD!$F312","v":0},{"$f":"IF(SCORECARD!$I313>0,\"W\",(IF(SCORECARD!$I313<0,\"L\",\"\")))","v":""},{"$f":"SCORECARD!$F313","v":0},{"$f":"IF(SCORECARD!$I314>0,\"W\",(IF(SCORECARD!$I314<0,\"L\",\"\")))","v":""},{"$f":"SCORECARD!$F314","v":0},{"$f":"IF(SCORECARD!$I315>0,\"W\",(IF(SCORECARD!$I315<0,\"L\",\"\")))","v":""},{"$f":"SCORECARD!$F315","v":0},{"$f":"IF(SCORECARD!$I316>0,\"W\",(IF(SCORECARD!$I316<0,\"L\",\"\")))","v":""},{"$f":"SCORECARD!$F316","v":" "},{"$f":"IF(SCORECARD!$I317>0,\"W\",(IF(SCORECARD!$I317<0,\"L\",\"\")))","v":""},{"$f":"SCORECARD!$F317","v":" "},{"$f":"IF(SCORECARD!$I318>0,\"W\",(IF(SCORECARD!$I318<0,\"L\",\"\")))","v":""},{"$f":"SCORECARD!$F318","v":" "}]
[null,null,null,{"$f":"IF(NOT(OR(D33=\"W\",D33=\"L\")),\"\",IF(HandicapPlay=\"x\",IF(D33=\"W\",10,-10),IF(D33=\"W\",(VLOOKUP($C33,(TABLE!WIN),(MATCH(E33,WINCOL,0)+1))),(VLOOKUP($C33,(TABLE!LOSE),(MATCH(E33,LOSECOL,0)+1))))))","v":""},null,{"$f":"IF(NOT(OR(F33=\"W\",F33=\"L\")),\"\",IF(HandicapPlay=\"x\",IF(F33=\"W\",10,-10),IF(F33=\"W\",(VLOOKUP($C33,(TABLE!WIN),(MATCH(G33,WINCOL,0)+1))),(VLOOKUP($C33,(TABLE!LOSE),(MATCH(G33,LOSECOL,0)+1))))))","v":""},null,{"$f":"IF(NOT(OR(H33=\"W\",H33=\"L\")),\"\",IF(HandicapPlay=\"x\",IF(H33=\"W\",10,-10),IF(H33=\"W\",(VLOOKUP($C33,(TABLE!WIN),(MATCH(I33,WINCOL,0)+1))),(VLOOKUP($C33,(TABLE!LOSE),(MATCH(I33,LOSECOL,0)+1))))))","v":""},null,{"$f":"IF(NOT(OR(J33=\"W\",J33=\"L\")),\"\",IF(HandicapPlay=\"x\",IF(J33=\"W\",10,-10),IF(J33=\"W\",(VLOOKUP($C33,(TABLE!WIN),(MATCH(K33,WINCOL,0)+1))),(VLOOKUP($C33,(TABLE!LOSE),(MATCH(K33,LOSECOL,0)+1))))))","v":""},null,{"$f":"IF(NOT(OR(L33=\"W\",L33=\"L\")),\"\",IF(HandicapPlay=\"x\",IF(L33=\"W\",10,-10),IF(L33=\"W\",(VLOOKUP($C33,(TABLE!WIN),(MATCH(M33,WINCOL,0)+1))),(VLOOKUP($C33,(TABLE!LOSE),(MATCH(M33,LOSECOL,0)+1))))))","v":""},null,{"$f":"IF(NOT(OR(N33=\"W\",N33=\"L\")),\"\",IF(HandicapPlay=\"x\",IF(N33=\"W\",10,-10),IF(N33=\"W\",(VLOOKUP($C33,(TABLE!WIN),(MATCH(O33,WINCOL,0)+1))),(VLOOKUP($C33,(TABLE!LOSE),(MATCH(O33,LOSECOL,0)+1))))))","v":""},null,{"$f":"IF(NOT(OR(P33=\"W\",P33=\"L\")),\"\",IF(HandicapPlay=\"x\",IF(P33=\"W\",10,-10),IF(P33=\"W\",(VLOOKUP($C33,(TABLE!WIN),(MATCH(Q33,WINCOL,0)+1))),(VLOOKUP($C33,(TABLE!LOSE),(MATCH(Q33,LOSECOL,0)+1))))))","v":""},null,{"$f":"IF(NOT(OR(R33=\"W\",R33=\"L\")),\"\",(IF(R33=\"W\",(VLOOKUP($C33,(TABLE!WIN),((S33+5)*2+2))),(VLOOKUP($C33,(TABLE!LOSE),((S33+5)*2+2))))))","v":""},null,{"$f":"IF(NOT(OR(T33=\"W\",T33=\"L\")),\"\",(IF(T33=\"W\",(VLOOKUP($C33,(TABLE!WIN),((U33+5)*2+2))),(VLOOKUP($C33,(TABLE!LOSE),((U33+5)*2+2))))))","v":""},null,{"$f":"IF(NOT(OR(V33=\"W\",V33=\"L\")),\"\",(IF(V33=\"W\",(VLOOKUP($C33,(TABLE!WIN),((W33+5)*2+2))),(VLOOKUP($C33,(TABLE!LOSE),((W33+5)*2+2))))))","v":""},null,{"$f":"SUM(D34:W34)","v":0}]
[null,{"$f":"SCORECARD!D326","v":" Bye "},{"$f":"SCORECARD!I326","v":0},{"$f":"IF(SCORECARD!$I329>0,\"W\",(IF(SCORECARD!$I329<0,\"L\",\"\")))","v":""},{"$f":"SCORECARD!$F329","v":0},{"$f":"IF(SCORECARD!$I330>0,\"W\",(IF(SCORECARD!$I330<0,\"L\",\"\")))","v":""},{"$f":"SCORECARD!$F330","v":0},{"$f":"IF(SCORECARD!$I331>0,\"W\",(IF(SCORECARD!$I331<0,\"L\",\"\")))","v":""},{"$f":"SCORECARD!$F331","v":0},{"$f":"IF(SCORECARD!$I332>0,\"W\",(IF(SCORECARD!$I332<0,\"L\",\"\")))","v":""},{"$f":"SCORECARD!$F332","v":0},{"$f":"IF(SCORECARD!$I333>0,\"W\",(IF(SCORECARD!$I333<0,\"L\",\"\")))","v":""},{"$f":"SCORECARD!$F333","v":0},{"$f":"IF(SCORECARD!$I334>0,\"W\",(IF(SCORECARD!$I334<0,\"L\",\"\")))","v":""},{"$f":"SCORECARD!$F334","v":0},{"$f":"IF(SCORECARD!$I335>0,\"W\",(IF(SCORECARD!$I335<0,\"L\",\"\")))","v":""},{"$f":"SCORECARD!$F335","v":0},{"$f":"IF(SCORECARD!$I336>0,\"W\",(IF(SCORECARD!$I336<0,\"L\",\"\")))","v":""},{"$f":"SCORECARD!$F336","v":" "},{"$f":"IF(SCORECARD!$I337>0,\"W\",(IF(SCORECARD!$I337<0,\"L\",\"\")))","v":""},{"$f":"SCORECARD!$F337","v":" "},{"$f":"IF(SCORECARD!$I338>0,\"W\",(IF(SCORECARD!$I338<0,\"L\",\"\")))","v":""},{"$f":"SCORECARD!$F338","v":" "}]
[null,null,null,{"$f":"IF(NOT(OR(D35=\"W\",D35=\"L\")),\"\",IF(HandicapPlay=\"x\",IF(D35=\"W\",10,-10),IF(D35=\"W\",(VLOOKUP($C35,(TABLE!WIN),(MATCH(E35,WINCOL,0)+1))),(VLOOKUP($C35,(TABLE!LOSE),(MATCH(E35,LOSECOL,0)+1))))))","v":""},null,{"$f":"IF(NOT(OR(F35=\"W\",F35=\"L\")),\"\",IF(HandicapPlay=\"x\",IF(F35=\"W\",10,-10),IF(F35=\"W\",(VLOOKUP($C35,(TABLE!WIN),(MATCH(G35,WINCOL,0)+1))),(VLOOKUP($C35,(TABLE!LOSE),(MATCH(G35,LOSECOL,0)+1))))))","v":""},null,{"$f":"IF(NOT(OR(H35=\"W\",H35=\"L\")),\"\",IF(HandicapPlay=\"x\",IF(H35=\"W\",10,-10),IF(H35=\"W\",(VLOOKUP($C35,(TABLE!WIN),(MATCH(I35,WINCOL,0)+1))),(VLOOKUP($C35,(TABLE!LOSE),(MATCH(I35,LOSECOL,0)+1))))))","v":""},null,{"$f":"IF(NOT(OR(J35=\"W\",J35=\"L\")),\"\",IF(HandicapPlay=\"x\",IF(J35=\"W\",10,-10),IF(J35=\"W\",(VLOOKUP($C35,(TABLE!WIN),(MATCH(K35,WINCOL,0)+1))),(VLOOKUP($C35,(TABLE!LOSE),(MATCH(K35,LOSECOL,0)+1))))))","v":""},null,{"$f":"IF(NOT(OR(L35=\"W\",L35=\"L\")),\"\",IF(HandicapPlay=\"x\",IF(L35=\"W\",10,-10),IF(L35=\"W\",(VLOOKUP($C35,(TABLE!WIN),(MATCH(M35,WINCOL,0)+1))),(VLOOKUP($C35,(TABLE!LOSE),(MATCH(M35,LOSECOL,0)+1))))))","v":""},null,{"$f":"IF(NOT(OR(N35=\"W\",N35=\"L\")),\"\",IF(HandicapPlay=\"x\",IF(N35=\"W\",10,-10),IF(N35=\"W\",(VLOOKUP($C35,(TABLE!WIN),(MATCH(O35,WINCOL,0)+1))),(VLOOKUP($C35,(TABLE!LOSE),(MATCH(O35,LOSECOL,0)+1))))))","v":""},null,{"$f":"IF(NOT(OR(P35=\"W\",P35=\"L\")),\"\",IF(HandicapPlay=\"x\",IF(P35=\"W\",10,-10),IF(P35=\"W\",(VLOOKUP($C35,(TABLE!WIN),(MATCH(Q35,WINCOL,0)+1))),(VLOOKUP($C35,(TABLE!LOSE),(MATCH(Q35,LOSECOL,0)+1))))))","v":""},null,{"$f":"IF(NOT(OR(R35=\"W\",R35=\"L\")),\"\",(IF(R35=\"W\",(VLOOKUP($C35,(TABLE!WIN),((S35+5)*2+2))),(VLOOKUP($C35,(TABLE!LOSE),((S35+5)*2+2))))))","v":""},null,{"$f":"IF(NOT(OR(T35=\"W\",T35=\"L\")),\"\",(IF(T35=\"W\",(VLOOKUP($C35,(TABLE!WIN),((U35+5)*2+2))),(VLOOKUP($C35,(TABLE!LOSE),((U35+5)*2+2))))))","v":""},null,{"$f":"IF(NOT(OR(V35=\"W\",V35=\"L\")),\"\",(IF(V35=\"W\",(VLOOKUP($C35,(TABLE!WIN),((W35+5)*2+2))),(VLOOKUP($C35,(TABLE!LOSE),((W35+5)*2+2))))))","v":""},null,{"$f":"SUM(D36:W36)","v":0}]
[null,null,null,null,null,null,null,null,null,{"$f":"J2","v":"Tournament"}]
[null,null,null,null,null,null,null,null,null,null,{"$f":"K3","v":"Singles"}]
[null,"PLAYERS NAME","H/CAP","WIN / LOSS RECORD",null,null,null,null,null,null,null,null,null,null,null,null,null,null,null,null,null,null,null,"PNTS"]
[null,{"$f":"SCORECARD!D349","v":" Block 3 Player 1"},{"$f":"SCORECARD!I349","v":0},{"$f":"IF(SCORECARD!$I352>0,\"W\",(IF(SCORECARD!$I352<0,\"L\",\"\")))","v":""},{"$f":"SCORECARD!F352","v":0},{"$f":"IF(SCORECARD!$I353>0,\"W\",(IF(SCORECARD!$I353<0,\"L\",\"\")))","v":""},{"$f":"SCORECARD!F353","v":0},{"$f":"IF(SCORECARD!$I354>0,\"W\",(IF(SCORECARD!$I354<0,\"L\",\"\")))","v":""},{"$f":"SCORECARD!F354","v":0},{"$f":"IF(SCORECARD!$I355>0,\"W\",(IF(SCORECARD!$I355<0,\"L\",\"\")))","v":""},{"$f":"SCORECARD!F355","v":0},{"$f":"IF(SCORECARD!$I356>0,\"W\",(IF(SCORECARD!$I356<0,\"L\",\"\")))","v":""},{"$f":"SCORECARD!F356","v":0},{"$f":"IF(SCORECARD!$I357>0,\"W\",(IF(SCORECARD!$I357<0,\"L\",\"\")))","v":""},{"$f":"SCORECARD!F357","v":0},{"$f":"IF(SCORECARD!$I358>0,\"W\",(IF(SCORECARD!$I358<0,\"L\",\"\")))","v":""},{"$f":"SCORECARD!F358","v":0},{"$f":"IF(SCORECARD!$I359>0,\"W\",(IF(SCORECARD!$I359<0,\"L\",\"\")))","v":""},{"$f":"SCORECARD!F359","v":" "},{"$f":"IF(SCORECARD!$I360>0,\"W\",(IF(SCORECARD!$I360<0,\"L\",\"\")))","v":""},{"$f":"SCORECARD!F360","v":" "},{"$f":"IF(SCORECARD!$I361>0,\"W\",(IF(SCORECARD!$I361<0,\"L\",\"\")))","v":""},{"$f":"SCORECARD!F361","v":" "}]
[null,null,null,{"$f":"IF(NOT(OR(D40=\"W\",D40=\"L\")),\"\",IF(HandicapPlay=\"x\",IF(D40=\"W\",10,-10),IF(D40=\"W\",(VLOOKUP($C40,(TABLE!WIN),(MATCH(E40,WINCOL,0)+1))),(VLOOKUP($C40,(TABLE!LOSE),(MATCH(E40,LOSECOL,0)+1))))))","v":""},null,{"$f":"IF(NOT(OR(F40=\"W\",F40=\"L\")),\"\",IF(HandicapPlay=\"x\",IF(F40=\"W\",10,-10),IF(F40=\"W\",(VLOOKUP($C40,(TABLE!WIN),(MATCH(G40,WINCOL,0)+1))),(VLOOKUP($C40,(TABLE!LOSE),(MATCH(G40,LOSECOL,0)+1))))))","v":""},null,{"$f":"IF(NOT(OR(H40=\"W\",H40=\"L\")),\"\",IF(HandicapPlay=\"x\",IF(H40=\"W\",10,-10),IF(H40=\"W\",(VLOOKUP($C40,(TABLE!WIN),(MATCH(I40,WINCOL,0)+1))),(VLOOKUP($C40,(TABLE!LOSE),(MATCH(I40,LOSECOL,0)+1))))))","v":""},null,{"$f":"IF(NOT(OR(J40=\"W\",J40=\"L\")),\"\",IF(HandicapPlay=\"x\",IF(J40=\"W\",10,-10),IF(J40=\"W\",(VLOOKUP($C40,(TABLE!WIN),(MATCH(K40,WINCOL,0)+1))),(VLOOKUP($C40,(TABLE!LOSE),(MATCH(K40,LOSECOL,0)+1))))))","v":""},null,{"$f":"IF(NOT(OR(L40=\"W\",L40=\"L\")),\"\",IF(HandicapPlay=\"x\",IF(L40=\"W\",10,-10),IF(L40=\"W\",(VLOOKUP($C40,(TABLE!WIN),(MATCH(M40,WINCOL,0)+1))),(VLOOKUP($C40,(TABLE!LOSE),(MATCH(M40,LOSECOL,0)+1))))))","v":""},null,{"$f":"IF(NOT(OR(N40=\"W\",N40=\"L\")),\"\",IF(HandicapPlay=\"x\",IF(N40=\"W\",10,-10),IF(N40=\"W\",(VLOOKUP($C40,(TABLE!WIN),(MATCH(O40,WINCOL,0)+1))),(VLOOKUP($C40,(TABLE!LOSE),(MATCH(O40,LOSECOL,0)+1))))))","v":""},null,{"$f":"IF(NOT(OR(P40=\"W\",P40=\"L\")),\"\",IF(HandicapPlay=\"x\",IF(P40=\"W\",10,-10),IF(P40=\"W\",(VLOOKUP($C40,(TABLE!WIN),(MATCH(Q40,WINCOL,0)+1))),(VLOOKUP($C40,(TABLE!LOSE),(MATCH(Q40,LOSECOL,0)+1))))))","v":""},null,{"$f":"IF(NOT(OR(R40=\"W\",R40=\"L\")),\"\",(IF(R40=\"W\",(VLOOKUP($C40,(TABLE!WIN),((S40+5)*2+2))),(VLOOKUP($C40,(TABLE!LOSE),((S40+5)*2+2))))))","v":""},null,{"$f":"IF(NOT(OR(T40=\"W\",T40=\"L\")),\"\",(IF(T40=\"W\",(VLOOKUP($C40,(TABLE!WIN),((U40+5)*2+2))),(VLOOKUP($C40,(TABLE!LOSE),((U40+5)*2+2))))))","v":""},null,{"$f":"IF(NOT(OR(V40=\"W\",V40=\"L\")),\"\",(IF(V40=\"W\",(VLOOKUP($C40,(TABLE!WIN),((W40+5)*2+2))),(VLOOKUP($C40,(TABLE!LOSE),((W40+5)*2+2))))))","v":""},null,{"$f":"SUM(D41:W41)","v":0}]
[null,{"$f":"SCORECARD!D369","v":" Block 3 Player 2"},{"$f":"SCORECARD!I369","v":0},{"$f":"IF(SCORECARD!$I372>0,\"W\",(IF(SCORECARD!$I372<0,\"L\",\"\")))","v":""},{"$f":"SCORECARD!F372","v":0},{"$f":"IF(SCORECARD!$I373>0,\"W\",(IF(SCORECARD!$I373<0,\"L\",\"\")))","v":""},{"$f":"SCORECARD!F373","v":0},{"$f":"IF(SCORECARD!$I374>0,\"W\",(IF(SCORECARD!$I374<0,\"L\",\"\")))","v":""},{"$f":"SCORECARD!F374","v":0},{"$f":"IF(SCORECARD!$I375>0,\"W\",(IF(SCORECARD!$I375<0,\"L\",\"\")))","v":""},{"$f":"SCORECARD!F375","v":0},{"$f":"IF(SCORECARD!$I376>0,\"W\",(IF(SCORECARD!$I376<0,\"L\",\"\")))","v":""},{"$f":"SCORECARD!F376","v":0},{"$f":"IF(SCORECARD!$I377>0,\"W\",(IF(SCORECARD!$I377<0,\"L\",\"\")))","v":""},{"$f":"SCORECARD!F377","v":0},{"$f":"IF(SCORECARD!$I378>0,\"W\",(IF(SCORECARD!$I378<0,\"L\",\"\")))","v":""},{"$f":"SCORECARD!F378","v":0},{"$f":"IF(SCORECARD!$I379>0,\"W\",(IF(SCORECARD!$I379<0,\"L\",\"\")))","v":""},{"$f":"SCORECARD!F379","v":" "},{"$f":"IF(SCORECARD!$I380>0,\"W\",(IF(SCORECARD!$I380<0,\"L\",\"\")))","v":""},{"$f":"SCORECARD!F380","v":" "},{"$f":"IF(SCORECARD!$I381>0,\"W\",(IF(SCORECARD!$I381<0,\"L\",\"\")))","v":""},{"$f":"SCORECARD!F381","v":" "}]
[null,null,null,{"$f":"IF(NOT(OR(D42=\"W\",D42=\"L\")),\"\",IF(HandicapPlay=\"x\",IF(D42=\"W\",10,-10),IF(D42=\"W\",(VLOOKUP($C42,(TABLE!WIN),(MATCH(E42,WINCOL,0)+1))),(VLOOKUP($C42,(TABLE!LOSE),(MATCH(E42,LOSECOL,0)+1))))))","v":""},null,{"$f":"IF(NOT(OR(F42=\"W\",F42=\"L\")),\"\",IF(HandicapPlay=\"x\",IF(F42=\"W\",10,-10),IF(F42=\"W\",(VLOOKUP($C42,(TABLE!WIN),(MATCH(G42,WINCOL,0)+1))),(VLOOKUP($C42,(TABLE!LOSE),(MATCH(G42,LOSECOL,0)+1))))))","v":""},null,{"$f":"IF(NOT(OR(H42=\"W\",H42=\"L\")),\"\",IF(HandicapPlay=\"x\",IF(H42=\"W\",10,-10),IF(H42=\"W\",(VLOOKUP($C42,(TABLE!WIN),(MATCH(I42,WINCOL,0)+1))),(VLOOKUP($C42,(TABLE!LOSE),(MATCH(I42,LOSECOL,0)+1))))))","v":""},null,{"$f":"IF(NOT(OR(J42=\"W\",J42=\"L\")),\"\",IF(HandicapPlay=\"x\",IF(J42=\"W\",10,-10),IF(J42=\"W\",(VLOOKUP($C42,(TABLE!WIN),(MATCH(K42,WINCOL,0)+1))),(VLOOKUP($C42,(TABLE!LOSE),(MATCH(K42,LOSECOL,0)+1))))))","v":""},null,{"$f":"IF(NOT(OR(L42=\"W\",L42=\"L\")),\"\",IF(HandicapPlay=\"x\",IF(L42=\"W\",10,-10),IF(L42=\"W\",(VLOOKUP($C42,(TABLE!WIN),(MATCH(M42,WINCOL,0)+1))),(VLOOKUP($C42,(TABLE!LOSE),(MATCH(M42,LOSECOL,0)+1))))))","v":""},null,{"$f":"IF(NOT(OR(N42=\"W\",N42=\"L\")),\"\",IF(HandicapPlay=\"x\",IF(N42=\"W\",10,-10),IF(N42=\"W\",(VLOOKUP($C42,(TABLE!WIN),(MATCH(O42,WINCOL,0)+1))),(VLOOKUP($C42,(TABLE!LOSE),(MATCH(O42,LOSECOL,0)+1))))))","v":""},null,{"$f":"IF(NOT(OR(P42=\"W\",P42=\"L\")),\"\",IF(HandicapPlay=\"x\",IF(P42=\"W\",10,-10),IF(P42=\"W\",(VLOOKUP($C42,(TABLE!WIN),(MATCH(Q42,WINCOL,0)+1))),(VLOOKUP($C42,(TABLE!LOSE),(MATCH(Q42,LOSECOL,0)+1))))))","v":""},null,{"$f":"IF(NOT(OR(R42=\"W\",R42=\"L\")),\"\",(IF(R42=\"W\",(VLOOKUP($C42,(TABLE!WIN),((S42+5)*2+2))),(VLOOKUP($C42,(TABLE!LOSE),((S42+5)*2+2))))))","v":""},null,{"$f":"IF(NOT(OR(T42=\"W\",T42=\"L\")),\"\",(IF(T42=\"W\",(VLOOKUP($C42,(TABLE!WIN),((U42+5)*2+2))),(VLOOKUP($C42,(TABLE!LOSE),((U42+5)*2+2))))))","v":""},null,{"$f":"IF(NOT(OR(V42=\"W\",V42=\"L\")),\"\",(IF(V42=\"W\",(VLOOKUP($C42,(TABLE!WIN),((W42+5)*2+2))),(VLOOKUP($C42,(TABLE!LOSE),((W42+5)*2+2))))))","v":""},null,{"$f":"SUM(D43:W43)","v":0}]
[null,{"$f":"SCORECARD!D392","v":" Block 3 Player 3"},{"$f":"SCORECARD!I392","v":0},{"$f":"IF(SCORECARD!$I395>0,\"W\",(IF(SCORECARD!$I395<0,\"L\",\"\")))","v":""},{"$f":"SCORECARD!F395","v":0},{"$f":"IF(SCORECARD!$I396>0,\"W\",(IF(SCORECARD!$I396<0,\"L\",\"\")))","v":""},{"$f":"SCORECARD!F396","v":0},{"$f":"IF(SCORECARD!$I397>0,\"W\",(IF(SCORECARD!$I397<0,\"L\",\"\")))","v":""},{"$f":"SCORECARD!F397","v":0},{"$f":"IF(SCORECARD!$I398>0,\"W\",(IF(SCORECARD!$I398<0,\"L\",\"\")))","v":""},{"$f":"SCORECARD!F398","v":0},{"$f":"IF(SCORECARD!$I399>0,\"W\",(IF(SCORECARD!$I399<0,\"L\",\"\")))","v":""},{"$f":"SCORECARD!F399","v":0},{"$f":"IF(SCORECARD!$I400>0,\"W\",(IF(SCORECARD!$I400<0,\"L\",\"\")))","v":""},{"$f":"SCORECARD!F400","v":0},{"$f":"IF(SCORECARD!$I401>0,\"W\",(IF(SCORECARD!$I401<0,\"L\",\"\")))","v":""},{"$f":"SCORECARD!F401","v":0},{"$f":"IF(SCORECARD!$I402>0,\"W\",(IF(SCORECARD!$I402<0,\"L\",\"\")))","v":""},{"$f":"SCORECARD!F402","v":" "},{"$f":"IF(SCORECARD!$I403>0,\"W\",(IF(SCORECARD!$I403<0,\"L\",\"\")))","v":""},{"$f":"SCORECARD!F403","v":" "},{"$f":"IF(SCORECARD!$I404>0,\"W\",(IF(SCORECARD!$I404<0,\"L\",\"\")))","v":""},{"$f":"SCORECARD!F404","v":" "}]
[null,null,null,{"$f":"IF(NOT(OR(D44=\"W\",D44=\"L\")),\"\",IF(HandicapPlay=\"x\",IF(D44=\"W\",10,-10),IF(D44=\"W\",(VLOOKUP($C44,(TABLE!WIN),(MATCH(E44,WINCOL,0)+1))),(VLOOKUP($C44,(TABLE!LOSE),(MATCH(E44,LOSECOL,0)+1))))))","v":""},null,{"$f":"IF(NOT(OR(F44=\"W\",F44=\"L\")),\"\",IF(HandicapPlay=\"x\",IF(F44=\"W\",10,-10),IF(F44=\"W\",(VLOOKUP($C44,(TABLE!WIN),(MATCH(G44,WINCOL,0)+1))),(VLOOKUP($C44,(TABLE!LOSE),(MATCH(G44,LOSECOL,0)+1))))))","v":""},null,{"$f":"IF(NOT(OR(H44=\"W\",H44=\"L\")),\"\",IF(HandicapPlay=\"x\",IF(H44=\"W\",10,-10),IF(H44=\"W\",(VLOOKUP($C44,(TABLE!WIN),(MATCH(I44,WINCOL,0)+1))),(VLOOKUP($C44,(TABLE!LOSE),(MATCH(I44,LOSECOL,0)+1))))))","v":""},null,{"$f":"IF(NOT(OR(J44=\"W\",J44=\"L\")),\"\",IF(HandicapPlay=\"x\",IF(J44=\"W\",10,-10),IF(J44=\"W\",(VLOOKUP($C44,(TABLE!WIN),(MATCH(K44,WINCOL,0)+1))),(VLOOKUP($C44,(TABLE!LOSE),(MATCH(K44,LOSECOL,0)+1))))))","v":""},null,{"$f":"IF(NOT(OR(L44=\"W\",L44=\"L\")),\"\",IF(HandicapPlay=\"x\",IF(L44=\"W\",10,-10),IF(L44=\"W\",(VLOOKUP($C44,(TABLE!WIN),(MATCH(M44,WINCOL,0)+1))),(VLOOKUP($C44,(TABLE!LOSE),(MATCH(M44,LOSECOL,0)+1))))))","v":""},null,{"$f":"IF(NOT(OR(N44=\"W\",N44=\"L\")),\"\",IF(HandicapPlay=\"x\",IF(N44=\"W\",10,-10),IF(N44=\"W\",(VLOOKUP($C44,(TABLE!WIN),(MATCH(O44,WINCOL,0)+1))),(VLOOKUP($C44,(TABLE!LOSE),(MATCH(O44,LOSECOL,0)+1))))))","v":""},null,{"$f":"IF(NOT(OR(P44=\"W\",P44=\"L\")),\"\",IF(HandicapPlay=\"x\",IF(P44=\"W\",10,-10),IF(P44=\"W\",(VLOOKUP($C44,(TABLE!WIN),(MATCH(Q44,WINCOL,0)+1))),(VLOOKUP($C44,(TABLE!LOSE),(MATCH(Q44,LOSECOL,0)+1))))))","v":""},null,{"$f":"IF(NOT(OR(R44=\"W\",R44=\"L\")),\"\",(IF(R44=\"W\",(VLOOKUP($C44,(TABLE!WIN),((S44+5)*2+2))),(VLOOKUP($C44,(TABLE!LOSE),((S44+5)*2+2))))))","v":""},null,{"$f":"IF(NOT(OR(T44=\"W\",T44=\"L\")),\"\",(IF(T44=\"W\",(VLOOKUP($C44,(TABLE!WIN),((U44+5)*2+2))),(VLOOKUP($C44,(TABLE!LOSE),((U44+5)*2+2))))))","v":""},null,{"$f":"IF(NOT(OR(V44=\"W\",V44=\"L\")),\"\",(IF(V44=\"W\",(VLOOKUP($C44,(TABLE!WIN),((W44+5)*2+2))),(VLOOKUP($C44,(TABLE!LOSE),((W44+5)*2+2))))))","v":""},null,{"$f":"SUM(D45:W45)","v":0}]
[null,{"$f":"SCORECARD!D412","v":" Block 3 Player 4"},{"$f":"SCORECARD!I412","v":0},{"$f":"IF(SCORECARD!$I415>0,\"W\",(IF(SCORECARD!$I415<0,\"L\",\"\")))","v":""},{"$f":"SCORECARD!F415","v":0},{"$f":"IF(SCORECARD!$I416>0,\"W\",(IF(SCORECARD!$I416<0,\"L\",\"\")))","v":""},{"$f":"SCORECARD!F416","v":0},{"$f":"IF(SCORECARD!$I417>0,\"W\",(IF(SCORECARD!$I417<0,\"L\",\"\")))","v":""},{"$f":"SCORECARD!F417","v":0},{"$f":"IF(SCORECARD!$I418>0,\"W\",(IF(SCORECARD!$I418<0,\"L\",\"\")))","v":""},{"$f":"SCORECARD!F418","v":0},{"$f":"IF(SCORECARD!$I419>0,\"W\",(IF(SCORECARD!$I419<0,\"L\",\"\")))","v":""},{"$f":"SCORECARD!F419","v":0},{"$f":"IF(SCORECARD!$I420>0,\"W\",(IF(SCORECARD!$I420<0,\"L\",\"\")))","v":""},{"$f":"SCORECARD!F420","v":0},{"$f":"IF(SCORECARD!$I421>0,\"W\",(IF(SCORECARD!$I421<0,\"L\",\"\")))","v":""},{"$f":"SCORECARD!F421","v":0},{"$f":"IF(SCORECARD!$I422>0,\"W\",(IF(SCORECARD!$I422<0,\"L\",\"\")))","v":""},{"$f":"SCORECARD!F422","v":" "},{"$f":"IF(SCORECARD!$I423>0,\"W\",(IF(SCORECARD!$I423<0,\"L\",\"\")))","v":""},{"$f":"SCORECARD!F423","v":" "},{"$f":"IF(SCORECARD!$I424>0,\"W\",(IF(SCORECARD!$I424<0,\"L\",\"\")))","v":""},{"$f":"SCORECARD!F424","v":" "}]
[null,null,null,{"$f":"IF(NOT(OR(D46=\"W\",D46=\"L\")),\"\",IF(HandicapPlay=\"x\",IF(D46=\"W\",10,-10),IF(D46=\"W\",(VLOOKUP($C46,(TABLE!WIN),(MATCH(E46,WINCOL,0)+1))),(VLOOKUP($C46,(TABLE!LOSE),(MATCH(E46,LOSECOL,0)+1))))))","v":""},null,{"$f":"IF(NOT(OR(F46=\"W\",F46=\"L\")),\"\",IF(HandicapPlay=\"x\",IF(F46=\"W\",10,-10),IF(F46=\"W\",(VLOOKUP($C46,(TABLE!WIN),(MATCH(G46,WINCOL,0)+1))),(VLOOKUP($C46,(TABLE!LOSE),(MATCH(G46,LOSECOL,0)+1))))))","v":""},null,{"$f":"IF(NOT(OR(H46=\"W\",H46=\"L\")),\"\",IF(HandicapPlay=\"x\",IF(H46=\"W\",10,-10),IF(H46=\"W\",(VLOOKUP($C46,(TABLE!WIN),(MATCH(I46,WINCOL,0)+1))),(VLOOKUP($C46,(TABLE!LOSE),(MATCH(I46,LOSECOL,0)+1))))))","v":""},null,{"$f":"IF(NOT(OR(J46=\"W\",J46=\"L\")),\"\",IF(HandicapPlay=\"x\",IF(J46=\"W\",10,-10),IF(J46=\"W\",(VLOOKUP($C46,(TABLE!WIN),(MATCH(K46,WINCOL,0)+1))),(VLOOKUP($C46,(TABLE!LOSE),(MATCH(K46,LOSECOL,0)+1))))))","v":""},null,{"$f":"IF(NOT(OR(L46=\"W\",L46=\"L\")),\"\",IF(HandicapPlay=\"x\",IF(L46=\"W\",10,-10),IF(L46=\"W\",(VLOOKUP($C46,(TABLE!WIN),(MATCH(M46,WINCOL,0)+1))),(VLOOKUP($C46,(TABLE!LOSE),(MATCH(M46,LOSECOL,0)+1))))))","v":""},null,{"$f":"IF(NOT(OR(N46=\"W\",N46=\"L\")),\"\",IF(HandicapPlay=\"x\",IF(N46=\"W\",10,-10),IF(N46=\"W\",(VLOOKUP($C46,(TABLE!WIN),(MATCH(O46,WINCOL,0)+1))),(VLOOKUP($C46,(TABLE!LOSE),(MATCH(O46,LOSECOL,0)+1))))))","v":""},null,{"$f":"IF(NOT(OR(P46=\"W\",P46=\"L\")),\"\",IF(HandicapPlay=\"x\",IF(P46=\"W\",10,-10),IF(P46=\"W\",(VLOOKUP($C46,(TABLE!WIN),(MATCH(Q46,WINCOL,0)+1))),(VLOOKUP($C46,(TABLE!LOSE),(MATCH(Q46,LOSECOL,0)+1))))))","v":""},null,{"$f":"IF(NOT(OR(R46=\"W\",R46=\"L\")),\"\",(IF(R46=\"W\",(VLOOKUP($C46,(TABLE!WIN),((S46+5)*2+2))),(VLOOKUP($C46,(TABLE!LOSE),((S46+5)*2+2))))))","v":""},null,{"$f":"IF(NOT(OR(T46=\"W\",T46=\"L\")),\"\",(IF(T46=\"W\",(VLOOKUP($C46,(TABLE!WIN),((U46+5)*2+2))),(VLOOKUP($C46,(TABLE!LOSE),((U46+5)*2+2))))))","v":""},null,{"$f":"IF(NOT(OR(V46=\"W\",V46=\"L\")),\"\",(IF(V46=\"W\",(VLOOKUP($C46,(TABLE!WIN),((W46+5)*2+2))),(VLOOKUP($C46,(TABLE!LOSE),((W46+5)*2+2))))))","v":""},null,{"$f":"SUM(D47:W47)","v":0}]
[null,{"$f":"SCORECARD!D435","v":" Block 3 Player 5"},{"$f":"SCORECARD!I435","v":0},{"$f":"IF(SCORECARD!$I438>0,\"W\",(IF(SCORECARD!$I438<0,\"L\",\"\")))","v":""},{"$f":"SCORECARD!F438","v":0},{"$f":"IF(SCORECARD!$I439>0,\"W\",(IF(SCORECARD!$I439<0,\"L\",\"\")))","v":""},{"$f":"SCORECARD!F439","v":0},{"$f":"IF(SCORECARD!$I440>0,\"W\",(IF(SCORECARD!$I440<0,\"L\",\"\")))","v":""},{"$f":"SCORECARD!F440","v":0},{"$f":"IF(SCORECARD!$I441>0,\"W\",(IF(SCORECARD!$I441<0,\"L\",\"\")))","v":""},{"$f":"SCORECARD!F441","v":0},{"$f":"IF(SCORECARD!$I442>0,\"W\",(IF(SCORECARD!$I442<0,\"L\",\"\")))","v":""},{"$f":"SCORECARD!F442","v":0},{"$f":"IF(SCORECARD!$I443>0,\"W\",(IF(SCORECARD!$I443<0,\"L\",\"\")))","v":""},{"$f":"SCORECARD!F443","v":0},{"$f":"IF(SCORECARD!$I444>0,\"W\",(IF(SCORECARD!$I444<0,\"L\",\"\")))","v":""},{"$f":"SCORECARD!F444","v":0},{"$f":"IF(SCORECARD!$I445>0,\"W\",(IF(SCORECARD!$I445<0,\"L\",\"\")))","v":""},{"$f":"SCORECARD!F445","v":" "},{"$f":"IF(SCORECARD!$I446>0,\"W\",(IF(SCORECARD!$I446<0,\"L\",\"\")))","v":""},{"$f":"SCORECARD!F446","v":" "},{"$f":"IF(SCORECARD!$I447>0,\"W\",(IF(SCORECARD!$I447<0,\"L\",\"\")))","v":""},{"$f":"SCORECARD!F447","v":" "}]
[null,null,null,{"$f":"IF(NOT(OR(D48=\"W\",D48=\"L\")),\"\",IF(HandicapPlay=\"x\",IF(D48=\"W\",10,-10),IF(D48=\"W\",(VLOOKUP($C48,(TABLE!WIN),(MATCH(E48,WINCOL,0)+1))),(VLOOKUP($C48,(TABLE!LOSE),(MATCH(E48,LOSECOL,0)+1))))))","v":""},null,{"$f":"IF(NOT(OR(F48=\"W\",F48=\"L\")),\"\",IF(HandicapPlay=\"x\",IF(F48=\"W\",10,-10),IF(F48=\"W\",(VLOOKUP($C48,(TABLE!WIN),(MATCH(G48,WINCOL,0)+1))),(VLOOKUP($C48,(TABLE!LOSE),(MATCH(G48,LOSECOL,0)+1))))))","v":""},null,{"$f":"IF(NOT(OR(H48=\"W\",H48=\"L\")),\"\",IF(HandicapPlay=\"x\",IF(H48=\"W\",10,-10),IF(H48=\"W\",(VLOOKUP($C48,(TABLE!WIN),(MATCH(I48,WINCOL,0)+1))),(VLOOKUP($C48,(TABLE!LOSE),(MATCH(I48,LOSECOL,0)+1))))))","v":""},null,{"$f":"IF(NOT(OR(J48=\"W\",J48=\"L\")),\"\",IF(HandicapPlay=\"x\",IF(J48=\"W\",10,-10),IF(J48=\"W\",(VLOOKUP($C48,(TABLE!WIN),(MATCH(K48,WINCOL,0)+1))),(VLOOKUP($C48,(TABLE!LOSE),(MATCH(K48,LOSECOL,0)+1))))))","v":""},null,{"$f":"IF(NOT(OR(L48=\"W\",L48=\"L\")),\"\",IF(HandicapPlay=\"x\",IF(L48=\"W\",10,-10),IF(L48=\"W\",(VLOOKUP($C48,(TABLE!WIN),(MATCH(M48,WINCOL,0)+1))),(VLOOKUP($C48,(TABLE!LOSE),(MATCH(M48,LOSECOL,0)+1))))))","v":""},null,{"$f":"IF(NOT(OR(N48=\"W\",N48=\"L\")),\"\",IF(HandicapPlay=\"x\",IF(N48=\"W\",10,-10),IF(N48=\"W\",(VLOOKUP($C48,(TABLE!WIN),(MATCH(O48,WINCOL,0)+1))),(VLOOKUP($C48,(TABLE!LOSE),(MATCH(O48,LOSECOL,0)+1))))))","v":""},null,{"$f":"IF(NOT(OR(P48=\"W\",P48=\"L\")),\"\",IF(HandicapPlay=\"x\",IF(P48=\"W\",10,-10),IF(P48=\"W\",(VLOOKUP($C48,(TABLE!WIN),(MATCH(Q48,WINCOL,0)+1))),(VLOOKUP($C48,(TABLE!LOSE),(MATCH(Q48,LOSECOL,0)+1))))))","v":""},null,{"$f":"IF(NOT(OR(R48=\"W\",R48=\"L\")),\"\",(IF(R48=\"W\",(VLOOKUP($C48,(TABLE!WIN),((S48+5)*2+2))),(VLOOKUP($C48,(TABLE!LOSE),((S48+5)*2+2))))))","v":""},null,{"$f":"IF(NOT(OR(T48=\"W\",T48=\"L\")),\"\",(IF(T48=\"W\",(VLOOKUP($C48,(TABLE!WIN),((U48+5)*2+2))),(VLOOKUP($C48,(TABLE!LOSE),((U48+5)*2+2))))))","v":""},null,{"$f":"IF(NOT(OR(V48=\"W\",V48=\"L\")),\"\",(IF(V48=\"W\",(VLOOKUP($C48,(TABLE!WIN),((W48+5)*2+2))),(VLOOKUP($C48,(TABLE!LOSE),((W48+5)*2+2))))))","v":""},null,{"$f":"SUM(D49:W49)","v":0}]
[null,{"$f":"SCORECARD!D455","v":" Block 3 Player 6"},{"$f":"SCORECARD!I455","v":0},{"$f":"IF(SCORECARD!$I458>0,\"W\",(IF(SCORECARD!$I458<0,\"L\",\"\")))","v":""},{"$f":"SCORECARD!F458","v":0},{"$f":"IF(SCORECARD!$I459>0,\"W\",(IF(SCORECARD!$I459<0,\"L\",\"\")))","v":""},{"$f":"SCORECARD!F459","v":0},{"$f":"IF(SCORECARD!$I460>0,\"W\",(IF(SCORECARD!$I460<0,\"L\",\"\")))","v":""},{"$f":"SCORECARD!F460","v":0},{"$f":"IF(SCORECARD!$I461>0,\"W\",(IF(SCORECARD!$I461<0,\"L\",\"\")))","v":""},{"$f":"SCORECARD!F461","v":0},{"$f":"IF(SCORECARD!$I462>0,\"W\",(IF(SCORECARD!$I462<0,\"L\",\"\")))","v":""},{"$f":"SCORECARD!F462","v":0},{"$f":"IF(SCORECARD!$I463>0,\"W\",(IF(SCORECARD!$I463<0,\"L\",\"\")))","v":""},{"$f":"SCORECARD!F463","v":0},{"$f":"IF(SCORECARD!$I464>0,\"W\",(IF(SCORECARD!$I464<0,\"L\",\"\")))","v":""},{"$f":"SCORECARD!F464","v":0},{"$f":"IF(SCORECARD!$I465>0,\"W\",(IF(SCORECARD!$I465<0,\"L\",\"\")))","v":""},{"$f":"SCORECARD!F465","v":" "},{"$f":"IF(SCORECARD!$I466>0,\"W\",(IF(SCORECARD!$I466<0,\"L\",\"\")))","v":""},{"$f":"SCORECARD!F466","v":" "},{"$f":"IF(SCORECARD!$I467>0,\"W\",(IF(SCORECARD!$I467<0,\"L\",\"\")))","v":""},{"$f":"SCORECARD!F467","v":" "}]
[null,null,null,{"$f":"IF(NOT(OR(D50=\"W\",D50=\"L\")),\"\",IF(HandicapPlay=\"x\",IF(D50=\"W\",10,-10),IF(D50=\"W\",(VLOOKUP($C50,(TABLE!WIN),(MATCH(E50,WINCOL,0)+1))),(VLOOKUP($C50,(TABLE!LOSE),(MATCH(E50,LOSECOL,0)+1))))))","v":""},null,{"$f":"IF(NOT(OR(F50=\"W\",F50=\"L\")),\"\",IF(HandicapPlay=\"x\",IF(F50=\"W\",10,-10),IF(F50=\"W\",(VLOOKUP($C50,(TABLE!WIN),(MATCH(G50,WINCOL,0)+1))),(VLOOKUP($C50,(TABLE!LOSE),(MATCH(G50,LOSECOL,0)+1))))))","v":""},null,{"$f":"IF(NOT(OR(H50=\"W\",H50=\"L\")),\"\",IF(HandicapPlay=\"x\",IF(H50=\"W\",10,-10),IF(H50=\"W\",(VLOOKUP($C50,(TABLE!WIN),(MATCH(I50,WINCOL,0)+1))),(VLOOKUP($C50,(TABLE!LOSE),(MATCH(I50,LOSECOL,0)+1))))))","v":""},null,{"$f":"IF(NOT(OR(J50=\"W\",J50=\"L\")),\"\",IF(HandicapPlay=\"x\",IF(J50=\"W\",10,-10),IF(J50=\"W\",(VLOOKUP($C50,(TABLE!WIN),(MATCH(K50,WINCOL,0)+1))),(VLOOKUP($C50,(TABLE!LOSE),(MATCH(K50,LOSECOL,0)+1))))))","v":""},null,{"$f":"IF(NOT(OR(L50=\"W\",L50=\"L\")),\"\",IF(HandicapPlay=\"x\",IF(L50=\"W\",10,-10),IF(L50=\"W\",(VLOOKUP($C50,(TABLE!WIN),(MATCH(M50,WINCOL,0)+1))),(VLOOKUP($C50,(TABLE!LOSE),(MATCH(M50,LOSECOL,0)+1))))))","v":""},null,{"$f":"IF(NOT(OR(N50=\"W\",N50=\"L\")),\"\",IF(HandicapPlay=\"x\",IF(N50=\"W\",10,-10),IF(N50=\"W\",(VLOOKUP($C50,(TABLE!WIN),(MATCH(O50,WINCOL,0)+1))),(VLOOKUP($C50,(TABLE!LOSE),(MATCH(O50,LOSECOL,0)+1))))))","v":""},null,{"$f":"IF(NOT(OR(P50=\"W\",P50=\"L\")),\"\",IF(HandicapPlay=\"x\",IF(P50=\"W\",10,-10),IF(P50=\"W\",(VLOOKUP($C50,(TABLE!WIN),(MATCH(Q50,WINCOL,0)+1))),(VLOOKUP($C50,(TABLE!LOSE),(MATCH(Q50,LOSECOL,0)+1))))))","v":""},null,{"$f":"IF(NOT(OR(R50=\"W\",R50=\"L\")),\"\",(IF(R50=\"W\",(VLOOKUP($C50,(TABLE!WIN),((S50+5)*2+2))),(VLOOKUP($C50,(TABLE!LOSE),((S50+5)*2+2))))))","v":""},null,{"$f":"IF(NOT(OR(T50=\"W\",T50=\"L\")),\"\",(IF(T50=\"W\",(VLOOKUP($C50,(TABLE!WIN),((U50+5)*2+2))),(VLOOKUP($C50,(TABLE!LOSE),((U50+5)*2+2))))))","v":""},null,{"$f":"IF(NOT(OR(V50=\"W\",V50=\"L\")),\"\",(IF(V50=\"W\",(VLOOKUP($C50,(TABLE!WIN),((W50+5)*2+2))),(VLOOKUP($C50,(TABLE!LOSE),((W50+5)*2+2))))))","v":""},null,{"$f":"SUM(D51:W51)","v":0}]
[null,{"$f":"SCORECARD!D478","v":" Block 3 Player 7"},{"$f":"SCORECARD!I478","v":0},{"$f":"IF(SCORECARD!$I481>0,\"W\",(IF(SCORECARD!$I481<0,\"L\",\"\")))","v":""},{"$f":"SCORECARD!F481","v":0},{"$f":"IF(SCORECARD!$I482>0,\"W\",(IF(SCORECARD!$I482<0,\"L\",\"\")))","v":""},{"$f":"SCORECARD!F482","v":0},{"$f":"IF(SCORECARD!$I483>0,\"W\",(IF(SCORECARD!$I483<0,\"L\",\"\")))","v":""},{"$f":"SCORECARD!F483","v":0},{"$f":"IF(SCORECARD!$I484>0,\"W\",(IF(SCORECARD!$I484<0,\"L\",\"\")))","v":""},{"$f":"SCORECARD!F484","v":0},{"$f":"IF(SCORECARD!$I485>0,\"W\",(IF(SCORECARD!$I485<0,\"L\",\"\")))","v":""},{"$f":"SCORECARD!F485","v":0},{"$f":"IF(SCORECARD!$I486>0,\"W\",(IF(SCORECARD!$I486<0,\"L\",\"\")))","v":""},{"$f":"SCORECARD!F486","v":0},{"$f":"IF(SCORECARD!$I487>0,\"W\",(IF(SCORECARD!$I487<0,\"L\",\"\")))","v":""},{"$f":"SCORECARD!F487","v":0},{"$f":"IF(SCORECARD!$I488>0,\"W\",(IF(SCORECARD!$I488<0,\"L\",\"\")))","v":""},{"$f":"SCORECARD!F488","v":" "},{"$f":"IF(SCORECARD!$I489>0,\"W\",(IF(SCORECARD!$I489<0,\"L\",\"\")))","v":""},{"$f":"SCORECARD!F489","v":" "},{"$f":"IF(SCORECARD!$I490>0,\"W\",(IF(SCORECARD!$I490<0,\"L\",\"\")))","v":""},{"$f":"SCORECARD!F490","v":" "}]
[null,null,null,{"$f":"IF(NOT(OR(D52=\"W\",D52=\"L\")),\"\",IF(HandicapPlay=\"x\",IF(D52=\"W\",10,-10),IF(D52=\"W\",(VLOOKUP($C52,(TABLE!WIN),(MATCH(E52,WINCOL,0)+1))),(VLOOKUP($C52,(TABLE!LOSE),(MATCH(E52,LOSECOL,0)+1))))))","v":""},null,{"$f":"IF(NOT(OR(F52=\"W\",F52=\"L\")),\"\",IF(HandicapPlay=\"x\",IF(F52=\"W\",10,-10),IF(F52=\"W\",(VLOOKUP($C52,(TABLE!WIN),(MATCH(G52,WINCOL,0)+1))),(VLOOKUP($C52,(TABLE!LOSE),(MATCH(G52,LOSECOL,0)+1))))))","v":""},null,{"$f":"IF(NOT(OR(H52=\"W\",H52=\"L\")),\"\",IF(HandicapPlay=\"x\",IF(H52=\"W\",10,-10),IF(H52=\"W\",(VLOOKUP($C52,(TABLE!WIN),(MATCH(I52,WINCOL,0)+1))),(VLOOKUP($C52,(TABLE!LOSE),(MATCH(I52,LOSECOL,0)+1))))))","v":""},null,{"$f":"IF(NOT(OR(J52=\"W\",J52=\"L\")),\"\",IF(HandicapPlay=\"x\",IF(J52=\"W\",10,-10),IF(J52=\"W\",(VLOOKUP($C52,(TABLE!WIN),(MATCH(K52,WINCOL,0)+1))),(VLOOKUP($C52,(TABLE!LOSE),(MATCH(K52,LOSECOL,0)+1))))))","v":""},null,{"$f":"IF(NOT(OR(L52=\"W\",L52=\"L\")),\"\",IF(HandicapPlay=\"x\",IF(L52=\"W\",10,-10),IF(L52=\"W\",(VLOOKUP($C52,(TABLE!WIN),(MATCH(M52,WINCOL,0)+1))),(VLOOKUP($C52,(TABLE!LOSE),(MATCH(M52,LOSECOL,0)+1))))))","v":""},null,{"$f":"IF(NOT(OR(N52=\"W\",N52=\"L\")),\"\",IF(HandicapPlay=\"x\",IF(N52=\"W\",10,-10),IF(N52=\"W\",(VLOOKUP($C52,(TABLE!WIN),(MATCH(O52,WINCOL,0)+1))),(VLOOKUP($C52,(TABLE!LOSE),(MATCH(O52,LOSECOL,0)+1))))))","v":""},null,{"$f":"IF(NOT(OR(P52=\"W\",P52=\"L\")),\"\",IF(HandicapPlay=\"x\",IF(P52=\"W\",10,-10),IF(P52=\"W\",(VLOOKUP($C52,(TABLE!WIN),(MATCH(Q52,WINCOL,0)+1))),(VLOOKUP($C52,(TABLE!LOSE),(MATCH(Q52,LOSECOL,0)+1))))))","v":""},null,{"$f":"IF(NOT(OR(R52=\"W\",R52=\"L\")),\"\",(IF(R52=\"W\",(VLOOKUP($C52,(TABLE!WIN),((S52+5)*2+2))),(VLOOKUP($C52,(TABLE!LOSE),((S52+5)*2+2))))))","v":""},null,{"$f":"IF(NOT(OR(T52=\"W\",T52=\"L\")),\"\",(IF(T52=\"W\",(VLOOKUP($C52,(TABLE!WIN),((U52+5)*2+2))),(VLOOKUP($C52,(TABLE!LOSE),((U52+5)*2+2))))))","v":""},null,{"$f":"IF(NOT(OR(V52=\"W\",V52=\"L\")),\"\",(IF(V52=\"W\",(VLOOKUP($C52,(TABLE!WIN),((W52+5)*2+2))),(VLOOKUP($C52,(TABLE!LOSE),((W52+5)*2+2))))))","v":""},null,{"$f":"SUM(D53:W53)","v":0}]
[null,{"$f":"SCORECARD!D498","v":" Bye "},{"$f":"SCORECARD!I498","v":0},{"$f":"IF(SCORECARD!$I501>0,\"W\",(IF(SCORECARD!$I501<0,\"L\",\"\")))","v":""},{"$f":"SCORECARD!$F501","v":0},{"$f":"IF(SCORECARD!$I502>0,\"W\",(IF(SCORECARD!$I502<0,\"L\",\"\")))","v":""},{"$f":"SCORECARD!$F502","v":0},{"$f":"IF(SCORECARD!$I503>0,\"W\",(IF(SCORECARD!$I503<0,\"L\",\"\")))","v":""},{"$f":"SCORECARD!$F503","v":0},{"$f":"IF(SCORECARD!$I504>0,\"W\",(IF(SCORECARD!$I504<0,\"L\",\"\")))","v":""},{"$f":"SCORECARD!$F504","v":0},{"$f":"IF(SCORECARD!$I505>0,\"W\",(IF(SCORECARD!$I505<0,\"L\",\"\")))","v":""},{"$f":"SCORECARD!$F505","v":0},{"$f":"IF(SCORECARD!$I506>0,\"W\",(IF(SCORECARD!$I506<0,\"L\",\"\")))","v":""},{"$f":"SCORECARD!$F506","v":0},{"$f":"IF(SCORECARD!$I507>0,\"W\",(IF(SCORECARD!$I507<0,\"L\",\"\")))","v":""},{"$f":"SCORECARD!$F507","v":0},{"$f":"IF(SCORECARD!$I508>0,\"W\",(IF(SCORECARD!$I508<0,\"L\",\"\")))","v":""},{"$f":"SCORECARD!$F508","v":" "},{"$f":"IF(SCORECARD!$I509>0,\"W\",(IF(SCORECARD!$I509<0,\"L\",\"\")))","v":""},{"$f":"SCORECARD!$F509","v":" "},{"$f":"IF(SCORECARD!$I510>0,\"W\",(IF(SCORECARD!$I510<0,\"L\",\"\")))","v":""},{"$f":"SCORECARD!$F510","v":" "}]
[null,null,null,{"$f":"IF(NOT(OR(D54=\"W\",D54=\"L\")),\"\",IF(HandicapPlay=\"x\",IF(D54=\"W\",10,-10),IF(D54=\"W\",(VLOOKUP($C54,(TABLE!WIN),(MATCH(E54,WINCOL,0)+1))),(VLOOKUP($C54,(TABLE!LOSE),(MATCH(E54,LOSECOL,0)+1))))))","v":""},null,{"$f":"IF(NOT(OR(F54=\"W\",F54=\"L\")),\"\",IF(HandicapPlay=\"x\",IF(F54=\"W\",10,-10),IF(F54=\"W\",(VLOOKUP($C54,(TABLE!WIN),(MATCH(G54,WINCOL,0)+1))),(VLOOKUP($C54,(TABLE!LOSE),(MATCH(G54,LOSECOL,0)+1))))))","v":""},null,{"$f":"IF(NOT(OR(H54=\"W\",H54=\"L\")),\"\",IF(HandicapPlay=\"x\",IF(H54=\"W\",10,-10),IF(H54=\"W\",(VLOOKUP($C54,(TABLE!WIN),(MATCH(I54,WINCOL,0)+1))),(VLOOKUP($C54,(TABLE!LOSE),(MATCH(I54,LOSECOL,0)+1))))))","v":""},null,{"$f":"IF(NOT(OR(J54=\"W\",J54=\"L\")),\"\",IF(HandicapPlay=\"x\",IF(J54=\"W\",10,-10),IF(J54=\"W\",(VLOOKUP($C54,(TABLE!WIN),(MATCH(K54,WINCOL,0)+1))),(VLOOKUP($C54,(TABLE!LOSE),(MATCH(K54,LOSECOL,0)+1))))))","v":""},null,{"$f":"IF(NOT(OR(L54=\"W\",L54=\"L\")),\"\",IF(HandicapPlay=\"x\",IF(L54=\"W\",10,-10),IF(L54=\"W\",(VLOOKUP($C54,(TABLE!WIN),(MATCH(M54,WINCOL,0)+1))),(VLOOKUP($C54,(TABLE!LOSE),(MATCH(M54,LOSECOL,0)+1))))))","v":""},null,{"$f":"IF(NOT(OR(N54=\"W\",N54=\"L\")),\"\",IF(HandicapPlay=\"x\",IF(N54=\"W\",10,-10),IF(N54=\"W\",(VLOOKUP($C54,(TABLE!WIN),(MATCH(O54,WINCOL,0)+1))),(VLOOKUP($C54,(TABLE!LOSE),(MATCH(O54,LOSECOL,0)+1))))))","v":""},null,{"$f":"IF(NOT(OR(P54=\"W\",P54=\"L\")),\"\",IF(HandicapPlay=\"x\",IF(P54=\"W\",10,-10),IF(P54=\"W\",(VLOOKUP($C54,(TABLE!WIN),(MATCH(Q54,WINCOL,0)+1))),(VLOOKUP($C54,(TABLE!LOSE),(MATCH(Q54,LOSECOL,0)+1))))))","v":""},null,{"$f":"IF(NOT(OR(R54=\"W\",R54=\"L\")),\"\",(IF(R54=\"W\",(VLOOKUP($C54,(TABLE!WIN),((S54+5)*2+2))),(VLOOKUP($C54,(TABLE!LOSE),((S54+5)*2+2))))))","v":""},null,{"$f":"IF(NOT(OR(T54=\"W\",T54=\"L\")),\"\",(IF(T54=\"W\",(VLOOKUP($C54,(TABLE!WIN),((U54+5)*2+2))),(VLOOKUP($C54,(TABLE!LOSE),((U54+5)*2+2))))))","v":""},null,{"$f":"IF(NOT(OR(V54=\"W\",V54=\"L\")),\"\",(IF(V54=\"W\",(VLOOKUP($C54,(TABLE!WIN),((W54+5)*2+2))),(VLOOKUP($C54,(TABLE!LOSE),((W54+5)*2+2))))))","v":""},null,{"$f":"SUM(D55:W55)","v":0}]
[null,{"$f":"SCORECARD!D521","v":" Block 4 Player 1"},{"$f":"SCORECARD!I521","v":0},{"$f":"IF(SCORECARD!$I524>0,\"W\",(IF(SCORECARD!$I524<0,\"L\",\"\")))","v":""},{"$f":"SCORECARD!F524","v":0},{"$f":"IF(SCORECARD!$I525>0,\"W\",(IF(SCORECARD!$I525<0,\"L\",\"\")))","v":""},{"$f":"SCORECARD!F525","v":0},{"$f":"IF(SCORECARD!$I526>0,\"W\",(IF(SCORECARD!$I526<0,\"L\",\"\")))","v":""},{"$f":"SCORECARD!F526","v":0},{"$f":"IF(SCORECARD!$I527>0,\"W\",(IF(SCORECARD!$I527<0,\"L\",\"\")))","v":""},{"$f":"SCORECARD!F527","v":0},{"$f":"IF(SCORECARD!$I528>0,\"W\",(IF(SCORECARD!$I528<0,\"L\",\"\")))","v":""},{"$f":"SCORECARD!F528","v":0},{"$f":"IF(SCORECARD!$I529>0,\"W\",(IF(SCORECARD!$I529<0,\"L\",\"\")))","v":""},{"$f":"SCORECARD!F529","v":0},{"$f":"IF(SCORECARD!$I530>0,\"W\",(IF(SCORECARD!$I530<0,\"L\",\"\")))","v":""},{"$f":"SCORECARD!F530","v":0},{"$f":"IF(SCORECARD!$I531>0,\"W\",(IF(SCORECARD!$I531<0,\"L\",\"\")))","v":""},{"$f":"SCORECARD!F531","v":" "},{"$f":"IF(SCORECARD!$I532>0,\"W\",(IF(SCORECARD!$I532<0,\"L\",\"\")))","v":""},{"$f":"SCORECARD!F532","v":" "},{"$f":"IF(SCORECARD!$I533>0,\"W\",(IF(SCORECARD!$I533<0,\"L\",\"\")))","v":""},{"$f":"SCORECARD!F533","v":" "}]
[null,null,null,{"$f":"IF(NOT(OR(D56=\"W\",D56=\"L\")),\"\",IF(HandicapPlay=\"x\",IF(D56=\"W\",10,-10),IF(D56=\"W\",(VLOOKUP($C56,(TABLE!WIN),(MATCH(E56,WINCOL,0)+1))),(VLOOKUP($C56,(TABLE!LOSE),(MATCH(E56,LOSECOL,0)+1))))))","v":""},null,{"$f":"IF(NOT(OR(F56=\"W\",F56=\"L\")),\"\",IF(HandicapPlay=\"x\",IF(F56=\"W\",10,-10),IF(F56=\"W\",(VLOOKUP($C56,(TABLE!WIN),(MATCH(G56,WINCOL,0)+1))),(VLOOKUP($C56,(TABLE!LOSE),(MATCH(G56,LOSECOL,0)+1))))))","v":""},null,{"$f":"IF(NOT(OR(H56=\"W\",H56=\"L\")),\"\",IF(HandicapPlay=\"x\",IF(H56=\"W\",10,-10),IF(H56=\"W\",(VLOOKUP($C56,(TABLE!WIN),(MATCH(I56,WINCOL,0)+1))),(VLOOKUP($C56,(TABLE!LOSE),(MATCH(I56,LOSECOL,0)+1))))))","v":""},null,{"$f":"IF(NOT(OR(J56=\"W\",J56=\"L\")),\"\",IF(HandicapPlay=\"x\",IF(J56=\"W\",10,-10),IF(J56=\"W\",(VLOOKUP($C56,(TABLE!WIN),(MATCH(K56,WINCOL,0)+1))),(VLOOKUP($C56,(TABLE!LOSE),(MATCH(K56,LOSECOL,0)+1))))))","v":""},null,{"$f":"IF(NOT(OR(L56=\"W\",L56=\"L\")),\"\",IF(HandicapPlay=\"x\",IF(L56=\"W\",10,-10),IF(L56=\"W\",(VLOOKUP($C56,(TABLE!WIN),(MATCH(M56,WINCOL,0)+1))),(VLOOKUP($C56,(TABLE!LOSE),(MATCH(M56,LOSECOL,0)+1))))))","v":""},null,{"$f":"IF(NOT(OR(N56=\"W\",N56=\"L\")),\"\",IF(HandicapPlay=\"x\",IF(N56=\"W\",10,-10),IF(N56=\"W\",(VLOOKUP($C56,(TABLE!WIN),(MATCH(O56,WINCOL,0)+1))),(VLOOKUP($C56,(TABLE!LOSE),(MATCH(O56,LOSECOL,0)+1))))))","v":""},null,{"$f":"IF(NOT(OR(P56=\"W\",P56=\"L\")),\"\",IF(HandicapPlay=\"x\",IF(P56=\"W\",10,-10),IF(P56=\"W\",(VLOOKUP($C56,(TABLE!WIN),(MATCH(Q56,WINCOL,0)+1))),(VLOOKUP($C56,(TABLE!LOSE),(MATCH(Q56,LOSECOL,0)+1))))))","v":""},null,{"$f":"IF(NOT(OR(R56=\"W\",R56=\"L\")),\"\",(IF(R56=\"W\",(VLOOKUP($C56,(TABLE!WIN),((S56+5)*2+2))),(VLOOKUP($C56,(TABLE!LOSE),((S56+5)*2+2))))))","v":""},null,{"$f":"IF(NOT(OR(T56=\"W\",T56=\"L\")),\"\",(IF(T56=\"W\",(VLOOKUP($C56,(TABLE!WIN),((U56+5)*2+2))),(VLOOKUP($C56,(TABLE!LOSE),((U56+5)*2+2))))))","v":""},null,{"$f":"IF(NOT(OR(V56=\"W\",V56=\"L\")),\"\",(IF(V56=\"W\",(VLOOKUP($C56,(TABLE!WIN),((W56+5)*2+2))),(VLOOKUP($C56,(TABLE!LOSE),((W56+5)*2+2))))))","v":""},null,{"$f":"SUM(D57:W57)","v":0}]
[null,{"$f":"SCORECARD!D541","v":" Block 4 Player 2"},{"$f":"SCORECARD!I541","v":0},{"$f":"IF(SCORECARD!$I544>0,\"W\",(IF(SCORECARD!$I544<0,\"L\",\"\")))","v":""},{"$f":"SCORECARD!F544","v":0},{"$f":"IF(SCORECARD!$I545>0,\"W\",(IF(SCORECARD!$I545<0,\"L\",\"\")))","v":""},{"$f":"SCORECARD!F545","v":0},{"$f":"IF(SCORECARD!$I546>0,\"W\",(IF(SCORECARD!$I546<0,\"L\",\"\")))","v":""},{"$f":"SCORECARD!F546","v":0},{"$f":"IF(SCORECARD!$I547>0,\"W\",(IF(SCORECARD!$I547<0,\"L\",\"\")))","v":""},{"$f":"SCORECARD!F547","v":0},{"$f":"IF(SCORECARD!$I548>0,\"W\",(IF(SCORECARD!$I548<0,\"L\",\"\")))","v":""},{"$f":"SCORECARD!F548","v":0},{"$f":"IF(SCORECARD!$I549>0,\"W\",(IF(SCORECARD!$I549<0,\"L\",\"\")))","v":""},{"$f":"SCORECARD!F549","v":0},{"$f":"IF(SCORECARD!$I550>0,\"W\",(IF(SCORECARD!$I550<0,\"L\",\"\")))","v":""},{"$f":"SCORECARD!F550","v":0},{"$f":"IF(SCORECARD!$I551>0,\"W\",(IF(SCORECARD!$I551<0,\"L\",\"\")))","v":""},{"$f":"SCORECARD!F551","v":" "},{"$f":"IF(SCORECARD!$I552>0,\"W\",(IF(SCORECARD!$I552<0,\"L\",\"\")))","v":""},{"$f":"SCORECARD!F552","v":" "},{"$f":"IF(SCORECARD!$I553>0,\"W\",(IF(SCORECARD!$I553<0,\"L\",\"\")))","v":""},{"$f":"SCORECARD!F553","v":" "}]
[null,null,null,{"$f":"IF(NOT(OR(D58=\"W\",D58=\"L\")),\"\",IF(HandicapPlay=\"x\",IF(D58=\"W\",10,-10),IF(D58=\"W\",(VLOOKUP($C58,(TABLE!WIN),(MATCH(E58,WINCOL,0)+1))),(VLOOKUP($C58,(TABLE!LOSE),(MATCH(E58,LOSECOL,0)+1))))))","v":""},null,{"$f":"IF(NOT(OR(F58=\"W\",F58=\"L\")),\"\",IF(HandicapPlay=\"x\",IF(F58=\"W\",10,-10),IF(F58=\"W\",(VLOOKUP($C58,(TABLE!WIN),(MATCH(G58,WINCOL,0)+1))),(VLOOKUP($C58,(TABLE!LOSE),(MATCH(G58,LOSECOL,0)+1))))))","v":""},null,{"$f":"IF(NOT(OR(H58=\"W\",H58=\"L\")),\"\",IF(HandicapPlay=\"x\",IF(H58=\"W\",10,-10),IF(H58=\"W\",(VLOOKUP($C58,(TABLE!WIN),(MATCH(I58,WINCOL,0)+1))),(VLOOKUP($C58,(TABLE!LOSE),(MATCH(I58,LOSECOL,0)+1))))))","v":""},null,{"$f":"IF(NOT(OR(J58=\"W\",J58=\"L\")),\"\",IF(HandicapPlay=\"x\",IF(J58=\"W\",10,-10),IF(J58=\"W\",(VLOOKUP($C58,(TABLE!WIN),(MATCH(K58,WINCOL,0)+1))),(VLOOKUP($C58,(TABLE!LOSE),(MATCH(K58,LOSECOL,0)+1))))))","v":""},null,{"$f":"IF(NOT(OR(L58=\"W\",L58=\"L\")),\"\",IF(HandicapPlay=\"x\",IF(L58=\"W\",10,-10),IF(L58=\"W\",(VLOOKUP($C58,(TABLE!WIN),(MATCH(M58,WINCOL,0)+1))),(VLOOKUP($C58,(TABLE!LOSE),(MATCH(M58,LOSECOL,0)+1))))))","v":""},null,{"$f":"IF(NOT(OR(N58=\"W\",N58=\"L\")),\"\",IF(HandicapPlay=\"x\",IF(N58=\"W\",10,-10),IF(N58=\"W\",(VLOOKUP($C58,(TABLE!WIN),(MATCH(O58,WINCOL,0)+1))),(VLOOKUP($C58,(TABLE!LOSE),(MATCH(O58,LOSECOL,0)+1))))))","v":""},null,{"$f":"IF(NOT(OR(P58=\"W\",P58=\"L\")),\"\",IF(HandicapPlay=\"x\",IF(P58=\"W\",10,-10),IF(P58=\"W\",(VLOOKUP($C58,(TABLE!WIN),(MATCH(Q58,WINCOL,0)+1))),(VLOOKUP($C58,(TABLE!LOSE),(MATCH(Q58,LOSECOL,0)+1))))))","v":""},null,{"$f":"IF(NOT(OR(R58=\"W\",R58=\"L\")),\"\",(IF(R58=\"W\",(VLOOKUP($C58,(TABLE!WIN),((S58+5)*2+2))),(VLOOKUP($C58,(TABLE!LOSE),((S58+5)*2+2))))))","v":""},null,{"$f":"IF(NOT(OR(T58=\"W\",T58=\"L\")),\"\",(IF(T58=\"W\",(VLOOKUP($C58,(TABLE!WIN),((U58+5)*2+2))),(VLOOKUP($C58,(TABLE!LOSE),((U58+5)*2+2))))))","v":""},null,{"$f":"IF(NOT(OR(V58=\"W\",V58=\"L\")),\"\",(IF(V58=\"W\",(VLOOKUP($C58,(TABLE!WIN),((W58+5)*2+2))),(VLOOKUP($C58,(TABLE!LOSE),((W58+5)*2+2))))))","v":""},null,{"$f":"SUM(D59:W59)","v":0}]
[null,{"$f":"SCORECARD!D564","v":" Block 4 Player 3"},{"$f":"SCORECARD!I564","v":0},{"$f":"IF(SCORECARD!$I567>0,\"W\",(IF(SCORECARD!$I567<0,\"L\",\"\")))","v":""},{"$f":"SCORECARD!F567","v":0},{"$f":"IF(SCORECARD!$I568>0,\"W\",(IF(SCORECARD!$I568<0,\"L\",\"\")))","v":""},{"$f":"SCORECARD!F568","v":0},{"$f":"IF(SCORECARD!$I569>0,\"W\",(IF(SCORECARD!$I569<0,\"L\",\"\")))","v":""},{"$f":"SCORECARD!F569","v":0},{"$f":"IF(SCORECARD!$I570>0,\"W\",(IF(SCORECARD!$I570<0,\"L\",\"\")))","v":""},{"$f":"SCORECARD!F570","v":0},{"$f":"IF(SCORECARD!$I571>0,\"W\",(IF(SCORECARD!$I571<0,\"L\",\"\")))","v":""},{"$f":"SCORECARD!F571","v":0},{"$f":"IF(SCORECARD!$I572>0,\"W\",(IF(SCORECARD!$I572<0,\"L\",\"\")))","v":""},{"$f":"SCORECARD!F572","v":0},{"$f":"IF(SCORECARD!$I573>0,\"W\",(IF(SCORECARD!$I573<0,\"L\",\"\")))","v":""},{"$f":"SCORECARD!F573","v":0},{"$f":"IF(SCORECARD!$I574>0,\"W\",(IF(SCORECARD!$I574<0,\"L\",\"\")))","v":""},{"$f":"SCORECARD!F574","v":" "},{"$f":"IF(SCORECARD!$I575>0,\"W\",(IF(SCORECARD!$I575<0,\"L\",\"\")))","v":""},{"$f":"SCORECARD!F575","v":" "},{"$f":"IF(SCORECARD!$I576>0,\"W\",(IF(SCORECARD!$I576<0,\"L\",\"\")))","v":""},{"$f":"SCORECARD!F576","v":" "}]
[null,null,null,{"$f":"IF(NOT(OR(D60=\"W\",D60=\"L\")),\"\",IF(HandicapPlay=\"x\",IF(D60=\"W\",10,-10),IF(D60=\"W\",(VLOOKUP($C60,(TABLE!WIN),(MATCH(E60,WINCOL,0)+1))),(VLOOKUP($C60,(TABLE!LOSE),(MATCH(E60,LOSECOL,0)+1))))))","v":""},null,{"$f":"IF(NOT(OR(F60=\"W\",F60=\"L\")),\"\",IF(HandicapPlay=\"x\",IF(F60=\"W\",10,-10),IF(F60=\"W\",(VLOOKUP($C60,(TABLE!WIN),(MATCH(G60,WINCOL,0)+1))),(VLOOKUP($C60,(TABLE!LOSE),(MATCH(G60,LOSECOL,0)+1))))))","v":""},null,{"$f":"IF(NOT(OR(H60=\"W\",H60=\"L\")),\"\",IF(HandicapPlay=\"x\",IF(H60=\"W\",10,-10),IF(H60=\"W\",(VLOOKUP($C60,(TABLE!WIN),(MATCH(I60,WINCOL,0)+1))),(VLOOKUP($C60,(TABLE!LOSE),(MATCH(I60,LOSECOL,0)+1))))))","v":""},null,{"$f":"IF(NOT(OR(J60=\"W\",J60=\"L\")),\"\",IF(HandicapPlay=\"x\",IF(J60=\"W\",10,-10),IF(J60=\"W\",(VLOOKUP($C60,(TABLE!WIN),(MATCH(K60,WINCOL,0)+1))),(VLOOKUP($C60,(TABLE!LOSE),(MATCH(K60,LOSECOL,0)+1))))))","v":""},null,{"$f":"IF(NOT(OR(L60=\"W\",L60=\"L\")),\"\",IF(HandicapPlay=\"x\",IF(L60=\"W\",10,-10),IF(L60=\"W\",(VLOOKUP($C60,(TABLE!WIN),(MATCH(M60,WINCOL,0)+1))),(VLOOKUP($C60,(TABLE!LOSE),(MATCH(M60,LOSECOL,0)+1))))))","v":""},null,{"$f":"IF(NOT(OR(N60=\"W\",N60=\"L\")),\"\",IF(HandicapPlay=\"x\",IF(N60=\"W\",10,-10),IF(N60=\"W\",(VLOOKUP($C60,(TABLE!WIN),(MATCH(O60,WINCOL,0)+1))),(VLOOKUP($C60,(TABLE!LOSE),(MATCH(O60,LOSECOL,0)+1))))))","v":""},null,{"$f":"IF(NOT(OR(P60=\"W\",P60=\"L\")),\"\",IF(HandicapPlay=\"x\",IF(P60=\"W\",10,-10),IF(P60=\"W\",(VLOOKUP($C60,(TABLE!WIN),(MATCH(Q60,WINCOL,0)+1))),(VLOOKUP($C60,(TABLE!LOSE),(MATCH(Q60,LOSECOL,0)+1))))))","v":""},null,{"$f":"IF(NOT(OR(R60=\"W\",R60=\"L\")),\"\",(IF(R60=\"W\",(VLOOKUP($C60,(TABLE!WIN),((S60+5)*2+2))),(VLOOKUP($C60,(TABLE!LOSE),((S60+5)*2+2))))))","v":""},null,{"$f":"IF(NOT(OR(T60=\"W\",T60=\"L\")),\"\",(IF(T60=\"W\",(VLOOKUP($C60,(TABLE!WIN),((U60+5)*2+2))),(VLOOKUP($C60,(TABLE!LOSE),((U60+5)*2+2))))))","v":""},null,{"$f":"IF(NOT(OR(V60=\"W\",V60=\"L\")),\"\",(IF(V60=\"W\",(VLOOKUP($C60,(TABLE!WIN),((W60+5)*2+2))),(VLOOKUP($C60,(TABLE!LOSE),((W60+5)*2+2))))))","v":""},null,{"$f":"SUM(D61:W61)","v":0}]
[null,{"$f":"SCORECARD!D584","v":" Block 4 Player 4"},{"$f":"SCORECARD!I584","v":0},{"$f":"IF(SCORECARD!$I587>0,\"W\",(IF(SCORECARD!$I587<0,\"L\",\"\")))","v":""},{"$f":"SCORECARD!$F587","v":0},{"$f":"IF(SCORECARD!$I588>0,\"W\",(IF(SCORECARD!$I588<0,\"L\",\"\")))","v":""},{"$f":"SCORECARD!F588","v":0},{"$f":"IF(SCORECARD!$I589>0,\"W\",(IF(SCORECARD!$I589<0,\"L\",\"\")))","v":""},{"$f":"SCORECARD!F589","v":0},{"$f":"IF(SCORECARD!$I590>0,\"W\",(IF(SCORECARD!$I590<0,\"L\",\"\")))","v":""},{"$f":"SCORECARD!F590","v":0},{"$f":"IF(SCORECARD!$I591>0,\"W\",(IF(SCORECARD!$I591<0,\"L\",\"\")))","v":""},{"$f":"SCORECARD!F591","v":0},{"$f":"IF(SCORECARD!$I592>0,\"W\",(IF(SCORECARD!$I592<0,\"L\",\"\")))","v":""},{"$f":"SCORECARD!F592","v":0},{"$f":"IF(SCORECARD!$I593>0,\"W\",(IF(SCORECARD!$I593<0,\"L\",\"\")))","v":""},{"$f":"SCORECARD!F593","v":0},{"$f":"IF(SCORECARD!$I594>0,\"W\",(IF(SCORECARD!$I594<0,\"L\",\"\")))","v":""},{"$f":"SCORECARD!F594","v":" "},{"$f":"IF(SCORECARD!$I595>0,\"W\",(IF(SCORECARD!$I595<0,\"L\",\"\")))","v":""},{"$f":"SCORECARD!F595","v":" "},{"$f":"IF(SCORECARD!$I596>0,\"W\",(IF(SCORECARD!$I596<0,\"L\",\"\")))","v":""},{"$f":"SCORECARD!F596","v":" "}]
[null,null,null,{"$f":"IF(NOT(OR(D62=\"W\",D62=\"L\")),\"\",IF(HandicapPlay=\"x\",IF(D62=\"W\",10,-10),IF(D62=\"W\",(VLOOKUP($C62,(TABLE!WIN),(MATCH(E62,WINCOL,0)+1))),(VLOOKUP($C62,(TABLE!LOSE),(MATCH(E62,LOSECOL,0)+1))))))","v":""},null,{"$f":"IF(NOT(OR(F62=\"W\",F62=\"L\")),\"\",IF(HandicapPlay=\"x\",IF(F62=\"W\",10,-10),IF(F62=\"W\",(VLOOKUP($C62,(TABLE!WIN),(MATCH(G62,WINCOL,0)+1))),(VLOOKUP($C62,(TABLE!LOSE),(MATCH(G62,LOSECOL,0)+1))))))","v":""},null,{"$f":"IF(NOT(OR(H62=\"W\",H62=\"L\")),\"\",IF(HandicapPlay=\"x\",IF(H62=\"W\",10,-10),IF(H62=\"W\",(VLOOKUP($C62,(TABLE!WIN),(MATCH(I62,WINCOL,0)+1))),(VLOOKUP($C62,(TABLE!LOSE),(MATCH(I62,LOSECOL,0)+1))))))","v":""},null,{"$f":"IF(NOT(OR(J62=\"W\",J62=\"L\")),\"\",IF(HandicapPlay=\"x\",IF(J62=\"W\",10,-10),IF(J62=\"W\",(VLOOKUP($C62,(TABLE!WIN),(MATCH(K62,WINCOL,0)+1))),(VLOOKUP($C62,(TABLE!LOSE),(MATCH(K62,LOSECOL,0)+1))))))","v":""},null,{"$f":"IF(NOT(OR(L62=\"W\",L62=\"L\")),\"\",IF(HandicapPlay=\"x\",IF(L62=\"W\",10,-10),IF(L62=\"W\",(VLOOKUP($C62,(TABLE!WIN),(MATCH(M62,WINCOL,0)+1))),(VLOOKUP($C62,(TABLE!LOSE),(MATCH(M62,LOSECOL,0)+1))))))","v":""},null,{"$f":"IF(NOT(OR(N62=\"W\",N62=\"L\")),\"\",IF(HandicapPlay=\"x\",IF(N62=\"W\",10,-10),IF(N62=\"W\",(VLOOKUP($C62,(TABLE!WIN),(MATCH(O62,WINCOL,0)+1))),(VLOOKUP($C62,(TABLE!LOSE),(MATCH(O62,LOSECOL,0)+1))))))","v":""},null,{"$f":"IF(NOT(OR(P62=\"W\",P62=\"L\")),\"\",IF(HandicapPlay=\"x\",IF(P62=\"W\",10,-10),IF(P62=\"W\",(VLOOKUP($C62,(TABLE!WIN),(MATCH(Q62,WINCOL,0)+1))),(VLOOKUP($C62,(TABLE!LOSE),(MATCH(Q62,LOSECOL,0)+1))))))","v":""},null,{"$f":"IF(NOT(OR(R62=\"W\",R62=\"L\")),\"\",(IF(R62=\"W\",(VLOOKUP($C62,(TABLE!WIN),((S62+5)*2+2))),(VLOOKUP($C62,(TABLE!LOSE),((S62+5)*2+2))))))","v":""},null,{"$f":"IF(NOT(OR(T62=\"W\",T62=\"L\")),\"\",(IF(T62=\"W\",(VLOOKUP($C62,(TABLE!WIN),((U62+5)*2+2))),(VLOOKUP($C62,(TABLE!LOSE),((U62+5)*2+2))))))","v":""},null,{"$f":"IF(NOT(OR(V62=\"W\",V62=\"L\")),\"\",(IF(V62=\"W\",(VLOOKUP($C62,(TABLE!WIN),((W62+5)*2+2))),(VLOOKUP($C62,(TABLE!LOSE),((W62+5)*2+2))))))","v":""},null,{"$f":"SUM(D63:W63)","v":0}]
[null,{"$f":"SCORECARD!D607","v":" Block 4 Player 5"},{"$f":"SCORECARD!I607","v":0},{"$f":"IF(SCORECARD!$I610>0,\"W\",(IF(SCORECARD!$I610<0,\"L\",\"\")))","v":""},{"$f":"SCORECARD!F610","v":0},{"$f":"IF(SCORECARD!$I611>0,\"W\",(IF(SCORECARD!$I611<0,\"L\",\"\")))","v":""},{"$f":"SCORECARD!F611","v":0},{"$f":"IF(SCORECARD!$I612>0,\"W\",(IF(SCORECARD!$I612<0,\"L\",\"\")))","v":""},{"$f":"SCORECARD!F612","v":0},{"$f":"IF(SCORECARD!$I613>0,\"W\",(IF(SCORECARD!$I613<0,\"L\",\"\")))","v":""},{"$f":"SCORECARD!F613","v":0},{"$f":"IF(SCORECARD!$I614>0,\"W\",(IF(SCORECARD!$I614<0,\"L\",\"\")))","v":""},{"$f":"SCORECARD!F614","v":0},{"$f":"IF(SCORECARD!$I615>0,\"W\",(IF(SCORECARD!$I615<0,\"L\",\"\")))","v":""},{"$f":"SCORECARD!F615","v":0},{"$f":"IF(SCORECARD!$I616>0,\"W\",(IF(SCORECARD!$I616<0,\"L\",\"\")))","v":""},{"$f":"SCORECARD!F616","v":0},{"$f":"IF(SCORECARD!$I617>0,\"W\",(IF(SCORECARD!$I617<0,\"L\",\"\")))","v":""},{"$f":"SCORECARD!F617","v":" "},{"$f":"IF(SCORECARD!$I618>0,\"W\",(IF(SCORECARD!$I618<0,\"L\",\"\")))","v":""},{"$f":"SCORECARD!F618","v":" "},{"$f":"IF(SCORECARD!$I619>0,\"W\",(IF(SCORECARD!$I619<0,\"L\",\"\")))","v":""},{"$f":"SCORECARD!F619","v":" "}]
[null,null,null,{"$f":"IF(NOT(OR(D64=\"W\",D64=\"L\")),\"\",IF(HandicapPlay=\"x\",IF(D64=\"W\",10,-10),IF(D64=\"W\",(VLOOKUP($C64,(TABLE!WIN),(MATCH(E64,WINCOL,0)+1))),(VLOOKUP($C64,(TABLE!LOSE),(MATCH(E64,LOSECOL,0)+1))))))","v":""},null,{"$f":"IF(NOT(OR(F64=\"W\",F64=\"L\")),\"\",IF(HandicapPlay=\"x\",IF(F64=\"W\",10,-10),IF(F64=\"W\",(VLOOKUP($C64,(TABLE!WIN),(MATCH(G64,WINCOL,0)+1))),(VLOOKUP($C64,(TABLE!LOSE),(MATCH(G64,LOSECOL,0)+1))))))","v":""},null,{"$f":"IF(NOT(OR(H64=\"W\",H64=\"L\")),\"\",IF(HandicapPlay=\"x\",IF(H64=\"W\",10,-10),IF(H64=\"W\",(VLOOKUP($C64,(TABLE!WIN),(MATCH(I64,WINCOL,0)+1))),(VLOOKUP($C64,(TABLE!LOSE),(MATCH(I64,LOSECOL,0)+1))))))","v":""},null,{"$f":"IF(NOT(OR(J64=\"W\",J64=\"L\")),\"\",IF(HandicapPlay=\"x\",IF(J64=\"W\",10,-10),IF(J64=\"W\",(VLOOKUP($C64,(TABLE!WIN),(MATCH(K64,WINCOL,0)+1))),(VLOOKUP($C64,(TABLE!LOSE),(MATCH(K64,LOSECOL,0)+1))))))","v":""},null,{"$f":"IF(NOT(OR(L64=\"W\",L64=\"L\")),\"\",IF(HandicapPlay=\"x\",IF(L64=\"W\",10,-10),IF(L64=\"W\",(VLOOKUP($C64,(TABLE!WIN),(MATCH(M64,WINCOL,0)+1))),(VLOOKUP($C64,(TABLE!LOSE),(MATCH(M64,LOSECOL,0)+1))))))","v":""},null,{"$f":"IF(NOT(OR(N64=\"W\",N64=\"L\")),\"\",IF(HandicapPlay=\"x\",IF(N64=\"W\",10,-10),IF(N64=\"W\",(VLOOKUP($C64,(TABLE!WIN),(MATCH(O64,WINCOL,0)+1))),(VLOOKUP($C64,(TABLE!LOSE),(MATCH(O64,LOSECOL,0)+1))))))","v":""},null,{"$f":"IF(NOT(OR(P64=\"W\",P64=\"L\")),\"\",IF(HandicapPlay=\"x\",IF(P64=\"W\",10,-10),IF(P64=\"W\",(VLOOKUP($C64,(TABLE!WIN),(MATCH(Q64,WINCOL,0)+1))),(VLOOKUP($C64,(TABLE!LOSE),(MATCH(Q64,LOSECOL,0)+1))))))","v":""},null,{"$f":"IF(NOT(OR(R64=\"W\",R64=\"L\")),\"\",(IF(R64=\"W\",(VLOOKUP($C64,(TABLE!WIN),((S64+5)*2+2))),(VLOOKUP($C64,(TABLE!LOSE),((S64+5)*2+2))))))","v":""},null,{"$f":"IF(NOT(OR(T64=\"W\",T64=\"L\")),\"\",(IF(T64=\"W\",(VLOOKUP($C64,(TABLE!WIN),((U64+5)*2+2))),(VLOOKUP($C64,(TABLE!LOSE),((U64+5)*2+2))))))","v":""},null,{"$f":"IF(NOT(OR(V64=\"W\",V64=\"L\")),\"\",(IF(V64=\"W\",(VLOOKUP($C64,(TABLE!WIN),((W64+5)*2+2))),(VLOOKUP($C64,(TABLE!LOSE),((W64+5)*2+2))))))","v":""},null,{"$f":"SUM(D65:W65)","v":0}]
[null,{"$f":"SCORECARD!D627","v":" Block 4 Player 6"},{"$f":"SCORECARD!I627","v":0},{"$f":"IF(SCORECARD!$I630>0,\"W\",(IF(SCORECARD!$I630<0,\"L\",\"\")))","v":""},{"$f":"SCORECARD!F630","v":0},{"$f":"IF(SCORECARD!$I631>0,\"W\",(IF(SCORECARD!$I631<0,\"L\",\"\")))","v":""},{"$f":"SCORECARD!F631","v":0},{"$f":"IF(SCORECARD!$I632>0,\"W\",(IF(SCORECARD!$I632<0,\"L\",\"\")))","v":""},{"$f":"SCORECARD!F632","v":0},{"$f":"IF(SCORECARD!$I633>0,\"W\",(IF(SCORECARD!$I633<0,\"L\",\"\")))","v":""},{"$f":"SCORECARD!F633","v":0},{"$f":"IF(SCORECARD!$I634>0,\"W\",(IF(SCORECARD!$I634<0,\"L\",\"\")))","v":""},{"$f":"SCORECARD!F634","v":0},{"$f":"IF(SCORECARD!$I635>0,\"W\",(IF(SCORECARD!$I635<0,\"L\",\"\")))","v":""},{"$f":"SCORECARD!F635","v":0},{"$f":"IF(SCORECARD!$I636>0,\"W\",(IF(SCORECARD!$I636<0,\"L\",\"\")))","v":""},{"$f":"SCORECARD!F636","v":0},{"$f":"IF(SCORECARD!$I637>0,\"W\",(IF(SCORECARD!$I637<0,\"L\",\"\")))","v":""},{"$f":"SCORECARD!F637","v":" "},{"$f":"IF(SCORECARD!$I638>0,\"W\",(IF(SCORECARD!$I638<0,\"L\",\"\")))","v":""},{"$f":"SCORECARD!F638","v":" "},{"$f":"IF(SCORECARD!$I639>0,\"W\",(IF(SCORECARD!$I639<0,\"L\",\"\")))","v":""},{"$f":"SCORECARD!F639","v":" "}]
[null,null,null,{"$f":"IF(NOT(OR(D66=\"W\",D66=\"L\")),\"\",IF(HandicapPlay=\"x\",IF(D66=\"W\",10,-10),IF(D66=\"W\",(VLOOKUP($C66,(TABLE!WIN),(MATCH(E66,WINCOL,0)+1))),(VLOOKUP($C66,(TABLE!LOSE),(MATCH(E66,LOSECOL,0)+1))))))","v":""},null,{"$f":"IF(NOT(OR(F66=\"W\",F66=\"L\")),\"\",IF(HandicapPlay=\"x\",IF(F66=\"W\",10,-10),IF(F66=\"W\",(VLOOKUP($C66,(TABLE!WIN),(MATCH(G66,WINCOL,0)+1))),(VLOOKUP($C66,(TABLE!LOSE),(MATCH(G66,LOSECOL,0)+1))))))","v":""},null,{"$f":"IF(NOT(OR(H66=\"W\",H66=\"L\")),\"\",IF(HandicapPlay=\"x\",IF(H66=\"W\",10,-10),IF(H66=\"W\",(VLOOKUP($C66,(TABLE!WIN),(MATCH(I66,WINCOL,0)+1))),(VLOOKUP($C66,(TABLE!LOSE),(MATCH(I66,LOSECOL,0)+1))))))","v":""},null,{"$f":"IF(NOT(OR(J66=\"W\",J66=\"L\")),\"\",IF(HandicapPlay=\"x\",IF(J66=\"W\",10,-10),IF(J66=\"W\",(VLOOKUP($C66,(TABLE!WIN),(MATCH(K66,WINCOL,0)+1))),(VLOOKUP($C66,(TABLE!LOSE),(MATCH(K66,LOSECOL,0)+1))))))","v":""},null,{"$f":"IF(NOT(OR(L66=\"W\",L66=\"L\")),\"\",IF(HandicapPlay=\"x\",IF(L66=\"W\",10,-10),IF(L66=\"W\",(VLOOKUP($C66,(TABLE!WIN),(MATCH(M66,WINCOL,0)+1))),(VLOOKUP($C66,(TABLE!LOSE),(MATCH(M66,LOSECOL,0)+1))))))","v":""},null,{"$f":"IF(NOT(OR(N66=\"W\",N66=\"L\")),\"\",IF(HandicapPlay=\"x\",IF(N66=\"W\",10,-10),IF(N66=\"W\",(VLOOKUP($C66,(TABLE!WIN),(MATCH(O66,WINCOL,0)+1))),(VLOOKUP($C66,(TABLE!LOSE),(MATCH(O66,LOSECOL,0)+1))))))","v":""},null,{"$f":"IF(NOT(OR(P66=\"W\",P66=\"L\")),\"\",IF(HandicapPlay=\"x\",IF(P66=\"W\",10,-10),IF(P66=\"W\",(VLOOKUP($C66,(TABLE!WIN),(MATCH(Q66,WINCOL,0)+1))),(VLOOKUP($C66,(TABLE!LOSE),(MATCH(Q66,LOSECOL,0)+1))))))","v":""},null,{"$f":"IF(NOT(OR(R66=\"W\",R66=\"L\")),\"\",(IF(R66=\"W\",(VLOOKUP($C66,(TABLE!WIN),((S66+5)*2+2))),(VLOOKUP($C66,(TABLE!LOSE),((S66+5)*2+2))))))","v":""},null,{"$f":"IF(NOT(OR(T66=\"W\",T66=\"L\")),\"\",(IF(T66=\"W\",(VLOOKUP($C66,(TABLE!WIN),((U66+5)*2+2))),(VLOOKUP($C66,(TABLE!LOSE),((U66+5)*2+2))))))","v":""},null,{"$f":"IF(NOT(OR(V66=\"W\",V66=\"L\")),\"\",(IF(V66=\"W\",(VLOOKUP($C66,(TABLE!WIN),((W66+5)*2+2))),(VLOOKUP($C66,(TABLE!LOSE),((W66+5)*2+2))))))","v":""},null,{"$f":"SUM(D67:W67)","v":0}]
[null,{"$f":"SCORECARD!D650","v":" Block 4 Player 7"},{"$f":"SCORECARD!I650","v":0},{"$f":"IF(SCORECARD!$I653>0,\"W\",(IF(SCORECARD!$I653<0,\"L\",\"\")))","v":""},{"$f":"SCORECARD!F653","v":0},{"$f":"IF(SCORECARD!$I654>0,\"W\",(IF(SCORECARD!$I654<0,\"L\",\"\")))","v":""},{"$f":"SCORECARD!F654","v":0},{"$f":"IF(SCORECARD!$I655>0,\"W\",(IF(SCORECARD!$I655<0,\"L\",\"\")))","v":""},{"$f":"SCORECARD!F655","v":0},{"$f":"IF(SCORECARD!$I656>0,\"W\",(IF(SCORECARD!$I656<0,\"L\",\"\")))","v":""},{"$f":"SCORECARD!F656","v":0},{"$f":"IF(SCORECARD!$I657>0,\"W\",(IF(SCORECARD!$I657<0,\"L\",\"\")))","v":""},{"$f":"SCORECARD!F657","v":0},{"$f":"IF(SCORECARD!$I658>0,\"W\",(IF(SCORECARD!$I658<0,\"L\",\"\")))","v":""},{"$f":"SCORECARD!F658","v":0},{"$f":"IF(SCORECARD!$I659>0,\"W\",(IF(SCORECARD!$I659<0,\"L\",\"\")))","v":""},{"$f":"SCORECARD!F659","v":0},{"$f":"IF(SCORECARD!$I660>0,\"W\",(IF(SCORECARD!$I660<0,\"L\",\"\")))","v":""},{"$f":"SCORECARD!F660","v":" "},{"$f":"IF(SCORECARD!$I661>0,\"W\",(IF(SCORECARD!$I661<0,\"L\",\"\")))","v":""},{"$f":"SCORECARD!F661","v":" "},{"$f":"IF(SCORECARD!$I662>0,\"W\",(IF(SCORECARD!$I662<0,\"L\",\"\")))","v":""},{"$f":"SCORECARD!F662","v":" "}]
[null,null,null,{"$f":"IF(NOT(OR(D68=\"W\",D68=\"L\")),\"\",IF(HandicapPlay=\"x\",IF(D68=\"W\",10,-10),IF(D68=\"W\",(VLOOKUP($C68,(TABLE!WIN),(MATCH(E68,WINCOL,0)+1))),(VLOOKUP($C68,(TABLE!LOSE),(MATCH(E68,LOSECOL,0)+1))))))","v":""},null,{"$f":"IF(NOT(OR(F68=\"W\",F68=\"L\")),\"\",IF(HandicapPlay=\"x\",IF(F68=\"W\",10,-10),IF(F68=\"W\",(VLOOKUP($C68,(TABLE!WIN),(MATCH(G68,WINCOL,0)+1))),(VLOOKUP($C68,(TABLE!LOSE),(MATCH(G68,LOSECOL,0)+1))))))","v":""},null,{"$f":"IF(NOT(OR(H68=\"W\",H68=\"L\")),\"\",IF(HandicapPlay=\"x\",IF(H68=\"W\",10,-10),IF(H68=\"W\",(VLOOKUP($C68,(TABLE!WIN),(MATCH(I68,WINCOL,0)+1))),(VLOOKUP($C68,(TABLE!LOSE),(MATCH(I68,LOSECOL,0)+1))))))","v":""},null,{"$f":"IF(NOT(OR(J68=\"W\",J68=\"L\")),\"\",IF(HandicapPlay=\"x\",IF(J68=\"W\",10,-10),IF(J68=\"W\",(VLOOKUP($C68,(TABLE!WIN),(MATCH(K68,WINCOL,0)+1))),(VLOOKUP($C68,(TABLE!LOSE),(MATCH(K68,LOSECOL,0)+1))))))","v":""},null,{"$f":"IF(NOT(OR(L68=\"W\",L68=\"L\")),\"\",IF(HandicapPlay=\"x\",IF(L68=\"W\",10,-10),IF(L68=\"W\",(VLOOKUP($C68,(TABLE!WIN),(MATCH(M68,WINCOL,0)+1))),(VLOOKUP($C68,(TABLE!LOSE),(MATCH(M68,LOSECOL,0)+1))))))","v":""},null,{"$f":"IF(NOT(OR(N68=\"W\",N68=\"L\")),\"\",IF(HandicapPlay=\"x\",IF(N68=\"W\",10,-10),IF(N68=\"W\",(VLOOKUP($C68,(TABLE!WIN),(MATCH(O68,WINCOL,0)+1))),(VLOOKUP($C68,(TABLE!LOSE),(MATCH(O68,LOSECOL,0)+1))))))","v":""},null,{"$f":"IF(NOT(OR(P68=\"W\",P68=\"L\")),\"\",IF(HandicapPlay=\"x\",IF(P68=\"W\",10,-10),IF(P68=\"W\",(VLOOKUP($C68,(TABLE!WIN),(MATCH(Q68,WINCOL,0)+1))),(VLOOKUP($C68,(TABLE!LOSE),(MATCH(Q68,LOSECOL,0)+1))))))","v":""},null,{"$f":"IF(NOT(OR(R68=\"W\",R68=\"L\")),\"\",(IF(R68=\"W\",(VLOOKUP($C68,(TABLE!WIN),((S68+5)*2+2))),(VLOOKUP($C68,(TABLE!LOSE),((S68+5)*2+2))))))","v":""},null,{"$f":"IF(NOT(OR(T68=\"W\",T68=\"L\")),\"\",(IF(T68=\"W\",(VLOOKUP($C68,(TABLE!WIN),((U68+5)*2+2))),(VLOOKUP($C68,(TABLE!LOSE),((U68+5)*2+2))))))","v":""},null,{"$f":"IF(NOT(OR(V68=\"W\",V68=\"L\")),\"\",(IF(V68=\"W\",(VLOOKUP($C68,(TABLE!WIN),((W68+5)*2+2))),(VLOOKUP($C68,(TABLE!LOSE),((W68+5)*2+2))))))","v":""},null,{"$f":"SUM(D69:W69)","v":0}]
[null,{"$f":"SCORECARD!D670","v":" Bye "},{"$f":"SCORECARD!I670","v":0},{"$f":"IF(SCORECARD!$I673>0,\"W\",(IF(SCORECARD!$I673<0,\"L\",\"\")))","v":""},{"$f":"SCORECARD!$F673","v":0},{"$f":"IF(SCORECARD!$I674>0,\"W\",(IF(SCORECARD!$I674<0,\"L\",\"\")))","v":""},{"$f":"SCORECARD!$F674","v":0},{"$f":"IF(SCORECARD!$I675>0,\"W\",(IF(SCORECARD!$I675<0,\"L\",\"\")))","v":""},{"$f":"SCORECARD!$F675","v":0},{"$f":"IF(SCORECARD!$I676>0,\"W\",(IF(SCORECARD!$I676<0,\"L\",\"\")))","v":""},{"$f":"SCORECARD!$F676","v":0},{"$f":"IF(SCORECARD!$I677>0,\"W\",(IF(SCORECARD!$I677<0,\"L\",\"\")))","v":""},{"$f":"SCORECARD!$F677","v":0},{"$f":"IF(SCORECARD!$I678>0,\"W\",(IF(SCORECARD!$I678<0,\"L\",\"\")))","v":""},{"$f":"SCORECARD!$F678","v":0},{"$f":"IF(SCORECARD!$I679>0,\"W\",(IF(SCORECARD!$I679<0,\"L\",\"\")))","v":""},{"$f":"SCORECARD!$F679","v":0},{"$f":"IF(SCORECARD!$I680>0,\"W\",(IF(SCORECARD!$I680<0,\"L\",\"\")))","v":""},{"$f":"SCORECARD!$F680","v":" "},{"$f":"IF(SCORECARD!$I681>0,\"W\",(IF(SCORECARD!$I681<0,\"L\",\"\")))","v":""},{"$f":"SCORECARD!$F681","v":" "},{"$f":"IF(SCORECARD!$I682>0,\"W\",(IF(SCORECARD!$I682<0,\"L\",\"\")))","v":""},{"$f":"SCORECARD!$F682","v":" "}]
[null,null,null,{"$f":"IF(NOT(OR(D70=\"W\",D70=\"L\")),\"\",IF(HandicapPlay=\"x\",IF(D70=\"W\",10,-10),IF(D70=\"W\",(VLOOKUP($C70,(TABLE!WIN),(MATCH(E70,WINCOL,0)+1))),(VLOOKUP($C70,(TABLE!LOSE),(MATCH(E70,LOSECOL,0)+1))))))","v":""},null,{"$f":"IF(NOT(OR(F70=\"W\",F70=\"L\")),\"\",IF(HandicapPlay=\"x\",IF(F70=\"W\",10,-10),IF(F70=\"W\",(VLOOKUP($C70,(TABLE!WIN),(MATCH(G70,WINCOL,0)+1))),(VLOOKUP($C70,(TABLE!LOSE),(MATCH(G70,LOSECOL,0)+1))))))","v":""},null,{"$f":"IF(NOT(OR(H70=\"W\",H70=\"L\")),\"\",IF(HandicapPlay=\"x\",IF(H70=\"W\",10,-10),IF(H70=\"W\",(VLOOKUP($C70,(TABLE!WIN),(MATCH(I70,WINCOL,0)+1))),(VLOOKUP($C70,(TABLE!LOSE),(MATCH(I70,LOSECOL,0)+1))))))","v":""},null,{"$f":"IF(NOT(OR(J70=\"W\",J70=\"L\")),\"\",IF(HandicapPlay=\"x\",IF(J70=\"W\",10,-10),IF(J70=\"W\",(VLOOKUP($C70,(TABLE!WIN),(MATCH(K70,WINCOL,0)+1))),(VLOOKUP($C70,(TABLE!LOSE),(MATCH(K70,LOSECOL,0)+1))))))","v":""},null,{"$f":"IF(NOT(OR(L70=\"W\",L70=\"L\")),\"\",IF(HandicapPlay=\"x\",IF(L70=\"W\",10,-10),IF(L70=\"W\",(VLOOKUP($C70,(TABLE!WIN),(MATCH(M70,WINCOL,0)+1))),(VLOOKUP($C70,(TABLE!LOSE),(MATCH(M70,LOSECOL,0)+1))))))","v":""},null,{"$f":"IF(NOT(OR(N70=\"W\",N70=\"L\")),\"\",IF(HandicapPlay=\"x\",IF(N70=\"W\",10,-10),IF(N70=\"W\",(VLOOKUP($C70,(TABLE!WIN),(MATCH(O70,WINCOL,0)+1))),(VLOOKUP($C70,(TABLE!LOSE),(MATCH(O70,LOSECOL,0)+1))))))","v":""},null,{"$f":"IF(NOT(OR(P70=\"W\",P70=\"L\")),\"\",IF(HandicapPlay=\"x\",IF(P70=\"W\",10,-10),IF(P70=\"W\",(VLOOKUP($C70,(TABLE!WIN),(MATCH(Q70,WINCOL,0)+1))),(VLOOKUP($C70,(TABLE!LOSE),(MATCH(Q70,LOSECOL,0)+1))))))","v":""},null,{"$f":"IF(NOT(OR(R70=\"W\",R70=\"L\")),\"\",(IF(R70=\"W\",(VLOOKUP($C70,(TABLE!WIN),((S70+5)*2+2))),(VLOOKUP($C70,(TABLE!LOSE),((S70+5)*2+2))))))","v":""},null,{"$f":"IF(NOT(OR(T70=\"W\",T70=\"L\")),\"\",(IF(T70=\"W\",(VLOOKUP($C70,(TABLE!WIN),((U70+5)*2+2))),(VLOOKUP($C70,(TABLE!LOSE),((U70+5)*2+2))))))","v":""},null,{"$f":"IF(NOT(OR(V70=\"W\",V70=\"L\")),\"\",(IF(V70=\"W\",(VLOOKUP($C70,(TABLE!WIN),((W70+5)*2+2))),(VLOOKUP($C70,(TABLE!LOSE),((W70+5)*2+2))))))","v":""},null,{"$f":"SUM(D71:W71)","v":0}]
[null,null,null,null,null,null,null,null,null,{"$f":"J37","v":"Tournament"}]
[null,null,null,null,null,null,null,null,null,null,{"$f":"K38","v":"Singles"}]
[null,"PLAYERS NAME","H/CAP","WIN / LOSS RECORD",null,null,null,null,null,null,null,null,null,null,null,null,null,null,null,null,null,null,null,"PNTS"]
[null,{"$f":"SCORECARD!D693","v":" Block 5 Player 1"},{"$f":"SCORECARD!I693","v":0},{"$f":"IF(SCORECARD!$I696>0,\"W\",(IF(SCORECARD!$I696<0,\"L\",\"\")))","v":""},{"$f":"SCORECARD!F696","v":0},{"$f":"IF(SCORECARD!$I697>0,\"W\",(IF(SCORECARD!$I697<0,\"L\",\"\")))","v":""},{"$f":"SCORECARD!F697","v":0},{"$f":"IF(SCORECARD!$I698>0,\"W\",(IF(SCORECARD!$I698<0,\"L\",\"\")))","v":""},{"$f":"SCORECARD!F698","v":0},{"$f":"IF(SCORECARD!$I699>0,\"W\",(IF(SCORECARD!$I699<0,\"L\",\"\")))","v":""},{"$f":"SCORECARD!F699","v":0},{"$f":"IF(SCORECARD!$I700>0,\"W\",(IF(SCORECARD!$I700<0,\"L\",\"\")))","v":""},{"$f":"SCORECARD!F700","v":0},{"$f":"IF(SCORECARD!$I701>0,\"W\",(IF(SCORECARD!$I701<0,\"L\",\"\")))","v":""},{"$f":"SCORECARD!F701","v":0},{"$f":"IF(SCORECARD!$I702>0,\"W\",(IF(SCORECARD!$I702<0,\"L\",\"\")))","v":""},{"$f":"SCORECARD!F702","v":0},{"$f":"IF(SCORECARD!$I703>0,\"W\",(IF(SCORECARD!$I703<0,\"L\",\"\")))","v":""},{"$f":"SCORECARD!F703","v":" "},{"$f":"IF(SCORECARD!$I704>0,\"W\",(IF(SCORECARD!$I704<0,\"L\",\"\")))","v":""},{"$f":"SCORECARD!F704","v":" "},{"$f":"IF(SCORECARD!$I705>0,\"W\",(IF(SCORECARD!$I705<0,\"L\",\"\")))","v":""},{"$f":"SCORECARD!F705","v":" "}]
[null,null,null,{"$f":"IF(NOT(OR(D75=\"W\",D75=\"L\")),\"\",IF(HandicapPlay=\"x\",IF(D75=\"W\",10,-10),IF(D75=\"W\",(VLOOKUP($C75,(TABLE!WIN),(MATCH(E75,WINCOL,0)+1))),(VLOOKUP($C75,(TABLE!LOSE),(MATCH(E75,LOSECOL,0)+1))))))","v":""},null,{"$f":"IF(NOT(OR(F75=\"W\",F75=\"L\")),\"\",IF(HandicapPlay=\"x\",IF(F75=\"W\",10,-10),IF(F75=\"W\",(VLOOKUP($C75,(TABLE!WIN),(MATCH(G75,WINCOL,0)+1))),(VLOOKUP($C75,(TABLE!LOSE),(MATCH(G75,LOSECOL,0)+1))))))","v":""},null,{"$f":"IF(NOT(OR(H75=\"W\",H75=\"L\")),\"\",IF(HandicapPlay=\"x\",IF(H75=\"W\",10,-10),IF(H75=\"W\",(VLOOKUP($C75,(TABLE!WIN),(MATCH(I75,WINCOL,0)+1))),(VLOOKUP($C75,(TABLE!LOSE),(MATCH(I75,LOSECOL,0)+1))))))","v":""},null,{"$f":"IF(NOT(OR(J75=\"W\",J75=\"L\")),\"\",IF(HandicapPlay=\"x\",IF(J75=\"W\",10,-10),IF(J75=\"W\",(VLOOKUP($C75,(TABLE!WIN),(MATCH(K75,WINCOL,0)+1))),(VLOOKUP($C75,(TABLE!LOSE),(MATCH(K75,LOSECOL,0)+1))))))","v":""},null,{"$f":"IF(NOT(OR(L75=\"W\",L75=\"L\")),\"\",IF(HandicapPlay=\"x\",IF(L75=\"W\",10,-10),IF(L75=\"W\",(VLOOKUP($C75,(TABLE!WIN),(MATCH(M75,WINCOL,0)+1))),(VLOOKUP($C75,(TABLE!LOSE),(MATCH(M75,LOSECOL,0)+1))))))","v":""},null,{"$f":"IF(NOT(OR(N75=\"W\",N75=\"L\")),\"\",IF(HandicapPlay=\"x\",IF(N75=\"W\",10,-10),IF(N75=\"W\",(VLOOKUP($C75,(TABLE!WIN),(MATCH(O75,WINCOL,0)+1))),(VLOOKUP($C75,(TABLE!LOSE),(MATCH(O75,LOSECOL,0)+1))))))","v":""},null,{"$f":"IF(NOT(OR(P75=\"W\",P75=\"L\")),\"\",IF(HandicapPlay=\"x\",IF(P75=\"W\",10,-10),IF(P75=\"W\",(VLOOKUP($C75,(TABLE!WIN),(MATCH(Q75,WINCOL,0)+1))),(VLOOKUP($C75,(TABLE!LOSE),(MATCH(Q75,LOSECOL,0)+1))))))","v":""},null,{"$f":"IF(NOT(OR(R75=\"W\",R75=\"L\")),\"\",(IF(R75=\"W\",(VLOOKUP($C75,(TABLE!WIN),((S75+5)*2+2))),(VLOOKUP($C75,(TABLE!LOSE),((S75+5)*2+2))))))","v":""},null,{"$f":"IF(NOT(OR(T75=\"W\",T75=\"L\")),\"\",(IF(T75=\"W\",(VLOOKUP($C75,(TABLE!WIN),((U75+5)*2+2))),(VLOOKUP($C75,(TABLE!LOSE),((U75+5)*2+2))))))","v":""},null,{"$f":"IF(NOT(OR(V75=\"W\",V75=\"L\")),\"\",(IF(V75=\"W\",(VLOOKUP($C75,(TABLE!WIN),((W75+5)*2+2))),(VLOOKUP($C75,(TABLE!LOSE),((W75+5)*2+2))))))","v":""},null,{"$f":"SUM(D76:W76)","v":0}]
[null,{"$f":"SCORECARD!D713","v":" Block 5 Player 2"},{"$f":"SCORECARD!I713","v":0},{"$f":"IF(SCORECARD!$I716>0,\"W\",(IF(SCORECARD!$I716<0,\"L\",\"\")))","v":""},{"$f":"SCORECARD!F716","v":0},{"$f":"IF(SCORECARD!$I717>0,\"W\",(IF(SCORECARD!$I717<0,\"L\",\"\")))","v":""},{"$f":"SCORECARD!F717","v":0},{"$f":"IF(SCORECARD!$I718>0,\"W\",(IF(SCORECARD!$I718<0,\"L\",\"\")))","v":""},{"$f":"SCORECARD!F718","v":0},{"$f":"IF(SCORECARD!$I719>0,\"W\",(IF(SCORECARD!$I719<0,\"L\",\"\")))","v":""},{"$f":"SCORECARD!F719","v":0},{"$f":"IF(SCORECARD!$I720>0,\"W\",(IF(SCORECARD!$I720<0,\"L\",\"\")))","v":""},{"$f":"SCORECARD!F720","v":0},{"$f":"IF(SCORECARD!$I721>0,\"W\",(IF(SCORECARD!$I721<0,\"L\",\"\")))","v":""},{"$f":"SCORECARD!F721","v":0},{"$f":"IF(SCORECARD!$I722>0,\"W\",(IF(SCORECARD!$I722<0,\"L\",\"\")))","v":""},{"$f":"SCORECARD!F722","v":0},{"$f":"IF(SCORECARD!$I723>0,\"W\",(IF(SCORECARD!$I723<0,\"L\",\"\")))","v":""},{"$f":"SCORECARD!F723","v":" "},{"$f":"IF(SCORECARD!$I724>0,\"W\",(IF(SCORECARD!$I724<0,\"L\",\"\")))","v":""},{"$f":"SCORECARD!F724","v":" "},{"$f":"IF(SCORECARD!$I725>0,\"W\",(IF(SCORECARD!$I725<0,\"L\",\"\")))","v":""},{"$f":"SCORECARD!F725","v":" "}]
[null,null,null,{"$f":"IF(NOT(OR(D77=\"W\",D77=\"L\")),\"\",IF(HandicapPlay=\"x\",IF(D77=\"W\",10,-10),IF(D77=\"W\",(VLOOKUP($C77,(TABLE!WIN),(MATCH(E77,WINCOL,0)+1))),(VLOOKUP($C77,(TABLE!LOSE),(MATCH(E77,LOSECOL,0)+1))))))","v":""},null,{"$f":"IF(NOT(OR(F77=\"W\",F77=\"L\")),\"\",IF(HandicapPlay=\"x\",IF(F77=\"W\",10,-10),IF(F77=\"W\",(VLOOKUP($C77,(TABLE!WIN),(MATCH(G77,WINCOL,0)+1))),(VLOOKUP($C77,(TABLE!LOSE),(MATCH(G77,LOSECOL,0)+1))))))","v":""},null,{"$f":"IF(NOT(OR(H77=\"W\",H77=\"L\")),\"\",IF(HandicapPlay=\"x\",IF(H77=\"W\",10,-10),IF(H77=\"W\",(VLOOKUP($C77,(TABLE!WIN),(MATCH(I77,WINCOL,0)+1))),(VLOOKUP($C77,(TABLE!LOSE),(MATCH(I77,LOSECOL,0)+1))))))","v":""},null,{"$f":"IF(NOT(OR(J77=\"W\",J77=\"L\")),\"\",IF(HandicapPlay=\"x\",IF(J77=\"W\",10,-10),IF(J77=\"W\",(VLOOKUP($C77,(TABLE!WIN),(MATCH(K77,WINCOL,0)+1))),(VLOOKUP($C77,(TABLE!LOSE),(MATCH(K77,LOSECOL,0)+1))))))","v":""},null,{"$f":"IF(NOT(OR(L77=\"W\",L77=\"L\")),\"\",IF(HandicapPlay=\"x\",IF(L77=\"W\",10,-10),IF(L77=\"W\",(VLOOKUP($C77,(TABLE!WIN),(MATCH(M77,WINCOL,0)+1))),(VLOOKUP($C77,(TABLE!LOSE),(MATCH(M77,LOSECOL,0)+1))))))","v":""},null,{"$f":"IF(NOT(OR(N77=\"W\",N77=\"L\")),\"\",IF(HandicapPlay=\"x\",IF(N77=\"W\",10,-10),IF(N77=\"W\",(VLOOKUP($C77,(TABLE!WIN),(MATCH(O77,WINCOL,0)+1))),(VLOOKUP($C77,(TABLE!LOSE),(MATCH(O77,LOSECOL,0)+1))))))","v":""},null,{"$f":"IF(NOT(OR(P77=\"W\",P77=\"L\")),\"\",IF(HandicapPlay=\"x\",IF(P77=\"W\",10,-10),IF(P77=\"W\",(VLOOKUP($C77,(TABLE!WIN),(MATCH(Q77,WINCOL,0)+1))),(VLOOKUP($C77,(TABLE!LOSE),(MATCH(Q77,LOSECOL,0)+1))))))","v":""},null,{"$f":"IF(NOT(OR(R77=\"W\",R77=\"L\")),\"\",(IF(R77=\"W\",(VLOOKUP($C77,(TABLE!WIN),((S77+5)*2+2))),(VLOOKUP($C77,(TABLE!LOSE),((S77+5)*2+2))))))","v":""},null,{"$f":"IF(NOT(OR(T77=\"W\",T77=\"L\")),\"\",(IF(T77=\"W\",(VLOOKUP($C77,(TABLE!WIN),((U77+5)*2+2))),(VLOOKUP($C77,(TABLE!LOSE),((U77+5)*2+2))))))","v":""},null,{"$f":"IF(NOT(OR(V77=\"W\",V77=\"L\")),\"\",(IF(V77=\"W\",(VLOOKUP($C77,(TABLE!WIN),((W77+5)*2+2))),(VLOOKUP($C77,(TABLE!LOSE),((W77+5)*2+2))))))","v":""},null,{"$f":"SUM(D78:W78)","v":0}]
[null,{"$f":"SCORECARD!D736","v":" Block 5 Player 3"},{"$f":"SCORECARD!I736","v":0},{"$f":"IF(SCORECARD!$I739>0,\"W\",(IF(SCORECARD!$I739<0,\"L\",\"\")))","v":""},{"$f":"SCORECARD!F739","v":0},{"$f":"IF(SCORECARD!$I740>0,\"W\",(IF(SCORECARD!$I740<0,\"L\",\"\")))","v":""},{"$f":"SCORECARD!F740","v":0},{"$f":"IF(SCORECARD!$I741>0,\"W\",(IF(SCORECARD!$I741<0,\"L\",\"\")))","v":""},{"$f":"SCORECARD!F741","v":0},{"$f":"IF(SCORECARD!$I742>0,\"W\",(IF(SCORECARD!$I742<0,\"L\",\"\")))","v":""},{"$f":"SCORECARD!F742","v":0},{"$f":"IF(SCORECARD!$I743>0,\"W\",(IF(SCORECARD!$I743<0,\"L\",\"\")))","v":""},{"$f":"SCORECARD!F743","v":0},{"$f":"IF(SCORECARD!$I744>0,\"W\",(IF(SCORECARD!$I744<0,\"L\",\"\")))","v":""},{"$f":"SCORECARD!F744","v":0},{"$f":"IF(SCORECARD!$I745>0,\"W\",(IF(SCORECARD!$I745<0,\"L\",\"\")))","v":""},{"$f":"SCORECARD!F745","v":0},{"$f":"IF(SCORECARD!$I746>0,\"W\",(IF(SCORECARD!$I746<0,\"L\",\"\")))","v":""},{"$f":"SCORECARD!F746","v":" "},{"$f":"IF(SCORECARD!$I747>0,\"W\",(IF(SCORECARD!$I747<0,\"L\",\"\")))","v":""},{"$f":"SCORECARD!F747","v":" "},{"$f":"IF(SCORECARD!$I748>0,\"W\",(IF(SCORECARD!$I748<0,\"L\",\"\")))","v":""},{"$f":"SCORECARD!F748","v":" "}]
[null,null,null,{"$f":"IF(NOT(OR(D79=\"W\",D79=\"L\")),\"\",IF(HandicapPlay=\"x\",IF(D79=\"W\",10,-10),IF(D79=\"W\",(VLOOKUP($C79,(TABLE!WIN),(MATCH(E79,WINCOL,0)+1))),(VLOOKUP($C79,(TABLE!LOSE),(MATCH(E79,LOSECOL,0)+1))))))","v":""},null,{"$f":"IF(NOT(OR(F79=\"W\",F79=\"L\")),\"\",IF(HandicapPlay=\"x\",IF(F79=\"W\",10,-10),IF(F79=\"W\",(VLOOKUP($C79,(TABLE!WIN),(MATCH(G79,WINCOL,0)+1))),(VLOOKUP($C79,(TABLE!LOSE),(MATCH(G79,LOSECOL,0)+1))))))","v":""},null,{"$f":"IF(NOT(OR(H79=\"W\",H79=\"L\")),\"\",IF(HandicapPlay=\"x\",IF(H79=\"W\",10,-10),IF(H79=\"W\",(VLOOKUP($C79,(TABLE!WIN),(MATCH(I79,WINCOL,0)+1))),(VLOOKUP($C79,(TABLE!LOSE),(MATCH(I79,LOSECOL,0)+1))))))","v":""},null,{"$f":"IF(NOT(OR(J79=\"W\",J79=\"L\")),\"\",IF(HandicapPlay=\"x\",IF(J79=\"W\",10,-10),IF(J79=\"W\",(VLOOKUP($C79,(TABLE!WIN),(MATCH(K79,WINCOL,0)+1))),(VLOOKUP($C79,(TABLE!LOSE),(MATCH(K79,LOSECOL,0)+1))))))","v":""},null,{"$f":"IF(NOT(OR(L79=\"W\",L79=\"L\")),\"\",IF(HandicapPlay=\"x\",IF(L79=\"W\",10,-10),IF(L79=\"W\",(VLOOKUP($C79,(TABLE!WIN),(MATCH(M79,WINCOL,0)+1))),(VLOOKUP($C79,(TABLE!LOSE),(MATCH(M79,LOSECOL,0)+1))))))","v":""},null,{"$f":"IF(NOT(OR(N79=\"W\",N79=\"L\")),\"\",IF(HandicapPlay=\"x\",IF(N79=\"W\",10,-10),IF(N79=\"W\",(VLOOKUP($C79,(TABLE!WIN),(MATCH(O79,WINCOL,0)+1))),(VLOOKUP($C79,(TABLE!LOSE),(MATCH(O79,LOSECOL,0)+1))))))","v":""},null,{"$f":"IF(NOT(OR(P79=\"W\",P79=\"L\")),\"\",IF(HandicapPlay=\"x\",IF(P79=\"W\",10,-10),IF(P79=\"W\",(VLOOKUP($C79,(TABLE!WIN),(MATCH(Q79,WINCOL,0)+1))),(VLOOKUP($C79,(TABLE!LOSE),(MATCH(Q79,LOSECOL,0)+1))))))","v":""},null,{"$f":"IF(NOT(OR(R79=\"W\",R79=\"L\")),\"\",(IF(R79=\"W\",(VLOOKUP($C79,(TABLE!WIN),((S79+5)*2+2))),(VLOOKUP($C79,(TABLE!LOSE),((S79+5)*2+2))))))","v":""},null,{"$f":"IF(NOT(OR(T79=\"W\",T79=\"L\")),\"\",(IF(T79=\"W\",(VLOOKUP($C79,(TABLE!WIN),((U79+5)*2+2))),(VLOOKUP($C79,(TABLE!LOSE),((U79+5)*2+2))))))","v":""},null,{"$f":"IF(NOT(OR(V79=\"W\",V79=\"L\")),\"\",(IF(V79=\"W\",(VLOOKUP($C79,(TABLE!WIN),((W79+5)*2+2))),(VLOOKUP($C79,(TABLE!LOSE),((W79+5)*2+2))))))","v":""},null,{"$f":"SUM(D80:W80)","v":0}]
[null,{"$f":"SCORECARD!D756","v":" Block 5 Player 4"},{"$f":"SCORECARD!I756","v":0},{"$f":"IF(SCORECARD!$I759>0,\"W\",(IF(SCORECARD!$I759<0,\"L\",\"\")))","v":""},{"$f":"SCORECARD!F759","v":0},{"$f":"IF(SCORECARD!$I760>0,\"W\",(IF(SCORECARD!$I760<0,\"L\",\"\")))","v":""},{"$f":"SCORECARD!F760","v":0},{"$f":"IF(SCORECARD!$I761>0,\"W\",(IF(SCORECARD!$I761<0,\"L\",\"\")))","v":""},{"$f":"SCORECARD!F761","v":0},{"$f":"IF(SCORECARD!$I762>0,\"W\",(IF(SCORECARD!$I762<0,\"L\",\"\")))","v":""},{"$f":"SCORECARD!F762","v":0},{"$f":"IF(SCORECARD!$I763>0,\"W\",(IF(SCORECARD!$I763<0,\"L\",\"\")))","v":""},{"$f":"SCORECARD!F763","v":0},{"$f":"IF(SCORECARD!$I764>0,\"W\",(IF(SCORECARD!$I764<0,\"L\",\"\")))","v":""},{"$f":"SCORECARD!F764","v":0},{"$f":"IF(SCORECARD!$I765>0,\"W\",(IF(SCORECARD!$I765<0,\"L\",\"\")))","v":""},{"$f":"SCORECARD!F765","v":0},{"$f":"IF(SCORECARD!$I766>0,\"W\",(IF(SCORECARD!$I766<0,\"L\",\"\")))","v":""},{"$f":"SCORECARD!F766","v":" "},{"$f":"IF(SCORECARD!$I767>0,\"W\",(IF(SCORECARD!$I767<0,\"L\",\"\")))","v":""},{"$f":"SCORECARD!F767","v":" "},{"$f":"IF(SCORECARD!$I768>0,\"W\",(IF(SCORECARD!$I768<0,\"L\",\"\")))","v":""},{"$f":"SCORECARD!F768","v":" "}]
[null,null,null,{"$f":"IF(NOT(OR(D81=\"W\",D81=\"L\")),\"\",IF(HandicapPlay=\"x\",IF(D81=\"W\",10,-10),IF(D81=\"W\",(VLOOKUP($C81,(TABLE!WIN),(MATCH(E81,WINCOL,0)+1))),(VLOOKUP($C81,(TABLE!LOSE),(MATCH(E81,LOSECOL,0)+1))))))","v":""},null,{"$f":"IF(NOT(OR(F81=\"W\",F81=\"L\")),\"\",IF(HandicapPlay=\"x\",IF(F81=\"W\",10,-10),IF(F81=\"W\",(VLOOKUP($C81,(TABLE!WIN),(MATCH(G81,WINCOL,0)+1))),(VLOOKUP($C81,(TABLE!LOSE),(MATCH(G81,LOSECOL,0)+1))))))","v":""},null,{"$f":"IF(NOT(OR(H81=\"W\",H81=\"L\")),\"\",IF(HandicapPlay=\"x\",IF(H81=\"W\",10,-10),IF(H81=\"W\",(VLOOKUP($C81,(TABLE!WIN),(MATCH(I81,WINCOL,0)+1))),(VLOOKUP($C81,(TABLE!LOSE),(MATCH(I81,LOSECOL,0)+1))))))","v":""},null,{"$f":"IF(NOT(OR(J81=\"W\",J81=\"L\")),\"\",IF(HandicapPlay=\"x\",IF(J81=\"W\",10,-10),IF(J81=\"W\",(VLOOKUP($C81,(TABLE!WIN),(MATCH(K81,WINCOL,0)+1))),(VLOOKUP($C81,(TABLE!LOSE),(MATCH(K81,LOSECOL,0)+1))))))","v":""},null,{"$f":"IF(NOT(OR(L81=\"W\",L81=\"L\")),\"\",IF(HandicapPlay=\"x\",IF(L81=\"W\",10,-10),IF(L81=\"W\",(VLOOKUP($C81,(TABLE!WIN),(MATCH(M81,WINCOL,0)+1))),(VLOOKUP($C81,(TABLE!LOSE),(MATCH(M81,LOSECOL,0)+1))))))","v":""},null,{"$f":"IF(NOT(OR(N81=\"W\",N81=\"L\")),\"\",IF(HandicapPlay=\"x\",IF(N81=\"W\",10,-10),IF(N81=\"W\",(VLOOKUP($C81,(TABLE!WIN),(MATCH(O81,WINCOL,0)+1))),(VLOOKUP($C81,(TABLE!LOSE),(MATCH(O81,LOSECOL,0)+1))))))","v":""},null,{"$f":"IF(NOT(OR(P81=\"W\",P81=\"L\")),\"\",IF(HandicapPlay=\"x\",IF(P81=\"W\",10,-10),IF(P81=\"W\",(VLOOKUP($C81,(TABLE!WIN),(MATCH(Q81,WINCOL,0)+1))),(VLOOKUP($C81,(TABLE!LOSE),(MATCH(Q81,LOSECOL,0)+1))))))","v":""},null,{"$f":"IF(NOT(OR(R81=\"W\",R81=\"L\")),\"\",(IF(R81=\"W\",(VLOOKUP($C81,(TABLE!WIN),((S81+5)*2+2))),(VLOOKUP($C81,(TABLE!LOSE),((S81+5)*2+2))))))","v":""},null,{"$f":"IF(NOT(OR(T81=\"W\",T81=\"L\")),\"\",(IF(T81=\"W\",(VLOOKUP($C81,(TABLE!WIN),((U81+5)*2+2))),(VLOOKUP($C81,(TABLE!LOSE),((U81+5)*2+2))))))","v":""},null,{"$f":"IF(NOT(OR(V81=\"W\",V81=\"L\")),\"\",(IF(V81=\"W\",(VLOOKUP($C81,(TABLE!WIN),((W81+5)*2+2))),(VLOOKUP($C81,(TABLE!LOSE),((W81+5)*2+2))))))","v":""},null,{"$f":"SUM(D82:W82)","v":0}]
[null,{"$f":"SCORECARD!D779","v":" Block 5 Player 5"},{"$f":"SCORECARD!I779","v":0},{"$f":"IF(SCORECARD!$I782>0,\"W\",(IF(SCORECARD!$I782<0,\"L\",\"\")))","v":""},{"$f":"SCORECARD!F782","v":0},{"$f":"IF(SCORECARD!$I783>0,\"W\",(IF(SCORECARD!$I783<0,\"L\",\"\")))","v":""},{"$f":"SCORECARD!F783","v":0},{"$f":"IF(SCORECARD!$I784>0,\"W\",(IF(SCORECARD!$I784<0,\"L\",\"\")))","v":""},{"$f":"SCORECARD!F784","v":0},{"$f":"IF(SCORECARD!$I785>0,\"W\",(IF(SCORECARD!$I785<0,\"L\",\"\")))","v":""},{"$f":"SCORECARD!F785","v":0},{"$f":"IF(SCORECARD!$I786>0,\"W\",(IF(SCORECARD!$I786<0,\"L\",\"\")))","v":""},{"$f":"SCORECARD!F786","v":0},{"$f":"IF(SCORECARD!$I787>0,\"W\",(IF(SCORECARD!$I787<0,\"L\",\"\")))","v":""},{"$f":"SCORECARD!F787","v":0},{"$f":"IF(SCORECARD!$I788>0,\"W\",(IF(SCORECARD!$I788<0,\"L\",\"\")))","v":""},{"$f":"SCORECARD!F788","v":0},{"$f":"IF(SCORECARD!$I789>0,\"W\",(IF(SCORECARD!$I789<0,\"L\",\"\")))","v":""},{"$f":"SCORECARD!F789","v":" "},{"$f":"IF(SCORECARD!$I790>0,\"W\",(IF(SCORECARD!$I790<0,\"L\",\"\")))","v":""},{"$f":"SCORECARD!F790","v":" "},{"$f":"IF(SCORECARD!$I791>0,\"W\",(IF(SCORECARD!$I791<0,\"L\",\"\")))","v":""},{"$f":"SCORECARD!F791","v":" "}]
[null,null,null,{"$f":"IF(NOT(OR(D83=\"W\",D83=\"L\")),\"\",IF(HandicapPlay=\"x\",IF(D83=\"W\",10,-10),IF(D83=\"W\",(VLOOKUP($C83,(TABLE!WIN),(MATCH(E83,WINCOL,0)+1))),(VLOOKUP($C83,(TABLE!LOSE),(MATCH(E83,LOSECOL,0)+1))))))","v":""},null,{"$f":"IF(NOT(OR(F83=\"W\",F83=\"L\")),\"\",IF(HandicapPlay=\"x\",IF(F83=\"W\",10,-10),IF(F83=\"W\",(VLOOKUP($C83,(TABLE!WIN),(MATCH(G83,WINCOL,0)+1))),(VLOOKUP($C83,(TABLE!LOSE),(MATCH(G83,LOSECOL,0)+1))))))","v":""},null,{"$f":"IF(NOT(OR(H83=\"W\",H83=\"L\")),\"\",IF(HandicapPlay=\"x\",IF(H83=\"W\",10,-10),IF(H83=\"W\",(VLOOKUP($C83,(TABLE!WIN),(MATCH(I83,WINCOL,0)+1))),(VLOOKUP($C83,(TABLE!LOSE),(MATCH(I83,LOSECOL,0)+1))))))","v":""},null,{"$f":"IF(NOT(OR(J83=\"W\",J83=\"L\")),\"\",IF(HandicapPlay=\"x\",IF(J83=\"W\",10,-10),IF(J83=\"W\",(VLOOKUP($C83,(TABLE!WIN),(MATCH(K83,WINCOL,0)+1))),(VLOOKUP($C83,(TABLE!LOSE),(MATCH(K83,LOSECOL,0)+1))))))","v":""},null,{"$f":"IF(NOT(OR(L83=\"W\",L83=\"L\")),\"\",IF(HandicapPlay=\"x\",IF(L83=\"W\",10,-10),IF(L83=\"W\",(VLOOKUP($C83,(TABLE!WIN),(MATCH(M83,WINCOL,0)+1))),(VLOOKUP($C83,(TABLE!LOSE),(MATCH(M83,LOSECOL,0)+1))))))","v":""},null,{"$f":"IF(NOT(OR(N83=\"W\",N83=\"L\")),\"\",IF(HandicapPlay=\"x\",IF(N83=\"W\",10,-10),IF(N83=\"W\",(VLOOKUP($C83,(TABLE!WIN),(MATCH(O83,WINCOL,0)+1))),(VLOOKUP($C83,(TABLE!LOSE),(MATCH(O83,LOSECOL,0)+1))))))","v":""},null,{"$f":"IF(NOT(OR(P83=\"W\",P83=\"L\")),\"\",IF(HandicapPlay=\"x\",IF(P83=\"W\",10,-10),IF(P83=\"W\",(VLOOKUP($C83,(TABLE!WIN),(MATCH(Q83,WINCOL,0)+1))),(VLOOKUP($C83,(TABLE!LOSE),(MATCH(Q83,LOSECOL,0)+1))))))","v":""},null,{"$f":"IF(NOT(OR(R83=\"W\",R83=\"L\")),\"\",(IF(R83=\"W\",(VLOOKUP($C83,(TABLE!WIN),((S83+5)*2+2))),(VLOOKUP($C83,(TABLE!LOSE),((S83+5)*2+2))))))","v":""},null,{"$f":"IF(NOT(OR(T83=\"W\",T83=\"L\")),\"\",(IF(T83=\"W\",(VLOOKUP($C83,(TABLE!WIN),((U83+5)*2+2))),(VLOOKUP($C83,(TABLE!LOSE),((U83+5)*2+2))))))","v":""},null,{"$f":"IF(NOT(OR(V83=\"W\",V83=\"L\")),\"\",(IF(V83=\"W\",(VLOOKUP($C83,(TABLE!WIN),((W83+5)*2+2))),(VLOOKUP($C83,(TABLE!LOSE),((W83+5)*2+2))))))","v":""},null,{"$f":"SUM(D84:W84)","v":0}]
[null,{"$f":"SCORECARD!D799","v":" Block 5 Player 6"},{"$f":"SCORECARD!I799","v":0},{"$f":"IF(SCORECARD!$I802>0,\"W\",(IF(SCORECARD!$I802<0,\"L\",\"\")))","v":""},{"$f":"SCORECARD!F802","v":0},{"$f":"IF(SCORECARD!$I803>0,\"W\",(IF(SCORECARD!$I803<0,\"L\",\"\")))","v":""},{"$f":"SCORECARD!F803","v":0},{"$f":"IF(SCORECARD!$I804>0,\"W\",(IF(SCORECARD!$I804<0,\"L\",\"\")))","v":""},{"$f":"SCORECARD!F804","v":0},{"$f":"IF(SCORECARD!$I805>0,\"W\",(IF(SCORECARD!$I805<0,\"L\",\"\")))","v":""},{"$f":"SCORECARD!F805","v":0},{"$f":"IF(SCORECARD!$I806>0,\"W\",(IF(SCORECARD!$I806<0,\"L\",\"\")))","v":""},{"$f":"SCORECARD!F806","v":0},{"$f":"IF(SCORECARD!$I807>0,\"W\",(IF(SCORECARD!$I807<0,\"L\",\"\")))","v":""},{"$f":"SCORECARD!F807","v":0},{"$f":"IF(SCORECARD!$I808>0,\"W\",(IF(SCORECARD!$I808<0,\"L\",\"\")))","v":""},{"$f":"SCORECARD!F808","v":0},{"$f":"IF(SCORECARD!$I809>0,\"W\",(IF(SCORECARD!$I809<0,\"L\",\"\")))","v":""},{"$f":"SCORECARD!F809","v":" "},{"$f":"IF(SCORECARD!$I810>0,\"W\",(IF(SCORECARD!$I810<0,\"L\",\"\")))","v":""},{"$f":"SCORECARD!F810","v":" "},{"$f":"IF(SCORECARD!$I811>0,\"W\",(IF(SCORECARD!$I811<0,\"L\",\"\")))","v":""},{"$f":"SCORECARD!F811","v":" "}]
[null,null,null,{"$f":"IF(NOT(OR(D85=\"W\",D85=\"L\")),\"\",IF(HandicapPlay=\"x\",IF(D85=\"W\",10,-10),IF(D85=\"W\",(VLOOKUP($C85,(TABLE!WIN),(MATCH(E85,WINCOL,0)+1))),(VLOOKUP($C85,(TABLE!LOSE),(MATCH(E85,LOSECOL,0)+1))))))","v":""},null,{"$f":"IF(NOT(OR(F85=\"W\",F85=\"L\")),\"\",IF(HandicapPlay=\"x\",IF(F85=\"W\",10,-10),IF(F85=\"W\",(VLOOKUP($C85,(TABLE!WIN),(MATCH(G85,WINCOL,0)+1))),(VLOOKUP($C85,(TABLE!LOSE),(MATCH(G85,LOSECOL,0)+1))))))","v":""},null,{"$f":"IF(NOT(OR(H85=\"W\",H85=\"L\")),\"\",IF(HandicapPlay=\"x\",IF(H85=\"W\",10,-10),IF(H85=\"W\",(VLOOKUP($C85,(TABLE!WIN),(MATCH(I85,WINCOL,0)+1))),(VLOOKUP($C85,(TABLE!LOSE),(MATCH(I85,LOSECOL,0)+1))))))","v":""},null,{"$f":"IF(NOT(OR(J85=\"W\",J85=\"L\")),\"\",IF(HandicapPlay=\"x\",IF(J85=\"W\",10,-10),IF(J85=\"W\",(VLOOKUP($C85,(TABLE!WIN),(MATCH(K85,WINCOL,0)+1))),(VLOOKUP($C85,(TABLE!LOSE),(MATCH(K85,LOSECOL,0)+1))))))","v":""},null,{"$f":"IF(NOT(OR(L85=\"W\",L85=\"L\")),\"\",IF(HandicapPlay=\"x\",IF(L85=\"W\",10,-10),IF(L85=\"W\",(VLOOKUP($C85,(TABLE!WIN),(MATCH(M85,WINCOL,0)+1))),(VLOOKUP($C85,(TABLE!LOSE),(MATCH(M85,LOSECOL,0)+1))))))","v":""},null,{"$f":"IF(NOT(OR(N85=\"W\",N85=\"L\")),\"\",IF(HandicapPlay=\"x\",IF(N85=\"W\",10,-10),IF(N85=\"W\",(VLOOKUP($C85,(TABLE!WIN),(MATCH(O85,WINCOL,0)+1))),(VLOOKUP($C85,(TABLE!LOSE),(MATCH(O85,LOSECOL,0)+1))))))","v":""},null,{"$f":"IF(NOT(OR(P85=\"W\",P85=\"L\")),\"\",IF(HandicapPlay=\"x\",IF(P85=\"W\",10,-10),IF(P85=\"W\",(VLOOKUP($C85,(TABLE!WIN),(MATCH(Q85,WINCOL,0)+1))),(VLOOKUP($C85,(TABLE!LOSE),(MATCH(Q85,LOSECOL,0)+1))))))","v":""},null,{"$f":"IF(NOT(OR(R85=\"W\",R85=\"L\")),\"\",(IF(R85=\"W\",(VLOOKUP($C85,(TABLE!WIN),((S85+5)*2+2))),(VLOOKUP($C85,(TABLE!LOSE),((S85+5)*2+2))))))","v":""},null,{"$f":"IF(NOT(OR(T85=\"W\",T85=\"L\")),\"\",(IF(T85=\"W\",(VLOOKUP($C85,(TABLE!WIN),((U85+5)*2+2))),(VLOOKUP($C85,(TABLE!LOSE),((U85+5)*2+2))))))","v":""},null,{"$f":"IF(NOT(OR(V85=\"W\",V85=\"L\")),\"\",(IF(V85=\"W\",(VLOOKUP($C85,(TABLE!WIN),((W85+5)*2+2))),(VLOOKUP($C85,(TABLE!LOSE),((W85+5)*2+2))))))","v":""},null,{"$f":"SUM(D86:W86)","v":0}]
[null,{"$f":"SCORECARD!D822","v":" Block 5 Player 7"},{"$f":"SCORECARD!I822","v":0},{"$f":"IF(SCORECARD!$I825>0,\"W\",(IF(SCORECARD!$I825<0,\"L\",\"\")))","v":""},{"$f":"SCORECARD!F825","v":0},{"$f":"IF(SCORECARD!$I826>0,\"W\",(IF(SCORECARD!$I826<0,\"L\",\"\")))","v":""},{"$f":"SCORECARD!F826","v":0},{"$f":"IF(SCORECARD!$I827>0,\"W\",(IF(SCORECARD!$I827<0,\"L\",\"\")))","v":""},{"$f":"SCORECARD!F827","v":0},{"$f":"IF(SCORECARD!$I828>0,\"W\",(IF(SCORECARD!$I828<0,\"L\",\"\")))","v":""},{"$f":"SCORECARD!F828","v":0},{"$f":"IF(SCORECARD!$I829>0,\"W\",(IF(SCORECARD!$I829<0,\"L\",\"\")))","v":""},{"$f":"SCORECARD!F829","v":0},{"$f":"IF(SCORECARD!$I830>0,\"W\",(IF(SCORECARD!$I830<0,\"L\",\"\")))","v":""},{"$f":"SCORECARD!F830","v":0},{"$f":"IF(SCORECARD!$I831>0,\"W\",(IF(SCORECARD!$I831<0,\"L\",\"\")))","v":""},{"$f":"SCORECARD!F831","v":0},{"$f":"IF(SCORECARD!$I832>0,\"W\",(IF(SCORECARD!$I832<0,\"L\",\"\")))","v":""},{"$f":"SCORECARD!F832","v":" "},{"$f":"IF(SCORECARD!$I833>0,\"W\",(IF(SCORECARD!$I833<0,\"L\",\"\")))","v":""},{"$f":"SCORECARD!F833","v":" "},{"$f":"IF(SCORECARD!$I834>0,\"W\",(IF(SCORECARD!$I834<0,\"L\",\"\")))","v":""},{"$f":"SCORECARD!F834","v":" "}]
[null,null,null,{"$f":"IF(NOT(OR(D87=\"W\",D87=\"L\")),\"\",IF(HandicapPlay=\"x\",IF(D87=\"W\",10,-10),IF(D87=\"W\",(VLOOKUP($C87,(TABLE!WIN),(MATCH(E87,WINCOL,0)+1))),(VLOOKUP($C87,(TABLE!LOSE),(MATCH(E87,LOSECOL,0)+1))))))","v":""},null,{"$f":"IF(NOT(OR(F87=\"W\",F87=\"L\")),\"\",IF(HandicapPlay=\"x\",IF(F87=\"W\",10,-10),IF(F87=\"W\",(VLOOKUP($C87,(TABLE!WIN),(MATCH(G87,WINCOL,0)+1))),(VLOOKUP($C87,(TABLE!LOSE),(MATCH(G87,LOSECOL,0)+1))))))","v":""},null,{"$f":"IF(NOT(OR(H87=\"W\",H87=\"L\")),\"\",IF(HandicapPlay=\"x\",IF(H87=\"W\",10,-10),IF(H87=\"W\",(VLOOKUP($C87,(TABLE!WIN),(MATCH(I87,WINCOL,0)+1))),(VLOOKUP($C87,(TABLE!LOSE),(MATCH(I87,LOSECOL,0)+1))))))","v":""},null,{"$f":"IF(NOT(OR(J87=\"W\",J87=\"L\")),\"\",IF(HandicapPlay=\"x\",IF(J87=\"W\",10,-10),IF(J87=\"W\",(VLOOKUP($C87,(TABLE!WIN),(MATCH(K87,WINCOL,0)+1))),(VLOOKUP($C87,(TABLE!LOSE),(MATCH(K87,LOSECOL,0)+1))))))","v":""},null,{"$f":"IF(NOT(OR(L87=\"W\",L87=\"L\")),\"\",IF(HandicapPlay=\"x\",IF(L87=\"W\",10,-10),IF(L87=\"W\",(VLOOKUP($C87,(TABLE!WIN),(MATCH(M87,WINCOL,0)+1))),(VLOOKUP($C87,(TABLE!LOSE),(MATCH(M87,LOSECOL,0)+1))))))","v":""},null,{"$f":"IF(NOT(OR(N87=\"W\",N87=\"L\")),\"\",IF(HandicapPlay=\"x\",IF(N87=\"W\",10,-10),IF(N87=\"W\",(VLOOKUP($C87,(TABLE!WIN),(MATCH(O87,WINCOL,0)+1))),(VLOOKUP($C87,(TABLE!LOSE),(MATCH(O87,LOSECOL,0)+1))))))","v":""},null,{"$f":"IF(NOT(OR(P87=\"W\",P87=\"L\")),\"\",IF(HandicapPlay=\"x\",IF(P87=\"W\",10,-10),IF(P87=\"W\",(VLOOKUP($C87,(TABLE!WIN),(MATCH(Q87,WINCOL,0)+1))),(VLOOKUP($C87,(TABLE!LOSE),(MATCH(Q87,LOSECOL,0)+1))))))","v":""},null,{"$f":"IF(NOT(OR(R87=\"W\",R87=\"L\")),\"\",(IF(R87=\"W\",(VLOOKUP($C87,(TABLE!WIN),((S87+5)*2+2))),(VLOOKUP($C87,(TABLE!LOSE),((S87+5)*2+2))))))","v":""},null,{"$f":"IF(NOT(OR(T87=\"W\",T87=\"L\")),\"\",(IF(T87=\"W\",(VLOOKUP($C87,(TABLE!WIN),((U87+5)*2+2))),(VLOOKUP($C87,(TABLE!LOSE),((U87+5)*2+2))))))","v":""},null,{"$f":"IF(NOT(OR(V87=\"W\",V87=\"L\")),\"\",(IF(V87=\"W\",(VLOOKUP($C87,(TABLE!WIN),((W87+5)*2+2))),(VLOOKUP($C87,(TABLE!LOSE),((W87+5)*2+2))))))","v":""},null,{"$f":"SUM(D88:W88)","v":0}]
[null,{"$f":"SCORECARD!D842","v":" Bye "},{"$f":"SCORECARD!I842","v":0},{"$f":"IF(SCORECARD!$I845>0,\"W\",(IF(SCORECARD!$I845<0,\"L\",\"\")))","v":""},{"$f":"SCORECARD!$F845","v":0},{"$f":"IF(SCORECARD!$I846>0,\"W\",(IF(SCORECARD!$I846<0,\"L\",\"\")))","v":""},{"$f":"SCORECARD!$F846","v":0},{"$f":"IF(SCORECARD!$I847>0,\"W\",(IF(SCORECARD!$I847<0,\"L\",\"\")))","v":""},{"$f":"SCORECARD!$F847","v":0},{"$f":"IF(SCORECARD!$I848>0,\"W\",(IF(SCORECARD!$I848<0,\"L\",\"\")))","v":""},{"$f":"SCORECARD!$F848","v":0},{"$f":"IF(SCORECARD!$I849>0,\"W\",(IF(SCORECARD!$I849<0,\"L\",\"\")))","v":""},{"$f":"SCORECARD!$F849","v":0},{"$f":"IF(SCORECARD!$I850>0,\"W\",(IF(SCORECARD!$I850<0,\"L\",\"\")))","v":""},{"$f":"SCORECARD!$F850","v":0},{"$f":"IF(SCORECARD!$I851>0,\"W\",(IF(SCORECARD!$I851<0,\"L\",\"\")))","v":""},{"$f":"SCORECARD!$F851","v":0},{"$f":"IF(SCORECARD!$I852>0,\"W\",(IF(SCORECARD!$I852<0,\"L\",\"\")))","v":""},{"$f":"SCORECARD!$F852","v":" "},{"$f":"IF(SCORECARD!$I853>0,\"W\",(IF(SCORECARD!$I853<0,\"L\",\"\")))","v":""},{"$f":"SCORECARD!$F853","v":" "},{"$f":"IF(SCORECARD!$I854>0,\"W\",(IF(SCORECARD!$I854<0,\"L\",\"\")))","v":""},{"$f":"SCORECARD!$F854","v":" "}]
[null,null,null,{"$f":"IF(NOT(OR(D89=\"W\",D89=\"L\")),\"\",IF(HandicapPlay=\"x\",IF(D89=\"W\",10,-10),IF(D89=\"W\",(VLOOKUP($C89,(TABLE!WIN),(MATCH(E89,WINCOL,0)+1))),(VLOOKUP($C89,(TABLE!LOSE),(MATCH(E89,LOSECOL,0)+1))))))","v":""},null,{"$f":"IF(NOT(OR(F89=\"W\",F89=\"L\")),\"\",IF(HandicapPlay=\"x\",IF(F89=\"W\",10,-10),IF(F89=\"W\",(VLOOKUP($C89,(TABLE!WIN),(MATCH(G89,WINCOL,0)+1))),(VLOOKUP($C89,(TABLE!LOSE),(MATCH(G89,LOSECOL,0)+1))))))","v":""},null,{"$f":"IF(NOT(OR(H89=\"W\",H89=\"L\")),\"\",IF(HandicapPlay=\"x\",IF(H89=\"W\",10,-10),IF(H89=\"W\",(VLOOKUP($C89,(TABLE!WIN),(MATCH(I89,WINCOL,0)+1))),(VLOOKUP($C89,(TABLE!LOSE),(MATCH(I89,LOSECOL,0)+1))))))","v":""},null,{"$f":"IF(NOT(OR(J89=\"W\",J89=\"L\")),\"\",IF(HandicapPlay=\"x\",IF(J89=\"W\",10,-10),IF(J89=\"W\",(VLOOKUP($C89,(TABLE!WIN),(MATCH(K89,WINCOL,0)+1))),(VLOOKUP($C89,(TABLE!LOSE),(MATCH(K89,LOSECOL,0)+1))))))","v":""},null,{"$f":"IF(NOT(OR(L89=\"W\",L89=\"L\")),\"\",IF(HandicapPlay=\"x\",IF(L89=\"W\",10,-10),IF(L89=\"W\",(VLOOKUP($C89,(TABLE!WIN),(MATCH(M89,WINCOL,0)+1))),(VLOOKUP($C89,(TABLE!LOSE),(MATCH(M89,LOSECOL,0)+1))))))","v":""},null,{"$f":"IF(NOT(OR(N89=\"W\",N89=\"L\")),\"\",IF(HandicapPlay=\"x\",IF(N89=\"W\",10,-10),IF(N89=\"W\",(VLOOKUP($C89,(TABLE!WIN),(MATCH(O89,WINCOL,0)+1))),(VLOOKUP($C89,(TABLE!LOSE),(MATCH(O89,LOSECOL,0)+1))))))","v":""},null,{"$f":"IF(NOT(OR(P89=\"W\",P89=\"L\")),\"\",IF(HandicapPlay=\"x\",IF(P89=\"W\",10,-10),IF(P89=\"W\",(VLOOKUP($C89,(TABLE!WIN),(MATCH(Q89,WINCOL,0)+1))),(VLOOKUP($C89,(TABLE!LOSE),(MATCH(Q89,LOSECOL,0)+1))))))","v":""},null,{"$f":"IF(NOT(OR(R89=\"W\",R89=\"L\")),\"\",(IF(R89=\"W\",(VLOOKUP($C89,(TABLE!WIN),((S89+5)*2+2))),(VLOOKUP($C89,(TABLE!LOSE),((S89+5)*2+2))))))","v":""},null,{"$f":"IF(NOT(OR(T89=\"W\",T89=\"L\")),\"\",(IF(T89=\"W\",(VLOOKUP($C89,(TABLE!WIN),((U89+5)*2+2))),(VLOOKUP($C89,(TABLE!LOSE),((U89+5)*2+2))))))","v":""},null,{"$f":"IF(NOT(OR(V89=\"W\",V89=\"L\")),\"\",(IF(V89=\"W\",(VLOOKUP($C89,(TABLE!WIN),((W89+5)*2+2))),(VLOOKUP($C89,(TABLE!LOSE),((W89+5)*2+2))))))","v":""},null,{"$f":"SUM(D90:W90)","v":0}]

{"sheet":"PUBLISHING","index":15,"n_rows":290,"n_cols":11,"rows_kept":290,"cut":false,"hidden":true,"merged":[[2,1,2,5],[1,1,1,5],[3,1,3,5],[233,1,233,5],[176,1,176,5],[119,1,119,5],[62,1,62,5],[5,1,5,5]]}
[]
[null,{"$f":"NAMES!$C$7","v":"Tournament"}]
[null,{"$f":"NAMES!$C$9","v":"Date"}]
[null,{"$f":"NAMES!$C$8","v":"Singles"}]
[]
[null,{"$f":"NAMES!$C$10","v":"BLOCK 1"},null,null,null,null,null,null,"LU Name 1","Score","Peels"]
[null,{"$f":"IF(J7<0,\"\",IF(J7>J8,I7,I8))","v":""},{"$f":"IF(J7<0,\"\",IF(J7>J8,J7,J8))","v":""},"d.",{"$f":"IF(J7<0,\"\",IF(J7>J8,I8,I7))","v":""},{"$f":"IF(J7<0,\"\",IF(J7>J8,J8,J7))","v":""},{"$f":"IF(B7=\"\",\"\",IF(ISTEXT(K7),K7,IF(ISTEXT(K8),K8,\"\")))","v":""},null,{"$f":"RESULTS!C5","v":" Block 1 Player 1"},{"$f":"RESULTS!D5","v":-1E-3},{"$f":"RESULTS!E5","v":-1E-3}]
[null,null,null,null,null,null,null,null,{"$f":"RESULTS!C6","v":" Block 1 Player 3"},{"$f":"RESULTS!D6","v":-1E-3},{"$f":"RESULTS!E6","v":-1E-3}]
[null,{"$f":"IF(J9<0,\"\",IF(J9>J10,I9,I10))","v":""},{"$f":"IF(J9<0,\"\",IF(J9>J10,J9,J10))","v":""},"d.",{"$f":"IF(J9<0,\"\",IF(J9>J10,I10,I9))","v":""},{"$f":"IF(J9<0,\"\",IF(J9>J10,J10,J9))","v":""},{"$f":"IF(B9=\"\",\"\",IF(ISTEXT(K9),K9,IF(ISTEXT(K10),K10,\"\")))","v":""},null,{"$f":"RESULTS!C7","v":" Block 1 Player 2"},{"$f":"RESULTS!D7","v":-1E-3},{"$f":"RESULTS!E7","v":-1E-3}]
[null,null,null,null,null,null,null,null,{"$f":"RESULTS!C8","v":" Block 1 Player 4"},{"$f":"RESULTS!D8","v":-1E-3},{"$f":"RESULTS!E8","v":-1E-3}]
[null,{"$f":"IF(J11<0,\"\",IF(J11>J12,I11,I12))","v":""},{"$f":"IF(J11<0,\"\",IF(J11>J12,J11,J12))","v":""},"d.",{"$f":"IF(J11<0,\"\",IF(J11>J12,I12,I11))","v":""},{"$f":"IF(J11<0,\"\",IF(J11>J12,J12,J11))","v":""},{"$f":"IF(B11=\"\",\"\",IF(ISTEXT(K11),K11,IF(ISTEXT(K12),K12,\"\")))","v":""},null,{"$f":"RESULTS!C9","v":" Bye "},{"$f":"RESULTS!D9","v":-1E-3},{"$f":"RESULTS!E9","v":-1E-3}]
[null,null,null,null,null,null,null,null,{"$f":"RESULTS!C10","v":" Block 1 Player 5"},{"$f":"RESULTS!D10","v":-1E-3},{"$f":"RESULTS!E10","v":-1E-3}]
[null,{"$f":"IF(J13<0,\"\",IF(J13>J14,I13,I14))","v":""},{"$f":"IF(J13<0,\"\",IF(J13>J14,J13,J14))","v":""},"d.",{"$f":"IF(J13<0,\"\",IF(J13>J14,I14,I13))","v":""},{"$f":"IF(J13<0,\"\",IF(J13>J14,J14,J13))","v":""},{"$f":"IF(B13=\"\",\"\",IF(ISTEXT(K13),K13,IF(ISTEXT(K14),K14,\"\")))","v":""},null,{"$f":"RESULTS!C11","v":" Block 1 Player 7"},{"$f":"RESULTS!D11","v":-1E-3},{"$f":"RESULTS!E11","v":-1E-3}]
[null,null,null,null,null,null,null,null,{"$f":"RESULTS!C12","v":" Block 1 Player 6"},{"$f":"RESULTS!D12","v":-1E-3},{"$f":"RESULTS!E12","v":-1E-3}]
[null,{"$f":"IF(J15<0,\"\",IF(J15>J16,I15,I16))","v":""},{"$f":"IF(J15<0,\"\",IF(J15>J16,J15,J16))","v":""},"d.",{"$f":"IF(J15<0,\"\",IF(J15>J16,I16,I15))","v":""},{"$f":"IF(J15<0,\"\",IF(J15>J16,J16,J15))","v":""},{"$f":"IF(B15=\"\",\"\",IF(ISTEXT(K15),K15,IF(ISTEXT(K16),K16,\"\")))","v":""},null,{"$f":"RESULTS!C13","v":" Block 1 Player 1"},{"$f":"RESULTS!D13","v":-1E-3},{"$f":"RESULTS!E13","v":-1E-3}]
[null,null,null,null,null,null,null,null,{"$f":"RESULTS!C14","v":" Block 1 Player 4"},{"$f":"RESULTS!D14","v":-1E-3},{"$f":"RESULTS!E14","v":-1E-3}]
[null,{"$f":"IF(J17<0,\"\",IF(J17>J18,I17,I18))","v":""},{"$f":"IF(J17<0,\"\",IF(J17>J18,J17,J18))","v":""},"d.",{"$f":"IF(J17<0,\"\",IF(J17>J18,I18,I17))","v":""},{"$f":"IF(J17<0,\"\",IF(J17>J18,J18,J17))","v":""},{"$f":"IF(B17=\"\",\"\",IF(ISTEXT(K17),K17,IF(ISTEXT(K18),K18,\"\")))","v":""},null,{"$f":"RESULTS!C15","v":" Block 1 Player 3"},{"$f":"RESULTS!D15","v":-1E-3},{"$f":"RESULTS!E15","v":-1E-3}]
[null,null,null,null,null,null,null,null,{"$f":"RESULTS!C16","v":" Block 1 Player 5"},{"$f":"RESULTS!D16","v":-1E-3},{"$f":"RESULTS!E16","v":-1E-3}]
[null,{"$f":"IF(J19<0,\"\",IF(J19>J20,I19,I20))","v":""},{"$f":"IF(J19<0,\"\",IF(J19>J20,J19,J20))","v":""},"d.",{"$f":"IF(J19<0,\"\",IF(J19>J20,I20,I19))","v":""},{"$f":"IF(J19<0,\"\",IF(J19>J20,J20,J19))","v":""},{"$f":"IF(B19=\"\",\"\",IF(ISTEXT(K19),K19,IF(ISTEXT(K20),K20,\"\")))","v":""},null,{"$f":"RESULTS!C17","v":" Block 1 Player 2"},{"$f":"RESULTS!D17","v":-1E-3},{"$f":"RESULTS!E17","v":-1E-3}]
[null,null,null,null,null,null,null,null,{"$f":"RESULTS!C18","v":" Block 1 Player 6"},{"$f":"RESULTS!D18","v":-1E-3},{"$f":"RESULTS!E18","v":-1E-3}]
[null,{"$f":"IF(J21<0,\"\",IF(J21>J22,I21,I22))","v":""},{"$f":"IF(J21<0,\"\",IF(J21>J22,J21,J22))","v":""},"d.",{"$f":"IF(J21<0,\"\",IF(J21>J22,I22,I21))","v":""},{"$f":"IF(J21<0,\"\",IF(J21>J22,J22,J21))","v":""},{"$f":"IF(B21=\"\",\"\",IF(ISTEXT(K21),K21,IF(ISTEXT(K22),K22,\"\")))","v":""},null,{"$f":"RESULTS!C19","v":" Bye "},{"$f":"RESULTS!D19","v":-1E-3},{"$f":"RESULTS!E19","v":-1E-3}]
[null,null,null,null,null,null,null,null,{"$f":"RESULTS!C20","v":" Block 1 Player 7"},{"$f":"RESULTS!D20","v":-1E-3},{"$f":"RESULTS!E20","v":-1E-3}]
[null,{"$f":"IF(J23<0,\"\",IF(J23>J24,I23,I24))","v":""},{"$f":"IF(J23<0,\"\",IF(J23>J24,J23,J24))","v":""},"d.",{"$f":"IF(J23<0,\"\",IF(J23>J24,I24,I23))","v":""},{"$f":"IF(J23<0,\"\",IF(J23>J24,J24,J23))","v":""},{"$f":"IF(B23=\"\",\"\",IF(ISTEXT(K23),K23,IF(ISTEXT(K24),K24,\"\")))","v":""},null,{"$f":"RESULTS!C21","v":" Block 1 Player 1"},{"$f":"RESULTS!D21","v":-1E-3},{"$f":"RESULTS!E21","v":-1E-3}]
[null,null,null,null,null,null,null,null,{"$f":"RESULTS!C22","v":" Block 1 Player 5"},{"$f":"RESULTS!D22","v":-1E-3},{"$f":"RESULTS!E22","v":-1E-3}]
[null,{"$f":"IF(J25<0,\"\",IF(J25>J26,I25,I26))","v":""},{"$f":"IF(J25<0,\"\",IF(J25>J26,J25,J26))","v":""},"d.",{"$f":"IF(J25<0,\"\",IF(J25>J26,I26,I25))","v":""},{"$f":"IF(J25<0,\"\",IF(J25>J26,J26,J25))","v":""},{"$f":"IF(B25=\"\",\"\",IF(ISTEXT(K25),K25,IF(ISTEXT(K26),K26,\"\")))","v":""},null,{"$f":"RESULTS!C23","v":" Block 1 Player 4"},{"$f":"RESULTS!D23","v":-1E-3},{"$f":"RESULTS!E23","v":-1E-3}]
[null,null,null,null,null,null,null,null,{"$f":"RESULTS!C24","v":" Block 1 Player 6"},{"$f":"RESULTS!D24","v":-1E-3},{"$f":"RESULTS!E24","v":-1E-3}]
[null,{"$f":"IF(J27<0,\"\",IF(J27>J28,I27,I28))","v":""},{"$f":"IF(J27<0,\"\",IF(J27>J28,J27,J28))","v":""},"d.",{"$f":"IF(J27<0,\"\",IF(J27>J28,I28,I27))","v":""},{"$f":"IF(J27<0,\"\",IF(J27>J28,J28,J27))","v":""},{"$f":"IF(B27=\"\",\"\",IF(ISTEXT(K27),K27,IF(ISTEXT(K28),K28,\"\")))","v":""},null,{"$f":"RESULTS!G5","v":" Block 1 Player 3"},{"$f":"RESULTS!H5","v":-1E-3},{"$f":"RESULTS!I5","v":-1E-3}]
[null,null,null,null,null,null,null,null,{"$f":"RESULTS!G6","v":" Block 1 Player 7"},{"$f":"RESULTS!H6","v":-1E-3},{"$f":"RESULTS!I6","v":-1E-3}]
[null,{"$f":"IF(J29<0,\"\",IF(J29>J30,I29,I30))","v":""},{"$f":"IF(J29<0,\"\",IF(J29>J30,J29,J30))","v":""},"d.",{"$f":"IF(J29<0,\"\",IF(J29>J30,I30,I29))","v":""},{"$f":"IF(J29<0,\"\",IF(J29>J30,J30,J29))","v":""},{"$f":"IF(B29=\"\",\"\",IF(ISTEXT(K29),K29,IF(ISTEXT(K30),K30,\"\")))","v":""},null,{"$f":"RESULTS!G7","v":" Block 1 Player 2"},{"$f":"RESULTS!H7","v":-1E-3},{"$f":"RESULTS!I7","v":-1E-3}]
[null,null,null,null,null,null,null,null,{"$f":"RESULTS!G8","v":" Bye "},{"$f":"RESULTS!H8","v":-1E-3},{"$f":"RESULTS!I8","v":-1E-3}]
[null,{"$f":"IF(J31<0,\"\",IF(J31>J32,I31,I32))","v":""},{"$f":"IF(J31<0,\"\",IF(J31>J32,J31,J32))","v":""},"d.",{"$f":"IF(J31<0,\"\",IF(J31>J32,I32,I31))","v":""},{"$f":"IF(J31<0,\"\",IF(J31>J32,J32,J31))","v":""},{"$f":"IF(B31=\"\",\"\",IF(ISTEXT(K31),K31,IF(ISTEXT(K32),K32,\"\")))","v":""},null,{"$f":"RESULTS!G9","v":" Block 1 Player 1"},{"$f":"RESULTS!H9","v":-1E-3},{"$f":"RESULTS!I9","v":-1E-3}]
[null,null,null,null,null,null,null,null,{"$f":"RESULTS!G10","v":" Block 1 Player 6"},{"$f":"RESULTS!H10","v":-1E-3},{"$f":"RESULTS!I10","v":-1E-3}]
[null,{"$f":"IF(J33<0,\"\",IF(J33>J34,I33,I34))","v":""},{"$f":"IF(J33<0,\"\",IF(J33>J34,J33,J34))","v":""},"d.",{"$f":"IF(J33<0,\"\",IF(J33>J34,I34,I33))","v":""},{"$f":"IF(J33<0,\"\",IF(J33>J34,J34,J33))","v":""},{"$f":"IF(B33=\"\",\"\",IF(ISTEXT(K33),K33,IF(ISTEXT(K34),K34,\"\")))","v":""},null,{"$f":"RESULTS!G11","v":" Block 1 Player 5"},{"$f":"RESULTS!H11","v":-1E-3},{"$f":"RESULTS!I11","v":-1E-3}]
[null,null,null,null,null,null,null,null,{"$f":"RESULTS!G12","v":" Block 1 Player 7"},{"$f":"RESULTS!H12","v":-1E-3},{"$f":"RESULTS!I12","v":-1E-3}]
[null,{"$f":"IF(J35<0,\"\",IF(J35>J36,I35,I36))","v":""},{"$f":"IF(J35<0,\"\",IF(J35>J36,J35,J36))","v":""},"d.",{"$f":"IF(J35<0,\"\",IF(J35>J36,I36,I35))","v":""},{"$f":"IF(J35<0,\"\",IF(J35>J36,J36,J35))","v":""},{"$f":"IF(B35=\"\",\"\",IF(ISTEXT(K35),K35,IF(ISTEXT(K36),K36,\"\")))","v":""},null,{"$f":"RESULTS!G13","v":" Block 1 Player 4"},{"$f":"RESULTS!H13","v":-1E-3},{"$f":"RESULTS!I13","v":-1E-3}]
[null,null,null,null,null,null,null,null,{"$f":"RESULTS!G14","v":" Bye "},{"$f":"RESULTS!H14","v":-1E-3},{"$f":"RESULTS!I14","v":-1E-3}]
[null,{"$f":"IF(J37<0,\"\",IF(J37>J38,I37,I38))","v":""},{"$f":"IF(J37<0,\"\",IF(J37>J38,J37,J38))","v":""},"d.",{"$f":"IF(J37<0,\"\",IF(J37>J38,I38,I37))","v":""},{"$f":"IF(J37<0,\"\",IF(J37>J38,J38,J37))","v":""},{"$f":"IF(B37=\"\",\"\",IF(ISTEXT(K37),K37,IF(ISTEXT(K38),K38,\"\")))","v":""},null,{"$f":"RESULTS!G15","v":" Block 1 Player 3"},{"$f":"RESULTS!H15","v":-1E-3},{"$f":"RESULTS!I15","v":-1E-3}]
[null,null,null,null,null,null,null,null,{"$f":"RESULTS!G16","v":" Block 1 Player 2"},{"$f":"RESULTS!H16","v":-1E-3},{"$f":"RESULTS!I16","v":-1E-3}]
[null,{"$f":"IF(J39<0,\"\",IF(J39>J40,I39,I40))","v":""},{"$f":"IF(J39<0,\"\",IF(J39>J40,J39,J40))","v":""},"d.",{"$f":"IF(J39<0,\"\",IF(J39>J40,I40,I39))","v":""},{"$f":"IF(J39<0,\"\",IF(J39>J40,J40,J39))","v":""},{"$f":"IF(B39=\"\",\"\",IF(ISTEXT(K39),K39,IF(ISTEXT(K40),K40,\"\")))","v":""},null,{"$f":"RESULTS!G17","v":" Block 1 Player 1"},{"$f":"RESULTS!H17","v":-1E-3},{"$f":"RESULTS!I17","v":-1E-3}]
[null,null,null,null,null,null,null,null,{"$f":"RESULTS!G18","v":" Block 1 Player 7"},{"$f":"RESULTS!H18","v":-1E-3},{"$f":"RESULTS!I18","v":-1E-3}]
[null,{"$f":"IF(J41<0,\"\",IF(J41>J42,I41,I42))","v":""},{"$f":"IF(J41<0,\"\",IF(J41>J42,J41,J42))","v":""},"d.",{"$f":"IF(J41<0,\"\",IF(J41>J42,I42,I41))","v":""},{"$f":"IF(J41<0,\"\",IF(J41>J42,J42,J41))","v":""},{"$f":"IF(B41=\"\",\"\",IF(ISTEXT(K41),K41,IF(ISTEXT(K42),K42,\"\")))","v":""},null,{"$f":"RESULTS!G19","v":" Block 1 Player 6"},{"$f":"RESULTS!H19","v":-1E-3},{"$f":"RESULTS!I19","v":-1E-3}]
[null,null,null,null,null,null,null,null,{"$f":"RESULTS!G20","v":" Bye "},{"$f":"RESULTS!H20","v":-1E-3},{"$f":"RESULTS!I20","v":-1E-3}]
[null,{"$f":"IF(J43<0,\"\",IF(J43>J44,I43,I44))","v":""},{"$f":"IF(J43<0,\"\",IF(J43>J44,J43,J44))","v":""},"d.",{"$f":"IF(J43<0,\"\",IF(J43>J44,I44,I43))","v":""},{"$f":"IF(J43<0,\"\",IF(J43>J44,J44,J43))","v":""},{"$f":"IF(B43=\"\",\"\",IF(ISTEXT(K43),K43,IF(ISTEXT(K44),K44,\"\")))","v":""},null,{"$f":"RESULTS!G21","v":" Block 1 Player 5"},{"$f":"RESULTS!H21","v":-1E-3},{"$f":"RESULTS!I21","v":-1E-3}]
[null,null,null,null,null,null,null,null,{"$f":"RESULTS!G22","v":" Block 1 Player 2"},{"$f":"RESULTS!H22","v":-1E-3},{"$f":"RESULTS!I22","v":-1E-3}]
[null,{"$f":"IF(J45<0,\"\",IF(J45>J46,I45,I46))","v":""},{"$f":"IF(J45<0,\"\",IF(J45>J46,J45,J46))","v":""},"d.",{"$f":"IF(J45<0,\"\",IF(J45>J46,I46,I45))","v":""},{"$f":"IF(J45<0,\"\",IF(J45>J46,J46,J45))","v":""},{"$f":"IF(B45=\"\",\"\",IF(ISTEXT(K45),K45,IF(ISTEXT(K46),K46,\"\")))","v":""},null,{"$f":"RESULTS!G23","v":" Block 1 Player 4"},{"$f":"RESULTS!H23","v":-1E-3},{"$f":"RESULTS!I23","v":-1E-3}]
[null,null,null,null,null,null,null,null,{"$f":"RESULTS!G24","v":" Block 1 Player 3"},{"$f":"RESULTS!H24","v":-1E-3},{"$f":"RESULTS!I24","v":-1E-3}]
[null,{"$f":"IF(J47<0,\"\",IF(J47>J48,I47,I48))","v":""},{"$f":"IF(J47<0,\"\",IF(J47>J48,J47,J48))","v":""},"d.",{"$f":"IF(J47<0,\"\",IF(J47>J48,I48,I47))","v":""},{"$f":"IF(J47<0,\"\",IF(J47>J48,J48,J47))","v":""},{"$f":"IF(B47=\"\",\"\",IF(ISTEXT(K47),K47,IF(ISTEXT(K48),K48,\"\")))","v":""},null,{"$f":"RESULTS!K5","v":" Block 1 Player 1"},{"$f":"RESULTS!L5","v":-1E-3},{"$f":"RESULTS!M5","v":-1E-3}]
[null,null,null,null,null,null,null,null,{"$f":"RESULTS!K6","v":" Bye "},{"$f":"RESULTS!L6","v":-1E-3},{"$f":"RESULTS!M6","v":-1E-3}]
[null,{"$f":"IF(J49<0,\"\",IF(J49>J50,I49,I50))","v":""},{"$f":"IF(J49<0,\"\",IF(J49>J50,J49,J50))","v":""},"d.",{"$f":"IF(J49<0,\"\",IF(J49>J50,I50,I49))","v":""},{"$f":"IF(J49<0,\"\",IF(J49>J50,J50,J49))","v":""},{"$f":"IF(B49=\"\",\"\",IF(ISTEXT(K49),K49,IF(ISTEXT(K50),K50,\"\")))","v":""},null,{"$f":"RESULTS!K7","v":" Block 1 Player 7"},{"$f":"RESULTS!L7","v":-1E-3},{"$f":"RESULTS!M7","v":-1E-3}]
[null,null,null,null,null,null,null,null,{"$f":"RESULTS!K8","v":" Block 1 Player 2"},{"$f":"RESULTS!L8","v":-1E-3},{"$f":"RESULTS!M8","v":-1E-3}]
[null,{"$f":"IF(J51<0,\"\",IF(J51>J52,I51,I52))","v":""},{"$f":"IF(J51<0,\"\",IF(J51>J52,J51,J52))","v":""},"d.",{"$f":"IF(J51<0,\"\",IF(J51>J52,I52,I51))","v":""},{"$f":"IF(J51<0,\"\",IF(J51>J52,J52,J51))","v":""},{"$f":"IF(B51=\"\",\"\",IF(ISTEXT(K51),K51,IF(ISTEXT(K52),K52,\"\")))","v":""},null,{"$f":"RESULTS!K9","v":" Block 1 Player 6"},{"$f":"RESULTS!L9","v":-1E-3},{"$f":"RESULTS!M9","v":-1E-3}]
[null,null,null,null,null,null,null,null,{"$f":"RESULTS!K10","v":" Block 1 Player 3"},{"$f":"RESULTS!L10","v":-1E-3},{"$f":"RESULTS!M10","v":-1E-3}]
[null,{"$f":"IF(J53<0,\"\",IF(J53>J54,I53,I54))","v":""},{"$f":"IF(J53<0,\"\",IF(J53>J54,J53,J54))","v":""},"d.",{"$f":"IF(J53<0,\"\",IF(J53>J54,I54,I53))","v":""},{"$f":"IF(J53<0,\"\",IF(J53>J54,J54,J53))","v":""},{"$f":"IF(B53=\"\",\"\",IF(ISTEXT(K53),K53,IF(ISTEXT(K54),K54,\"\")))","v":""},null,{"$f":"RESULTS!K11","v":" Block 1 Player 5"},{"$f":"RESULTS!L11","v":-1E-3},{"$f":"RESULTS!M11","v":-1E-3}]
[null,null,null,null,null,null,null,null,{"$f":"RESULTS!K12","v":" Block 1 Player 4"},{"$f":"RESULTS!L12","v":-1E-3},{"$f":"RESULTS!M12","v":-1E-3}]
[null,{"$f":"IF(J55<0,\"\",IF(J55>J56,I55,I56))","v":""},{"$f":"IF(J55<0,\"\",IF(J55>J56,J55,J56))","v":""},"d.",{"$f":"IF(J55<0,\"\",IF(J55>J56,I56,I55))","v":""},{"$f":"IF(J55<0,\"\",IF(J55>J56,J56,J55))","v":""},{"$f":"IF(B55=\"\",\"\",IF(ISTEXT(K55),K55,IF(ISTEXT(K56),K56,\"\")))","v":""},null,{"$f":"RESULTS!K13","v":" Block 1 Player 1"},{"$f":"RESULTS!L13","v":-1E-3},{"$f":"RESULTS!M13","v":-1E-3}]
[null,null,null,null,null,null,null,null,{"$f":"RESULTS!K14","v":" Block 1 Player 2"},{"$f":"RESULTS!L14","v":-1E-3},{"$f":"RESULTS!M14","v":-1E-3}]
[null,{"$f":"IF(J57<0,\"\",IF(J57>J58,I57,I58))","v":""},{"$f":"IF(J57<0,\"\",IF(J57>J58,J57,J58))","v":""},"d.",{"$f":"IF(J57<0,\"\",IF(J57>J58,I58,I57))","v":""},{"$f":"IF(J57<0,\"\",IF(J57>J58,J58,J57))","v":""},{"$f":"IF(B57=\"\",\"\",IF(ISTEXT(K57),K57,IF(ISTEXT(K58),K58,\"\")))","v":""},null,{"$f":"RESULTS!K15","v":" Bye "},{"$f":"RESULTS!L15","v":-1E-3},{"$f":"RESULTS!M15","v":-1E-3}]
[null,null,null,null,null,null,null,null,{"$f":"RESULTS!K16","v":" Block 1 Player 3"},{"$f":"RESULTS!L16","v":-1E-3},{"$f":"RESULTS!M16","v":-1E-3}]
[null,{"$f":"IF(J59<0,\"\",IF(J59>J60,I59,I60))","v":""},{"$f":"IF(J59<0,\"\",IF(J59>J60,J59,J60))","v":""},"d.",{"$f":"IF(J59<0,\"\",IF(J59>J60,I60,I59))","v":""},{"$f":"IF(J59<0,\"\",IF(J59>J60,J60,J59))","v":""},{"$f":"IF(B59=\"\",\"\",IF(ISTEXT(K59),K59,IF(ISTEXT(K60),K60,\"\")))","v":""},null,{"$f":"RESULTS!K17","v":" Block 1 Player 7"},{"$f":"RESULTS!L17","v":-1E-3},{"$f":"RESULTS!M17","v":-1E-3}]
[null,null,null,null,null,null,null,null,{"$f":"RESULTS!K18","v":" Block 1 Player 4"},{"$f":"RESULTS!L18","v":-1E-3},{"$f":"RESULTS!M18","v":-1E-3}]
[null,{"$f":"IF(J61<0,\"\",IF(J61>J62,I61,I62))","v":""},{"$f":"IF(J61<0,\"\",IF(J61>J62,J61,J62))","v":""},"d.",{"$f":"IF(J61<0,\"\",IF(J61>J62,I62,I61))","v":""},{"$f":"IF(J61<0,\"\",IF(J61>J62,J62,J61))","v":""},{"$f":"IF(B61=\"\",\"\",IF(ISTEXT(K61),K61,IF(ISTEXT(K62),K62,\"\")))","v":""},null,{"$f":"RESULTS!K19","v":" Block 1 Player 6"},{"$f":"RESULTS!L19","v":-1E-3},{"$f":"RESULTS!M19","v":-1E-3}]
[null,null,null,null,null,null,null,null,{"$f":"RESULTS!K20","v":" Block 1 Player 5"},{"$f":"RESULTS!L20","v":-1E-3},{"$f":"RESULTS!M20","v":-1E-3}]
[null,{"$f":"NAMES!$C$51","v":"BLOCK 2"},null,null,null,null,null,null,"LU Name 2","Score","Peels"]
[null,{"$f":"IF(J64<0,\"\",IF(J64>J65,I64,I65))","v":""},{"$f":"IF(J64<0,\"\",IF(J64>J65,J64,J65))","v":""},"d.",{"$f":"IF(J64<0,\"\",IF(J64>J65,I65,I64))","v":""},{"$f":"IF(J64<0,\"\",IF(J64>J65,J65,J64))","v":""},{"$f":"IF(B64=\"\",\"\",IF(ISTEXT(K64),K64,IF(ISTEXT(K65),K65,\"\")))","v":""},null,{"$f":"RESULTS!C29","v":" Block 2 Player 1"},{"$f":"RESULTS!D29","v":-1E-3},{"$f":"RESULTS!E29","v":-1E-3}]
[null,null,null,null,null,null,null,null,{"$f":"RESULTS!C30","v":" Block 2 Player 3"},{"$f":"RESULTS!D30","v":-1E-3},{"$f":"RESULTS!E30","v":-1E-3}]
[null,{"$f":"IF(J66<0,\"\",IF(J66>J67,I66,I67))","v":""},{"$f":"IF(J66<0,\"\",IF(J66>J67,J66,J67))","v":""},"d.",{"$f":"IF(J66<0,\"\",IF(J66>J67,I67,I66))","v":""},{"$f":"IF(J66<0,\"\",IF(J66>J67,J67,J66))","v":""},{"$f":"IF(B66=\"\",\"\",IF(ISTEXT(K66),K66,IF(ISTEXT(K67),K67,\"\")))","v":""},null,{"$f":"RESULTS!C31","v":" Block 2 Player 2"},{"$f":"RESULTS!D31","v":-1E-3},{"$f":"RESULTS!E31","v":-1E-3}]
[null,null,null,null,null,null,null,null,{"$f":"RESULTS!C32","v":" Block 2 Player 4"},{"$f":"RESULTS!D32","v":-1E-3},{"$f":"RESULTS!E32","v":-1E-3}]
[null,{"$f":"IF(J68<0,\"\",IF(J68>J69,I68,I69))","v":""},{"$f":"IF(J68<0,\"\",IF(J68>J69,J68,J69))","v":""},"d.",{"$f":"IF(J68<0,\"\",IF(J68>J69,I69,I68))","v":""},{"$f":"IF(J68<0,\"\",IF(J68>J69,J69,J68))","v":""},{"$f":"IF(B68=\"\",\"\",IF(ISTEXT(K68),K68,IF(ISTEXT(K69),K69,\"\")))","v":""},null,{"$f":"RESULTS!C33","v":" Bye "},{"$f":"RESULTS!D33","v":-1E-3},{"$f":"RESULTS!E33","v":-1E-3}]
[null,null,null,null,null,null,null,null,{"$f":"RESULTS!C34","v":" Block 2 Player 5"},{"$f":"RESULTS!D34","v":-1E-3},{"$f":"RESULTS!E34","v":-1E-3}]
[null,{"$f":"IF(J70<0,\"\",IF(J70>J71,I70,I71))","v":""},{"$f":"IF(J70<0,\"\",IF(J70>J71,J70,J71))","v":""},"d.",{"$f":"IF(J70<0,\"\",IF(J70>J71,I71,I70))","v":""},{"$f":"IF(J70<0,\"\",IF(J70>J71,J71,J70))","v":""},{"$f":"IF(B70=\"\",\"\",IF(ISTEXT(K70),K70,IF(ISTEXT(K71),K71,\"\")))","v":""},null,{"$f":"RESULTS!C35","v":" Block 2 Player 7"},{"$f":"RESULTS!D35","v":-1E-3},{"$f":"RESULTS!E35","v":-1E-3}]
[null,null,null,null,null,null,null,null,{"$f":"RESULTS!C36","v":" Block 2 Player 6"},{"$f":"RESULTS!D36","v":-1E-3},{"$f":"RESULTS!E36","v":-1E-3}]
[null,{"$f":"IF(J72<0,\"\",IF(J72>J73,I72,I73))","v":""},{"$f":"IF(J72<0,\"\",IF(J72>J73,J72,J73))","v":""},"d.",{"$f":"IF(J72<0,\"\",IF(J72>J73,I73,I72))","v":""},{"$f":"IF(J72<0,\"\",IF(J72>J73,J73,J72))","v":""},{"$f":"IF(B72=\"\",\"\",IF(ISTEXT(K72),K72,IF(ISTEXT(K73),K73,\"\")))","v":""},null,{"$f":"RESULTS!C37","v":" Block 2 Player 1"},{"$f":"RESULTS!D37","v":-1E-3},{"$f":"RESULTS!E37","v":-1E-3}]
[null,null,null,null,null,null,null,null,{"$f":"RESULTS!C38","v":" Block 2 Player 4"},{"$f":"RESULTS!D38","v":-1E-3},{"$f":"RESULTS!E38","v":-1E-3}]
[null,{"$f":"IF(J74<0,\"\",IF(J74>J75,I74,I75))","v":""},{"$f":"IF(J74<0,\"\",IF(J74>J75,J74,J75))","v":""},"d.",{"$f":"IF(J74<0,\"\",IF(J74>J75,I75,I74))","v":""},{"$f":"IF(J74<0,\"\",IF(J74>J75,J75,J74))","v":""},{"$f":"IF(B74=\"\",\"\",IF(ISTEXT(K74),K74,IF(ISTEXT(K75),K75,\"\")))","v":""},null,{"$f":"RESULTS!C39","v":" Block 2 Player 3"},{"$f":"RESULTS!D39","v":-1E-3},{"$f":"RESULTS!E39","v":-1E-3}]
[null,null,null,null,null,null,null,null,{"$f":"RESULTS!C40","v":" Block 2 Player 5"},{"$f":"RESULTS!D40","v":-1E-3},{"$f":"RESULTS!E40","v":-1E-3}]
[null,{"$f":"IF(J76<0,\"\",IF(J76>J77,I76,I77))","v":""},{"$f":"IF(J76<0,\"\",IF(J76>J77,J76,J77))","v":""},"d.",{"$f":"IF(J76<0,\"\",IF(J76>J77,I77,I76))","v":""},{"$f":"IF(J76<0,\"\",IF(J76>J77,J77,J76))","v":""},{"$f":"IF(B76=\"\",\"\",IF(ISTEXT(K76),K76,IF(ISTEXT(K77),K77,\"\")))","v":""},null,{"$f":"RESULTS!C41","v":" Block 2 Player 2"},{"$f":"RESULTS!D41","v":-1E-3},{"$f":"RESULTS!E41","v":-1E-3}]
[null,null,null,null,null,null,null,null,{"$f":"RESULTS!C42","v":" Block 2 Player 6"},{"$f":"RESULTS!D42","v":-1E-3},{"$f":"RESULTS!E42","v":-1E-3}]
[null,{"$f":"IF(J78<0,\"\",IF(J78>J79,I78,I79))","v":""},{"$f":"IF(J78<0,\"\",IF(J78>J79,J78,J79))","v":""},"d.",{"$f":"IF(J78<0,\"\",IF(J78>J79,I79,I78))","v":""},{"$f":"IF(J78<0,\"\",IF(J78>J79,J79,J78))","v":""},{"$f":"IF(B78=\"\",\"\",IF(ISTEXT(K78),K78,IF(ISTEXT(K79),K79,\"\")))","v":""},null,{"$f":"RESULTS!C43","v":" Bye "},{"$f":"RESULTS!D43","v":-1E-3},{"$f":"RESULTS!E43","v":-1E-3}]
[null,null,null,null,null,null,null,null,{"$f":"RESULTS!C44","v":" Block 2 Player 7"},{"$f":"RESULTS!D44","v":-1E-3},{"$f":"RESULTS!E44","v":-1E-3}]
[null,{"$f":"IF(J80<0,\"\",IF(J80>J81,I80,I81))","v":""},{"$f":"IF(J80<0,\"\",IF(J80>J81,J80,J81))","v":""},"d.",{"$f":"IF(J80<0,\"\",IF(J80>J81,I81,I80))","v":""},{"$f":"IF(J80<0,\"\",IF(J80>J81,J81,J80))","v":""},{"$f":"IF(B80=\"\",\"\",IF(ISTEXT(K80),K80,IF(ISTEXT(K81),K81,\"\")))","v":""},null,{"$f":"RESULTS!C45","v":" Block 2 Player 1"},{"$f":"RESULTS!D45","v":-1E-3},{"$f":"RESULTS!E45","v":-1E-3}]
[null,null,null,null,null,null,null,null,{"$f":"RESULTS!C46","v":" Block 2 Player 5"},{"$f":"RESULTS!D46","v":-1E-3},{"$f":"RESULTS!E46","v":-1E-3}]
[null,{"$f":"IF(J82<0,\"\",IF(J82>J83,I82,I83))","v":""},{"$f":"IF(J82<0,\"\",IF(J82>J83,J82,J83))","v":""},"d.",{"$f":"IF(J82<0,\"\",IF(J82>J83,I83,I82))","v":""},{"$f":"IF(J82<0,\"\",IF(J82>J83,J83,J82))","v":""},{"$f":"IF(B82=\"\",\"\",IF(ISTEXT(K82),K82,IF(ISTEXT(K83),K83,\"\")))","v":""},null,{"$f":"RESULTS!C47","v":" Block 2 Player 4"},{"$f":"RESULTS!D47","v":-1E-3},{"$f":"RESULTS!E47","v":-1E-3}]
[null,null,null,null,null,null,null,null,{"$f":"RESULTS!C48","v":" Block 2 Player 6"},{"$f":"RESULTS!D48","v":-1E-3},{"$f":"RESULTS!E48","v":-1E-3}]
[null,{"$f":"IF(J84<0,\"\",IF(J84>J85,I84,I85))","v":""},{"$f":"IF(J84<0,\"\",IF(J84>J85,J84,J85))","v":""},"d.",{"$f":"IF(J84<0,\"\",IF(J84>J85,I85,I84))","v":""},{"$f":"IF(J84<0,\"\",IF(J84>J85,J85,J84))","v":""},{"$f":"IF(B84=\"\",\"\",IF(ISTEXT(K84),K84,IF(ISTEXT(K85),K85,\"\")))","v":""},null,{"$f":"RESULTS!G29","v":" Block 2 Player 3"},{"$f":"RESULTS!H29","v":-1E-3},{"$f":"RESULTS!I29","v":-1E-3}]
[null,null,null,null,null,null,null,null,{"$f":"RESULTS!G30","v":" Block 2 Player 7"},{"$f":"RESULTS!H30","v":-1E-3},{"$f":"RESULTS!I30","v":-1E-3}]
[null,{"$f":"IF(J86<0,\"\",IF(J86>J87,I86,I87))","v":""},{"$f":"IF(J86<0,\"\",IF(J86>J87,J86,J87))","v":""},"d.",{"$f":"IF(J86<0,\"\",IF(J86>J87,I87,I86))","v":""},{"$f":"IF(J86<0,\"\",IF(J86>J87,J87,J86))","v":""},{"$f":"IF(B86=\"\",\"\",IF(ISTEXT(K86),K86,IF(ISTEXT(K87),K87,\"\")))","v":""},null,{"$f":"RESULTS!G31","v":" Block 2 Player 2"},{"$f":"RESULTS!H31","v":-1E-3},{"$f":"RESULTS!I31","v":-1E-3}]
[null,null,null,null,null,null,null,null,{"$f":"RESULTS!G32","v":" Bye "},{"$f":"RESULTS!H32","v":-1E-3},{"$f":"RESULTS!I32","v":-1E-3}]
[null,{"$f":"IF(J88<0,\"\",IF(J88>J89,I88,I89))","v":""},{"$f":"IF(J88<0,\"\",IF(J88>J89,J88,J89))","v":""},"d.",{"$f":"IF(J88<0,\"\",IF(J88>J89,I89,I88))","v":""},{"$f":"IF(J88<0,\"\",IF(J88>J89,J89,J88))","v":""},{"$f":"IF(B88=\"\",\"\",IF(ISTEXT(K88),K88,IF(ISTEXT(K89),K89,\"\")))","v":""},null,{"$f":"RESULTS!G33","v":" Block 2 Player 1"},{"$f":"RESULTS!H33","v":-1E-3},{"$f":"RESULTS!I33","v":-1E-3}]
[null,null,null,null,null,null,null,null,{"$f":"RESULTS!G34","v":" Block 2 Player 6"},{"$f":"RESULTS!H34","v":-1E-3},{"$f":"RESULTS!I34","v":-1E-3}]
[null,{"$f":"IF(J90<0,\"\",IF(J90>J91,I90,I91))","v":""},{"$f":"IF(J90<0,\"\",IF(J90>J91,J90,J91))","v":""},"d.",{"$f":"IF(J90<0,\"\",IF(J90>J91,I91,I90))","v":""},{"$f":"IF(J90<0,\"\",IF(J90>J91,J91,J90))","v":""},{"$f":"IF(B90=\"\",\"\",IF(ISTEXT(K90),K90,IF(ISTEXT(K91),K91,\"\")))","v":""},null,{"$f":"RESULTS!G35","v":" Block 2 Player 5"},{"$f":"RESULTS!H35","v":-1E-3},{"$f":"RESULTS!I35","v":-1E-3}]
[null,null,null,null,null,null,null,null,{"$f":"RESULTS!G36","v":" Block 2 Player 7"},{"$f":"RESULTS!H36","v":-1E-3},{"$f":"RESULTS!I36","v":-1E-3}]
[null,{"$f":"IF(J92<0,\"\",IF(J92>J93,I92,I93))","v":""},{"$f":"IF(J92<0,\"\",IF(J92>J93,J92,J93))","v":""},"d.",{"$f":"IF(J92<0,\"\",IF(J92>J93,I93,I92))","v":""},{"$f":"IF(J92<0,\"\",IF(J92>J93,J93,J92))","v":""},{"$f":"IF(B92=\"\",\"\",IF(ISTEXT(K92),K92,IF(ISTEXT(K93),K93,\"\")))","v":""},null,{"$f":"RESULTS!G37","v":" Block 2 Player 4"},{"$f":"RESULTS!H37","v":-1E-3},{"$f":"RESULTS!I37","v":-1E-3}]
[null,null,null,null,null,null,null,null,{"$f":"RESULTS!G38","v":" Bye "},{"$f":"RESULTS!H38","v":-1E-3},{"$f":"RESULTS!I38","v":-1E-3}]
[null,{"$f":"IF(J94<0,\"\",IF(J94>J95,I94,I95))","v":""},{"$f":"IF(J94<0,\"\",IF(J94>J95,J94,J95))","v":""},"d.",{"$f":"IF(J94<0,\"\",IF(J94>J95,I95,I94))","v":""},{"$f":"IF(J94<0,\"\",IF(J94>J95,J95,J94))","v":""},{"$f":"IF(B94=\"\",\"\",IF(ISTEXT(K94),K94,IF(ISTEXT(K95),K95,\"\")))","v":""},null,{"$f":"RESULTS!G39","v":" Block 2 Player 3"},{"$f":"RESULTS!H39","v":-1E-3},{"$f":"RESULTS!I39","v":-1E-3}]
[null,null,null,null,null,null,null,null,{"$f":"RESULTS!G40","v":" Block 2 Player 2"},{"$f":"RESULTS!H40","v":-1E-3},{"$f":"RESULTS!I40","v":-1E-3}]
[null,{"$f":"IF(J96<0,\"\",IF(J96>J97,I96,I97))","v":""},{"$f":"IF(J96<0,\"\",IF(J96>J97,J96,J97))","v":""},"d.",{"$f":"IF(J96<0,\"\",IF(J96>J97,I97,I96))","v":""},{"$f":"IF(J96<0,\"\",IF(J96>J97,J97,J96))","v":""},{"$f":"IF(B96=\"\",\"\",IF(ISTEXT(K96),K96,IF(ISTEXT(K97),K97,\"\")))","v":""},null,{"$f":"RESULTS!G41","v":" Block 2 Player 1"},{"$f":"RESULTS!H41","v":-1E-3},{"$f":"RESULTS!I41","v":-1E-3}]
[null,null,null,null,null,null,null,null,{"$f":"RESULTS!G42","v":" Block 2 Player 7"},{"$f":"RESULTS!H42","v":-1E-3},{"$f":"RESULTS!I42","v":-1E-3}]
[null,{"$f":"IF(J98<0,\"\",IF(J98>J99,I98,I99))","v":""},{"$f":"IF(J98<0,\"\",IF(J98>J99,J98,J99))","v":""},"d.",{"$f":"IF(J98<0,\"\",IF(J98>J99,I99,I98))","v":""},{"$f":"IF(J98<0,\"\",IF(J98>J99,J99,J98))","v":""},{"$f":"IF(B98=\"\",\"\",IF(ISTEXT(K98),K98,IF(ISTEXT(K99),K99,\"\")))","v":""},null,{"$f":"RESULTS!G43","v":" Block 2 Player 6"},{"$f":"RESULTS!H43","v":-1E-3},{"$f":"RESULTS!I43","v":-1E-3}]
[null,null,null,null,null,null,null,null,{"$f":"RESULTS!G44","v":" Bye "},{"$f":"RESULTS!H44","v":-1E-3},{"$f":"RESULTS!I44","v":-1E-3}]
[null,{"$f":"IF(J100<0,\"\",IF(J100>J101,I100,I101))","v":""},{"$f":"IF(J100<0,\"\",IF(J100>J101,J100,J101))","v":""},"d.",{"$f":"IF(J100<0,\"\",IF(J100>J101,I101,I100))","v":""},{"$f":"IF(J100<0,\"\",IF(J100>J101,J101,J100))","v":""},{"$f":"IF(B100=\"\",\"\",IF(ISTEXT(K100),K100,IF(ISTEXT(K101),K101,\"\")))","v":""},null,{"$f":"RESULTS!G45","v":" Block 2 Player 5"},{"$f":"RESULTS!H45","v":-1E-3},{"$f":"RESULTS!I45","v":-1E-3}]
[null,null,null,null,null,null,null,null,{"$f":"RESULTS!G46","v":" Block 2 Player 2"},{"$f":"RESULTS!H46","v":-1E-3},{"$f":"RESULTS!I46","v":-1E-3}]
[null,{"$f":"IF(J102<0,\"\",IF(J102>J103,I102,I103))","v":""},{"$f":"IF(J102<0,\"\",IF(J102>J103,J102,J103))","v":""},"d.",{"$f":"IF(J102<0,\"\",IF(J102>J103,I103,I102))","v":""},{"$f":"IF(J102<0,\"\",IF(J102>J103,J103,J102))","v":""},{"$f":"IF(B102=\"\",\"\",IF(ISTEXT(K102),K102,IF(ISTEXT(K103),K103,\"\")))","v":""},null,{"$f":"RESULTS!G47","v":" Block 2 Player 4"},{"$f":"RESULTS!H47","v":-1E-3},{"$f":"RESULTS!I47","v":-1E-3}]
[null,null,null,null,null,null,null,null,{"$f":"RESULTS!G48","v":" Block 2 Player 3"},{"$f":"RESULTS!H48","v":-1E-3},{"$f":"RESULTS!I48","v":-1E-3}]
[null,{"$f":"IF(J104<0,\"\",IF(J104>J105,I104,I105))","v":""},{"$f":"IF(J104<0,\"\",IF(J104>J105,J104,J105))","v":""},"d.",{"$f":"IF(J104<0,\"\",IF(J104>J105,I105,I104))","v":""},{"$f":"IF(J104<0,\"\",IF(J104>J105,J105,J104))","v":""},{"$f":"IF(B104=\"\",\"\",IF(ISTEXT(K104),K104,IF(ISTEXT(K105),K105,\"\")))","v":""},null,{"$f":"RESULTS!K29","v":" Block 2 Player 1"},{"$f":"RESULTS!L29","v":-1E-3},{"$f":"RESULTS!M29","v":-1E-3}]
[null,null,null,null,null,null,null,null,{"$f":"RESULTS!K30","v":" Bye "},{"$f":"RESULTS!L30","v":-1E-3},{"$f":"RESULTS!M30","v":-1E-3}]
[null,{"$f":"IF(J106<0,\"\",IF(J106>J107,I106,I107))","v":""},{"$f":"IF(J106<0,\"\",IF(J106>J107,J106,J107))","v":""},"d.",{"$f":"IF(J106<0,\"\",IF(J106>J107,I107,I106))","v":""},{"$f":"IF(J106<0,\"\",IF(J106>J107,J107,J106))","v":""},{"$f":"IF(B106=\"\",\"\",IF(ISTEXT(K106),K106,IF(ISTEXT(K107),K107,\"\")))","v":""},null,{"$f":"RESULTS!K31","v":" Block 2 Player 7"},{"$f":"RESULTS!L31","v":-1E-3},{"$f":"RESULTS!M31","v":-1E-3}]
[null,null,null,null,null,null,null,null,{"$f":"RESULTS!K32","v":" Block 2 Player 2"},{"$f":"RESULTS!L32","v":-1E-3},{"$f":"RESULTS!M32","v":-1E-3}]
[null,{"$f":"IF(J108<0,\"\",IF(J108>J109,I108,I109))","v":""},{"$f":"IF(J108<0,\"\",IF(J108>J109,J108,J109))","v":""},"d.",{"$f":"IF(J108<0,\"\",IF(J108>J109,I109,I108))","v":""},{"$f":"IF(J108<0,\"\",IF(J108>J109,J109,J108))","v":""},{"$f":"IF(B108=\"\",\"\",IF(ISTEXT(K108),K108,IF(ISTEXT(K109),K109,\"\")))","v":""},null,{"$f":"RESULTS!K33","v":" Block 2 Player 6"},{"$f":"RESULTS!L33","v":-1E-3},{"$f":"RESULTS!M33","v":-1E-3}]
[null,null,null,null,null,null,null,null,{"$f":"RESULTS!K34","v":" Block 2 Player 3"},{"$f":"RESULTS!L34","v":-1E-3},{"$f":"RESULTS!M34","v":-1E-3}]
[null,{"$f":"IF(J110<0,\"\",IF(J110>J111,I110,I111))","v":""},{"$f":"IF(J110<0,\"\",IF(J110>J111,J110,J111))","v":""},"d.",{"$f":"IF(J110<0,\"\",IF(J110>J111,I111,I110))","v":""},{"$f":"IF(J110<0,\"\",IF(J110>J111,J111,J110))","v":""},{"$f":"IF(B110=\"\",\"\",IF(ISTEXT(K110),K110,IF(ISTEXT(K111),K111,\"\")))","v":""},null,{"$f":"RESULTS!K35","v":" Block 2 Player 5"},{"$f":"RESULTS!L35","v":-1E-3},{"$f":"RESULTS!M35","v":-1E-3}]
[null,null,null,null,null,null,null,null,{"$f":"RESULTS!K36","v":" Block 2 Player 4"},{"$f":"RESULTS!L36","v":-1E-3},{"$f":"RESULTS!M36","v":-1E-3}]
[null,{"$f":"IF(J112<0,\"\",IF(J112>J113,I112,I113))","v":""},{"$f":"IF(J112<0,\"\",IF(J112>J113,J112,J113))","v":""},"d.",{"$f":"IF(J112<0,\"\",IF(J112>J113,I113,I112))","v":""},{"$f":"IF(J112<0,\"\",IF(J112>J113,J113,J112))","v":""},{"$f":"IF(B112=\"\",\"\",IF(ISTEXT(K112),K112,IF(ISTEXT(K113),K113,\"\")))","v":""},null,{"$f":"RESULTS!K37","v":" Block 2 Player 1"},{"$f":"RESULTS!L37","v":-1E-3},{"$f":"RESULTS!M37","v":-1E-3}]
[null,null,null,null,null,null,null,null,{"$f":"RESULTS!K38","v":" Block 2 Player 2"},{"$f":"RESULTS!L38","v":-1E-3},{"$f":"RESULTS!M38","v":-1E-3}]
[null,{"$f":"IF(J114<0,\"\",IF(J114>J115,I114,I115))","v":""},{"$f":"IF(J114<0,\"\",IF(J114>J115,J114,J115))","v":""},"d.",{"$f":"IF(J114<0,\"\",IF(J114>J115,I115,I114))","v":""},{"$f":"IF(J114<0,\"\",IF(J114>J115,J115,J114))","v":""},{"$f":"IF(B114=\"\",\"\",IF(ISTEXT(K114),K114,IF(ISTEXT(K115),K115,\"\")))","v":""},null,{"$f":"RESULTS!K39","v":" Bye "},{"$f":"RESULTS!L39","v":-1E-3},{"$f":"RESULTS!M39","v":-1E-3}]
[null,null,null,null,null,null,null,null,{"$f":"RESULTS!K40","v":" Block 2 Player 3"},{"$f":"RESULTS!L40","v":-1E-3},{"$f":"RESULTS!M40","v":-1E-3}]
[null,{"$f":"IF(J116<0,\"\",IF(J116>J117,I116,I117))","v":""},{"$f":"IF(J116<0,\"\",IF(J116>J117,J116,J117))","v":""},"d.",{"$f":"IF(J116<0,\"\",IF(J116>J117,I117,I116))","v":""},{"$f":"IF(J116<0,\"\",IF(J116>J117,J117,J116))","v":""},{"$f":"IF(B116=\"\",\"\",IF(ISTEXT(K116),K116,IF(ISTEXT(K117),K117,\"\")))","v":""},null,{"$f":"RESULTS!K41","v":" Block 2 Player 7"},{"$f":"RESULTS!L41","v":-1E-3},{"$f":"RESULTS!M41","v":-1E-3}]
[null,null,null,null,null,null,null,null,{"$f":"RESULTS!K42","v":" Block 2 Player 4"},{"$f":"RESULTS!L42","v":-1E-3},{"$f":"RESULTS!M42","v":-1E-3}]
[null,{"$f":"IF(J118<0,\"\",IF(J118>J119,I118,I119))","v":""},{"$f":"IF(J118<0,\"\",IF(J118>J119,J118,J119))","v":""},"d.",{"$f":"IF(J118<0,\"\",IF(J118>J119,I119,I118))","v":""},{"$f":"IF(J118<0,\"\",IF(J118>J119,J119,J118))","v":""},{"$f":"IF(B118=\"\",\"\",IF(ISTEXT(K118),K118,IF(ISTEXT(K119),K119,\"\")))","v":""},null,{"$f":"RESULTS!K43","v":" Block 2 Player 6"},{"$f":"RESULTS!L43","v":-1E-3},{"$f":"RESULTS!M43","v":-1E-3}]
[null,null,null,null,null,null,null,null,{"$f":"RESULTS!K44","v":" Block 2 Player 5"},{"$f":"RESULTS!L44","v":-1E-3},{"$f":"RESULTS!M44","v":-1E-3}]
[null,{"$f":"NAMES!$C$92","v":"BLOCK 3"},null,null,null,null,null,null,"LU Name 3","Score","Peels"]
[null,{"$f":"IF(J121<0,\"\",IF(J121>J122,I121,I122))","v":""},{"$f":"IF(J121<0,\"\",IF(J121>J122,J121,J122))","v":""},"d.",{"$f":"IF(J121<0,\"\",IF(J121>J122,I122,I121))","v":""},{"$f":"IF(J121<0,\"\",IF(J121>J122,J122,J121))","v":""},{"$f":"IF(B121=\"\",\"\",IF(ISTEXT(K121),K121,IF(ISTEXT(K122),K122,\"\")))","v":""},null,{"$f":"RESULTS!C53","v":" Block 3 Player 1"},{"$f":"RESULTS!D53","v":-1E-3},{"$f":"RESULTS!E53","v":-1E-3}]
[null,null,null,null,null,null,null,null,{"$f":"RESULTS!C54","v":" Block 3 Player 3"},{"$f":"RESULTS!D54","v":-1E-3},{"$f":"RESULTS!E54","v":-1E-3}]
[null,{"$f":"IF(J123<0,\"\",IF(J123>J124,I123,I124))","v":""},{"$f":"IF(J123<0,\"\",IF(J123>J124,J123,J124))","v":""},"d.",{"$f":"IF(J123<0,\"\",IF(J123>J124,I124,I123))","v":""},{"$f":"IF(J123<0,\"\",IF(J123>J124,J124,J123))","v":""},{"$f":"IF(B123=\"\",\"\",IF(ISTEXT(K123),K123,IF(ISTEXT(K124),K124,\"\")))","v":""},null,{"$f":"RESULTS!C55","v":" Block 3 Player 2"},{"$f":"RESULTS!D55","v":-1E-3},{"$f":"RESULTS!E55","v":-1E-3}]
[null,null,null,null,null,null,null,null,{"$f":"RESULTS!C56","v":" Block 3 Player 4"},{"$f":"RESULTS!D56","v":-1E-3},{"$f":"RESULTS!E56","v":-1E-3}]
[null,{"$f":"IF(J125<0,\"\",IF(J125>J126,I125,I126))","v":""},{"$f":"IF(J125<0,\"\",IF(J125>J126,J125,J126))","v":""},"d.",{"$f":"IF(J125<0,\"\",IF(J125>J126,I126,I125))","v":""},{"$f":"IF(J125<0,\"\",IF(J125>J126,J126,J125))","v":""},{"$f":"IF(B125=\"\",\"\",IF(ISTEXT(K125),K125,IF(ISTEXT(K126),K126,\"\")))","v":""},null,{"$f":"RESULTS!C57","v":" Bye "},{"$f":"RESULTS!D57","v":-1E-3},{"$f":"RESULTS!E57","v":-1E-3}]
[null,null,null,null,null,null,null,null,{"$f":"RESULTS!C58","v":" Block 3 Player 5"},{"$f":"RESULTS!D58","v":-1E-3},{"$f":"RESULTS!E58","v":-1E-3}]
[null,{"$f":"IF(J127<0,\"\",IF(J127>J128,I127,I128))","v":""},{"$f":"IF(J127<0,\"\",IF(J127>J128,J127,J128))","v":""},"d.",{"$f":"IF(J127<0,\"\",IF(J127>J128,I128,I127))","v":""},{"$f":"IF(J127<0,\"\",IF(J127>J128,J128,J127))","v":""},{"$f":"IF(B127=\"\",\"\",IF(ISTEXT(K127),K127,IF(ISTEXT(K128),K128,\"\")))","v":""},null,{"$f":"RESULTS!C59","v":" Block 3 Player 7"},{"$f":"RESULTS!D59","v":-1E-3},{"$f":"RESULTS!E59","v":-1E-3}]
[null,null,null,null,null,null,null,null,{"$f":"RESULTS!C60","v":" Block 3 Player 6"},{"$f":"RESULTS!D60","v":-1E-3},{"$f":"RESULTS!E60","v":-1E-3}]
[null,{"$f":"IF(J129<0,\"\",IF(J129>J130,I129,I130))","v":""},{"$f":"IF(J129<0,\"\",IF(J129>J130,J129,J130))","v":""},"d.",{"$f":"IF(J129<0,\"\",IF(J129>J130,I130,I129))","v":""},{"$f":"IF(J129<0,\"\",IF(J129>J130,J130,J129))","v":""},{"$f":"IF(B129=\"\",\"\",IF(ISTEXT(K129),K129,IF(ISTEXT(K130),K130,\"\")))","v":""},null,{"$f":"RESULTS!C61","v":" Block 3 Player 1"},{"$f":"RESULTS!D61","v":-1E-3},{"$f":"RESULTS!E61","v":-1E-3}]
[null,null,null,null,null,null,null,null,{"$f":"RESULTS!C62","v":" Block 3 Player 4"},{"$f":"RESULTS!D62","v":-1E-3},{"$f":"RESULTS!E62","v":-1E-3}]
[null,{"$f":"IF(J131<0,\"\",IF(J131>J132,I131,I132))","v":""},{"$f":"IF(J131<0,\"\",IF(J131>J132,J131,J132))","v":""},"d.",{"$f":"IF(J131<0,\"\",IF(J131>J132,I132,I131))","v":""},{"$f":"IF(J131<0,\"\",IF(J131>J132,J132,J131))","v":""},{"$f":"IF(B131=\"\",\"\",IF(ISTEXT(K131),K131,IF(ISTEXT(K132),K132,\"\")))","v":""},null,{"$f":"RESULTS!C63","v":" Block 3 Player 3"},{"$f":"RESULTS!D63","v":-1E-3},{"$f":"RESULTS!E63","v":-1E-3}]
[null,null,null,null,null,null,null,null,{"$f":"RESULTS!C64","v":" Block 3 Player 5"},{"$f":"RESULTS!D64","v":-1E-3},{"$f":"RESULTS!E64","v":-1E-3}]
[null,{"$f":"IF(J133<0,\"\",IF(J133>J134,I133,I134))","v":""},{"$f":"IF(J133<0,\"\",IF(J133>J134,J133,J134))","v":""},"d.",{"$f":"IF(J133<0,\"\",IF(J133>J134,I134,I133))","v":""},{"$f":"IF(J133<0,\"\",IF(J133>J134,J134,J133))","v":""},{"$f":"IF(B133=\"\",\"\",IF(ISTEXT(K133),K133,IF(ISTEXT(K134),K134,\"\")))","v":""},null,{"$f":"RESULTS!C65","v":" Block 3 Player 2"},{"$f":"RESULTS!D65","v":-1E-3},{"$f":"RESULTS!E65","v":-1E-3}]
[null,null,null,null,null,null,null,null,{"$f":"RESULTS!C66","v":" Block 3 Player 6"},{"$f":"RESULTS!D66","v":-1E-3},{"$f":"RESULTS!E66","v":-1E-3}]
[null,{"$f":"IF(J135<0,\"\",IF(J135>J136,I135,I136))","v":""},{"$f":"IF(J135<0,\"\",IF(J135>J136,J135,J136))","v":""},"d.",{"$f":"IF(J135<0,\"\",IF(J135>J136,I136,I135))","v":""},{"$f":"IF(J135<0,\"\",IF(J135>J136,J136,J135))","v":""},{"$f":"IF(B135=\"\",\"\",IF(ISTEXT(K135),K135,IF(ISTEXT(K136),K136,\"\")))","v":""},null,{"$f":"RESULTS!C67","v":" Bye "},{"$f":"RESULTS!D67","v":-1E-3},{"$f":"RESULTS!E67","v":-1E-3}]
[null,null,null,null,null,null,null,null,{"$f":"RESULTS!C68","v":" Block 3 Player 7"},{"$f":"RESULTS!D68","v":-1E-3},{"$f":"RESULTS!E68","v":-1E-3}]
[null,{"$f":"IF(J137<0,\"\",IF(J137>J138,I137,I138))","v":""},{"$f":"IF(J137<0,\"\",IF(J137>J138,J137,J138))","v":""},"d.",{"$f":"IF(J137<0,\"\",IF(J137>J138,I138,I137))","v":""},{"$f":"IF(J137<0,\"\",IF(J137>J138,J138,J137))","v":""},{"$f":"IF(B137=\"\",\"\",IF(ISTEXT(K137),K137,IF(ISTEXT(K138),K138,\"\")))","v":""},null,{"$f":"RESULTS!C69","v":" Block 3 Player 1"},{"$f":"RESULTS!D69","v":-1E-3},{"$f":"RESULTS!E69","v":-1E-3}]
[null,null,null,null,null,null,null,null,{"$f":"RESULTS!C70","v":" Block 3 Player 5"},{"$f":"RESULTS!D70","v":-1E-3},{"$f":"RESULTS!E70","v":-1E-3}]
[null,{"$f":"IF(J139<0,\"\",IF(J139>J140,I139,I140))","v":""},{"$f":"IF(J139<0,\"\",IF(J139>J140,J139,J140))","v":""},"d.",{"$f":"IF(J139<0,\"\",IF(J139>J140,I140,I139))","v":""},{"$f":"IF(J139<0,\"\",IF(J139>J140,J140,J139))","v":""},{"$f":"IF(B139=\"\",\"\",IF(ISTEXT(K139),K139,IF(ISTEXT(K140),K140,\"\")))","v":""},null,{"$f":"RESULTS!C71","v":" Block 3 Player 4"},{"$f":"RESULTS!D71","v":-1E-3},{"$f":"RESULTS!E71","v":-1E-3}]
[null,null,null,null,null,null,null,null,{"$f":"RESULTS!C72","v":" Block 3 Player 6"},{"$f":"RESULTS!D72","v":-1E-3},{"$f":"RESULTS!E72","v":-1E-3}]
[null,{"$f":"IF(J141<0,\"\",IF(J141>J142,I141,I142))","v":""},{"$f":"IF(J141<0,\"\",IF(J141>J142,J141,J142))","v":""},"d.",{"$f":"IF(J141<0,\"\",IF(J141>J142,I142,I141))","v":""},{"$f":"IF(J141<0,\"\",IF(J141>J142,J142,J141))","v":""},{"$f":"IF(B141=\"\",\"\",IF(ISTEXT(K141),K141,IF(ISTEXT(K142),K142,\"\")))","v":""},null,{"$f":"RESULTS!G53","v":" Block 3 Player 3"},{"$f":"RESULTS!H53","v":-1E-3},{"$f":"RESULTS!I53","v":-1E-3}]
[null,null,null,null,null,null,null,null,{"$f":"RESULTS!G54","v":" Block 3 Player 7"},{"$f":"RESULTS!H54","v":-1E-3},{"$f":"RESULTS!I54","v":-1E-3}]
[null,{"$f":"IF(J143<0,\"\",IF(J143>J144,I143,I144))","v":""},{"$f":"IF(J143<0,\"\",IF(J143>J144,J143,J144))","v":""},"d.",{"$f":"IF(J143<0,\"\",IF(J143>J144,I144,I143))","v":""},{"$f":"IF(J143<0,\"\",IF(J143>J144,J144,J143))","v":""},{"$f":"IF(B143=\"\",\"\",IF(ISTEXT(K143),K143,IF(ISTEXT(K144),K144,\"\")))","v":""},null,{"$f":"RESULTS!G55","v":" Block 3 Player 2"},{"$f":"RESULTS!H55","v":-1E-3},{"$f":"RESULTS!I55","v":-1E-3}]
[null,null,null,null,null,null,null,null,{"$f":"RESULTS!G56","v":" Bye "},{"$f":"RESULTS!H56","v":-1E-3},{"$f":"RESULTS!I56","v":-1E-3}]
[null,{"$f":"IF(J145<0,\"\",IF(J145>J146,I145,I146))","v":""},{"$f":"IF(J145<0,\"\",IF(J145>J146,J145,J146))","v":""},"d.",{"$f":"IF(J145<0,\"\",IF(J145>J146,I146,I145))","v":""},{"$f":"IF(J145<0,\"\",IF(J145>J146,J146,J145))","v":""},{"$f":"IF(B145=\"\",\"\",IF(ISTEXT(K145),K145,IF(ISTEXT(K146),K146,\"\")))","v":""},null,{"$f":"RESULTS!G57","v":" Block 3 Player 1"},{"$f":"RESULTS!H57","v":-1E-3},{"$f":"RESULTS!I57","v":-1E-3}]
[null,null,null,null,null,null,null,null,{"$f":"RESULTS!G58","v":" Block 3 Player 6"},{"$f":"RESULTS!H58","v":-1E-3},{"$f":"RESULTS!I58","v":-1E-3}]
[null,{"$f":"IF(J147<0,\"\",IF(J147>J148,I147,I148))","v":""},{"$f":"IF(J147<0,\"\",IF(J147>J148,J147,J148))","v":""},"d.",{"$f":"IF(J147<0,\"\",IF(J147>J148,I148,I147))","v":""},{"$f":"IF(J147<0,\"\",IF(J147>J148,J148,J147))","v":""},{"$f":"IF(B147=\"\",\"\",IF(ISTEXT(K147),K147,IF(ISTEXT(K148),K148,\"\")))","v":""},null,{"$f":"RESULTS!G59","v":" Block 3 Player 5"},{"$f":"RESULTS!H59","v":-1E-3},{"$f":"RESULTS!I59","v":-1E-3}]
[null,null,null,null,null,null,null,null,{"$f":"RESULTS!G60","v":" Block 3 Player 7"},{"$f":"RESULTS!H60","v":-1E-3},{"$f":"RESULTS!I60","v":-1E-3}]
[null,{"$f":"IF(J149<0,\"\",IF(J149>J150,I149,I150))","v":""},{"$f":"IF(J149<0,\"\",IF(J149>J150,J149,J150))","v":""},"d.",{"$f":"IF(J149<0,\"\",IF(J149>J150,I150,I149))","v":""},{"$f":"IF(J149<0,\"\",IF(J149>J150,J150,J149))","v":""},{"$f":"IF(B149=\"\",\"\",IF(ISTEXT(K149),K149,IF(ISTEXT(K150),K150,\"\")))","v":""},null,{"$f":"RESULTS!G61","v":" Block 3 Player 4"},{"$f":"RESULTS!H61","v":-1E-3},{"$f":"RESULTS!I61","v":-1E-3}]
[null,null,null,null,null,null,null,null,{"$f":"RESULTS!G62","v":" Bye "},{"$f":"RESULTS!H62","v":-1E-3},{"$f":"RESULTS!I62","v":-1E-3}]
[null,{"$f":"IF(J151<0,\"\",IF(J151>J152,I151,I152))","v":""},{"$f":"IF(J151<0,\"\",IF(J151>J152,J151,J152))","v":""},"d.",{"$f":"IF(J151<0,\"\",IF(J151>J152,I152,I151))","v":""},{"$f":"IF(J151<0,\"\",IF(J151>J152,J152,J151))","v":""},{"$f":"IF(B151=\"\",\"\",IF(ISTEXT(K151),K151,IF(ISTEXT(K152),K152,\"\")))","v":""},null,{"$f":"RESULTS!G63","v":" Block 3 Player 3"},{"$f":"RESULTS!H63","v":-1E-3},{"$f":"RESULTS!I63","v":-1E-3}]
[null,null,null,null,null,null,null,null,{"$f":"RESULTS!G64","v":" Block 3 Player 2"},{"$f":"RESULTS!H64","v":-1E-3},{"$f":"RESULTS!I64","v":-1E-3}]
[null,{"$f":"IF(J153<0,\"\",IF(J153>J154,I153,I154))","v":""},{"$f":"IF(J153<0,\"\",IF(J153>J154,J153,J154))","v":""},"d.",{"$f":"IF(J153<0,\"\",IF(J153>J154,I154,I153))","v":""},{"$f":"IF(J153<0,\"\",IF(J153>J154,J154,J153))","v":""},{"$f":"IF(B153=\"\",\"\",IF(ISTEXT(K153),K153,IF(ISTEXT(K154),K154,\"\")))","v":""},null,{"$f":"RESULTS!G65","v":" Block 3 Player 1"},{"$f":"RESULTS!H65","v":-1E-3},{"$f":"RESULTS!I65","v":-1E-3}]
[null,null,null,null,null,null,null,null,{"$f":"RESULTS!G66","v":" Block 3 Player 7"},{"$f":"RESULTS!H66","v":-1E-3},{"$f":"RESULTS!I66","v":-1E-3}]
[null,{"$f":"IF(J155<0,\"\",IF(J155>J156,I155,I156))","v":""},{"$f":"IF(J155<0,\"\",IF(J155>J156,J155,J156))","v":""},"d.",{"$f":"IF(J155<0,\"\",IF(J155>J156,I156,I155))","v":""},{"$f":"IF(J155<0,\"\",IF(J155>J156,J156,J155))","v":""},{"$f":"IF(B155=\"\",\"\",IF(ISTEXT(K155),K155,IF(ISTEXT(K156),K156,\"\")))","v":""},null,{"$f":"RESULTS!G67","v":" Block 3 Player 6"},{"$f":"RESULTS!H67","v":-1E-3},{"$f":"RESULTS!I67","v":-1E-3}]
[null,null,null,null,null,null,null,null,{"$f":"RESULTS!G68","v":" Bye "},{"$f":"RESULTS!H68","v":-1E-3},{"$f":"RESULTS!I68","v":-1E-3}]
[null,{"$f":"IF(J157<0,\"\",IF(J157>J158,I157,I158))","v":""},{"$f":"IF(J157<0,\"\",IF(J157>J158,J157,J158))","v":""},"d.",{"$f":"IF(J157<0,\"\",IF(J157>J158,I158,I157))","v":""},{"$f":"IF(J157<0,\"\",IF(J157>J158,J158,J157))","v":""},{"$f":"IF(B157=\"\",\"\",IF(ISTEXT(K157),K157,IF(ISTEXT(K158),K158,\"\")))","v":""},null,{"$f":"RESULTS!G69","v":" Block 3 Player 5"},{"$f":"RESULTS!H69","v":-1E-3},{"$f":"RESULTS!I69","v":-1E-3}]
[null,null,null,null,null,null,null,null,{"$f":"RESULTS!G70","v":" Block 3 Player 2"},{"$f":"RESULTS!H70","v":-1E-3},{"$f":"RESULTS!I70","v":-1E-3}]
[null,{"$f":"IF(J159<0,\"\",IF(J159>J160,I159,I160))","v":""},{"$f":"IF(J159<0,\"\",IF(J159>J160,J159,J160))","v":""},"d.",{"$f":"IF(J159<0,\"\",IF(J159>J160,I160,I159))","v":""},{"$f":"IF(J159<0,\"\",IF(J159>J160,J160,J159))","v":""},{"$f":"IF(B159=\"\",\"\",IF(ISTEXT(K159),K159,IF(ISTEXT(K160),K160,\"\")))","v":""},null,{"$f":"RESULTS!G71","v":" Block 3 Player 4"},{"$f":"RESULTS!H71","v":-1E-3},{"$f":"RESULTS!I71","v":-1E-3}]
[null,null,null,null,null,null,null,null,{"$f":"RESULTS!G72","v":" Block 3 Player 3"},{"$f":"RESULTS!H72","v":-1E-3},{"$f":"RESULTS!I72","v":-1E-3}]
[null,{"$f":"IF(J161<0,\"\",IF(J161>J162,I161,I162))","v":""},{"$f":"IF(J161<0,\"\",IF(J161>J162,J161,J162))","v":""},"d.",{"$f":"IF(J161<0,\"\",IF(J161>J162,I162,I161))","v":""},{"$f":"IF(J161<0,\"\",IF(J161>J162,J162,J161))","v":""},{"$f":"IF(B161=\"\",\"\",IF(ISTEXT(K161),K161,IF(ISTEXT(K162),K162,\"\")))","v":""},null,{"$f":"RESULTS!K53","v":" Block 3 Player 1"},{"$f":"RESULTS!L53","v":-1E-3},{"$f":"RESULTS!M53","v":-1E-3}]
[null,null,null,null,null,null,null,null,{"$f":"RESULTS!K54","v":" Bye "},{"$f":"RESULTS!L54","v":-1E-3},{"$f":"RESULTS!M54","v":-1E-3}]
[null,{"$f":"IF(J163<0,\"\",IF(J163>J164,I163,I164))","v":""},{"$f":"IF(J163<0,\"\",IF(J163>J164,J163,J164))","v":""},"d.",{"$f":"IF(J163<0,\"\",IF(J163>J164,I164,I163))","v":""},{"$f":"IF(J163<0,\"\",IF(J163>J164,J164,J163))","v":""},{"$f":"IF(B163=\"\",\"\",IF(ISTEXT(K163),K163,IF(ISTEXT(K164),K164,\"\")))","v":""},null,{"$f":"RESULTS!K55","v":" Block 3 Player 7"},{"$f":"RESULTS!L55","v":-1E-3},{"$f":"RESULTS!M55","v":-1E-3}]
[null,null,null,null,null,null,null,null,{"$f":"RESULTS!K56","v":" Block 3 Player 2"},{"$f":"RESULTS!L56","v":-1E-3},{"$f":"RESULTS!M56","v":-1E-3}]
[null,{"$f":"IF(J165<0,\"\",IF(J165>J166,I165,I166))","v":""},{"$f":"IF(J165<0,\"\",IF(J165>J166,J165,J166))","v":""},"d.",{"$f":"IF(J165<0,\"\",IF(J165>J166,I166,I165))","v":""},{"$f":"IF(J165<0,\"\",IF(J165>J166,J166,J165))","v":""},{"$f":"IF(B165=\"\",\"\",IF(ISTEXT(K165),K165,IF(ISTEXT(K166),K166,\"\")))","v":""},null,{"$f":"RESULTS!K57","v":" Block 3 Player 6"},{"$f":"RESULTS!L57","v":-1E-3},{"$f":"RESULTS!M57","v":-1E-3}]
[null,null,null,null,null,null,null,null,{"$f":"RESULTS!K58","v":" Block 3 Player 3"},{"$f":"RESULTS!L58","v":-1E-3},{"$f":"RESULTS!M58","v":-1E-3}]
[null,{"$f":"IF(J167<0,\"\",IF(J167>J168,I167,I168))","v":""},{"$f":"IF(J167<0,\"\",IF(J167>J168,J167,J168))","v":""},"d.",{"$f":"IF(J167<0,\"\",IF(J167>J168,I168,I167))","v":""},{"$f":"IF(J167<0,\"\",IF(J167>J168,J168,J167))","v":""},{"$f":"IF(B167=\"\",\"\",IF(ISTEXT(K167),K167,IF(ISTEXT(K168),K168,\"\")))","v":""},null,{"$f":"RESULTS!K59","v":" Block 3 Player 5"},{"$f":"RESULTS!L59","v":-1E-3},{"$f":"RESULTS!M59","v":-1E-3}]
[null,null,null,null,null,null,null,null,{"$f":"RESULTS!K60","v":" Block 3 Player 4"},{"$f":"RESULTS!L60","v":-1E-3},{"$f":"RESULTS!M60","v":-1E-3}]
[null,{"$f":"IF(J169<0,\"\",IF(J169>J170,I169,I170))","v":""},{"$f":"IF(J169<0,\"\",IF(J169>J170,J169,J170))","v":""},"d.",{"$f":"IF(J169<0,\"\",IF(J169>J170,I170,I169))","v":""},{"$f":"IF(J169<0,\"\",IF(J169>J170,J170,J169))","v":""},{"$f":"IF(B169=\"\",\"\",IF(ISTEXT(K169),K169,IF(ISTEXT(K170),K170,\"\")))","v":""},null,{"$f":"RESULTS!K61","v":" Block 3 Player 1"},{"$f":"RESULTS!L61","v":-1E-3},{"$f":"RESULTS!M61","v":-1E-3}]
[null,null,null,null,null,null,null,null,{"$f":"RESULTS!K62","v":" Block 3 Player 2"},{"$f":"RESULTS!L62","v":-1E-3},{"$f":"RESULTS!M62","v":-1E-3}]
[null,{"$f":"IF(J171<0,\"\",IF(J171>J172,I171,I172))","v":""},{"$f":"IF(J171<0,\"\",IF(J171>J172,J171,J172))","v":""},"d.",{"$f":"IF(J171<0,\"\",IF(J171>J172,I172,I171))","v":""},{"$f":"IF(J171<0,\"\",IF(J171>J172,J172,J171))","v":""},{"$f":"IF(B171=\"\",\"\",IF(ISTEXT(K171),K171,IF(ISTEXT(K172),K172,\"\")))","v":""},null,{"$f":"RESULTS!K63","v":" Bye "},{"$f":"RESULTS!L63","v":-1E-3},{"$f":"RESULTS!M63","v":-1E-3}]
[null,null,null,null,null,null,null,null,{"$f":"RESULTS!K64","v":" Block 3 Player 3"},{"$f":"RESULTS!L64","v":-1E-3},{"$f":"RESULTS!M64","v":-1E-3}]
[null,{"$f":"IF(J173<0,\"\",IF(J173>J174,I173,I174))","v":""},{"$f":"IF(J173<0,\"\",IF(J173>J174,J173,J174))","v":""},"d.",{"$f":"IF(J173<0,\"\",IF(J173>J174,I174,I173))","v":""},{"$f":"IF(J173<0,\"\",IF(J173>J174,J174,J173))","v":""},{"$f":"IF(B173=\"\",\"\",IF(ISTEXT(K173),K173,IF(ISTEXT(K174),K174,\"\")))","v":""},null,{"$f":"RESULTS!K65","v":" Block 3 Player 7"},{"$f":"RESULTS!L65","v":-1E-3},{"$f":"RESULTS!M65","v":-1E-3}]
[null,null,null,null,null,null,null,null,{"$f":"RESULTS!K66","v":" Block 3 Player 4"},{"$f":"RESULTS!L66","v":-1E-3},{"$f":"RESULTS!M66","v":-1E-3}]
[null,{"$f":"IF(J175<0,\"\",IF(J175>J176,I175,I176))","v":""},{"$f":"IF(J175<0,\"\",IF(J175>J176,J175,J176))","v":""},"d.",{"$f":"IF(J175<0,\"\",IF(J175>J176,I176,I175))","v":""},{"$f":"IF(J175<0,\"\",IF(J175>J176,J176,J175))","v":""},{"$f":"IF(B175=\"\",\"\",IF(ISTEXT(K175),K175,IF(ISTEXT(K176),K176,\"\")))","v":""},null,{"$f":"RESULTS!K67","v":" Block 3 Player 6"},{"$f":"RESULTS!L67","v":-1E-3},{"$f":"RESULTS!M67","v":-1E-3}]
[null,null,null,null,null,null,null,null,{"$f":"RESULTS!K68","v":" Block 3 Player 5"},{"$f":"RESULTS!L68","v":-1E-3},{"$f":"RESULTS!M68","v":-1E-3}]
[null,{"$f":"NAMES!$C$133","v":"BLOCK 4"},null,null,null,null,null,null,"LU Name 4","Score","Peels"]
[null,{"$f":"IF(J178<0,\"\",IF(J178>J179,I178,I179))","v":""},{"$f":"IF(J178<0,\"\",IF(J178>J179,J178,J179))","v":""},"d.",{"$f":"IF(J178<0,\"\",IF(J178>J179,I179,I178))","v":""},{"$f":"IF(J178<0,\"\",IF(J178>J179,J179,J178))","v":""},{"$f":"IF(B178=\"\",\"\",IF(ISTEXT(K178),K178,IF(ISTEXT(K179),K179,\"\")))","v":""},null,{"$f":"RESULTS!C77","v":" Block 4 Player 1"},{"$f":"RESULTS!D77","v":-1E-3},{"$f":"RESULTS!E77","v":-1E-3}]
[null,null,null,null,null,null,null,null,{"$f":"RESULTS!C78","v":" Block 4 Player 3"},{"$f":"RESULTS!D78","v":-1E-3},{"$f":"RESULTS!E78","v":-1E-3}]
[null,{"$f":"IF(J180<0,\"\",IF(J180>J181,I180,I181))","v":""},{"$f":"IF(J180<0,\"\",IF(J180>J181,J180,J181))","v":""},"d.",{"$f":"IF(J180<0,\"\",IF(J180>J181,I181,I180))","v":""},{"$f":"IF(J180<0,\"\",IF(J180>J181,J181,J180))","v":""},{"$f":"IF(B180=\"\",\"\",IF(ISTEXT(K180),K180,IF(ISTEXT(K181),K181,\"\")))","v":""},null,{"$f":"RESULTS!C79","v":" Block 4 Player 2"},{"$f":"RESULTS!D79","v":-1E-3},{"$f":"RESULTS!E79","v":-1E-3}]
[null,null,null,null,null,null,null,null,{"$f":"RESULTS!C80","v":" Block 4 Player 4"},{"$f":"RESULTS!D80","v":-1E-3},{"$f":"RESULTS!E80","v":-1E-3}]
[null,{"$f":"IF(J182<0,\"\",IF(J182>J183,I182,I183))","v":""},{"$f":"IF(J182<0,\"\",IF(J182>J183,J182,J183))","v":""},"d.",{"$f":"IF(J182<0,\"\",IF(J182>J183,I183,I182))","v":""},{"$f":"IF(J182<0,\"\",IF(J182>J183,J183,J182))","v":""},{"$f":"IF(B182=\"\",\"\",IF(ISTEXT(K182),K182,IF(ISTEXT(K183),K183,\"\")))","v":""},null,{"$f":"RESULTS!C81","v":" Bye "},{"$f":"RESULTS!D81","v":-1E-3},{"$f":"RESULTS!E81","v":-1E-3}]
[null,null,null,null,null,null,null,null,{"$f":"RESULTS!C82","v":" Block 4 Player 5"},{"$f":"RESULTS!D82","v":-1E-3},{"$f":"RESULTS!E82","v":-1E-3}]
[null,{"$f":"IF(J184<0,\"\",IF(J184>J185,I184,I185))","v":""},{"$f":"IF(J184<0,\"\",IF(J184>J185,J184,J185))","v":""},"d.",{"$f":"IF(J184<0,\"\",IF(J184>J185,I185,I184))","v":""},{"$f":"IF(J184<0,\"\",IF(J184>J185,J185,J184))","v":""},{"$f":"IF(B184=\"\",\"\",IF(ISTEXT(K184),K184,IF(ISTEXT(K185),K185,\"\")))","v":""},null,{"$f":"RESULTS!C83","v":" Block 4 Player 7"},{"$f":"RESULTS!D83","v":-1E-3},{"$f":"RESULTS!E83","v":-1E-3}]
[null,null,null,null,null,null,null,null,{"$f":"RESULTS!C84","v":" Block 4 Player 6"},{"$f":"RESULTS!D84","v":-1E-3},{"$f":"RESULTS!E84","v":-1E-3}]
[null,{"$f":"IF(J186<0,\"\",IF(J186>J187,I186,I187))","v":""},{"$f":"IF(J186<0,\"\",IF(J186>J187,J186,J187))","v":""},"d.",{"$f":"IF(J186<0,\"\",IF(J186>J187,I187,I186))","v":""},{"$f":"IF(J186<0,\"\",IF(J186>J187,J187,J186))","v":""},{"$f":"IF(B186=\"\",\"\",IF(ISTEXT(K186),K186,IF(ISTEXT(K187),K187,\"\")))","v":""},null,{"$f":"RESULTS!C85","v":" Block 4 Player 1"},{"$f":"RESULTS!D85","v":-1E-3},{"$f":"RESULTS!E85","v":-1E-3}]
[null,null,null,null,null,null,null,null,{"$f":"RESULTS!C86","v":" Block 4 Player 4"},{"$f":"RESULTS!D86","v":-1E-3},{"$f":"RESULTS!E86","v":-1E-3}]
[null,{"$f":"IF(J188<0,\"\",IF(J188>J189,I188,I189))","v":""},{"$f":"IF(J188<0,\"\",IF(J188>J189,J188,J189))","v":""},"d.",{"$f":"IF(J188<0,\"\",IF(J188>J189,I189,I188))","v":""},{"$f":"IF(J188<0,\"\",IF(J188>J189,J189,J188))","v":""},{"$f":"IF(B188=\"\",\"\",IF(ISTEXT(K188),K188,IF(ISTEXT(K189),K189,\"\")))","v":""},null,{"$f":"RESULTS!C87","v":" Block 4 Player 3"},{"$f":"RESULTS!D87","v":-1E-3},{"$f":"RESULTS!E87","v":-1E-3}]
[null,null,null,null,null,null,null,null,{"$f":"RESULTS!C88","v":" Block 4 Player 5"},{"$f":"RESULTS!D88","v":-1E-3},{"$f":"RESULTS!E88","v":-1E-3}]
[null,{"$f":"IF(J190<0,\"\",IF(J190>J191,I190,I191))","v":""},{"$f":"IF(J190<0,\"\",IF(J190>J191,J190,J191))","v":""},"d.",{"$f":"IF(J190<0,\"\",IF(J190>J191,I191,I190))","v":""},{"$f":"IF(J190<0,\"\",IF(J190>J191,J191,J190))","v":""},{"$f":"IF(B190=\"\",\"\",IF(ISTEXT(K190),K190,IF(ISTEXT(K191),K191,\"\")))","v":""},null,{"$f":"RESULTS!C89","v":" Block 4 Player 2"},{"$f":"RESULTS!D89","v":-1E-3},{"$f":"RESULTS!E89","v":-1E-3}]
[null,null,null,null,null,null,null,null,{"$f":"RESULTS!C90","v":" Block 4 Player 6"},{"$f":"RESULTS!D90","v":-1E-3},{"$f":"RESULTS!E90","v":-1E-3}]
[null,{"$f":"IF(J192<0,\"\",IF(J192>J193,I192,I193))","v":""},{"$f":"IF(J192<0,\"\",IF(J192>J193,J192,J193))","v":""},"d.",{"$f":"IF(J192<0,\"\",IF(J192>J193,I193,I192))","v":""},{"$f":"IF(J192<0,\"\",IF(J192>J193,J193,J192))","v":""},{"$f":"IF(B192=\"\",\"\",IF(ISTEXT(K192),K192,IF(ISTEXT(K193),K193,\"\")))","v":""},null,{"$f":"RESULTS!C91","v":" Bye "},{"$f":"RESULTS!D91","v":-1E-3},{"$f":"RESULTS!E91","v":-1E-3}]
[null,null,null,null,null,null,null,null,{"$f":"RESULTS!C92","v":" Block 4 Player 7"},{"$f":"RESULTS!D92","v":-1E-3},{"$f":"RESULTS!E92","v":-1E-3}]
[null,{"$f":"IF(J194<0,\"\",IF(J194>J195,I194,I195))","v":""},{"$f":"IF(J194<0,\"\",IF(J194>J195,J194,J195))","v":""},"d.",{"$f":"IF(J194<0,\"\",IF(J194>J195,I195,I194))","v":""},{"$f":"IF(J194<0,\"\",IF(J194>J195,J195,J194))","v":""},{"$f":"IF(B194=\"\",\"\",IF(ISTEXT(K194),K194,IF(ISTEXT(K195),K195,\"\")))","v":""},null,{"$f":"RESULTS!C93","v":" Block 4 Player 1"},{"$f":"RESULTS!D93","v":-1E-3},{"$f":"RESULTS!E93","v":-1E-3}]
[null,null,null,null,null,null,null,null,{"$f":"RESULTS!C94","v":" Block 4 Player 5"},{"$f":"RESULTS!D94","v":-1E-3},{"$f":"RESULTS!E94","v":-1E-3}]
[null,{"$f":"IF(J196<0,\"\",IF(J196>J197,I196,I197))","v":""},{"$f":"IF(J196<0,\"\",IF(J196>J197,J196,J197))","v":""},"d.",{"$f":"IF(J196<0,\"\",IF(J196>J197,I197,I196))","v":""},{"$f":"IF(J196<0,\"\",IF(J196>J197,J197,J196))","v":""},{"$f":"IF(B196=\"\",\"\",IF(ISTEXT(K196),K196,IF(ISTEXT(K197),K197,\"\")))","v":""},null,{"$f":"RESULTS!C95","v":" Block 4 Player 4"},{"$f":"RESULTS!D95","v":-1E-3},{"$f":"RESULTS!E95","v":-1E-3}]
[null,null,null,null,null,null,null,null,{"$f":"RESULTS!C96","v":" Block 4 Player 6"},{"$f":"RESULTS!D96","v":-1E-3},{"$f":"RESULTS!E96","v":-1E-3}]
[null,{"$f":"IF(J198<0,\"\",IF(J198>J199,I198,I199))","v":""},{"$f":"IF(J198<0,\"\",IF(J198>J199,J198,J199))","v":""},"d.",{"$f":"IF(J198<0,\"\",IF(J198>J199,I199,I198))","v":""},{"$f":"IF(J198<0,\"\",IF(J198>J199,J199,J198))","v":""},{"$f":"IF(B198=\"\",\"\",IF(ISTEXT(K198),K198,IF(ISTEXT(K199),K199,\"\")))","v":""},null,{"$f":"RESULTS!G77","v":" Block 4 Player 3"},{"$f":"RESULTS!H77","v":-1E-3},{"$f":"RESULTS!I77","v":-1E-3}]
[null,null,null,null,null,null,null,null,{"$f":"RESULTS!G78","v":" Block 4 Player 7"},{"$f":"RESULTS!H78","v":-1E-3},{"$f":"RESULTS!I78","v":-1E-3}]
[null,{"$f":"IF(J200<0,\"\",IF(J200>J201,I200,I201))","v":""},{"$f":"IF(J200<0,\"\",IF(J200>J201,J200,J201))","v":""},"d.",{"$f":"IF(J200<0,\"\",IF(J200>J201,I201,I200))","v":""},{"$f":"IF(J200<0,\"\",IF(J200>J201,J201,J200))","v":""},{"$f":"IF(B200=\"\",\"\",IF(ISTEXT(K200),K200,IF(ISTEXT(K201),K201,\"\")))","v":""},null,{"$f":"RESULTS!G79","v":" Block 4 Player 2"},{"$f":"RESULTS!H79","v":-1E-3},{"$f":"RESULTS!I79","v":-1E-3}]
[null,null,null,null,null,null,null,null,{"$f":"RESULTS!G80","v":" Bye "},{"$f":"RESULTS!H80","v":-1E-3},{"$f":"RESULTS!I80","v":-1E-3}]
[null,{"$f":"IF(J202<0,\"\",IF(J202>J203,I202,I203))","v":""},{"$f":"IF(J202<0,\"\",IF(J202>J203,J202,J203))","v":""},"d.",{"$f":"IF(J202<0,\"\",IF(J202>J203,I203,I202))","v":""},{"$f":"IF(J202<0,\"\",IF(J202>J203,J203,J202))","v":""},{"$f":"IF(B202=\"\",\"\",IF(ISTEXT(K202),K202,IF(ISTEXT(K203),K203,\"\")))","v":""},null,{"$f":"RESULTS!G81","v":" Block 4 Player 1"},{"$f":"RESULTS!H81","v":-1E-3},{"$f":"RESULTS!I81","v":-1E-3}]
[null,null,null,null,null,null,null,null,{"$f":"RESULTS!G82","v":" Block 4 Player 6"},{"$f":"RESULTS!H82","v":-1E-3},{"$f":"RESULTS!I82","v":-1E-3}]
[null,{"$f":"IF(J204<0,\"\",IF(J204>J205,I204,I205))","v":""},{"$f":"IF(J204<0,\"\",IF(J204>J205,J204,J205))","v":""},"d.",{"$f":"IF(J204<0,\"\",IF(J204>J205,I205,I204))","v":""},{"$f":"IF(J204<0,\"\",IF(J204>J205,J205,J204))","v":""},{"$f":"IF(B204=\"\",\"\",IF(ISTEXT(K204),K204,IF(ISTEXT(K205),K205,\"\")))","v":""},null,{"$f":"RESULTS!G83","v":" Block 4 Player 5"},{"$f":"RESULTS!H83","v":-1E-3},{"$f":"RESULTS!I83","v":-1E-3}]
[null,null,null,null,null,null,null,null,{"$f":"RESULTS!G84","v":" Block 4 Player 7"},{"$f":"RESULTS!H84","v":-1E-3},{"$f":"RESULTS!I84","v":-1E-3}]
[null,{"$f":"IF(J206<0,\"\",IF(J206>J207,I206,I207))","v":""},{"$f":"IF(J206<0,\"\",IF(J206>J207,J206,J207))","v":""},"d.",{"$f":"IF(J206<0,\"\",IF(J206>J207,I207,I206))","v":""},{"$f":"IF(J206<0,\"\",IF(J206>J207,J207,J206))","v":""},{"$f":"IF(B206=\"\",\"\",IF(ISTEXT(K206),K206,IF(ISTEXT(K207),K207,\"\")))","v":""},null,{"$f":"RESULTS!G85","v":" Block 4 Player 4"},{"$f":"RESULTS!H85","v":-1E-3},{"$f":"RESULTS!I85","v":-1E-3}]
[null,null,null,null,null,null,null,null,{"$f":"RESULTS!G86","v":" Bye "},{"$f":"RESULTS!H86","v":-1E-3},{"$f":"RESULTS!I86","v":-1E-3}]
[null,{"$f":"IF(J208<0,\"\",IF(J208>J209,I208,I209))","v":""},{"$f":"IF(J208<0,\"\",IF(J208>J209,J208,J209))","v":""},"d.",{"$f":"IF(J208<0,\"\",IF(J208>J209,I209,I208))","v":""},{"$f":"IF(J208<0,\"\",IF(J208>J209,J209,J208))","v":""},{"$f":"IF(B208=\"\",\"\",IF(ISTEXT(K208),K208,IF(ISTEXT(K209),K209,\"\")))","v":""},null,{"$f":"RESULTS!G87","v":" Block 4 Player 3"},{"$f":"RESULTS!H87","v":-1E-3},{"$f":"RESULTS!I87","v":-1E-3}]
[null,null,null,null,null,null,null,null,{"$f":"RESULTS!G88","v":" Block 4 Player 2"},{"$f":"RESULTS!H88","v":-1E-3},{"$f":"RESULTS!I88","v":-1E-3}]
[null,{"$f":"IF(J210<0,\"\",IF(J210>J211,I210,I211))","v":""},{"$f":"IF(J210<0,\"\",IF(J210>J211,J210,J211))","v":""},"d.",{"$f":"IF(J210<0,\"\",IF(J210>J211,I211,I210))","v":""},{"$f":"IF(J210<0,\"\",IF(J210>J211,J211,J210))","v":""},{"$f":"IF(B210=\"\",\"\",IF(ISTEXT(K210),K210,IF(ISTEXT(K211),K211,\"\")))","v":""},null,{"$f":"RESULTS!G89","v":" Block 4 Player 1"},{"$f":"RESULTS!H89","v":-1E-3},{"$f":"RESULTS!I89","v":-1E-3}]
[null,null,null,null,null,null,null,null,{"$f":"RESULTS!G90","v":" Block 4 Player 7"},{"$f":"RESULTS!H90","v":-1E-3},{"$f":"RESULTS!I90","v":-1E-3}]
[null,{"$f":"IF(J212<0,\"\",IF(J212>J213,I212,I213))","v":""},{"$f":"IF(J212<0,\"\",IF(J212>J213,J212,J213))","v":""},"d.",{"$f":"IF(J212<0,\"\",IF(J212>J213,I213,I212))","v":""},{"$f":"IF(J212<0,\"\",IF(J212>J213,J213,J212))","v":""},{"$f":"IF(B212=\"\",\"\",IF(ISTEXT(K212),K212,IF(ISTEXT(K213),K213,\"\")))","v":""},null,{"$f":"RESULTS!G91","v":" Block 4 Player 6"},{"$f":"RESULTS!H91","v":-1E-3},{"$f":"RESULTS!I91","v":-1E-3}]
[null,null,null,null,null,null,null,null,{"$f":"RESULTS!G92","v":" Bye "},{"$f":"RESULTS!H92","v":-1E-3},{"$f":"RESULTS!I92","v":-1E-3}]
[null,{"$f":"IF(J214<0,\"\",IF(J214>J215,I214,I215))","v":""},{"$f":"IF(J214<0,\"\",IF(J214>J215,J214,J215))","v":""},"d.",{"$f":"IF(J214<0,\"\",IF(J214>J215,I215,I214))","v":""},{"$f":"IF(J214<0,\"\",IF(J214>J215,J215,J214))","v":""},{"$f":"IF(B214=\"\",\"\",IF(ISTEXT(K214),K214,IF(ISTEXT(K215),K215,\"\")))","v":""},null,{"$f":"RESULTS!G93","v":" Block 4 Player 5"},{"$f":"RESULTS!H93","v":-1E-3},{"$f":"RESULTS!I93","v":-1E-3}]
[null,null,null,null,null,null,null,null,{"$f":"RESULTS!G94","v":" Block 4 Player 2"},{"$f":"RESULTS!H94","v":-1E-3},{"$f":"RESULTS!I94","v":-1E-3}]
[null,{"$f":"IF(J216<0,\"\",IF(J216>J217,I216,I217))","v":""},{"$f":"IF(J216<0,\"\",IF(J216>J217,J216,J217))","v":""},"d.",{"$f":"IF(J216<0,\"\",IF(J216>J217,I217,I216))","v":""},{"$f":"IF(J216<0,\"\",IF(J216>J217,J217,J216))","v":""},{"$f":"IF(B216=\"\",\"\",IF(ISTEXT(K216),K216,IF(ISTEXT(K217),K217,\"\")))","v":""},null,{"$f":"RESULTS!G95","v":" Block 4 Player 4"},{"$f":"RESULTS!H95","v":-1E-3},{"$f":"RESULTS!I95","v":-1E-3}]
[null,null,null,null,null,null,null,null,{"$f":"RESULTS!G96","v":" Block 4 Player 3"},{"$f":"RESULTS!H96","v":-1E-3},{"$f":"RESULTS!I96","v":-1E-3}]
[null,{"$f":"IF(J218<0,\"\",IF(J218>J219,I218,I219))","v":""},{"$f":"IF(J218<0,\"\",IF(J218>J219,J218,J219))","v":""},"d.",{"$f":"IF(J218<0,\"\",IF(J218>J219,I219,I218))","v":""},{"$f":"IF(J218<0,\"\",IF(J218>J219,J219,J218))","v":""},{"$f":"IF(B218=\"\",\"\",IF(ISTEXT(K218),K218,IF(ISTEXT(K219),K219,\"\")))","v":""},null,{"$f":"RESULTS!K77","v":" Block 4 Player 1"},{"$f":"RESULTS!L77","v":-1E-3},{"$f":"RESULTS!M77","v":-1E-3}]
[null,null,null,null,null,null,null,null,{"$f":"RESULTS!K78","v":" Bye "},{"$f":"RESULTS!L78","v":-1E-3},{"$f":"RESULTS!M78","v":-1E-3}]
[null,{"$f":"IF(J220<0,\"\",IF(J220>J221,I220,I221))","v":""},{"$f":"IF(J220<0,\"\",IF(J220>J221,J220,J221))","v":""},"d.",{"$f":"IF(J220<0,\"\",IF(J220>J221,I221,I220))","v":""},{"$f":"IF(J220<0,\"\",IF(J220>J221,J221,J220))","v":""},{"$f":"IF(B220=\"\",\"\",IF(ISTEXT(K220),K220,IF(ISTEXT(K221),K221,\"\")))","v":""},null,{"$f":"RESULTS!K79","v":" Block 4 Player 7"},{"$f":"RESULTS!L79","v":-1E-3},{"$f":"RESULTS!M79","v":-1E-3}]
[null,null,null,null,null,null,null,null,{"$f":"RESULTS!K80","v":" Block 4 Player 2"},{"$f":"RESULTS!L80","v":-1E-3},{"$f":"RESULTS!M80","v":-1E-3}]
[null,{"$f":"IF(J222<0,\"\",IF(J222>J223,I222,I223))","v":""},{"$f":"IF(J222<0,\"\",IF(J222>J223,J222,J223))","v":""},"d.",{"$f":"IF(J222<0,\"\",IF(J222>J223,I223,I222))","v":""},{"$f":"IF(J222<0,\"\",IF(J222>J223,J223,J222))","v":""},{"$f":"IF(B222=\"\",\"\",IF(ISTEXT(K222),K222,IF(ISTEXT(K223),K223,\"\")))","v":""},null,{"$f":"RESULTS!K81","v":" Block 4 Player 6"},{"$f":"RESULTS!L81","v":-1E-3},{"$f":"RESULTS!M81","v":-1E-3}]
[null,null,null,null,null,null,null,null,{"$f":"RESULTS!K82","v":" Block 4 Player 3"},{"$f":"RESULTS!L82","v":-1E-3},{"$f":"RESULTS!M82","v":-1E-3}]
[null,{"$f":"IF(J224<0,\"\",IF(J224>J225,I224,I225))","v":""},{"$f":"IF(J224<0,\"\",IF(J224>J225,J224,J225))","v":""},"d.",{"$f":"IF(J224<0,\"\",IF(J224>J225,I225,I224))","v":""},{"$f":"IF(J224<0,\"\",IF(J224>J225,J225,J224))","v":""},{"$f":"IF(B224=\"\",\"\",IF(ISTEXT(K224),K224,IF(ISTEXT(K225),K225,\"\")))","v":""},null,{"$f":"RESULTS!K83","v":" Block 4 Player 5"},{"$f":"RESULTS!L83","v":-1E-3},{"$f":"RESULTS!M83","v":-1E-3}]
[null,null,null,null,null,null,null,null,{"$f":"RESULTS!K84","v":" Block 4 Player 4"},{"$f":"RESULTS!L84","v":-1E-3},{"$f":"RESULTS!M84","v":-1E-3}]
[null,{"$f":"IF(J226<0,\"\",IF(J226>J227,I226,I227))","v":""},{"$f":"IF(J226<0,\"\",IF(J226>J227,J226,J227))","v":""},"d.",{"$f":"IF(J226<0,\"\",IF(J226>J227,I227,I226))","v":""},{"$f":"IF(J226<0,\"\",IF(J226>J227,J227,J226))","v":""},{"$f":"IF(B226=\"\",\"\",IF(ISTEXT(K226),K226,IF(ISTEXT(K227),K227,\"\")))","v":""},null,{"$f":"RESULTS!K85","v":" Block 4 Player 1"},{"$f":"RESULTS!L85","v":-1E-3},{"$f":"RESULTS!M85","v":-1E-3}]
[null,null,null,null,null,null,null,null,{"$f":"RESULTS!K86","v":" Block 4 Player 2"},{"$f":"RESULTS!L86","v":-1E-3},{"$f":"RESULTS!M86","v":-1E-3}]
[null,{"$f":"IF(J228<0,\"\",IF(J228>J229,I228,I229))","v":""},{"$f":"IF(J228<0,\"\",IF(J228>J229,J228,J229))","v":""},"d.",{"$f":"IF(J228<0,\"\",IF(J228>J229,I229,I228))","v":""},{"$f":"IF(J228<0,\"\",IF(J228>J229,J229,J228))","v":""},{"$f":"IF(B228=\"\",\"\",IF(ISTEXT(K228),K228,IF(ISTEXT(K229),K229,\"\")))","v":""},null,{"$f":"RESULTS!K87","v":" Bye "},{"$f":"RESULTS!L87","v":-1E-3},{"$f":"RESULTS!M87","v":-1E-3}]
[null,null,null,null,null,null,null,null,{"$f":"RESULTS!K88","v":" Block 4 Player 3"},{"$f":"RESULTS!L88","v":-1E-3},{"$f":"RESULTS!M88","v":-1E-3}]
[null,{"$f":"IF(J230<0,\"\",IF(J230>J231,I230,I231))","v":""},{"$f":"IF(J230<0,\"\",IF(J230>J231,J230,J231))","v":""},"d.",{"$f":"IF(J230<0,\"\",IF(J230>J231,I231,I230))","v":""},{"$f":"IF(J230<0,\"\",IF(J230>J231,J231,J230))","v":""},{"$f":"IF(B230=\"\",\"\",IF(ISTEXT(K230),K230,IF(ISTEXT(K231),K231,\"\")))","v":""},null,{"$f":"RESULTS!K89","v":" Block 4 Player 7"},{"$f":"RESULTS!L89","v":-1E-3},{"$f":"RESULTS!M89","v":-1E-3}]
[null,null,null,null,null,null,null,null,{"$f":"RESULTS!K90","v":" Block 4 Player 4"},{"$f":"RESULTS!L90","v":-1E-3},{"$f":"RESULTS!M90","v":-1E-3}]
[null,{"$f":"IF(J232<0,\"\",IF(J232>J233,I232,I233))","v":""},{"$f":"IF(J232<0,\"\",IF(J232>J233,J232,J233))","v":""},"d.",{"$f":"IF(J232<0,\"\",IF(J232>J233,I233,I232))","v":""},{"$f":"IF(J232<0,\"\",IF(J232>J233,J233,J232))","v":""},{"$f":"IF(B232=\"\",\"\",IF(ISTEXT(K232),K232,IF(ISTEXT(K233),K233,\"\")))","v":""},null,{"$f":"RESULTS!K91","v":" Block 4 Player 6"},{"$f":"RESULTS!L91","v":-1E-3},{"$f":"RESULTS!M91","v":-1E-3}]
[null,null,null,null,null,null,null,null,{"$f":"RESULTS!K92","v":" Block 4 Player 5"},{"$f":"RESULTS!L92","v":-1E-3},{"$f":"RESULTS!M92","v":-1E-3}]
[null,{"$f":"NAMES!$C$174","v":"BLOCK 5"},null,null,null,null,null,null,"LU Name 5","Score","Peels"]
[null,{"$f":"IF(J235<0,\"\",IF(J235>J236,I235,I236))","v":""},{"$f":"IF(J235<0,\"\",IF(J235>J236,J235,J236))","v":""},"d.",{"$f":"IF(J235<0,\"\",IF(J235>J236,I236,I235))","v":""},{"$f":"IF(J235<0,\"\",IF(J235>J236,J236,J235))","v":""},{"$f":"IF(B235=\"\",\"\",IF(ISTEXT(K235),K235,IF(ISTEXT(K236),K236,\"\")))","v":""},null,{"$f":"RESULTS!C101","v":" Block 5 Player 1"},{"$f":"RESULTS!D101","v":-1E-3},{"$f":"RESULTS!E101","v":-1E-3}]
[null,null,null,null,null,null,null,null,{"$f":"RESULTS!C102","v":" Block 5 Player 3"},{"$f":"RESULTS!D102","v":-1E-3},{"$f":"RESULTS!E102","v":-1E-3}]
[null,{"$f":"IF(J237<0,\"\",IF(J237>J238,I237,I238))","v":""},{"$f":"IF(J237<0,\"\",IF(J237>J238,J237,J238))","v":""},"d.",{"$f":"IF(J237<0,\"\",IF(J237>J238,I238,I237))","v":""},{"$f":"IF(J237<0,\"\",IF(J237>J238,J238,J237))","v":""},{"$f":"IF(B237=\"\",\"\",IF(ISTEXT(K237),K237,IF(ISTEXT(K238),K238,\"\")))","v":""},null,{"$f":"RESULTS!C103","v":" Block 5 Player 2"},{"$f":"RESULTS!D103","v":-1E-3},{"$f":"RESULTS!E103","v":-1E-3}]
[null,null,null,null,null,null,null,null,{"$f":"RESULTS!C104","v":" Block 5 Player 4"},{"$f":"RESULTS!D104","v":-1E-3},{"$f":"RESULTS!E104","v":-1E-3}]
[null,{"$f":"IF(J239<0,\"\",IF(J239>J240,I239,I240))","v":""},{"$f":"IF(J239<0,\"\",IF(J239>J240,J239,J240))","v":""},"d.",{"$f":"IF(J239<0,\"\",IF(J239>J240,I240,I239))","v":""},{"$f":"IF(J239<0,\"\",IF(J239>J240,J240,J239))","v":""},{"$f":"IF(B239=\"\",\"\",IF(ISTEXT(K239),K239,IF(ISTEXT(K240),K240,\"\")))","v":""},null,{"$f":"RESULTS!C105","v":" Bye "},{"$f":"RESULTS!D105","v":-1E-3},{"$f":"RESULTS!E105","v":-1E-3}]
[null,null,null,null,null,null,null,null,{"$f":"RESULTS!C106","v":" Block 5 Player 5"},{"$f":"RESULTS!D106","v":-1E-3},{"$f":"RESULTS!E106","v":-1E-3}]
[null,{"$f":"IF(J241<0,\"\",IF(J241>J242,I241,I242))","v":""},{"$f":"IF(J241<0,\"\",IF(J241>J242,J241,J242))","v":""},"d.",{"$f":"IF(J241<0,\"\",IF(J241>J242,I242,I241))","v":""},{"$f":"IF(J241<0,\"\",IF(J241>J242,J242,J241))","v":""},{"$f":"IF(B241=\"\",\"\",IF(ISTEXT(K241),K241,IF(ISTEXT(K242),K242,\"\")))","v":""},null,{"$f":"RESULTS!C107","v":" Block 5 Player 7"},{"$f":"RESULTS!D107","v":-1E-3},{"$f":"RESULTS!E107","v":-1E-3}]
[null,null,null,null,null,null,null,null,{"$f":"RESULTS!C108","v":" Block 5 Player 6"},{"$f":"RESULTS!D108","v":-1E-3},{"$f":"RESULTS!E108","v":-1E-3}]
[null,{"$f":"IF(J243<0,\"\",IF(J243>J244,I243,I244))","v":""},{"$f":"IF(J243<0,\"\",IF(J243>J244,J243,J244))","v":""},"d.",{"$f":"IF(J243<0,\"\",IF(J243>J244,I244,I243))","v":""},{"$f":"IF(J243<0,\"\",IF(J243>J244,J244,J243))","v":""},{"$f":"IF(B243=\"\",\"\",IF(ISTEXT(K243),K243,IF(ISTEXT(K244),K244,\"\")))","v":""},null,{"$f":"RESULTS!C109","v":" Block 5 Player 1"},{"$f":"RESULTS!D109","v":-1E-3},{"$f":"RESULTS!E109","v":-1E-3}]
[null,null,null,null,null,null,null,null,{"$f":"RESULTS!C110","v":" Block 5 Player 4"},{"$f":"RESULTS!D110","v":-1E-3},{"$f":"RESULTS!E110","v":-1E-3}]
[null,{"$f":"IF(J245<0,\"\",IF(J245>J246,I245,I246))","v":""},{"$f":"IF(J245<0,\"\",IF(J245>J246,J245,J246))","v":""},"d.",{"$f":"IF(J245<0,\"\",IF(J245>J246,I246,I245))","v":""},{"$f":"IF(J245<0,\"\",IF(J245>J246,J246,J245))","v":""},{"$f":"IF(B245=\"\",\"\",IF(ISTEXT(K245),K245,IF(ISTEXT(K246),K246,\"\")))","v":""},null,{"$f":"RESULTS!C111","v":" Block 5 Player 3"},{"$f":"RESULTS!D111","v":-1E-3},{"$f":"RESULTS!E111","v":-1E-3}]
[null,null,null,null,null,null,null,null,{"$f":"RESULTS!C112","v":" Block 5 Player 5"},{"$f":"RESULTS!D112","v":-1E-3},{"$f":"RESULTS!E112","v":-1E-3}]
[null,{"$f":"IF(J247<0,\"\",IF(J247>J248,I247,I248))","v":""},{"$f":"IF(J247<0,\"\",IF(J247>J248,J247,J248))","v":""},"d.",{"$f":"IF(J247<0,\"\",IF(J247>J248,I248,I247))","v":""},{"$f":"IF(J247<0,\"\",IF(J247>J248,J248,J247))","v":""},{"$f":"IF(B247=\"\",\"\",IF(ISTEXT(K247),K247,IF(ISTEXT(K248),K248,\"\")))","v":""},null,{"$f":"RESULTS!C113","v":" Block 5 Player 2"},{"$f":"RESULTS!D113","v":-1E-3},{"$f":"RESULTS!E113","v":-1E-3}]
[null,null,null,null,null,null,null,null,{"$f":"RESULTS!C114","v":" Block 5 Player 6"},{"$f":"RESULTS!D114","v":-1E-3},{"$f":"RESULTS!E114","v":-1E-3}]
[null,{"$f":"IF(J249<0,\"\",IF(J249>J250,I249,I250))","v":""},{"$f":"IF(J249<0,\"\",IF(J249>J250,J249,J250))","v":""},"d.",{"$f":"IF(J249<0,\"\",IF(J249>J250,I250,I249))","v":""},{"$f":"IF(J249<0,\"\",IF(J249>J250,J250,J249))","v":""},{"$f":"IF(B249=\"\",\"\",IF(ISTEXT(K249),K249,IF(ISTEXT(K250),K250,\"\")))","v":""},null,{"$f":"RESULTS!C115","v":" Bye "},{"$f":"RESULTS!D115","v":-1E-3},{"$f":"RESULTS!E115","v":-1E-3}]
[null,null,null,null,null,null,null,null,{"$f":"RESULTS!C116","v":" Block 5 Player 7"},{"$f":"RESULTS!D116","v":-1E-3},{"$f":"RESULTS!E116","v":-1E-3}]
[null,{"$f":"IF(J251<0,\"\",IF(J251>J252,I251,I252))","v":""},{"$f":"IF(J251<0,\"\",IF(J251>J252,J251,J252))","v":""},"d.",{"$f":"IF(J251<0,\"\",IF(J251>J252,I252,I251))","v":""},{"$f":"IF(J251<0,\"\",IF(J251>J252,J252,J251))","v":""},{"$f":"IF(B251=\"\",\"\",IF(ISTEXT(K251),K251,IF(ISTEXT(K252),K252,\"\")))","v":""},null,{"$f":"RESULTS!C117","v":" Block 5 Player 1"},{"$f":"RESULTS!D117","v":-1E-3},{"$f":"RESULTS!E117","v":-1E-3}]
[null,null,null,null,null,null,null,null,{"$f":"RESULTS!C118","v":" Block 5 Player 5"},{"$f":"RESULTS!D118","v":-1E-3},{"$f":"RESULTS!E118","v":-1E-3}]
[null,{"$f":"IF(J253<0,\"\",IF(J253>J254,I253,I254))","v":""},{"$f":"IF(J253<0,\"\",IF(J253>J254,J253,J254))","v":""},"d.",{"$f":"IF(J253<0,\"\",IF(J253>J254,I254,I253))","v":""},{"$f":"IF(J253<0,\"\",IF(J253>J254,J254,J253))","v":""},{"$f":"IF(B253=\"\",\"\",IF(ISTEXT(K253),K253,IF(ISTEXT(K254),K254,\"\")))","v":""},null,{"$f":"RESULTS!C119","v":" Block 5 Player 4"},{"$f":"RESULTS!D119","v":-1E-3},{"$f":"RESULTS!E119","v":-1E-3}]
[null,null,null,null,null,null,null,null,{"$f":"RESULTS!C120","v":" Block 5 Player 6"},{"$f":"RESULTS!D120","v":-1E-3},{"$f":"RESULTS!E120","v":-1E-3}]
[null,{"$f":"IF(J255<0,\"\",IF(J255>J256,I255,I256))","v":""},{"$f":"IF(J255<0,\"\",IF(J255>J256,J255,J256))","v":""},"d.",{"$f":"IF(J255<0,\"\",IF(J255>J256,I256,I255))","v":""},{"$f":"IF(J255<0,\"\",IF(J255>J256,J256,J255))","v":""},{"$f":"IF(B255=\"\",\"\",IF(ISTEXT(K255),K255,IF(ISTEXT(K256),K256,\"\")))","v":""},null,{"$f":"RESULTS!G101","v":" Block 5 Player 3"},{"$f":"RESULTS!H101","v":-1E-3},{"$f":"RESULTS!I101","v":-1E-3}]
[null,null,null,null,null,null,null,null,{"$f":"RESULTS!G102","v":" Block 5 Player 7"},{"$f":"RESULTS!H102","v":-1E-3},{"$f":"RESULTS!I102","v":-1E-3}]
[null,{"$f":"IF(J257<0,\"\",IF(J257>J258,I257,I258))","v":""},{"$f":"IF(J257<0,\"\",IF(J257>J258,J257,J258))","v":""},"d.",{"$f":"IF(J257<0,\"\",IF(J257>J258,I258,I257))","v":""},{"$f":"IF(J257<0,\"\",IF(J257>J258,J258,J257))","v":""},{"$f":"IF(B257=\"\",\"\",IF(ISTEXT(K257),K257,IF(ISTEXT(K258),K258,\"\")))","v":""},null,{"$f":"RESULTS!G103","v":" Block 5 Player 2"},{"$f":"RESULTS!H103","v":-1E-3},{"$f":"RESULTS!I103","v":-1E-3}]
[null,null,null,null,null,null,null,null,{"$f":"RESULTS!G104","v":" Bye "},{"$f":"RESULTS!H104","v":-1E-3},{"$f":"RESULTS!I104","v":-1E-3}]
[null,{"$f":"IF(J259<0,\"\",IF(J259>J260,I259,I260))","v":""},{"$f":"IF(J259<0,\"\",IF(J259>J260,J259,J260))","v":""},"d.",{"$f":"IF(J259<0,\"\",IF(J259>J260,I260,I259))","v":""},{"$f":"IF(J259<0,\"\",IF(J259>J260,J260,J259))","v":""},{"$f":"IF(B259=\"\",\"\",IF(ISTEXT(K259),K259,IF(ISTEXT(K260),K260,\"\")))","v":""},null,{"$f":"RESULTS!G105","v":" Block 5 Player 1"},{"$f":"RESULTS!H105","v":-1E-3},{"$f":"RESULTS!I105","v":-1E-3}]
[null,null,null,null,null,null,null,null,{"$f":"RESULTS!G106","v":" Block 5 Player 6"},{"$f":"RESULTS!H106","v":-1E-3},{"$f":"RESULTS!I106","v":-1E-3}]
[null,{"$f":"IF(J261<0,\"\",IF(J261>J262,I261,I262))","v":""},{"$f":"IF(J261<0,\"\",IF(J261>J262,J261,J262))","v":""},"d.",{"$f":"IF(J261<0,\"\",IF(J261>J262,I262,I261))","v":""},{"$f":"IF(J261<0,\"\",IF(J261>J262,J262,J261))","v":""},{"$f":"IF(B261=\"\",\"\",IF(ISTEXT(K261),K261,IF(ISTEXT(K262),K262,\"\")))","v":""},null,{"$f":"RESULTS!G107","v":" Block 5 Player 5"},{"$f":"RESULTS!H107","v":-1E-3},{"$f":"RESULTS!I107","v":-1E-3}]
[null,null,null,null,null,null,null,null,{"$f":"RESULTS!G108","v":" Block 5 Player 7"},{"$f":"RESULTS!H108","v":-1E-3},{"$f":"RESULTS!I108","v":-1E-3}]
[null,{"$f":"IF(J263<0,\"\",IF(J263>J264,I263,I264))","v":""},{"$f":"IF(J263<0,\"\",IF(J263>J264,J263,J264))","v":""},"d.",{"$f":"IF(J263<0,\"\",IF(J263>J264,I264,I263))","v":""},{"$f":"IF(J263<0,\"\",IF(J263>J264,J264,J263))","v":""},{"$f":"IF(B263=\"\",\"\",IF(ISTEXT(K263),K263,IF(ISTEXT(K264),K264,\"\")))","v":""},null,{"$f":"RESULTS!G109","v":" Block 5 Player 4"},{"$f":"RESULTS!H109","v":-1E-3},{"$f":"RESULTS!I109","v":-1E-3}]
[null,null,null,null,null,null,null,null,{"$f":"RESULTS!G110","v":" Bye "},{"$f":"RESULTS!H110","v":-1E-3},{"$f":"RESULTS!I110","v":-1E-3}]
[null,{"$f":"IF(J265<0,\"\",IF(J265>J266,I265,I266))","v":""},{"$f":"IF(J265<0,\"\",IF(J265>J266,J265,J266))","v":""},"d.",{"$f":"IF(J265<0,\"\",IF(J265>J266,I266,I265))","v":""},{"$f":"IF(J265<0,\"\",IF(J265>J266,J266,J265))","v":""},{"$f":"IF(B265=\"\",\"\",IF(ISTEXT(K265),K265,IF(ISTEXT(K266),K266,\"\")))","v":""},null,{"$f":"RESULTS!G111","v":" Block 5 Player 3"},{"$f":"RESULTS!H111","v":-1E-3},{"$f":"RESULTS!I111","v":-1E-3}]
[null,null,null,null,null,null,null,null,{"$f":"RESULTS!G112","v":" Block 5 Player 2"},{"$f":"RESULTS!H112","v":-1E-3},{"$f":"RESULTS!I112","v":-1E-3}]
[null,{"$f":"IF(J267<0,\"\",IF(J267>J268,I267,I268))","v":""},{"$f":"IF(J267<0,\"\",IF(J267>J268,J267,J268))","v":""},"d.",{"$f":"IF(J267<0,\"\",IF(J267>J268,I268,I267))","v":""},{"$f":"IF(J267<0,\"\",IF(J267>J268,J268,J267))","v":""},{"$f":"IF(B267=\"\",\"\",IF(ISTEXT(K267),K267,IF(ISTEXT(K268),K268,\"\")))","v":""},null,{"$f":"RESULTS!G113","v":" Block 5 Player 1"},{"$f":"RESULTS!H113","v":-1E-3},{"$f":"RESULTS!I113","v":-1E-3}]
[null,null,null,null,null,null,null,null,{"$f":"RESULTS!G114","v":" Block 5 Player 7"},{"$f":"RESULTS!H114","v":-1E-3},{"$f":"RESULTS!I114","v":-1E-3}]
[null,{"$f":"IF(J269<0,\"\",IF(J269>J270,I269,I270))","v":""},{"$f":"IF(J269<0,\"\",IF(J269>J270,J269,J270))","v":""},"d.",{"$f":"IF(J269<0,\"\",IF(J269>J270,I270,I269))","v":""},{"$f":"IF(J269<0,\"\",IF(J269>J270,J270,J269))","v":""},{"$f":"IF(B269=\"\",\"\",IF(ISTEXT(K269),K269,IF(ISTEXT(K270),K270,\"\")))","v":""},null,{"$f":"RESULTS!G115","v":" Block 5 Player 6"},{"$f":"RESULTS!H115","v":-1E-3},{"$f":"RESULTS!I115","v":-1E-3}]
[null,null,null,null,null,null,null,null,{"$f":"RESULTS!G116","v":" Bye "},{"$f":"RESULTS!H116","v":-1E-3},{"$f":"RESULTS!I116","v":-1E-3}]
[null,{"$f":"IF(J271<0,\"\",IF(J271>J272,I271,I272))","v":""},{"$f":"IF(J271<0,\"\",IF(J271>J272,J271,J272))","v":""},"d.",{"$f":"IF(J271<0,\"\",IF(J271>J272,I272,I271))","v":""},{"$f":"IF(J271<0,\"\",IF(J271>J272,J272,J271))","v":""},{"$f":"IF(B271=\"\",\"\",IF(ISTEXT(K271),K271,IF(ISTEXT(K272),K272,\"\")))","v":""},null,{"$f":"RESULTS!G117","v":" Block 5 Player 5"},{"$f":"RESULTS!H117","v":-1E-3},{"$f":"RESULTS!I117","v":-1E-3}]
[null,null,null,null,null,null,null,null,{"$f":"RESULTS!G118","v":" Block 5 Player 2"},{"$f":"RESULTS!H118","v":-1E-3},{"$f":"RESULTS!I118","v":-1E-3}]
[null,{"$f":"IF(J273<0,\"\",IF(J273>J274,I273,I274))","v":""},{"$f":"IF(J273<0,\"\",IF(J273>J274,J273,J274))","v":""},"d.",{"$f":"IF(J273<0,\"\",IF(J273>J274,I274,I273))","v":""},{"$f":"IF(J273<0,\"\",IF(J273>J274,J274,J273))","v":""},{"$f":"IF(B273=\"\",\"\",IF(ISTEXT(K273),K273,IF(ISTEXT(K274),K274,\"\")))","v":""},null,{"$f":"RESULTS!G119","v":" Block 5 Player 4"},{"$f":"RESULTS!H119","v":-1E-3},{"$f":"RESULTS!I119","v":-1E-3}]
[null,null,null,null,null,null,null,null,{"$f":"RESULTS!G120","v":" Block 5 Player 3"},{"$f":"RESULTS!H120","v":-1E-3},{"$f":"RESULTS!I120","v":-1E-3}]
[null,{"$f":"IF(J275<0,\"\",IF(J275>J276,I275,I276))","v":""},{"$f":"IF(J275<0,\"\",IF(J275>J276,J275,J276))","v":""},"d.",{"$f":"IF(J275<0,\"\",IF(J275>J276,I276,I275))","v":""},{"$f":"IF(J275<0,\"\",IF(J275>J276,J276,J275))","v":""},{"$f":"IF(B275=\"\",\"\",IF(ISTEXT(K275),K275,IF(ISTEXT(K276),K276,\"\")))","v":""},null,{"$f":"RESULTS!K101","v":" Block 5 Player 1"},{"$f":"RESULTS!L101","v":-1E-3},{"$f":"RESULTS!M101","v":-1E-3}]
[null,null,null,null,null,null,null,null,{"$f":"RESULTS!K102","v":" Bye "},{"$f":"RESULTS!L102","v":-1E-3},{"$f":"RESULTS!M102","v":-1E-3}]
[null,{"$f":"IF(J277<0,\"\",IF(J277>J278,I277,I278))","v":""},{"$f":"IF(J277<0,\"\",IF(J277>J278,J277,J278))","v":""},"d.",{"$f":"IF(J277<0,\"\",IF(J277>J278,I278,I277))","v":""},{"$f":"IF(J277<0,\"\",IF(J277>J278,J278,J277))","v":""},{"$f":"IF(B277=\"\",\"\",IF(ISTEXT(K277),K277,IF(ISTEXT(K278),K278,\"\")))","v":""},null,{"$f":"RESULTS!K103","v":" Block 5 Player 7"},{"$f":"RESULTS!L103","v":-1E-3},{"$f":"RESULTS!M103","v":-1E-3}]
[null,null,null,null,null,null,null,null,{"$f":"RESULTS!K104","v":" Block 5 Player 2"},{"$f":"RESULTS!L104","v":-1E-3},{"$f":"RESULTS!M104","v":-1E-3}]
[null,{"$f":"IF(J279<0,\"\",IF(J279>J280,I279,I280))","v":""},{"$f":"IF(J279<0,\"\",IF(J279>J280,J279,J280))","v":""},"d.",{"$f":"IF(J279<0,\"\",IF(J279>J280,I280,I279))","v":""},{"$f":"IF(J279<0,\"\",IF(J279>J280,J280,J279))","v":""},{"$f":"IF(B279=\"\",\"\",IF(ISTEXT(K279),K279,IF(ISTEXT(K280),K280,\"\")))","v":""},null,{"$f":"RESULTS!K105","v":" Block 5 Player 6"},{"$f":"RESULTS!L105","v":-1E-3},{"$f":"RESULTS!M105","v":-1E-3}]
[null,null,null,null,null,null,null,null,{"$f":"RESULTS!K106","v":" Block 5 Player 3"},{"$f":"RESULTS!L106","v":-1E-3},{"$f":"RESULTS!M106","v":-1E-3}]
[null,{"$f":"IF(J281<0,\"\",IF(J281>J282,I281,I282))","v":""},{"$f":"IF(J281<0,\"\",IF(J281>J282,J281,J282))","v":""},"d.",{"$f":"IF(J281<0,\"\",IF(J281>J282,I282,I281))","v":""},{"$f":"IF(J281<0,\"\",IF(J281>J282,J282,J281))","v":""},{"$f":"IF(B281=\"\",\"\",IF(ISTEXT(K281),K281,IF(ISTEXT(K282),K282,\"\")))","v":""},null,{"$f":"RESULTS!K107","v":" Block 5 Player 5"},{"$f":"RESULTS!L107","v":-1E-3},{"$f":"RESULTS!M107","v":-1E-3}]
[null,null,null,null,null,null,null,null,{"$f":"RESULTS!K108","v":" Block 5 Player 4"},{"$f":"RESULTS!L108","v":-1E-3},{"$f":"RESULTS!M108","v":-1E-3}]
[null,{"$f":"IF(J283<0,\"\",IF(J283>J284,I283,I284))","v":""},{"$f":"IF(J283<0,\"\",IF(J283>J284,J283,J284))","v":""},"d.",{"$f":"IF(J283<0,\"\",IF(J283>J284,I284,I283))","v":""},{"$f":"IF(J283<0,\"\",IF(J283>J284,J284,J283))","v":""},{"$f":"IF(B283=\"\",\"\",IF(ISTEXT(K283),K283,IF(ISTEXT(K284),K284,\"\")))","v":""},null,{"$f":"RESULTS!K109","v":" Block 5 Player 1"},{"$f":"RESULTS!L109","v":-1E-3},{"$f":"RESULTS!M109","v":-1E-3}]
[null,null,null,null,null,null,null,null,{"$f":"RESULTS!K110","v":" Block 5 Player 2"},{"$f":"RESULTS!L110","v":-1E-3},{"$f":"RESULTS!M110","v":-1E-3}]
[null,{"$f":"IF(J285<0,\"\",IF(J285>J286,I285,I286))","v":""},{"$f":"IF(J285<0,\"\",IF(J285>J286,J285,J286))","v":""},"d.",{"$f":"IF(J285<0,\"\",IF(J285>J286,I286,I285))","v":""},{"$f":"IF(J285<0,\"\",IF(J285>J286,J286,J285))","v":""},{"$f":"IF(B285=\"\",\"\",IF(ISTEXT(K285),K285,IF(ISTEXT(K286),K286,\"\")))","v":""},null,{"$f":"RESULTS!K111","v":" Bye "},{"$f":"RESULTS!L111","v":-1E-3},{"$f":"RESULTS!M111","v":-1E-3}]
[null,null,null,null,null,null,null,null,{"$f":"RESULTS!K112","v":" Block 5 Player 3"},{"$f":"RESULTS!L112","v":-1E-3},{"$f":"RESULTS!M112","v":-1E-3}]
[null,{"$f":"IF(J287<0,\"\",IF(J287>J288,I287,I288))","v":""},{"$f":"IF(J287<0,\"\",IF(J287>J288,J287,J288))","v":""},"d.",{"$f":"IF(J287<0,\"\",IF(J287>J288,I288,I287))","v":""},{"$f":"IF(J287<0,\"\",IF(J287>J288,J288,J287))","v":""},{"$f":"IF(B287=\"\",\"\",IF(ISTEXT(K287),K287,IF(ISTEXT(K288),K288,\"\")))","v":""},null,{"$f":"RESULTS!K113","v":" Block 5 Player 7"},{"$f":"RESULTS!L113","v":-1E-3},{"$f":"RESULTS!M113","v":-1E-3}]
[null,null,null,null,null,null,null,null,{"$f":"RESULTS!K114","v":" Block 5 Player 4"},{"$f":"RESULTS!L114","v":-1E-3},{"$f":"RESULTS!M114","v":-1E-3}]
[null,{"$f":"IF(J289<0,\"\",IF(J289>J290,I289,I290))","v":""},{"$f":"IF(J289<0,\"\",IF(J289>J290,J289,J290))","v":""},"d.",{"$f":"IF(J289<0,\"\",IF(J289>J290,I290,I289))","v":""},{"$f":"IF(J289<0,\"\",IF(J289>J290,J290,J289))","v":""},{"$f":"IF(B289=\"\",\"\",IF(ISTEXT(K289),K289,IF(ISTEXT(K290),K290,\"\")))","v":""},null,{"$f":"RESULTS!K115","v":" Block 5 Player 6"},{"$f":"RESULTS!L115","v":-1E-3},{"$f":"RESULTS!M115","v":-1E-3}]
[null,null,null,null,null,null,null,null,{"$f":"RESULTS!K116","v":" Block 5 Player 5"},{"$f":"RESULTS!L116","v":-1E-3},{"$f":"RESULTS!M116","v":-1E-3}]

{"sheet":"MISC","index":16,"n_rows":46,"n_cols":11,"rows_kept":46,"cut":false,"hidden":false,"merged":[[2,4,2,10],[3,4,3,10]]}
[]
[]
[null,{"$f":"SEED!F1","v":"Tournament"},null,null,{"$f":"NAMES!$C$7","v":"Tournament"}]
[null,{"$f":"SEED!F2","v":"Singles"},null,null,{"$f":"NAMES!$C$8","v":"Singles"}]
[null,"NAME","NAME",null,null,null,"BLOCK","BLOCK","POINTS","POINTS","NET"]
[null,"FIRST","LAST",null,"PLAYER","H/CAP","PLACE","WINS","FOR","AGAINST","POINTS"]
[null,{"$f":"NAMES!C11","v":"Block 1"},{"$f":"NAMES!C12","v":"Player 1"},null,{"$f":"B7&\" \"&C7","v":"Block 1 Player 1"},{"$f":"SEED!E6","v":0},{"$f":"BLOCK!AG8","v":7},{"$f":"BLOCK!AB8","v":0},{"$f":"BLOCK!AC8","v":-7.0000000000000001E-3},{"$f":"BLOCK!AD8","v":-7.0000000000000001E-3},{"$f":"BLOCK!AE8","v":0}]
[null,{"$f":"NAMES!C16","v":"Block 1"},{"$f":"NAMES!C17","v":"Player 2"},null,{"$f":"B8&\" \"&C8","v":"Block 1 Player 2"},{"$f":"SEED!E7","v":0},{"$f":"BLOCK!AG11","v":6},{"$f":"BLOCK!AB11","v":0},{"$f":"BLOCK!AC11","v":-7.0000000000000001E-3},{"$f":"BLOCK!AD11","v":-7.0000000000000001E-3},{"$f":"BLOCK!AE11","v":0}]
[null,{"$f":"NAMES!C21","v":"Block 1"},{"$f":"NAMES!C22","v":"Player 3"},null,"Block 1 Player 3",{"$f":"SEED!E8","v":0},{"$f":"BLOCK!AG14","v":5},{"$f":"BLOCK!AB14","v":0},{"$f":"BLOCK!AC14","v":-7.0000000000000001E-3},{"$f":"BLOCK!AD14","v":-7.0000000000000001E-3},{"$f":"BLOCK!AE14","v":0}]
[null,{"$f":"NAMES!C26","v":"Block 1"},{"$f":"NAMES!C27","v":"Player 4"},null,"Block 1 Player 4",{"$f":"SEED!E9","v":0},{"$f":"BLOCK!AG17","v":4},{"$f":"BLOCK!AB17","v":0},{"$f":"BLOCK!AC17","v":-7.0000000000000001E-3},{"$f":"BLOCK!AD17","v":-7.0000000000000001E-3},{"$f":"BLOCK!AE17","v":0}]
[null,{"$f":"NAMES!C31","v":"Block 1"},{"$f":"NAMES!C32","v":"Player 5"},null,"Block 1 Player 5",{"$f":"SEED!E10","v":0},{"$f":"BLOCK!AG20","v":3},{"$f":"BLOCK!AB20","v":0},{"$f":"BLOCK!AC20","v":-7.0000000000000001E-3},{"$f":"BLOCK!AD20","v":-7.0000000000000001E-3},{"$f":"BLOCK!AE20","v":0}]
[null,{"$f":"NAMES!C36","v":"Block 1"},{"$f":"NAMES!C37","v":"Player 6"},null,"Block 1 Player 6",{"$f":"SEED!E11","v":0},{"$f":"BLOCK!AG23","v":2},{"$f":"BLOCK!AB23","v":0},{"$f":"BLOCK!AC23","v":-7.0000000000000001E-3},{"$f":"BLOCK!AD23","v":-7.0000000000000001E-3},{"$f":"BLOCK!AE23","v":0}]
[null,{"$f":"NAMES!C41","v":"Block 1"},{"$f":"NAMES!C42","v":"Player 7"},null,"Block 1 Player 7",{"$f":"SEED!E12","v":0},{"$f":"BLOCK!AG26","v":1},{"$f":"BLOCK!AB26","v":0},{"$f":"BLOCK!AC26","v":-7.0000000000000001E-3},{"$f":"BLOCK!AD26","v":-7.0000000000000001E-3},{"$f":"BLOCK!AE26","v":0}]
[null,{"$f":"NAMES!C46","v":"Bye"},{"$f":"NAMES!C47","v":0},null,"Bye 0",{"$f":"SEED!E13","v":0},{"$f":"BLOCK!AG29","v":0},{"$f":"BLOCK!AB29","v":0},{"$f":"BLOCK!AC29","v":-7.0000000000000001E-3},{"$f":"BLOCK!AD29","v":-7.0000000000000001E-3},{"$f":"BLOCK!AE29","v":0}]
[null,{"$f":"NAMES!C52","v":"Block 2"},{"$f":"NAMES!C53","v":"Player 1"},null,"Block 2 Player 1",{"$f":"SEED!J6","v":0},{"$f":"BLOCK!AG39","v":7},{"$f":"BLOCK!AB39","v":0},{"$f":"BLOCK!AC39","v":-7.0000000000000001E-3},{"$f":"BLOCK!AD39","v":-7.0000000000000001E-3},{"$f":"BLOCK!AE39","v":0}]
[null,{"$f":"NAMES!C57","v":"Block 2"},{"$f":"NAMES!C58","v":"Player 2"},null,{"$f":"B16&\" \"&C16","v":"Block 2 Player 2"},{"$f":"SEED!J7","v":0},{"$f":"BLOCK!AG42","v":6},{"$f":"BLOCK!AB42","v":0},{"$f":"BLOCK!AC42","v":-7.0000000000000001E-3},{"$f":"BLOCK!AD42","v":-7.0000000000000001E-3},{"$f":"BLOCK!AE42","v":0}]
[null,{"$f":"NAMES!C62","v":"Block 2"},{"$f":"NAMES!C63","v":"Player 3"},null,"Block 2 Player 3",{"$f":"SEED!J8","v":0},{"$f":"BLOCK!AG45","v":5},{"$f":"BLOCK!AB45","v":0},{"$f":"BLOCK!AC45","v":-7.0000000000000001E-3},{"$f":"BLOCK!AD45","v":-7.0000000000000001E-3},{"$f":"BLOCK!AE45","v":0}]
[null,{"$f":"NAMES!C67","v":"Block 2"},{"$f":"NAMES!C68","v":"Player 4"},null,"Block 2 Player 4",{"$f":"SEED!J9","v":0},{"$f":"BLOCK!AG48","v":4},{"$f":"BLOCK!AB48","v":0},{"$f":"BLOCK!AC48","v":-7.0000000000000001E-3},{"$f":"BLOCK!AD48","v":-7.0000000000000001E-3},{"$f":"BLOCK!AE48","v":0}]
[null,{"$f":"NAMES!C72","v":"Block 2"},{"$f":"NAMES!C73","v":"Player 5"},null,"Block 2 Player 5",{"$f":"SEED!J10","v":0},{"$f":"BLOCK!AG51","v":3},{"$f":"BLOCK!AB51","v":0},{"$f":"BLOCK!AC51","v":-7.0000000000000001E-3},{"$f":"BLOCK!AD51","v":-7.0000000000000001E-3},{"$f":"BLOCK!AE51","v":0}]
[null,{"$f":"NAMES!C77","v":"Block 2"},{"$f":"NAMES!C78","v":"Player 6"},null,"Block 2 Player 6",{"$f":"SEED!J11","v":0},{"$f":"BLOCK!AG54","v":2},{"$f":"BLOCK!AB54","v":0},{"$f":"BLOCK!AC54","v":-7.0000000000000001E-3},{"$f":"BLOCK!AD54","v":-7.0000000000000001E-3},{"$f":"BLOCK!AE54","v":0}]
[null,{"$f":"NAMES!C82","v":"Block 2"},{"$f":"NAMES!C83","v":"Player 7"},null,"Block 2 Player 7",{"$f":"NAMES!C85","v":0},{"$f":"BLOCK!AG57","v":1},{"$f":"BLOCK!AB57","v":0},{"$f":"BLOCK!AC57","v":-7.0000000000000001E-3},{"$f":"BLOCK!AD57","v":-7.0000000000000001E-3},{"$f":"BLOCK!AE57","v":0}]
[null,{"$f":"NAMES!C87","v":"Bye"},{"$f":"NAMES!C88","v":0},null,"Bye 0",{"$f":"NAMES!C90","v":0},{"$f":"BLOCK!AG60","v":{"$error":"#N/A"}},{"$f":"BLOCK!AB60","v":0},{"$f":"BLOCK!AC60","v":-7.0000000000000001E-3},{"$f":"BLOCK!AD60","v":-7.0000000000000001E-3},{"$f":"BLOCK!AE60","v":0}]
[null,{"$f":"NAMES!C93","v":"Block 3"},{"$f":"NAMES!C94","v":"Player 1"},null,"Block 3 Player 1",{"$f":"SEED!E18","v":0},{"$f":"BLOCK!AG70","v":7},{"$f":"BLOCK!AB70","v":0},{"$f":"BLOCK!AC70","v":-7.0000000000000001E-3},{"$f":"BLOCK!AD70","v":-7.0000000000000001E-3},{"$f":"BLOCK!AE70","v":0}]
[null,{"$f":"NAMES!C98","v":"Block 3"},{"$f":"NAMES!C99","v":"Player 2"},null,"Block 3 Player 2",{"$f":"SEED!E19","v":0},{"$f":"BLOCK!AG73","v":6},{"$f":"BLOCK!AB73","v":0},{"$f":"BLOCK!AC73","v":-7.0000000000000001E-3},{"$f":"BLOCK!AD73","v":-7.0000000000000001E-3},{"$f":"BLOCK!AE73","v":0}]
[null,{"$f":"NAMES!C103","v":"Block 3"},{"$f":"NAMES!C104","v":"Player 3"},null,"Block 3 Player 3",{"$f":"SEED!E20","v":0},{"$f":"BLOCK!AG76","v":5},{"$f":"BLOCK!AB76","v":0},{"$f":"BLOCK!AC76","v":-7.0000000000000001E-3},{"$f":"BLOCK!AD76","v":-7.0000000000000001E-3},{"$f":"BLOCK!AE76","v":0}]
[null,{"$f":"NAMES!C108","v":"Block 3"},{"$f":"NAMES!C109","v":"Player 4"},null,"Block 3 Player 4",{"$f":"SEED!E21","v":0},{"$f":"BLOCK!AG79","v":4},{"$f":"BLOCK!AB79","v":0},{"$f":"BLOCK!AC79","v":-7.0000000000000001E-3},{"$f":"BLOCK!AD79","v":-7.0000000000000001E-3},{"$f":"BLOCK!AE79","v":0}]
[null,{"$f":"NAMES!C113","v":"Block 3"},{"$f":"NAMES!C114","v":"Player 5"},null,"Block 3 Player 5",{"$f":"SEED!E22","v":0},{"$f":"BLOCK!AG82","v":3},{"$f":"BLOCK!AB82","v":0},{"$f":"BLOCK!AC82","v":-7.0000000000000001E-3},{"$f":"BLOCK!AD82","v":-7.0000000000000001E-3},{"$f":"BLOCK!AE82","v":0}]
[null,{"$f":"NAMES!C118","v":"Block 3"},{"$f":"NAMES!C119","v":"Player 6"},null,{"$f":"B28&\" \"&C28","v":"Block 3 Player 6"},{"$f":"SEED!E23","v":0},{"$f":"BLOCK!AG85","v":2},{"$f":"BLOCK!AB85","v":0},{"$f":"BLOCK!AC85","v":-7.0000000000000001E-3},{"$f":"BLOCK!AD85","v":-7.0000000000000001E-3},{"$f":"BLOCK!AE85","v":0}]
[null,{"$f":"NAMES!C123","v":"Block 3"},{"$f":"NAMES!C124","v":"Player 7"},null,"Block 3 Player 7",{"$f":"SEED!E24","v":0},{"$f":"BLOCK!AG88","v":1},{"$f":"BLOCK!AB88","v":0},{"$f":"BLOCK!AC88","v":-7.0000000000000001E-3},{"$f":"BLOCK!AD88","v":-7.0000000000000001E-3},{"$f":"BLOCK!AE88","v":0}]
[null,{"$f":"NAMES!C128","v":"Bye"},{"$f":"NAMES!C129","v":0},null,"Bye 0",{"$f":"SEED!E25","v":0},{"$f":"BLOCK!AG91","v":{"$error":"#N/A"}},{"$f":"BLOCK!AB91","v":0},{"$f":"BLOCK!AC91","v":-7.0000000000000001E-3},{"$f":"BLOCK!AD91","v":-7.0000000000000001E-3},{"$f":"BLOCK!AE91","v":0}]
[null,{"$f":"NAMES!C134","v":"Block 4"},{"$f":"NAMES!C135","v":"Player 1"},null,"Block 4 Player 1",{"$f":"SEED!J18","v":0},{"$f":"BLOCK!AG101","v":7},{"$f":"BLOCK!AB101","v":0},{"$f":"BLOCK!AC101","v":-7.0000000000000001E-3},{"$f":"BLOCK!AD101","v":-7.0000000000000001E-3},{"$f":"BLOCK!AE101","v":0}]
[null,{"$f":"NAMES!C139","v":"Block 4"},{"$f":"NAMES!C140","v":"Player 2"},null,"Block 4 Player 2",{"$f":"SEED!J19","v":0},{"$f":"BLOCK!AG104","v":6},{"$f":"BLOCK!AB104","v":0},{"$f":"BLOCK!AC104","v":-7.0000000000000001E-3},{"$f":"BLOCK!AD104","v":-7.0000000000000001E-3},{"$f":"BLOCK!AE104","v":0}]
[null,{"$f":"NAMES!C144","v":"Block 4"},{"$f":"NAMES!C145","v":"Player 3"},null,"Block 4 Player 3",{"$f":"SEED!J20","v":0},{"$f":"BLOCK!AG107","v":5},{"$f":"BLOCK!AB107","v":0},{"$f":"BLOCK!AC107","v":-7.0000000000000001E-3},{"$f":"BLOCK!AD107","v":-7.0000000000000001E-3},{"$f":"BLOCK!AE107","v":0}]
[null,{"$f":"NAMES!C149","v":"Block 4"},{"$f":"NAMES!C150","v":"Player 4"},null,"Block 4 Player 4",{"$f":"SEED!J21","v":0},{"$f":"BLOCK!AG110","v":4},{"$f":"BLOCK!AB110","v":0},{"$f":"BLOCK!AC110","v":-7.0000000000000001E-3},{"$f":"BLOCK!AD110","v":-7.0000000000000001E-3},{"$f":"BLOCK!AE110","v":0}]
[null,{"$f":"NAMES!C154","v":"Block 4"},{"$f":"NAMES!C155","v":"Player 5"},null,"Block 4 Player 5",{"$f":"SEED!J22","v":0},{"$f":"BLOCK!AG113","v":3},{"$f":"BLOCK!AB113","v":0},{"$f":"BLOCK!AC113","v":-7.0000000000000001E-3},{"$f":"BLOCK!AD113","v":-7.0000000000000001E-3},{"$f":"BLOCK!AE113","v":0}]
[null,{"$f":"NAMES!C159","v":"Block 4"},{"$f":"NAMES!C160","v":"Player 6"},null,"Block 4 Player 6",{"$f":"SEED!J23","v":0},{"$f":"BLOCK!AG116","v":2},{"$f":"BLOCK!AB116","v":0},{"$f":"BLOCK!AC116","v":-7.0000000000000001E-3},{"$f":"BLOCK!AD116","v":-7.0000000000000001E-3},{"$f":"BLOCK!AE116","v":0}]
[null,{"$f":"NAMES!C164","v":"Block 4"},{"$f":"NAMES!C165","v":"Player 7"},null,"Block 4 Player 7",{"$f":"SEED!J24","v":0},{"$f":"BLOCK!AG119","v":1},{"$f":"BLOCK!AB119","v":0},{"$f":"BLOCK!AC119","v":-7.0000000000000001E-3},{"$f":"BLOCK!AD119","v":-7.0000000000000001E-3},{"$f":"BLOCK!AE119","v":0}]
[null,{"$f":"NAMES!C169","v":"Bye"},{"$f":"NAMES!C170","v":0},null,"Bye 0",{"$f":"SEED!J25","v":0},{"$f":"BLOCK!AG122","v":{"$error":"#N/A"}},{"$f":"BLOCK!AB122","v":0},{"$f":"BLOCK!AC122","v":-7.0000000000000001E-3},{"$f":"BLOCK!AD122","v":-7.0000000000000001E-3},{"$f":"BLOCK!AE122","v":0}]
[null,{"$f":"NAMES!C175","v":"Block 5"},{"$f":"NAMES!C176","v":"Player 1"},null,{"$f":"B39&\" \"&C39","v":"Block 5 Player 1"},{"$f":"SEED!E30","v":0},{"$f":"BLOCK!AG132","v":7},{"$f":"BLOCK!AB132","v":0},{"$f":"BLOCK!AC132","v":-7.0000000000000001E-3},{"$f":"BLOCK!AD132","v":-7.0000000000000001E-3},{"$f":"BLOCK!AE132","v":0}]
[null,{"$f":"NAMES!C180","v":"Block 5"},{"$f":"NAMES!C181","v":"Player 2"},null,"Block 5 Player 2",{"$f":"SEED!E31","v":0},{"$f":"BLOCK!AG135","v":6},{"$f":"BLOCK!AB135","v":0},{"$f":"BLOCK!AC135","v":-7.0000000000000001E-3},{"$f":"BLOCK!AD135","v":-7.0000000000000001E-3},{"$f":"BLOCK!AE135","v":0}]
[null,{"$f":"NAMES!C185","v":"Block 5"},{"$f":"NAMES!C186","v":"Player 3"},null,"Block 5 Player 3",{"$f":"SEED!E32","v":0},{"$f":"BLOCK!AG138","v":5},{"$f":"BLOCK!AB138","v":0},{"$f":"BLOCK!AC138","v":-7.0000000000000001E-3},{"$f":"BLOCK!AD138","v":-7.0000000000000001E-3},{"$f":"BLOCK!AE138","v":0}]
[null,{"$f":"NAMES!C190","v":"Block 5"},{"$f":"NAMES!C191","v":"Player 4"},null,"Block 5 Player 4",{"$f":"SEED!E33","v":0},{"$f":"BLOCK!AG141","v":4},{"$f":"BLOCK!AB141","v":0},{"$f":"BLOCK!AC141","v":-7.0000000000000001E-3},{"$f":"BLOCK!AD141","v":-7.0000000000000001E-3},{"$f":"BLOCK!AE141","v":0}]
[null,{"$f":"NAMES!C195","v":"Block 5"},{"$f":"NAMES!C196","v":"Player 5"},null,"Block 5 Player 5",{"$f":"SEED!E34","v":0},{"$f":"BLOCK!AG144","v":3},{"$f":"BLOCK!AB144","v":0},{"$f":"BLOCK!AC144","v":-7.0000000000000001E-3},{"$f":"BLOCK!AD144","v":-7.0000000000000001E-3},{"$f":"BLOCK!AE144","v":0}]
[null,{"$f":"NAMES!C200","v":"Block 5"},{"$f":"NAMES!C201","v":"Player 6"},null,"Block 5 Player 6",{"$f":"SEED!E35","v":0},{"$f":"BLOCK!AG147","v":2},{"$f":"BLOCK!AB147","v":0},{"$f":"BLOCK!AC147","v":-7.0000000000000001E-3},{"$f":"BLOCK!AD147","v":-7.0000000000000001E-3},{"$f":"BLOCK!AE147","v":0}]
[null,{"$f":"NAMES!C205","v":"Block 5"},{"$f":"NAMES!C206","v":"Player 7"},null,"Block 5 Player 7",{"$f":"SEED!E36","v":0},{"$f":"BLOCK!AG150","v":1},{"$f":"BLOCK!AB150","v":0},{"$f":"BLOCK!AC150","v":-7.0000000000000001E-3},{"$f":"BLOCK!AD150","v":-7.0000000000000001E-3},{"$f":"BLOCK!AE150","v":0}]
[null,{"$f":"NAMES!C210","v":"Bye"},{"$f":"NAMES!C211","v":0},null,"Bye 0",{"$f":"SEED!E37","v":0},{"$f":"BLOCK!AG153","v":{"$error":"#N/A"}},{"$f":"BLOCK!AB153","v":0},{"$f":"BLOCK!AC153","v":-7.0000000000000001E-3},{"$f":"BLOCK!AD153","v":-7.0000000000000001E-3},{"$f":"BLOCK!AE153","v":0}]

{"sheet":"BLOCK SCHEDULE","index":17,"n_rows":163,"n_cols":7,"rows_kept":163,"cut":false,"hidden":false,"merged":[[134,4,134,6],[102,1,102,3],[102,4,102,6],[103,4,103,6],[133,1,133,3],[133,4,133,6],[7,1,7,6],[9,1,9,3],[9,4,9,6],[10,4,10,6],[72,4,72,6],[40,1,40,3],[40,4,40,6],[41,4,41,6],[71,1,71,3],[71,4,71,6],[2,1,2,6],[4,1,4,6],[5,1,5,6],[6,1,6,6],[3,1,3,6]]}
[]
[]
[null,{"$f":"NAMES!$C$7","v":"Tournament"}]
[null,{"$f":"NAMES!$C$9","v":"Date"}]
[null,{"$f":"NAMES!E22","v":"Time limit 2.5 hours, Turn After Bell (61.1.6). Quadway hoops (3 11/16\"), Dawson International balls"}]
[null,{"$f":"NAMES!E23","v":"Games may start early. Please be at the venue at least 30 minutes earlier than the scheduled start time."}]
[null,{"$f":"NAMES!E24","v":"Entry Fee $40 will be invoiced by email. Please pay by EFT using the invoice No. as reference."}]
[null,{"$f":"NAMES!E25","v":"Players please assist with setting and clearing courts."}]
[]
[null,{"$f":"\"SCHEDULE   \"& NAMES!C10","v":"SCHEDULE   BLOCK 1"},null,null,{"$f":"NAMES!$C$8","v":"Singles"}]
[null,"TIME","DAY","COURT","PLAYERS"]
[null,{"$f":"GAMES!B6","v":"00:00:00"},{"$f":"GAMES!C6","v":"00:00:00"},{"$f":"GAMES!D6","v":0},{"$f":"GAMES!E6","v":" Block 1 Player 2"},{"$f":"GAMES!F6","v":"vs"},{"$f":"GAMES!G6","v":" Block 1 Player 4"}]
[null,{"$f":"GAMES!B8","v":"00:00:00"},{"$f":"GAMES!C8","v":"00:00:00"},{"$f":"GAMES!D8","v":0},{"$f":"GAMES!E8","v":" Block 1 Player 7"},{"$f":"GAMES!F8","v":"vs"},{"$f":"GAMES!G8","v":" Block 1 Player 6"}]
[null,{"$f":"GAMES!B5","v":"00:00:00"},{"$f":"GAMES!C5","v":"00:00:00"},{"$f":"GAMES!D5","v":0},{"$f":"GAMES!E5","v":" Block 1 Player 1"},{"$f":"GAMES!F5","v":"vs"},{"$f":"GAMES!G5","v":" Block 1 Player 3"}]
[null,{"$f":"GAMES!B10","v":"00:00:00"},{"$f":"GAMES!C10","v":"00:00:00"},{"$f":"GAMES!D10","v":0},{"$f":"GAMES!E10","v":" Block 1 Player 3"},{"$f":"GAMES!F10","v":"vs"},{"$f":"GAMES!G10","v":" Block 1 Player 5"}]
[null,{"$f":"GAMES!B11","v":"00:00:00"},{"$f":"GAMES!C11","v":"00:00:00"},{"$f":"GAMES!D11","v":0},{"$f":"GAMES!E11","v":" Block 1 Player 2"},{"$f":"GAMES!F11","v":"vs"},{"$f":"GAMES!G11","v":" Block 1 Player 6"}]
[null,{"$f":"GAMES!B9","v":"00:00:00"},{"$f":"GAMES!C9","v":"00:00:00"},{"$f":"GAMES!D9","v":0},{"$f":"GAMES!E9","v":" Block 1 Player 1"},{"$f":"GAMES!F9","v":"vs"},{"$f":"GAMES!G9","v":" Block 1 Player 4"}]
[null,{"$f":"GAMES!B13","v":"00:00:00"},{"$f":"GAMES!C13","v":"00:00:00"},{"$f":"GAMES!D13","v":0},{"$f":"GAMES!E13","v":" Block 1 Player 1"},{"$f":"GAMES!F13","v":"vs"},{"$f":"GAMES!G13","v":" Block 1 Player 5"}]
[null,{"$f":"GAMES!B15","v":"00:00:00"},{"$f":"GAMES!C15","v":"00:00:00"},{"$f":"GAMES!D15","v":0},{"$f":"GAMES!E15","v":" Block 1 Player 3"},{"$f":"GAMES!F15","v":"vs"},{"$f":"GAMES!G15","v":" Block 1 Player 7"}]
[null,{"$f":"GAMES!B14","v":"00:00:00"},{"$f":"GAMES!C14","v":"00:00:00"},{"$f":"GAMES!D14","v":0},{"$f":"GAMES!E14","v":" Block 1 Player 4"},{"$f":"GAMES!F14","v":"vs"},{"$f":"GAMES!G14","v":" Block 1 Player 6"}]
[null,{"$f":"GAMES!B17","v":"00:00:00"},{"$f":"GAMES!C17","v":"00:00:00"},{"$f":"GAMES!D17","v":0},{"$f":"GAMES!E17","v":" Block 1 Player 1"},{"$f":"GAMES!F17","v":"vs"},{"$f":"GAMES!G17","v":" Block 1 Player 6"}]
[null,{"$f":"GAMES!B18","v":"00:00:00"},{"$f":"GAMES!C18","v":"00:00:00"},{"$f":"GAMES!D18","v":0},{"$f":"GAMES!E18","v":" Block 1 Player 5"},{"$f":"GAMES!F18","v":"vs"},{"$f":"GAMES!G18","v":" Block 1 Player 7"}]
[null,{"$f":"GAMES!B20","v":"00:00:00"},{"$f":"GAMES!C20","v":"00:00:00"},{"$f":"GAMES!D20","v":0},{"$f":"GAMES!E20","v":" Block 1 Player 3"},{"$f":"GAMES!F20","v":"vs"},{"$f":"GAMES!G20","v":" Block 1 Player 2"}]
[null,{"$f":"GAMES!B21","v":"00:00:00"},{"$f":"GAMES!C21","v":"00:00:00"},{"$f":"GAMES!D21","v":0},{"$f":"GAMES!E21","v":" Block 1 Player 1"},{"$f":"GAMES!F21","v":"vs"},{"$f":"GAMES!G21","v":" Block 1 Player 7"}]
[null,{"$f":"GAMES!B23","v":"00:00:00"},{"$f":"GAMES!C23","v":"00:00:00"},{"$f":"GAMES!D23","v":0},{"$f":"GAMES!E23","v":" Block 1 Player 5"},{"$f":"GAMES!F23","v":"vs"},{"$f":"GAMES!G23","v":" Block 1 Player 2"}]
[null,{"$f":"GAMES!B24","v":"00:00:00"},{"$f":"GAMES!C24","v":"00:00:00"},{"$f":"GAMES!D24","v":0},{"$f":"GAMES!E24","v":" Block 1 Player 4"},{"$f":"GAMES!F24","v":"vs"},{"$f":"GAMES!G24","v":" Block 1 Player 3"}]
[null,{"$f":"GAMES!B26","v":"00:00:00"},{"$f":"GAMES!C26","v":"00:00:00"},{"$f":"GAMES!D26","v":0},{"$f":"GAMES!E26","v":" Block 1 Player 7"},{"$f":"GAMES!F26","v":"vs"},{"$f":"GAMES!G26","v":" Block 1 Player 2"}]
[null,{"$f":"GAMES!B28","v":"00:00:00"},{"$f":"GAMES!C28","v":"00:00:00"},{"$f":"GAMES!D28","v":0},{"$f":"GAMES!E28","v":" Block 1 Player 5"},{"$f":"GAMES!F28","v":"vs"},{"$f":"GAMES!G28","v":" Block 1 Player 4"}]
[null,{"$f":"GAMES!B27","v":"00:00:00"},{"$f":"GAMES!C27","v":"00:00:00"},{"$f":"GAMES!D27","v":0},{"$f":"GAMES!E27","v":" Block 1 Player 6"},{"$f":"GAMES!F27","v":"vs"},{"$f":"GAMES!G27","v":" Block 1 Player 3"}]
[null,{"$f":"GAMES!B31","v":"00:00:00"},{"$f":"GAMES!C31","v":"00:00:00"},{"$f":"GAMES!D31","v":0},{"$f":"GAMES!E31","v":" Block 1 Player 7"},{"$f":"GAMES!F31","v":"vs"},{"$f":"GAMES!G31","v":" Block 1 Player 4"}]
[null,{"$f":"GAMES!B32","v":"00:00:00"},{"$f":"GAMES!C32","v":"00:00:00"},{"$f":"GAMES!D32","v":0},{"$f":"GAMES!E32","v":" Block 1 Player 6"},{"$f":"GAMES!F32","v":"vs"},{"$f":"GAMES!G32","v":" Block 1 Player 5"}]
[null,{"$f":"GAMES!B29","v":"00:00:00"},{"$f":"GAMES!C29","v":"00:00:00"},{"$f":"GAMES!D29","v":0},{"$f":"GAMES!E29","v":" Block 1 Player 1"},{"$f":"GAMES!F29","v":"vs"},{"$f":"GAMES!G29","v":" Block 1 Player 2"}]
[null,{"$f":"GAMES!B7","v":"00:00:00"},{"$f":"GAMES!C7","v":"00:00:00"},{"$f":"GAMES!D7","v":"--"},{"$f":"GAMES!E7","v":" Bye "},{"$f":"GAMES!F7","v":"vs"},{"$f":"GAMES!G7","v":" Block 1 Player 5"}]
[null,{"$f":"GAMES!B12","v":"00:00:00"},{"$f":"GAMES!C12","v":"00:00:00"},{"$f":"GAMES!D12","v":"--"},{"$f":"GAMES!E12","v":" Bye "},{"$f":"GAMES!F12","v":"vs"},{"$f":"GAMES!G12","v":" Block 1 Player 7"}]
[null,{"$f":"GAMES!B16","v":"00:00:00"},{"$f":"GAMES!C16","v":"00:00:00"},{"$f":"GAMES!D16","v":"--"},{"$f":"GAMES!E16","v":" Block 1 Player 2"},{"$f":"GAMES!F16","v":"vs"},{"$f":"GAMES!G16","v":" Bye "}]
[null,{"$f":"GAMES!B19","v":"00:00:00"},{"$f":"GAMES!C19","v":"00:00:00"},{"$f":"GAMES!D19","v":"--"},{"$f":"GAMES!E19","v":" Block 1 Player 4"},{"$f":"GAMES!F19","v":"vs"},{"$f":"GAMES!G19","v":" Bye "}]
[null,{"$f":"GAMES!B22","v":"00:00:00"},{"$f":"GAMES!C22","v":"00:00:00"},{"$f":"GAMES!D22","v":"--"},{"$f":"GAMES!E22","v":" Block 1 Player 6"},{"$f":"GAMES!F22","v":"vs"},{"$f":"GAMES!G22","v":" Bye "}]
[null,{"$f":"GAMES!B25","v":"00:00:00"},{"$f":"GAMES!C25","v":"00:00:00"},{"$f":"GAMES!D25","v":"--"},{"$f":"GAMES!E25","v":" Block 1 Player 1"},{"$f":"GAMES!F25","v":"vs"},{"$f":"GAMES!G25","v":" Bye "}]
[null,{"$f":"GAMES!B30","v":"00:00:00"},{"$f":"GAMES!C30","v":"00:00:00"},{"$f":"GAMES!D30","v":"--"},{"$f":"GAMES!E30","v":" Bye "},{"$f":"GAMES!F30","v":"vs"},{"$f":"GAMES!G30","v":" Block 1 Player 3"}]
[]
[null,{"$f":"\"SCHEDULE   \"& NAMES!C51","v":"SCHEDULE   BLOCK 2"},null,null,{"$f":"NAMES!$C$8","v":"Singles"}]
[null,"TIME","DAY","COURT","PLAYERS"]
[null,{"$f":"GAMES!B37","v":"00:00:00"},{"$f":"GAMES!C37","v":"00:00:00"},{"$f":"GAMES!D37","v":0},{"$f":"GAMES!E37","v":" Block 2 Player 2"},{"$f":"GAMES!F37","v":"vs"},{"$f":"GAMES!G37","v":" Block 2 Player 4"}]
[null,{"$f":"GAMES!B39","v":"00:00:00"},{"$f":"GAMES!C39","v":"00:00:00"},{"$f":"GAMES!D39","v":0},{"$f":"GAMES!E39","v":" Block 2 Player 7"},{"$f":"GAMES!F39","v":"vs"},{"$f":"GAMES!G39","v":" Block 2 Player 6"}]
[null,{"$f":"GAMES!B36","v":"00:00:00"},{"$f":"GAMES!C36","v":"00:00:00"},{"$f":"GAMES!D36","v":0},{"$f":"GAMES!E36","v":" Block 2 Player 1"},{"$f":"GAMES!F36","v":"vs"},{"$f":"GAMES!G36","v":" Block 2 Player 3"}]
[null,{"$f":"GAMES!B41","v":"00:00:00"},{"$f":"GAMES!C41","v":"00:00:00"},{"$f":"GAMES!D41","v":0},{"$f":"GAMES!E41","v":" Block 2 Player 3"},{"$f":"GAMES!F41","v":"vs"},{"$f":"GAMES!G41","v":" Block 2 Player 5"}]
[null,{"$f":"GAMES!B42","v":"00:00:00"},{"$f":"GAMES!C42","v":"00:00:00"},{"$f":"GAMES!D42","v":0},{"$f":"GAMES!E42","v":" Block 2 Player 2"},{"$f":"GAMES!F42","v":"vs"},{"$f":"GAMES!G42","v":" Block 2 Player 6"}]
[null,{"$f":"GAMES!B40","v":"00:00:00"},{"$f":"GAMES!C40","v":"00:00:00"},{"$f":"GAMES!D40","v":0},{"$f":"GAMES!E40","v":" Block 2 Player 1"},{"$f":"GAMES!F40","v":"vs"},{"$f":"GAMES!G40","v":" Block 2 Player 4"}]
[null,{"$f":"GAMES!B44","v":"00:00:00"},{"$f":"GAMES!C44","v":"00:00:00"},{"$f":"GAMES!D44","v":0},{"$f":"GAMES!E44","v":" Block 2 Player 1"},{"$f":"GAMES!F44","v":"vs"},{"$f":"GAMES!G44","v":" Block 2 Player 5"}]
[null,{"$f":"GAMES!B46","v":"00:00:00"},{"$f":"GAMES!C46","v":"00:00:00"},{"$f":"GAMES!D46","v":0},{"$f":"GAMES!E46","v":" Block 2 Player 3"},{"$f":"GAMES!F46","v":"vs"},{"$f":"GAMES!G46","v":" Block 2 Player 7"}]
[null,{"$f":"GAMES!B45","v":"00:00:00"},{"$f":"GAMES!C45","v":"00:00:00"},{"$f":"GAMES!D45","v":0},{"$f":"GAMES!E45","v":" Block 2 Player 4"},{"$f":"GAMES!F45","v":"vs"},{"$f":"GAMES!G45","v":" Block 2 Player 6"}]
[null,{"$f":"GAMES!B48","v":"00:00:00"},{"$f":"GAMES!C48","v":"00:00:00"},{"$f":"GAMES!D48","v":0},{"$f":"GAMES!E48","v":" Block 2 Player 1"},{"$f":"GAMES!F48","v":"vs"},{"$f":"GAMES!G48","v":" Block 2 Player 6"}]
[null,{"$f":"GAMES!B49","v":"00:00:00"},{"$f":"GAMES!C49","v":"00:00:00"},{"$f":"GAMES!D49","v":0},{"$f":"GAMES!E49","v":" Block 2 Player 5"},{"$f":"GAMES!F49","v":"vs"},{"$f":"GAMES!G49","v":" Block 2 Player 7"}]
[null,{"$f":"GAMES!B51","v":"00:00:00"},{"$f":"GAMES!C51","v":"00:00:00"},{"$f":"GAMES!D51","v":0},{"$f":"GAMES!E51","v":" Block 2 Player 3"},{"$f":"GAMES!F51","v":"vs"},{"$f":"GAMES!G51","v":" Block 2 Player 2"}]
[null,{"$f":"GAMES!B52","v":"00:00:00"},{"$f":"GAMES!C52","v":"00:00:00"},{"$f":"GAMES!D52","v":0},{"$f":"GAMES!E52","v":" Block 2 Player 1"},{"$f":"GAMES!F52","v":"vs"},{"$f":"GAMES!G52","v":" Block 2 Player 7"}]
[null,{"$f":"GAMES!B54","v":"00:00:00"},{"$f":"GAMES!C54","v":"00:00:00"},{"$f":"GAMES!D54","v":0},{"$f":"GAMES!E54","v":" Block 2 Player 5"},{"$f":"GAMES!F54","v":"vs"},{"$f":"GAMES!G54","v":" Block 2 Player 2"}]
[null,{"$f":"GAMES!B55","v":"00:00:00"},{"$f":"GAMES!C55","v":"00:00:00"},{"$f":"GAMES!D55","v":0},{"$f":"GAMES!E55","v":" Block 2 Player 4"},{"$f":"GAMES!F55","v":"vs"},{"$f":"GAMES!G55","v":" Block 2 Player 3"}]
[null,{"$f":"GAMES!B57","v":"00:00:00"},{"$f":"GAMES!C57","v":"00:00:00"},{"$f":"GAMES!D57","v":0},{"$f":"GAMES!E57","v":" Block 2 Player 7"},{"$f":"GAMES!F57","v":"vs"},{"$f":"GAMES!G57","v":" Block 2 Player 2"}]
[null,{"$f":"GAMES!B59","v":"00:00:00"},{"$f":"GAMES!C59","v":"00:00:00"},{"$f":"GAMES!D59","v":0},{"$f":"GAMES!E59","v":" Block 2 Player 5"},{"$f":"GAMES!F59","v":"vs"},{"$f":"GAMES!G59","v":" Block 2 Player 4"}]
[null,{"$f":"GAMES!B58","v":"00:00:00"},{"$f":"GAMES!C58","v":"00:00:00"},{"$f":"GAMES!D58","v":0},{"$f":"GAMES!E58","v":" Block 2 Player 6"},{"$f":"GAMES!F58","v":"vs"},{"$f":"GAMES!G58","v":" Block 2 Player 3"}]
[null,{"$f":"GAMES!B62","v":"00:00:00"},{"$f":"GAMES!C62","v":"00:00:00"},{"$f":"GAMES!D62","v":0},{"$f":"GAMES!E62","v":" Block 2 Player 7"},{"$f":"GAMES!F62","v":"vs"},{"$f":"GAMES!G62","v":" Block 2 Player 4"}]
[null,{"$f":"GAMES!B63","v":"00:00:00"},{"$f":"GAMES!C63","v":"00:00:00"},{"$f":"GAMES!D63","v":0},{"$f":"GAMES!E63","v":" Block 2 Player 6"},{"$f":"GAMES!F63","v":"vs"},{"$f":"GAMES!G63","v":" Block 2 Player 5"}]
[null,{"$f":"GAMES!B60","v":"00:00:00"},{"$f":"GAMES!C60","v":"00:00:00"},{"$f":"GAMES!D60","v":0},{"$f":"GAMES!E60","v":" Block 2 Player 1"},{"$f":"GAMES!F60","v":"vs"},{"$f":"GAMES!G60","v":" Block 2 Player 2"}]
[null,{"$f":"GAMES!B38","v":"00:00:00"},{"$f":"GAMES!C38","v":"00:00:00"},{"$f":"GAMES!D38","v":"--"},{"$f":"GAMES!E38","v":" Bye "},{"$f":"GAMES!F38","v":"vs"},{"$f":"GAMES!G38","v":" Block 2 Player 5"}]
[null,{"$f":"GAMES!B43","v":"00:00:00"},{"$f":"GAMES!C43","v":"00:00:00"},{"$f":"GAMES!D43","v":"--"},{"$f":"GAMES!E43","v":" Bye "},{"$f":"GAMES!F43","v":"vs"},{"$f":"GAMES!G43","v":" Block 2 Player 7"}]
[null,{"$f":"GAMES!B47","v":"00:00:00"},{"$f":"GAMES!C47","v":"00:00:00"},{"$f":"GAMES!D47","v":"--"},{"$f":"GAMES!E47","v":" Block 2 Player 2"},{"$f":"GAMES!F47","v":"vs"},{"$f":"GAMES!G47","v":" Bye "}]
[null,{"$f":"GAMES!B50","v":"00:00:00"},{"$f":"GAMES!C50","v":"00:00:00"},{"$f":"GAMES!D50","v":"--"},{"$f":"GAMES!E50","v":" Block 2 Player 4"},{"$f":"GAMES!F50","v":"vs"},{"$f":"GAMES!G50","v":" Bye "}]
[null,{"$f":"GAMES!B53","v":"00:00:00"},{"$f":"GAMES!C53","v":"00:00:00"},{"$f":"GAMES!D53","v":"--"},{"$f":"GAMES!E53","v":" Block 2 Player 6"},{"$f":"GAMES!F53","v":"vs"},{"$f":"GAMES!G53","v":" Bye "}]
[null,{"$f":"GAMES!B56","v":"00:00:00"},{"$f":"GAMES!C56","v":"00:00:00"},{"$f":"GAMES!D56","v":"--"},{"$f":"GAMES!E56","v":" Block 2 Player 1"},{"$f":"GAMES!F56","v":"vs"},{"$f":"GAMES!G56","v":" Bye "}]
[null,{"$f":"GAMES!B61","v":"00:00:00"},{"$f":"GAMES!C61","v":"00:00:00"},{"$f":"GAMES!D61","v":"--"},{"$f":"GAMES!E61","v":" Bye "},{"$f":"GAMES!F61","v":"vs"},{"$f":"GAMES!G61","v":" Block 2 Player 3"}]
[]
[null,{"$f":"\"SCHEDULE   \"& NAMES!C92","v":"SCHEDULE   BLOCK 3"},null,null,{"$f":"NAMES!$C$8","v":"Singles"}]
[null,"TIME","DAY","COURT","PLAYERS"]
[null,{"$f":"GAMES!B68","v":"00:00:00"},{"$f":"GAMES!C68","v":"00:00:00"},{"$f":"GAMES!D68","v":0},{"$f":"GAMES!E68","v":" Block 3 Player 2"},{"$f":"GAMES!F68","v":"vs"},{"$f":"GAMES!G68","v":" Block 3 Player 4"}]
[null,{"$f":"GAMES!B70","v":"00:00:00"},{"$f":"GAMES!C70","v":"00:00:00"},{"$f":"GAMES!D70","v":0},{"$f":"GAMES!E70","v":" Block 3 Player 7"},{"$f":"GAMES!F70","v":"vs"},{"$f":"GAMES!G70","v":" Block 3 Player 6"}]
[null,{"$f":"GAMES!B67","v":"00:00:00"},{"$f":"GAMES!C67","v":"00:00:00"},{"$f":"GAMES!D67","v":0},{"$f":"GAMES!E67","v":" Block 3 Player 1"},{"$f":"GAMES!F67","v":"vs"},{"$f":"GAMES!G67","v":" Block 3 Player 3"}]
[null,{"$f":"GAMES!B72","v":"00:00:00"},{"$f":"GAMES!C72","v":"00:00:00"},{"$f":"GAMES!D72","v":0},{"$f":"GAMES!E72","v":" Block 3 Player 3"},{"$f":"GAMES!F72","v":"vs"},{"$f":"GAMES!G72","v":" Block 3 Player 5"}]
[null,{"$f":"GAMES!B73","v":"00:00:00"},{"$f":"GAMES!C73","v":"00:00:00"},{"$f":"GAMES!D73","v":0},{"$f":"GAMES!E73","v":" Block 3 Player 2"},{"$f":"GAMES!F73","v":"vs"},{"$f":"GAMES!G73","v":" Block 3 Player 6"}]
[null,{"$f":"GAMES!B71","v":"00:00:00"},{"$f":"GAMES!C71","v":"00:00:00"},{"$f":"GAMES!D71","v":0},{"$f":"GAMES!E71","v":" Block 3 Player 1"},{"$f":"GAMES!F71","v":"vs"},{"$f":"GAMES!G71","v":" Block 3 Player 4"}]
[null,{"$f":"GAMES!B75","v":"00:00:00"},{"$f":"GAMES!C75","v":"00:00:00"},{"$f":"GAMES!D75","v":0},{"$f":"GAMES!E75","v":" Block 3 Player 1"},{"$f":"GAMES!F75","v":"vs"},{"$f":"GAMES!G75","v":" Block 3 Player 5"}]
[null,{"$f":"GAMES!B77","v":"00:00:00"},{"$f":"GAMES!C77","v":"00:00:00"},{"$f":"GAMES!D77","v":0},{"$f":"GAMES!E77","v":" Block 3 Player 3"},{"$f":"GAMES!F77","v":"vs"},{"$f":"GAMES!G77","v":" Block 3 Player 7"}]
[null,{"$f":"GAMES!B76","v":"00:00:00"},{"$f":"GAMES!C76","v":"00:00:00"},{"$f":"GAMES!D76","v":0},{"$f":"GAMES!E76","v":" Block 3 Player 4"},{"$f":"GAMES!F76","v":"vs"},{"$f":"GAMES!G76","v":" Block 3 Player 6"}]
[null,{"$f":"GAMES!B79","v":"00:00:00"},{"$f":"GAMES!C79","v":"00:00:00"},{"$f":"GAMES!D79","v":0},{"$f":"GAMES!E79","v":" Block 3 Player 1"},{"$f":"GAMES!F79","v":"vs"},{"$f":"GAMES!G79","v":" Block 3 Player 6"}]
[null,{"$f":"GAMES!B80","v":"00:00:00"},{"$f":"GAMES!C80","v":"00:00:00"},{"$f":"GAMES!D80","v":0},{"$f":"GAMES!E80","v":" Block 3 Player 5"},{"$f":"GAMES!F80","v":"vs"},{"$f":"GAMES!G80","v":" Block 3 Player 7"}]
[null,{"$f":"GAMES!B82","v":"00:00:00"},{"$f":"GAMES!C82","v":"00:00:00"},{"$f":"GAMES!D82","v":0},{"$f":"GAMES!E82","v":" Block 3 Player 3"},{"$f":"GAMES!F82","v":"vs"},{"$f":"GAMES!G82","v":" Block 3 Player 2"}]
[null,{"$f":"GAMES!B83","v":"00:00:00"},{"$f":"GAMES!C83","v":"00:00:00"},{"$f":"GAMES!D83","v":0},{"$f":"GAMES!E83","v":" Block 3 Player 1"},{"$f":"GAMES!F83","v":"vs"},{"$f":"GAMES!G83","v":" Block 3 Player 7"}]
[null,{"$f":"GAMES!B85","v":"00:00:00"},{"$f":"GAMES!C85","v":"00:00:00"},{"$f":"GAMES!D85","v":0},{"$f":"GAMES!E85","v":" Block 3 Player 5"},{"$f":"GAMES!F85","v":"vs"},{"$f":"GAMES!G85","v":" Block 3 Player 2"}]
[null,{"$f":"GAMES!B86","v":"00:00:00"},{"$f":"GAMES!C86","v":"00:00:00"},{"$f":"GAMES!D86","v":0},{"$f":"GAMES!E86","v":" Block 3 Player 4"},{"$f":"GAMES!F86","v":"vs"},{"$f":"GAMES!G86","v":" Block 3 Player 3"}]
[null,{"$f":"GAMES!B88","v":"00:00:00"},{"$f":"GAMES!C88","v":"00:00:00"},{"$f":"GAMES!D88","v":0},{"$f":"GAMES!E88","v":" Block 3 Player 7"},{"$f":"GAMES!F88","v":"vs"},{"$f":"GAMES!G88","v":" Block 3 Player 2"}]
[null,{"$f":"GAMES!B90","v":"00:00:00"},{"$f":"GAMES!C90","v":"00:00:00"},{"$f":"GAMES!D90","v":0},{"$f":"GAMES!E90","v":" Block 3 Player 5"},{"$f":"GAMES!F90","v":"vs"},{"$f":"GAMES!G90","v":" Block 3 Player 4"}]
[null,{"$f":"GAMES!B89","v":"00:00:00"},{"$f":"GAMES!C89","v":"00:00:00"},{"$f":"GAMES!D89","v":0},{"$f":"GAMES!E89","v":" Block 3 Player 6"},{"$f":"GAMES!F89","v":"vs"},{"$f":"GAMES!G89","v":" Block 3 Player 3"}]
[null,{"$f":"GAMES!B93","v":"00:00:00"},{"$f":"GAMES!C93","v":"00:00:00"},{"$f":"GAMES!D93","v":0},{"$f":"GAMES!E93","v":" Block 3 Player 7"},{"$f":"GAMES!F93","v":"vs"},{"$f":"GAMES!G93","v":" Block 3 Player 4"}]
[null,{"$f":"GAMES!B94","v":"00:00:00"},{"$f":"GAMES!C94","v":"00:00:00"},{"$f":"GAMES!D94","v":0},{"$f":"GAMES!E94","v":" Block 3 Player 6"},{"$f":"GAMES!F94","v":"vs"},{"$f":"GAMES!G94","v":" Block 3 Player 5"}]
[null,{"$f":"GAMES!B91","v":"00:00:00"},{"$f":"GAMES!C91","v":"00:00:00"},{"$f":"GAMES!D91","v":0},{"$f":"GAMES!E91","v":" Block 3 Player 1"},{"$f":"GAMES!F91","v":"vs"},{"$f":"GAMES!G91","v":" Block 3 Player 2"}]
[null,{"$f":"GAMES!B69","v":"00:00:00"},{"$f":"GAMES!C69","v":"00:00:00"},{"$f":"GAMES!D69","v":"--"},{"$f":"GAMES!E69","v":" Bye "},{"$f":"GAMES!F69","v":"vs"},{"$f":"GAMES!G69","v":" Block 3 Player 5"}]
[null,{"$f":"GAMES!B74","v":"00:00:00"},{"$f":"GAMES!C74","v":"00:00:00"},{"$f":"GAMES!D74","v":"--"},{"$f":"GAMES!E74","v":" Bye "},{"$f":"GAMES!F74","v":"vs"},{"$f":"GAMES!G74","v":" Block 3 Player 7"}]
[null,{"$f":"GAMES!B78","v":"00:00:00"},{"$f":"GAMES!C78","v":"00:00:00"},{"$f":"GAMES!D78","v":"--"},{"$f":"GAMES!E78","v":" Block 3 Player 2"},{"$f":"GAMES!F78","v":"vs"},{"$f":"GAMES!G78","v":" Bye "}]
[null,{"$f":"GAMES!B81","v":"00:00:00"},{"$f":"GAMES!C81","v":"00:00:00"},{"$f":"GAMES!D81","v":"--"},{"$f":"GAMES!E81","v":" Block 3 Player 4"},{"$f":"GAMES!F81","v":"vs"},{"$f":"GAMES!G81","v":" Bye "}]
[null,{"$f":"GAMES!B84","v":"00:00:00"},{"$f":"GAMES!C84","v":"00:00:00"},{"$f":"GAMES!D84","v":"--"},{"$f":"GAMES!E84","v":" Block 3 Player 6"},{"$f":"GAMES!F84","v":"vs"},{"$f":"GAMES!G84","v":" Bye "}]
[null,{"$f":"GAMES!B87","v":"00:00:00"},{"$f":"GAMES!C87","v":"00:00:00"},{"$f":"GAMES!D87","v":"--"},{"$f":"GAMES!E87","v":" Block 3 Player 1"},{"$f":"GAMES!F87","v":"vs"},{"$f":"GAMES!G87","v":" Bye "}]
[null,{"$f":"GAMES!B92","v":"00:00:00"},{"$f":"GAMES!C92","v":"00:00:00"},{"$f":"GAMES!D92","v":"--"},{"$f":"GAMES!E92","v":" Bye "},{"$f":"GAMES!F92","v":"vs"},{"$f":"GAMES!G92","v":" Block 3 Player 3"}]
[]
[null,{"$f":"\"SCHEDULE   \"& NAMES!C133","v":"SCHEDULE   BLOCK 4"},null,null,{"$f":"NAMES!$C$8","v":"Singles"}]
[null,"TIME","DAY","COURT","PLAYERS"]
[null,{"$f":"GAMES!B99","v":"00:00:00"},{"$f":"GAMES!C99","v":"00:00:00"},{"$f":"GAMES!D99","v":0},{"$f":"GAMES!E99","v":" Block 4 Player 2"},{"$f":"GAMES!F99","v":"vs"},{"$f":"GAMES!G99","v":" Block 4 Player 4"}]
[null,{"$f":"GAMES!B101","v":"00:00:00"},{"$f":"GAMES!C101","v":"00:00:00"},{"$f":"GAMES!D101","v":0},{"$f":"GAMES!E101","v":" Block 4 Player 7"},{"$f":"GAMES!F101","v":"vs"},{"$f":"GAMES!G101","v":" Block 4 Player 6"}]
[null,{"$f":"GAMES!B98","v":"00:00:00"},{"$f":"GAMES!C98","v":"00:00:00"},{"$f":"GAMES!D98","v":0},{"$f":"GAMES!E98","v":" Block 4 Player 1"},{"$f":"GAMES!F98","v":"vs"},{"$f":"GAMES!G98","v":" Block 4 Player 3"}]
[null,{"$f":"GAMES!B103","v":"00:00:00"},{"$f":"GAMES!C103","v":"00:00:00"},{"$f":"GAMES!D103","v":0},{"$f":"GAMES!E103","v":" Block 4 Player 3"},{"$f":"GAMES!F103","v":"vs"},{"$f":"GAMES!G103","v":" Block 4 Player 5"}]
[null,{"$f":"GAMES!B104","v":"00:00:00"},{"$f":"GAMES!C104","v":"00:00:00"},{"$f":"GAMES!D104","v":0},{"$f":"GAMES!E104","v":" Block 4 Player 2"},{"$f":"GAMES!F104","v":"vs"},{"$f":"GAMES!G104","v":" Block 4 Player 6"}]
[null,{"$f":"GAMES!B102","v":"00:00:00"},{"$f":"GAMES!C102","v":"00:00:00"},{"$f":"GAMES!D102","v":0},{"$f":"GAMES!E102","v":" Block 4 Player 1"},{"$f":"GAMES!F102","v":"vs"},{"$f":"GAMES!G102","v":" Block 4 Player 4"}]
[null,{"$f":"GAMES!B106","v":"00:00:00"},{"$f":"GAMES!C106","v":"00:00:00"},{"$f":"GAMES!D106","v":0},{"$f":"GAMES!E106","v":" Block 4 Player 1"},{"$f":"GAMES!F106","v":"vs"},{"$f":"GAMES!G106","v":" Block 4 Player 5"}]
[null,{"$f":"GAMES!B108","v":"00:00:00"},{"$f":"GAMES!C108","v":"00:00:00"},{"$f":"GAMES!D108","v":0},{"$f":"GAMES!E108","v":" Block 4 Player 3"},{"$f":"GAMES!F108","v":"vs"},{"$f":"GAMES!G108","v":" Block 4 Player 7"}]
[null,{"$f":"GAMES!B107","v":"00:00:00"},{"$f":"GAMES!C107","v":"00:00:00"},{"$f":"GAMES!D107","v":0},{"$f":"GAMES!E107","v":" Block 4 Player 4"},{"$f":"GAMES!F107","v":"vs"},{"$f":"GAMES!G107","v":" Block 4 Player 6"}]
[null,{"$f":"GAMES!B110","v":"00:00:00"},{"$f":"GAMES!C110","v":"00:00:00"},{"$f":"GAMES!D110","v":0},{"$f":"GAMES!E110","v":" Block 4 Player 1"},{"$f":"GAMES!F110","v":"vs"},{"$f":"GAMES!G110","v":" Block 4 Player 6"}]
[null,{"$f":"GAMES!B111","v":"00:00:00"},{"$f":"GAMES!C111","v":"00:00:00"},{"$f":"GAMES!D111","v":0},{"$f":"GAMES!E111","v":" Block 4 Player 5"},{"$f":"GAMES!F111","v":"vs"},{"$f":"GAMES!G111","v":" Block 4 Player 7"}]
[null,{"$f":"GAMES!B113","v":"00:00:00"},{"$f":"GAMES!C113","v":"00:00:00"},{"$f":"GAMES!D113","v":0},{"$f":"GAMES!E113","v":" Block 4 Player 3"},{"$f":"GAMES!F113","v":"vs"},{"$f":"GAMES!G113","v":" Block 4 Player 2"}]
[null,{"$f":"GAMES!B114","v":"00:00:00"},{"$f":"GAMES!C114","v":"00:00:00"},{"$f":"GAMES!D114","v":0},{"$f":"GAMES!E114","v":" Block 4 Player 1"},{"$f":"GAMES!F114","v":"vs"},{"$f":"GAMES!G114","v":" Block 4 Player 7"}]
[null,{"$f":"GAMES!B116","v":"00:00:00"},{"$f":"GAMES!C116","v":"00:00:00"},{"$f":"GAMES!D116","v":0},{"$f":"GAMES!E116","v":" Block 4 Player 5"},{"$f":"GAMES!F116","v":"vs"},{"$f":"GAMES!G116","v":" Block 4 Player 2"}]
[null,{"$f":"GAMES!B117","v":"00:00:00"},{"$f":"GAMES!C117","v":"00:00:00"},{"$f":"GAMES!D117","v":0},{"$f":"GAMES!E117","v":" Block 4 Player 4"},{"$f":"GAMES!F117","v":"vs"},{"$f":"GAMES!G117","v":" Block 4 Player 3"}]
[null,{"$f":"GAMES!B119","v":"00:00:00"},{"$f":"GAMES!C119","v":"00:00:00"},{"$f":"GAMES!D119","v":0},{"$f":"GAMES!E119","v":" Block 4 Player 7"},{"$f":"GAMES!F119","v":"vs"},{"$f":"GAMES!G119","v":" Block 4 Player 2"}]
[null,{"$f":"GAMES!B121","v":"00:00:00"},{"$f":"GAMES!C121","v":"00:00:00"},{"$f":"GAMES!D121","v":0},{"$f":"GAMES!E121","v":" Block 4 Player 5"},{"$f":"GAMES!F121","v":"vs"},{"$f":"GAMES!G121","v":" Block 4 Player 4"}]
[null,{"$f":"GAMES!B120","v":"00:00:00"},{"$f":"GAMES!C120","v":"00:00:00"},{"$f":"GAMES!D120","v":0},{"$f":"GAMES!E120","v":" Block 4 Player 6"},{"$f":"GAMES!F120","v":"vs"},{"$f":"GAMES!G120","v":" Block 4 Player 3"}]
[null,{"$f":"GAMES!B124","v":"00:00:00"},{"$f":"GAMES!C124","v":"00:00:00"},{"$f":"GAMES!D124","v":0},{"$f":"GAMES!E124","v":" Block 4 Player 7"},{"$f":"GAMES!F124","v":"vs"},{"$f":"GAMES!G124","v":" Block 4 Player 4"}]
[null,{"$f":"GAMES!B125","v":"00:00:00"},{"$f":"GAMES!C125","v":"00:00:00"},{"$f":"GAMES!D125","v":0},{"$f":"GAMES!E125","v":" Block 4 Player 6"},{"$f":"GAMES!F125","v":"vs"},{"$f":"GAMES!G125","v":" Block 4 Player 5"}]
[null,{"$f":"GAMES!B122","v":"00:00:00"},{"$f":"GAMES!C122","v":"00:00:00"},{"$f":"GAMES!D122","v":0},{"$f":"GAMES!E122","v":" Block 4 Player 1"},{"$f":"GAMES!F122","v":"vs"},{"$f":"GAMES!G122","v":" Block 4 Player 2"}]
[null,{"$f":"GAMES!B100","v":"00:00:00"},{"$f":"GAMES!C100","v":"00:00:00"},{"$f":"GAMES!D100","v":"--"},{"$f":"GAMES!E100","v":" Bye "},{"$f":"GAMES!F100","v":"vs"},{"$f":"GAMES!G100","v":" Block 4 Player 5"}]
[null,{"$f":"GAMES!B105","v":"00:00:00"},{"$f":"GAMES!C105","v":"00:00:00"},{"$f":"GAMES!D105","v":"--"},{"$f":"GAMES!E105","v":" Bye "},{"$f":"GAMES!F105","v":"vs"},{"$f":"GAMES!G105","v":" Block 4 Player 7"}]
[null,{"$f":"GAMES!B109","v":"00:00:00"},{"$f":"GAMES!C109","v":"00:00:00"},{"$f":"GAMES!D109","v":"--"},{"$f":"GAMES!E109","v":" Block 4 Player 2"},{"$f":"GAMES!F109","v":"vs"},{"$f":"GAMES!G109","v":" Bye "}]
[null,{"$f":"GAMES!B112","v":"00:00:00"},{"$f":"GAMES!C112","v":"00:00:00"},{"$f":"GAMES!D112","v":"--"},{"$f":"GAMES!E112","v":" Block 4 Player 4"},{"$f":"GAMES!F112","v":"vs"},{"$f":"GAMES!G112","v":" Bye "}]
[null,{"$f":"GAMES!B115","v":"00:00:00"},{"$f":"GAMES!C115","v":"00:00:00"},{"$f":"GAMES!D115","v":"--"},{"$f":"GAMES!E115","v":" Block 4 Player 6"},{"$f":"GAMES!F115","v":"vs"},{"$f":"GAMES!G115","v":" Bye "}]
[null,{"$f":"GAMES!B118","v":"00:00:00"},{"$f":"GAMES!C118","v":"00:00:00"},{"$f":"GAMES!D118","v":"--"},{"$f":"GAMES!E118","v":" Block 4 Player 1"},{"$f":"GAMES!F118","v":"vs"},{"$f":"GAMES!G118","v":" Bye "}]
[null,{"$f":"GAMES!B123","v":"00:00:00"},{"$f":"GAMES!C123","v":"00:00:00"},{"$f":"GAMES!D123","v":"--"},{"$f":"GAMES!E123","v":" Bye "},{"$f":"GAMES!F123","v":"vs"},{"$f":"GAMES!G123","v":" Block 4 Player 3"}]
[]
[null,{"$f":"\"SCHEDULE   \"& NAMES!C174","v":"SCHEDULE   BLOCK 5"},null,null,{"$f":"NAMES!$C$8","v":"Singles"}]
[null,"TIME","DAY","COURT","PLAYERS"]
[null,{"$f":"GAMES!B130","v":"00:00:00"},{"$f":"GAMES!C130","v":"00:00:00"},{"$f":"GAMES!D130","v":0},{"$f":"GAMES!E130","v":" Block 5 Player 2"},{"$f":"GAMES!F130","v":"vs"},{"$f":"GAMES!G130","v":" Block 5 Player 4"}]
[null,{"$f":"GAMES!B132","v":"00:00:00"},{"$f":"GAMES!C132","v":"00:00:00"},{"$f":"GAMES!D132","v":0},{"$f":"GAMES!E132","v":" Block 5 Player 7"},{"$f":"GAMES!F132","v":"vs"},{"$f":"GAMES!G132","v":" Block 5 Player 6"}]
[null,{"$f":"GAMES!B129","v":"00:00:00"},{"$f":"GAMES!C129","v":"00:00:00"},{"$f":"GAMES!D129","v":0},{"$f":"GAMES!E129","v":" Block 5 Player 1"},{"$f":"GAMES!F129","v":"vs"},{"$f":"GAMES!G129","v":" Block 5 Player 3"}]
[null,{"$f":"GAMES!B134","v":"00:00:00"},{"$f":"GAMES!C134","v":"00:00:00"},{"$f":"GAMES!D134","v":0},{"$f":"GAMES!E134","v":" Block 5 Player 3"},{"$f":"GAMES!F134","v":"vs"},{"$f":"GAMES!G134","v":" Block 5 Player 5"}]
[null,{"$f":"GAMES!B135","v":"00:00:00"},{"$f":"GAMES!C135","v":"00:00:00"},{"$f":"GAMES!D135","v":0},{"$f":"GAMES!E135","v":" Block 5 Player 2"},{"$f":"GAMES!F135","v":"vs"},{"$f":"GAMES!G135","v":" Block 5 Player 6"}]
[null,{"$f":"GAMES!B133","v":"00:00:00"},{"$f":"GAMES!C133","v":"00:00:00"},{"$f":"GAMES!D133","v":0},{"$f":"GAMES!E133","v":" Block 5 Player 1"},{"$f":"GAMES!F133","v":"vs"},{"$f":"GAMES!G133","v":" Block 5 Player 4"}]
[null,{"$f":"GAMES!B137","v":"00:00:00"},{"$f":"GAMES!C137","v":"00:00:00"},{"$f":"GAMES!D137","v":0},{"$f":"GAMES!E137","v":" Block 5 Player 1"},{"$f":"GAMES!F137","v":"vs"},{"$f":"GAMES!G137","v":" Block 5 Player 5"}]
[null,{"$f":"GAMES!B139","v":"00:00:00"},{"$f":"GAMES!C139","v":"00:00:00"},{"$f":"GAMES!D139","v":0},{"$f":"GAMES!E139","v":" Block 5 Player 3"},{"$f":"GAMES!F139","v":"vs"},{"$f":"GAMES!G139","v":" Block 5 Player 7"}]
[null,{"$f":"GAMES!B138","v":"00:00:00"},{"$f":"GAMES!C138","v":"00:00:00"},{"$f":"GAMES!D138","v":0},{"$f":"GAMES!E138","v":" Block 5 Player 4"},{"$f":"GAMES!F138","v":"vs"},{"$f":"GAMES!G138","v":" Block 5 Player 6"}]
[null,{"$f":"GAMES!B141","v":"00:00:00"},{"$f":"GAMES!C141","v":"00:00:00"},{"$f":"GAMES!D141","v":0},{"$f":"GAMES!E141","v":" Block 5 Player 1"},{"$f":"GAMES!F141","v":"vs"},{"$f":"GAMES!G141","v":" Block 5 Player 6"}]
[null,{"$f":"GAMES!B142","v":"00:00:00"},{"$f":"GAMES!C142","v":"00:00:00"},{"$f":"GAMES!D142","v":0},{"$f":"GAMES!E142","v":" Block 5 Player 5"},{"$f":"GAMES!F142","v":"vs"},{"$f":"GAMES!G142","v":" Block 5 Player 7"}]
[null,{"$f":"GAMES!B144","v":"00:00:00"},{"$f":"GAMES!C144","v":"00:00:00"},{"$f":"GAMES!D144","v":0},{"$f":"GAMES!E144","v":" Block 5 Player 3"},{"$f":"GAMES!F144","v":"vs"},{"$f":"GAMES!G144","v":" Block 5 Player 2"}]
[null,{"$f":"GAMES!B145","v":"00:00:00"},{"$f":"GAMES!C145","v":"00:00:00"},{"$f":"GAMES!D145","v":0},{"$f":"GAMES!E145","v":" Block 5 Player 1"},{"$f":"GAMES!F145","v":"vs"},{"$f":"GAMES!G145","v":" Block 5 Player 7"}]
[null,{"$f":"GAMES!B147","v":"00:00:00"},{"$f":"GAMES!C147","v":"00:00:00"},{"$f":"GAMES!D147","v":0},{"$f":"GAMES!E147","v":" Block 5 Player 5"},{"$f":"GAMES!F147","v":"vs"},{"$f":"GAMES!G147","v":" Block 5 Player 2"}]
[null,{"$f":"GAMES!B148","v":"00:00:00"},{"$f":"GAMES!C148","v":"00:00:00"},{"$f":"GAMES!D148","v":0},{"$f":"GAMES!E148","v":" Block 5 Player 4"},{"$f":"GAMES!F148","v":"vs"},{"$f":"GAMES!G148","v":" Block 5 Player 3"}]
[null,{"$f":"GAMES!B150","v":"00:00:00"},{"$f":"GAMES!C150","v":"00:00:00"},{"$f":"GAMES!D150","v":0},{"$f":"GAMES!E150","v":" Block 5 Player 7"},{"$f":"GAMES!F150","v":"vs"},{"$f":"GAMES!G150","v":" Block 5 Player 2"}]
[null,{"$f":"GAMES!B152","v":"00:00:00"},{"$f":"GAMES!C152","v":"00:00:00"},{"$f":"GAMES!D152","v":0},{"$f":"GAMES!E152","v":" Block 5 Player 5"},{"$f":"GAMES!F152","v":"vs"},{"$f":"GAMES!G152","v":" Block 5 Player 4"}]
[null,{"$f":"GAMES!B151","v":"00:00:00"},{"$f":"GAMES!C151","v":"00:00:00"},{"$f":"GAMES!D151","v":0},{"$f":"GAMES!E151","v":" Block 5 Player 6"},{"$f":"GAMES!F151","v":"vs"},{"$f":"GAMES!G151","v":" Block 5 Player 3"}]
[null,{"$f":"GAMES!B155","v":"00:00:00"},{"$f":"GAMES!C155","v":"00:00:00"},{"$f":"GAMES!D155","v":0},{"$f":"GAMES!E155","v":" Block 5 Player 7"},{"$f":"GAMES!F155","v":"vs"},{"$f":"GAMES!G155","v":" Block 5 Player 4"}]
[null,{"$f":"GAMES!B156","v":"00:00:00"},{"$f":"GAMES!C156","v":"00:00:00"},{"$f":"GAMES!D156","v":0},{"$f":"GAMES!E156","v":" Block 5 Player 6"},{"$f":"GAMES!F156","v":"vs"},{"$f":"GAMES!G156","v":" Block 5 Player 5"}]
[null,{"$f":"GAMES!B153","v":"00:00:00"},{"$f":"GAMES!C153","v":"00:00:00"},{"$f":"GAMES!D153","v":0},{"$f":"GAMES!E153","v":" Block 5 Player 1"},{"$f":"GAMES!F153","v":"vs"},{"$f":"GAMES!G153","v":" Block 5 Player 2"}]
[null,{"$f":"GAMES!B131","v":"00:00:00"},{"$f":"GAMES!C131","v":"00:00:00"},{"$f":"GAMES!D131","v":"--"},{"$f":"GAMES!E131","v":" Bye "},{"$f":"GAMES!F131","v":"vs"},{"$f":"GAMES!G131","v":" Block 5 Player 5"}]
[null,{"$f":"GAMES!B136","v":"00:00:00"},{"$f":"GAMES!C136","v":"00:00:00"},{"$f":"GAMES!D136","v":"--"},{"$f":"GAMES!E136","v":" Bye "},{"$f":"GAMES!F136","v":"vs"},{"$f":"GAMES!G136","v":" Block 5 Player 7"}]
[null,{"$f":"GAMES!B140","v":"00:00:00"},{"$f":"GAMES!C140","v":"00:00:00"},{"$f":"GAMES!D140","v":"--"},{"$f":"GAMES!E140","v":" Block 5 Player 2"},{"$f":"GAMES!F140","v":"vs"},{"$f":"GAMES!G140","v":" Bye "}]
[null,{"$f":"GAMES!B143","v":"00:00:00"},{"$f":"GAMES!C143","v":"00:00:00"},{"$f":"GAMES!D143","v":"--"},{"$f":"GAMES!E143","v":" Block 5 Player 4"},{"$f":"GAMES!F143","v":"vs"},{"$f":"GAMES!G143","v":" Bye "}]
[null,{"$f":"GAMES!B146","v":"00:00:00"},{"$f":"GAMES!C146","v":"00:00:00"},{"$f":"GAMES!D146","v":"--"},{"$f":"GAMES!E146","v":" Block 5 Player 6"},{"$f":"GAMES!F146","v":"vs"},{"$f":"GAMES!G146","v":" Bye "}]
[null,{"$f":"GAMES!B149","v":"00:00:00"},{"$f":"GAMES!C149","v":"00:00:00"},{"$f":"GAMES!D149","v":"--"},{"$f":"GAMES!E149","v":" Block 5 Player 1"},{"$f":"GAMES!F149","v":"vs"},{"$f":"GAMES!G149","v":" Bye "}]
[null,{"$f":"GAMES!B154","v":"00:00:00"},{"$f":"GAMES!C154","v":"00:00:00"},{"$f":"GAMES!D154","v":"--"},{"$f":"GAMES!E154","v":" Bye "},{"$f":"GAMES!F154","v":"vs"},{"$f":"GAMES!G154","v":" Block 5 Player 3"}]

{"sheet":"SCHEDULE","index":18,"n_rows":143,"n_cols":8,"rows_kept":143,"cut":false,"hidden":false,"merged":[]}
[]
[]
[null,null,"TIME","DAY","COURT","PLAYER 1","vs","PLAYER 2"]
[null,null,{"$f":"GAMES!B5","v":"00:00:00"},{"$f":"GAMES!C5","v":"00:00:00"},{"$f":"GAMES!D5","v":0},{"$f":"GAMES!E5","v":" Block 1 Player 1"},{"$f":"GAMES!F5","v":"vs"},{"$f":"GAMES!G5","v":" Block 1 Player 3"}]
[null,null,{"$f":"GAMES!B6","v":"00:00:00"},{"$f":"GAMES!C6","v":"00:00:00"},{"$f":"GAMES!D6","v":0},{"$f":"GAMES!E6","v":" Block 1 Player 2"},{"$f":"GAMES!F6","v":"vs"},{"$f":"GAMES!G6","v":" Block 1 Player 4"}]
[null,null,{"$f":"GAMES!B7","v":"00:00:00"},{"$f":"GAMES!C7","v":"00:00:00"},{"$f":"GAMES!D7","v":"--"},{"$f":"GAMES!E7","v":" Bye "},{"$f":"GAMES!F7","v":"vs"},{"$f":"GAMES!G7","v":" Block 1 Player 5"}]
[null,null,{"$f":"GAMES!B8","v":"00:00:00"},{"$f":"GAMES!C8","v":"00:00:00"},{"$f":"GAMES!D8","v":0},{"$f":"GAMES!E8","v":" Block 1 Player 7"},{"$f":"GAMES!F8","v":"vs"},{"$f":"GAMES!G8","v":" Block 1 Player 6"}]
[null,null,{"$f":"GAMES!B9","v":"00:00:00"},{"$f":"GAMES!C9","v":"00:00:00"},{"$f":"GAMES!D9","v":0},{"$f":"GAMES!E9","v":" Block 1 Player 1"},{"$f":"GAMES!F9","v":"vs"},{"$f":"GAMES!G9","v":" Block 1 Player 4"}]
[null,null,{"$f":"GAMES!B10","v":"00:00:00"},{"$f":"GAMES!C10","v":"00:00:00"},{"$f":"GAMES!D10","v":0},{"$f":"GAMES!E10","v":" Block 1 Player 3"},{"$f":"GAMES!F10","v":"vs"},{"$f":"GAMES!G10","v":" Block 1 Player 5"}]
[null,null,{"$f":"GAMES!B11","v":"00:00:00"},{"$f":"GAMES!C11","v":"00:00:00"},{"$f":"GAMES!D11","v":0},{"$f":"GAMES!E11","v":" Block 1 Player 2"},{"$f":"GAMES!F11","v":"vs"},{"$f":"GAMES!G11","v":" Block 1 Player 6"}]
[null,null,{"$f":"GAMES!B12","v":"00:00:00"},{"$f":"GAMES!C12","v":"00:00:00"},{"$f":"GAMES!D12","v":"--"},{"$f":"GAMES!E12","v":" Bye "},{"$f":"GAMES!F12","v":"vs"},{"$f":"GAMES!G12","v":" Block 1 Player 7"}]
[null,null,{"$f":"GAMES!B13","v":"00:00:00"},{"$f":"GAMES!C13","v":"00:00:00"},{"$f":"GAMES!D13","v":0},{"$f":"GAMES!E13","v":" Block 1 Player 1"},{"$f":"GAMES!F13","v":"vs"},{"$f":"GAMES!G13","v":" Block 1 Player 5"}]
[null,null,{"$f":"GAMES!B14","v":"00:00:00"},{"$f":"GAMES!C14","v":"00:00:00"},{"$f":"GAMES!D14","v":0},{"$f":"GAMES!E14","v":" Block 1 Player 4"},{"$f":"GAMES!F14","v":"vs"},{"$f":"GAMES!G14","v":" Block 1 Player 6"}]
[null,null,{"$f":"GAMES!B15","v":"00:00:00"},{"$f":"GAMES!C15","v":"00:00:00"},{"$f":"GAMES!D15","v":0},{"$f":"GAMES!E15","v":" Block 1 Player 3"},{"$f":"GAMES!F15","v":"vs"},{"$f":"GAMES!G15","v":" Block 1 Player 7"}]
[null,null,{"$f":"GAMES!B16","v":"00:00:00"},{"$f":"GAMES!C16","v":"00:00:00"},{"$f":"GAMES!D16","v":"--"},{"$f":"GAMES!E16","v":" Block 1 Player 2"},{"$f":"GAMES!F16","v":"vs"},{"$f":"GAMES!G16","v":" Bye "}]
[null,null,{"$f":"GAMES!B17","v":"00:00:00"},{"$f":"GAMES!C17","v":"00:00:00"},{"$f":"GAMES!D17","v":0},{"$f":"GAMES!E17","v":" Block 1 Player 1"},{"$f":"GAMES!F17","v":"vs"},{"$f":"GAMES!G17","v":" Block 1 Player 6"}]
[null,null,{"$f":"GAMES!B18","v":"00:00:00"},{"$f":"GAMES!C18","v":"00:00:00"},{"$f":"GAMES!D18","v":0},{"$f":"GAMES!E18","v":" Block 1 Player 5"},{"$f":"GAMES!F18","v":"vs"},{"$f":"GAMES!G18","v":" Block 1 Player 7"}]
[null,null,{"$f":"GAMES!B19","v":"00:00:00"},{"$f":"GAMES!C19","v":"00:00:00"},{"$f":"GAMES!D19","v":"--"},{"$f":"GAMES!E19","v":" Block 1 Player 4"},{"$f":"GAMES!F19","v":"vs"},{"$f":"GAMES!G19","v":" Bye "}]
[null,null,{"$f":"GAMES!B20","v":"00:00:00"},{"$f":"GAMES!C20","v":"00:00:00"},{"$f":"GAMES!D20","v":0},{"$f":"GAMES!E20","v":" Block 1 Player 3"},{"$f":"GAMES!F20","v":"vs"},{"$f":"GAMES!G20","v":" Block 1 Player 2"}]
[null,null,{"$f":"GAMES!B21","v":"00:00:00"},{"$f":"GAMES!C21","v":"00:00:00"},{"$f":"GAMES!D21","v":0},{"$f":"GAMES!E21","v":" Block 1 Player 1"},{"$f":"GAMES!F21","v":"vs"},{"$f":"GAMES!G21","v":" Block 1 Player 7"}]
[null,null,{"$f":"GAMES!B22","v":"00:00:00"},{"$f":"GAMES!C22","v":"00:00:00"},{"$f":"GAMES!D22","v":"--"},{"$f":"GAMES!E22","v":" Block 1 Player 6"},{"$f":"GAMES!F22","v":"vs"},{"$f":"GAMES!G22","v":" Bye "}]
[null,null,{"$f":"GAMES!B23","v":"00:00:00"},{"$f":"GAMES!C23","v":"00:00:00"},{"$f":"GAMES!D23","v":0},{"$f":"GAMES!E23","v":" Block 1 Player 5"},{"$f":"GAMES!F23","v":"vs"},{"$f":"GAMES!G23","v":" Block 1 Player 2"}]
[null,null,{"$f":"GAMES!B24","v":"00:00:00"},{"$f":"GAMES!C24","v":"00:00:00"},{"$f":"GAMES!D24","v":0},{"$f":"GAMES!E24","v":" Block 1 Player 4"},{"$f":"GAMES!F24","v":"vs"},{"$f":"GAMES!G24","v":" Block 1 Player 3"}]
[null,null,{"$f":"GAMES!B25","v":"00:00:00"},{"$f":"GAMES!C25","v":"00:00:00"},{"$f":"GAMES!D25","v":"--"},{"$f":"GAMES!E25","v":" Block 1 Player 1"},{"$f":"GAMES!F25","v":"vs"},{"$f":"GAMES!G25","v":" Bye "}]
[null,null,{"$f":"GAMES!B26","v":"00:00:00"},{"$f":"GAMES!C26","v":"00:00:00"},{"$f":"GAMES!D26","v":0},{"$f":"GAMES!E26","v":" Block 1 Player 7"},{"$f":"GAMES!F26","v":"vs"},{"$f":"GAMES!G26","v":" Block 1 Player 2"}]
[null,null,{"$f":"GAMES!B27","v":"00:00:00"},{"$f":"GAMES!C27","v":"00:00:00"},{"$f":"GAMES!D27","v":0},{"$f":"GAMES!E27","v":" Block 1 Player 6"},{"$f":"GAMES!F27","v":"vs"},{"$f":"GAMES!G27","v":" Block 1 Player 3"}]
[null,null,{"$f":"GAMES!B28","v":"00:00:00"},{"$f":"GAMES!C28","v":"00:00:00"},{"$f":"GAMES!D28","v":0},{"$f":"GAMES!E28","v":" Block 1 Player 5"},{"$f":"GAMES!F28","v":"vs"},{"$f":"GAMES!G28","v":" Block 1 Player 4"}]
[null,null,{"$f":"GAMES!B29","v":"00:00:00"},{"$f":"GAMES!C29","v":"00:00:00"},{"$f":"GAMES!D29","v":0},{"$f":"GAMES!E29","v":" Block 1 Player 1"},{"$f":"GAMES!F29","v":"vs"},{"$f":"GAMES!G29","v":" Block 1 Player 2"}]
[null,null,{"$f":"GAMES!B30","v":"00:00:00"},{"$f":"GAMES!C30","v":"00:00:00"},{"$f":"GAMES!D30","v":"--"},{"$f":"GAMES!E30","v":" Bye "},{"$f":"GAMES!F30","v":"vs"},{"$f":"GAMES!G30","v":" Block 1 Player 3"}]
[null,null,{"$f":"GAMES!B31","v":"00:00:00"},{"$f":"GAMES!C31","v":"00:00:00"},{"$f":"GAMES!D31","v":0},{"$f":"GAMES!E31","v":" Block 1 Player 7"},{"$f":"GAMES!F31","v":"vs"},{"$f":"GAMES!G31","v":" Block 1 Player 4"}]
[null,null,{"$f":"GAMES!B32","v":"00:00:00"},{"$f":"GAMES!C32","v":"00:00:00"},{"$f":"GAMES!D32","v":0},{"$f":"GAMES!E32","v":" Block 1 Player 6"},{"$f":"GAMES!F32","v":"vs"},{"$f":"GAMES!G32","v":" Block 1 Player 5"}]
[null,null,{"$f":"GAMES!B36","v":"00:00:00"},{"$f":"GAMES!C36","v":"00:00:00"},{"$f":"GAMES!D36","v":0},{"$f":"GAMES!E36","v":" Block 2 Player 1"},{"$f":"GAMES!F36","v":"vs"},{"$f":"GAMES!G36","v":" Block 2 Player 3"}]
[null,null,{"$f":"GAMES!B37","v":"00:00:00"},{"$f":"GAMES!C37","v":"00:00:00"},{"$f":"GAMES!D37","v":0},{"$f":"GAMES!E37","v":" Block 2 Player 2"},{"$f":"GAMES!F37","v":"vs"},{"$f":"GAMES!G37","v":" Block 2 Player 4"}]
[null,null,{"$f":"GAMES!B38","v":"00:00:00"},{"$f":"GAMES!C38","v":"00:00:00"},{"$f":"GAMES!D38","v":"--"},{"$f":"GAMES!E38","v":" Bye "},{"$f":"GAMES!F38","v":"vs"},{"$f":"GAMES!G38","v":" Block 2 Player 5"}]
[null,null,{"$f":"GAMES!B39","v":"00:00:00"},{"$f":"GAMES!C39","v":"00:00:00"},{"$f":"GAMES!D39","v":0},{"$f":"GAMES!E39","v":" Block 2 Player 7"},{"$f":"GAMES!F39","v":"vs"},{"$f":"GAMES!G39","v":" Block 2 Player 6"}]
[null,null,{"$f":"GAMES!B40","v":"00:00:00"},{"$f":"GAMES!C40","v":"00:00:00"},{"$f":"GAMES!D40","v":0},{"$f":"GAMES!E40","v":" Block 2 Player 1"},{"$f":"GAMES!F40","v":"vs"},{"$f":"GAMES!G40","v":" Block 2 Player 4"}]
[null,null,{"$f":"GAMES!B41","v":"00:00:00"},{"$f":"GAMES!C41","v":"00:00:00"},{"$f":"GAMES!D41","v":0},{"$f":"GAMES!E41","v":" Block 2 Player 3"},{"$f":"GAMES!F41","v":"vs"},{"$f":"GAMES!G41","v":" Block 2 Player 5"}]
[null,null,{"$f":"GAMES!B42","v":"00:00:00"},{"$f":"GAMES!C42","v":"00:00:00"},{"$f":"GAMES!D42","v":0},{"$f":"GAMES!E42","v":" Block 2 Player 2"},{"$f":"GAMES!F42","v":"vs"},{"$f":"GAMES!G42","v":" Block 2 Player 6"}]
[null,null,{"$f":"GAMES!B43","v":"00:00:00"},{"$f":"GAMES!C43","v":"00:00:00"},{"$f":"GAMES!D43","v":"--"},{"$f":"GAMES!E43","v":" Bye "},{"$f":"GAMES!F43","v":"vs"},{"$f":"GAMES!G43","v":" Block 2 Player 7"}]
[null,null,{"$f":"GAMES!B44","v":"00:00:00"},{"$f":"GAMES!C44","v":"00:00:00"},{"$f":"GAMES!D44","v":0},{"$f":"GAMES!E44","v":" Block 2 Player 1"},{"$f":"GAMES!F44","v":"vs"},{"$f":"GAMES!G44","v":" Block 2 Player 5"}]
[null,null,{"$f":"GAMES!B45","v":"00:00:00"},{"$f":"GAMES!C45","v":"00:00:00"},{"$f":"GAMES!D45","v":0},{"$f":"GAMES!E45","v":" Block 2 Player 4"},{"$f":"GAMES!F45","v":"vs"},{"$f":"GAMES!G45","v":" Block 2 Player 6"}]
[null,null,{"$f":"GAMES!B46","v":"00:00:00"},{"$f":"GAMES!C46","v":"00:00:00"},{"$f":"GAMES!D46","v":0},{"$f":"GAMES!E46","v":" Block 2 Player 3"},{"$f":"GAMES!F46","v":"vs"},{"$f":"GAMES!G46","v":" Block 2 Player 7"}]
[null,null,{"$f":"GAMES!B47","v":"00:00:00"},{"$f":"GAMES!C47","v":"00:00:00"},{"$f":"GAMES!D47","v":"--"},{"$f":"GAMES!E47","v":" Block 2 Player 2"},{"$f":"GAMES!F47","v":"vs"},{"$f":"GAMES!G47","v":" Bye "}]
[null,null,{"$f":"GAMES!B48","v":"00:00:00"},{"$f":"GAMES!C48","v":"00:00:00"},{"$f":"GAMES!D48","v":0},{"$f":"GAMES!E48","v":" Block 2 Player 1"},{"$f":"GAMES!F48","v":"vs"},{"$f":"GAMES!G48","v":" Block 2 Player 6"}]
[null,null,{"$f":"GAMES!B49","v":"00:00:00"},{"$f":"GAMES!C49","v":"00:00:00"},{"$f":"GAMES!D49","v":0},{"$f":"GAMES!E49","v":" Block 2 Player 5"},{"$f":"GAMES!F49","v":"vs"},{"$f":"GAMES!G49","v":" Block 2 Player 7"}]
[null,null,{"$f":"GAMES!B50","v":"00:00:00"},{"$f":"GAMES!C50","v":"00:00:00"},{"$f":"GAMES!D50","v":"--"},{"$f":"GAMES!E50","v":" Block 2 Player 4"},{"$f":"GAMES!F50","v":"vs"},{"$f":"GAMES!G50","v":" Bye "}]
[null,null,{"$f":"GAMES!B51","v":"00:00:00"},{"$f":"GAMES!C51","v":"00:00:00"},{"$f":"GAMES!D51","v":0},{"$f":"GAMES!E51","v":" Block 2 Player 3"},{"$f":"GAMES!F51","v":"vs"},{"$f":"GAMES!G51","v":" Block 2 Player 2"}]
[null,null,{"$f":"GAMES!B52","v":"00:00:00"},{"$f":"GAMES!C52","v":"00:00:00"},{"$f":"GAMES!D52","v":0},{"$f":"GAMES!E52","v":" Block 2 Player 1"},{"$f":"GAMES!F52","v":"vs"},{"$f":"GAMES!G52","v":" Block 2 Player 7"}]
[null,null,{"$f":"GAMES!B53","v":"00:00:00"},{"$f":"GAMES!C53","v":"00:00:00"},{"$f":"GAMES!D53","v":"--"},{"$f":"GAMES!E53","v":" Block 2 Player 6"},{"$f":"GAMES!F53","v":"vs"},{"$f":"GAMES!G53","v":" Bye "}]
[null,null,{"$f":"GAMES!B54","v":"00:00:00"},{"$f":"GAMES!C54","v":"00:00:00"},{"$f":"GAMES!D54","v":0},{"$f":"GAMES!E54","v":" Block 2 Player 5"},{"$f":"GAMES!F54","v":"vs"},{"$f":"GAMES!G54","v":" Block 2 Player 2"}]
[null,null,{"$f":"GAMES!B55","v":"00:00:00"},{"$f":"GAMES!C55","v":"00:00:00"},{"$f":"GAMES!D55","v":0},{"$f":"GAMES!E55","v":" Block 2 Player 4"},{"$f":"GAMES!F55","v":"vs"},{"$f":"GAMES!G55","v":" Block 2 Player 3"}]
[null,null,{"$f":"GAMES!B56","v":"00:00:00"},{"$f":"GAMES!C56","v":"00:00:00"},{"$f":"GAMES!D56","v":"--"},{"$f":"GAMES!E56","v":" Block 2 Player 1"},{"$f":"GAMES!F56","v":"vs"},{"$f":"GAMES!G56","v":" Bye "}]
[null,null,{"$f":"GAMES!B57","v":"00:00:00"},{"$f":"GAMES!C57","v":"00:00:00"},{"$f":"GAMES!D57","v":0},{"$f":"GAMES!E57","v":" Block 2 Player 7"},{"$f":"GAMES!F57","v":"vs"},{"$f":"GAMES!G57","v":" Block 2 Player 2"}]
[null,null,{"$f":"GAMES!B58","v":"00:00:00"},{"$f":"GAMES!C58","v":"00:00:00"},{"$f":"GAMES!D58","v":0},{"$f":"GAMES!E58","v":" Block 2 Player 6"},{"$f":"GAMES!F58","v":"vs"},{"$f":"GAMES!G58","v":" Block 2 Player 3"}]
[null,null,{"$f":"GAMES!B59","v":"00:00:00"},{"$f":"GAMES!C59","v":"00:00:00"},{"$f":"GAMES!D59","v":0},{"$f":"GAMES!E59","v":" Block 2 Player 5"},{"$f":"GAMES!F59","v":"vs"},{"$f":"GAMES!G59","v":" Block 2 Player 4"}]
[null,null,{"$f":"GAMES!B60","v":"00:00:00"},{"$f":"GAMES!C60","v":"00:00:00"},{"$f":"GAMES!D60","v":0},{"$f":"GAMES!E60","v":" Block 2 Player 1"},{"$f":"GAMES!F60","v":"vs"},{"$f":"GAMES!G60","v":" Block 2 Player 2"}]
[null,null,{"$f":"GAMES!B61","v":"00:00:00"},{"$f":"GAMES!C61","v":"00:00:00"},{"$f":"GAMES!D61","v":"--"},{"$f":"GAMES!E61","v":" Bye "},{"$f":"GAMES!F61","v":"vs"},{"$f":"GAMES!G61","v":" Block 2 Player 3"}]
[null,null,{"$f":"GAMES!B62","v":"00:00:00"},{"$f":"GAMES!C62","v":"00:00:00"},{"$f":"GAMES!D62","v":0},{"$f":"GAMES!E62","v":" Block 2 Player 7"},{"$f":"GAMES!F62","v":"vs"},{"$f":"GAMES!G62","v":" Block 2 Player 4"}]
[null,null,{"$f":"GAMES!B63","v":"00:00:00"},{"$f":"GAMES!C63","v":"00:00:00"},{"$f":"GAMES!D63","v":0},{"$f":"GAMES!E63","v":" Block 2 Player 6"},{"$f":"GAMES!F63","v":"vs"},{"$f":"GAMES!G63","v":" Block 2 Player 5"}]
[null,null,{"$f":"GAMES!B67","v":"00:00:00"},{"$f":"GAMES!C67","v":"00:00:00"},{"$f":"GAMES!D67","v":0},{"$f":"GAMES!E67","v":" Block 3 Player 1"},{"$f":"GAMES!F67","v":"vs"},{"$f":"GAMES!G67","v":" Block 3 Player 3"}]
[null,null,{"$f":"GAMES!B68","v":"00:00:00"},{"$f":"GAMES!C68","v":"00:00:00"},{"$f":"GAMES!D68","v":0},{"$f":"GAMES!E68","v":" Block 3 Player 2"},{"$f":"GAMES!F68","v":"vs"},{"$f":"GAMES!G68","v":" Block 3 Player 4"}]
[null,null,{"$f":"GAMES!B69","v":"00:00:00"},{"$f":"GAMES!C69","v":"00:00:00"},{"$f":"GAMES!D69","v":"--"},{"$f":"GAMES!E69","v":" Bye "},{"$f":"GAMES!F69","v":"vs"},{"$f":"GAMES!G69","v":" Block 3 Player 5"}]
[null,null,{"$f":"GAMES!B70","v":"00:00:00"},{"$f":"GAMES!C70","v":"00:00:00"},{"$f":"GAMES!D70","v":0},{"$f":"GAMES!E70","v":" Block 3 Player 7"},{"$f":"GAMES!F70","v":"vs"},{"$f":"GAMES!G70","v":" Block 3 Player 6"}]
[null,null,{"$f":"GAMES!B71","v":"00:00:00"},{"$f":"GAMES!C71","v":"00:00:00"},{"$f":"GAMES!D71","v":0},{"$f":"GAMES!E71","v":" Block 3 Player 1"},{"$f":"GAMES!F71","v":"vs"},{"$f":"GAMES!G71","v":" Block 3 Player 4"}]
[null,null,{"$f":"GAMES!B72","v":"00:00:00"},{"$f":"GAMES!C72","v":"00:00:00"},{"$f":"GAMES!D72","v":0},{"$f":"GAMES!E72","v":" Block 3 Player 3"},{"$f":"GAMES!F72","v":"vs"},{"$f":"GAMES!G72","v":" Block 3 Player 5"}]
[null,null,{"$f":"GAMES!B73","v":"00:00:00"},{"$f":"GAMES!C73","v":"00:00:00"},{"$f":"GAMES!D73","v":0},{"$f":"GAMES!E73","v":" Block 3 Player 2"},{"$f":"GAMES!F73","v":"vs"},{"$f":"GAMES!G73","v":" Block 3 Player 6"}]
[null,null,{"$f":"GAMES!B74","v":"00:00:00"},{"$f":"GAMES!C74","v":"00:00:00"},{"$f":"GAMES!D74","v":"--"},{"$f":"GAMES!E74","v":" Bye "},{"$f":"GAMES!F74","v":"vs"},{"$f":"GAMES!G74","v":" Block 3 Player 7"}]
[null,null,{"$f":"GAMES!B75","v":"00:00:00"},{"$f":"GAMES!C75","v":"00:00:00"},{"$f":"GAMES!D75","v":0},{"$f":"GAMES!E75","v":" Block 3 Player 1"},{"$f":"GAMES!F75","v":"vs"},{"$f":"GAMES!G75","v":" Block 3 Player 5"}]
[null,null,{"$f":"GAMES!B76","v":"00:00:00"},{"$f":"GAMES!C76","v":"00:00:00"},{"$f":"GAMES!D76","v":0},{"$f":"GAMES!E76","v":" Block 3 Player 4"},{"$f":"GAMES!F76","v":"vs"},{"$f":"GAMES!G76","v":" Block 3 Player 6"}]
[null,null,{"$f":"GAMES!B77","v":"00:00:00"},{"$f":"GAMES!C77","v":"00:00:00"},{"$f":"GAMES!D77","v":0},{"$f":"GAMES!E77","v":" Block 3 Player 3"},{"$f":"GAMES!F77","v":"vs"},{"$f":"GAMES!G77","v":" Block 3 Player 7"}]
[null,null,{"$f":"GAMES!B78","v":"00:00:00"},{"$f":"GAMES!C78","v":"00:00:00"},{"$f":"GAMES!D78","v":"--"},{"$f":"GAMES!E78","v":" Block 3 Player 2"},{"$f":"GAMES!F78","v":"vs"},{"$f":"GAMES!G78","v":" Bye "}]
[null,null,{"$f":"GAMES!B79","v":"00:00:00"},{"$f":"GAMES!C79","v":"00:00:00"},{"$f":"GAMES!D79","v":0},{"$f":"GAMES!E79","v":" Block 3 Player 1"},{"$f":"GAMES!F79","v":"vs"},{"$f":"GAMES!G79","v":" Block 3 Player 6"}]
[null,null,{"$f":"GAMES!B80","v":"00:00:00"},{"$f":"GAMES!C80","v":"00:00:00"},{"$f":"GAMES!D80","v":0},{"$f":"GAMES!E80","v":" Block 3 Player 5"},{"$f":"GAMES!F80","v":"vs"},{"$f":"GAMES!G80","v":" Block 3 Player 7"}]
[null,null,{"$f":"GAMES!B81","v":"00:00:00"},{"$f":"GAMES!C81","v":"00:00:00"},{"$f":"GAMES!D81","v":"--"},{"$f":"GAMES!E81","v":" Block 3 Player 4"},{"$f":"GAMES!F81","v":"vs"},{"$f":"GAMES!G81","v":" Bye "}]
[null,null,{"$f":"GAMES!B82","v":"00:00:00"},{"$f":"GAMES!C82","v":"00:00:00"},{"$f":"GAMES!D82","v":0},{"$f":"GAMES!E82","v":" Block 3 Player 3"},{"$f":"GAMES!F82","v":"vs"},{"$f":"GAMES!G82","v":" Block 3 Player 2"}]
[null,null,{"$f":"GAMES!B83","v":"00:00:00"},{"$f":"GAMES!C83","v":"00:00:00"},{"$f":"GAMES!D83","v":0},{"$f":"GAMES!E83","v":" Block 3 Player 1"},{"$f":"GAMES!F83","v":"vs"},{"$f":"GAMES!G83","v":" Block 3 Player 7"}]
[null,null,{"$f":"GAMES!B84","v":"00:00:00"},{"$f":"GAMES!C84","v":"00:00:00"},{"$f":"GAMES!D84","v":"--"},{"$f":"GAMES!E84","v":" Block 3 Player 6"},{"$f":"GAMES!F84","v":"vs"},{"$f":"GAMES!G84","v":" Bye "}]
[null,null,{"$f":"GAMES!B85","v":"00:00:00"},{"$f":"GAMES!C85","v":"00:00:00"},{"$f":"GAMES!D85","v":0},{"$f":"GAMES!E85","v":" Block 3 Player 5"},{"$f":"GAMES!F85","v":"vs"},{"$f":"GAMES!G85","v":" Block 3 Player 2"}]
[null,null,{"$f":"GAMES!B86","v":"00:00:00"},{"$f":"GAMES!C86","v":"00:00:00"},{"$f":"GAMES!D86","v":0},{"$f":"GAMES!E86","v":" Block 3 Player 4"},{"$f":"GAMES!F86","v":"vs"},{"$f":"GAMES!G86","v":" Block 3 Player 3"}]
[null,null,{"$f":"GAMES!B87","v":"00:00:00"},{"$f":"GAMES!C87","v":"00:00:00"},{"$f":"GAMES!D87","v":"--"},{"$f":"GAMES!E87","v":" Block 3 Player 1"},{"$f":"GAMES!F87","v":"vs"},{"$f":"GAMES!G87","v":" Bye "}]
[null,null,{"$f":"GAMES!B88","v":"00:00:00"},{"$f":"GAMES!C88","v":"00:00:00"},{"$f":"GAMES!D88","v":0},{"$f":"GAMES!E88","v":" Block 3 Player 7"},{"$f":"GAMES!F88","v":"vs"},{"$f":"GAMES!G88","v":" Block 3 Player 2"}]
[null,null,{"$f":"GAMES!B89","v":"00:00:00"},{"$f":"GAMES!C89","v":"00:00:00"},{"$f":"GAMES!D89","v":0},{"$f":"GAMES!E89","v":" Block 3 Player 6"},{"$f":"GAMES!F89","v":"vs"},{"$f":"GAMES!G89","v":" Block 3 Player 3"}]
[null,null,{"$f":"GAMES!B90","v":"00:00:00"},{"$f":"GAMES!C90","v":"00:00:00"},{"$f":"GAMES!D90","v":0},{"$f":"GAMES!E90","v":" Block 3 Player 5"},{"$f":"GAMES!F90","v":"vs"},{"$f":"GAMES!G90","v":" Block 3 Player 4"}]
[null,null,{"$f":"GAMES!B91","v":"00:00:00"},{"$f":"GAMES!C91","v":"00:00:00"},{"$f":"GAMES!D91","v":0},{"$f":"GAMES!E91","v":" Block 3 Player 1"},{"$f":"GAMES!F91","v":"vs"},{"$f":"GAMES!G91","v":" Block 3 Player 2"}]
[null,null,{"$f":"GAMES!B92","v":"00:00:00"},{"$f":"GAMES!C92","v":"00:00:00"},{"$f":"GAMES!D92","v":"--"},{"$f":"GAMES!E92","v":" Bye "},{"$f":"GAMES!F92","v":"vs"},{"$f":"GAMES!G92","v":" Block 3 Player 3"}]
[null,null,{"$f":"GAMES!B93","v":"00:00:00"},{"$f":"GAMES!C93","v":"00:00:00"},{"$f":"GAMES!D93","v":0},{"$f":"GAMES!E93","v":" Block 3 Player 7"},{"$f":"GAMES!F93","v":"vs"},{"$f":"GAMES!G93","v":" Block 3 Player 4"}]
[null,null,{"$f":"GAMES!B94","v":"00:00:00"},{"$f":"GAMES!C94","v":"00:00:00"},{"$f":"GAMES!D94","v":0},{"$f":"GAMES!E94","v":" Block 3 Player 6"},{"$f":"GAMES!F94","v":"vs"},{"$f":"GAMES!G94","v":" Block 3 Player 5"}]
[null,null,{"$f":"GAMES!B98","v":"00:00:00"},{"$f":"GAMES!C98","v":"00:00:00"},{"$f":"GAMES!D98","v":0},{"$f":"GAMES!E98","v":" Block 4 Player 1"},{"$f":"GAMES!F98","v":"vs"},{"$f":"GAMES!G98","v":" Block 4 Player 3"}]
[null,null,{"$f":"GAMES!B99","v":"00:00:00"},{"$f":"GAMES!C99","v":"00:00:00"},{"$f":"GAMES!D99","v":0},{"$f":"GAMES!E99","v":" Block 4 Player 2"},{"$f":"GAMES!F99","v":"vs"},{"$f":"GAMES!G99","v":" Block 4 Player 4"}]
[null,null,{"$f":"GAMES!B100","v":"00:00:00"},{"$f":"GAMES!C100","v":"00:00:00"},{"$f":"GAMES!D100","v":"--"},{"$f":"GAMES!E100","v":" Bye "},{"$f":"GAMES!F100","v":"vs"},{"$f":"GAMES!G100","v":" Block 4 Player 5"}]
[null,null,{"$f":"GAMES!B101","v":"00:00:00"},{"$f":"GAMES!C101","v":"00:00:00"},{"$f":"GAMES!D101","v":0},{"$f":"GAMES!E101","v":" Block 4 Player 7"},{"$f":"GAMES!F101","v":"vs"},{"$f":"GAMES!G101","v":" Block 4 Player 6"}]
[null,null,{"$f":"GAMES!B102","v":"00:00:00"},{"$f":"GAMES!C102","v":"00:00:00"},{"$f":"GAMES!D102","v":0},{"$f":"GAMES!E102","v":" Block 4 Player 1"},{"$f":"GAMES!F102","v":"vs"},{"$f":"GAMES!G102","v":" Block 4 Player 4"}]
[null,null,{"$f":"GAMES!B103","v":"00:00:00"},{"$f":"GAMES!C103","v":"00:00:00"},{"$f":"GAMES!D103","v":0},{"$f":"GAMES!E103","v":" Block 4 Player 3"},{"$f":"GAMES!F103","v":"vs"},{"$f":"GAMES!G103","v":" Block 4 Player 5"}]
[null,null,{"$f":"GAMES!B104","v":"00:00:00"},{"$f":"GAMES!C104","v":"00:00:00"},{"$f":"GAMES!D104","v":0},{"$f":"GAMES!E104","v":" Block 4 Player 2"},{"$f":"GAMES!F104","v":"vs"},{"$f":"GAMES!G104","v":" Block 4 Player 6"}]
[null,null,{"$f":"GAMES!B105","v":"00:00:00"},{"$f":"GAMES!C105","v":"00:00:00"},{"$f":"GAMES!D105","v":"--"},{"$f":"GAMES!E105","v":" Bye "},{"$f":"GAMES!F105","v":"vs"},{"$f":"GAMES!G105","v":" Block 4 Player 7"}]
[null,null,{"$f":"GAMES!B106","v":"00:00:00"},{"$f":"GAMES!C106","v":"00:00:00"},{"$f":"GAMES!D106","v":0},{"$f":"GAMES!E106","v":" Block 4 Player 1"},{"$f":"GAMES!F106","v":"vs"},{"$f":"GAMES!G106","v":" Block 4 Player 5"}]
[null,null,{"$f":"GAMES!B107","v":"00:00:00"},{"$f":"GAMES!C107","v":"00:00:00"},{"$f":"GAMES!D107","v":0},{"$f":"GAMES!E107","v":" Block 4 Player 4"},{"$f":"GAMES!F107","v":"vs"},{"$f":"GAMES!G107","v":" Block 4 Player 6"}]
[null,null,{"$f":"GAMES!B108","v":"00:00:00"},{"$f":"GAMES!C108","v":"00:00:00"},{"$f":"GAMES!D108","v":0},{"$f":"GAMES!E108","v":" Block 4 Player 3"},{"$f":"GAMES!F108","v":"vs"},{"$f":"GAMES!G108","v":" Block 4 Player 7"}]
[null,null,{"$f":"GAMES!B109","v":"00:00:00"},{"$f":"GAMES!C109","v":"00:00:00"},{"$f":"GAMES!D109","v":"--"},{"$f":"GAMES!E109","v":" Block 4 Player 2"},{"$f":"GAMES!F109","v":"vs"},{"$f":"GAMES!G109","v":" Bye "}]
[null,null,{"$f":"GAMES!B110","v":"00:00:00"},{"$f":"GAMES!C110","v":"00:00:00"},{"$f":"GAMES!D110","v":0},{"$f":"GAMES!E110","v":" Block 4 Player 1"},{"$f":"GAMES!F110","v":"vs"},{"$f":"GAMES!G110","v":" Block 4 Player 6"}]
[null,null,{"$f":"GAMES!B111","v":"00:00:00"},{"$f":"GAMES!C111","v":"00:00:00"},{"$f":"GAMES!D111","v":0},{"$f":"GAMES!E111","v":" Block 4 Player 5"},{"$f":"GAMES!F111","v":"vs"},{"$f":"GAMES!G111","v":" Block 4 Player 7"}]
[null,null,{"$f":"GAMES!B112","v":"00:00:00"},{"$f":"GAMES!C112","v":"00:00:00"},{"$f":"GAMES!D112","v":"--"},{"$f":"GAMES!E112","v":" Block 4 Player 4"},{"$f":"GAMES!F112","v":"vs"},{"$f":"GAMES!G112","v":" Bye "}]
[null,null,{"$f":"GAMES!B113","v":"00:00:00"},{"$f":"GAMES!C113","v":"00:00:00"},{"$f":"GAMES!D113","v":0},{"$f":"GAMES!E113","v":" Block 4 Player 3"},{"$f":"GAMES!F113","v":"vs"},{"$f":"GAMES!G113","v":" Block 4 Player 2"}]
[null,null,{"$f":"GAMES!B114","v":"00:00:00"},{"$f":"GAMES!C114","v":"00:00:00"},{"$f":"GAMES!D114","v":0},{"$f":"GAMES!E114","v":" Block 4 Player 1"},{"$f":"GAMES!F114","v":"vs"},{"$f":"GAMES!G114","v":" Block 4 Player 7"}]
[null,null,{"$f":"GAMES!B115","v":"00:00:00"},{"$f":"GAMES!C115","v":"00:00:00"},{"$f":"GAMES!D115","v":"--"},{"$f":"GAMES!E115","v":" Block 4 Player 6"},{"$f":"GAMES!F115","v":"vs"},{"$f":"GAMES!G115","v":" Bye "}]
[null,null,{"$f":"GAMES!B116","v":"00:00:00"},{"$f":"GAMES!C116","v":"00:00:00"},{"$f":"GAMES!D116","v":0},{"$f":"GAMES!E116","v":" Block 4 Player 5"},{"$f":"GAMES!F116","v":"vs"},{"$f":"GAMES!G116","v":" Block 4 Player 2"}]
[null,null,{"$f":"GAMES!B117","v":"00:00:00"},{"$f":"GAMES!C117","v":"00:00:00"},{"$f":"GAMES!D117","v":0},{"$f":"GAMES!E117","v":" Block 4 Player 4"},{"$f":"GAMES!F117","v":"vs"},{"$f":"GAMES!G117","v":" Block 4 Player 3"}]
[null,null,{"$f":"GAMES!B118","v":"00:00:00"},{"$f":"GAMES!C118","v":"00:00:00"},{"$f":"GAMES!D118","v":"--"},{"$f":"GAMES!E118","v":" Block 4 Player 1"},{"$f":"GAMES!F118","v":"vs"},{"$f":"GAMES!G118","v":" Bye "}]
[null,null,{"$f":"GAMES!B119","v":"00:00:00"},{"$f":"GAMES!C119","v":"00:00:00"},{"$f":"GAMES!D119","v":0},{"$f":"GAMES!E119","v":" Block 4 Player 7"},{"$f":"GAMES!F119","v":"vs"},{"$f":"GAMES!G119","v":" Block 4 Player 2"}]
[null,null,{"$f":"GAMES!B120","v":"00:00:00"},{"$f":"GAMES!C120","v":"00:00:00"},{"$f":"GAMES!D120","v":0},{"$f":"GAMES!E120","v":" Block 4 Player 6"},{"$f":"GAMES!F120","v":"vs"},{"$f":"GAMES!G120","v":" Block 4 Player 3"}]
[null,null,{"$f":"GAMES!B121","v":"00:00:00"},{"$f":"GAMES!C121","v":"00:00:00"},{"$f":"GAMES!D121","v":0},{"$f":"GAMES!E121","v":" Block 4 Player 5"},{"$f":"GAMES!F121","v":"vs"},{"$f":"GAMES!G121","v":" Block 4 Player 4"}]
[null,null,{"$f":"GAMES!B122","v":"00:00:00"},{"$f":"GAMES!C122","v":"00:00:00"},{"$f":"GAMES!D122","v":0},{"$f":"GAMES!E122","v":" Block 4 Player 1"},{"$f":"GAMES!F122","v":"vs"},{"$f":"GAMES!G122","v":" Block 4 Player 2"}]
[null,null,{"$f":"GAMES!B123","v":"00:00:00"},{"$f":"GAMES!C123","v":"00:00:00"},{"$f":"GAMES!D123","v":"--"},{"$f":"GAMES!E123","v":" Bye "},{"$f":"GAMES!F123","v":"vs"},{"$f":"GAMES!G123","v":" Block 4 Player 3"}]
[null,null,{"$f":"GAMES!B124","v":"00:00:00"},{"$f":"GAMES!C124","v":"00:00:00"},{"$f":"GAMES!D124","v":0},{"$f":"GAMES!E124","v":" Block 4 Player 7"},{"$f":"GAMES!F124","v":"vs"},{"$f":"GAMES!G124","v":" Block 4 Player 4"}]
[null,null,{"$f":"GAMES!B125","v":"00:00:00"},{"$f":"GAMES!C125","v":"00:00:00"},{"$f":"GAMES!D125","v":0},{"$f":"GAMES!E125","v":" Block 4 Player 6"},{"$f":"GAMES!F125","v":"vs"},{"$f":"GAMES!G125","v":" Block 4 Player 5"}]
[null,null,{"$f":"GAMES!B129","v":"00:00:00"},{"$f":"GAMES!C129","v":"00:00:00"},{"$f":"GAMES!D129","v":0},{"$f":"GAMES!E129","v":" Block 5 Player 1"},{"$f":"GAMES!F129","v":"vs"},{"$f":"GAMES!G129","v":" Block 5 Player 3"}]
[null,null,{"$f":"GAMES!B130","v":"00:00:00"},{"$f":"GAMES!C130","v":"00:00:00"},{"$f":"GAMES!D130","v":0},{"$f":"GAMES!E130","v":" Block 5 Player 2"},{"$f":"GAMES!F130","v":"vs"},{"$f":"GAMES!G130","v":" Block 5 Player 4"}]
[null,null,{"$f":"GAMES!B131","v":"00:00:00"},{"$f":"GAMES!C131","v":"00:00:00"},{"$f":"GAMES!D131","v":"--"},{"$f":"GAMES!E131","v":" Bye "},{"$f":"GAMES!F131","v":"vs"},{"$f":"GAMES!G131","v":" Block 5 Player 5"}]
[null,null,{"$f":"GAMES!B132","v":"00:00:00"},{"$f":"GAMES!C132","v":"00:00:00"},{"$f":"GAMES!D132","v":0},{"$f":"GAMES!E132","v":" Block 5 Player 7"},{"$f":"GAMES!F132","v":"vs"},{"$f":"GAMES!G132","v":" Block 5 Player 6"}]
[null,null,{"$f":"GAMES!B133","v":"00:00:00"},{"$f":"GAMES!C133","v":"00:00:00"},{"$f":"GAMES!D133","v":0},{"$f":"GAMES!E133","v":" Block 5 Player 1"},{"$f":"GAMES!F133","v":"vs"},{"$f":"GAMES!G133","v":" Block 5 Player 4"}]
[null,null,{"$f":"GAMES!B134","v":"00:00:00"},{"$f":"GAMES!C134","v":"00:00:00"},{"$f":"GAMES!D134","v":0},{"$f":"GAMES!E134","v":" Block 5 Player 3"},{"$f":"GAMES!F134","v":"vs"},{"$f":"GAMES!G134","v":" Block 5 Player 5"}]
[null,null,{"$f":"GAMES!B135","v":"00:00:00"},{"$f":"GAMES!C135","v":"00:00:00"},{"$f":"GAMES!D135","v":0},{"$f":"GAMES!E135","v":" Block 5 Player 2"},{"$f":"GAMES!F135","v":"vs"},{"$f":"GAMES!G135","v":" Block 5 Player 6"}]
[null,null,{"$f":"GAMES!B136","v":"00:00:00"},{"$f":"GAMES!C136","v":"00:00:00"},{"$f":"GAMES!D136","v":"--"},{"$f":"GAMES!E136","v":" Bye "},{"$f":"GAMES!F136","v":"vs"},{"$f":"GAMES!G136","v":" Block 5 Player 7"}]
[null,null,{"$f":"GAMES!B137","v":"00:00:00"},{"$f":"GAMES!C137","v":"00:00:00"},{"$f":"GAMES!D137","v":0},{"$f":"GAMES!E137","v":" Block 5 Player 1"},{"$f":"GAMES!F137","v":"vs"},{"$f":"GAMES!G137","v":" Block 5 Player 5"}]
[null,null,{"$f":"GAMES!B138","v":"00:00:00"},{"$f":"GAMES!C138","v":"00:00:00"},{"$f":"GAMES!D138","v":0},{"$f":"GAMES!E138","v":" Block 5 Player 4"},{"$f":"GAMES!F138","v":"vs"},{"$f":"GAMES!G138","v":" Block 5 Player 6"}]
[null,null,{"$f":"GAMES!B139","v":"00:00:00"},{"$f":"GAMES!C139","v":"00:00:00"},{"$f":"GAMES!D139","v":0},{"$f":"GAMES!E139","v":" Block 5 Player 3"},{"$f":"GAMES!F139","v":"vs"},{"$f":"GAMES!G139","v":" Block 5 Player 7"}]
[null,null,{"$f":"GAMES!B140","v":"00:00:00"},{"$f":"GAMES!C140","v":"00:00:00"},{"$f":"GAMES!D140","v":"--"},{"$f":"GAMES!E140","v":" Block 5 Player 2"},{"$f":"GAMES!F140","v":"vs"},{"$f":"GAMES!G140","v":" Bye "}]
[null,null,{"$f":"GAMES!B141","v":"00:00:00"},{"$f":"GAMES!C141","v":"00:00:00"},{"$f":"GAMES!D141","v":0},{"$f":"GAMES!E141","v":" Block 5 Player 1"},{"$f":"GAMES!F141","v":"vs"},{"$f":"GAMES!G141","v":" Block 5 Player 6"}]
[null,null,{"$f":"GAMES!B142","v":"00:00:00"},{"$f":"GAMES!C142","v":"00:00:00"},{"$f":"GAMES!D142","v":0},{"$f":"GAMES!E142","v":" Block 5 Player 5"},{"$f":"GAMES!F142","v":"vs"},{"$f":"GAMES!G142","v":" Block 5 Player 7"}]
[null,null,{"$f":"GAMES!B143","v":"00:00:00"},{"$f":"GAMES!C143","v":"00:00:00"},{"$f":"GAMES!D143","v":"--"},{"$f":"GAMES!E143","v":" Block 5 Player 4"},{"$f":"GAMES!F143","v":"vs"},{"$f":"GAMES!G143","v":" Bye "}]
[null,null,{"$f":"GAMES!B144","v":"00:00:00"},{"$f":"GAMES!C144","v":"00:00:00"},{"$f":"GAMES!D144","v":0},{"$f":"GAMES!E144","v":" Block 5 Player 3"},{"$f":"GAMES!F144","v":"vs"},{"$f":"GAMES!G144","v":" Block 5 Player 2"}]
[null,null,{"$f":"GAMES!B145","v":"00:00:00"},{"$f":"GAMES!C145","v":"00:00:00"},{"$f":"GAMES!D145","v":0},{"$f":"GAMES!E145","v":" Block 5 Player 1"},{"$f":"GAMES!F145","v":"vs"},{"$f":"GAMES!G145","v":" Block 5 Player 7"}]
[null,null,{"$f":"GAMES!B146","v":"00:00:00"},{"$f":"GAMES!C146","v":"00:00:00"},{"$f":"GAMES!D146","v":"--"},{"$f":"GAMES!E146","v":" Block 5 Player 6"},{"$f":"GAMES!F146","v":"vs"},{"$f":"GAMES!G146","v":" Bye "}]
[null,null,{"$f":"GAMES!B147","v":"00:00:00"},{"$f":"GAMES!C147","v":"00:00:00"},{"$f":"GAMES!D147","v":0},{"$f":"GAMES!E147","v":" Block 5 Player 5"},{"$f":"GAMES!F147","v":"vs"},{"$f":"GAMES!G147","v":" Block 5 Player 2"}]
[null,null,{"$f":"GAMES!B148","v":"00:00:00"},{"$f":"GAMES!C148","v":"00:00:00"},{"$f":"GAMES!D148","v":0},{"$f":"GAMES!E148","v":" Block 5 Player 4"},{"$f":"GAMES!F148","v":"vs"},{"$f":"GAMES!G148","v":" Block 5 Player 3"}]
[null,null,{"$f":"GAMES!B149","v":"00:00:00"},{"$f":"GAMES!C149","v":"00:00:00"},{"$f":"GAMES!D149","v":"--"},{"$f":"GAMES!E149","v":" Block 5 Player 1"},{"$f":"GAMES!F149","v":"vs"},{"$f":"GAMES!G149","v":" Bye "}]
[null,null,{"$f":"GAMES!B150","v":"00:00:00"},{"$f":"GAMES!C150","v":"00:00:00"},{"$f":"GAMES!D150","v":0},{"$f":"GAMES!E150","v":" Block 5 Player 7"},{"$f":"GAMES!F150","v":"vs"},{"$f":"GAMES!G150","v":" Block 5 Player 2"}]
[null,null,{"$f":"GAMES!B151","v":"00:00:00"},{"$f":"GAMES!C151","v":"00:00:00"},{"$f":"GAMES!D151","v":0},{"$f":"GAMES!E151","v":" Block 5 Player 6"},{"$f":"GAMES!F151","v":"vs"},{"$f":"GAMES!G151","v":" Block 5 Player 3"}]
[null,null,{"$f":"GAMES!B152","v":"00:00:00"},{"$f":"GAMES!C152","v":"00:00:00"},{"$f":"GAMES!D152","v":0},{"$f":"GAMES!E152","v":" Block 5 Player 5"},{"$f":"GAMES!F152","v":"vs"},{"$f":"GAMES!G152","v":" Block 5 Player 4"}]
[null,null,{"$f":"GAMES!B153","v":"00:00:00"},{"$f":"GAMES!C153","v":"00:00:00"},{"$f":"GAMES!D153","v":0},{"$f":"GAMES!E153","v":" Block 5 Player 1"},{"$f":"GAMES!F153","v":"vs"},{"$f":"GAMES!G153","v":" Block 5 Player 2"}]
[null,null,{"$f":"GAMES!B154","v":"00:00:00"},{"$f":"GAMES!C154","v":"00:00:00"},{"$f":"GAMES!D154","v":"--"},{"$f":"GAMES!E154","v":" Bye "},{"$f":"GAMES!F154","v":"vs"},{"$f":"GAMES!G154","v":" Block 5 Player 3"}]
[null,null,{"$f":"GAMES!B155","v":"00:00:00"},{"$f":"GAMES!C155","v":"00:00:00"},{"$f":"GAMES!D155","v":0},{"$f":"GAMES!E155","v":" Block 5 Player 7"},{"$f":"GAMES!F155","v":"vs"},{"$f":"GAMES!G155","v":" Block 5 Player 4"}]
[null,null,{"$f":"GAMES!B156","v":"00:00:00"},{"$f":"GAMES!C156","v":"00:00:00"},{"$f":"GAMES!D156","v":0},{"$f":"GAMES!E156","v":" Block 5 Player 6"},{"$f":"GAMES!F156","v":"vs"},{"$f":"GAMES!G156","v":" Block 5 Player 5"}]

{"sheet":"WAIT","index":19,"n_rows":0,"n_cols":0,"rows_kept":0,"cut":false,"hidden":true,"merged":[]}

{"sheet":"TABLE","index":20,"n_rows":76,"n_cols":33,"rows_kept":76,"cut":false,"hidden":true,"merged":[[44,5,44,32],[48,1,75,1],[6,4,6,27],[8,5,8,32],[9,5,9,32],[13,1,40,1],[43,5,43,32]]}
[]
[null,"WIN=1",0]
[]
[null,"PLAYER",-2.5]
[null,"OPPONENT",-2]
[]
[null,"RESULTS",{"$f":"IF(C2>0,(VLOOKUP(C4,WIN,(MATCH(C5,D11:AG11,0)+1))),(VLOOKUP(C4,LOSE,(MATCH(C5,D46:AG46,0)+1))))","v":-14},"<----","IF(C2>0,(VLOOKUP(C4,WIN,(MATCH(C5,D11:AG11,0)+1))),(VLOOKUP(C4,LOSE,(MATCH(C5,D46:AG46,0)+1))))"]
[]
[null,null,null,null,null,"WIN TABLE"]
[null,null,null,null,null,"OPPONENT HANDICAP"]
[null,null,null,-3,-2.5,-2,-1.5,-1,-0.5,0,0.5,1,1.5,2,2.5,3,3.5,4,4.5,5,6,7,8,9,10,11,12,14,16,18,20,22,24]
[null,null,-3,10,5,2,1,1,1,1,1,1,1,1,1,1,1,1,1,1,1,1,1,1,1,1,1,1,1,1,1,1,1]
[null,null,-2.5,15,10,6,3,1,1,1,1,1,1,1,1,1,1,1,1,1,1,1,1,1,1,1,1,1,1,1,1,1,1]
[null,"PLAYER HANDICAP",-2,18,14,10,6,3,2,1,1,1,1,1,1,1,1,1,1,1,1,1,1,1,1,1,1,1,1,1,1,1,1]
[null,null,-1.5,19,17,14,10,7,4,3,2,2,1,1,1,1,1,1,1,1,1,1,1,1,1,1,1,1,1,1,1,1,1]
[null,null,-1,19,19,17,13,10,7,5,4,3,3,2,2,1,1,1,1,1,1,1,1,1,1,1,1,1,1,1,1,1,1]
[null,null,-0.5,19,19,18,16,13,10,8,7,6,5,4,3,3,2,2,1,1,1,1,1,1,1,1,1,1,1,1,1,1,1]
[null,null,0,19,19,19,17,15,12,10,9,8,7,6,5,4,3,3,2,2,1,1,1,1,1,1,1,1,1,1,1,1,1]
[null,null,0.5,19,19,19,18,16,13,11,10,9,8,7,6,5,4,3,3,2,2,1,1,1,1,1,1,1,1,1,1,1,1]
[null,null,1,19,19,19,18,17,14,12,11,10,9,8,7,6,5,4,3,3,2,2,1,1,1,1,1,1,1,1,1,1,1]
[null,null,1.5,19,19,19,19,17,15,13,12,11,10,9,8,7,6,5,4,3,3,2,2,1,1,1,1,1,1,1,1,1,1]
[null,null,2,19,19,19,19,18,16,14,13,12,11,10,9,8,7,6,5,4,3,3,2,2,1,1,1,1,1,1,1,1,1]
[null,null,2.5,19,19,19,19,18,17,15,14,13,12,11,10,9,8,7,6,5,4,3,3,2,2,1,1,1,1,1,1,1,1]
[null,null,3,19,19,19,19,19,17,16,15,14,13,12,11,10,9,8,7,6,5,4,3,3,2,2,1,1,1,1,1,1,1]
[null,null,3.5,19,19,19,19,19,18,17,16,15,14,13,12,11,10,9,8,7,6,5,4,3,3,2,2,1,1,1,1,1,1]
[null,null,4,19,19,19,19,19,18,17,17,16,15,14,13,12,11,10,9,8,7,6,5,4,3,3,2,2,1,1,1,1,1]
[null,null,4.5,19,19,19,19,19,19,18,17,17,16,15,14,13,12,11,10,9,8,7,6,5,4,3,3,2,2,1,1,1,1]
[null,null,5,19,19,19,19,19,19,18,18,17,17,16,15,14,13,12,11,10,9,8,7,6,5,4,3,3,2,2,1,1,1]
[null,null,6,19,19,19,19,19,19,19,18,18,17,17,16,15,14,13,12,11,10,9,8,7,6,5,4,3,3,2,2,1,1]
[null,null,7,19,19,19,19,19,19,19,19,18,18,17,17,16,15,14,13,12,11,10,9,8,7,6,5,4,3,3,2,2,1]
[null,null,8,19,19,19,19,19,19,19,19,19,18,18,17,17,16,15,14,13,12,11,10,9,8,7,6,5,4,3,3,2,2]
[null,null,9,19,19,19,19,19,19,19,19,19,19,18,18,17,17,16,15,14,13,12,11,10,9,8,7,6,5,4,3,3,2]
[null,null,10,19,19,19,19,19,19,19,19,19,19,19,18,18,17,17,16,15,14,13,12,11,10,9,8,7,6,5,4,3,3]
[null,null,11,19,19,19,19,19,19,19,19,19,19,19,19,18,18,17,17,16,15,14,13,12,11,10,9,8,7,6,5,4,3]
[null,null,12,19,19,19,19,19,19,19,19,19,19,19,19,19,18,18,17,17,16,15,14,13,12,11,10,9,8,7,6,5,4]
[null,null,14,19,19,19,19,19,19,19,19,19,19,19,19,19,19,18,18,17,17,16,15,14,13,12,11,10,9,8,7,6,5]
[null,null,16,19,19,19,19,19,19,19,19,19,19,19,19,19,19,19,18,18,17,17,16,15,14,13,12,11,10,9,8,7,6]
[null,null,18,19,19,19,19,19,19,19,19,19,19,19,19,19,19,19,19,18,18,17,17,16,15,14,13,12,11,10,9,8,7]
[null,null,20,19,19,19,19,19,19,19,19,19,19,19,19,19,19,19,19,19,18,18,17,17,16,15,14,13,12,11,10,9,8]
[null,null,22,19,19,19,19,19,19,19,19,19,19,19,19,19,19,19,19,19,19,18,18,17,17,16,15,14,13,12,11,10,9]
[null,null,24,19,19,19,19,19,19,19,19,19,19,19,19,19,19,19,19,19,19,19,18,18,17,17,16,15,14,13,12,11,10]
[]
[]
[null,null,null,null,null,"LOSE TABLE"]
[null,null,null,null,null,"OPPONENT HANDICAP"]
[null,null,null,-3,-2.5,-2,-1.5,-1,-0.5,0,0.5,1,1.5,2,2.5,3,3.5,4,4.5,5,6,7,8,9,10,11,12,14,16,18,20,22,24]
[null,null,-3,{"$f":"D12-20","v":-10},{"$f":"E12-20","v":-15},-18,-19,-19,-19,-19,-19,-19,-19,-19,-19,-19,-19,-19,-19,-19,-19,-19,-19,-19,-19,-19,-19,-19,-19,-19,-19,-19,-19]
[null,null,-2.5,{"$f":"D13-20","v":-5},-10,-14,-17,-19,-19,-19,-19,-19,-19,-19,-19,-19,-19,-19,-19,-19,-19,-19,-19,-19,-19,-19,-19,-19,-19,-19,-19,-19,-19]
[null,"PLAYER HANDICAP",-2,-2,-6,-10,-14,-17,-18,-19,-19,-19,-19,-19,-19,-19,-19,-19,-19,-19,-19,-19,-19,-19,-19,-19,-19,-19,-19,-19,-19,-19,-19]
[null,null,-1.5,-1,-3,-6,-10,-13,-16,-17,-18,-18,-19,-19,-19,-19,-19,-19,-19,-19,-19,-19,-19,-19,-19,-19,-19,-19,-19,-19,-19,-19,-19]
[null,null,-1,-1,-1,-3,-7,-10,-13,-15,-16,-17,-17,-18,-18,-19,-19,-19,-19,-19,-19,-19,-19,-19,-19,-19,-19,-19,-19,-19,-19,-19,-19]
[null,null,-0.5,-1,-1,-2,-4,-7,-10,-12,-13,-14,-15,-16,-17,-17,-18,-18,-19,-19,-19,-19,-19,-19,-19,-19,-19,-19,-19,-19,-19,-19,-19]
[null,null,0,-1,-1,-1,-3,-5,-8,-10,-11,-12,-13,-14,-15,-16,-17,-17,-18,-18,-19,-19,-19,-19,-19,-19,-19,-19,-19,-19,-19,-19,-19]
[null,null,0.5,-1,-1,-1,-2,-4,-7,-9,-10,-11,-12,-13,-14,-15,-16,-17,-17,-18,-18,-19,-19,-19,-19,-19,-19,-19,-19,-19,-19,-19,-19]
[null,null,1,-1,-1,-1,-2,-3,-6,-8,-9,-10,-11,-12,-13,-14,-15,-16,-17,-17,-18,-18,-19,-19,-19,-19,-19,-19,-19,-19,-19,-19,-19]
[null,null,1.5,-1,-1,-1,-1,-3,-5,-7,-8,-9,-10,-11,-12,-13,-14,-15,{"$f":"S21-20","v":-16},-17,-17,-18,-18,-19,-19,-19,-19,-19,-19,-19,-19,-19,-19]
[null,null,2,{"$f":"D22-20","v":-1},-1,-1,-1,-2,-4,-6,-7,-8,-9,-10,-11,-12,-13,-14,-15,-16,-17,-17,-18,-18,-19,-19,-19,-19,-19,-19,-19,-19,-19]
[null,null,2.5,-1,-1,-1,-1,-2,-3,-5,-6,-7,-8,-9,-10,-11,-12,-13,-14,-15,-16,-17,-17,-18,-18,-19,-19,-19,-19,-19,-19,-19,-19]
[null,null,3,-1,-1,-1,-1,-1,-3,-4,-5,-6,-7,-8,-9,-10,-11,-12,-13,-14,-15,-16,-17,-17,-18,-18,-19,-19,-19,-19,-19,-19,-19]
[null,null,3.5,-1,-1,-1,-1,-1,-2,-3,-4,-5,-6,-7,-8,-9,-10,-11,-12,-13,-14,-15,-16,-17,-17,-18,-18,-19,-19,-19,-19,-19,-19]
[null,null,4,-1,-1,-1,-1,-1,-2,-3,-3,-4,-5,-6,-7,-8,-9,-10,-11,-12,-13,-14,-15,-16,-17,-17,-18,-18,-19,-19,-19,-19,-19]
[null,null,4.5,-1,-1,-1,-1,-1,-1,-2,-3,-3,-4,-5,-6,-7,-8,-9,-10,-11,-12,-13,-14,-15,-16,-17,-17,-18,-18,-19,-19,-19,-19]
[null,null,5,-1,-1,-1,-1,-1,-1,-2,-2,-3,-3,-4,-5,-6,-7,-8,-9,-10,-11,-12,-13,-14,-15,-16,-17,-17,-18,-18,-19,-19,-19]
[null,null,6,-1,-1,-1,-1,-1,-1,-1,-2,-2,-3,-3,-4,-5,-6,-7,-8,-9,-10,-11,-12,-13,-14,-15,-16,-17,-17,-18,-18,-19,-19]
[null,null,7,-1,-1,-1,-1,-1,-1,-1,-1,-2,-2,-3,-3,-4,-5,-6,{"$f":"S30-20","v":-7},-8,-9,-10,-11,-12,-13,-14,-15,-16,-17,-17,-18,-18,-19]
[null,null,8,{"$f":"D31-20","v":-1},-1,-1,-1,-1,-1,-1,-1,-1,-2,-2,-3,-3,-4,-5,-6,-7,-8,-9,-10,-11,-12,-13,-14,-15,-16,-17,-17,-18,-18]
[null,null,9,-1,-1,-1,-1,-1,-1,-1,-1,-1,-1,-2,-2,-3,-3,-4,-5,-6,-7,-8,-9,-10,-11,-12,-13,-14,-15,-16,-17,-17,-18]
[null,null,10,-1,-1,-1,-1,-1,-1,-1,-1,-1,-1,-1,-2,-2,-3,-3,-4,-5,-6,-7,-8,-9,-10,-11,-12,-13,-14,-15,-16,-17,-17]
[null,null,11,-1,-1,-1,-1,-1,-1,-1,-1,-1,-1,-1,-1,-2,-2,-3,-3,-4,-5,-6,-7,-8,-9,-10,-11,-12,-13,-14,-15,-16,-17]
[null,null,12,-1,-1,-1,-1,-1,-1,-1,-1,-1,-1,-1,-1,-1,-2,-2,-3,-3,-4,-5,-6,-7,-8,-9,-10,-11,-12,-13,-14,-15,-16]
[null,null,14,-1,-1,-1,-1,-1,-1,-1,-1,-1,-1,-1,-1,-1,-1,-2,-2,-3,-3,-4,-5,-6,-7,-8,-9,-10,-11,-12,-13,-14,-15]
[null,null,16,-1,-1,-1,-1,-1,-1,-1,-1,-1,-1,-1,-1,-1,-1,-1,-2,-2,-3,-3,-4,-5,-6,-7,-8,-9,-10,-11,-12,-13,-14]
[null,null,18,-1,-1,-1,-1,-1,-1,-1,-1,-1,-1,-1,-1,-1,-1,-1,-1,-2,-2,-3,-3,-4,-5,-6,-7,-8,-9,-10,-11,-12,-13]
[null,null,20,-1,-1,-1,-1,-1,-1,-1,-1,-1,-1,-1,-1,-1,-1,-1,{"$f":"S39-20","v":-1},-1,-2,-2,-3,-3,-4,-5,-6,-7,-8,-9,-10,-11,-12]
[null,null,22,{"$f":"D40-20","v":-1},-1,-1,-1,-1,-1,-1,-1,-1,-1,-1,-1,-1,-1,-1,-1,-1,-1,-2,-2,-3,-3,-4,-5,-6,-7,-8,-9,-10,-11]
[null,null,24,-1,-1,-1,-1,-1,-1,-1,-1,-1,-1,-1,-1,-1,-1,-1,-1,-1,-1,-1,-2,-2,-3,-3,-4,-5,-6,-7,-8,-9,-10]