{"text_format":"1","workbook":"xlsx","n_sheets":21,"sheets":["MENU","ABOUT","NAMES","SEED","GAMES","RESULTS","RESULTS DATA","SCORES","BLOCK","SCORECARD","PLAYER","WORLD RANKING RESULTS","HANDICAP CARD","AHS1","HANDICAPS","PUBLISHING","MISC","BLOCK SCHEDULE","SCHEDULE","WAIT","TABLE"],"not_rendered":{"charts":0,"images":20,"macros":1,"external_links":0,"defined_names":453,"comments":0,"pivot_tables":0},"unopened":[],"bounds":{"document_bytes":16777216,"sheet_cells":100000,"rows_first":2000,"rows_last":500,"rows_between":2000,"halvings":0,"cell_chars":16384,"cell_head_chars":4096},"cells_cut":0,"cells_raw":0,"read":"whole","date_system":"1900"}

{"sheet":"MENU","index":0,"n_rows":42,"n_cols":3,"rows_kept":42,"cut":false,"hidden":false,"merged":[[41,2,41,12]]}
[]
[]
[]
[]
[]
[]
[]
[]
[]
[]
[]
[]
[]
[]
[]
[]
[]
[]
[]
[]
[]
[]
[]
[]
[]
[]
[]
[]
[]
[]
[]
[]
[]
[]
[]
[]
[]
[]
[]
[]
[]
[null,null,"© Roger Buddle"]

{"sheet":"ABOUT","index":1,"n_rows":160,"n_cols":14,"rows_kept":160,"cut":false,"hidden":false,"merged":[]}
[]
[]
[]
[]
[]
[]
[]
[]
[]
[]
[]
[]
[]
[]
[]
[]
[]
[]
[]
[]
[]
[]
[]
[]
[]
[]
[]
[]
[]
[]
[]
[]
[]
[]
[]
[]
[]
[]
[]
[]
[]
[]
[]
[]
[]
[]
[]
[]
[]
[]
[]
[]
[]
[]
[]
[]
[]
[]
[]
[]
[]
[]
[]
[]
[]
[]
[]
[]
[]
[]
[]
[]
[]
[]
[]
[]
[]
[]
[]
[]
[]
[]
[]
[]
[]
[]
[]
[]
[]
[]
[]
[]
[]
[]
[]
[]
[]
[]
[]
[]
[]
[]
[]
[]
[]
[]
[]
[]
[]
[]
[]
[]
[]
[]
[]
[]
[]
[]
[]
[]
[]
[]
[]
[]
[]
[]
[]
[]
[]
[]
[]
[]
[]
[]
[]
[]
[]
[]
[]
[]
[]
[]
[]
[]
[]
[]
[]
[]
[]
[]
[]
[]
[]
[]
[]
[]
[]
[]
[]
[null,null,null,null,null,null,null,null,null,null,null,null,null," "]

{"sheet":"NAMES","index":2,"n_rows":133,"n_cols":18,"rows_kept":133,"cut":false,"hidden":true,"merged":[]}
[]
[]
[null,null,null,"<- For Handicap Play insert an X here"]
[]
[null,null,null,"<- For doubles place an X here",null,null,null,null,null,null,null,null,null,null,null,"TEST DATA",null,"BLANK DATA"]
[null,null,null,null,{"$f":"IF(C5=\"X\",\" & \",\" \")","v":" "}]
["TOURNAMENT NAME",null,"Tournament","<- Enter tournament name",null,null,null,null,null,null,null,null,null,null,null,"Tournament",null,"Tournament"]
["GROUP NAME",null,"Singles","<- Enter name of Group (eg SINGLES)",null,null,null,null,null,null,null,null,null,null,null,"Singles",null,"Singles"]
["TOURNAMENT DATE",null,"Date",null,null,null,null,null,null,null,null,null,null,null,null,"Date",null,"Date"]
["BLOCK 1 NAME",null,"BLOCK 1","<- Enter name of Block",null,null,null,null,null,null,null,null,null,null,null,"BLOCK 1",null,"BLOCK 1"]
["SEED 1 - First Name",null,"Block 1",null,null,null,null,null,null,null,null,null,null,null,null,"Block 1",null,"Block 1"]
["Last Name",null,"Player 1",null,null,null,null,null,null,null,null,null,null,null,null,"Player 1",null,"Player 1"]
["ID Number"]
["Handicap",null,null,null,null,null,null,null,null,null,null,null,null,null,null,1]
["Index",null,null,null,null,null,null,null,null,null,null,null,null,null,null,1900]
["SEED 2 - First Name",null,"Block 1",null,null,null,null,null,null,null,null,null,null,null,null,"Block 1",null,"Block 1"]
["Last Name",null,"Player 2",null,null,null,null,null,null,null,null,null,null,null,null,"Player 2",null,"Player 2"]
["ID Number"]
["Handicap",null,null,null,null,null,null,null,null,null,null,null,null,null,null,2]
["Index",null,null,null,"Notes entered below will appear at the bottom of each player's sheet,",null,null,null,null,null,null,null,null,null,null,1800]
["SEED 3 - First Name",null,"Block 1",null,"and also on the Block Schedule sheets",null,null,null,null,null,null,null,null,null,null,"Block 1",null,"Block 1"]
["Last Name",null,"Player 3","Note 1->","Time limit 2.5 hours, Turn After Bell (61.1.6). Quadway hoops (3 11/16\"), Dawson International balls",null,null,null,null,null,null,null,null,null,null,"Player 3",null,"Player 3"]
["ID Number",null,null,"Note 2->","Games may start early. Please be at the venue at least 30 minutes earlier than the scheduled start time."]
["Handicap",null,null,"Note 3->","Entry Fee $40 will be invoiced by email. Please pay by EFT using the invoice No. as reference.",null,null,null,null,null,null,null,null,null,null,3]
["Index",null,null,"Note 4->","Players please assist with setting and clearing courts.",null,null,null,null,null,null,null,null,null,null,1700]
["SEED 4 - First Name",null,"Block 1",null,null,null,null,null,null,null,null,null,null,null,null,"Block 1",null,"Block 1"]
["Last Name",null,"Player 4",null,"To hide the notes use spaces not deletes. A delete shows as a \"0\".",null,null,null,null,null,null,null,null,null,null,"Player 4",null,"Player 4"]
["ID Number"]
["Handicap",null,null,null,null,null,null,null,null,null,null,null,null,null,null,4]
["Index",null,null,null,null,null,null,null,null,null,null,null,null,null,null,1600]
["SEED 5 - First Name",null,"Block 1",null,null,null,null,null,null,null,null,null,null,null,null,"Block 1",null,"Block 1"]
["Last Name",null,"Player 5",null,null,null,null,null,null,null,null,null,null,null,null,"Player 5",null,"Player 5"]
["ID Number"]
["Handicap",null,null,null,null,null,null,null,null,null,null,null,null,null,null,5]
["Index",null,null,null,null,null,null,null,null,null,null,null,null,null,null,1500]
["SEED 6 - First Name",null,"Bye",null,null,null,null,null,null,null,null,null,null,null,null,"Bye",null,"Bye"]
["Last Name"]
["ID Number"]
["Handicap"]
["Index"]
["BLOCK 2 NAME",null,"BLOCK 2","<- Enter name of Block",null,null,null,null,null,null,null,null,null,null,null,"BLOCK 2",null,"BLOCK 2"]
["SEED 1 - First Name",null,"Block 2",null,null,null,null,null,null,null,null,null,null,null,null,"Block 2",null,"Block 2"]
["Last Name",null,"Player 1",null,null,null,null,null,null,null,null,null,null,null,null,"Player 1",null,"Player 1"]
["ID Number"]
["Handicap",null,null,null,null,null,null,null,null,null,null,null,null,null,null,1]
["Index",null,null,null,null,null,null,null,null,null,null,null,null,null,null,1900]
["SEED 2 - First Name",null,"Block 2",null,null,null,null,null,null,null,null,null,null,null,null,"Block 2",null,"Block 2"]
["Last Name",null,"Player 2",null,null,null,null,null,null,null,null,null,null,null,null,"Player 2",null,"Player 2"]
["ID Number"]
["Handicap",null,null,null,null,null,null,null,null,null,null,null,null,null,null,2]
["Index",null,null,null,null,null,null,null,null,null,null,null,null,null,null,1800]
["SEED 3 - First Name",null,"Block 2",null,null,null,null,null,null,null,null,null,null,null,null,"Block 2",null,"Block 2"]
["Last Name",null,"Player 3",null,null,null,null,null,null,null,null,null,null,null,null,"Player 3",null,"Player 3"]
["ID Number"]
["Handicap",null,null,null,null,null,null,null,null,null,null,null,null,null,null,3]
["Index",null,null,null,null,null,null,null,null,null,null,null,null,null,null,1700]
["SEED 4 - First Name",null,"Block 2",null,null,null,null,null,null,null,null,null,null,null,null,"Block 2",null,"Block 2"]
["Last Name",null,"Player 4",null,null,null,null,null,null,null,null,null,null,null,null,"Player 4",null,"Player 4"]
["ID Number"]
["Handicap",null,null,null,null,null,null,null,null,null,null,null,null,null,null,4]
["Index",null,null,null,null,null,null,null,null,null,null,null,null,null,null,1600]
["SEED 5 - First Name",null,"Block 2",null,null,null,null,null,null,null,null,null,null,null,null,"Block 2",null,"Block 2"]
["Last Name",null,"Player 5",null,null,null,null,null,null,null,null,null,null,null,null,"Player 5",null,"Player 5"]
["ID Number"]
["Handicap",null,null,null,null,null,null,null,null,null,null,null,null,null,null,5]
[null,null,null,null,null,null,null,null,null,null,null,null,null,null,null,1500]
["SEED 6 - First Name",null,"Bye",null,null,null,null,null,null,null,null,null,null,null,null,"Bye",null,"Bye"]
["Last Name"]
["ID Number"]
["Handicap"]
["Index"]
["BLOCK 3 NAME",null,"BLOCK 3","<- Enter name of Block",null,null,null,null,null,null,null,null,null,null,null,"BLOCK 3",null,"BLOCK 3"]
["SEED 1 - First Name",null,"Block 3",null,null,null,null,null,null,null,null,null,null,null,null,"Block 3",null,"Block 3"]
["Last Name",null,"Player 1",null,null,null,null,null,null,null,null,null,null,null,null,"Player 1",null,"Player 1"]
["ID Number"]
["Handicap",null,null,null,null,null,null,null,null,null,null,null,null,null,null,1]
["Index",null,null,null,null,null,null,null,null,null,null,null,null,null,null,1900]
["SEED 2 - First Name",null,"Block 3",null,null,null,null,null,null,null,null,null,null,null,null,"Block 3",null,"Block 3"]
["Last Name",null,"Player 2",null,null,null,null,null,null,null,null,null,null,null,null,"Player 2",null,"Player 2"]
["ID Number"]
["Handicap",null,null,null,null,null,null,null,null,null,null,null,null,null,null,2]
["Index",null,null,null,null,null,null,null,null,null,null,null,null,null,null,1800]
["SEED 3 - First Name",null,"Block 3",null,null,null,null,null,null,null,null,null,null,null,null,"Block 3",null,"Block 3"]
["Last Name",null,"Player 3",null,null,null,null,null,null,null,null,null,null,null,null,"Player 3",null,"Player 3"]
["ID Number"]
["Handicap",null,null,null,null,null,null,null,null,null,null,null,null,null,null,3]
["Index",null,null,null,null,null,null,null,null,null,null,null,null,null,null,1700]
["SEED 4 - First Name",null,"Block 3",null,null,null,null,null,null,null,null,null,null,null,null,"Block 3",null,"Block 3"]
["Last Name",null,"Player 4",null,null,null,null,null,null,null,null,null,null,null,null,"Player 4",null,"Player 4"]
["ID Number"]
["Handicap",null,null,null,null,null,null,null,null,null,null,null,null,null,null,4]
["Index",null,null,null,null,null,null,null,null,null,null,null,null,null,null,1600]
["SEED 5 - First Name",null,"Block 3",null,null,null,null,null,null,null,null,null,null,null,null,"Block 3",null,"Block 3"]
["Last Name",null,"Player 5",null,null,null,null,null,null,null,null,null,null,null,null,"Player 5",null,"Player 5"]
["ID Number"]
["Handicap",null,null,null,null,null,null,null,null,null,null,null,null,null,null,5]
["Index",null,null,null,null,null,null,null,null,null,null,null,null,null,null,1500]
["SEED 6 - First Name",null,"Bye",null,null,null,null,null,null,null,null,null,null,null,null,"Bye",null,"Bye"]
["Last Name"]
["ID Number"]
["Handicap"]
["Index"]
["BLOCK 4 NAME",null,"BLOCK 4","<- Enter name of Block",null,null,null,null,null,null,null,null,null,null,null,"BLOCK 4",null,"BLOCK 4"]
["SEED 1 - First Name",null,"Block 4",null,null,null,null,null,null,null,null,null,null,null,null,"Block 4",null,"Block 4"]
["Last Name",null,"Player 1",null,null,null,null,null,null,null,null,null,null,null,null,"Player 1",null,"Player 1"]
["ID Number"]
["Handicap",null,null,null,null,null,null,null,null,null,null,null,null,null,null,1]
["Index",null,null,null,null,null,null,null,null,null,null,null,null,null,null,1900]
["SEED 2 - First Name",null,"Block 4",null,null,null,null,null,null,null,null,null,null,null,null,"Block 4",null,"Block 4"]
["Last Name",null,"Player 2",null,null,null,null,null,null,null,null,null,null,null,null,"Player 2",null,"Player 2"]
["ID Number"]
["Handicap",null,null,null,null,null,null,null,null,null,null,null,null,null,null,2]
["Index",null,null,null,null,null,null,null,null,null,null,null,null,null,null,1800]
["SEED 3 - First Name",null,"Block 4",null,null,null,null,null,null,null,null,null,null,null,null,"Block 4",null,"Block 4"]
["Last Name",null,"Player 3",null,null,null,null,null,null,null,null,null,null,null,null,"Player 3",null,"Player 3"]
["ID Number"]
["Handicap",null,null,null,null,null,null,null,null,null,null,null,null,null,null,3]
["Index",null,null,null,null,null,null,null,null,null,null,null,null,null,null,1700]
["SEED 4 - First Name",null,"Block 4",null,null,null,null,null,null,null,null,null,null,null,null,"Block 4",null,"Block 4"]
["Last Name",null,"Player 4",null,null,null,null,null,null,null,null,null,null,null,null,"Player 4",null,"Player 4"]
["ID Number"]
["Handicap",null,null,null,null,null,null,null,null,null,null,null,null,null,null,4]
["Index",null,null,null,null,null,null,null,null,null,null,null,null,null,null,1600]
["SEED 5 - First Name",null,"Block 4",null,null,null,null,null,null,null,null,null,null,null,null,"Block 4",null,"Block 4"]
["Last Name",null,"Player 5",null,null,null,null,null,null,null,null,null,null,null,null,"Player 5",null,"Player 5"]
["ID Number"]
["Handicap",null,null,null,null,null,null,null,null,null,null,null,null,null,null,5]
["Index",null,null,null,null,null,null,null,null,null,null,null,null,null,null,1500]
["SEED 6 - First Name",null,"Bye",null,null,null,null,null,null,null,null,null,null,null,null,"Bye",null,"Bye"]
["Last Name"]
["ID Number"]
["Handicap"]
["Index"]

{"sheet":"SEED","index":3,"n_rows":24,"n_cols":10,"rows_kept":24,"cut":false,"hidden":false,"merged":[]}
[]
[null,null,null,null,null,{"$f":"NAMES!C7","v":"Tournament"}]
[]
[null,null,null,null,null,{"$f":"NAMES!C8","v":"Singles"}]
[]
[null,null,null,{"$f":"NAMES!C10","v":"BLOCK 1"},null,null,null,null,{"$f":"NAMES!C41","v":"BLOCK 2"}]
[null,"ID","INDEX","NAME","H/CAP",null,"ID","INDEX","NAME","H/CAP"]
[null,{"$f":"NAMES!$C$13","v":0},{"$f":"NAMES!$C$15","v":0},{"$f":"\" \"&NAMES!C11&NAMES!$E$6&NAMES!C12","v":" Block 1 Player 1"},{"$f":"NAMES!C14","v":0},null,{"$f":"NAMES!C44","v":0},{"$f":"NAMES!$C$46","v":0},{"$f":"\" \"&NAMES!C42&NAMES!$E$6&NAMES!C43","v":" Block 2 Player 1"},{"$f":"NAMES!C45","v":0}]
[null,{"$f":"NAMES!$C$18","v":0},{"$f":"NAMES!$C$20","v":0},{"$f":"\" \"&NAMES!C16&NAMES!$E$6&NAMES!C17","v":" Block 1 Player 2"},{"$f":"NAMES!C19","v":0},null,{"$f":"NAMES!C49","v":0},{"$f":"NAMES!$C$51","v":0},{"$f":"\" \"&NAMES!C47&NAMES!$E$6&NAMES!C48","v":" Block 2 Player 2"},{"$f":"NAMES!C50","v":0}]
[null,{"$f":"NAMES!$C$23","v":0},{"$f":"NAMES!$C$25","v":0},{"$f":"\" \"&NAMES!C21&NAMES!$E$6&NAMES!C22","v":" Block 1 Player 3"},{"$f":"NAMES!C24","v":0},null,{"$f":"NAMES!C54","v":0},{"$f":"NAMES!$C$56","v":0},{"$f":"\" \"&NAMES!C52&NAMES!$E$6&NAMES!C53","v":" Block 2 Player 3"},{"$f":"NAMES!C55","v":0}]
[null,{"$f":"NAMES!$C$28","v":0},{"$f":"NAMES!$C$30","v":0},{"$f":"\" \"&NAMES!C26&NAMES!$E$6&NAMES!C27","v":" Block 1 Player 4"},{"$f":"NAMES!C29","v":0},null,{"$f":"NAMES!C59","v":0},{"$f":"NAMES!$C$61","v":0},{"$f":"\" \"&NAMES!C57&NAMES!$E$6&NAMES!C58","v":" Block 2 Player 4"},{"$f":"NAMES!C60","v":0}]
[null,{"$f":"NAMES!$C$33","v":0},{"$f":"NAMES!$C$35","v":0},{"$f":"\" \"&NAMES!C31&NAMES!$E$6&NAMES!C32","v":" Block 1 Player 5"},{"$f":"NAMES!C34","v":0},null,{"$f":"NAMES!C64","v":0},{"$f":"NAMES!$C$66","v":0},{"$f":"\" \"&NAMES!C62&NAMES!$E$6&NAMES!C63","v":" Block 2 Player 5"},{"$f":"NAMES!C65","v":0}]
[null,{"$f":"NAMES!$C$38","v":0},{"$f":"NAMES!$C$40","v":0},{"$f":"\" \"&NAMES!C36&NAMES!$E$6&NAMES!C37","v":" Bye "},{"$f":"NAMES!C39","v":0},null,{"$f":"NAMES!C69","v":0},{"$f":"NAMES!$C$71","v":0},{"$f":"\" \"&NAMES!C67&NAMES!$E$6&NAMES!C68","v":" Bye "},{"$f":"NAMES!C70","v":0}]
[null,null,null,"Average Handicap",{"$f":"IF(ISERR(AVERAGE(E8:E13)),\" \",AVERAGE(E8:E13))","v":0},null,null,null,"Average Handicap",{"$f":"IF(ISERR(AVERAGE(J8:J13)),\" \",AVERAGE(J8:J13))","v":0}]
[null,null,null,{"$f":"NAMES!C72","v":"BLOCK 3"},null,null,null,null,{"$f":"NAMES!C103","v":"BLOCK 4"}]
[null,"ID","INDEX","NAME","H/CAP",null,"ID","INDEX","NAME","H/CAP"]
[null,{"$f":"NAMES!$C$75","v":0},{"$f":"NAMES!$C$77","v":0},{"$f":"\" \"&NAMES!C73&NAMES!$E$6&NAMES!C74","v":" Block 3 Player 1"},{"$f":"NAMES!C76","v":0},null,{"$f":"NAMES!$C$106","v":0},{"$f":"NAMES!$C$108","v":0},{"$f":"\" \"&NAMES!C104&NAMES!$E$6&NAMES!C105","v":" Block 4 Player 1"},{"$f":"NAMES!C107","v":0}]
[null,{"$f":"NAMES!$C$80","v":0},{"$f":"NAMES!$C$82","v":0},{"$f":"\" \"&NAMES!C78&NAMES!$E$6&NAMES!C79","v":" Block 3 Player 2"},{"$f":"NAMES!C81","v":0},null,{"$f":"NAMES!$C$111","v":0},{"$f":"NAMES!$C$113","v":0},{"$f":"\" \"&NAMES!C109&NAMES!$E$6&NAMES!C110","v":" Block 4 Player 2"},{"$f":"NAMES!C112","v":0}]
[null,{"$f":"NAMES!$C$85","v":0},{"$f":"NAMES!$C$87","v":0},{"$f":"\" \"&NAMES!C83&NAMES!$E$6&NAMES!C84","v":" Block 3 Player 3"},{"$f":"NAMES!C86","v":0},null,{"$f":"NAMES!$C$116","v":0},{"$f":"NAMES!$C$118","v":0},{"$f":"\" \"&NAMES!C114&NAMES!$E$6&NAMES!C115","v":" Block 4 Player 3"},{"$f":"NAMES!C117","v":0}]
[null,{"$f":"NAMES!$C$90","v":0},{"$f":"NAMES!$C$92","v":0},{"$f":"\" \"&NAMES!C88&NAMES!$E$6&NAMES!C89","v":" Block 3 Player 4"},{"$f":"NAMES!C91","v":0},null,{"$f":"NAMES!$C$121","v":0},{"$f":"NAMES!$C$123","v":0},{"$f":"\" \"&NAMES!C119&NAMES!$E$6&NAMES!C120","v":" Block 4 Player 4"},{"$f":"NAMES!C122","v":0}]
[null,{"$f":"NAMES!$C$95","v":0},{"$f":"NAMES!$C$97","v":0},{"$f":"\" \"&NAMES!C93&NAMES!$E$6&NAMES!C94","v":" Block 3 Player 5"},{"$f":"NAMES!C96","v":0},null,{"$f":"NAMES!$C$126","v":0},{"$f":"NAMES!$C$128","v":0},{"$f":"\" \"&NAMES!C124&NAMES!$E$6&NAMES!C125","v":" Block 4 Player 5"},{"$f":"NAMES!C127","v":0}]
[null,{"$f":"NAMES!$C$100","v":0},{"$f":"NAMES!$C$102","v":0},{"$f":"\" \"&NAMES!C98&NAMES!$E$6&NAMES!C99","v":" Bye "},{"$f":"NAMES!C101","v":0},null,{"$f":"NAMES!$C$131","v":0},{"$f":"NAMES!$C$133","v":0},{"$f":"\" \"&NAMES!C129&NAMES!$E$6&NAMES!C130","v":" Bye "},{"$f":"NAMES!C132","v":0}]
[null,null,null,"Average Handicap",{"$f":"IF(ISERR(AVERAGE(E17:E22)),\" \",AVERAGE(E17:E22))","v":0},null,null,null,"Average Handicap",{"$f":"IF(ISERR(AVERAGE(J17:J22)),\" \",AVERAGE(J17:J22))","v":0}]
[null,null,null,{"$f":"NAMES!C165","v":0},null,null,null,null,{"$f":"NAMES!C196","v":0}]

{"sheet":"GAMES","index":4,"n_rows":73,"n_cols":11,"rows_kept":73,"cut":false,"hidden":false,"merged":[[2,9,2,10]]}
[]
[]
[null,{"$f":"SEED!D6","v":"BLOCK 1"},null,null,{"$f":"SEED!F4","v":"Singles"},null,null,null,null,"TEST DATA"]
[null,"TIME","DAY","COURT"]
[1,null,null,null,{"$f":"SEED!D8","v":" Block 1 Player 1"},"vs",{"$f":"SEED!D11","v":" Block 1 Player 4"},null,null,"08:00:00","2014-01-15"]
[2,null,null,null,{"$f":"SEED!D12","v":" Block 1 Player 5"},"vs",{"$f":"SEED!D10","v":" Block 1 Player 3"},null,null,"08:00:00","2014-01-15"]
[3,null,null,"--",{"$f":"SEED!D13","v":" Bye "},"vs",{"$f":"SEED!D9","v":" Block 1 Player 2"},null,null,"08:00:00","2014-01-15"]
[4,null,null,null,{"$f":"SEED!D10","v":" Block 1 Player 3"},"vs",{"$f":"SEED!D8","v":" Block 1 Player 1"},null,null,"09:00:00","2014-01-15"]
[5,null,null,null,{"$f":"SEED!D11","v":" Block 1 Player 4"},"vs",{"$f":"SEED!D9","v":" Block 1 Player 2"},null,null,"09:00:00","2014-01-15"]
[6,null,null,"--",{"$f":"SEED!D12","v":" Block 1 Player 5"},"vs",{"$f":"SEED!D13","v":" Bye "},null,null,"09:00:00","2014-01-15"]
[7,null,null,"--",{"$f":"SEED!D8","v":" Block 1 Player 1"},"vs",{"$f":"SEED!D13","v":" Bye "},null,null,"10:00:00","2014-01-15"]
[8,null,null,null,{"$f":"SEED!D9","v":" Block 1 Player 2"},"vs",{"$f":"SEED!D12","v":" Block 1 Player 5"},null,null,"10:00:00","2014-01-15"]
[9,null,null,null,{"$f":"SEED!D10","v":" Block 1 Player 3"},"vs",{"$f":"SEED!D11","v":" Block 1 Player 4"},null,null,"10:00:00","2014-01-15"]
[10,null,null,null,{"$f":"SEED!D12","v":" Block 1 Player 5"},"vs",{"$f":"SEED!D8","v":" Block 1 Player 1"},null,null,"11:00:00","2014-01-15"]
[11,null,null,"--",{"$f":"SEED!D13","v":" Bye "},"vs",{"$f":"SEED!D11","v":" Block 1 Player 4"},null,null,"11:00:00","2014-01-15"]
[12,null,null,null,{"$f":"SEED!D9","v":" Block 1 Player 2"},"vs",{"$f":"SEED!D10","v":" Block 1 Player 3"},null,null,"11:00:00","2014-01-15"]
[13,null,null,"--",{"$f":"SEED!D10","v":" Block 1 Player 3"},"vs",{"$f":"SEED!D13","v":" Bye "},null,null,"12:00:00","2014-01-15"]
[14,null,null,null,{"$f":"SEED!D11","v":" Block 1 Player 4"},"vs",{"$f":"SEED!D12","v":" Block 1 Player 5"},null,null,"12:00:00","2014-01-15"]
[15,null,null,null,{"$f":"SEED!D8","v":" Block 1 Player 1"},"vs",{"$f":"SEED!D9","v":" Block 1 Player 2"},null,null,"12:00:00","2014-01-15"]
[]
[null,{"$f":"SEED!I6","v":"BLOCK 2"},null,null,{"$f":"SEED!F4","v":"Singles"}]
[null,"TIME","DAY","COURT"]
[16,null,null,null,{"$f":"SEED!I8","v":" Block 2 Player 1"},"vs",{"$f":"SEED!I11","v":" Block 2 Player 4"}]
[17,null,null,null,{"$f":"SEED!I12","v":" Block 2 Player 5"},"vs",{"$f":"SEED!I10","v":" Block 2 Player 3"}]
[18,null,null,"--",{"$f":"SEED!I13","v":" Bye "},"vs",{"$f":"SEED!I9","v":" Block 2 Player 2"}]
[19,null,null,null,{"$f":"SEED!I10","v":" Block 2 Player 3"},"vs",{"$f":"SEED!I8","v":" Block 2 Player 1"}]
[20,null,null,null,{"$f":"SEED!I11","v":" Block 2 Player 4"},"vs",{"$f":"SEED!I9","v":" Block 2 Player 2"}]
[21,null,null,"--",{"$f":"SEED!I12","v":" Block 2 Player 5"},"vs",{"$f":"SEED!I13","v":" Bye "}]
[22,null,null,"--",{"$f":"SEED!I8","v":" Block 2 Player 1"},"vs",{"$f":"SEED!I13","v":" Bye "}]
[23,null,null,null,{"$f":"SEED!I9","v":" Block 2 Player 2"},"vs",{"$f":"SEED!I12","v":" Block 2 Player 5"}]
[24,null,null,null,{"$f":"SEED!I10","v":" Block 2 Player 3"},"vs",{"$f":"SEED!I11","v":" Block 2 Player 4"}]
[25,null,null,null,{"$f":"SEED!I12","v":" Block 2 Player 5"},"vs",{"$f":"SEED!I8","v":" Block 2 Player 1"}]
[26,null,null,"--",{"$f":"SEED!I13","v":" Bye "},"vs",{"$f":"SEED!I11","v":" Block 2 Player 4"}]
[27,null,null,null,{"$f":"SEED!I9","v":" Block 2 Player 2"},"vs",{"$f":"SEED!I10","v":" Block 2 Player 3"}]
[28,null,null,"--",{"$f":"SEED!I10","v":" Block 2 Player 3"},"vs",{"$f":"SEED!I13","v":" Bye "}]
[29,null,null,null,{"$f":"SEED!I11","v":" Block 2 Player 4"},"vs",{"$f":"SEED!I12","v":" Block 2 Player 5"}]
[30,null,null,null,{"$f":"SEED!I8","v":" Block 2 Player 1"},"vs",{"$f":"SEED!I9","v":" Block 2 Player 2"}]
[]
[null,{"$f":"SEED!D15","v":"BLOCK 3"},null,null,{"$f":"SEED!F4","v":"Singles"}]
[null,"TIME","DAY","COURT",".",".","."]
[31,null,null,null,{"$f":"SEED!D17","v":" Block 3 Player 1"},"vs",{"$f":"SEED!D20","v":" Block 3 Player 4"}]
[32,null,null,null,{"$f":"SEED!D21","v":" Block 3 Player 5"},"vs",{"$f":"SEED!D19","v":" Block 3 Player 3"}]
[33,null,null,"--",{"$f":"SEED!D22","v":" Bye "},"vs",{"$f":"SEED!D18","v":" Block 3 Player 2"}]
[34,null,null,null,{"$f":"SEED!D19","v":" Block 3 Player 3"},"vs",{"$f":"SEED!D17","v":" Block 3 Player 1"}]
[35,null,null,null,{"$f":"SEED!D20","v":" Block 3 Player 4"},"vs",{"$f":"SEED!D18","v":" Block 3 Player 2"}]
[36,null,null,"--",{"$f":"SEED!D21","v":" Block 3 Player 5"},"vs",{"$f":"SEED!D22","v":" Bye "}]
[37,null,null,"--",{"$f":"SEED!D17","v":" Block 3 Player 1"},"vs",{"$f":"SEED!D22","v":" Bye "}]
[38,null,null,null,{"$f":"SEED!D18","v":" Block 3 Player 2"},"vs",{"$f":"SEED!D21","v":" Block 3 Player 5"}]
[39,null,null,null,{"$f":"SEED!D19","v":" Block 3 Player 3"},"vs",{"$f":"SEED!D20","v":" Block 3 Player 4"}]
[40,null,null,null,{"$f":"SEED!D21","v":" Block 3 Player 5"},"vs",{"$f":"SEED!D17","v":" Block 3 Player 1"}]
[41,null,null,"--",{"$f":"SEED!D22","v":" Bye "},"vs",{"$f":"SEED!D20","v":" Block 3 Player 4"}]
[42,null,null,null,{"$f":"SEED!D18","v":" Block 3 Player 2"},"vs",{"$f":"SEED!D19","v":" Block 3 Player 3"}]
[43,null,null,"--",{"$f":"SEED!D19","v":" Block 3 Player 3"},"vs",{"$f":"SEED!D22","v":" Bye "}]
[44,null,null,null,{"$f":"SEED!D20","v":" Block 3 Player 4"},"vs",{"$f":"SEED!D21","v":" Block 3 Player 5"}]
[45,null,null,null,{"$f":"SEED!D17","v":" Block 3 Player 1"},"vs",{"$f":"SEED!D18","v":" Block 3 Player 2"}]
[]
[null,{"$f":"SEED!I15","v":"BLOCK 4"},null,null,{"$f":"SEED!F4","v":"Singles"}]
[null,"TIME","DAY","COURT"]
[46,null,null,null,{"$f":"SEED!I17","v":" Block 4 Player 1"},"vs",{"$f":"SEED!I20","v":" Block 4 Player 4"}]
[47,null,null,null,{"$f":"SEED!I21","v":" Block 4 Player 5"},"vs",{"$f":"SEED!I19","v":" Block 4 Player 3"}]
[48,null,null,"--",{"$f":"SEED!I22","v":" Bye "},"vs",{"$f":"SEED!I18","v":" Block 4 Player 2"}]
[49,null,null,null,{"$f":"SEED!I19","v":" Block 4 Player 3"},"vs",{"$f":"SEED!I17","v":" Block 4 Player 1"}]
[50,null,null,null,{"$f":"SEED!I20","v":" Block 4 Player 4"},"vs",{"$f":"SEED!I18","v":" Block 4 Player 2"}]
[51,null,null,"--",{"$f":"SEED!I21","v":" Block 4 Player 5"},"vs",{"$f":"SEED!I22","v":" Bye "}]
[52,null,null,"--",{"$f":"SEED!I17","v":" Block 4 Player 1"},"vs",{"$f":"SEED!I22","v":" Bye "}]
[53,null,null,null,{"$f":"SEED!I18","v":" Block 4 Player 2"},"vs",{"$f":"SEED!I21","v":" Block 4 Player 5"}]
[54,null,null,null,{"$f":"SEED!I19","v":" Block 4 Player 3"},"vs",{"$f":"SEED!I20","v":" Block 4 Player 4"}]
[55,null,null,null,{"$f":"SEED!I21","v":" Block 4 Player 5"},"vs",{"$f":"SEED!I17","v":" Block 4 Player 1"}]
[56,null,null,"--",{"$f":"SEED!I22","v":" Bye "},"vs",{"$f":"SEED!I20","v":" Block 4 Player 4"}]
[57,null,null,null,{"$f":"SEED!I18","v":" Block 4 Player 2"},"vs",{"$f":"SEED!I19","v":" Block 4 Player 3"}]
[58,null,null,"--",{"$f":"SEED!I19","v":" Block 4 Player 3"},"vs",{"$f":"SEED!I22","v":" Bye "}]
[59,null,null,null,{"$f":"SEED!I20","v":" Block 4 Player 4"},"vs",{"$f":"SEED!I21","v":" Block 4 Player 5"}]
[60,null,null,null,{"$f":"SEED!I17","v":" Block 4 Player 1"},"vs",{"$f":"SEED!I18","v":" Block 4 Player 2"}]

{"sheet":"RESULTS","index":5,"n_rows":62,"n_cols":16,"rows_kept":62,"cut":false,"hidden":true,"merged":[]}
[]
[null,null,null,null,null,null,null,null,null,null,null,null,null,null,null,"Peel LU Table"]
[null,null,null,null,null,null,null,null,null,null,null,null,null,null,null,"tp"]
[null,{"$f":"GAMES!$E$3","v":"Singles"},null,null,null,{"$f":"GAMES!B3","v":"BLOCK 1"},null,null,null,null,null,null,null,null,null,"stp"]
[null,null,{"$f":"GAMES!E5","v":" Block 1 Player 1"},{"$f":"'RESULTS DATA'!D4","v":-1E-3},{"$f":"'RESULTS DATA'!E4","v":-1E-3},null,{"$f":"GAMES!E10","v":" Block 1 Player 5"},{"$f":"'RESULTS DATA'!D14","v":-1E-3},{"$f":"'RESULTS DATA'!E14","v":-1E-3},null,{"$f":"GAMES!E15","v":" Bye "},{"$f":"'RESULTS DATA'!D24","v":-1E-3},{"$f":"'RESULTS DATA'!E24","v":-1E-3},null,null,"stop"]
[null,null,{"$f":"GAMES!G5","v":" Block 1 Player 4"},{"$f":"'RESULTS DATA'!D5","v":-1E-3},{"$f":"'RESULTS DATA'!E5","v":-1E-3},null,{"$f":"GAMES!G10","v":" Bye "},{"$f":"'RESULTS DATA'!D15","v":-1E-3},{"$f":"'RESULTS DATA'!E15","v":-1E-3},null,{"$f":"GAMES!G15","v":" Block 1 Player 4"},{"$f":"'RESULTS DATA'!D25","v":-1E-3},{"$f":"'RESULTS DATA'!E25","v":-1E-3},null,null,"tpo"]
[null,null,{"$f":"GAMES!E6","v":" Block 1 Player 5"},{"$f":"'RESULTS DATA'!D6","v":-1E-3},{"$f":"'RESULTS DATA'!E6","v":-1E-3},null,{"$f":"GAMES!E11","v":" Block 1 Player 1"},{"$f":"'RESULTS DATA'!D16","v":-1E-3},{"$f":"'RESULTS DATA'!E16","v":-1E-3},null,{"$f":"GAMES!E16","v":" Block 1 Player 2"},{"$f":"'RESULTS DATA'!D26","v":-1E-3},{"$f":"'RESULTS DATA'!E26","v":-1E-3},null,null,"otp"]
[null,null,{"$f":"GAMES!G6","v":" Block 1 Player 3"},{"$f":"'RESULTS DATA'!D7","v":-1E-3},{"$f":"'RESULTS DATA'!E7","v":-1E-3},null,{"$f":"GAMES!G11","v":" Bye "},{"$f":"'RESULTS DATA'!D17","v":-1E-3},{"$f":"'RESULTS DATA'!E17","v":-1E-3},null,{"$f":"GAMES!G16","v":" Block 1 Player 3"},{"$f":"'RESULTS DATA'!D27","v":-1E-3},{"$f":"'RESULTS DATA'!E27","v":-1E-3},null,null,"oqp"]
[null,null,{"$f":"GAMES!E7","v":" Bye "},{"$f":"'RESULTS DATA'!D8","v":-1E-3},{"$f":"'RESULTS DATA'!E8","v":-1E-3},null,{"$f":"GAMES!E12","v":" Block 1 Player 2"},{"$f":"'RESULTS DATA'!D18","v":-1E-3},{"$f":"'RESULTS DATA'!E18","v":-1E-3},null,{"$f":"GAMES!E17","v":" Block 1 Player 3"},{"$f":"'RESULTS DATA'!D28","v":-1E-3},{"$f":"'RESULTS DATA'!E28","v":-1E-3},null,null,"qp"]
[null,null,{"$f":"GAMES!G7","v":" Block 1 Player 2"},{"$f":"'RESULTS DATA'!D9","v":-1E-3},{"$f":"'RESULTS DATA'!E9","v":-1E-3},null,{"$f":"GAMES!G12","v":" Block 1 Player 5"},{"$f":"'RESULTS DATA'!D19","v":-1E-3},{"$f":"'RESULTS DATA'!E19","v":-1E-3},null,{"$f":"GAMES!G17","v":" Bye "},{"$f":"'RESULTS DATA'!D29","v":-1E-3},{"$f":"'RESULTS DATA'!E29","v":-1E-3},null,null,"qpo"]
[null,null,{"$f":"GAMES!E8","v":" Block 1 Player 3"},{"$f":"'RESULTS DATA'!D10","v":-1E-3},{"$f":"'RESULTS DATA'!E10","v":-1E-3},null,{"$f":"GAMES!E13","v":" Block 1 Player 3"},{"$f":"'RESULTS DATA'!D20","v":-1E-3},{"$f":"'RESULTS DATA'!E20","v":-1E-3},null,{"$f":"GAMES!E18","v":" Block 1 Player 4"},{"$f":"'RESULTS DATA'!D30","v":-1E-3},{"$f":"'RESULTS DATA'!E30","v":-1E-3},null,null,"sqp"]
[null,null,{"$f":"GAMES!G8","v":" Block 1 Player 1"},{"$f":"'RESULTS DATA'!D11","v":-1E-3},{"$f":"'RESULTS DATA'!E11","v":-1E-3},null,{"$f":"GAMES!G13","v":" Block 1 Player 4"},{"$f":"'RESULTS DATA'!D21","v":-1E-3},{"$f":"'RESULTS DATA'!E21","v":-1E-3},null,{"$f":"GAMES!G18","v":" Block 1 Player 5"},{"$f":"'RESULTS DATA'!D31","v":-1E-3},{"$f":"'RESULTS DATA'!E31","v":-1E-3},null,null,"oqnp"]
[null,null,{"$f":"GAMES!E9","v":" Block 1 Player 4"},{"$f":"'RESULTS DATA'!D12","v":-1E-3},{"$f":"'RESULTS DATA'!E12","v":-1E-3},null,{"$f":"GAMES!E14","v":" Block 1 Player 5"},{"$f":"'RESULTS DATA'!D22","v":-1E-3},{"$f":"'RESULTS DATA'!E22","v":-1E-3},null,{"$f":"GAMES!E19","v":" Block 1 Player 1"},{"$f":"'RESULTS DATA'!D32","v":-1E-3},{"$f":"'RESULTS DATA'!E32","v":-1E-3},null,null,"qnp"]
[null,null,{"$f":"GAMES!G9","v":" Block 1 Player 2"},{"$f":"'RESULTS DATA'!D13","v":-1E-3},{"$f":"'RESULTS DATA'!E13","v":-1E-3},null,{"$f":"GAMES!G14","v":" Block 1 Player 1"},{"$f":"'RESULTS DATA'!D23","v":-1E-3},{"$f":"'RESULTS DATA'!E23","v":-1E-3},null,{"$f":"GAMES!G19","v":" Block 1 Player 2"},{"$f":"'RESULTS DATA'!D33","v":-1E-3},{"$f":"'RESULTS DATA'!E33","v":-1E-3},null,null,"qnpo"]
[null,null,null,null,null,null,null,null,null,null,null,null,null,null,null,"osxp"]
[null,null,null,null,null,null,null,null,null,null,null,null,null,null,null,"sxp"]
[null,null,null,null,null,null,null,null,null,null,null,null,null,null,null,"ssxp"]
[null,null,null,null,null,null,null,null,null,null,null,null,null,null,null,"sxpo"]
[null,null,null,null,null,null,null,null,null,null,null,null,null,null,null,"spp"]
[null,{"$f":"GAMES!E21","v":"Singles"},null,null,null,{"$f":"GAMES!B21","v":"BLOCK 2"},null,null,null,null,null,null,null,null,null,"octp"]
[null,null,{"$f":"GAMES!E23","v":" Block 2 Player 1"},{"$f":"'RESULTS DATA'!H4","v":-1E-3},{"$f":"'RESULTS DATA'!I4","v":-1E-3},null,{"$f":"GAMES!E28","v":" Block 2 Player 5"},{"$f":"'RESULTS DATA'!H14","v":-1E-3},{"$f":"'RESULTS DATA'!I14","v":-1E-3},null,{"$f":"GAMES!E33","v":" Bye "},{"$f":"'RESULTS DATA'!H24","v":-1E-3},{"$f":"'RESULTS DATA'!I24","v":-1E-3},null,null,"nnp"]
[null,null,{"$f":"GAMES!G23","v":" Block 2 Player 4"},{"$f":"'RESULTS DATA'!H5","v":-1E-3},{"$f":"'RESULTS DATA'!I5","v":-1E-3},null,{"$f":"GAMES!G28","v":" Bye "},{"$f":"'RESULTS DATA'!H15","v":-1E-3},{"$f":"'RESULTS DATA'!I15","v":-1E-3},null,{"$f":"GAMES!G33","v":" Block 2 Player 4"},{"$f":"'RESULTS DATA'!H25","v":-1E-3},{"$f":"'RESULTS DATA'!I25","v":-1E-3},null,null,"dcp"]
[null,null,{"$f":"GAMES!E24","v":" Block 2 Player 5"},{"$f":"'RESULTS DATA'!H6","v":-1E-3},{"$f":"'RESULTS DATA'!I6","v":-1E-3},null,{"$f":"GAMES!E29","v":" Block 2 Player 1"},{"$f":"'RESULTS DATA'!H16","v":-1E-3},{"$f":"'RESULTS DATA'!I16","v":-1E-3},null,{"$f":"GAMES!E34","v":" Block 2 Player 2"},{"$f":"'RESULTS DATA'!H26","v":-1E-3},{"$f":"'RESULTS DATA'!I26","v":-1E-3}]
[null,null,{"$f":"GAMES!G24","v":" Block 2 Player 3"},{"$f":"'RESULTS DATA'!H7","v":-1E-3},{"$f":"'RESULTS DATA'!I7","v":-1E-3},null,{"$f":"GAMES!G29","v":" Bye "},{"$f":"'RESULTS DATA'!H17","v":-1E-3},{"$f":"'RESULTS DATA'!I17","v":-1E-3},null,{"$f":"GAMES!G34","v":" Block 2 Player 3"},{"$f":"'RESULTS DATA'!H27","v":-1E-3},{"$f":"'RESULTS DATA'!I27","v":-1E-3}]
[null,null,{"$f":"GAMES!E25","v":" Bye "},{"$f":"'RESULTS DATA'!H8","v":-1E-3},{"$f":"'RESULTS DATA'!I8","v":-1E-3},null,{"$f":"GAMES!E30","v":" Block 2 Player 2"},{"$f":"'RESULTS DATA'!H18","v":-1E-3},{"$f":"'RESULTS DATA'!I18","v":-1E-3},null,{"$f":"GAMES!E35","v":" Block 2 Player 3"},{"$f":"'RESULTS DATA'!H28","v":-1E-3},{"$f":"'RESULTS DATA'!I28","v":-1E-3},null,"FirstTime","YES"]
[null,null,{"$f":"GAMES!G25","v":" Block 2 Player 2"},{"$f":"'RESULTS DATA'!H9","v":-1E-3},{"$f":"'RESULTS DATA'!I9","v":-1E-3},null,{"$f":"GAMES!G30","v":" Block 2 Player 5"},{"$f":"'RESULTS DATA'!H19","v":-1E-3},{"$f":"'RESULTS DATA'!I19","v":-1E-3},null,{"$f":"GAMES!G35","v":" Bye "},{"$f":"'RESULTS DATA'!H29","v":-1E-3},{"$f":"'RESULTS DATA'!I29","v":-1E-3},null,"NumberOfBlocks",4]
[null,null,{"$f":"GAMES!E26","v":" Block 2 Player 3"},{"$f":"'RESULTS DATA'!H10","v":-1E-3},{"$f":"'RESULTS DATA'!I10","v":-1E-3},null,{"$f":"GAMES!E31","v":" Block 2 Player 3"},{"$f":"'RESULTS DATA'!H20","v":-1E-3},{"$f":"'RESULTS DATA'!I20","v":-1E-3},null,{"$f":"GAMES!E36","v":" Block 2 Player 4"},{"$f":"'RESULTS DATA'!H30","v":-1E-3},{"$f":"'RESULTS DATA'!I30","v":-1E-3}]
[null,null,{"$f":"GAMES!G26","v":" Block 2 Player 1"},{"$f":"'RESULTS DATA'!H11","v":-1E-3},{"$f":"'RESULTS DATA'!I11","v":-1E-3},null,{"$f":"GAMES!G31","v":" Block 2 Player 4"},{"$f":"'RESULTS DATA'!H21","v":-1E-3},{"$f":"'RESULTS DATA'!I21","v":-1E-3},null,{"$f":"GAMES!G36","v":" Block 2 Player 5"},{"$f":"'RESULTS DATA'!H31","v":-1E-3},{"$f":"'RESULTS DATA'!I31","v":-1E-3}]
[null,null,{"$f":"GAMES!E27","v":" Block 2 Player 4"},{"$f":"'RESULTS DATA'!H12","v":-1E-3},{"$f":"'RESULTS DATA'!I12","v":-1E-3},null,{"$f":"GAMES!E32","v":" Block 2 Player 5"},{"$f":"'RESULTS DATA'!H22","v":-1E-3},{"$f":"'RESULTS DATA'!I22","v":-1E-3},null,{"$f":"GAMES!E37","v":" Block 2 Player 1"},{"$f":"'RESULTS DATA'!H32","v":-1E-3},{"$f":"'RESULTS DATA'!I32","v":-1E-3}]
[null,null,{"$f":"GAMES!G27","v":" Block 2 Player 2"},{"$f":"'RESULTS DATA'!H13","v":-1E-3},{"$f":"'RESULTS DATA'!I13","v":-1E-3},null,{"$f":"GAMES!G32","v":" Block 2 Player 1"},{"$f":"'RESULTS DATA'!H23","v":-1E-3},{"$f":"'RESULTS DATA'!I23","v":-1E-3},null,{"$f":"GAMES!G37","v":" Block 2 Player 2"},{"$f":"'RESULTS DATA'!H33","v":-1E-3},{"$f":"'RESULTS DATA'!I33","v":-1E-3}]
[]
[]
[]
[]
[]
[null,{"$f":"GAMES!E39","v":"Singles"},null,null,null,{"$f":"GAMES!B39","v":"BLOCK 3"}]
[null,null,{"$f":"GAMES!E41","v":" Block 3 Player 1"},{"$f":"'RESULTS DATA'!L4","v":-1E-3},{"$f":"'RESULTS DATA'!M4","v":-1E-3},null,{"$f":"GAMES!E46","v":" Block 3 Player 5"},{"$f":"'RESULTS DATA'!L14","v":-1E-3},{"$f":"'RESULTS DATA'!M14","v":-1E-3},null,{"$f":"GAMES!E51","v":" Bye "},{"$f":"'RESULTS DATA'!L24","v":-1E-3},{"$f":"'RESULTS DATA'!M24","v":-1E-3}]
[null,null,{"$f":"GAMES!G41","v":" Block 3 Player 4"},{"$f":"'RESULTS DATA'!L5","v":-1E-3},{"$f":"'RESULTS DATA'!M5","v":-1E-3},null,{"$f":"GAMES!G46","v":" Bye "},{"$f":"'RESULTS DATA'!L15","v":-1E-3},{"$f":"'RESULTS DATA'!M15","v":-1E-3},null,{"$f":"GAMES!G51","v":" Block 3 Player 4"},{"$f":"'RESULTS DATA'!L25","v":-1E-3},{"$f":"'RESULTS DATA'!M25","v":-1E-3}]
[null,null,{"$f":"GAMES!E42","v":" Block 3 Player 5"},{"$f":"'RESULTS DATA'!L6","v":-1E-3},{"$f":"'RESULTS DATA'!M6","v":-1E-3},null,{"$f":"GAMES!E47","v":" Block 3 Player 1"},{"$f":"'RESULTS DATA'!L16","v":-1E-3},{"$f":"'RESULTS DATA'!M16","v":-1E-3},null,{"$f":"GAMES!E52","v":" Block 3 Player 2"},{"$f":"'RESULTS DATA'!L26","v":-1E-3},{"$f":"'RESULTS DATA'!M26","v":-1E-3}]
[null,null,{"$f":"GAMES!G42","v":" Block 3 Player 3"},{"$f":"'RESULTS DATA'!L7","v":-1E-3},{"$f":"'RESULTS DATA'!M7","v":-1E-3},null,{"$f":"GAMES!G47","v":" Bye "},{"$f":"'RESULTS DATA'!L17","v":-1E-3},{"$f":"'RESULTS DATA'!M17","v":-1E-3},null,{"$f":"GAMES!G52","v":" Block 3 Player 3"},{"$f":"'RESULTS DATA'!L27","v":-1E-3},{"$f":"'RESULTS DATA'!M27","v":-1E-3}]
[null,null,{"$f":"GAMES!E43","v":" Bye "},{"$f":"'RESULTS DATA'!L8","v":-1E-3},{"$f":"'RESULTS DATA'!M8","v":-1E-3},null,{"$f":"GAMES!E48","v":" Block 3 Player 2"},{"$f":"'RESULTS DATA'!L18","v":-1E-3},{"$f":"'RESULTS DATA'!M18","v":-1E-3},null,{"$f":"GAMES!E53","v":" Block 3 Player 3"},{"$f":"'RESULTS DATA'!L28","v":-1E-3},{"$f":"'RESULTS DATA'!M28","v":-1E-3}]
[null,null,{"$f":"GAMES!G43","v":" Block 3 Player 2"},{"$f":"'RESULTS DATA'!L9","v":-1E-3},{"$f":"'RESULTS DATA'!M9","v":-1E-3},null,{"$f":"GAMES!G48","v":" Block 3 Player 5"},{"$f":"'RESULTS DATA'!L19","v":-1E-3},{"$f":"'RESULTS DATA'!M19","v":-1E-3},null,{"$f":"GAMES!G53","v":" Bye "},{"$f":"'RESULTS DATA'!L29","v":-1E-3},{"$f":"'RESULTS DATA'!M29","v":-1E-3}]
[null,null,{"$f":"GAMES!E44","v":" Block 3 Player 3"},{"$f":"'RESULTS DATA'!L10","v":-1E-3},{"$f":"'RESULTS DATA'!M10","v":-1E-3},null,{"$f":"GAMES!E49","v":" Block 3 Player 3"},{"$f":"'RESULTS DATA'!L20","v":-1E-3},{"$f":"'RESULTS DATA'!M20","v":-1E-3},null,{"$f":"GAMES!E54","v":" Block 3 Player 4"},{"$f":"'RESULTS DATA'!L30","v":-1E-3},{"$f":"'RESULTS DATA'!M30","v":-1E-3}]
[null,null,{"$f":"GAMES!G44","v":" Block 3 Player 1"},{"$f":"'RESULTS DATA'!L11","v":-1E-3},{"$f":"'RESULTS DATA'!M11","v":-1E-3},null,{"$f":"GAMES!G49","v":" Block 3 Player 4"},{"$f":"'RESULTS DATA'!L21","v":-1E-3},{"$f":"'RESULTS DATA'!M21","v":-1E-3},null,{"$f":"GAMES!G54","v":" Block 3 Player 5"},{"$f":"'RESULTS DATA'!L31","v":-1E-3},{"$f":"'RESULTS DATA'!M31","v":-1E-3}]
[null,null,{"$f":"GAMES!E45","v":" Block 3 Player 4"},{"$f":"'RESULTS DATA'!L12","v":-1E-3},{"$f":"'RESULTS DATA'!M12","v":-1E-3},null,{"$f":"GAMES!E50","v":" Block 3 Player 5"},{"$f":"'RESULTS DATA'!L22","v":-1E-3},{"$f":"'RESULTS DATA'!M22","v":-1E-3},null,{"$f":"GAMES!E55","v":" Block 3 Player 1"},{"$f":"'RESULTS DATA'!L32","v":-1E-3},{"$f":"'RESULTS DATA'!M32","v":-1E-3}]
[null,null,{"$f":"GAMES!G45","v":" Block 3 Player 2"},{"$f":"'RESULTS DATA'!L13","v":-1E-3},{"$f":"'RESULTS DATA'!M13","v":-1E-3},null,{"$f":"GAMES!G50","v":" Block 3 Player 1"},{"$f":"'RESULTS DATA'!L23","v":-1E-3},{"$f":"'RESULTS DATA'!M23","v":-1E-3},null,{"$f":"GAMES!G55","v":" Block 3 Player 2"},{"$f":"'RESULTS DATA'!L33","v":-1E-3},{"$f":"'RESULTS DATA'!M33","v":-1E-3}]
[]
[]
[]
[]
[]
[null,{"$f":"GAMES!E57","v":"Singles"},null,null,null,{"$f":"GAMES!B57","v":"BLOCK 4"}]
[null,null,{"$f":"GAMES!E59","v":" Block 4 Player 1"},{"$f":"'RESULTS DATA'!P4","v":-1E-3},{"$f":"'RESULTS DATA'!Q4","v":-1E-3},null,{"$f":"GAMES!E64","v":" Block 4 Player 5"},{"$f":"'RESULTS DATA'!P14","v":-1E-3},{"$f":"'RESULTS DATA'!Q14","v":-1E-3},null,{"$f":"GAMES!E69","v":" Bye "},{"$f":"'RESULTS DATA'!P24","v":-1E-3},{"$f":"'RESULTS DATA'!Q24","v":-1E-3}]
[null,null,{"$f":"GAMES!G59","v":" Block 4 Player 4"},{"$f":"'RESULTS DATA'!P5","v":-1E-3},{"$f":"'RESULTS DATA'!Q5","v":-1E-3},null,{"$f":"GAMES!G64","v":" Bye "},{"$f":"'RESULTS DATA'!P15","v":-1E-3},{"$f":"'RESULTS DATA'!Q15","v":-1E-3},null,{"$f":"GAMES!G69","v":" Block 4 Player 4"},{"$f":"'RESULTS DATA'!P25","v":-1E-3},{"$f":"'RESULTS DATA'!Q25","v":-1E-3}]
[null,null,{"$f":"GAMES!E60","v":" Block 4 Player 5"},{"$f":"'RESULTS DATA'!P6","v":-1E-3},{"$f":"'RESULTS DATA'!Q6","v":-1E-3},null,{"$f":"GAMES!E65","v":" Block 4 Player 1"},{"$f":"'RESULTS DATA'!P16","v":-1E-3},{"$f":"'RESULTS DATA'!Q16","v":-1E-3},null,{"$f":"GAMES!E70","v":" Block 4 Player 2"},{"$f":"'RESULTS DATA'!P26","v":-1E-3},{"$f":"'RESULTS DATA'!Q26","v":-1E-3}]
[null,null,{"$f":"GAMES!G60","v":" Block 4 Player 3"},{"$f":"'RESULTS DATA'!P7","v":-1E-3},{"$f":"'RESULTS DATA'!Q7","v":-1E-3},null,{"$f":"GAMES!G65","v":" Bye "},{"$f":"'RESULTS DATA'!P17","v":-1E-3},{"$f":"'RESULTS DATA'!Q17","v":-1E-3},null,{"$f":"GAMES!G70","v":" Block 4 Player 3"},{"$f":"'RESULTS DATA'!P27","v":-1E-3},{"$f":"'RESULTS DATA'!Q27","v":-1E-3}]
[null,null,{"$f":"GAMES!E61","v":" Bye "},{"$f":"'RESULTS DATA'!P8","v":-1E-3},{"$f":"'RESULTS DATA'!Q8","v":-1E-3},null,{"$f":"GAMES!E66","v":" Block 4 Player 2"},{"$f":"'RESULTS DATA'!P18","v":-1E-3},{"$f":"'RESULTS DATA'!Q18","v":-1E-3},null,{"$f":"GAMES!E71","v":" Block 4 Player 3"},{"$f":"'RESULTS DATA'!P28","v":-1E-3},{"$f":"'RESULTS DATA'!Q28","v":-1E-3}]
[null,null,{"$f":"GAMES!G61","v":" Block 4 Player 2"},{"$f":"'RESULTS DATA'!P9","v":-1E-3},{"$f":"'RESULTS DATA'!Q9","v":-1E-3},null,{"$f":"GAMES!G66","v":" Block 4 Player 5"},{"$f":"'RESULTS DATA'!P19","v":-1E-3},{"$f":"'RESULTS DATA'!Q19","v":-1E-3},null,{"$f":"GAMES!G71","v":" Bye "},{"$f":"'RESULTS DATA'!P29","v":-1E-3},{"$f":"'RESULTS DATA'!Q29","v":-1E-3}]
[null,null,{"$f":"GAMES!E62","v":" Block 4 Player 3"},{"$f":"'RESULTS DATA'!P10","v":-1E-3},{"$f":"'RESULTS DATA'!Q10","v":-1E-3},null,{"$f":"GAMES!E67","v":" Block 4 Player 3"},{"$f":"'RESULTS DATA'!P20","v":-1E-3},{"$f":"'RESULTS DATA'!Q20","v":-1E-3},null,{"$f":"GAMES!E72","v":" Block 4 Player 4"},{"$f":"'RESULTS DATA'!P30","v":-1E-3},{"$f":"'RESULTS DATA'!Q30","v":-1E-3}]
[null,null,{"$f":"GAMES!G62","v":" Block 4 Player 1"},{"$f":"'RESULTS DATA'!P11","v":-1E-3},{"$f":"'RESULTS DATA'!Q11","v":-1E-3},null,{"$f":"GAMES!G67","v":" Block 4 Player 4"},{"$f":"'RESULTS DATA'!P21","v":-1E-3},{"$f":"'RESULTS DATA'!Q21","v":-1E-3},null,{"$f":"GAMES!G72","v":" Block 4 Player 5"},{"$f":"'RESULTS DATA'!P31","v":-1E-3},{"$f":"'RESULTS DATA'!Q31","v":-1E-3}]
[null,null,{"$f":"GAMES!E63","v":" Block 4 Player 4"},{"$f":"'RESULTS DATA'!P12","v":-1E-3},{"$f":"'RESULTS DATA'!Q12","v":-1E-3},null,{"$f":"GAMES!E68","v":" Block 4 Player 5"},{"$f":"'RESULTS DATA'!P22","v":-1E-3},{"$f":"'RESULTS DATA'!Q22","v":-1E-3},null,{"$f":"GAMES!E73","v":" Block 4 Player 1"},{"$f":"'RESULTS DATA'!P32","v":-1E-3},{"$f":"'RESULTS DATA'!Q32","v":-1E-3}]
[null,null,{"$f":"GAMES!G63","v":" Block 4 Player 2"},{"$f":"'RESULTS DATA'!P13","v":-1E-3},{"$f":"'RESULTS DATA'!Q13","v":-1E-3},null,{"$f":"GAMES!G68","v":" Block 4 Player 1"},{"$f":"'RESULTS DATA'!P23","v":-1E-3},{"$f":"'RESULTS DATA'!Q23","v":-1E-3},null,{"$f":"GAMES!G73","v":" Block 4 Player 2"},{"$f":"'RESULTS DATA'!P33","v":-1E-3},{"$f":"'RESULTS DATA'!Q33","v":-1E-3}]

{"sheet":"RESULTS DATA","index":6,"n_rows":33,"n_cols":19,"rows_kept":33,"cut":false,"hidden":true,"merged":[[2,17,2,19]]}
[]
[]
[null,"BLOCK 1",null,null,null,"BLOCK 2",null,null,null,"BLOCK 3",null,null,null,"BLOCK 4",null,null,null,"TEST SCORES"]
[null,{"$f":"SEED!D8","v":" Block 1 Player 1"},{"$f":"RESULTS!C5","v":" Block 1 Player 1"},-1E-3,-1E-3,{"$f":"SEED!I8","v":" Block 2 Player 1"},{"$f":"RESULTS!C21","v":" Block 2 Player 1"},-1E-3,-1E-3,{"$f":"SEED!D17","v":" Block 3 Player 1"},{"$f":"RESULTS!C37","v":" Block 3 Player 1"},-1E-3,-1E-3,{"$f":"SEED!I17","v":" Block 4 Player 1"},{"$f":"RESULTS!C53","v":" Block 4 Player 1"},-1E-3,-1E-3,null,1]
[null,{"$f":"SEED!D9","v":" Block 1 Player 2"},{"$f":"RESULTS!C6","v":" Block 1 Player 4"},-1E-3,-1E-3,{"$f":"SEED!I9","v":" Block 2 Player 2"},{"$f":"RESULTS!C22","v":" Block 2 Player 4"},-1E-3,-1E-3,{"$f":"SEED!D18","v":" Block 3 Player 2"},{"$f":"RESULTS!C38","v":" Block 3 Player 4"},-1E-3,-1E-3,{"$f":"SEED!I18","v":" Block 4 Player 2"},{"$f":"RESULTS!C54","v":" Block 4 Player 4"},-1E-3,-1E-3,null,4]
[null,{"$f":"SEED!D10","v":" Block 1 Player 3"},{"$f":"RESULTS!C7","v":" Block 1 Player 5"},-1E-3,-1E-3,{"$f":"SEED!I10","v":" Block 2 Player 3"},{"$f":"RESULTS!C23","v":" Block 2 Player 5"},-1E-3,-1E-3,{"$f":"SEED!D19","v":" Block 3 Player 3"},{"$f":"RESULTS!C39","v":" Block 3 Player 5"},-1E-3,-1E-3,{"$f":"SEED!I19","v":" Block 4 Player 3"},{"$f":"RESULTS!C55","v":" Block 4 Player 5"},-1E-3,-1E-3,null,5]
[null,{"$f":"SEED!D11","v":" Block 1 Player 4"},{"$f":"RESULTS!C8","v":" Block 1 Player 3"},-1E-3,-1E-3,{"$f":"SEED!I11","v":" Block 2 Player 4"},{"$f":"RESULTS!C24","v":" Block 2 Player 3"},-1E-3,-1E-3,{"$f":"SEED!D20","v":" Block 3 Player 4"},{"$f":"RESULTS!C40","v":" Block 3 Player 3"},-1E-3,-1E-3,{"$f":"SEED!I20","v":" Block 4 Player 4"},{"$f":"RESULTS!C56","v":" Block 4 Player 3"},-1E-3,-1E-3,null,3]
[null,{"$f":"SEED!D12","v":" Block 1 Player 5"},{"$f":"RESULTS!C9","v":" Bye "},-1E-3,-1E-3,{"$f":"SEED!I12","v":" Block 2 Player 5"},{"$f":"RESULTS!C25","v":" Bye "},-1E-3,-1E-3,{"$f":"SEED!D21","v":" Block 3 Player 5"},{"$f":"RESULTS!C41","v":" Bye "},-1E-3,-1E-3,{"$f":"SEED!I21","v":" Block 4 Player 5"},{"$f":"RESULTS!C57","v":" Bye "},-1E-3,-1E-3,null,6]
[null,{"$f":"SEED!D13","v":" Bye "},{"$f":"RESULTS!C10","v":" Block 1 Player 2"},-1E-3,-1E-3,{"$f":"SEED!I13","v":" Bye "},{"$f":"RESULTS!C26","v":" Block 2 Player 2"},-1E-3,-1E-3,{"$f":"SEED!D22","v":" Bye "},{"$f":"RESULTS!C42","v":" Block 3 Player 2"},-1E-3,-1E-3,{"$f":"SEED!I22","v":" Bye "},{"$f":"RESULTS!C58","v":" Block 4 Player 2"},-1E-3,-1E-3,null,2]
[null,null,{"$f":"RESULTS!C11","v":" Block 1 Player 3"},-1E-3,-1E-3,null,{"$f":"RESULTS!C27","v":" Block 2 Player 3"},-1E-3,-1E-3,null,{"$f":"RESULTS!C43","v":" Block 3 Player 3"},-1E-3,-1E-3,null,{"$f":"RESULTS!C59","v":" Block 4 Player 3"},-1E-3,-1E-3,null,3]
[null,null,{"$f":"RESULTS!C12","v":" Block 1 Player 1"},-1E-3,-1E-3,null,{"$f":"RESULTS!C28","v":" Block 2 Player 1"},-1E-3,-1E-3,null,{"$f":"RESULTS!C44","v":" Block 3 Player 1"},-1E-3,-1E-3,null,{"$f":"RESULTS!C60","v":" Block 4 Player 1"},-1E-3,-1E-3,null,1]
[null,null,{"$f":"RESULTS!C13","v":" Block 1 Player 4"},-1E-3,-1E-3,null,{"$f":"RESULTS!C29","v":" Block 2 Player 4"},-1E-3,-1E-3,null,{"$f":"RESULTS!C45","v":" Block 3 Player 4"},-1E-3,-1E-3,null,{"$f":"RESULTS!C61","v":" Block 4 Player 4"},-1E-3,-1E-3,null,4]
[null,null,{"$f":"RESULTS!C14","v":" Block 1 Player 2"},-1E-3,-1E-3,null,{"$f":"RESULTS!C30","v":" Block 2 Player 2"},-1E-3,-1E-3,null,{"$f":"RESULTS!C46","v":" Block 3 Player 2"},-1E-3,-1E-3,null,{"$f":"RESULTS!C62","v":" Block 4 Player 2"},-1E-3,-1E-3,null,2]
[null,null,{"$f":"RESULTS!G5","v":" Block 1 Player 5"},-1E-3,-1E-3,null,{"$f":"RESULTS!G21","v":" Block 2 Player 5"},-1E-3,-1E-3,null,{"$f":"RESULTS!G37","v":" Block 3 Player 5"},-1E-3,-1E-3,null,{"$f":"RESULTS!G53","v":" Block 4 Player 5"},-1E-3,-1E-3,null,5]
[null,null,{"$f":"RESULTS!G6","v":" Bye "},-1E-3,-1E-3,null,{"$f":"RESULTS!G22","v":" Bye "},-1E-3,-1E-3,null,{"$f":"RESULTS!G38","v":" Bye "},-1E-3,-1E-3,null,{"$f":"RESULTS!G54","v":" Bye "},-1E-3,-1E-3,null,6]
[null,null,{"$f":"RESULTS!G7","v":" Block 1 Player 1"},-1E-3,-1E-3,null,{"$f":"RESULTS!G23","v":" Block 2 Player 1"},-1E-3,-1E-3,null,{"$f":"RESULTS!G39","v":" Block 3 Player 1"},-1E-3,-1E-3,null,{"$f":"RESULTS!G55","v":" Block 4 Player 1"},-1E-3,-1E-3,null,1]
["NumberOfGames",15,{"$f":"RESULTS!G8","v":" Bye "},-1E-3,-1E-3,null,{"$f":"RESULTS!G24","v":" Bye "},-1E-3,-1E-3,null,{"$f":"RESULTS!G40","v":" Bye "},-1E-3,-1E-3,null,{"$f":"RESULTS!G56","v":" Bye "},-1E-3,-1E-3,null,6]
["Block1Selection1",1,{"$f":"RESULTS!G9","v":" Block 1 Player 2"},-1E-3,-1E-3,3,{"$f":"RESULTS!G25","v":" Block 2 Player 2"},-1E-3,-1E-3,2,{"$f":"RESULTS!G41","v":" Block 3 Player 2"},-1E-3,-1E-3,3,{"$f":"RESULTS!G57","v":" Block 4 Player 2"},-1E-3,-1E-3,null,2]
["Block1Selection2",2,{"$f":"RESULTS!G10","v":" Block 1 Player 5"},-1E-3,-1E-3,1,{"$f":"RESULTS!G26","v":" Block 2 Player 5"},-1E-3,-1E-3,3,{"$f":"RESULTS!G42","v":" Block 3 Player 5"},-1E-3,-1E-3,3,{"$f":"RESULTS!G58","v":" Block 4 Player 5"},-1E-3,-1E-3,null,5]
["Block1Player1Name",{"$f":"INDEX(B4:B9,Block1Selection1)","v":" Block 1 Player 1"},{"$f":"RESULTS!G11","v":" Block 1 Player 3"},-1E-3,-1E-3,{"$f":"INDEX(F4:F9,Block2Selection1)","v":" Block 2 Player 3"},{"$f":"RESULTS!G27","v":" Block 2 Player 3"},-1E-3,-1E-3,{"$f":"INDEX(J4:J9,Block3Selection1)","v":" Block 3 Player 2"},{"$f":"RESULTS!G43","v":" Block 3 Player 3"},-1E-3,-1E-3,{"$f":"INDEX(N4:N9,Block4Selection1)","v":" Block 4 Player 3"},{"$f":"RESULTS!G59","v":" Block 4 Player 3"},-1E-3,-1E-3,null,3]
["Block1Player2Name",{"$f":"INDEX(B4:B9,Block1Selection2)","v":" Block 1 Player 2"},{"$f":"RESULTS!G12","v":" Block 1 Player 4"},-1E-3,-1E-3,{"$f":"INDEX(F4:F9,Block2Selection2)","v":" Block 2 Player 1"},{"$f":"RESULTS!G28","v":" Block 2 Player 4"},-1E-3,-1E-3,{"$f":"INDEX(J4:J9,Block3Selection2)","v":" Block 3 Player 3"},{"$f":"RESULTS!G44","v":" Block 3 Player 4"},-1E-3,-1E-3,{"$f":"INDEX(N4:N9,Block4Selection2)","v":" Block 4 Player 3"},{"$f":"RESULTS!G60","v":" Block 4 Player 4"},-1E-3,-1E-3,null,4]
[null,null,{"$f":"RESULTS!G13","v":" Block 1 Player 5"},-1E-3,-1E-3,null,{"$f":"RESULTS!G29","v":" Block 2 Player 5"},-1E-3,-1E-3,null,{"$f":"RESULTS!G45","v":" Block 3 Player 5"},-1E-3,-1E-3,null,{"$f":"RESULTS!G61","v":" Block 4 Player 5"},-1E-3,-1E-3,null,5]
[null,null,{"$f":"RESULTS!G14","v":" Block 1 Player 1"},-1E-3,-1E-3,null,{"$f":"RESULTS!G30","v":" Block 2 Player 1"},-1E-3,-1E-3,null,{"$f":"RESULTS!G46","v":" Block 3 Player 1"},-1E-3,-1E-3,null,{"$f":"RESULTS!G62","v":" Block 4 Player 1"},-1E-3,-1E-3,null,1]
[null,null,{"$f":"RESULTS!K5","v":" Bye "},-1E-3,-1E-3,null,{"$f":"RESULTS!K21","v":" Bye "},-1E-3,-1E-3,null,{"$f":"RESULTS!K37","v":" Bye "},-1E-3,-1E-3,null,{"$f":"RESULTS!K53","v":" Bye "},-1E-3,-1E-3,null,6]
[null,null,{"$f":"RESULTS!K6","v":" Block 1 Player 4"},-1E-3,-1E-3,null,{"$f":"RESULTS!K22","v":" Block 2 Player 4"},-1E-3,-1E-3,null,{"$f":"RESULTS!K38","v":" Block 3 Player 4"},-1E-3,-1E-3,null,{"$f":"RESULTS!K54","v":" Block 4 Player 4"},-1E-3,-1E-3,null,4]
[null,null,{"$f":"RESULTS!K7","v":" Block 1 Player 2"},-1E-3,-1E-3,null,{"$f":"RESULTS!K23","v":" Block 2 Player 2"},-1E-3,-1E-3,null,{"$f":"RESULTS!K39","v":" Block 3 Player 2"},-1E-3,-1E-3,null,{"$f":"RESULTS!K55","v":" Block 4 Player 2"},-1E-3,-1E-3,null,2]
[null,null,{"$f":"RESULTS!K8","v":" Block 1 Player 3"},-1E-3,-1E-3,null,{"$f":"RESULTS!K24","v":" Block 2 Player 3"},-1E-3,-1E-3,null,{"$f":"RESULTS!K40","v":" Block 3 Player 3"},-1E-3,-1E-3,null,{"$f":"RESULTS!K56","v":" Block 4 Player 3"},-1E-3,-1E-3,null,3]
[null,null,{"$f":"RESULTS!K9","v":" Block 1 Player 3"},-1E-3,-1E-3,null,{"$f":"RESULTS!K25","v":" Block 2 Player 3"},-1E-3,-1E-3,null,{"$f":"RESULTS!K41","v":" Block 3 Player 3"},-1E-3,-1E-3,null,{"$f":"RESULTS!K57","v":" Block 4 Player 3"},-1E-3,-1E-3,null,3]
[null,null,{"$f":"RESULTS!K10","v":" Bye "},-1E-3,-1E-3,null,{"$f":"RESULTS!K26","v":" Bye "},-1E-3,-1E-3,null,{"$f":"RESULTS!K42","v":" Bye "},-1E-3,-1E-3,null,{"$f":"RESULTS!K58","v":" Bye "},-1E-3,-1E-3,null,6]
[null,null,{"$f":"RESULTS!K11","v":" Block 1 Player 4"},-1E-3,-1E-3,null,{"$f":"RESULTS!K27","v":" Block 2 Player 4"},-1E-3,-1E-3,null,{"$f":"RESULTS!K43","v":" Block 3 Player 4"},-1E-3,-1E-3,null,{"$f":"RESULTS!K59","v":" Block 4 Player 4"},-1E-3,-1E-3,null,4]
[null,null,{"$f":"RESULTS!K12","v":" Block 1 Player 5"},-1E-3,-1E-3,null,{"$f":"RESULTS!K28","v":" Block 2 Player 5"},-1E-3,-1E-3,null,{"$f":"RESULTS!K44","v":" Block 3 Player 5"},-1E-3,-1E-3,null,{"$f":"RESULTS!K60","v":" Block 4 Player 5"},-1E-3,-1E-3,null,5]
[null,null,{"$f":"RESULTS!K13","v":" Block 1 Player 1"},-1E-3,-1E-3,null,{"$f":"RESULTS!K29","v":" Block 2 Player 1"},-1E-3,-1E-3,null,{"$f":"RESULTS!K45","v":" Block 3 Player 1"},-1E-3,-1E-3,null,{"$f":"RESULTS!K61","v":" Block 4 Player 1"},-1E-3,-1E-3,null,1]
[null,null,{"$f":"RESULTS!K14","v":" Block 1 Player 2"},-1E-3,-1E-3,null,{"$f":"RESULTS!K30","v":" Block 2 Player 2"},-1E-3,-1E-3,null,{"$f":"RESULTS!K46","v":" Block 3 Player 2"},-1E-3,-1E-3,null,{"$f":"RESULTS!K62","v":" Block 4 Player 2"},-1E-3,-1E-3,null,2]

{"sheet":"SCORES","index":7,"n_rows":141,"n_cols":12,"rows_kept":141,"cut":false,"hidden":false,"merged":[]}
[]
[]
[]
[null,{"$f":"RESULTS!F4 &\"  COURT \"&GAMES!D5","v":"BLOCK 1  COURT "},null,"SCORES",null,{"$f":"RESULTS!F4 &\"  COURT \"&GAMES!D10","v":"BLOCK 1  COURT --"},null,"SCORES",null,{"$f":"RESULTS!F4 &\"  COURT \"&GAMES!D15","v":"BLOCK 1  COURT --"},null,"SCORES"]
[null,{"$f":"RESULTS!C5","v":" Block 1 Player 1"},null,{"$f":"RESULTS!D5","v":-1E-3},null,{"$f":"RESULTS!G5","v":" Block 1 Player 5"},null,{"$f":"RESULTS!H5","v":-1E-3},null,{"$f":"RESULTS!K5","v":" Bye "},null,{"$f":"RESULTS!L5","v":-1E-3}]
[null,{"$f":"GAMES!C5+GAMES!B5","v":"00:00:00"},null,null,null,{"$f":"GAMES!C10+GAMES!B10","v":"00:00:00"},null,null,null,{"$f":"GAMES!C15+GAMES!B15","v":"00:00:00"}]
[null,{"$f":"RESULTS!C6","v":" Block 1 Player 4"},null,{"$f":"RESULTS!D6","v":-1E-3},null,{"$f":"RESULTS!G6","v":" Bye "},null,{"$f":"RESULTS!H6","v":-1E-3},null,{"$f":"RESULTS!K6","v":" Block 1 Player 4"},null,{"$f":"RESULTS!L6","v":-1E-3}]
[null,"INITIALS",null,null,null,"INITIALS",null,null,null,"INITIALS"]
[]
[]
[null,{"$f":"RESULTS!F4 &\"  COURT \"&GAMES!D6","v":"BLOCK 1  COURT "},null,"SCORES",null,{"$f":"RESULTS!F4 &\"  COURT \"&GAMES!D11","v":"BLOCK 1  COURT --"},null,"SCORES",null,{"$f":"RESULTS!F4 &\"  COURT \"&GAMES!D16","v":"BLOCK 1  COURT "},null,"SCORES"]
[null,{"$f":"RESULTS!C7","v":" Block 1 Player 5"},null,{"$f":"RESULTS!D7","v":-1E-3},null,{"$f":"RESULTS!G7","v":" Block 1 Player 1"},null,{"$f":"RESULTS!H7","v":-1E-3},null,{"$f":"RESULTS!K7","v":" Block 1 Player 2"},null,{"$f":"RESULTS!L7","v":-1E-3}]
[null,{"$f":"GAMES!C6+GAMES!B6","v":"00:00:00"},null,null,null,{"$f":"GAMES!C11+GAMES!B11","v":"00:00:00"},null,null,null,{"$f":"GAMES!C16+GAMES!B16","v":"00:00:00"}]
[null,{"$f":"RESULTS!C8","v":" Block 1 Player 3"},null,{"$f":"RESULTS!D8","v":-1E-3},null,{"$f":"RESULTS!G8","v":" Bye "},null,{"$f":"RESULTS!H8","v":-1E-3},null,{"$f":"RESULTS!K8","v":" Block 1 Player 3"},null,{"$f":"RESULTS!L8","v":-1E-3}]
[null,"INITIALS",null,null,null,"INITIALS",null,null,null,"INITIALS"]
[]
[]
[null,{"$f":"RESULTS!F4 &\"  COURT \"&GAMES!D7","v":"BLOCK 1  COURT --"},null,"SCORES",null,{"$f":"RESULTS!F4 &\"  COURT \"&GAMES!D12","v":"BLOCK 1  COURT "},null,"SCORES",null,{"$f":"RESULTS!F4 &\"  COURT \"&GAMES!D17","v":"BLOCK 1  COURT --"},null,"SCORES"]
[null,{"$f":"RESULTS!C9","v":" Bye "},null,{"$f":"RESULTS!D9","v":-1E-3},null,{"$f":"RESULTS!G9","v":" Block 1 Player 2"},null,{"$f":"RESULTS!H9","v":-1E-3},null,{"$f":"RESULTS!K9","v":" Block 1 Player 3"},null,{"$f":"RESULTS!L9","v":-1E-3}]
[null,{"$f":"GAMES!C7+GAMES!B7","v":"00:00:00"},null,null,null,{"$f":"GAMES!C12+GAMES!B12","v":"00:00:00"},null,null,null,{"$f":"GAMES!C17+GAMES!B17","v":"00:00:00"}]
[null,{"$f":"RESULTS!C10","v":" Block 1 Player 2"},null,{"$f":"RESULTS!D10","v":-1E-3},null,{"$f":"RESULTS!G10","v":" Block 1 Player 5"},null,{"$f":"RESULTS!H10","v":-1E-3},null,{"$f":"RESULTS!K10","v":" Bye "},null,{"$f":"RESULTS!L10","v":-1E-3}]
[null,"INITIALS",null,null,null,"INITIALS",null,null,null,"INITIALS"]
[]
[]
[null,{"$f":"RESULTS!F4 &\"  COURT \"&GAMES!D8","v":"BLOCK 1  COURT "},null,"SCORES",null,{"$f":"RESULTS!F4 &\"  COURT \"&GAMES!D13","v":"BLOCK 1  COURT "},null,"SCORES",null,{"$f":"RESULTS!F4 &\"  COURT \"&GAMES!D18","v":"BLOCK 1  COURT "},null,"SCORES"]
[null,{"$f":"RESULTS!C11","v":" Block 1 Player 3"},null,{"$f":"RESULTS!D11","v":-1E-3},null,{"$f":"RESULTS!G11","v":" Block 1 Player 3"},null,{"$f":"RESULTS!H11","v":-1E-3},null,{"$f":"RESULTS!K11","v":" Block 1 Player 4"},null,{"$f":"RESULTS!L11","v":-1E-3}]
[null,{"$f":"GAMES!C8+GAMES!B8","v":"00:00:00"},null,null,null,{"$f":"GAMES!C13+GAMES!B13","v":"00:00:00"},null,null,null,{"$f":"GAMES!C18+GAMES!B18","v":"00:00:00"}]
[null,{"$f":"RESULTS!C12","v":" Block 1 Player 1"},null,{"$f":"RESULTS!D12","v":-1E-3},null,{"$f":"RESULTS!G12","v":" Block 1 Player 4"},null,{"$f":"RESULTS!H12","v":-1E-3},null,{"$f":"RESULTS!K12","v":" Block 1 Player 5"},null,{"$f":"RESULTS!L12","v":-1E-3}]
[null,"INITIALS",null,null,null,"INITIALS",null,null,null,"INITIALS"]
[]
[]
[null,{"$f":"RESULTS!F4 &\"  COURT \"&GAMES!D9","v":"BLOCK 1  COURT "},null,"SCORES",null,{"$f":"RESULTS!F4 &\"  COURT \"&GAMES!D14","v":"BLOCK 1  COURT "},null,"SCORES",null,{"$f":"RESULTS!F4 &\"  COURT \"&GAMES!D19","v":"BLOCK 1  COURT "},null,"SCORES"]
[null,{"$f":"RESULTS!C13","v":" Block 1 Player 4"},null,{"$f":"RESULTS!D13","v":-1E-3},null,{"$f":"RESULTS!G13","v":" Block 1 Player 5"},null,{"$f":"RESULTS!H13","v":-1E-3},null,{"$f":"RESULTS!K13","v":" Block 1 Player 1"},null,{"$f":"RESULTS!L13","v":-1E-3}]
[null,{"$f":"GAMES!C9+GAMES!B9","v":"00:00:00"},null,null,null,{"$f":"GAMES!C14+GAMES!B14","v":"00:00:00"},null,null,null,{"$f":"GAMES!C19+GAMES!B19","v":"00:00:00"}]
[null,{"$f":"RESULTS!C14","v":" Block 1 Player 2"},null,{"$f":"RESULTS!D14","v":-1E-3},null,{"$f":"RESULTS!G14","v":" Block 1 Player 1"},null,{"$f":"RESULTS!H14","v":-1E-3},null,{"$f":"RESULTS!K14","v":" Block 1 Player 2"},null,{"$f":"RESULTS!L14","v":-1E-3}]
[null,"INITIALS",null,null,null,"INITIALS",null,null,null,"INITIALS"]
[]
[]
[null,{"$f":"RESULTS!F20 &\"  COURT \"&GAMES!D23","v":"BLOCK 2  COURT "},null,"SCORES",null,{"$f":"RESULTS!F20 &\"  COURT \"&GAMES!D28","v":"BLOCK 2  COURT --"},null,"SCORES",null,{"$f":"RESULTS!F20 &\"  COURT \"&GAMES!D33","v":"BLOCK 2  COURT --"},null,"SCORES"]
[null,{"$f":"RESULTS!C21","v":" Block 2 Player 1"},null,{"$f":"RESULTS!D21","v":-1E-3},null,{"$f":"RESULTS!G21","v":" Block 2 Player 5"},null,{"$f":"RESULTS!H21","v":-1E-3},null,{"$f":"RESULTS!K21","v":" Bye "},null,{"$f":"RESULTS!L21","v":-1E-3}]
[null,{"$f":"GAMES!C23+GAMES!B23","v":"00:00:00"},null,null,null,{"$f":"GAMES!C28+GAMES!B28","v":"00:00:00"},null,null,null,{"$f":"GAMES!C33+GAMES!B33","v":"00:00:00"}]
[null,{"$f":"RESULTS!C22","v":" Block 2 Player 4"},null,{"$f":"RESULTS!D22","v":-1E-3},null,{"$f":"RESULTS!G22","v":" Bye "},null,{"$f":"RESULTS!H22","v":-1E-3},null,{"$f":"RESULTS!K22","v":" Block 2 Player 4"},null,{"$f":"RESULTS!L22","v":-1E-3}]
[null,"INITIALS",null,null,null,"INITIALS",null,null,null,"INITIALS"]
[]
[]
[null,{"$f":"RESULTS!F20 &\"  COURT \"&GAMES!D24","v":"BLOCK 2  COURT "},null,"SCORES",null,{"$f":"RESULTS!F20 &\"  COURT \"&GAMES!D29","v":"BLOCK 2  COURT --"},null,"SCORES",null,{"$f":"RESULTS!F20 &\"  COURT \"&GAMES!D34","v":"BLOCK 2  COURT "},null,"SCORES"]
[null,{"$f":"RESULTS!C23","v":" Block 2 Player 5"},null,{"$f":"RESULTS!D23","v":-1E-3},null,{"$f":"RESULTS!G23","v":" Block 2 Player 1"},null,{"$f":"RESULTS!H23","v":-1E-3},null,{"$f":"RESULTS!K23","v":" Block 2 Player 2"},null,{"$f":"RESULTS!L23","v":-1E-3}]
[null,{"$f":"GAMES!C24+GAMES!B24","v":"00:00:00"},null,null,null,{"$f":"GAMES!C29+GAMES!B29","v":"00:00:00"},null,null,null,{"$f":"GAMES!C34+GAMES!B34","v":"00:00:00"}]
[null,{"$f":"RESULTS!C24","v":" Block 2 Player 3"},null,{"$f":"RESULTS!D24","v":-1E-3},null,{"$f":"RESULTS!G24","v":" Bye "},null,{"$f":"RESULTS!H24","v":-1E-3},null,{"$f":"RESULTS!K24","v":" Block 2 Player 3"},null,{"$f":"RESULTS!L24","v":-1E-3}]
[null,"INITIALS",null,null,null,"INITIALS",null,null,null,"INITIALS"]
[]
[]
[null,{"$f":"RESULTS!F20 &\"  COURT \"&GAMES!D25","v":"BLOCK 2  COURT --"},null,"SCORES",null,{"$f":"RESULTS!F20 &\"  COURT \"&GAMES!D30","v":"BLOCK 2  COURT "},null,"SCORES",null,{"$f":"RESULTS!F20 &\"  COURT \"&GAMES!D35","v":"BLOCK 2  COURT --"},null,"SCORES"]
[null,{"$f":"RESULTS!C25","v":" Bye "},null,{"$f":"RESULTS!D25","v":-1E-3},null,{"$f":"RESULTS!G25","v":" Block 2 Player 2"},null,{"$f":"RESULTS!H25","v":-1E-3},null,{"$f":"RESULTS!K25","v":" Block 2 Player 3"},null,{"$f":"RESULTS!L25","v":-1E-3}]
[null,{"$f":"GAMES!C25+GAMES!B25","v":"00:00:00"},null,null,null,{"$f":"GAMES!C30+GAMES!B30","v":"00:00:00"},null,null,null,{"$f":"GAMES!C35+GAMES!B35","v":"00:00:00"}]
[null,{"$f":"RESULTS!C26","v":" Block 2 Player 2"},null,{"$f":"RESULTS!D26","v":-1E-3},null,{"$f":"RESULTS!G26","v":" Block 2 Player 5"},null,{"$f":"RESULTS!H26","v":-1E-3},null,{"$f":"RESULTS!K26","v":" Bye "},null,{"$f":"RESULTS!L26","v":-1E-3}]
[]
[]
[]
[null,{"$f":"RESULTS!F20 &\"  COURT \"&GAMES!D26","v":"BLOCK 2  COURT "},null,"SCORES",null,{"$f":"RESULTS!F20 &\"  COURT \"&GAMES!D31","v":"BLOCK 2  COURT "},null,"SCORES",null,{"$f":"RESULTS!F20 &\"  COURT \"&GAMES!D36","v":"BLOCK 2  COURT "},null,"SCORES"]
[null,{"$f":"RESULTS!C27","v":" Block 2 Player 3"},null,{"$f":"RESULTS!D27","v":-1E-3},null,{"$f":"RESULTS!G27","v":" Block 2 Player 3"},null,{"$f":"RESULTS!H27","v":-1E-3},null,{"$f":"RESULTS!K27","v":" Block 2 Player 4"},null,{"$f":"RESULTS!L27","v":-1E-3}]
[null,{"$f":"GAMES!C26+GAMES!B26","v":"00:00:00"},null,null,null,{"$f":"GAMES!C31+GAMES!B31","v":"00:00:00"},null,null,null,{"$f":"GAMES!C36+GAMES!B36","v":"00:00:00"}]
[null,{"$f":"RESULTS!C28","v":" Block 2 Player 1"},null,{"$f":"RESULTS!D28","v":-1E-3},null,{"$f":"RESULTS!G28","v":" Block 2 Player 4"},null,{"$f":"RESULTS!H28","v":-1E-3},null,{"$f":"RESULTS!K28","v":" Block 2 Player 5"},null,{"$f":"RESULTS!L28","v":-1E-3}]
[null,"INITIALS",null,null,null,"INITIALS",null,null,null,"INITIALS"]
[]
[]
[null,{"$f":"RESULTS!F20 &\"  COURT \"&GAMES!D27","v":"BLOCK 2  COURT "},null,"SCORES",null,{"$f":"RESULTS!F20 &\"  COURT \"&GAMES!D32","v":"BLOCK 2  COURT "},null,"SCORES",null,{"$f":"RESULTS!F20 &\"  COURT \"&GAMES!D37","v":"BLOCK 2  COURT "},null,"SCORES"]
[null,{"$f":"RESULTS!C29","v":" Block 2 Player 4"},null,{"$f":"RESULTS!D29","v":-1E-3},null,{"$f":"RESULTS!G29","v":" Block 2 Player 5"},null,{"$f":"RESULTS!H29","v":-1E-3},null,{"$f":"RESULTS!K29","v":" Block 2 Player 1"},null,{"$f":"RESULTS!L29","v":-1E-3}]
[null,{"$f":"GAMES!C27+GAMES!B27","v":"00:00:00"},null,null,null,{"$f":"GAMES!C32+GAMES!B32","v":"00:00:00"},null,null,null,{"$f":"GAMES!C37+GAMES!B37","v":"00:00:00"}]
[null,{"$f":"RESULTS!C30","v":" Block 2 Player 2"},null,{"$f":"RESULTS!D30","v":-1E-3},null,{"$f":"RESULTS!G30","v":" Block 2 Player 1"},null,{"$f":"RESULTS!H30","v":-1E-3},null,{"$f":"RESULTS!K30","v":" Block 2 Player 2"},null,{"$f":"RESULTS!L30","v":-1E-3}]
[null,"INITIALS",null,null,null,"INITIALS",null,null,null,"INITIALS"]
[]
[]
[null,{"$f":"RESULTS!F36 &\"  COURT \"&GAMES!D41","v":"BLOCK 3  COURT "},null,"SCORES",null,{"$f":"RESULTS!F36 &\"  COURT \"&GAMES!D46","v":"BLOCK 3  COURT --"},null,"SCORES",null,{"$f":"RESULTS!F36 &\"  COURT \"&GAMES!D51","v":"BLOCK 3  COURT --"},null,"SCORES"]
[null,{"$f":"RESULTS!C37","v":" Block 3 Player 1"},null,{"$f":"RESULTS!D37","v":-1E-3},null,{"$f":"RESULTS!G37","v":" Block 3 Player 5"},null,{"$f":"RESULTS!H37","v":-1E-3},null,{"$f":"RESULTS!K37","v":" Bye "},null,{"$f":"RESULTS!L37","v":-1E-3}]
[null,{"$f":"GAMES!C41+GAMES!B41","v":"00:00:00"},null,null,null,{"$f":"GAMES!C46+GAMES!B46","v":"00:00:00"},null,null,null,{"$f":"GAMES!C51+GAMES!B51","v":"00:00:00"}]
[null,{"$f":"RESULTS!C38","v":" Block 3 Player 4"},null,{"$f":"RESULTS!D38","v":-1E-3},null,{"$f":"RESULTS!G38","v":" Bye "},null,{"$f":"RESULTS!H38","v":-1E-3},null,{"$f":"RESULTS!K38","v":" Block 3 Player 4"},null,{"$f":"RESULTS!L38","v":-1E-3}]
[null,"INITIALS",null,null,null,"INITIALS",null,null,null,"INITIALS"]
[]
[]
[null,{"$f":"RESULTS!F36 &\"  COURT \"&GAMES!D42","v":"BLOCK 3  COURT "},null,"SCORES",null,{"$f":"RESULTS!F36 &\"  COURT \"&GAMES!D47","v":"BLOCK 3  COURT --"},null,"SCORES",null,{"$f":"RESULTS!F36 &\"  COURT \"&GAMES!D52","v":"BLOCK 3  COURT "},null,"SCORES"]
[null,{"$f":"RESULTS!C39","v":" Block 3 Player 5"},null,{"$f":"RESULTS!D39","v":-1E-3},null,{"$f":"RESULTS!G39","v":" Block 3 Player 1"},null,{"$f":"RESULTS!H39","v":-1E-3},null,{"$f":"RESULTS!K39","v":" Block 3 Player 2"},null,{"$f":"RESULTS!L39","v":-1E-3}]
[null,{"$f":"GAMES!C42+GAMES!B42","v":"00:00:00"},null,null,null,{"$f":"GAMES!C47+GAMES!B47","v":"00:00:00"},null,null,null,{"$f":"GAMES!C52+GAMES!B52","v":"00:00:00"}]
[null,{"$f":"RESULTS!C40","v":" Block 3 Player 3"},null,{"$f":"RESULTS!D40","v":-1E-3},null,{"$f":"RESULTS!G40","v":" Bye "},null,{"$f":"RESULTS!H40","v":-1E-3},null,{"$f":"RESULTS!K40","v":" Block 3 Player 3"},null,{"$f":"RESULTS!L40","v":-1E-3}]
[null,"INITIALS",null,null,null,"INITIALS",null,null,null,"INITIALS"]
[]
[]
[null,{"$f":"RESULTS!F36 &\"  COURT \"&GAMES!D43","v":"BLOCK 3  COURT --"},null,"SCORES",null,{"$f":"RESULTS!F36 &\"  COURT \"&GAMES!D48","v":"BLOCK 3  COURT "},null,"SCORES",null,{"$f":"RESULTS!F36 &\"  COURT \"&GAMES!D53","v":"BLOCK 3  COURT --"},null,"SCORES"]
[null,{"$f":"RESULTS!C41","v":" Bye "},null,{"$f":"RESULTS!D41","v":-1E-3},null,{"$f":"RESULTS!G41","v":" Block 3 Player 2"},null,{"$f":"RESULTS!H41","v":-1E-3},null,{"$f":"RESULTS!K41","v":" Block 3 Player 3"},null,{"$f":"RESULTS!L41","v":-1E-3}]
[null,{"$f":"GAMES!C43+GAMES!B43","v":"00:00:00"},null,null,null,{"$f":"GAMES!C48+GAMES!B48","v":"00:00:00"},null,null,null,{"$f":"GAMES!C53+GAMES!B53","v":"00:00:00"}]
[null,{"$f":"RESULTS!C42","v":" Block 3 Player 2"},null,{"$f":"RESULTS!D42","v":-1E-3},null,{"$f":"RESULTS!G42","v":" Block 3 Player 5"},null,{"$f":"RESULTS!H42","v":-1E-3},null,{"$f":"RESULTS!K42","v":" Bye "},null,{"$f":"RESULTS!L42","v":-1E-3}]
[null,"INITIALS",null,null,null,"INITIALS",null,null,null,"INITIALS"]
[]
[]
[null,{"$f":"RESULTS!F36 &\"  COURT \"&GAMES!D44","v":"BLOCK 3  COURT "},null,"SCORES",null,{"$f":"RESULTS!F36 &\"  COURT \"&GAMES!D49","v":"BLOCK 3  COURT "},null,"SCORES",null,{"$f":"RESULTS!F36 &\"  COURT \"&GAMES!D54","v":"BLOCK 3  COURT "},null,"SCORES"]
[null,{"$f":"RESULTS!C43","v":" Block 3 Player 3"},null,{"$f":"RESULTS!D43","v":-1E-3},null,{"$f":"RESULTS!G43","v":" Block 3 Player 3"},null,{"$f":"RESULTS!H43","v":-1E-3},null,{"$f":"RESULTS!K43","v":" Block 3 Player 4"},null,{"$f":"RESULTS!L43","v":-1E-3}]
[null,{"$f":"GAMES!C44+GAMES!B44","v":"00:00:00"},null,null,null,{"$f":"GAMES!C49+GAMES!B49","v":"00:00:00"},null,null,null,{"$f":"GAMES!C54+GAMES!B54","v":"00:00:00"}]
[null,{"$f":"RESULTS!C44","v":" Block 3 Player 1"},null,{"$f":"RESULTS!D44","v":-1E-3},null,{"$f":"RESULTS!G44","v":" Block 3 Player 4"},null,{"$f":"RESULTS!H44","v":-1E-3},null,{"$f":"RESULTS!K44","v":" Block 3 Player 5"},null,{"$f":"RESULTS!L44","v":-1E-3}]
[null,"INITIALS",null,null,null,"INITIALS",null,null,null,"INITIALS"]
[]
[]
[null,{"$f":"RESULTS!F36 &\"  COURT \"&GAMES!D45","v":"BLOCK 3  COURT "},null,"SCORES",null,{"$f":"RESULTS!F36 &\"  COURT \"&GAMES!D50","v":"BLOCK 3  COURT "},null,"SCORES",null,{"$f":"RESULTS!F36 &\"  COURT \"&GAMES!D55","v":"BLOCK 3  COURT "},null,"SCORES"]
[null,{"$f":"RESULTS!C45","v":" Block 3 Player 4"},null,{"$f":"RESULTS!D45","v":-1E-3},null,{"$f":"RESULTS!G45","v":" Block 3 Player 5"},null,{"$f":"RESULTS!H45","v":-1E-3},null,{"$f":"RESULTS!K45","v":" Block 3 Player 1"},null,{"$f":"RESULTS!L45","v":-1E-3}]
[null,{"$f":"GAMES!C45+GAMES!B45","v":"00:00:00"},null,null,null,{"$f":"GAMES!C50+GAMES!B50","v":"00:00:00"},null,null,null,{"$f":"GAMES!C55+GAMES!B55","v":"00:00:00"}]
[null,{"$f":"RESULTS!C46","v":" Block 3 Player 2"},null,{"$f":"RESULTS!D46","v":-1E-3},null,{"$f":"RESULTS!G46","v":" Block 3 Player 1"},null,{"$f":"RESULTS!H46","v":-1E-3},null,{"$f":"RESULTS!K46","v":" Block 3 Player 2"},null,{"$f":"RESULTS!L46","v":-1E-3}]
[null,"INITIALS",null,null,null,"INITIALS",null,null,null,"INITIALS"]
[]
[]
[null,{"$f":"RESULTS!F52 &\"  COURT \"&GAMES!D59","v":"BLOCK 4  COURT "},null,"SCORES",null,{"$f":"RESULTS!F52 &\"  COURT \"&GAMES!D64","v":"BLOCK 4  COURT --"},null,"SCORES",null,{"$f":"RESULTS!F52 &\"  COURT \"&GAMES!D69","v":"BLOCK 4  COURT --"},null,"SCORES"]
[null,{"$f":"RESULTS!C53","v":" Block 4 Player 1"},null,{"$f":"RESULTS!D53","v":-1E-3},null,{"$f":"RESULTS!G53","v":" Block 4 Player 5"},null,{"$f":"RESULTS!H53","v":-1E-3},null,{"$f":"RESULTS!K53","v":" Bye "},null,{"$f":"RESULTS!L53","v":-1E-3}]
[null,{"$f":"GAMES!C59+GAMES!B59","v":"00:00:00"},null,null,null,{"$f":"GAMES!C64+GAMES!B64","v":"00:00:00"},null,null,null,{"$f":"GAMES!C69+GAMES!B69","v":"00:00:00"}]
[null,{"$f":"RESULTS!C54","v":" Block 4 Player 4"},null,{"$f":"RESULTS!D54","v":-1E-3},null,{"$f":"RESULTS!G54","v":" Bye "},null,{"$f":"RESULTS!H54","v":-1E-3},null,{"$f":"RESULTS!K54","v":" Block 4 Player 4"},null,{"$f":"RESULTS!L54","v":-1E-3}]
[null,"INITIALS",null,null,null,"INITIALS",null,null,null,"INITIALS"]
[]
[]
[null,{"$f":"RESULTS!F52 &\"  COURT \"&GAMES!D60","v":"BLOCK 4  COURT "},null,"SCORES",null,{"$f":"RESULTS!F52 &\"  COURT \"&GAMES!D65","v":"BLOCK 4  COURT --"},null,"SCORES",null,{"$f":"RESULTS!F52 &\"  COURT \"&GAMES!D70","v":"BLOCK 4  COURT "},null,"SCORES"]
[null,{"$f":"RESULTS!C55","v":" Block 4 Player 5"},null,{"$f":"RESULTS!D55","v":-1E-3},null,{"$f":"RESULTS!G55","v":" Block 4 Player 1"},null,{"$f":"RESULTS!H55","v":-1E-3},null,{"$f":"RESULTS!K55","v":" Block 4 Player 2"},null,{"$f":"RESULTS!L55","v":-1E-3}]
[null,{"$f":"GAMES!C60+GAMES!B60","v":"00:00:00"},null,null,null,{"$f":"GAMES!C65+GAMES!B65","v":"00:00:00"},null,null,null,{"$f":"GAMES!C70+GAMES!B70","v":"00:00:00"}]
[null,{"$f":"RESULTS!C56","v":" Block 4 Player 3"},null,{"$f":"RESULTS!D56","v":-1E-3},null,{"$f":"RESULTS!G56","v":" Bye "},null,{"$f":"RESULTS!H56","v":-1E-3},null,{"$f":"RESULTS!K56","v":" Block 4 Player 3"},null,{"$f":"RESULTS!L56","v":-1E-3}]
[null,"INITIALS",null,null,null,"INITIALS",null,null,null,"INITIALS"]
[]
[]
[null,{"$f":"RESULTS!F52 &\"  COURT \"&GAMES!D61","v":"BLOCK 4  COURT --"},null,"SCORES",null,{"$f":"RESULTS!F52 &\"  COURT \"&GAMES!D66","v":"BLOCK 4  COURT "},null,"SCORES",null,{"$f":"RESULTS!F52 &\"  COURT \"&GAMES!D71","v":"BLOCK 4  COURT --"},null,"SCORES"]
[null,{"$f":"RESULTS!C57","v":" Bye "},null,{"$f":"RESULTS!D57","v":-1E-3},null,{"$f":"RESULTS!G57","v":" Block 4 Player 2"},null,{"$f":"RESULTS!H57","v":-1E-3},null,{"$f":"RESULTS!K57","v":" Block 4 Player 3"},null,{"$f":"RESULTS!L57","v":-1E-3}]
[null,{"$f":"GAMES!C61+GAMES!B61","v":"00:00:00"},null,null,null,{"$f":"GAMES!C66+GAMES!B66","v":"00:00:00"},null,null,null,{"$f":"GAMES!C71+GAMES!B71","v":"00:00:00"}]
[null,{"$f":"RESULTS!C58","v":" Block 4 Player 2"},null,{"$f":"RESULTS!D58","v":-1E-3},null,{"$f":"RESULTS!G58","v":" Block 4 Player 5"},null,{"$f":"RESULTS!H58","v":-1E-3},null,{"$f":"RESULTS!K58","v":" Bye "},null,{"$f":"RESULTS!L58","v":-1E-3}]
[null,"INITIALS",null,null,null,"INITIALS",null,null,null,"INITIALS"]
[]
[]
[null,{"$f":"RESULTS!F52 &\"  COURT \"&GAMES!D62","v":"BLOCK 4  COURT "},null,"SCORES",null,{"$f":"RESULTS!F52 &\"  COURT \"&GAMES!D67","v":"BLOCK 4  COURT "},null,"SCORES",null,{"$f":"RESULTS!F52 &\"  COURT \"&GAMES!D72","v":"BLOCK 4  COURT "},null,"SCORES"]
[null,{"$f":"RESULTS!C59","v":" Block 4 Player 3"},null,{"$f":"RESULTS!D59","v":-1E-3},null,{"$f":"RESULTS!G59","v":" Block 4 Player 3"},null,{"$f":"RESULTS!H59","v":-1E-3},null,{"$f":"RESULTS!K59","v":" Block 4 Player 4"},null,{"$f":"RESULTS!L59","v":-1E-3}]
[null,{"$f":"GAMES!C62+GAMES!B62","v":"00:00:00"},null,null,null,{"$f":"GAMES!C67+GAMES!B67","v":"00:00:00"},null,null,null,{"$f":"GAMES!C72+GAMES!B72","v":"00:00:00"}]
[null,{"$f":"RESULTS!C60","v":" Block 4 Player 1"},null,{"$f":"RESULTS!D60","v":-1E-3},null,{"$f":"RESULTS!G60","v":" Block 4 Player 4"},null,{"$f":"RESULTS!H60","v":-1E-3},null,{"$f":"RESULTS!K60","v":" Block 4 Player 5"},null,{"$f":"RESULTS!L60","v":-1E-3}]
[null,"INITIALS",null,null,null,"INITIALS",null,null,null,"INITIALS"]
[]
[]
[null,{"$f":"RESULTS!F52 &\"  COURT \"&GAMES!D63","v":"BLOCK 4  COURT "},null,"SCORES",null,{"$f":"RESULTS!F52 &\"  COURT \"&GAMES!D68","v":"BLOCK 4  COURT "},null,"SCORES",null,{"$f":"RESULTS!F52 &\"  COURT \"&GAMES!D73","v":"BLOCK 4  COURT "},null,"SCORES"]
[null,{"$f":"RESULTS!C61","v":" Block 4 Player 4"},null,{"$f":"RESULTS!D61","v":-1E-3},null,{"$f":"RESULTS!G61","v":" Block 4 Player 5"},null,{"$f":"RESULTS!H61","v":-1E-3},null,{"$f":"RESULTS!K61","v":" Block 4 Player 1"},null,{"$f":"RESULTS!L61","v":-1E-3}]
[null,{"$f":"GAMES!C63+GAMES!B63","v":"00:00:00"},null,null,null,{"$f":"GAMES!C68+GAMES!B68","v":"00:00:00"},null,null,null,{"$f":"GAMES!C73+GAMES!B73","v":"00:00:00"}]
[null,{"$f":"RESULTS!C62","v":" Block 4 Player 2"},null,{"$f":"RESULTS!D62","v":-1E-3},null,{"$f":"RESULTS!G62","v":" Block 4 Player 1"},null,{"$f":"RESULTS!H62","v":-1E-3},null,{"$f":"RESULTS!K62","v":" Block 4 Player 2"},null,{"$f":"RESULTS!L62","v":-1E-3}]
[null,"INITIALS",null,null,null,"INITIALS",null,null,null,"INITIALS"]

{"sheet":"BLOCK","index":8,"n_rows":99,"n_cols":34,"rows_kept":99,"cut":false,"hidden":false,"merged":[[80,17,80,19],[55,14,55,16],[55,17,55,19],[80,2,80,4],[80,5,80,7],[80,8,80,10],[80,11,80,13],[80,14,80,16],[77,10,77,16],[78,10,78,16],[5,17,5,19],[30,14,30,16],[30,17,30,19],[55,2,55,4],[55,5,55,7],[5,2,5,4],[5,5,5,7],[30,2,30,4],[30,5,30,7],[5,11,5,13],[30,8,30,10],[30,11,30,13],[53,10,53,16],[52,10,52,16],[55,8,55,10],[55,11,55,13],[2,10,2,16],[3,10,3,16],[28,10,28,16],[27,10,27,16],[5,14,5,16],[5,8,5,10]]}
[]
[null,null,null,null,null,null,null,null,null,null,null,null,null,{"$f":"SEED!F2","v":"Tournament"}]
[null,null,null,null,null,null,null,null,null,null,{"$f":"NAMES!$C$9","v":"Date"}]
[null,null,null,null,null,null,null,null,null,null,{"$f":"NAMES!$C$8","v":"Singles"}]
[]
[null,{"$f":"SEED!D6","v":"BLOCK 1"},{"$f":"SEED!D8","v":" Block 1 Player 1"},null,null,{"$f":"SEED!D9","v":" Block 1 Player 2"},null,null,{"$f":"SEED!D10","v":" Block 1 Player 3"},null,null,{"$f":"SEED!D11","v":" Block 1 Player 4"},null,null,{"$f":"SEED!D12","v":" Block 1 Player 5"},null,null,{"$f":"SEED!D13","v":" Bye "},null,null,null," WINS"," POINTS FOR","POINTS AGAINST"," NET POINTS",null," PLACE"]
[null,{"$f":"NAMES!C11","v":"Block 1"},"plyr1",null,null,null,{"$f":"IF(H7=1,\"W\",\"\")","v":""},{"$f":"IF(G9>0,1,0)","v":0},null,{"$f":"IF(K7=1,\"W\",\"\")","v":""},{"$f":"IF(J9>0,1,0)","v":0},null,{"$f":"IF(N7=1,\"W\",\"\")","v":""},{"$f":"IF(M9>0,1,0)","v":0},null,{"$f":"IF(Q7=1,\"W\",\"\")","v":""},{"$f":"IF(P9>0,1,0)","v":0},null,{"$f":"IF(T7=1,\"W\",\"\")","v":""},{"$f":"IF(S9>0,1,0)","v":0},null,null,null,null,null,null,null,null,null,"NAME","WINS","NET"," FOR"]
[null,{"$f":"NAMES!C12","v":"Player 1"},null,null,null,{"$f":"SCORES!L33","v":-1E-3},{"$f":"RESULTS!$M$13","v":-1E-3},{"$f":"SCORES!L35","v":-1E-3},{"$f":"SCORES!D28","v":-1E-3},{"$f":"RESULTS!$E$12","v":-1E-3},{"$f":"SCORES!D26","v":-1E-3},{"$f":"SCORES!D5","v":-1E-3},{"$f":"RESULTS!$E$5","v":-1E-3},{"$f":"SCORES!D7","v":-1E-3},{"$f":"SCORES!H35","v":-1E-3},{"$f":"RESULTS!$I$14","v":-1E-3},{"$f":"SCORES!H33","v":-1E-3},{"$f":"SCORES!H12","v":-1E-3},{"$f":"RESULTS!$I$7","v":-1E-3},{"$f":"SCORES!H14","v":-1E-3},null,{"$f":"SUM(C7:T7)","v":0},{"$f":"SUM(C8,F8,I8,L8,O8,R8)","v":-5.0000000000000001E-3},{"$f":"SUM(E8,H8,K8,N8,Q8,T8)","v":-5.0000000000000001E-3},{"$f":"SUM(C9:T9)","v":0},null,{"$f":"VLOOKUP(C7,PLACE1,5,FALSE)","v":5},null,null,{"$f":"$C$19","v":"plyr5"},{"$f":"$V$20","v":0},{"$f":"$Y$20","v":0},{"$f":"$W$20","v":-5.0000000000000001E-3},1]
[null,{"$f":"SEED!E8","v":0},null,null,null,null,{"$f":"F8-H8","v":0},null,null,{"$f":"I8-K8","v":0},null,null,{"$f":"L8-N8","v":0},null,null,{"$f":"O8-Q8","v":0},null,null,{"$f":"R8-T8","v":0},null,null,null,null,null,null,null,null,null,null,{"$f":"$C$16","v":"plyr4"},{"$f":"$V$17","v":0},{"$f":"$Y$17","v":0},{"$f":"$W$17","v":-5.0000000000000001E-3},2]
[null,{"$f":"NAMES!C16","v":"Block 1"},"plyr2",{"$f":"IF(E10=1,\"W\",\"\")","v":""},{"$f":"IF(D12>0,1,0)","v":0},null,null,null,null,{"$f":"IF(K10=1,\"W\",\"\")","v":""},{"$f":"IF(J12>0,1,0)","v":0},null,{"$f":"IF(N10=1,\"W\",\"\")","v":""},{"$f":"IF(M12>0,1,0)","v":0},null,{"$f":"IF(Q10=1,\"W\",\"\")","v":""},{"$f":"IF(P12>0,1,0)","v":0},null,{"$f":"IF(T10=1,\"W\",\"\")","v":""},{"$f":"IF(S12>0,1,0)","v":0},null,null,null,null,null,null,null,null,null,{"$f":"$C$13","v":"plyr3"},{"$f":"$V$14","v":0},{"$f":"$Y$14","v":0},{"$f":"$W$14","v":-5.0000000000000001E-3},3]
[null,{"$f":"NAMES!C17","v":"Player 2"},{"$f":"H8","v":-1E-3},{"$f":"RESULTS!$M$14","v":-1E-3},{"$f":"F8","v":-1E-3},null,null,null,{"$f":"SCORES!L12","v":-1E-3},{"$f":"RESULTS!$M$7","v":-1E-3},{"$f":"SCORES!L14","v":-1E-3},{"$f":"SCORES!D35","v":-1E-3},{"$f":"RESULTS!$E$14","v":-1E-3},{"$f":"SCORES!D33","v":-1E-3},{"$f":"SCORES!H19","v":-1E-3},{"$f":"RESULTS!$I$9","v":-1E-3},{"$f":"SCORES!H21","v":-1E-3},{"$f":"SCORES!D21","v":-1E-3},{"$f":"RESULTS!$E$10","v":-1E-3},{"$f":"SCORES!D19","v":-1E-3},null,{"$f":"SUM(C10:T10)","v":0},{"$f":"SUM(C11,F11,I11,L11,O11,R11)","v":-5.0000000000000001E-3},{"$f":"SUM(E11,H11,K11,N11,Q11,T11)","v":-5.0000000000000001E-3},{"$f":"SUM(C12:T12)","v":0},null,{"$f":"VLOOKUP(C10,PLACE1,5,FALSE)","v":4},null,null,{"$f":"$C$10","v":"plyr2"},{"$f":"$V$11","v":0},{"$f":"$Y$11","v":0},{"$f":"$W$11","v":-5.0000000000000001E-3},4]
[null,{"$f":"SEED!E9","v":0},null,{"$f":"C11-E11","v":0},null,null,null,null,null,{"$f":"I11-K11","v":0},null,null,{"$f":"L11-N11","v":0},null,null,{"$f":"O11-Q11","v":0},null,null,{"$f":"R11-T11","v":0},null,null,null,null,null,null,null,null,null,null,{"$f":"$C$7","v":"plyr1"},{"$f":"$V$8","v":0},{"$f":"$Y$8","v":0},{"$f":"$W$8","v":-5.0000000000000001E-3},5]
[null,{"$f":"NAMES!C21","v":"Block 1"},"plyr3",{"$f":"IF(E13=1,\"W\",\"\")","v":""},{"$f":"IF(D15>0,1,0)","v":0},null,{"$f":"IF(H13=1,\"W\",\"\")","v":""},{"$f":"IF(G15>0,1,0)","v":0},null,null,null,null,{"$f":"IF(N13=1,\"W\",\"\")","v":""},{"$f":"IF(M15>0,1,0)","v":0},null,{"$f":"IF(Q13=1,\"W\",\"\")","v":""},{"$f":"IF(P15>0,1,0)","v":0},null,{"$f":"IF(T13=1,\"W\",\"\")","v":""},{"$f":"IF(S15>0,1,0)","v":0}]
[null,{"$f":"NAMES!C22","v":"Player 3"},{"$f":"K8","v":-1E-3},{"$f":"RESULTS!$E$11","v":-1E-3},{"$f":"I8","v":-1E-3},{"$f":"K11","v":-1E-3},{"$f":"RESULTS!$M$8","v":-1E-3},{"$f":"I11","v":-1E-3},null,null,null,{"$f":"SCORES!H26","v":-1E-3},{"$f":"RESULTS!$I$11","v":-1E-3},{"$f":"SCORES!H28","v":-1E-3},{"$f":"SCORES!D14","v":-1E-3},{"$f":"RESULTS!$E$8","v":-1E-3},{"$f":"SCORES!D12","v":-1E-3},{"$f":"SCORES!L19","v":-1E-3},{"$f":"RESULTS!$M$9","v":-1E-3},{"$f":"SCORES!L21","v":-1E-3},null,{"$f":"SUM(C13:T13)","v":0},{"$f":"SUM(C14,F14,I14,L14,O14,R14)","v":-5.0000000000000001E-3},{"$f":"SUM(E14,H14,K14,N14,Q14,T14)","v":-5.0000000000000001E-3},{"$f":"SUM(C15:T15)","v":0},null,{"$f":"VLOOKUP(C13,PLACE1,5,FALSE)","v":3}]
[null,{"$f":"SEED!E10","v":0},null,{"$f":"C14-E14","v":0},null,null,{"$f":"F14-H14","v":0},null,null,null,null,null,{"$f":"L14-N14","v":0},null,null,{"$f":"O14-Q14","v":0},null,null,{"$f":"R14-T14","v":0}]
[null,{"$f":"NAMES!C26","v":"Block 1"},"plyr4",{"$f":"IF(E16=1,\"W\",\"\")","v":""},{"$f":"IF(D18>0,1,0)","v":0},null,{"$f":"IF(H16=1,\"W\",\"\")","v":""},{"$f":"IF(G18>0,1,0)","v":0},null,{"$f":"IF(K16=1,\"W\",\"\")","v":""},{"$f":"IF(J18>0,1,0)","v":0},null,null,null,null,{"$f":"IF(Q16=1,\"W\",\"\")","v":""},{"$f":"IF(P18>0,1,0)","v":0},null,{"$f":"IF(T16=1,\"W\",\"\")","v":""},{"$f":"IF(S18>0,1,0)","v":0}]
[null,{"$f":"NAMES!C27","v":"Player 4"},{"$f":"N8","v":-1E-3},{"$f":"RESULTS!$E$6","v":-1E-3},{"$f":"L8","v":-1E-3},{"$f":"N11","v":-1E-3},{"$f":"RESULTS!$E$13","v":-1E-3},{"$f":"L11","v":-1E-3},{"$f":"N14","v":-1E-3},{"$f":"RESULTS!$I$12","v":-1E-3},{"$f":"L14","v":-1E-3},null,null,null,{"$f":"SCORES!L26","v":-1E-3},{"$f":"RESULTS!$M$11","v":-1E-3},{"$f":"SCORES!L28","v":-1E-3},{"$f":"SCORES!L7","v":-1E-3},{"$f":"RESULTS!$M$6","v":-1E-3},{"$f":"SCORES!L5","v":-1E-3},null,{"$f":"SUM(C16:T16)","v":0},{"$f":"SUM(C17,F17,I17,L17,O17,R17)","v":-5.0000000000000001E-3},{"$f":"SUM(E17,H17,K17,N17,Q17,T17)","v":-5.0000000000000001E-3},{"$f":"SUM(C18:T18)","v":0},null,{"$f":"VLOOKUP(C16,PLACE1,5,FALSE)","v":2}]
[null,{"$f":"SEED!E11","v":0},null,{"$f":"C17-E17","v":0},null,null,{"$f":"F17-H17","v":0},null,null,{"$f":"I17-K17","v":0},null,null,null,null,null,{"$f":"O17-Q17","v":0},null,null,{"$f":"R17-T17","v":0}]
[null,{"$f":"NAMES!C31","v":"Block 1"},"plyr5",{"$f":"IF(E19=1,\"W\",\"\")","v":""},{"$f":"IF(D21>0,1,0)","v":0},null,{"$f":"IF(H19=1,\"W\",\"\")","v":""},{"$f":"IF(G21>0,1,0)","v":0},null,{"$f":"IF(K19=1,\"W\",\"\")","v":""},{"$f":"IF(J21>0,1,0)","v":0},null,{"$f":"IF(N19=1,\"W\",\"\")","v":""},{"$f":"IF(M21>0,1,0)","v":0},null,null,null,null,{"$f":"IF(T19=1,\"W\",\"\")","v":""},{"$f":"IF(S21>0,1,0)","v":0}]
[null,{"$f":"NAMES!C32","v":"Player 5"},{"$f":"Q8","v":-1E-3},{"$f":"RESULTS!$I$13","v":-1E-3},{"$f":"O8","v":-1E-3},{"$f":"Q11","v":-1E-3},{"$f":"RESULTS!$I$10","v":-1E-3},{"$f":"O11","v":-1E-3},{"$f":"Q14","v":-1E-3},{"$f":"RESULTS!$E$7","v":-1E-3},{"$f":"O14","v":-1E-3},{"$f":"Q17","v":-1E-3},{"$f":"RESULTS!$M$12","v":-1E-3},{"$f":"O17","v":-1E-3},null,null,null,{"$f":"SCORES!H5","v":-1E-3},{"$f":"RESULTS!$I$5","v":-1E-3},{"$f":"SCORES!H7","v":-1E-3},null,{"$f":"SUM(C19:T19)","v":0},{"$f":"SUM(C20,F20,I20,L20,O20,R20)","v":-5.0000000000000001E-3},{"$f":"SUM(E20,H20,K20,N20,Q20,T20)","v":-5.0000000000000001E-3},{"$f":"SUM(C21:T21)","v":0},null,{"$f":"VLOOKUP(C19,PLACE1,5,FALSE)","v":1}]
[null,{"$f":"SEED!E12","v":0},null,{"$f":"C20-E20","v":0},null,null,{"$f":"F20-H20","v":0},null,null,{"$f":"I20-K20","v":0},null,null,{"$f":"L20-N20","v":0},null,null,null,null,null,{"$f":"R20-T20","v":0}]
[null,{"$f":"NAMES!C36","v":"Bye"},"plyr6",{"$f":"IF(E22=1,\"W\",\"\")","v":""},{"$f":"IF(D24>0,1,0)","v":0},null,{"$f":"IF(H22=1,\"W\",\"\")","v":""},{"$f":"IF(G24>0,1,0)","v":0},null,{"$f":"IF(K22=1,\"W\",\"\")","v":""},{"$f":"IF(J24>0,1,0)","v":0},null,{"$f":"IF(N22=1,\"W\",\"\")","v":""},{"$f":"IF(M24>0,1,0)","v":0},null,{"$f":"IF(Q22=1,\"W\",\"\")","v":""},{"$f":"IF(P24>0,1,0)","v":0}]
[null,{"$f":"NAMES!C37","v":0},{"$f":"T8","v":-1E-3},{"$f":"RESULTS!$I$8","v":-1E-3},{"$f":"R8","v":-1E-3},{"$f":"T11","v":-1E-3},{"$f":"RESULTS!$E$9","v":-1E-3},{"$f":"R11","v":-1E-3},{"$f":"T14","v":-1E-3},{"$f":"RESULTS!$M$10","v":-1E-3},{"$f":"R14","v":-1E-3},{"$f":"T17","v":-1E-3},{"$f":"RESULTS!$M$5","v":-1E-3},{"$f":"R17","v":-1E-3},{"$f":"T20","v":-1E-3},{"$f":"RESULTS!$I$6","v":-1E-3},{"$f":"R20","v":-1E-3},null,null,null,null,{"$f":"SUM(C22:T22)","v":0},{"$f":"SUM(C23,F23,I23,L23,O23,R23)","v":-5.0000000000000001E-3},{"$f":"SUM(E23,H23,K23,N23,Q23,T23)","v":-5.0000000000000001E-3},{"$f":"SUM(C24:T24)","v":0},null,{"$f":"VLOOKUP(C22,PLACE1,5,FALSE)","v":{"$error":"#N/A"}}]
[null,{"$f":"SEED!E13","v":0},null,{"$f":"C23-E23","v":0},null,null,{"$f":"F23-H23","v":0},null,null,{"$f":"I23-K23","v":0},null,null,{"$f":"L23-N23","v":0},null,null,{"$f":"O23-Q23","v":0}]
[]
[]
[null,null,null,null,null,null,null,null,null,null,null,null,null,{"$f":"N2","v":"Tournament"}]
[null,null,null,null,null,null,null,null,null,null,{"$f":"NAMES!$C$9","v":"Date"}]
[null,null,null,null,null,null,null,null,null,null,{"$f":"K4","v":"Singles"}]
[]
[null,{"$f":"SEED!I6","v":"BLOCK 2"},{"$f":"SEED!I8","v":" Block 2 Player 1"},null,null,{"$f":"SEED!I9","v":" Block 2 Player 2"},null,null,{"$f":"SEED!I10","v":" Block 2 Player 3"},null,null,{"$f":"SEED!I11","v":" Block 2 Player 4"},null,null,{"$f":"SEED!I12","v":" Block 2 Player 5"},null,null,{"$f":"SEED!I13","v":" Bye "},null,null,null," WINS"," POINTS FOR","POINTS AGAINST"," NET POINTS",null,"PLACE"]
[null,{"$f":"NAMES!C42","v":"Block 2"},"plyr1",null,null,null,{"$f":"IF(H32=1,\"W\",\"\")","v":""},{"$f":"IF(G34>0,1,0)","v":0},null,{"$f":"IF(K32=1,\"W\",\"\")","v":""},{"$f":"IF(J34>0,1,0)","v":0},null,{"$f":"IF(N32=1,\"W\",\"\")","v":""},{"$f":"IF(M34>0,1,0)","v":0},null,{"$f":"IF(Q32=1,\"W\",\"\")","v":""},{"$f":"IF(P34>0,1,0)","v":0},null,{"$f":"IF(T32=1,\"W\",\"\")","v":""},{"$f":"IF(S34>0,1,0)","v":0},null,null,null,null,null,null,null,null,null,"NAME","WINS","NET"," FOR"]
[null,{"$f":"NAMES!C43","v":"Player 1"},null,null,null,{"$f":"SCORES!L68","v":-1E-3},{"$f":"RESULTS!$M$29","v":-1E-3},{"$f":"SCORES!L70","v":-1E-3},{"$f":"SCORES!D63","v":-1E-3},{"$f":"RESULTS!$E$28","v":-1E-3},{"$f":"SCORES!D61","v":-1E-3},{"$f":"SCORES!D40","v":-1E-3},{"$f":"RESULTS!$E$21","v":-1E-3},{"$f":"SCORES!D42","v":-1E-3},{"$f":"SCORES!H70","v":-1E-3},{"$f":"RESULTS!$I$30","v":-1E-3},{"$f":"SCORES!H68","v":-1E-3},{"$f":"SCORES!H47","v":-1E-3},{"$f":"RESULTS!$I$23","v":-1E-3},{"$f":"SCORES!H49","v":-1E-3},null,{"$f":"SUM(C32:T32)","v":0},{"$f":"SUM(C33,F33,I33,L33,O33,R33)","v":-5.0000000000000001E-3},{"$f":"SUM(E33,H33,K33,N33,Q33,T33)","v":-5.0000000000000001E-3},{"$f":"SUM(C34:T34)","v":0},null,{"$f":"VLOOKUP(C32,PLACE2,5,FALSE)","v":5},null,null,{"$f":"$C$44","v":"plyr5"},{"$f":"$V$45","v":0},{"$f":"$Y$45","v":0},{"$f":"$W$45","v":-5.0000000000000001E-3},1]
[null,{"$f":"SEED!J8","v":0},null,null,null,null,{"$f":"F33-H33","v":0},null,null,{"$f":"I33-K33","v":0},null,null,{"$f":"L33-N33","v":0},null,null,{"$f":"O33-Q33","v":0},null,null,{"$f":"R33-T33","v":0},null,null,null,null,null,null,null,null,null,null,{"$f":"$C$41","v":"plyr4"},{"$f":"$V$42","v":0},{"$f":"$Y$42","v":0},{"$f":"$W$42","v":-5.0000000000000001E-3},2]
[null,{"$f":"NAMES!C47","v":"Block 2"},"plyr2",{"$f":"IF(E35=1,\"W\",\"\")","v":""},{"$f":"IF(D37>0,1,0)","v":0},null,null,null,null,{"$f":"IF(K35=1,\"W\",\"\")","v":""},{"$f":"IF(J37>0,1,0)","v":0},null,{"$f":"IF(N35=1,\"W\",\"\")","v":""},{"$f":"IF(M37>0,1,0)","v":0},null,{"$f":"IF(Q35=1,\"W\",\"\")","v":""},{"$f":"IF(P37>0,1,0)","v":0},null,{"$f":"IF(T35=1,\"W\",\"\")","v":""},{"$f":"IF(S37>0,1,0)","v":0},null,null,null,null,null,null,null,null,null,{"$f":"$C$38","v":"plyr3"},{"$f":"$V$39","v":0},{"$f":"$Y$39","v":0},{"$f":"$W$39","v":-5.0000000000000001E-3},3]
[null,{"$f":"NAMES!C48","v":"Player 2"},{"$f":"H33","v":-1E-3},{"$f":"RESULTS!$M$30","v":-1E-3},{"$f":"F33","v":-1E-3},null,null,null,{"$f":"SCORES!L47","v":-1E-3},{"$f":"RESULTS!$M$23","v":-1E-3},{"$f":"SCORES!L49","v":-1E-3},{"$f":"SCORES!D70","v":-1E-3},{"$f":"RESULTS!$E$30","v":-1E-3},{"$f":"SCORES!D68","v":-1E-3},{"$f":"SCORES!H54","v":-1E-3},{"$f":"RESULTS!$I$25","v":-1E-3},{"$f":"SCORES!H56","v":-1E-3},{"$f":"SCORES!D56","v":-1E-3},{"$f":"RESULTS!$E$26","v":-1E-3},{"$f":"SCORES!D54","v":-1E-3},null,{"$f":"SUM(C35:T35)","v":0},{"$f":"SUM(C36,F36,I36,L36,O36,R36)","v":-5.0000000000000001E-3},{"$f":"SUM(E36,H36,K36,N36,Q36,T36)","v":-5.0000000000000001E-3},{"$f":"SUM(C37:T37)","v":0},null,{"$f":"VLOOKUP(C35,PLACE2,5,FALSE)","v":4},null,null,{"$f":"$C$35","v":"plyr2"},{"$f":"$V$36","v":0},{"$f":"$Y$36","v":0},{"$f":"$W$36","v":-5.0000000000000001E-3},4]
[null,{"$f":"SEED!J9","v":0},null,{"$f":"C36-E36","v":0},null,null,null,null,null,{"$f":"I36-K36","v":0},null,null,{"$f":"L36-N36","v":0},null,null,{"$f":"O36-Q36","v":0},null,null,{"$f":"R36-T36","v":0},null,null,null,null,null,null,null,null,null,null,{"$f":"$C$32","v":"plyr1"},{"$f":"$V$33","v":0},{"$f":"$Y$33","v":0},{"$f":"$W$33","v":-5.0000000000000001E-3},5]
[null,{"$f":"NAMES!C52","v":"Block 2"},"plyr3",{"$f":"IF(E38=1,\"W\",\"\")","v":""},{"$f":"IF(D40>0,1,0)","v":0},null,{"$f":"IF(H38=1,\"W\",\"\")","v":""},{"$f":"IF(G40>0,1,0)","v":0},null,null,null,null,{"$f":"IF(N38=1,\"W\",\"\")","v":""},{"$f":"IF(M40>0,1,0)","v":0},null,{"$f":"IF(Q38=1,\"W\",\"\")","v":""},{"$f":"IF(P40>0,1,0)","v":0},null,{"$f":"IF(T38=1,\"W\",\"\")","v":""},{"$f":"IF(S40>0,1,0)","v":0}]
[null,{"$f":"NAMES!C53","v":"Player 3"},{"$f":"K33","v":-1E-3},{"$f":"RESULTS!$E$27","v":-1E-3},{"$f":"I33","v":-1E-3},{"$f":"K36","v":-1E-3},{"$f":"RESULTS!$M$24","v":-1E-3},{"$f":"I36","v":-1E-3},null,null,null,{"$f":"SCORES!H61","v":-1E-3},{"$f":"RESULTS!$I$27","v":-1E-3},{"$f":"SCORES!H63","v":-1E-3},{"$f":"SCORES!D49","v":-1E-3},{"$f":"RESULTS!$E$24","v":-1E-3},{"$f":"SCORES!D47","v":-1E-3},{"$f":"SCORES!L54","v":-1E-3},{"$f":"RESULTS!$M$25","v":-1E-3},{"$f":"SCORES!L56","v":-1E-3},null,{"$f":"SUM(C38:T38)","v":0},{"$f":"SUM(C39,F39,I39,L39,O39,R39)","v":-5.0000000000000001E-3},{"$f":"SUM(E39,H39,K39,N39,Q39,T39)","v":-5.0000000000000001E-3},{"$f":"SUM(C40:T40)","v":0},null,{"$f":"VLOOKUP(C38,PLACE2,5,FALSE)","v":3}]
[null,{"$f":"SEED!J10","v":0},null,{"$f":"C39-E39","v":0},null,null,{"$f":"F39-H39","v":0},null,null,null,null,null,{"$f":"L39-N39","v":0},null,null,{"$f":"O39-Q39","v":0},null,null,{"$f":"R39-T39","v":0}]
[null,{"$f":"NAMES!C57","v":"Block 2"},"plyr4",{"$f":"IF(E41=1,\"W\",\"\")","v":""},{"$f":"IF(D43>0,1,0)","v":0},null,{"$f":"IF(H41=1,\"W\",\"\")","v":""},{"$f":"IF(G43>0,1,0)","v":0},null,{"$f":"IF(K41=1,\"W\",\"\")","v":""},{"$f":"IF(J43>0,1,0)","v":0},null,null,null,null,{"$f":"IF(Q41=1,\"W\",\"\")","v":""},{"$f":"IF(P43>0,1,0)","v":0},null,{"$f":"IF(T41=1,\"W\",\"\")","v":""},{"$f":"IF(S43>0,1,0)","v":0}]
[null,{"$f":"NAMES!C58","v":"Player 4"},{"$f":"N33","v":-1E-3},{"$f":"RESULTS!$E$22","v":-1E-3},{"$f":"L33","v":-1E-3},{"$f":"N36","v":-1E-3},{"$f":"RESULTS!$E$29","v":-1E-3},{"$f":"L36","v":-1E-3},{"$f":"N39","v":-1E-3},{"$f":"RESULTS!$I$28","v":-1E-3},{"$f":"L39","v":-1E-3},null,null,null,{"$f":"SCORES!L61","v":-1E-3},{"$f":"RESULTS!$M$27","v":-1E-3},{"$f":"SCORES!L63","v":-1E-3},{"$f":"SCORES!L42","v":-1E-3},{"$f":"RESULTS!$M$22","v":-1E-3},{"$f":"SCORES!L40","v":-1E-3},null,{"$f":"SUM(C41:T41)","v":0},{"$f":"SUM(C42,F42,I42,L42,O42,R42)","v":-5.0000000000000001E-3},{"$f":"SUM(E42,H42,K42,N42,Q42,T42)","v":-5.0000000000000001E-3},{"$f":"SUM(C43:T43)","v":0},null,{"$f":"VLOOKUP(C41,PLACE2,5,FALSE)","v":2}]
[null,{"$f":"SEED!J11","v":0},null,{"$f":"C42-E42","v":0},null,null,{"$f":"F42-H42","v":0},null,null,{"$f":"I42-K42","v":0},null,null,null,null,null,{"$f":"O42-Q42","v":0},null,null,{"$f":"R42-T42","v":0}]
[null,{"$f":"NAMES!C62","v":"Block 2"},"plyr5",{"$f":"IF(E44=1,\"W\",\"\")","v":""},{"$f":"IF(D46>0,1,0)","v":0},null,{"$f":"IF(H44=1,\"W\",\"\")","v":""},{"$f":"IF(G46>0,1,0)","v":0},null,{"$f":"IF(K44=1,\"W\",\"\")","v":""},{"$f":"IF(J46>0,1,0)","v":0},null,{"$f":"IF(N44=1,\"W\",\"\")","v":""},{"$f":"IF(M46>0,1,0)","v":0},null,null,null,null,{"$f":"IF(T44=1,\"W\",\"\")","v":""},{"$f":"IF(S46>0,1,0)","v":0}]
[null,{"$f":"NAMES!C63","v":"Player 5"},{"$f":"Q33","v":-1E-3},{"$f":"RESULTS!$I$29","v":-1E-3},{"$f":"O33","v":-1E-3},{"$f":"Q36","v":-1E-3},{"$f":"RESULTS!$I$26","v":-1E-3},{"$f":"O36","v":-1E-3},{"$f":"Q39","v":-1E-3},{"$f":"RESULTS!$E$23","v":-1E-3},{"$f":"O39","v":-1E-3},{"$f":"Q42","v":-1E-3},{"$f":"RESULTS!$M$28","v":-1E-3},{"$f":"O42","v":-1E-3},null,null,null,{"$f":"SCORES!H40","v":-1E-3},{"$f":"RESULTS!$I$21","v":-1E-3},{"$f":"SCORES!H42","v":-1E-3},null,{"$f":"SUM(C44:T44)","v":0},{"$f":"SUM(C45,F45,I45,L45,O45,R45)","v":-5.0000000000000001E-3},{"$f":"SUM(E45,H45,K45,N45,Q45,T45)","v":-5.0000000000000001E-3},{"$f":"SUM(C46:T46)","v":0},null,{"$f":"VLOOKUP(C44,PLACE2,5,FALSE)","v":1}]
[null,{"$f":"SEED!J12","v":0},null,{"$f":"C45-E45","v":0},null,null,{"$f":"F45-H45","v":0},null,null,{"$f":"I45-K45","v":0},null,null,{"$f":"L45-N45","v":0},null,null,null,null,null,{"$f":"R45-T45","v":0}]
[null,{"$f":"NAMES!C67","v":"Bye"},"plyr6",{"$f":"IF(E47=1,\"W\",\"\")","v":""},{"$f":"IF(D49>0,1,0)","v":0},null,{"$f":"IF(H47=1,\"W\",\"\")","v":""},{"$f":"IF(G49>0,1,0)","v":0},null,{"$f":"IF(K47=1,\"W\",\"\")","v":""},{"$f":"IF(J49>0,1,0)","v":0},null,{"$f":"IF(N47=1,\"W\",\"\")","v":""},{"$f":"IF(M49>0,1,0)","v":0},null,{"$f":"IF(Q47=1,\"W\",\"\")","v":""},{"$f":"IF(P49>0,1,0)","v":0}]
[null,{"$f":"NAMES!C68","v":0},{"$f":"T33","v":-1E-3},{"$f":"RESULTS!$I$24","v":-1E-3},{"$f":"R33","v":-1E-3},{"$f":"T36","v":-1E-3},{"$f":"RESULTS!$E$25","v":-1E-3},{"$f":"R36","v":-1E-3},{"$f":"T39","v":-1E-3},{"$f":"RESULTS!$M$26","v":-1E-3},{"$f":"R39","v":-1E-3},{"$f":"T42","v":-1E-3},{"$f":"RESULTS!$M$21","v":-1E-3},{"$f":"R42","v":-1E-3},{"$f":"T45","v":-1E-3},{"$f":"RESULTS!$I$22","v":-1E-3},{"$f":"R45","v":-1E-3},null,null,null,null,{"$f":"SUM(C47:T47)","v":0},{"$f":"SUM(C48,F48,I48,L48,O48,R48)","v":-5.0000000000000001E-3},{"$f":"SUM(E48,H48,K48,N48,Q48,T48)","v":-5.0000000000000001E-3},{"$f":"SUM(C49:T49)","v":0},null,{"$f":"VLOOKUP(C47,PLACE2,5,FALSE)","v":{"$error":"#N/A"}}]
[null,{"$f":"SEED!J13","v":0},null,{"$f":"C48-E48","v":0},null,null,{"$f":"F48-H48","v":0},null,null,{"$f":"I48-K48","v":0},null,null,{"$f":"L48-N48","v":0},null,null,{"$f":"O48-Q48","v":0}]
[]
[]
[null,null,null,null,null,null,null,null,null,null,null,null,null,{"$f":"N2","v":"Tournament"}]
[null,null,null,null,null,null,null,null,null,null,{"$f":"NAMES!$C$9","v":"Date"}]
[null,null,null,null,null,null,null,null,null,null,{"$f":"K4","v":"Singles"}]
[]
[null,{"$f":"SEED!D15","v":"BLOCK 3"},{"$f":"SEED!D17","v":" Block 3 Player 1"},null,null,{"$f":"SEED!D18","v":" Block 3 Player 2"},null,null,{"$f":"SEED!D19","v":" Block 3 Player 3"},null,null,{"$f":"SEED!D20","v":" Block 3 Player 4"},null,null,{"$f":"SEED!D21","v":" Block 3 Player 5"},null,null,{"$f":"SEED!D22","v":" Bye "},null,null,null," WINS"," POINTS FOR","POINTS AGAINST"," NET POINTS",null,"PLACE"]
[null,{"$f":"NAMES!C73","v":"Block 3"},"plyr1",null,null,null,{"$f":"IF(H57=1,\"W\",\"\")","v":""},{"$f":"IF(G59>0,1,0)","v":0},null,{"$f":"IF(K57=1,\"W\",\"\")","v":""},{"$f":"IF(J59>0,1,0)","v":0},null,{"$f":"IF(N57=1,\"W\",\"\")","v":""},{"$f":"IF(M59>0,1,0)","v":0},null,{"$f":"IF(Q57=1,\"W\",\"\")","v":""},{"$f":"IF(P59>0,1,0)","v":0},null,{"$f":"IF(T57=1,\"W\",\"\")","v":""},{"$f":"IF(S59>0,1,0)","v":0},null,null,null,null,null,null,null,null,null,"NAME","WINS","NET"," FOR"]
[null,{"$f":"NAMES!C74","v":"Player 1"},null,null,null,{"$f":"SCORES!L103","v":-1E-3},{"$f":"RESULTS!$M$45","v":-1E-3},{"$f":"SCORES!L105","v":-1E-3},{"$f":"SCORES!D98","v":-1E-3},{"$f":"RESULTS!$E$44","v":-1E-3},{"$f":"SCORES!D96","v":-1E-3},{"$f":"SCORES!D75","v":-1E-3},{"$f":"RESULTS!$E$37","v":-1E-3},{"$f":"SCORES!D77","v":-1E-3},{"$f":"SCORES!H105","v":-1E-3},{"$f":"RESULTS!$I$46","v":-1E-3},{"$f":"SCORES!H103","v":-1E-3},{"$f":"SCORES!H82","v":-1E-3},{"$f":"RESULTS!$I$39","v":-1E-3},{"$f":"SCORES!H84","v":-1E-3},null,{"$f":"SUM(C57:T57)","v":0},{"$f":"SUM(C58,F58,I58,L58,O58,R58)","v":-5.0000000000000001E-3},{"$f":"SUM(E58,H58,K58,N58,Q58,T58)","v":-5.0000000000000001E-3},{"$f":"SUM(C59:T59)","v":0},null,{"$f":"VLOOKUP(C57,PLACE3,5,FALSE)","v":5},null,null,{"$f":"$C$69","v":"plyr5"},{"$f":"$V$70","v":0},{"$f":"$Y$70","v":0},{"$f":"$W$70","v":-5.0000000000000001E-3},1]
[null,{"$f":"SEED!E17","v":0},null,null,null,null,{"$f":"F58-H58","v":0},null,null,{"$f":"I58-K58","v":0},null,null,{"$f":"L58-N58","v":0},null,null,{"$f":"O58-Q58","v":0},null,null,{"$f":"R58-T58","v":0},null,null,null,null,null,null,null,null,null,null,{"$f":"$C$66","v":"plyr4"},{"$f":"$V$67","v":0},{"$f":"$Y$67","v":0},{"$f":"$W$67","v":-5.0000000000000001E-3},2]
[null,{"$f":"NAMES!C78","v":"Block 3"},"plyr2",{"$f":"IF(E60=1,\"W\",\"\")","v":""},{"$f":"IF(D62>0,1,0)","v":0},null,null,null,null,{"$f":"IF(K60=1,\"W\",\"\")","v":""},{"$f":"IF(J62>0,1,0)","v":0},null,{"$f":"IF(N60=1,\"W\",\"\")","v":""},{"$f":"IF(M62>0,1,0)","v":0},null,{"$f":"IF(Q60=1,\"W\",\"\")","v":""},{"$f":"IF(P62>0,1,0)","v":0},null,{"$f":"IF(T60=1,\"W\",\"\")","v":""},{"$f":"IF(S62>0,1,0)","v":0},null,null,null,null,null,null,null,null,null,{"$f":"$C$63","v":"plyr3"},{"$f":"$V$64","v":0},{"$f":"$Y$64","v":0},{"$f":"$W$64","v":-5.0000000000000001E-3},3]
[null,{"$f":"NAMES!C79","v":"Player 2"},{"$f":"H58","v":-1E-3},{"$f":"RESULTS!$M$46","v":-1E-3},{"$f":"F58","v":-1E-3},null,null,null,{"$f":"SCORES!L82","v":-1E-3},{"$f":"RESULTS!$M$39","v":-1E-3},{"$f":"SCORES!L84","v":-1E-3},{"$f":"SCORES!D105","v":-1E-3},{"$f":"RESULTS!$E$46","v":-1E-3},{"$f":"SCORES!D103","v":-1E-3},{"$f":"SCORES!H89","v":-1E-3},{"$f":"RESULTS!$I$41","v":-1E-3},{"$f":"SCORES!H91","v":-1E-3},{"$f":"SCORES!D91","v":-1E-3},{"$f":"RESULTS!$E$42","v":-1E-3},{"$f":"SCORES!D89","v":-1E-3},null,{"$f":"SUM(C60:T60)","v":0},{"$f":"SUM(C61,F61,I61,L61,O61,R61)","v":-5.0000000000000001E-3},{"$f":"SUM(E61,H61,K61,N61,Q61,T61)","v":-5.0000000000000001E-3},{"$f":"SUM(C62:T62)","v":0},null,{"$f":"VLOOKUP(C60,PLACE3,5,FALSE)","v":4},null,null,{"$f":"$C$60","v":"plyr2"},{"$f":"$V$61","v":0},{"$f":"$Y$61","v":0},{"$f":"$W$61","v":-5.0000000000000001E-3},4]
[null,{"$f":"SEED!E18","v":0},null,{"$f":"C61-E61","v":0},null,null,null,null,null,{"$f":"I61-K61","v":0},null,null,{"$f":"L61-N61","v":0},null,null,{"$f":"O61-Q61","v":0},null,null,{"$f":"R61-T61","v":0},null,null,null,null,null,null,null,null,null,null,{"$f":"$C$57","v":"plyr1"},{"$f":"$V$58","v":0},{"$f":"$Y$58","v":0},{"$f":"$W$58","v":-5.0000000000000001E-3},5]
[null,{"$f":"NAMES!C83","v":"Block 3"},"plyr3",{"$f":"IF(E63=1,\"W\",\"\")","v":""},{"$f":"IF(D65>0,1,0)","v":0},null,{"$f":"IF(H63=1,\"W\",\"\")","v":""},{"$f":"IF(G65>0,1,0)","v":0},null,null,null,null,{"$f":"IF(N63=1,\"W\",\"\")","v":""},{"$f":"IF(M65>0,1,0)","v":0},null,{"$f":"IF(Q63=1,\"W\",\"\")","v":""},{"$f":"IF(P65>0,1,0)","v":0},null,{"$f":"IF(T63=1,\"W\",\"\")","v":""},{"$f":"IF(S65>0,1,0)","v":0}]
[null,{"$f":"NAMES!C84","v":"Player 3"},{"$f":"K58","v":-1E-3},{"$f":"RESULTS!$E$43","v":-1E-3},{"$f":"I58","v":-1E-3},{"$f":"K61","v":-1E-3},{"$f":"RESULTS!$M$40","v":-1E-3},{"$f":"I61","v":-1E-3},null,null,null,{"$f":"SCORES!H96","v":-1E-3},{"$f":"RESULTS!$I$43","v":-1E-3},{"$f":"SCORES!H98","v":-1E-3},{"$f":"SCORES!D84","v":-1E-3},{"$f":"RESULTS!$E$40","v":-1E-3},{"$f":"SCORES!D82","v":-1E-3},{"$f":"SCORES!L89","v":-1E-3},{"$f":"RESULTS!$M$41","v":-1E-3},{"$f":"SCORES!L91","v":-1E-3},null,{"$f":"SUM(C63:T63)","v":0},{"$f":"SUM(C64,F64,I64,L64,O64,R64)","v":-5.0000000000000001E-3},{"$f":"SUM(E64,H64,K64,N64,Q64,T64)","v":-5.0000000000000001E-3},{"$f":"SUM(C65:T65)","v":0},null,{"$f":"VLOOKUP(C63,PLACE3,5,FALSE)","v":3}]
[null,{"$f":"SEED!E19","v":0},null,{"$f":"C64-E64","v":0},null,null,{"$f":"F64-H64","v":0},null,null,null,null,null,{"$f":"L64-N64","v":0},null,null,{"$f":"O64-Q64","v":0},null,null,{"$f":"R64-T64","v":0}]
[null,{"$f":"NAMES!C88","v":"Block 3"},"plyr4",{"$f":"IF(E66=1,\"W\",\"\")","v":""},{"$f":"IF(D68>0,1,0)","v":0},null,{"$f":"IF(H66=1,\"W\",\"\")","v":""},{"$f":"IF(G68>0,1,0)","v":0},null,{"$f":"IF(K66=1,\"W\",\"\")","v":""},{"$f":"IF(J68>0,1,0)","v":0},null,null,null,null,{"$f":"IF(Q66=1,\"W\",\"\")","v":""},{"$f":"IF(P68>0,1,0)","v":0},null,{"$f":"IF(T66=1,\"W\",\"\")","v":""},{"$f":"IF(S68>0,1,0)","v":0}]
[null,{"$f":"NAMES!C89","v":"Player 4"},{"$f":"N58","v":-1E-3},{"$f":"RESULTS!$E$38","v":-1E-3},{"$f":"L58","v":-1E-3},{"$f":"N61","v":-1E-3},{"$f":"RESULTS!$E$45","v":-1E-3},{"$f":"L61","v":-1E-3},{"$f":"N64","v":-1E-3},{"$f":"RESULTS!$I$44","v":-1E-3},{"$f":"L64","v":-1E-3},null,null,null,{"$f":"SCORES!L96","v":-1E-3},{"$f":"RESULTS!$M$43","v":-1E-3},{"$f":"SCORES!L98","v":-1E-3},{"$f":"SCORES!L77","v":-1E-3},{"$f":"RESULTS!$M$38","v":-1E-3},{"$f":"SCORES!L75","v":-1E-3},null,{"$f":"SUM(C66:T66)","v":0},{"$f":"SUM(C67,F67,I67,L67,O67,R67)","v":-5.0000000000000001E-3},{"$f":"SUM(E67,H67,K67,N67,Q67,T67)","v":-5.0000000000000001E-3},{"$f":"SUM(C68:T68)","v":0},null,{"$f":"VLOOKUP(C66,PLACE3,5,FALSE)","v":2}]
[null,{"$f":"SEED!E20","v":0},null,{"$f":"C67-E67","v":0},null,null,{"$f":"F67-H67","v":0},null,null,{"$f":"I67-K67","v":0},null,null,null,null,null,{"$f":"O67-Q67","v":0},null,null,{"$f":"R67-T67","v":0}]
[null,{"$f":"NAMES!C93","v":"Block 3"},"plyr5",{"$f":"IF(E69=1,\"W\",\"\")","v":""},{"$f":"IF(D71>0,1,0)","v":0},null,{"$f":"IF(H69=1,\"W\",\"\")","v":""},{"$f":"IF(G71>0,1,0)","v":0},null,{"$f":"IF(K69=1,\"W\",\"\")","v":""},{"$f":"IF(J71>0,1,0)","v":0},null,{"$f":"IF(N69=1,\"W\",\"\")","v":""},{"$f":"IF(M71>0,1,0)","v":0},null,null,null,null,{"$f":"IF(T69=1,\"W\",\"\")","v":""},{"$f":"IF(S71>0,1,0)","v":0}]
[null,{"$f":"NAMES!C94","v":"Player 5"},{"$f":"Q58","v":-1E-3},{"$f":"RESULTS!$I$45","v":-1E-3},{"$f":"O58","v":-1E-3},{"$f":"Q61","v":-1E-3},{"$f":"RESULTS!$I$42","v":-1E-3},{"$f":"O61","v":-1E-3},{"$f":"Q64","v":-1E-3},{"$f":"RESULTS!$E$39","v":-1E-3},{"$f":"O64","v":-1E-3},{"$f":"Q67","v":-1E-3},{"$f":"RESULTS!$M$44","v":-1E-3},{"$f":"O67","v":-1E-3},null,null,null,{"$f":"SCORES!H75","v":-1E-3},{"$f":"RESULTS!$I$37","v":-1E-3},{"$f":"SCORES!H77","v":-1E-3},null,{"$f":"SUM(C69:T69)","v":0},{"$f":"SUM(C70,F70,I70,L70,O70,R70)","v":-5.0000000000000001E-3},{"$f":"SUM(E70,H70,K70,N70,Q70,T70)","v":-5.0000000000000001E-3},{"$f":"SUM(C71:T71)","v":0},null,{"$f":"VLOOKUP(C69,PLACE3,5,FALSE)","v":1}]
[null,{"$f":"SEED!E21","v":0},null,{"$f":"C70-E70","v":0},null,null,{"$f":"F70-H70","v":0},null,null,{"$f":"I70-K70","v":0},null,null,{"$f":"L70-N70","v":0},null,null,null,null,null,{"$f":"R70-T70","v":0}]
[null,{"$f":"NAMES!C98","v":"Bye"},"plyr6",{"$f":"IF(E72=1,\"W\",\"\")","v":""},{"$f":"IF(D74>0,1,0)","v":0},null,{"$f":"IF(H72=1,\"W\",\"\")","v":""},{"$f":"IF(G74>0,1,0)","v":0},null,{"$f":"IF(K72=1,\"W\",\"\")","v":""},{"$f":"IF(J74>0,1,0)","v":0},null,{"$f":"IF(N72=1,\"W\",\"\")","v":""},{"$f":"IF(M74>0,1,0)","v":0},null,{"$f":"IF(Q72=1,\"W\",\"\")","v":""},{"$f":"IF(P74>0,1,0)","v":0}]
[null,{"$f":"NAMES!C99","v":0},{"$f":"T58","v":-1E-3},{"$f":"RESULTS!$I$40","v":-1E-3},{"$f":"R58","v":-1E-3},{"$f":"T61","v":-1E-3},{"$f":"RESULTS!$E$41","v":-1E-3},{"$f":"R61","v":-1E-3},{"$f":"T64","v":-1E-3},{"$f":"RESULTS!$M$42","v":-1E-3},{"$f":"R64","v":-1E-3},{"$f":"T67","v":-1E-3},{"$f":"RESULTS!$M$37","v":-1E-3},{"$f":"R67","v":-1E-3},{"$f":"T70","v":-1E-3},{"$f":"RESULTS!$I$38","v":-1E-3},{"$f":"R70","v":-1E-3},null,null,null,null,{"$f":"SUM(C72:T72)","v":0},{"$f":"SUM(C73,F73,I73,L73,O73,R73)","v":-5.0000000000000001E-3},{"$f":"SUM(E73,H73,K73,N73,Q73,T73)","v":-5.0000000000000001E-3},{"$f":"SUM(C74:T74)","v":0},null,{"$f":"VLOOKUP(C72,PLACE3,5,FALSE)","v":{"$error":"#N/A"}}]
[null,{"$f":"SEED!E22","v":0},null,{"$f":"C73-E73","v":0},null,null,{"$f":"F73-H73","v":0},null,null,{"$f":"I73-K73","v":0},null,null,{"$f":"L73-N73","v":0},null,null,{"$f":"O73-Q73","v":0}]
[]
[]
[null,null,null,null,null,null,null,null,null,null,null,null,null,{"$f":"N2","v":"Tournament"}]
[null,null,null,null,null,null,null,null,null,null,{"$f":"NAMES!$C$9","v":"Date"}]
[null,null,null,null,null,null,null,null,null,null,{"$f":"K4","v":"Singles"},null,null,{"$f":"K4","v":"Singles"}]
[]
[null,{"$f":"SEED!I15","v":"BLOCK 4"},{"$f":"SEED!I17","v":" Block 4 Player 1"},null,null,{"$f":"SEED!I18","v":" Block 4 Player 2"},null,null,{"$f":"SEED!I19","v":" Block 4 Player 3"},null,null,{"$f":"SEED!I20","v":" Block 4 Player 4"},null,null,{"$f":"SEED!I21","v":" Block 4 Player 5"},null,null,{"$f":"SEED!I22","v":" Bye "},null,null,null," WINS"," POINTS FOR","POINTS AGAINST"," NET POINTS",null,"PLACE"]
[null,{"$f":"NAMES!C104","v":"Block 4"},"plyr1",null,null,null,{"$f":"IF(H82=1,\"W\",\"\")","v":""},{"$f":"IF(G84>0,1,0)","v":0},null,{"$f":"IF(K82=1,\"W\",\"\")","v":""},{"$f":"IF(J84>0,1,0)","v":0},null,{"$f":"IF(N82=1,\"W\",\"\")","v":""},{"$f":"IF(M84>0,1,0)","v":0},null,{"$f":"IF(Q82=1,\"W\",\"\")","v":""},{"$f":"IF(P84>0,1,0)","v":0},null,{"$f":"IF(T82=1,\"W\",\"\")","v":""},{"$f":"IF(S84>0,1,0)","v":0},null,null,null,null,null,null,null,null,null,"NAME","WINS","NET"," FOR"]
[null,{"$f":"NAMES!C105","v":"Player 1"},null,null,null,{"$f":"SCORES!L138","v":-1E-3},{"$f":"RESULTS!$M$61","v":-1E-3},{"$f":"SCORES!L140","v":-1E-3},{"$f":"SCORES!D133","v":-1E-3},{"$f":"RESULTS!$E$60","v":-1E-3},{"$f":"SCORES!D131","v":-1E-3},{"$f":"SCORES!D110","v":-1E-3},{"$f":"RESULTS!$E$53","v":-1E-3},{"$f":"SCORES!D112","v":-1E-3},{"$f":"SCORES!H140","v":-1E-3},{"$f":"RESULTS!$I$62","v":-1E-3},{"$f":"SCORES!H138","v":-1E-3},{"$f":"SCORES!H117","v":-1E-3},{"$f":"RESULTS!$I$55","v":-1E-3},{"$f":"SCORES!H119","v":-1E-3},null,{"$f":"SUM(C82:T82)","v":0},{"$f":"SUM(C83,F83,I83,L83,O83,R83)","v":-5.0000000000000001E-3},{"$f":"SUM(E83,H83,K83,N83,Q83,T83)","v":-5.0000000000000001E-3},{"$f":"SUM(C84:T84)","v":0},null,{"$f":"VLOOKUP(C82,PLACE4,5,FALSE)","v":5},null,null,{"$f":"$C$94","v":"plyr5"},{"$f":"$V$95","v":0},{"$f":"$Y$95","v":0},{"$f":"$W$95","v":-5.0000000000000001E-3},1]
[null,{"$f":"SEED!J17","v":0},null,null,null,null,{"$f":"F83-H83","v":0},null,null,{"$f":"I83-K83","v":0},null,null,{"$f":"L83-N83","v":0},null,null,{"$f":"O83-Q83","v":0},null,null,{"$f":"R83-T83","v":0},null,null,null,null,null,null,null,null,null,null,{"$f":"$C$91","v":"plyr4"},{"$f":"$V$92","v":0},{"$f":"$Y$92","v":0},{"$f":"$W$92","v":-5.0000000000000001E-3},2]
[null,{"$f":"NAMES!C109","v":"Block 4"},"plyr2",{"$f":"IF(E85=1,\"W\",\"\")","v":""},{"$f":"IF(D87>0,1,0)","v":0},null,null,null,null,{"$f":"IF(K85=1,\"W\",\"\")","v":""},{"$f":"IF(J87>0,1,0)","v":0},null,{"$f":"IF(N85=1,\"W\",\"\")","v":""},{"$f":"IF(M87>0,1,0)","v":0},null,{"$f":"IF(Q85=1,\"W\",\"\")","v":""},{"$f":"IF(P87>0,1,0)","v":0},null,{"$f":"IF(T85=1,\"W\",\"\")","v":""},{"$f":"IF(S87>0,1,0)","v":0},null,null,null,null,null,null,null,null,null,{"$f":"$C$88","v":"plyr3"},{"$f":"$V$89","v":0},{"$f":"$Y$89","v":0},{"$f":"$W$89","v":-5.0000000000000001E-3},3]
[null,{"$f":"NAMES!C110","v":"Player 2"},{"$f":"H83","v":-1E-3},{"$f":"RESULTS!$M$62","v":-1E-3},{"$f":"F83","v":-1E-3},null,null,null,{"$f":"SCORES!L117","v":-1E-3},{"$f":"RESULTS!$M$55","v":-1E-3},{"$f":"SCORES!L119","v":-1E-3},{"$f":"SCORES!D140","v":-1E-3},{"$f":"RESULTS!$E$62","v":-1E-3},{"$f":"SCORES!D138","v":-1E-3},{"$f":"SCORES!H124","v":-1E-3},{"$f":"RESULTS!$I$57","v":-1E-3},{"$f":"SCORES!H126","v":-1E-3},{"$f":"SCORES!D126","v":-1E-3},{"$f":"RESULTS!$E$58","v":-1E-3},{"$f":"SCORES!D124","v":-1E-3},null,{"$f":"SUM(C85:T85)","v":0},{"$f":"SUM(C86,F86,I86,L86,O86,R86)","v":-5.0000000000000001E-3},{"$f":"SUM(E86,H86,K86,N86,Q86,T86)","v":-5.0000000000000001E-3},{"$f":"SUM(C87:T87)","v":0},null,{"$f":"VLOOKUP(C85,PLACE4,5,FALSE)","v":4},null,null,{"$f":"$C$85","v":"plyr2"},{"$f":"$V$86","v":0},{"$f":"$Y$86","v":0},{"$f":"$W$86","v":-5.0000000000000001E-3},4]
[null,{"$f":"SEED!J18","v":0},null,{"$f":"C86-E86","v":0},null,null,null,null,null,{"$f":"I86-K86","v":0},null,null,{"$f":"L86-N86","v":0},null,null,{"$f":"O86-Q86","v":0},null,null,{"$f":"R86-T86","v":0},null,null,null,null,null,null,null,null,null,null,{"$f":"$C$82","v":"plyr1"},{"$f":"$V$83","v":0},{"$f":"$Y$83","v":0},{"$f":"$W$83","v":-5.0000000000000001E-3},5]
[null,{"$f":"NAMES!C114","v":"Block 4"},"plyr3",{"$f":"IF(E88=1,\"W\",\"\")","v":""},{"$f":"IF(D90>0,1,0)","v":0},null,{"$f":"IF(H88=1,\"W\",\"\")","v":""},{"$f":"IF(G90>0,1,0)","v":0},null,null,null,null,{"$f":"IF(N88=1,\"W\",\"\")","v":""},{"$f":"IF(M90>0,1,0)","v":0},null,{"$f":"IF(Q88=1,\"W\",\"\")","v":""},{"$f":"IF(P90>0,1,0)","v":0},null,{"$f":"IF(T88=1,\"W\",\"\")","v":""},{"$f":"IF(S90>0,1,0)","v":0}]
[null,{"$f":"NAMES!C115","v":"Player 3"},{"$f":"K83","v":-1E-3},{"$f":"RESULTS!$E$59","v":-1E-3},{"$f":"I83","v":-1E-3},{"$f":"K86","v":-1E-3},{"$f":"RESULTS!$M$56","v":-1E-3},{"$f":"I86","v":-1E-3},null,null,null,{"$f":"SCORES!H131","v":-1E-3},{"$f":"RESULTS!$I$59","v":-1E-3},{"$f":"SCORES!H133","v":-1E-3},{"$f":"SCORES!D119","v":-1E-3},{"$f":"RESULTS!$E$56","v":-1E-3},{"$f":"SCORES!D117","v":-1E-3},{"$f":"SCORES!L124","v":-1E-3},{"$f":"RESULTS!$M$57","v":-1E-3},{"$f":"SCORES!L126","v":-1E-3},null,{"$f":"SUM(C88:T88)","v":0},{"$f":"SUM(C89,F89,I89,L89,O89,R89)","v":-5.0000000000000001E-3},{"$f":"SUM(E89,H89,K89,N89,Q89,T89)","v":-5.0000000000000001E-3},{"$f":"SUM(C90:T90)","v":0},null,{"$f":"VLOOKUP(C88,PLACE4,5,FALSE)","v":3}]
[null,{"$f":"SEED!J19","v":0},null,{"$f":"C89-E89","v":0},null,null,{"$f":"F89-H89","v":0},null,null,null,null,null,{"$f":"L89-N89","v":0},null,null,{"$f":"O89-Q89","v":0},null,null,{"$f":"R89-T89","v":0}]
[null,{"$f":"NAMES!C119","v":"Block 4"},"plyr4",{"$f":"IF(E91=1,\"W\",\"\")","v":""},{"$f":"IF(D93>0,1,0)","v":0},null,{"$f":"IF(H91=1,\"W\",\"\")","v":""},{"$f":"IF(G93>0,1,0)","v":0},null,{"$f":"IF(K91=1,\"W\",\"\")","v":""},{"$f":"IF(J93>0,1,0)","v":0},null,null,null,null,{"$f":"IF(Q91=1,\"W\",\"\")","v":""},{"$f":"IF(P93>0,1,0)","v":0},null,{"$f":"IF(T91=1,\"W\",\"\")","v":""},{"$f":"IF(S93>0,1,0)","v":0}]
[null,{"$f":"NAMES!C120","v":"Player 4"},{"$f":"N83","v":-1E-3},{"$f":"RESULTS!$E$54","v":-1E-3},{"$f":"L83","v":-1E-3},{"$f":"N86","v":-1E-3},{"$f":"RESULTS!$E$61","v":-1E-3},{"$f":"L86","v":-1E-3},{"$f":"N89","v":-1E-3},{"$f":"RESULTS!$I$60","v":-1E-3},{"$f":"L89","v":-1E-3},null,null,null,{"$f":"SCORES!L131","v":-1E-3},{"$f":"RESULTS!$M$59","v":-1E-3},{"$f":"SCORES!L133","v":-1E-3},{"$f":"SCORES!L112","v":-1E-3},{"$f":"RESULTS!$M$54","v":-1E-3},{"$f":"SCORES!L110","v":-1E-3},null,{"$f":"SUM(C91:T91)","v":0},{"$f":"SUM(C92,F92,I92,L92,O92,R92)","v":-5.0000000000000001E-3},{"$f":"SUM(E92,H92,K92,N92,Q92,T92)","v":-5.0000000000000001E-3},{"$f":"SUM(C93:T93)","v":0},null,{"$f":"VLOOKUP(C91,PLACE4,5,FALSE)","v":2}]
[null,{"$f":"SEED!J20","v":0},null,{"$f":"C92-E92","v":0},null,null,{"$f":"F92-H92","v":0},null,null,{"$f":"I92-K92","v":0},null,null,null,null,null,{"$f":"O92-Q92","v":0},null,null,{"$f":"R92-T92","v":0}]
[null,{"$f":"NAMES!C124","v":"Block 4"},"plyr5",{"$f":"IF(E94=1,\"W\",\"\")","v":""},{"$f":"IF(D96>0,1,0)","v":0},null,{"$f":"IF(H94=1,\"W\",\"\")","v":""},{"$f":"IF(G96>0,1,0)","v":0},null,{"$f":"IF(K94=1,\"W\",\"\")","v":""},{"$f":"IF(J96>0,1,0)","v":0},null,{"$f":"IF(N94=1,\"W\",\"\")","v":""},{"$f":"IF(M96>0,1,0)","v":0},null,null,null,null,{"$f":"IF(T94=1,\"W\",\"\")","v":""},{"$f":"IF(S96>0,1,0)","v":0}]
[null,{"$f":"NAMES!C125","v":"Player 5"},{"$f":"Q83","v":-1E-3},{"$f":"RESULTS!$I$61","v":-1E-3},{"$f":"O83","v":-1E-3},{"$f":"Q86","v":-1E-3},{"$f":"RESULTS!$I$58","v":-1E-3},{"$f":"O86","v":-1E-3},{"$f":"Q89","v":-1E-3},{"$f":"RESULTS!$E$55","v":-1E-3},{"$f":"O89","v":-1E-3},{"$f":"Q92","v":-1E-3},{"$f":"RESULTS!$M$60","v":-1E-3},{"$f":"O92","v":-1E-3},null,null,null,{"$f":"SCORES!H110","v":-1E-3},{"$f":"RESULTS!$I$53","v":-1E-3},{"$f":"SCORES!H112","v":-1E-3},null,{"$f":"SUM(C94:T94)","v":0},{"$f":"SUM(C95,F95,I95,L95,O95,R95)","v":-5.0000000000000001E-3},{"$f":"SUM(E95,H95,K95,N95,Q95,T95)","v":-5.0000000000000001E-3},{"$f":"SUM(C96:T96)","v":0},null,{"$f":"VLOOKUP(C94,PLACE4,5,FALSE)","v":1}]
[null,{"$f":"SEED!J21","v":0},null,{"$f":"C95-E95","v":0},null,null,{"$f":"F95-H95","v":0},null,null,{"$f":"I95-K95","v":0},null,null,{"$f":"L95-N95","v":0},null,null,null,null,null,{"$f":"R95-T95","v":0}]
[null,{"$f":"NAMES!C129","v":"Bye"},"pklyr6",{"$f":"IF(E97=1,\"W\",\"\")","v":""},{"$f":"IF(D99>0,1,0)","v":0},null,{"$f":"IF(H97=1,\"W\",\"\")","v":""},{"$f":"IF(G99>0,1,0)","v":0},null,{"$f":"IF(K97=1,\"W\",\"\")","v":""},{"$f":"IF(J99>0,1,0)","v":0},null,{"$f":"IF(N97=1,\"W\",\"\")","v":""},{"$f":"IF(M99>0,1,0)","v":0},null,{"$f":"IF(Q97=1,\"W\",\"\")","v":""},{"$f":"IF(P99>0,1,0)","v":0}]
[null,{"$f":"NAMES!C130","v":0},{"$f":"T83","v":-1E-3},{"$f":"RESULTS!$I$56","v":-1E-3},{"$f":"R83","v":-1E-3},{"$f":"T86","v":-1E-3},{"$f":"RESULTS!$E$57","v":-1E-3},{"$f":"R86","v":-1E-3},{"$f":"T89","v":-1E-3},{"$f":"RESULTS!$M$58","v":-1E-3},{"$f":"R89","v":-1E-3},{"$f":"T92","v":-1E-3},{"$f":"RESULTS!$M$53","v":-1E-3},{"$f":"R92","v":-1E-3},{"$f":"T95","v":-1E-3},{"$f":"RESULTS!$I$54","v":-1E-3},{"$f":"R95","v":-1E-3},null,null,null,null,{"$f":"SUM(C97:T97)","v":0},{"$f":"SUM(C98,F98,I98,L98,O98,R98)","v":-5.0000000000000001E-3},{"$f":"SUM(E98,H98,K98,N98,Q98,T98)","v":-5.0000000000000001E-3},{"$f":"SUM(C99:T99)","v":0},null,{"$f":"VLOOKUP(C97,PLACE4,5,FALSE)","v":{"$error":"#N/A"}}]
[null,{"$f":"SEED!J22","v":0},null,{"$f":"C98-E98","v":0},null,null,{"$f":"F98-H98","v":0},null,null,{"$f":"I98-K98","v":0},null,null,{"$f":"L98-N98","v":0},null,null,{"$f":"O98-Q98","v":0}]

{"sheet":"SCORECARD","index":9,"n_rows":514,"n_cols":10,"rows_kept":514,"cut":false,"hidden":true,"merged":[]}
[null,null,null,null,null,"TOURNAMENT SCORE CARD"]
[null,null,null,null,null,{"$f":"BLOCK!$N$2","v":"Tournament"}]
[null,null,null,null,null,{"$f":"BLOCK!$K$4","v":"Singles"}]
[null,null,null,null,null,{"$f":"BLOCK!$B$6","v":"BLOCK 1"}]
[null,null,"PLAYER:",{"$f":"BLOCK!C6","v":" Block 1 Player 1"},null,null,null,"HANDICAP",{"$f":"BLOCK!B9","v":0}]
[null,null,null,null,null,"OPP.","PLAYER","OPP.","NET"]
[null,null,null,"OPPONENT",null,"HCP","SCORE","SCORE","PTS"]
[null,null,{"$f":"BLOCK!F6","v":" Block 1 Player 2"},null,null,{"$f":"BLOCK!B12","v":0},{"$f":"BLOCK!F8","v":-1E-3},{"$f":"BLOCK!H8","v":-1E-3},{"$f":"G8-H8","v":0},"BLOCK"]
[null,null,{"$f":"BLOCK!I6","v":" Block 1 Player 3"},null,null,{"$f":"BLOCK!B15","v":0},{"$f":"BLOCK!I8","v":-1E-3},{"$f":"BLOCK!K8","v":-1E-3},{"$f":"G9-H9","v":0},"NET"]
[null,null,{"$f":"BLOCK!L6","v":" Block 1 Player 4"},null,null,{"$f":"BLOCK!B18","v":0},{"$f":"BLOCK!L8","v":-1E-3},{"$f":"BLOCK!N8","v":-1E-3},{"$f":"G10-H10","v":0},{"$f":"SUM(I8:I12)","v":0}]
[null,null,{"$f":"BLOCK!O6","v":" Block 1 Player 5"},null,null,{"$f":"BLOCK!B21","v":0},{"$f":"BLOCK!O8","v":-1E-3},{"$f":"BLOCK!Q8","v":-1E-3},{"$f":"G11-H11","v":0}]
[null,null,{"$f":"BLOCK!R6","v":" Bye "},null,null,{"$f":"BLOCK!B24","v":0},{"$f":"BLOCK!R8","v":-1E-3},{"$f":"BLOCK!T8","v":-1E-3},0]
[null,null," ",null,null," ",null,null,0]
[null,null," ",null,null," ",null,null,0]
[null,null," ",null,null," ",null,null,0]
[null,null," ",null,null," ",null,null,0]
[null,null," ",null,null," ",null,null,0,"TNAMNT"]
[null,null," ",null,null," ",null,null,0,"NET"]
[null,null," ",null,null," ",null,null,0,{"$f":"SUM(I8:I22)","v":0}]
[null,null," ",null,null," ",null,null,0]
[null,null," ",null,null," ",null,null,0]
[null,null," ",null,null," ",null,null,{"$f":"G22-H22","v":0}]
[]
[null,null,"PLAYER:",{"$f":"C8","v":" Block 1 Player 2"},null,null,null,"HANDICAP",{"$f":"F8","v":0}]
[null,null,null,null,null,"OPP.","PLAYER","OPP.","NET"]
[null,null,null,"OPPONENT",null,"HCP","SCORE","SCORE","PTS"]
[null,null,{"$f":"D5","v":" Block 1 Player 1"},null,null,{"$f":"I5","v":0},{"$f":"BLOCK!C11","v":-1E-3},{"$f":"BLOCK!E11","v":-1E-3},{"$f":"G27-H27","v":0},"BLOCK"]
[null,null,{"$f":"C9","v":" Block 1 Player 3"},null,null,{"$f":"F9","v":0},{"$f":"BLOCK!I11","v":-1E-3},{"$f":"BLOCK!K11","v":-1E-3},0,"NET"]
[null,null,{"$f":"C10","v":" Block 1 Player 4"},null,null,{"$f":"F10","v":0},{"$f":"BLOCK!L11","v":-1E-3},{"$f":"BLOCK!N11","v":-1E-3},0,{"$f":"SUM(I27:I31)","v":0}]
[null,null,{"$f":"C11","v":" Block 1 Player 5"},null,null,{"$f":"F11","v":0},{"$f":"BLOCK!O11","v":-1E-3},{"$f":"BLOCK!Q11","v":-1E-3},0]
[null,null,{"$f":"C12","v":" Bye "},null,null,{"$f":"F12","v":0},{"$f":"BLOCK!R11","v":-1E-3},{"$f":"BLOCK!T11","v":-1E-3},0]
[null,null," ",null,null," ",null,null,0]
[null,null," ",null,null," ",null,null,0]
[null,null," ",null,null," ",null,null,0]
[null,null," ",null,null," ",null,null,0]
[null,null," ",null,null," ",null,null,0,"TNAMNT"]
[null,null," ",null,null," ",null,null,0,"NET"]
[null,null," ",null,null," ",null,null,0,{"$f":"SUM(I27:I41)","v":0}]
[null,null," ",null,null," ",null,null,0]
[null,null," ",null,null," ",null,null,0]
[null,null," ",null,null," ",null,null,{"$f":"G41-H41","v":0}]
[]
[]
[null,null,null,null,null,"TOURNAMENT SCORE CARD"]
[null,null,null,null,null,{"$f":"BLOCK!$N$2","v":"Tournament"}]
[null,null,null,null,null,{"$f":"BLOCK!$K$4","v":"Singles"}]
[null,null,null,null,null,{"$f":"BLOCK!$B$6","v":"BLOCK 1"}]
[null,null,"PLAYER:",{"$f":"C9","v":" Block 1 Player 3"},null,null,null,"HANDICAP",{"$f":"F9","v":0}]
[null,null,null,null,null,"OPP.","PLAYER","OPP.","NET"]
[null,null,null,"OPPONENT",null,"HCP","SCORE","SCORE","PTS"]
[null,null,{"$f":"D5","v":" Block 1 Player 1"},null,null,{"$f":"I5","v":0},{"$f":"BLOCK!C14","v":-1E-3},{"$f":"BLOCK!E14","v":-1E-3},{"$f":"G51-H51","v":0},"BLOCK"]
[null,null,{"$f":"C8","v":" Block 1 Player 2"},null,null,{"$f":"F8","v":0},{"$f":"BLOCK!F14","v":-1E-3},{"$f":"BLOCK!H14","v":-1E-3},0,"NET"]
[null,null,{"$f":"C10","v":" Block 1 Player 4"},null,null,{"$f":"F10","v":0},{"$f":"BLOCK!L14","v":-1E-3},{"$f":"BLOCK!N14","v":-1E-3},0,{"$f":"SUM(I51:I55)","v":0}]
[null,null,{"$f":"C11","v":" Block 1 Player 5"},null,null,{"$f":"F11","v":0},{"$f":"BLOCK!O14","v":-1E-3},{"$f":"BLOCK!Q14","v":-1E-3},0]
[null,null,{"$f":"C12","v":" Bye "},null,null,{"$f":"F12","v":0},{"$f":"BLOCK!R14","v":-1E-3},{"$f":"BLOCK!T14","v":-1E-3},0]
[null,null," ",null,null," ",null,null,0]
[null,null," ",null,null," ",null,null,0]
[null,null," ",null,null," ",null,null,0]
[null,null," ",null,null," ",null,null,0]
[null,null," ",null,null," ",null,null,0,"TNAMNT"]
[null,null," ",null,null," ",null,null,0,"NET"]
[null,null," ",null,null," ",null,null,0,{"$f":"SUM(I51:I65)","v":0}]
[null,null," ",null,null," ",null,null,0]
[null,null," ",null,null," ",null,null,0]
[null,null," ",null,null," ",null,null,{"$f":"G65-H65","v":0}]
[null,null,null,null,null," "]
[null,null,"PLAYER:",{"$f":"C10","v":" Block 1 Player 4"},null,null,null,"HANDICAP",{"$f":"F10","v":0}]
[null,null,null,null,null,"OPP.","PLAYER","OPP.","NET"]
[null,null,null,"OPPONENT",null,"HCP","SCORE","SCORE","PTS"]
[null,null,{"$f":"D5","v":" Block 1 Player 1"},null,null,{"$f":"I5","v":0},{"$f":"BLOCK!C17","v":-1E-3},{"$f":"BLOCK!E17","v":-1E-3},{"$f":"G70-H70","v":0},"BLOCK"]
[null,null,{"$f":"C8","v":" Block 1 Player 2"},null,null,{"$f":"F8","v":0},{"$f":"BLOCK!F17","v":-1E-3},{"$f":"BLOCK!H17","v":-1E-3},0,"NET"]
[null,null,{"$f":"C9","v":" Block 1 Player 3"},null,null,{"$f":"F9","v":0},{"$f":"BLOCK!I17","v":-1E-3},{"$f":"BLOCK!K17","v":-1E-3},0,{"$f":"SUM(I70:I74)","v":0}]
[null,null,{"$f":"C11","v":" Block 1 Player 5"},null,null,{"$f":"F11","v":0},{"$f":"BLOCK!O17","v":-1E-3},{"$f":"BLOCK!Q17","v":-1E-3},0]
[null,null,{"$f":"C12","v":" Bye "},null,null,{"$f":"F12","v":0},{"$f":"BLOCK!R17","v":-1E-3},{"$f":"BLOCK!T17","v":-1E-3},0]
[null,null," ",null,null," ",null,null,0]
[null,null," ",null,null," ",null,null,0]
[null,null," ",null,null," ",null,null,0]
[null,null," ",null,null," ",null,null,0]
[null,null," ",null,null," ",null,null,0,"TNAMNT"]
[null,null," ",null,null," ",null,null,0,"NET"]
[null,null," ",null,null," ",null,null,0,{"$f":"SUM(I70:I84)","v":0}]
[null,null," ",null,null," ",null,null,0]
[null,null," ",null,null," ",null,null,0]
[null,null," ",null,null," ",null,null,{"$f":"G84-H84","v":0}]
[]
[]
[null,null,null,null,null,"TOURNAMENT SCORE CARD"]
[null,null,null,null,null,{"$f":"BLOCK!$N$2","v":"Tournament"}]
[null,null,null,null,null,{"$f":"BLOCK!$K$4","v":"Singles"}]
[null,null,null,null,null,{"$f":"BLOCK!$B$6","v":"BLOCK 1"}]
[null,null,"PLAYER:",{"$f":"C11","v":" Block 1 Player 5"},null,null,null,"HANDICAP",{"$f":"F11","v":0}]
[null,null,null,null,null,"OPP.","PLAYER","OPP.","NET"]
[null,null,null,"OPPONENT",null,"HCP","SCORE","SCORE","PTS"]
[null,null,{"$f":"D5","v":" Block 1 Player 1"},null,null,{"$f":"I5","v":0},{"$f":"BLOCK!C20","v":-1E-3},{"$f":"BLOCK!E20","v":-1E-3},{"$f":"G94-H94","v":0},"BLOCK"]
[null,null,{"$f":"C8","v":" Block 1 Player 2"},null,null,{"$f":"F8","v":0},{"$f":"BLOCK!F20","v":-1E-3},{"$f":"BLOCK!H20","v":-1E-3},0,"NET"]
[null,null,{"$f":"C9","v":" Block 1 Player 3"},null,null,{"$f":"F9","v":0},{"$f":"BLOCK!I20","v":-1E-3},{"$f":"BLOCK!K20","v":-1E-3},0,{"$f":"SUM(I94:I98)","v":0}]
[null,null,{"$f":"C10","v":" Block 1 Player 4"},null,null,{"$f":"F10","v":0},{"$f":"BLOCK!L20","v":-1E-3},{"$f":"BLOCK!N20","v":-1E-3},0]
[null,null,{"$f":"C12","v":" Bye "},null,null,{"$f":"F12","v":0},{"$f":"BLOCK!R20","v":-1E-3},{"$f":"BLOCK!T20","v":-1E-3},0]
[null,null," ",null,null," ",null,null,0]
[null,null," ",null,null," ",null,null,0]
[null,null," ",null,null," ",null,null,0]
[null,null," ",null,null," ",null,null,0]
[null,null," ",null,null," ",null,null,0,"TNAMNT"]
[null,null," ",null,null," ",null,null,0,"NET"]
[null,null," ",null,null," ",null,null,0,{"$f":"SUM(I94:I108)","v":0}]
[null,null," ",null,null," ",null,null,0]
[null,null," ",null,null," ",null,null,0]
[null,null," ",null,null," ",null,null,{"$f":"G108-H108","v":0}]
[]
[null,null,"PLAYER:",{"$f":"C12","v":" Bye "},null,null,null,"HANDICAP",{"$f":"F12","v":0}]
[null,null,null,null,null,"OPP.","PLAYER","OPP.","NET"]
[null,null,null,"OPPONENT",null,"HCP","SCORE","SCORE","PTS"]
[null,null,{"$f":"D5","v":" Block 1 Player 1"},null,null,{"$f":"I5","v":0},{"$f":"BLOCK!C23","v":-1E-3},{"$f":"BLOCK!E23","v":-1E-3},{"$f":"G113-H113","v":0},"BLOCK"]
[null,null,{"$f":"C8","v":" Block 1 Player 2"},null,null,{"$f":"F8","v":0},{"$f":"BLOCK!F23","v":-1E-3},{"$f":"BLOCK!H23","v":-1E-3},0,"NET"]
[null,null,{"$f":"C9","v":" Block 1 Player 3"},null,null,{"$f":"F9","v":0},{"$f":"BLOCK!I23","v":-1E-3},{"$f":"BLOCK!K23","v":-1E-3},0,{"$f":"SUM(I113:I117)","v":0}]
[null,null,{"$f":"C10","v":" Block 1 Player 4"},null,null,{"$f":"F10","v":0},{"$f":"BLOCK!L23","v":-1E-3},{"$f":"BLOCK!N23","v":-1E-3},0]
[null,null,{"$f":"C11","v":" Block 1 Player 5"},null,null,{"$f":"F11","v":0},{"$f":"BLOCK!O23","v":-1E-3},{"$f":"BLOCK!Q23","v":-1E-3},0]
[null,null," ",null,null," ",null,null,0]
[null,null," ",null,null," ",null,null,0]
[null,null," ",null,null," ",null,null,0]
[null,null," ",null,null," ",null,null,0]
[null,null," ",null,null," ",null,null,0,"TNAMNT"]
[null,null," ",null,null," ",null,null,0,"NET"]
[null,null," ",null,null," ",null,null,0,{"$f":"SUM(I113:I127)","v":0}]
[null,null," ",null,null," ",null,null,0]
[null,null," ",null,null," ",null,null,0]
[null,null," ",null,null," ",null,null,{"$f":"G127-H127","v":0}]
[]
[]
[null,null,null,null,null,"TOURNAMENT SCORE CARD"]
[null,null,null,null,null,{"$f":"BLOCK!$N$27","v":"Tournament"}]
[null,null,null,null,null,{"$f":"BLOCK!$K$29","v":"Singles"}]
[null,null,null,null,null,{"$f":"BLOCK!$B$31","v":"BLOCK 2"}]
[null,null,"PLAYER:",{"$f":"BLOCK!C31","v":" Block 2 Player 1"},null,null,null,"HANDICAP",{"$f":"BLOCK!B34","v":0}]
[null,null,null,null,null,"OPP.","PLAYER","OPP.","NET"]
[null,null,null,"OPPONENT",null,"HCP","SCORE","SCORE","PTS"]
[null,null,{"$f":"BLOCK!F31","v":" Block 2 Player 2"},null,null,{"$f":"BLOCK!B37","v":0},{"$f":"BLOCK!F33","v":-1E-3},{"$f":"BLOCK!H33","v":-1E-3},{"$f":"G137-H137","v":0},"BLOCK"]
[null,null,{"$f":"BLOCK!I31","v":" Block 2 Player 3"},null,null,{"$f":"BLOCK!B40","v":0},{"$f":"BLOCK!I33","v":-1E-3},{"$f":"BLOCK!K33","v":-1E-3},0,"NET"]
[null,null,{"$f":"BLOCK!L31","v":" Block 2 Player 4"},null,null,{"$f":"BLOCK!B43","v":0},{"$f":"BLOCK!L33","v":-1E-3},{"$f":"BLOCK!N33","v":-1E-3},0,{"$f":"SUM(I137:I141)","v":0}]
[null,null,{"$f":"BLOCK!O31","v":" Block 2 Player 5"},null,null,{"$f":"BLOCK!B46","v":0},{"$f":"BLOCK!O33","v":-1E-3},{"$f":"BLOCK!Q33","v":-1E-3},0]
[null,null,{"$f":"BLOCK!R31","v":" Bye "},null,null,{"$f":"BLOCK!B49","v":0},{"$f":"BLOCK!R33","v":-1E-3},{"$f":"BLOCK!T33","v":-1E-3},0]
[null,null," ",null,null," ",null,null,0]
[null,null," ",null,null," ",null,null,0]
[null,null," ",null,null," ",null,null,0]
[null,null," ",null,null," ",null,null,0]
[null,null," ",null,null," ",null,null,0,"TNAMNT"]
[null,null," ",null,null," ",null,null,0,"NET"]
[null,null," ",null,null," ",null,null,0,{"$f":"SUM(I137:I151)","v":0}]
[null,null," ",null,null," ",null,null,0]
[null,null," ",null,null," ",null,null,0]
[null,null," ",null,null," ",null,null,0]
[]
[null,null,"PLAYER:",{"$f":"C137","v":" Block 2 Player 2"},null,null,null,"HANDICAP",{"$f":"F137","v":0}]
[null,null,null,null,null,"OPP.","PLAYER","OPP.","NET"]
[null,null,null,"OPPONENT",null,"HCP","SCORE","SCORE","PTS"]
[null,null,{"$f":"D134","v":" Block 2 Player 1"},null,null,{"$f":"I134","v":0},{"$f":"BLOCK!C36","v":-1E-3},{"$f":"BLOCK!E36","v":-1E-3},{"$f":"G156-H156","v":0},"BLOCK"]
[null,null,{"$f":"C138","v":" Block 2 Player 3"},null,null,{"$f":"F138","v":0},{"$f":"BLOCK!I36","v":-1E-3},{"$f":"BLOCK!K36","v":-1E-3},0,"NET"]
[null,null,{"$f":"C139","v":" Block 2 Player 4"},null,null,{"$f":"F139","v":0},{"$f":"BLOCK!L36","v":-1E-3},{"$f":"BLOCK!N36","v":-1E-3},0,{"$f":"SUM(I156:I160)","v":0}]
[null,null,{"$f":"C140","v":" Block 2 Player 5"},null,null,{"$f":"F140","v":0},{"$f":"BLOCK!O36","v":-1E-3},{"$f":"BLOCK!Q36","v":-1E-3},0]
[null,null,{"$f":"C141","v":" Bye "},null,null,{"$f":"F141","v":0},{"$f":"BLOCK!R36","v":-1E-3},{"$f":"BLOCK!T36","v":-1E-3},0]
[null,null," ",null,null," ",null,null,0]
[null,null," ",null,null," ",null,null,0]
[null,null," ",null,null," ",null,null,0]
[null,null," ",null,null," ",null,null,0]
[null,null," ",null,null," ",null,null,0,"TNAMNT"]
[null,null," ",null,null," ",null,null,0,"NET"]
[null,null," ",null,null," ",null,null,0,{"$f":"SUM(I156:I170)","v":0}]
[null,null," ",null,null," ",null,null,0]
[null,null," ",null,null," ",null,null,0]
[null,null," ",null,null," ",null,null,0]
[]
[]
[null,null,null,null,null,"TOURNAMENT SCORE CARD"]
[null,null,null,null,null,{"$f":"BLOCK!$N$27","v":"Tournament"}]
[null,null,null,null,null,{"$f":"BLOCK!$K$29","v":"Singles"}]
[null,null,null,null,null,{"$f":"BLOCK!$B$31","v":"BLOCK 2"}]
[null,null,"PLAYER:",{"$f":"C138","v":" Block 2 Player 3"},null,null,null,"HANDICAP",{"$f":"F138","v":0}]
[null,null,null,null,null,"OPP.","PLAYER","OPP.","NET"]
[null,null,null,"OPPONENT",null,"HCP","SCORE","SCORE","PTS"]
[null,null,{"$f":"D134","v":" Block 2 Player 1"},null,null,{"$f":"I134","v":0},{"$f":"BLOCK!C39","v":-1E-3},{"$f":"BLOCK!E39","v":-1E-3},{"$f":"G180-H180","v":0},"BLOCK"]
[null,null,{"$f":"C137","v":" Block 2 Player 2"},null,null,{"$f":"F137","v":0},{"$f":"BLOCK!F39","v":-1E-3},{"$f":"BLOCK!H39","v":-1E-3},0,"NET"]
[null,null,{"$f":"C139","v":" Block 2 Player 4"},null,null,{"$f":"F139","v":0},{"$f":"BLOCK!L39","v":-1E-3},{"$f":"BLOCK!N39","v":-1E-3},0,{"$f":"SUM(I180:I184)","v":0}]
[null,null,{"$f":"C140","v":" Block 2 Player 5"},null,null,{"$f":"F140","v":0},{"$f":"BLOCK!O39","v":-1E-3},{"$f":"BLOCK!Q39","v":-1E-3},0]
[null,null,{"$f":"C141","v":" Bye "},null,null,{"$f":"F141","v":0},{"$f":"BLOCK!R39","v":-1E-3},{"$f":"BLOCK!T39","v":-1E-3},0]
[null,null," ",null,null," ",null,null,0]
[null,null," ",null,null," ",null,null,0]
[null,null," ",null,null," ",null,null,0]
[null,null," ",null,null," ",null,null,0]
[null,null," ",null,null," ",null,null,0,"TNAMNT"]
[null,null," ",null,null," ",null,null,0,"NET"]
[null,null," ",null,null," ",null,null,0,{"$f":"SUM(I180:I194)","v":0}]
[null,null," ",null,null," ",null,null,0]
[null,null," ",null,null," ",null,null,0]
[null,null," ",null,null," ",null,null,0]
[]
[null,null,"PLAYER:",{"$f":"C139","v":" Block 2 Player 4"},null,null,null,"HANDICAP",{"$f":"F139","v":0}]
[null,null,null,null,null,"OPP.","PLAYER","OPP.","NET"]
[null,null,null,"OPPONENT",null,"HCP","SCORE","SCORE","PTS"]
[null,null,{"$f":"D134","v":" Block 2 Player 1"},null,null,{"$f":"I134","v":0},{"$f":"BLOCK!C42","v":-1E-3},{"$f":"BLOCK!E42","v":-1E-3},{"$f":"G199-H199","v":0},"BLOCK"]
[null,null,{"$f":"C137","v":" Block 2 Player 2"},null,null,{"$f":"F137","v":0},{"$f":"BLOCK!F42","v":-1E-3},{"$f":"BLOCK!H42","v":-1E-3},0,"NET"]
[null,null,{"$f":"C138","v":" Block 2 Player 3"},null,null,{"$f":"F138","v":0},{"$f":"BLOCK!I42","v":-1E-3},{"$f":"BLOCK!K42","v":-1E-3},0,{"$f":"SUM(I199:I203)","v":0}]
[null,null,{"$f":"C140","v":" Block 2 Player 5"},null,null,{"$f":"F140","v":0},{"$f":"BLOCK!O42","v":-1E-3},{"$f":"BLOCK!Q42","v":-1E-3},0]
[null,null,{"$f":"C141","v":" Bye "},null,null,{"$f":"F141","v":0},{"$f":"BLOCK!R42","v":-1E-3},{"$f":"BLOCK!T42","v":-1E-3},0]
[null,null," ",null,null," ",null,null,0]
[null,null," ",null,null," ",null,null,0]
[null,null," ",null,null," ",null,null,0]
[null,null," ",null,null," ",null,null,0]
[null,null," ",null,null," ",null,null,0,"TNAMNT"]
[null,null," ",null,null," ",null,null,0,"NET"]
[null,null," ",null,null," ",null,null,0,{"$f":"SUM(I199:I213)","v":0}]
[null,null," ",null,null," ",null,null,0]
[null,null," ",null,null," ",null,null,0]
[null,null," ",null,null," ",null,null,0]
[]
[]
[null,null,null,null,null,"TOURNAMENT SCORE CARD"]
[null,null,null,null,null,{"$f":"BLOCK!$N$27","v":"Tournament"}]
[null,null,null,null,null,{"$f":"BLOCK!$K$29","v":"Singles"}]
[null,null,null,null,null,{"$f":"BLOCK!$B$31","v":"BLOCK 2"}]
[null,null,"PLAYER:",{"$f":"C140","v":" Block 2 Player 5"},null,null,null,"HANDICAP",{"$f":"F140","v":0}]
[null,null,null,null,null,"OPP.","PLAYER","OPP.","NET"]
[null,null,null,"OPPONENT",null,"HCP","SCORE","SCORE","PTS"]
[null,null,{"$f":"D134","v":" Block 2 Player 1"},null,null,{"$f":"I134","v":0},{"$f":"BLOCK!C45","v":-1E-3},{"$f":"BLOCK!E45","v":-1E-3},{"$f":"G223-H223","v":0},"BLOCK"]
[null,null,{"$f":"C137","v":" Block 2 Player 2"},null,null,{"$f":"F137","v":0},{"$f":"BLOCK!F45","v":-1E-3},{"$f":"BLOCK!H45","v":-1E-3},0,"NET"]
[null,null,{"$f":"C138","v":" Block 2 Player 3"},null,null,{"$f":"F138","v":0},{"$f":"BLOCK!I45","v":-1E-3},{"$f":"BLOCK!K45","v":-1E-3},0,{"$f":"SUM(I223:I227)","v":0}]
[null,null,{"$f":"C139","v":" Block 2 Player 4"},null,null,{"$f":"F139","v":0},{"$f":"BLOCK!L45","v":-1E-3},{"$f":"BLOCK!N45","v":-1E-3},0]
[null,null,{"$f":"C141","v":" Bye "},null,null,{"$f":"F141","v":0},{"$f":"BLOCK!R45","v":-1E-3},{"$f":"BLOCK!T45","v":-1E-3},0]
[null,null," ",null,null," ",null,null,0]
[null,null," ",null,null," ",null,null,0]
[null,null," ",null,null," ",null,null,0]
[null,null," ",null,null," ",null,null,0]
[null,null," ",null,null," ",null,null,0,"TNAMNT"]
[null,null," ",null,null," ",null,null,0,"NET"]
[null,null," ",null,null," ",null,null,0,{"$f":"SUM(I223:I237)","v":0}]
[null,null," ",null,null," ",null,null,0]
[null,null," ",null,null," ",null,null,0]
[null,null," ",null,null," ",null,null,0]
[]
[null,null,"PLAYER:",{"$f":"C141","v":" Bye "},null,null,null,"HANDICAP",{"$f":"F141","v":0}]
[null,null,null,null,null,"OPP.","PLAYER","OPP.","NET"]
[null,null,null,"OPPONENT",null,"HCP","SCORE","SCORE","PTS"]
[null,null,{"$f":"D134","v":" Block 2 Player 1"},null,null,{"$f":"I134","v":0},{"$f":"BLOCK!C48","v":-1E-3},{"$f":"BLOCK!E48","v":-1E-3},{"$f":"G242-H242","v":0},"BLOCK"]
[null,null,{"$f":"C137","v":" Block 2 Player 2"},null,null,{"$f":"F137","v":0},{"$f":"BLOCK!F48","v":-1E-3},{"$f":"BLOCK!H48","v":-1E-3},0,"NET"]
[null,null,{"$f":"C138","v":" Block 2 Player 3"},null,null,{"$f":"F138","v":0},{"$f":"BLOCK!I48","v":-1E-3},{"$f":"BLOCK!K48","v":-1E-3},0,{"$f":"SUM(I242:I246)","v":0}]
[null,null,{"$f":"C139","v":" Block 2 Player 4"},null,null,{"$f":"F139","v":0},{"$f":"BLOCK!L48","v":-1E-3},{"$f":"BLOCK!N48","v":-1E-3},0]
[null,null,{"$f":"C140","v":" Block 2 Player 5"},null,null,{"$f":"F140","v":0},{"$f":"BLOCK!O48","v":-1E-3},{"$f":"BLOCK!Q48","v":-1E-3},0]
[null,null," ",null,null," ",null,null,0]
[null,null," ",null,null," ",null,null,0]
[null,null," ",null,null," ",null,null,0]
[null,null," ",null,null," ",null,null,0]
[null,null," ",null,null," ",null,null,0,"TNAMNT"]
[null,null," ",null,null," ",null,null,0,"NET"]
[null,null," ",null,null," ",null,null,0,{"$f":"SUM(I242:I256)","v":0}]
[null,null," ",null,null," ",null,null,0]
[null,null," ",null,null," ",null,null,0]
[null,null," ",null,null," ",null,null,0]
[]
[]
[null,null,null,null,null,"TOURNAMENT SCORE CARD"]
[null,null,null,null,null,{"$f":"BLOCK!N52","v":"Tournament"}]
[null,null,null,null,null,{"$f":"BLOCK!K54","v":"Singles"}]
[null,null,null,null,null,{"$f":"BLOCK!B56","v":"BLOCK 3"}]
[null,null,"PLAYER:",{"$f":"BLOCK!C56","v":" Block 3 Player 1"},null,null,null,"HANDICAP",{"$f":"BLOCK!B59","v":0}]
[null,null,null,null,null,"OPP.","PLAYER","OPP.","NET"]
[null,null,null,"OPPONENT",null,"HCP","SCORE","SCORE","PTS"]
[null,null,{"$f":"BLOCK!F56","v":" Block 3 Player 2"},null,null,{"$f":"BLOCK!B62","v":0},{"$f":"BLOCK!F58","v":-1E-3},{"$f":"BLOCK!H58","v":-1E-3},{"$f":"G266-H266","v":0},"BLOCK"]
[null,null,{"$f":"BLOCK!I56","v":" Block 3 Player 3"},null,null,{"$f":"BLOCK!B65","v":0},{"$f":"BLOCK!I58","v":-1E-3},{"$f":"BLOCK!K58","v":-1E-3},0,"NET"]
[null,null,{"$f":"BLOCK!L56","v":" Block 3 Player 4"},null,null,{"$f":"BLOCK!B68","v":0},{"$f":"BLOCK!L58","v":-1E-3},{"$f":"BLOCK!N58","v":-1E-3},0,{"$f":"SUM(I266:I270)","v":0}]
[null,null,{"$f":"BLOCK!O56","v":" Block 3 Player 5"},null,null,{"$f":"BLOCK!B71","v":0},{"$f":"BLOCK!O58","v":-1E-3},{"$f":"BLOCK!Q58","v":-1E-3},0]
[null,null,{"$f":"BLOCK!R56","v":" Bye "},null,null,{"$f":"BLOCK!B74","v":0},{"$f":"BLOCK!R58","v":-1E-3},{"$f":"BLOCK!T58","v":-1E-3},0]
[null,null," ",null,null," ",null,null,0]
[null,null," ",null,null," ",null,null,0]
[null,null," ",null,null," ",null,null,0]
[null,null," ",null,null," ",null,null,0]
[null,null," ",null,null," ",null,null,0,"TNAMNT"]
[null,null," ",null,null," ",null,null,0,"NET"]
[null,null," ",null,null," ",null,null,0,{"$f":"SUM(I266:I280)","v":0}]
[null,null," ",null,null," ",null,null,0]
[null,null," ",null,null," ",null,null,0]
[null,null," ",null,null," ",null,null,0]
[]
[null,null,"PLAYER:",{"$f":"C266","v":" Block 3 Player 2"},null,null,null,"HANDICAP",{"$f":"F266","v":0}]
[null,null,null,null,null,"OPP.","PLAYER","OPP.","NET"]
[null,null,null,"OPPONENT",null,"HCP","SCORE","SCORE","PTS"]
[null,null,{"$f":"D263","v":" Block 3 Player 1"},null,null,{"$f":"I263","v":0},{"$f":"BLOCK!C61","v":-1E-3},{"$f":"BLOCK!E61","v":-1E-3},{"$f":"G285-H285","v":0},"BLOCK"]
[null,null,{"$f":"C267","v":" Block 3 Player 3"},null,null,{"$f":"F267","v":0},{"$f":"BLOCK!I61","v":-1E-3},{"$f":"BLOCK!K61","v":-1E-3},0,"NET"]
[null,null,{"$f":"C268","v":" Block 3 Player 4"},null,null,{"$f":"F268","v":0},{"$f":"BLOCK!L61","v":-1E-3},{"$f":"BLOCK!N61","v":-1E-3},0,{"$f":"SUM(I285:I289)","v":0}]
[null,null,{"$f":"C269","v":" Block 3 Player 5"},null,null,{"$f":"F269","v":0},{"$f":"BLOCK!O61","v":-1E-3},{"$f":"BLOCK!Q61","v":-1E-3},0]
[null,null,{"$f":"C270","v":" Bye "},null,null,{"$f":"F270","v":0},{"$f":"BLOCK!R61","v":-1E-3},{"$f":"BLOCK!T61","v":-1E-3},0]
[null,null," ",null,null," ",null,null,0]
[null,null," ",null,null," ",null,null,0]
[null,null," ",null,null," ",null,null,0]
[null,null," ",null,null," ",null,null,0]
[null,null," ",null,null," ",null,null,0,"TNAMNT"]
[null,null," ",null,null," ",null,null,0,"NET"]
[null,null," ",null,null," ",null,null,0,{"$f":"SUM(I285:I299)","v":0}]
[null,null," ",null,null," ",null,null,0]
[null,null," ",null,null," ",null,null,0]
[null,null," ",null,null," ",null,null,0]
[]
[]
[null,null,null,null,null,"TOURNAMENT SCORE CARD"]
[null,null,null,null,null,{"$f":"BLOCK!N52","v":"Tournament"}]
[null,null,null,null,null,{"$f":"BLOCK!K54","v":"Singles"}]
[null,null,null,null,null,{"$f":"BLOCK!B56","v":"BLOCK 3"}]
[null,null,"PLAYER:",{"$f":"C267","v":" Block 3 Player 3"},null,null,null,"HANDICAP",{"$f":"F267","v":0}]
[null,null,null,null,null,"OPP.","PLAYER","OPP.","NET"]
[null,null,null,"OPPONENT",null,"HCP","SCORE","SCORE","PTS"]
[null,null,{"$f":"D263","v":" Block 3 Player 1"},null,null,{"$f":"I263","v":0},{"$f":"BLOCK!C64","v":-1E-3},{"$f":"BLOCK!E64","v":-1E-3},{"$f":"G309-H309","v":0},"BLOCK"]
[null,null,{"$f":"C266","v":" Block 3 Player 2"},null,null,{"$f":"F266","v":0},{"$f":"BLOCK!F64","v":-1E-3},{"$f":"BLOCK!H64","v":-1E-3},0,"NET"]
[null,null,{"$f":"C268","v":" Block 3 Player 4"},null,null,{"$f":"F268","v":0},{"$f":"BLOCK!L64","v":-1E-3},{"$f":"BLOCK!N64","v":-1E-3},0,{"$f":"SUM(I309:I313)","v":0}]
[null,null,{"$f":"C269","v":" Block 3 Player 5"},null,null,{"$f":"F269","v":0},{"$f":"BLOCK!O64","v":-1E-3},{"$f":"BLOCK!Q64","v":-1E-3},0]
[null,null,{"$f":"C270","v":" Bye "},null,null,{"$f":"F270","v":0},{"$f":"BLOCK!R64","v":-1E-3},{"$f":"BLOCK!T64","v":-1E-3},0]
[null,null," ",null,null," ",null,null,0]
[null,null," ",null,null," ",null,null,0]
[null,null," ",null,null," ",null,null,0]
[null,null," ",null,null," ",null,null,0]
[null,null," ",null,null," ",null,null,0,"TNAMNT"]
[null,null," ",null,null," ",null,null,0,"NET"]
[null,null," ",null,null," ",null,null,0,{"$f":"SUM(I309:I323)","v":0}]
[null,null," ",null,null," ",null,null,0]
[null,null," ",null,null," ",null,null,0]
[null,null," ",null,null," ",null,null,0]
[]
[null,null,"PLAYER:",{"$f":"C268","v":" Block 3 Player 4"},null,null,null,"HANDICAP",{"$f":"F268","v":0}]
[null,null,null,null,null,"OPP.","PLAYER","OPP.","NET"]
[null,null,null,"OPPONENT",null,"HCP","SCORE","SCORE","PTS"]
[null,null,{"$f":"D263","v":" Block 3 Player 1"},null,null,{"$f":"I263","v":0},{"$f":"BLOCK!C67","v":-1E-3},{"$f":"BLOCK!E67","v":-1E-3},{"$f":"G328-H328","v":0},"BLOCK"]
[null,null,{"$f":"C266","v":" Block 3 Player 2"},null,null,{"$f":"F266","v":0},{"$f":"BLOCK!F67","v":-1E-3},{"$f":"BLOCK!H67","v":-1E-3},0,"NET"]
[null,null,{"$f":"C267","v":" Block 3 Player 3"},null,null,{"$f":"F267","v":0},{"$f":"BLOCK!I67","v":-1E-3},{"$f":"BLOCK!K67","v":-1E-3},0,{"$f":"SUM(I328:I332)","v":0}]
[null,null,{"$f":"C269","v":" Block 3 Player 5"},null,null,{"$f":"F269","v":0},{"$f":"BLOCK!O67","v":-1E-3},{"$f":"BLOCK!Q67","v":-1E-3},0]
[null,null,{"$f":"C270","v":" Bye "},null,null,{"$f":"F270","v":0},{"$f":"BLOCK!R67","v":-1E-3},{"$f":"BLOCK!T67","v":-1E-3},0]
[null,null," ",null,null," ",null,null,0]
[null,null," ",null,null," ",null,null,0]
[null,null," ",null,null," ",null,null,0]
[null,null," ",null,null," ",null,null,0]
[null,null," ",null,null," ",null,null,0,"TNAMNT"]
[null,null," ",null,null," ",null,null,0,"NET"]
[null,null," ",null,null," ",null,null,0,{"$f":"SUM(I328:I342)","v":0}]
[null,null," ",null,null," ",null,null,0]
[null,null," ",null,null," ",null,null,0]
[null,null," ",null,null," ",null,null,0]
[]
[]
[null,null,null,null,null,"TOURNAMENT SCORE CARD"]
[null,null,null,null,null,{"$f":"F260","v":"Tournament"}]
[null,null,null,null,null,{"$f":"F261","v":"Singles"}]
[null,null,null,null,null,{"$f":"F262","v":"BLOCK 3"}]
[null,null,"PLAYER:",{"$f":"C269","v":" Block 3 Player 5"},null,null,null,"HANDICAP",{"$f":"F269","v":0}]
[null,null,null,null,null,"OPP.","PLAYER","OPP.","NET"]
[null,null,null,"OPPONENT",null,"HCP","SCORE","SCORE","PTS"]
[null,null,{"$f":"D263","v":" Block 3 Player 1"},null,null,{"$f":"I263","v":0},{"$f":"BLOCK!C70","v":-1E-3},{"$f":"BLOCK!E70","v":-1E-3},{"$f":"G352-H352","v":0},"BLOCK"]
[null,null,{"$f":"C266","v":" Block 3 Player 2"},null,null,{"$f":"F266","v":0},{"$f":"BLOCK!F70","v":-1E-3},{"$f":"BLOCK!H70","v":-1E-3},0,"NET"]
[null,null,{"$f":"C267","v":" Block 3 Player 3"},null,null,{"$f":"F267","v":0},{"$f":"BLOCK!I70","v":-1E-3},{"$f":"BLOCK!K70","v":-1E-3},0,{"$f":"SUM(I352:I356)","v":0}]
[null,null,{"$f":"C268","v":" Block 3 Player 4"},null,null,{"$f":"F268","v":0},{"$f":"BLOCK!L70","v":-1E-3},{"$f":"BLOCK!N70","v":-1E-3},0]
[null,null,{"$f":"C270","v":" Bye "},null,null,{"$f":"F270","v":0},{"$f":"BLOCK!R70","v":-1E-3},{"$f":"BLOCK!T70","v":-1E-3},0]
[null,null," ",null,null," ",null,null,0]
[null,null," ",null,null," ",null,null,0]
[null,null," ",null,null," ",null,null,0]
[null,null," ",null,null," ",null,null,0]
[null,null," ",null,null," ",null,null,0,"TNAMNT"]
[null,null," ",null,null," ",null,null,0,"NET"]
[null,null," ",null,null," ",null,null,0,{"$f":"SUM(I352:I366)","v":0}]
[null,null," ",null,null," ",null,null,0]
[null,null," ",null,null," ",null,null,0]
[null,null," ",null,null," ",null,null,0]
[]
[null,null,"PLAYER:",{"$f":"C270","v":" Bye "},null,null,null,"HANDICAP",{"$f":"F270","v":0}]
[null,null,null,null,null,"OPP.","PLAYER","OPP.","NET"]
[null,null,null,"OPPONENT",null,"HCP","SCORE","SCORE","PTS"]
[null,null,{"$f":"D263","v":" Block 3 Player 1"},null,null,{"$f":"I263","v":0},{"$f":"BLOCK!C73","v":-1E-3},{"$f":"BLOCK!E73","v":-1E-3},{"$f":"G371-H371","v":0},"BLOCK"]
[null,null,{"$f":"C266","v":" Block 3 Player 2"},null,null,{"$f":"F266","v":0},{"$f":"BLOCK!F73","v":-1E-3},{"$f":"BLOCK!H73","v":-1E-3},0,"NET"]
[null,null,{"$f":"C267","v":" Block 3 Player 3"},null,null,{"$f":"F267","v":0},{"$f":"BLOCK!I73","v":-1E-3},{"$f":"BLOCK!K73","v":-1E-3},0,{"$f":"SUM(I371:I375)","v":0}]
[null,null,{"$f":"C268","v":" Block 3 Player 4"},null,null,{"$f":"F268","v":0},{"$f":"BLOCK!L73","v":-1E-3},{"$f":"BLOCK!N73","v":-1E-3},0]
[null,null,{"$f":"C269","v":" Block 3 Player 5"},null,null,{"$f":"F269","v":0},{"$f":"BLOCK!O73","v":-1E-3},{"$f":"BLOCK!Q73","v":-1E-3},0]
[null,null," ",null,null," ",null,null,0]
[null,null," ",null,null," ",null,null,0]
[null,null," ",null,null," ",null,null,0]
[null,null," ",null,null," ",null,null,0]
[null,null," ",null,null," ",null,null,0,"TNAMNT"]
[null,null," ",null,null," ",null,null,0,"NET"]
[null,null," ",null,null," ",null,null,0,{"$f":"SUM(I371:I385)","v":0}]
[null,null," ",null,null," ",null,null,0]
[null,null," ",null,null," ",null,null,0]
[null,null," ",null,null," ",null,null,0]
[]
[]
[null,null,null,null,null,"TOURNAMENT SCORE CARD"]
[null,null,null,null,null,{"$f":"BLOCK!N77","v":"Tournament"}]
[null,null,null,null,null,{"$f":"BLOCK!N79","v":"Singles"}]
[null,null,null,null,null,{"$f":"BLOCK!B81","v":"BLOCK 4"}]
[null,null,"PLAYER:",{"$f":"BLOCK!C81","v":" Block 4 Player 1"},null,null,null,"HANDICAP",{"$f":"BLOCK!B84","v":0}]
[null,null,null,null,null,"OPP.","PLAYER","OPP.","NET"]
[null,null,null,"OPPONENT",null,"HCP","SCORE","SCORE","PTS"]
[null,null,{"$f":"BLOCK!F81","v":" Block 4 Player 2"},null,null,{"$f":"BLOCK!B87","v":0},{"$f":"BLOCK!F83","v":-1E-3},{"$f":"BLOCK!H83","v":-1E-3},{"$f":"G395-H395","v":0},"BLOCK"]
[null,null,{"$f":"BLOCK!I81","v":" Block 4 Player 3"},null,null,{"$f":"BLOCK!B90","v":0},{"$f":"BLOCK!I83","v":-1E-3},{"$f":"BLOCK!K83","v":-1E-3},0,"NET"]
[null,null,{"$f":"BLOCK!L81","v":" Block 4 Player 4"},null,null,{"$f":"BLOCK!B93","v":0},{"$f":"BLOCK!L83","v":-1E-3},{"$f":"BLOCK!N83","v":-1E-3},0,{"$f":"SUM(I395:I399)","v":0}]
[null,null,{"$f":"BLOCK!O81","v":" Block 4 Player 5"},null,null,{"$f":"BLOCK!B96","v":0},{"$f":"BLOCK!O83","v":-1E-3},{"$f":"BLOCK!Q83","v":-1E-3},0]
[null,null,{"$f":"BLOCK!R81","v":" Bye "},null,null,{"$f":"BLOCK!B99","v":0},{"$f":"BLOCK!R83","v":-1E-3},{"$f":"BLOCK!T83","v":-1E-3},0]
[null,null," ",null,null," ",null,null,0]
[null,null," ",null,null," ",null,null,0]
[null,null," ",null,null," ",null,null,0]
[null,null," ",null,null," ",null,null,0]
[null,null," ",null,null," ",null,null,0,"TNAMNT"]
[null,null," ",null,null," ",null,null,0,"NET"]
[null,null," ",null,null," ",null,null,0,{"$f":"SUM(I395:I409)","v":0}]
[null,null," ",null,null," ",null,null,0]
[null,null," ",null,null," ",null,null,0]
[null,null," ",null,null," ",null,null,0]
[]
[null,null,"PLAYER:",{"$f":"C395","v":" Block 4 Player 2"},null,null,null,"HANDICAP",{"$f":"F395","v":0}]
[null,null,null,null,null,"OPP.","PLAYER","OPP.","NET"]
[null,null,null,"OPPONENT",null,"HCP","SCORE","SCORE","PTS"]
[null,null,{"$f":"D392","v":" Block 4 Player 1"},null,null,{"$f":"I392","v":0},{"$f":"BLOCK!C86","v":-1E-3},{"$f":"BLOCK!E86","v":-1E-3},{"$f":"G414-H414","v":0},"BLOCK"]
[null,null,{"$f":"C396","v":" Block 4 Player 3"},null,null,{"$f":"F396","v":0},{"$f":"BLOCK!I86","v":-1E-3},{"$f":"BLOCK!K86","v":-1E-3},0,"NET"]
[null,null,{"$f":"C397","v":" Block 4 Player 4"},null,null,{"$f":"F397","v":0},{"$f":"BLOCK!L86","v":-1E-3},{"$f":"BLOCK!N86","v":-1E-3},0,{"$f":"SUM(I414:I418)","v":0}]
[null,null,{"$f":"C398","v":" Block 4 Player 5"},null,null,{"$f":"F398","v":0},{"$f":"BLOCK!O86","v":-1E-3},{"$f":"BLOCK!Q86","v":-1E-3},0]
[null,null,{"$f":"C399","v":" Bye "},null,null,{"$f":"F399","v":0},{"$f":"BLOCK!R86","v":-1E-3},{"$f":"BLOCK!T86","v":-1E-3},0]
[null,null," ",null,null," ",null,null,0]
[null,null," ",null,null," ",null,null,0]
[null,null," ",null,null," ",null,null,0]
[null,null," ",null,null," ",null,null,0]
[null,null," ",null,null," ",null,null,0,"TNAMNT"]
[null,null," ",null,null," ",null,null,0,"NET"]
[null,null," ",null,null," ",null,null,0,{"$f":"SUM(I414:I428)","v":0}]
[null,null," ",null,null," ",null,null,0]
[null,null," ",null,null," ",null,null,0]
[null,null," ",null,null," ",null,null,0]
[]
[]
[null,null,null,null,null,"TOURNAMENT SCORE CARD"]
[null,null,null,null,null,{"$f":"BLOCK!N77","v":"Tournament"}]
[null,null,null,null,null,{"$f":"BLOCK!N79","v":"Singles"}]
[null,null,null,null,null,{"$f":"BLOCK!B81","v":"BLOCK 4"}]
[null,null,"PLAYER:",{"$f":"C396","v":" Block 4 Player 3"},null,null,null,"HANDICAP",{"$f":"F396","v":0}]
[null,null,null,null,null,"OPP.","PLAYER","OPP.","NET"]
[null,null,null,"OPPONENT",null,"HCP","SCORE","SCORE","PTS"]
[null,null,{"$f":"D392","v":" Block 4 Player 1"},null,null,{"$f":"I392","v":0},{"$f":"BLOCK!C89","v":-1E-3},{"$f":"BLOCK!E89","v":-1E-3},{"$f":"G438-H438","v":0},"BLOCK"]
[null,null,{"$f":"C395","v":" Block 4 Player 2"},null,null,{"$f":"F395","v":0},{"$f":"BLOCK!F89","v":-1E-3},{"$f":"BLOCK!H89","v":-1E-3},0,"NET"]
[null,null,{"$f":"C397","v":" Block 4 Player 4"},null,null,{"$f":"F397","v":0},{"$f":"BLOCK!L89","v":-1E-3},{"$f":"BLOCK!N89","v":-1E-3},0,{"$f":"SUM(I438:I442)","v":0}]
[null,null,{"$f":"C398","v":" Block 4 Player 5"},null,null,{"$f":"F398","v":0},{"$f":"BLOCK!O89","v":-1E-3},{"$f":"BLOCK!Q89","v":-1E-3},0]
[null,null,{"$f":"C399","v":" Bye "},null,null,{"$f":"F399","v":0},{"$f":"BLOCK!R89","v":-1E-3},{"$f":"BLOCK!T89","v":-1E-3},0]
[null,null," ",null,null," ",null,null,0]
[null,null," ",null,null," ",null,null,0]
[null,null," ",null,null," ",null,null,0]
[null,null," ",null,null," ",null,null,0]
[null,null," ",null,null," ",null,null,0,"TNAMNT"]
[null,null," ",null,null," ",null,null,0,"NET"]
[null,null," ",null,null," ",null,null,0,{"$f":"SUM(I438:I452)","v":0}]
[null,null," ",null,null," ",null,null,0]
[null,null," ",null,null," ",null,null,0]
[null,null," ",null,null," ",null,null,0]
[]
[null,null,"PLAYER:",{"$f":"C397","v":" Block 4 Player 4"},null,null,null,"HANDICAP",{"$f":"F397","v":0}]
[null,null,null,null,null,"OPP.","PLAYER","OPP.","NET"]
[null,null,null,"OPPONENT",null,"HCP","SCORE","SCORE","PTS"]
[null,null,{"$f":"D392","v":" Block 4 Player 1"},null,null,{"$f":"I392","v":0},{"$f":"BLOCK!C92","v":-1E-3},{"$f":"BLOCK!E92","v":-1E-3},{"$f":"G457-H457","v":0},"BLOCK"]
[null,null,{"$f":"C395","v":" Block 4 Player 2"},null,null,{"$f":"F395","v":0},{"$f":"BLOCK!F92","v":-1E-3},{"$f":"BLOCK!H92","v":-1E-3},0,"NET"]
[null,null,{"$f":"C396","v":" Block 4 Player 3"},null,null,{"$f":"F396","v":0},{"$f":"BLOCK!I92","v":-1E-3},{"$f":"BLOCK!K92","v":-1E-3},0,{"$f":"SUM(I457:I461)","v":0}]
[null,null,{"$f":"C398","v":" Block 4 Player 5"},null,null,{"$f":"F398","v":0},{"$f":"BLOCK!O92","v":-1E-3},{"$f":"BLOCK!Q92","v":-1E-3},0]
[null,null,{"$f":"C399","v":" Bye "},null,null,{"$f":"F399","v":0},{"$f":"BLOCK!R92","v":-1E-3},{"$f":"BLOCK!T92","v":-1E-3},0]
[null,null," ",null,null," ",null,null,0]
[null,null," ",null,null," ",null,null,0]
[null,null," ",null,null," ",null,null,0]
[null,null," ",null,null," ",null,null,0]
[null,null," ",null,null," ",null,null,0,"TNAMNT"]
[null,null," ",null,null," ",null,null,0,"NET"]
[null,null," ",null,null," ",null,null,0,{"$f":"SUM(I457:I471)","v":0}]
[null,null," ",null,null," ",null,null,0]
[null,null," ",null,null," ",null,null,0]
[null,null," ",null,null," ",null,null,0]
[]
[]
[null,null,null,null,null,"TOURNAMENT SCORE CARD"]
[null,null,null,null,null,{"$f":"BLOCK!N77","v":"Tournament"}]
[null,null,null,null,null,{"$f":"BLOCK!N79","v":"Singles"}]
[null,null,null,null,null,{"$f":"BLOCK!B81","v":"BLOCK 4"}]
[null,null,"PLAYER:",{"$f":"C398","v":" Block 4 Player 5"},null,null,null,"HANDICAP",{"$f":"F398","v":0}]
[null,null,null,null,null,"OPP.","PLAYER","OPP.","NET"]
[null,null,null,"OPPONENT",null,"HCP","SCORE","SCORE","PTS"]
[null,null,{"$f":"D392","v":" Block 4 Player 1"},null,null,{"$f":"I392","v":0},{"$f":"BLOCK!C95","v":-1E-3},{"$f":"BLOCK!E95","v":-1E-3},{"$f":"G481-H481","v":0},"BLOCK"]
[null,null,{"$f":"C395","v":" Block 4 Player 2"},null,null,{"$f":"F395","v":0},{"$f":"BLOCK!F95","v":-1E-3},{"$f":"BLOCK!H95","v":-1E-3},0,"NET"]
[null,null,{"$f":"C396","v":" Block 4 Player 3"},null,null,{"$f":"F396","v":0},{"$f":"BLOCK!I95","v":-1E-3},{"$f":"BLOCK!K95","v":-1E-3},0,{"$f":"SUM(I481:I485)","v":0}]
[null,null,{"$f":"C397","v":" Block 4 Player 4"},null,null,{"$f":"F397","v":0},{"$f":"BLOCK!L95","v":-1E-3},{"$f":"BLOCK!N95","v":-1E-3},0]
[null,null,{"$f":"C399","v":" Bye "},null,null,{"$f":"F399","v":0},{"$f":"BLOCK!R95","v":-1E-3},{"$f":"BLOCK!T95","v":-1E-3},0]
[null,null," ",null,null," ",null,null,0]
[null,null," ",null,null," ",null,null,0]
[null,null," ",null,null," ",null,null,0]
[null,null," ",null,null," ",null,null,0]
[null,null," ",null,null," ",null,null,0,"TNAMNT"]
[null,null," ",null,null," ",null,null,0,"NET"]
[null,null," ",null,null," ",null,null,0,{"$f":"SUM(I481:I495)","v":0}]
[null,null," ",null,null," ",null,null,0]
[null,null," ",null,null," ",null,null,0]
[null,null," ",null,null," ",null,null,0]
[]
[null,null,"PLAYER:",{"$f":"C399","v":" Bye "},null,null,null,"HANDICAP",{"$f":"F399","v":0}]
[null,null,null,null,null,"OPP.","PLAYER","OPP.","NET"]
[null,null,null,"OPPONENT",null,"HCP","SCORE","SCORE","PTS"]
[null,null,{"$f":"D392","v":" Block 4 Player 1"},null,null,{"$f":"I392","v":0},{"$f":"BLOCK!C98","v":-1E-3},{"$f":"BLOCK!E98","v":-1E-3},{"$f":"G500-H500","v":0},"BLOCK"]
[null,null,{"$f":"C395","v":" Block 4 Player 2"},null,null,{"$f":"F395","v":0},{"$f":"BLOCK!F98","v":-1E-3},{"$f":"BLOCK!H98","v":-1E-3},0,"NET"]
[null,null,{"$f":"C396","v":" Block 4 Player 3"},null,null,{"$f":"F396","v":0},{"$f":"BLOCK!I98","v":-1E-3},{"$f":"BLOCK!K98","v":-1E-3},0,{"$f":"SUM(I500:I504)","v":0}]
[null,null,{"$f":"C397","v":" Block 4 Player 4"},null,null,{"$f":"F397","v":0},{"$f":"BLOCK!L98","v":-1E-3},{"$f":"BLOCK!N98","v":-1E-3},0]
[null,null,{"$f":"C398","v":" Block 4 Player 5"},null,null,{"$f":"F398","v":0},{"$f":"BLOCK!O98","v":-1E-3},{"$f":"BLOCK!Q98","v":-1E-3},0]
[null,null," ",null,null," ",null,null,0]
[null,null," ",null,null," ",null,null,0]
[null,null," ",null,null," ",null,null,0]
[null,null," ",null,null," ",null,null,0]
[null,null," ",null,null," ",null,null,0,"TNAMNT"]
[null,null," ",null,null," ",null,null,0,"NET"]
[null,null," ",null,null," ",null,null,0,{"$f":"SUM(I500:I514)","v":0}]
[null,null," ",null,null," ",null,null,0]
[null,null," ",null,null," ",null,null,0]
[null,null," ",null,null," ",null,null,0]

{"sheet":"PLAYER","index":10,"n_rows":1200,"n_cols":10,"rows_kept":1200,"cut":false,"hidden":false,"merged":[]}
[null,null,null,null,{"$f":"BLOCK!C6","v":" Block 1 Player 1"}]
[null,null,null,null,{"$f":"BLOCK!N2","v":"Tournament"}]
[null,null,null,null,{"$f":"BLOCK!K4","v":"Singles"}]
[null,null,null,null,{"$f":"BLOCK!B6","v":"BLOCK 1"}]
[]
[null,null,null,null,"BLOCK PLAY SCHEDULE"]
[null,"DAY","  TIME  ",null,"COURT",null,"OPPONENT","HANDICAP","PS","OS"]
[null,{"$f":"GAMES!C5","v":"00:00:00"},{"$f":"GAMES!B5","v":"00:00:00"},null,{"$f":"GAMES!D5","v":0},null,{"$f":"GAMES!G5","v":" Block 1 Player 4"},{"$f":"$E$21","v":0},{"$f":"$F$21","v":-1E-3},{"$f":"$G$21","v":-1E-3}]
[null,{"$f":"GAMES!C8","v":"00:00:00"},{"$f":"GAMES!B8","v":"00:00:00"},null,{"$f":"GAMES!D8","v":0},null,{"$f":"GAMES!E8","v":" Block 1 Player 3"},{"$f":"$E$20","v":0},{"$f":"$F$20","v":-1E-3},{"$f":"$G$20","v":-1E-3}]
[null,{"$f":"GAMES!C11","v":"00:00:00"},{"$f":"GAMES!B11","v":"00:00:00"},null,{"$f":"GAMES!D11","v":"--"},null,{"$f":"GAMES!G11","v":" Bye "},{"$f":"$E$23","v":0},{"$f":"$F$23","v":-1E-3},{"$f":"$G$23","v":-1E-3}]
[null,{"$f":"GAMES!C14","v":"00:00:00"},{"$f":"GAMES!B14","v":"00:00:00"},null,{"$f":"GAMES!D14","v":0},null,{"$f":"GAMES!E14","v":" Block 1 Player 5"},{"$f":"$E$22","v":0},{"$f":"$F$22","v":-1E-3},{"$f":"$G$22","v":-1E-3}]
[null,{"$f":"GAMES!C19","v":"00:00:00"},{"$f":"GAMES!B19","v":"00:00:00"},null,{"$f":"GAMES!D19","v":0},null,{"$f":"GAMES!G19","v":" Block 1 Player 2"},{"$f":"$E$19","v":0},{"$f":"$F$19","v":-1E-3},{"$f":"$G$19","v":-1E-3}]
[]
[]
[]
[null,"PLAYER:",{"$f":"BLOCK!C6","v":" Block 1 Player 1"},null,null,null,"HANDICAP",{"$f":"BLOCK!B9","v":0}]
[null,null,null,null,"OPP","PLAYER","OPP","H/CAP"]
[null,null,"OPPONENT",null,"HCP","SCORE","SCORE","PTS"]
[null,{"$f":"SCORECARD!$C$8","v":" Block 1 Player 2"},null,null,{"$f":"SCORECARD!F8","v":0},{"$f":"SCORECARD!G8","v":-1E-3},{"$f":"SCORECARD!H8","v":-1E-3},{"$f":"IF(NOT(OR(F19>0,G19>0)),\"\",IF(HandicapPlay=\"x\",IF(F19>G19,10,-10),(IF((F19-G19>0),(VLOOKUP(OFFSET(H19,-3,0),(TABLE!WIN),(MATCH(E19,WINCOL,0)+1))),(VLOOKUP(OFFSET(H19,-3,0),(TABLE!LOSE),(MATCH(E19,LOSECOL,0)+1)))))))","v":""}]
[null,{"$f":"SCORECARD!$C$9","v":" Block 1 Player 3"},null,null,{"$f":"SCORECARD!F9","v":0},{"$f":"SCORECARD!G9","v":-1E-3},{"$f":"SCORECARD!H9","v":-1E-3},{"$f":"IF(NOT(OR(F20>0,G20>0)),\"\",IF(HandicapPlay=\"x\",IF(F20>G20,10,-10),(IF((F20-G20>0),(VLOOKUP(OFFSET(H20,-4,0),(TABLE!WIN),(MATCH(E20,WINCOL,0)+1))),(VLOOKUP(OFFSET(H20,-4,0),(TABLE!LOSE),(MATCH(E20,LOSECOL,0)+1)))))))","v":""}]
[null,{"$f":"SCORECARD!$C$10","v":" Block 1 Player 4"},null,null,{"$f":"SCORECARD!F10","v":0},{"$f":"SCORECARD!G10","v":-1E-3},{"$f":"SCORECARD!H10","v":-1E-3},{"$f":"IF(NOT(OR(F21>0,G21>0)),\"\",IF(HandicapPlay=\"x\",IF(F21>G21,10,-10),(IF((F21-G21>0),(VLOOKUP(OFFSET(H21,-5,0),(TABLE!WIN),(MATCH(E21,WINCOL,0)+1))),(VLOOKUP(OFFSET(H21,-5,0),(TABLE!LOSE),(MATCH(E21,LOSECOL,0)+1)))))))","v":""}]
[null,{"$f":"SCORECARD!$C$11","v":" Block 1 Player 5"},null,null,{"$f":"SCORECARD!F11","v":0},{"$f":"SCORECARD!G11","v":-1E-3},{"$f":"SCORECARD!H11","v":-1E-3},{"$f":"IF(NOT(OR(F22>0,G22>0)),\"\",IF(HandicapPlay=\"x\",IF(F22>G22,10,-10),(IF((F22-G22>0),(VLOOKUP(OFFSET(H22,-6,0),(TABLE!WIN),(MATCH(E22,WINCOL,0)+1))),(VLOOKUP(OFFSET(H22,-6,0),(TABLE!LOSE),(MATCH(E22,LOSECOL,0)+1)))))))","v":""}]
[null,{"$f":"SCORECARD!$C$12","v":" Bye "},null,null,{"$f":"SCORECARD!F12","v":0},{"$f":"SCORECARD!G12","v":-1E-3},{"$f":"SCORECARD!H12","v":-1E-3},{"$f":"IF(NOT(OR(F23>0,G23>0)),\"\",IF(HandicapPlay=\"x\",IF(F23>G23,10,-10),(IF((F23-G23>0),(VLOOKUP(OFFSET(H23,-7,0),(TABLE!WIN),(MATCH(E23,WINCOL,0)+1))),(VLOOKUP(OFFSET(H23,-7,0),(TABLE!LOSE),(MATCH(E23,LOSECOL,0)+1)))))))","v":""}]
[null,{"$f":"SCORECARD!C13","v":" "},null,null,{"$f":"SCORECARD!F13","v":" "},{"$f":"SCORECARD!G13","v":0},{"$f":"SCORECARD!H13","v":0}]
[null,{"$f":"SCORECARD!C14","v":" "},null,null,{"$f":"SCORECARD!F14","v":" "},{"$f":"SCORECARD!G14","v":0},{"$f":"SCORECARD!H14","v":0}]
[null,{"$f":"SCORECARD!C15","v":" "},null,null,{"$f":"SCORECARD!F15","v":" "},{"$f":"SCORECARD!G15","v":0},{"$f":"SCORECARD!H15","v":0}]
[null,{"$f":"SCORECARD!C16","v":" "},null,null,{"$f":"SCORECARD!F16","v":" "},{"$f":"SCORECARD!G16","v":0},{"$f":"SCORECARD!H16","v":0}]
[null,{"$f":"SCORECARD!C17","v":" "},null,null,{"$f":"SCORECARD!F17","v":" "},{"$f":"SCORECARD!G17","v":0},{"$f":"SCORECARD!H17","v":0}]
[null,{"$f":"SCORECARD!C18","v":" "},null,null,{"$f":"SCORECARD!F18","v":" "},{"$f":"SCORECARD!G18","v":0},{"$f":"SCORECARD!H18","v":0}]
[null,{"$f":"SCORECARD!C19","v":" "},null,null,{"$f":"SCORECARD!F19","v":" "},{"$f":"SCORECARD!G19","v":0},{"$f":"SCORECARD!H19","v":0}]
[null,{"$f":"SCORECARD!C20","v":" "},null,null,{"$f":"SCORECARD!F20","v":" "},{"$f":"SCORECARD!G20","v":0},{"$f":"SCORECARD!H20","v":0}]
[null,{"$f":"SCORECARD!C21","v":" "},null,null,{"$f":"SCORECARD!F21","v":" "},{"$f":"SCORECARD!G21","v":0},{"$f":"SCORECARD!H21","v":0}]
[]
[null,null,null,null,null,null,"Handicap adjustment points total   ",{"$f":"SUM(H19:H32)","v":0}]
[]
[]
[]
[]
[]
[]
[]
[]
[]
[]
[]
[]
[{"$f":"note1","v":"Time limit 2.5 hours, Turn After Bell (61.1.6). Quadway hoops (3 11/16\"), Dawson International balls"}]
[{"$f":"note2","v":"Games may start early. Please be at the venue at least 30 minutes earlier than the scheduled start time."}]
[{"$f":"note3","v":"Entry Fee $40 will be invoiced by email. Please pay by EFT using the invoice No. as reference."}]
[{"$f":"note4","v":"Players please assist with setting and clearing courts."}]
[null,null,null,null,{"$f":"BLOCK!F6","v":" Block 1 Player 2"}]
[null,null,null,null,{"$f":"BLOCK!N2","v":"Tournament"}]
[null,null,null,null,{"$f":"BLOCK!K4","v":"Singles"}]
[null,null,null,null,{"$f":"BLOCK!B6","v":"BLOCK 1"}]
[]
[null,null,null,null,"BLOCK PLAY SCHEDULE"]
[null,"DAY","  TIME  ",null,"COURT",null,"OPPONENT","HANDICAP","PS","OS"]
[null,{"$f":"GAMES!C7","v":"00:00:00"},{"$f":"GAMES!B7","v":"00:00:00"},null,{"$f":"GAMES!D7","v":"--"},null,{"$f":"GAMES!E7","v":" Bye "},{"$f":"$E$73","v":0},{"$f":"$F$73","v":-1E-3},{"$f":"$G$73","v":-1E-3}]
[null,{"$f":"GAMES!C9","v":"00:00:00"},{"$f":"GAMES!B9","v":"00:00:00"},null,{"$f":"GAMES!D9","v":0},null,{"$f":"GAMES!E9","v":" Block 1 Player 4"},{"$f":"$E$71","v":0},{"$f":"$F$71","v":-1E-3},{"$f":"$G$71","v":-1E-3}]
[null,{"$f":"GAMES!C12","v":"00:00:00"},{"$f":"GAMES!B12","v":"00:00:00"},null,{"$f":"GAMES!D12","v":0},null,{"$f":"GAMES!G12","v":" Block 1 Player 5"},{"$f":"$E$72","v":0},{"$f":"$F$72","v":-1E-3},{"$f":"$G$72","v":-1E-3}]
[null,{"$f":"GAMES!C16","v":"00:00:00"},{"$f":"GAMES!B16","v":"00:00:00"},null,{"$f":"GAMES!D16","v":0},null,{"$f":"GAMES!G16","v":" Block 1 Player 3"},{"$f":"$E$70","v":0},{"$f":"$F$70","v":-1E-3},{"$f":"$G$70","v":-1E-3}]
[null,{"$f":"GAMES!C19","v":"00:00:00"},{"$f":"GAMES!B19","v":"00:00:00"},null,{"$f":"GAMES!D19","v":0},null,{"$f":"GAMES!E19","v":" Block 1 Player 1"},{"$f":"$E$69","v":0},{"$f":"$F$69","v":-1E-3},{"$f":"$G$69","v":-1E-3}]
[]
[]
[]
[null,"PLAYER:",{"$f":"BLOCK!F6","v":" Block 1 Player 2"},null,null,null,"HANDICAP",{"$f":"BLOCK!B12","v":0}]
[null,null,null,null,"OPP","PLAYER","OPP","H/CAP"]
[null,null,"OPPONENT",null,"HCP","SCORE","SCORE","PTS"]
[null,{"$f":"SCORECARD!C27","v":" Block 1 Player 1"},null,null,{"$f":"SCORECARD!F27","v":0},{"$f":"SCORECARD!G27","v":-1E-3},{"$f":"SCORECARD!H27","v":-1E-3},{"$f":"IF(NOT(OR(F69>0,G69>0)),\"\",IF(HandicapPlay=\"x\",IF(F69>G69,10,-10),(IF((F69-G69>0),(VLOOKUP(OFFSET(H69,-3,0),(TABLE!WIN),(MATCH(E69,WINCOL,0)+1))),(VLOOKUP(OFFSET(H69,-3,0),(TABLE!LOSE),(MATCH(E69,LOSECOL,0)+1)))))))","v":""}]
[null,{"$f":"SCORECARD!C28","v":" Block 1 Player 3"},null,null,{"$f":"SCORECARD!F28","v":0},{"$f":"SCORECARD!G28","v":-1E-3},{"$f":"SCORECARD!H28","v":-1E-3},{"$f":"IF(NOT(OR(F70>0,G70>0)),\"\",IF(HandicapPlay=\"x\",IF(F70>G70,10,-10),(IF((F70-G70>0),(VLOOKUP(OFFSET(H70,-4,0),(TABLE!WIN),(MATCH(E70,WINCOL,0)+1))),(VLOOKUP(OFFSET(H70,-4,0),(TABLE!LOSE),(MATCH(E70,LOSECOL,0)+1)))))))","v":""}]
[null,{"$f":"SCORECARD!C29","v":" Block 1 Player 4"},null,null,{"$f":"SCORECARD!F29","v":0},{"$f":"SCORECARD!G29","v":-1E-3},{"$f":"SCORECARD!H29","v":-1E-3},{"$f":"IF(NOT(OR(F71>0,G71>0)),\"\",IF(HandicapPlay=\"x\",IF(F71>G71,10,-10),(IF((F71-G71>0),(VLOOKUP(OFFSET(H71,-5,0),(TABLE!WIN),(MATCH(E71,WINCOL,0)+1))),(VLOOKUP(OFFSET(H71,-5,0),(TABLE!LOSE),(MATCH(E71,LOSECOL,0)+1)))))))","v":""}]
[null,{"$f":"SCORECARD!C30","v":" Block 1 Player 5"},null,null,{"$f":"SCORECARD!F30","v":0},{"$f":"SCORECARD!G30","v":-1E-3},{"$f":"SCORECARD!H30","v":-1E-3},{"$f":"IF(NOT(OR(F72>0,G72>0)),\"\",IF(HandicapPlay=\"x\",IF(F72>G72,10,-10),(IF((F72-G72>0),(VLOOKUP(OFFSET(H72,-6,0),(TABLE!WIN),(MATCH(E72,WINCOL,0)+1))),(VLOOKUP(OFFSET(H72,-6,0),(TABLE!LOSE),(MATCH(E72,LOSECOL,0)+1)))))))","v":""}]
[null,{"$f":"SCORECARD!C31","v":" Bye "},null,null,{"$f":"SCORECARD!F31","v":0},{"$f":"SCORECARD!G31","v":-1E-3},{"$f":"SCORECARD!H31","v":-1E-3},{"$f":"IF(NOT(OR(F73>0,G73>0)),\"\",IF(HandicapPlay=\"x\",IF(F73>G73,10,-10),(IF((F73-G73>0),(VLOOKUP(OFFSET(H73,-7,0),(TABLE!WIN),(MATCH(E73,WINCOL,0)+1))),(VLOOKUP(OFFSET(H73,-7,0),(TABLE!LOSE),(MATCH(E73,LOSECOL,0)+1)))))))","v":""}]
[null,{"$f":"SCORECARD!C32","v":" "},null,null,{"$f":"SCORECARD!F32","v":" "},{"$f":"SCORECARD!G32","v":0},{"$f":"SCORECARD!H32","v":0},{"$f":"IF(NOT(OR(F74>0,G74>0)),\"\",(IF((F74-G74>0),(VLOOKUP(H66,(TABLE!WIN),((E74+5)*2+2))),(VLOOKUP(H66,(TABLE!LOSE),((E74+5)*2+2))))))","v":""}]
[null,{"$f":"SCORECARD!C33","v":" "},null,null,{"$f":"SCORECARD!F33","v":" "},{"$f":"SCORECARD!G33","v":0},{"$f":"SCORECARD!H33","v":0},{"$f":"IF(NOT(OR(F75>0,G75>0)),\"\",(IF((F75-G75>0),(VLOOKUP(H66,(TABLE!WIN),((E75+5)*2+2))),(VLOOKUP(H66,(TABLE!LOSE),((E75+5)*2+2))))))","v":""}]
[null,{"$f":"SCORECARD!C34","v":" "},null,null,{"$f":"SCORECARD!F34","v":" "},{"$f":"SCORECARD!G34","v":0},{"$f":"SCORECARD!H34","v":0},{"$f":"IF(NOT(OR(F76>0,G76>0)),\"\",(IF((F76-G76>0),(VLOOKUP(H66,(TABLE!WIN),((E76+5)*2+2))),(VLOOKUP(H66,(TABLE!LOSE),((E76+5)*2+2))))))","v":""}]
[null,{"$f":"SCORECARD!C35","v":" "},null,null,{"$f":"SCORECARD!F35","v":" "},{"$f":"SCORECARD!G35","v":0},{"$f":"SCORECARD!H35","v":0},{"$f":"IF(NOT(OR(F77>0,G77>0)),\"\",(IF((F77-G77>0),(VLOOKUP(H66,(TABLE!WIN),((E77+5)*2+2))),(VLOOKUP(H66,(TABLE!LOSE),((E77+5)*2+2))))))","v":""}]
[null,{"$f":"SCORECARD!C36","v":" "},null,null,{"$f":"SCORECARD!F36","v":" "},{"$f":"SCORECARD!G36","v":0},{"$f":"SCORECARD!H36","v":0},{"$f":"IF(NOT(OR(F78>0,G78>0)),\"\",(IF((F78-G78>0),(VLOOKUP(H66,(TABLE!WIN),((E78+5)*2+2))),(VLOOKUP(H66,(TABLE!LOSE),((E78+5)*2+2))))))","v":""}]
[null,{"$f":"SCORECARD!C37","v":" "},null,null,{"$f":"SCORECARD!F37","v":" "},{"$f":"SCORECARD!G37","v":0},{"$f":"SCORECARD!H37","v":0},{"$f":"IF(NOT(OR(F79>0,G79>0)),\"\",(IF((F79-G79>0),(VLOOKUP(H66,(TABLE!WIN),((E79+5)*2+2))),(VLOOKUP(H66,(TABLE!LOSE),((E79+5)*2+2))))))","v":""}]
[null,{"$f":"SCORECARD!C38","v":" "},null,null,{"$f":"SCORECARD!F38","v":" "},{"$f":"SCORECARD!G38","v":0},{"$f":"SCORECARD!H38","v":0},{"$f":"IF(NOT(OR(F80>0,G80>0)),\"\",(IF((F80-G80>0),(VLOOKUP(H66,(TABLE!WIN),((E80+5)*2+2))),(VLOOKUP(H66,(TABLE!LOSE),((E80+5)*2+2))))))","v":""}]
[null,{"$f":"SCORECARD!C39","v":" "},null,null,{"$f":"SCORECARD!F39","v":" "},{"$f":"SCORECARD!G39","v":0},{"$f":"SCORECARD!H39","v":0},{"$f":"IF(NOT(OR(F81>0,G81>0)),\"\",(IF((F81-G81>0),(VLOOKUP(H66,(TABLE!WIN),((E81+5)*2+2))),(VLOOKUP(H66,(TABLE!LOSE),((E81+5)*2+2))))))","v":""}]
[null,{"$f":"SCORECARD!C40","v":" "},null,null,{"$f":"SCORECARD!F40","v":" "},{"$f":"SCORECARD!G40","v":0},{"$f":"SCORECARD!H40","v":0},{"$f":"IF(NOT(OR(F82>0,G82>0)),\"\",(IF((F82-G82>0),(VLOOKUP(H66,(TABLE!WIN),((E82+5)*2+2))),(VLOOKUP(H66,(TABLE!LOSE),((E82+5)*2+2))))))","v":""}]
[]
[null,null,null,null,null,null,"Handicap adjustment points total   ",{"$f":"SUM(H69:H82)","v":0}]
[]
[]
[]
[]
[]
[]
[]
[]
[]
[]
[]
[]
[{"$f":"note1","v":"Time limit 2.5 hours, Turn After Bell (61.1.6). Quadway hoops (3 11/16\"), Dawson International balls"}]
[{"$f":"note2","v":"Games may start early. Please be at the venue at least 30 minutes earlier than the scheduled start time."}]
[{"$f":"note3","v":"Entry Fee $40 will be invoiced by email. Please pay by EFT using the invoice No. as reference."}]
[{"$f":"note4","v":"Players please assist with setting and clearing courts."}]
[null,null,null,null,{"$f":"BLOCK!I6","v":" Block 1 Player 3"}]
[null,null,null,null,{"$f":"BLOCK!N2","v":"Tournament"}]
[null,null,null,null,{"$f":"BLOCK!K4","v":"Singles"}]
[null,null,null,null,{"$f":"BLOCK!B6","v":"BLOCK 1"}]
[]
[null,null,null,null,"BLOCK PLAY SCHEDULE"]
[null,"DAY","  TIME  ",null,"COURT",null,"OPPONENT","HANDICAP","PS","OS"]
[null,{"$f":"GAMES!C6","v":"00:00:00"},{"$f":"GAMES!B6","v":"00:00:00"},null,{"$f":"GAMES!D6","v":0},null,{"$f":"GAMES!E6","v":" Block 1 Player 5"},{"$f":"$E$122","v":0},{"$f":"$F$122","v":-1E-3},{"$f":"$G$122","v":-1E-3}]
[null,{"$f":"GAMES!C8","v":"00:00:00"},{"$f":"GAMES!B8","v":"00:00:00"},null,{"$f":"GAMES!D8","v":0},null,{"$f":"GAMES!G14","v":" Block 1 Player 1"},{"$f":"$E$119","v":0},{"$f":"$F$119","v":-1E-3},{"$f":"$G$119","v":-1E-3}]
[null,{"$f":"GAMES!C13","v":"00:00:00"},{"$f":"GAMES!B13","v":"00:00:00"},null,{"$f":"GAMES!D13","v":0},null,{"$f":"GAMES!G13","v":" Block 1 Player 4"},{"$f":"$E$121","v":0},{"$f":"$F$121","v":-1E-3},{"$f":"$G$121","v":-1E-3}]
[null,{"$f":"GAMES!C16","v":"00:00:00"},{"$f":"GAMES!B16","v":"00:00:00"},null,{"$f":"GAMES!D16","v":0},null,{"$f":"GAMES!E16","v":" Block 1 Player 2"},{"$f":"$E$120","v":0},{"$f":"$F$120","v":-1E-3},{"$f":"$G$120","v":-1E-3}]
[null,{"$f":"GAMES!C17","v":"00:00:00"},{"$f":"GAMES!B17","v":"00:00:00"},null,{"$f":"GAMES!D17","v":"--"},null,{"$f":"GAMES!G17","v":" Bye "},{"$f":"$E$123","v":0},{"$f":"$F$123","v":-1E-3},{"$f":"$G$123","v":-1E-3}]
[]
[]
[]
[null,"PLAYER:",{"$f":"BLOCK!I6","v":" Block 1 Player 3"},null,null,null,"HANDICAP",{"$f":"BLOCK!B15","v":0}]
[null,null,"OPPONENT",null,"OPP","PLAYER","OPP","H/CAP"]
[null,null,null,null,"HCP","SCORE","SCORE","PTS"]
[null,{"$f":"SCORECARD!C51","v":" Block 1 Player 1"},null,null,{"$f":"SCORECARD!F51","v":0},{"$f":"SCORECARD!G51","v":-1E-3},{"$f":"SCORECARD!H51","v":-1E-3},{"$f":"IF(NOT(OR(F119>0,G119>0)),\"\",IF(HandicapPlay=\"x\",IF(F119>G119,10,-10),(IF((F119-G119>0),(VLOOKUP(OFFSET(H119,-3,0),(TABLE!WIN),(MATCH(E119,WINCOL,0)+1))),(VLOOKUP(OFFSET(H119,-3,0),(TABLE!LOSE),(MATCH(E119,LOSECOL,0)+1)))))))","v":""}]
[null,{"$f":"SCORECARD!C52","v":" Block 1 Player 2"},null,null,{"$f":"SCORECARD!F52","v":0},{"$f":"SCORECARD!G52","v":-1E-3},{"$f":"SCORECARD!H52","v":-1E-3},{"$f":"IF(NOT(OR(F120>0,G120>0)),\"\",IF(HandicapPlay=\"x\",IF(F120>G120,10,-10),(IF((F120-G120>0),(VLOOKUP(OFFSET(H120,-4,0),(TABLE!WIN),(MATCH(E120,WINCOL,0)+1))),(VLOOKUP(OFFSET(H120,-4,0),(TABLE!LOSE),(MATCH(E120,LOSECOL,0)+1)))))))","v":""}]
[null,{"$f":"SCORECARD!C53","v":" Block 1 Player 4"},null,null,{"$f":"SCORECARD!F53","v":0},{"$f":"SCORECARD!G53","v":-1E-3},{"$f":"SCORECARD!H53","v":-1E-3},{"$f":"IF(NOT(OR(F121>0,G121>0)),\"\",IF(HandicapPlay=\"x\",IF(F121>G121,10,-10),(IF((F121-G121>0),(VLOOKUP(OFFSET(H121,-5,0),(TABLE!WIN),(MATCH(E121,WINCOL,0)+1))),(VLOOKUP(OFFSET(H121,-5,0),(TABLE!LOSE),(MATCH(E121,LOSECOL,0)+1)))))))","v":""}]
[null,{"$f":"SCORECARD!C54","v":" Block 1 Player 5"},null,null,{"$f":"SCORECARD!F54","v":0},{"$f":"SCORECARD!G54","v":-1E-3},{"$f":"SCORECARD!H54","v":-1E-3},{"$f":"IF(NOT(OR(F122>0,G122>0)),\"\",IF(HandicapPlay=\"x\",IF(F122>G122,10,-10),(IF((F122-G122>0),(VLOOKUP(OFFSET(H122,-6,0),(TABLE!WIN),(MATCH(E122,WINCOL,0)+1))),(VLOOKUP(OFFSET(H122,-6,0),(TABLE!LOSE),(MATCH(E122,LOSECOL,0)+1)))))))","v":""}]
[null,{"$f":"SCORECARD!C55","v":" Bye "},null,null,{"$f":"SCORECARD!F55","v":0},{"$f":"SCORECARD!G55","v":-1E-3},{"$f":"SCORECARD!H55","v":-1E-3},{"$f":"IF(NOT(OR(F123>0,G123>0)),\"\",IF(HandicapPlay=\"x\",IF(F123>G123,10,-10),(IF((F123-G123>0),(VLOOKUP(OFFSET(H123,-7,0),(TABLE!WIN),(MATCH(E123,WINCOL,0)+1))),(VLOOKUP(OFFSET(H123,-7,0),(TABLE!LOSE),(MATCH(E123,LOSECOL,0)+1)))))))","v":""}]
[null,{"$f":"SCORECARD!C56","v":" "},null,null,{"$f":"SCORECARD!F56","v":" "},{"$f":"SCORECARD!G56","v":0},{"$f":"SCORECARD!H56","v":0},{"$f":"IF(NOT(OR(F124>0,G124>0)),\"\",(IF((F124-G124>0),(VLOOKUP(H116,(TABLE!WIN),((E124+5)*2+2))),(VLOOKUP(H116,(TABLE!LOSE),((E124+5)*2+2))))))","v":""}]
[null,{"$f":"SCORECARD!C57","v":" "},null,null,{"$f":"SCORECARD!F57","v":" "},{"$f":"SCORECARD!G57","v":0},{"$f":"SCORECARD!H57","v":0},{"$f":"IF(NOT(OR(F125>0,G125>0)),\"\",(IF((F125-G125>0),(VLOOKUP(H116,(TABLE!WIN),((E125+5)*2+2))),(VLOOKUP(H116,(TABLE!LOSE),((E125+5)*2+2))))))","v":""}]
[null,{"$f":"SCORECARD!C58","v":" "},null,null,{"$f":"SCORECARD!F58","v":" "},{"$f":"SCORECARD!G58","v":0},{"$f":"SCORECARD!H58","v":0},{"$f":"IF(NOT(OR(F126>0,G126>0)),\"\",(IF((F126-G126>0),(VLOOKUP(H116,(TABLE!WIN),((E126+5)*2+2))),(VLOOKUP(H116,(TABLE!LOSE),((E126+5)*2+2))))))","v":""}]
[null,{"$f":"SCORECARD!C59","v":" "},null,null,{"$f":"SCORECARD!F59","v":" "},{"$f":"SCORECARD!G59","v":0},{"$f":"SCORECARD!H59","v":0},{"$f":"IF(NOT(OR(F127>0,G127>0)),\"\",(IF((F127-G127>0),(VLOOKUP(H116,(TABLE!WIN),((E127+5)*2+2))),(VLOOKUP(H116,(TABLE!LOSE),((E127+5)*2+2))))))","v":""}]
[null,{"$f":"SCORECARD!C60","v":" "},null,null,{"$f":"SCORECARD!F60","v":" "},{"$f":"SCORECARD!G60","v":0},{"$f":"SCORECARD!H60","v":0},{"$f":"IF(NOT(OR(F128>0,G128>0)),\"\",(IF((F128-G128>0),(VLOOKUP(H116,(TABLE!WIN),((E128+5)*2+2))),(VLOOKUP(H116,(TABLE!LOSE),((E128+5)*2+2))))))","v":""}]
[null,{"$f":"SCORECARD!C61","v":" "},null,null,{"$f":"SCORECARD!F61","v":" "},{"$f":"SCORECARD!G61","v":0},{"$f":"SCORECARD!H61","v":0},{"$f":"IF(NOT(OR(F129>0,G129>0)),\"\",(IF((F129-G129>0),(VLOOKUP(H116,(TABLE!WIN),((E129+5)*2+2))),(VLOOKUP(H116,(TABLE!LOSE),((E129+5)*2+2))))))","v":""}]
[null,{"$f":"SCORECARD!C62","v":" "},null,null,{"$f":"SCORECARD!F62","v":" "},{"$f":"SCORECARD!G62","v":0},{"$f":"SCORECARD!H62","v":0},{"$f":"IF(NOT(OR(F130>0,G130>0)),\"\",(IF((F130-G130>0),(VLOOKUP(H116,(TABLE!WIN),((E130+5)*2+2))),(VLOOKUP(H116,(TABLE!LOSE),((E130+5)*2+2))))))","v":""}]
[null,{"$f":"SCORECARD!C63","v":" "},null,null,{"$f":"SCORECARD!F63","v":" "},{"$f":"SCORECARD!G63","v":0},{"$f":"SCORECARD!H63","v":0},{"$f":"IF(NOT(OR(F131>0,G131>0)),\"\",(IF((F131-G131>0),(VLOOKUP(H116,(TABLE!WIN),((E131+5)*2+2))),(VLOOKUP(H116,(TABLE!LOSE),((E131+5)*2+2))))))","v":""}]
[null,{"$f":"SCORECARD!C64","v":" "},null,null,{"$f":"SCORECARD!F64","v":" "},{"$f":"SCORECARD!G64","v":0},{"$f":"SCORECARD!H64","v":0},{"$f":"IF(NOT(OR(F132>0,G132>0)),\"\",(IF((F132-G132>0),(VLOOKUP(H116,(TABLE!WIN),((E132+5)*2+2))),(VLOOKUP(H116,(TABLE!LOSE),((E132+5)*2+2))))))","v":""}]
[]
[null,null,null,null,null,null,"Handicap adjustment points total   ",{"$f":"SUM(H119:H132)","v":0}]
[]
[]
[]
[]
[]
[]
[]
[]
[]
[]
[]
[]
[{"$f":"note1","v":"Time limit 2.5 hours, Turn After Bell (61.1.6). Quadway hoops (3 11/16\"), Dawson International balls"}]
[{"$f":"note2","v":"Games may start early. Please be at the venue at least 30 minutes earlier than the scheduled start time."}]
[{"$f":"note3","v":"Entry Fee $40 will be invoiced by email. Please pay by EFT using the invoice No. as reference."}]
[{"$f":"note4","v":"Players please assist with setting and clearing courts."}]
[null,null,null,null,{"$f":"BLOCK!L6","v":" Block 1 Player 4"}]
[null,null,null,null,{"$f":"BLOCK!N2","v":"Tournament"}]
[null,null,null,null,{"$f":"BLOCK!K4","v":"Singles"}]
[null,null,null,null,{"$f":"BLOCK!B6","v":"BLOCK 1"}]
[]
[null,null,null,null,"BLOCK PLAY SCHEDULE"]
[null,"DAY","  TIME  ",null,"COURT",null,"OPPONENT","HANDICAP","PS","OS"]
[null,{"$f":"GAMES!C5","v":"00:00:00"},{"$f":"GAMES!B5","v":"00:00:00"},null,{"$f":"GAMES!D5","v":0},null,{"$f":"GAMES!E5","v":" Block 1 Player 1"},{"$f":"$E$169","v":0},{"$f":"$F$169","v":-1E-3},{"$f":"$G$169","v":-1E-3}]
[null,{"$f":"GAMES!C9","v":"00:00:00"},{"$f":"GAMES!B9","v":"00:00:00"},null,{"$f":"GAMES!D9","v":0},null,{"$f":"GAMES!G9","v":" Block 1 Player 2"},{"$f":"$E$170","v":0},{"$f":"$F$170","v":-1E-3},{"$f":"$G$170","v":-1E-3}]
[null,{"$f":"GAMES!C13","v":"00:00:00"},{"$f":"GAMES!B13","v":"00:00:00"},null,{"$f":"GAMES!D13","v":0},null,{"$f":"GAMES!E13","v":" Block 1 Player 3"},{"$f":"$E$171","v":0},{"$f":"$F$171","v":-1E-3},{"$f":"$G$171","v":-1E-3}]
[null,{"$f":"GAMES!C15","v":"00:00:00"},{"$f":"GAMES!B15","v":"00:00:00"},null,{"$f":"GAMES!D15","v":"--"},null,{"$f":"GAMES!E15","v":" Bye "},{"$f":"$E$173","v":0},{"$f":"$F$173","v":-1E-3},{"$f":"$G$173","v":-1E-3}]
[null,{"$f":"GAMES!C18","v":"00:00:00"},{"$f":"GAMES!B18","v":"00:00:00"},null,{"$f":"GAMES!D18","v":0},null,{"$f":"GAMES!G18","v":" Block 1 Player 5"},{"$f":"$E$172","v":0},{"$f":"$F$172","v":-1E-3},{"$f":"$G$172","v":-1E-3}]
[]
[]
[]
[null,"PLAYER:",{"$f":"BLOCK!L6","v":" Block 1 Player 4"},null,null,null,"HANDICAP",{"$f":"BLOCK!B18","v":0}]
[null,null,null,null,"OPP","PLAYER","OPP","H/CAP"]
[null,null,"OPPONENT",null,"HCP","SCORE","SCORE","PTS"]
[null,{"$f":"SCORECARD!C70","v":" Block 1 Player 1"},null,null,{"$f":"SCORECARD!F70","v":0},{"$f":"SCORECARD!G70","v":-1E-3},{"$f":"SCORECARD!H70","v":-1E-3},{"$f":"IF(NOT(OR(F169>0,G169>0)),\"\",IF(HandicapPlay=\"x\",IF(F169>G169,10,-10),(IF((F169-G169>0),(VLOOKUP(OFFSET(H169,-3,0),(TABLE!WIN),(MATCH(E169,WINCOL,0)+1))),(VLOOKUP(OFFSET(H169,-3,0),(TABLE!LOSE),(MATCH(E169,LOSECOL,0)+1)))))))","v":""}]
[null,{"$f":"SCORECARD!C71","v":" Block 1 Player 2"},null,null,{"$f":"SCORECARD!F71","v":0},{"$f":"SCORECARD!G71","v":-1E-3},{"$f":"SCORECARD!H71","v":-1E-3},{"$f":"IF(NOT(OR(F170>0,G170>0)),\"\",IF(HandicapPlay=\"x\",IF(F170>G170,10,-10),(IF((F170-G170>0),(VLOOKUP(OFFSET(H170,-4,0),(TABLE!WIN),(MATCH(E170,WINCOL,0)+1))),(VLOOKUP(OFFSET(H170,-4,0),(TABLE!LOSE),(MATCH(E170,LOSECOL,0)+1)))))))","v":""}]
[null,{"$f":"SCORECARD!C72","v":" Block 1 Player 3"},null,null,{"$f":"SCORECARD!F72","v":0},{"$f":"SCORECARD!G72","v":-1E-3},{"$f":"SCORECARD!H72","v":-1E-3},{"$f":"IF(NOT(OR(F171>0,G171>0)),\"\",IF(HandicapPlay=\"x\",IF(F171>G171,10,-10),(IF((F171-G171>0),(VLOOKUP(OFFSET(H171,-5,0),(TABLE!WIN),(MATCH(E171,WINCOL,0)+1))),(VLOOKUP(OFFSET(H171,-5,0),(TABLE!LOSE),(MATCH(E171,LOSECOL,0)+1)))))))","v":""}]
[null,{"$f":"SCORECARD!C73","v":" Block 1 Player 5"},null,null,{"$f":"SCORECARD!F73","v":0},{"$f":"SCORECARD!G73","v":-1E-3},{"$f":"SCORECARD!H73","v":-1E-3},{"$f":"IF(NOT(OR(F172>0,G172>0)),\"\",IF(HandicapPlay=\"x\",IF(F172>G172,10,-10),(IF((F172-G172>0),(VLOOKUP(OFFSET(H172,-6,0),(TABLE!WIN),(MATCH(E172,WINCOL,0)+1))),(VLOOKUP(OFFSET(H172,-6,0),(TABLE!LOSE),(MATCH(E172,LOSECOL,0)+1)))))))","v":""}]
[null,{"$f":"SCORECARD!C74","v":" Bye "},null,null,{"$f":"SCORECARD!F74","v":0},{"$f":"SCORECARD!G74","v":-1E-3},{"$f":"SCORECARD!H74","v":-1E-3},{"$f":"IF(NOT(OR(F173>0,G173>0)),\"\",IF(HandicapPlay=\"x\",IF(F173>G173,10,-10),(IF((F173-G173>0),(VLOOKUP(OFFSET(H173,-7,0),(TABLE!WIN),(MATCH(E173,WINCOL,0)+1))),(VLOOKUP(OFFSET(H173,-7,0),(TABLE!LOSE),(MATCH(E173,LOSECOL,0)+1)))))))","v":""}]
[null,{"$f":"SCORECARD!C75","v":" "},null,null,{"$f":"SCORECARD!F75","v":" "},{"$f":"SCORECARD!G75","v":0},{"$f":"SCORECARD!H75","v":0},{"$f":"IF(NOT(OR(F174>0,G174>0)),\"\",(IF((F174-G174>0),(VLOOKUP(H166,(TABLE!WIN),((E174+5)*2+2))),(VLOOKUP(H166,(TABLE!LOSE),((E174+5)*2+2))))))","v":""}]
[null,{"$f":"SCORECARD!C76","v":" "},null,null,{"$f":"SCORECARD!F76","v":" "},{"$f":"SCORECARD!G76","v":0},{"$f":"SCORECARD!H76","v":0},{"$f":"IF(NOT(OR(F175>0,G175>0)),\"\",(IF((F175-G175>0),(VLOOKUP(H166,(TABLE!WIN),((E175+5)*2+2))),(VLOOKUP(H166,(TABLE!LOSE),((E175+5)*2+2))))))","v":""}]
[null,{"$f":"SCORECARD!C77","v":" "},null,null,{"$f":"SCORECARD!F77","v":" "},{"$f":"SCORECARD!G77","v":0},{"$f":"SCORECARD!H77","v":0},{"$f":"IF(NOT(OR(F176>0,G176>0)),\"\",(IF((F176-G176>0),(VLOOKUP(H166,(TABLE!WIN),((E176+5)*2+2))),(VLOOKUP(H166,(TABLE!LOSE),((E176+5)*2+2))))))","v":""}]
[null,{"$f":"SCORECARD!C78","v":" "},null,null,{"$f":"SCORECARD!F78","v":" "},{"$f":"SCORECARD!G78","v":0},{"$f":"SCORECARD!H78","v":0},{"$f":"IF(NOT(OR(F177>0,G177>0)),\"\",(IF((F177-G177>0),(VLOOKUP(H166,(TABLE!WIN),((E177+5)*2+2))),(VLOOKUP(H166,(TABLE!LOSE),((E177+5)*2+2))))))","v":""}]
[null,{"$f":"SCORECARD!C79","v":" "},null,null,{"$f":"SCORECARD!F79","v":" "},{"$f":"SCORECARD!G79","v":0},{"$f":"SCORECARD!H79","v":0},{"$f":"IF(NOT(OR(F178>0,G178>0)),\"\",(IF((F178-G178>0),(VLOOKUP(H166,(TABLE!WIN),((E178+5)*2+2))),(VLOOKUP(H166,(TABLE!LOSE),((E178+5)*2+2))))))","v":""}]
[null,{"$f":"SCORECARD!C80","v":" "},null,null,{"$f":"SCORECARD!F80","v":" "},{"$f":"SCORECARD!G80","v":0},{"$f":"SCORECARD!H80","v":0},{"$f":"IF(NOT(OR(F179>0,G179>0)),\"\",(IF((F179-G179>0),(VLOOKUP(H166,(TABLE!WIN),((E179+5)*2+2))),(VLOOKUP(H166,(TABLE!LOSE),((E179+5)*2+2))))))","v":""}]
[null,{"$f":"SCORECARD!C81","v":" "},null,null,{"$f":"SCORECARD!F81","v":" "},{"$f":"SCORECARD!G81","v":0},{"$f":"SCORECARD!H81","v":0},{"$f":"IF(NOT(OR(F180>0,G180>0)),\"\",(IF((F180-G180>0),(VLOOKUP(H166,(TABLE!WIN),((E180+5)*2+2))),(VLOOKUP(H166,(TABLE!LOSE),((E180+5)*2+2))))))","v":""}]
[null,{"$f":"SCORECARD!C82","v":" "},null,null,{"$f":"SCORECARD!F82","v":" "},{"$f":"SCORECARD!G82","v":0},{"$f":"SCORECARD!H82","v":0},{"$f":"IF(NOT(OR(F181>0,G181>0)),\"\",(IF((F181-G181>0),(VLOOKUP(H166,(TABLE!WIN),((E181+5)*2+2))),(VLOOKUP(H166,(TABLE!LOSE),((E181+5)*2+2))))))","v":""}]
[null,{"$f":"SCORECARD!C83","v":" "},null,null,{"$f":"SCORECARD!F83","v":" "},{"$f":"SCORECARD!G83","v":0},{"$f":"SCORECARD!H83","v":0},{"$f":"IF(NOT(OR(F182>0,G182>0)),\"\",(IF((F182-G182>0),(VLOOKUP(H166,(TABLE!WIN),((E182+5)*2+2))),(VLOOKUP(H166,(TABLE!LOSE),((E182+5)*2+2))))))","v":""}]
[]
[null,null,null,null,null,null,"Handicap adjustment points total   ",{"$f":"SUM(H169:H182)","v":0}]
[]
[]
[]
[]
[]
[]
[]
[]
[]
[]
[]
[]
[{"$f":"note1","v":"Time limit 2.5 hours, Turn After Bell (61.1.6). Quadway hoops (3 11/16\"), Dawson International balls"}]
[{"$f":"note2","v":"Games may start early. Please be at the venue at least 30 minutes earlier than the scheduled start time."}]
[{"$f":"note3","v":"Entry Fee $40 will be invoiced by email. Please pay by EFT using the invoice No. as reference."}]
[{"$f":"note4","v":"Players please assist with setting and clearing courts."}]
[null,null,null,null,{"$f":"BLOCK!O6","v":" Block 1 Player 5"}]
[null,null,null,null,{"$f":"BLOCK!N2","v":"Tournament"}]
[null,null,null,null,{"$f":"BLOCK!K4","v":"Singles"}]
[null,null,null,null,{"$f":"BLOCK!B6","v":"BLOCK 1"}]
[]
[null,null,null,null,"BLOCK PLAY SCHEDULE"]
[null,"DAY","  TIME  ",null,"COURT",null,"OPPONENT","HANDICAP","PS","OS"]
[null,{"$f":"GAMES!C6","v":"00:00:00"},{"$f":"GAMES!B6","v":"00:00:00"},null,{"$f":"GAMES!D6","v":0},null,{"$f":"GAMES!G6","v":" Block 1 Player 3"},{"$f":"$E$221","v":0},{"$f":"$F$221","v":-1E-3},{"$f":"$G$221","v":-1E-3}]
[null,{"$f":"GAMES!C10","v":"00:00:00"},{"$f":"GAMES!B10","v":"00:00:00"},null,{"$f":"GAMES!D10","v":"--"},null,{"$f":"GAMES!G10","v":" Bye "},{"$f":"$E$223","v":0},{"$f":"$F$223","v":-1E-3},{"$f":"$G$223","v":-1E-3}]
[null,{"$f":"GAMES!C12","v":"00:00:00"},{"$f":"GAMES!B12","v":"00:00:00"},null,{"$f":"GAMES!D12","v":0},null,{"$f":"GAMES!E12","v":" Block 1 Player 2"},{"$f":"$E$220","v":0},{"$f":"$F$220","v":-1E-3},{"$f":"$G$220","v":-1E-3}]
[null,{"$f":"GAMES!C14","v":"00:00:00"},{"$f":"GAMES!B14","v":"00:00:00"},null,{"$f":"GAMES!D14","v":0},null,{"$f":"GAMES!G14","v":" Block 1 Player 1"},{"$f":"$E$219","v":0},{"$f":"$F$219","v":-1E-3},{"$f":"$G$219","v":-1E-3}]
[null,{"$f":"GAMES!C18","v":"00:00:00"},{"$f":"GAMES!B18","v":"00:00:00"},null,{"$f":"GAMES!D18","v":0},null,{"$f":"GAMES!E18","v":" Block 1 Player 4"},{"$f":"$E$222","v":0},{"$f":"$F$222","v":-1E-3},{"$f":"$G$222","v":-1E-3}]
[]
[]
[]
[null,"PLAYER:",{"$f":"BLOCK!O6","v":" Block 1 Player 5"},null,null,null,"HANDICAP",{"$f":"BLOCK!B21","v":0}]
[null,null,null,null,"OPP","PLAYER","OPP","H/CAP"]
[null,null,"OPPONENT",null,"HCP","SCORE","SCORE","PTS"]
[null,{"$f":"SCORECARD!C94","v":" Block 1 Player 1"},null,null,{"$f":"SCORECARD!F94","v":0},{"$f":"SCORECARD!G94","v":-1E-3},{"$f":"SCORECARD!H94","v":-1E-3},{"$f":"IF(NOT(OR(F219>0,G219>0)),\"\",IF(HandicapPlay=\"x\",IF(F219>G219,10,-10),(IF((F219-G219>0),(VLOOKUP(OFFSET(H219,-3,0),(TABLE!WIN),(MATCH(E219,WINCOL,0)+1))),(VLOOKUP(OFFSET(H219,-3,0),(TABLE!LOSE),(MATCH(E219,LOSECOL,0)+1)))))))","v":""}]
[null,{"$f":"SCORECARD!C95","v":" Block 1 Player 2"},null,null,{"$f":"SCORECARD!F95","v":0},{"$f":"SCORECARD!G95","v":-1E-3},{"$f":"SCORECARD!H95","v":-1E-3},{"$f":"IF(NOT(OR(F220>0,G220>0)),\"\",IF(HandicapPlay=\"x\",IF(F220>G220,10,-10),(IF((F220-G220>0),(VLOOKUP(OFFSET(H220,-4,0),(TABLE!WIN),(MATCH(E220,WINCOL,0)+1))),(VLOOKUP(OFFSET(H220,-4,0),(TABLE!LOSE),(MATCH(E220,LOSECOL,0)+1)))))))","v":""}]
[null,{"$f":"SCORECARD!C96","v":" Block 1 Player 3"},null,null,{"$f":"SCORECARD!F96","v":0},{"$f":"SCORECARD!G96","v":-1E-3},{"$f":"SCORECARD!H96","v":-1E-3},{"$f":"IF(NOT(OR(F221>0,G221>0)),\"\",IF(HandicapPlay=\"x\",IF(F221>G221,10,-10),(IF((F221-G221>0),(VLOOKUP(OFFSET(H221,-5,0),(TABLE!WIN),(MATCH(E221,WINCOL,0)+1))),(VLOOKUP(OFFSET(H221,-5,0),(TABLE!LOSE),(MATCH(E221,LOSECOL,0)+1)))))))","v":""}]
[null,{"$f":"SCORECARD!C97","v":" Block 1 Player 4"},null,null,{"$f":"SCORECARD!F97","v":0},{"$f":"SCORECARD!G97","v":-1E-3},{"$f":"SCORECARD!H97","v":-1E-3},{"$f":"IF(NOT(OR(F222>0,G222>0)),\"\",IF(HandicapPlay=\"x\",IF(F222>G222,10,-10),(IF((F222-G222>0),(VLOOKUP(OFFSET(H222,-6,0),(TABLE!WIN),(MATCH(E222,WINCOL,0)+1))),(VLOOKUP(OFFSET(H222,-6,0),(TABLE!LOSE),(MATCH(E222,LOSECOL,0)+1)))))))","v":""}]
[null,{"$f":"SCORECARD!C98","v":" Bye "},null,null,{"$f":"SCORECARD!F98","v":0},{"$f":"SCORECARD!G98","v":-1E-3},{"$f":"SCORECARD!H98","v":-1E-3},{"$f":"IF(NOT(OR(F223>0,G223>0)),\"\",IF(HandicapPlay=\"x\",IF(F223>G223,10,-10),(IF((F223-G223>0),(VLOOKUP(OFFSET(H223,-7,0),(TABLE!WIN),(MATCH(E223,WINCOL,0)+1))),(VLOOKUP(OFFSET(H223,-7,0),(TABLE!LOSE),(MATCH(E223,LOSECOL,0)+1)))))))","v":""}]
[null,{"$f":"SCORECARD!C99","v":" "},null,null,{"$f":"SCORECARD!F99","v":" "},{"$f":"SCORECARD!G99","v":0},{"$f":"SCORECARD!H99","v":0},{"$f":"IF(NOT(OR(F224>0,G224>0)),\"\",(IF((F224-G224>0),(VLOOKUP(H216,(TABLE!WIN),((E224+5)*2+2))),(VLOOKUP(H216,(TABLE!LOSE),((E224+5)*2+2))))))","v":""}]
[null,{"$f":"SCORECARD!C100","v":" "},null,null,{"$f":"SCORECARD!F100","v":" "},{"$f":"SCORECARD!G100","v":0},{"$f":"SCORECARD!H100","v":0},{"$f":"IF(NOT(OR(F225>0,G225>0)),\"\",(IF((F225-G225>0),(VLOOKUP(H216,(TABLE!WIN),((E225+5)*2+2))),(VLOOKUP(H216,(TABLE!LOSE),((E225+5)*2+2))))))","v":""}]
[null,{"$f":"SCORECARD!C101","v":" "},null,null,{"$f":"SCORECARD!F101","v":" "},{"$f":"SCORECARD!G101","v":0},{"$f":"SCORECARD!H101","v":0},{"$f":"IF(NOT(OR(F226>0,G226>0)),\"\",(IF((F226-G226>0),(VLOOKUP(H216,(TABLE!WIN),((E226+5)*2+2))),(VLOOKUP(H216,(TABLE!LOSE),((E226+5)*2+2))))))","v":""}]
[null,{"$f":"SCORECARD!C102","v":" "},null,null,{"$f":"SCORECARD!F102","v":" "},{"$f":"SCORECARD!G102","v":0},{"$f":"SCORECARD!H102","v":0},{"$f":"IF(NOT(OR(F227>0,G227>0)),\"\",(IF((F227-G227>0),(VLOOKUP(H216,(TABLE!WIN),((E227+5)*2+2))),(VLOOKUP(H216,(TABLE!LOSE),((E227+5)*2+2))))))","v":""}]
[null,{"$f":"SCORECARD!C103","v":" "},null,null,{"$f":"SCORECARD!F103","v":" "},{"$f":"SCORECARD!G103","v":0},{"$f":"SCORECARD!H103","v":0},{"$f":"IF(NOT(OR(F228>0,G228>0)),\"\",(IF((F228-G228>0),(VLOOKUP(H216,(TABLE!WIN),((E228+5)*2+2))),(VLOOKUP(H216,(TABLE!LOSE),((E228+5)*2+2))))))","v":""}]
[null,{"$f":"SCORECARD!C104","v":" "},null,null,{"$f":"SCORECARD!F104","v":" "},{"$f":"SCORECARD!G104","v":0},{"$f":"SCORECARD!H104","v":0},{"$f":"IF(NOT(OR(F229>0,G229>0)),\"\",(IF((F229-G229>0),(VLOOKUP(H216,(TABLE!WIN),((E229+5)*2+2))),(VLOOKUP(H216,(TABLE!LOSE),((E229+5)*2+2))))))","v":""}]
[null,{"$f":"SCORECARD!C105","v":" "},null,null,{"$f":"SCORECARD!F105","v":" "},{"$f":"SCORECARD!G105","v":0},{"$f":"SCORECARD!H105","v":0},{"$f":"IF(NOT(OR(F230>0,G230>0)),\"\",(IF((F230-G230>0),(VLOOKUP(H216,(TABLE!WIN),((E230+5)*2+2))),(VLOOKUP(H216,(TABLE!LOSE),((E230+5)*2+2))))))","v":""}]
[null,{"$f":"SCORECARD!C106","v":" "},null,null,{"$f":"SCORECARD!F106","v":" "},{"$f":"SCORECARD!G106","v":0},{"$f":"SCORECARD!H106","v":0},{"$f":"IF(NOT(OR(F231>0,G231>0)),\"\",(IF((F231-G231>0),(VLOOKUP(H216,(TABLE!WIN),((E231+5)*2+2))),(VLOOKUP(H216,(TABLE!LOSE),((E231+5)*2+2))))))","v":""}]
[null,{"$f":"SCORECARD!C107","v":" "},null,null,{"$f":"SCORECARD!F107","v":" "},{"$f":"SCORECARD!G107","v":0},{"$f":"SCORECARD!H107","v":0},{"$f":"IF(NOT(OR(F232>0,G232>0)),\"\",(IF((F232-G232>0),(VLOOKUP(H216,(TABLE!WIN),((E232+5)*2+2))),(VLOOKUP(H216,(TABLE!LOSE),((E232+5)*2+2))))))","v":""}]
[]
[null,null,null,null,null,null,"Handicap adjustment points total   ",{"$f":"SUM(H219:H232)","v":0}]
[]
[]
[]
[]
[]
[]
[]
[]
[]
[]
[]
[]
[{"$f":"note1","v":"Time limit 2.5 hours, Turn After Bell (61.1.6). Quadway hoops (3 11/16\"), Dawson International balls"}]
[{"$f":"note2","v":"Games may start early. Please be at the venue at least 30 minutes earlier than the scheduled start time."}]
[{"$f":"note3","v":"Entry Fee $40 will be invoiced by email. Please pay by EFT using the invoice No. as reference."}]
[{"$f":"note4","v":"Players please assist with setting and clearing courts."}]
[null,null,null,null,{"$f":"BLOCK!R6","v":" Bye "}]
[null,null,null,null,{"$f":"BLOCK!N2","v":"Tournament"}]
[null,null,null,null,{"$f":"BLOCK!K4","v":"Singles"}]
[null,null,null,null,{"$f":"BLOCK!B6","v":"BLOCK 1"}]
[]
[null,null,null,null,"BLOCK PLAY SCHEDULE"]
[null,"DAY","  TIME  ",null,"COURT",null,"OPPONENT","HANDICAP","PS","OS"]
[null,{"$f":"GAMES!C7","v":"00:00:00"},{"$f":"GAMES!B7","v":"00:00:00"},null,{"$f":"GAMES!D7","v":"--"},null,{"$f":"GAMES!G7","v":" Block 1 Player 2"},{"$f":"$E$270","v":0},{"$f":"$F$270","v":-1E-3},{"$f":"$G$270","v":-1E-3}]
[null,{"$f":"GAMES!C10","v":"00:00:00"},{"$f":"GAMES!B10","v":"00:00:00"},null,{"$f":"GAMES!D10","v":"--"},null,{"$f":"GAMES!E10","v":" Block 1 Player 5"},{"$f":"$E$273","v":0},{"$f":"$F$273","v":-1E-3},{"$f":"$G$273","v":-1E-3}]
[null,{"$f":"GAMES!C11","v":"00:00:00"},{"$f":"GAMES!B11","v":"00:00:00"},null,{"$f":"GAMES!D11","v":"--"},null,{"$f":"GAMES!E11","v":" Block 1 Player 1"},{"$f":"$E$269","v":0},{"$f":"$F$269","v":-1E-3},{"$f":"$G$269","v":-1E-3}]
[null,{"$f":"GAMES!C15","v":"00:00:00"},{"$f":"GAMES!B15","v":"00:00:00"},null,{"$f":"GAMES!D15","v":"--"},null,{"$f":"GAMES!G15","v":" Block 1 Player 4"},{"$f":"$E$272","v":0},{"$f":"$F$272","v":-1E-3},{"$f":"$G$272","v":-1E-3}]
[null,{"$f":"GAMES!C17","v":"00:00:00"},{"$f":"GAMES!B17","v":"00:00:00"},null,{"$f":"GAMES!D17","v":"--"},null,{"$f":"GAMES!E17","v":" Block 1 Player 3"},{"$f":"$E$271","v":0},{"$f":"$F$271","v":-1E-3},{"$f":"$G$271","v":-1E-3}]
[]
[]
[]
[null,"PLAYER:",{"$f":"BLOCK!R6","v":" Bye "},null,null,null,"HANDICAP",{"$f":"BLOCK!B24","v":0}]
[null,null,null,null,"OPP","PLAYER","OPP","H/CAP"]
[null,null,"OPPONENT",null,"HCP","SCORE","SCORE","PTS"]
[null,{"$f":"SCORECARD!C113","v":" Block 1 Player 1"},null,null,{"$f":"SCORECARD!F113","v":0},{"$f":"SCORECARD!G113","v":-1E-3},{"$f":"SCORECARD!H113","v":-1E-3},{"$f":"IF(NOT(OR(F269>0,G269>0)),\"\",IF(HandicapPlay=\"x\",IF(F269>G269,10,-10),(IF((F269-G269>0),(VLOOKUP(OFFSET(H269,-3,0),(TABLE!WIN),(MATCH(E269,WINCOL,0)+1))),(VLOOKUP(OFFSET(H269,-3,0),(TABLE!LOSE),(MATCH(E269,LOSECOL,0)+1)))))))","v":""}]
[null,{"$f":"SCORECARD!C114","v":" Block 1 Player 2"},null,null,{"$f":"SCORECARD!F114","v":0},{"$f":"SCORECARD!G114","v":-1E-3},{"$f":"SCORECARD!H114","v":-1E-3},{"$f":"IF(NOT(OR(F270>0,G270>0)),\"\",IF(HandicapPlay=\"x\",IF(F270>G270,10,-10),(IF((F270-G270>0),(VLOOKUP(OFFSET(H270,-4,0),(TABLE!WIN),(MATCH(E270,WINCOL,0)+1))),(VLOOKUP(OFFSET(H270,-4,0),(TABLE!LOSE),(MATCH(E270,LOSECOL,0)+1)))))))","v":""}]
[null,{"$f":"SCORECARD!C115","v":" Block 1 Player 3"},null,null,{"$f":"SCORECARD!F115","v":0},{"$f":"SCORECARD!G115","v":-1E-3},{"$f":"SCORECARD!H115","v":-1E-3},{"$f":"IF(NOT(OR(F271>0,G271>0)),\"\",IF(HandicapPlay=\"x\",IF(F271>G271,10,-10),(IF((F271-G271>0),(VLOOKUP(OFFSET(H271,-5,0),(TABLE!WIN),(MATCH(E271,WINCOL,0)+1))),(VLOOKUP(OFFSET(H271,-5,0),(TABLE!LOSE),(MATCH(E271,LOSECOL,0)+1)))))))","v":""}]
[null,{"$f":"SCORECARD!C116","v":" Block 1 Player 4"},null,null,{"$f":"SCORECARD!F116","v":0},{"$f":"SCORECARD!G116","v":-1E-3},{"$f":"SCORECARD!H116","v":-1E-3},{"$f":"IF(NOT(OR(F272>0,G272>0)),\"\",IF(HandicapPlay=\"x\",IF(F272>G272,10,-10),(IF((F272-G272>0),(VLOOKUP(OFFSET(H272,-6,0),(TABLE!WIN),(MATCH(E272,WINCOL,0)+1))),(VLOOKUP(OFFSET(H272,-6,0),(TABLE!LOSE),(MATCH(E272,LOSECOL,0)+1)))))))","v":""}]
[null,{"$f":"SCORECARD!C117","v":" Block 1 Player 5"},null,null,{"$f":"SCORECARD!F117","v":0},{"$f":"SCORECARD!G117","v":-1E-3},{"$f":"SCORECARD!H117","v":-1E-3},{"$f":"IF(NOT(OR(F273>0,G273>0)),\"\",IF(HandicapPlay=\"x\",IF(F273>G273,10,-10),(IF((F273-G273>0),(VLOOKUP(OFFSET(H273,-7,0),(TABLE!WIN),(MATCH(E273,WINCOL,0)+1))),(VLOOKUP(OFFSET(H273,-7,0),(TABLE!LOSE),(MATCH(E273,LOSECOL,0)+1)))))))","v":""}]
[null,{"$f":"SCORECARD!C118","v":" "},null,null,{"$f":"SCORECARD!F118","v":" "},{"$f":"SCORECARD!G118","v":0},{"$f":"SCORECARD!H118","v":0},{"$f":"IF(NOT(OR(F274>0,G274>0)),\"\",(IF((F274-G274>0),(VLOOKUP(H266,(TABLE!WIN),((E274+5)*2+2))),(VLOOKUP(H266,(TABLE!LOSE),((E274+5)*2+2))))))","v":""}]
[null,{"$f":"SCORECARD!C119","v":" "},null,null,{"$f":"SCORECARD!F119","v":" "},{"$f":"SCORECARD!G119","v":0},{"$f":"SCORECARD!H119","v":0},{"$f":"IF(NOT(OR(F275>0,G275>0)),\"\",(IF((F275-G275>0),(VLOOKUP(H266,(TABLE!WIN),((E275+5)*2+2))),(VLOOKUP(H266,(TABLE!LOSE),((E275+5)*2+2))))))","v":""}]
[null,{"$f":"SCORECARD!C120","v":" "},null,null,{"$f":"SCORECARD!F120","v":" "},{"$f":"SCORECARD!G120","v":0},{"$f":"SCORECARD!H120","v":0},{"$f":"IF(NOT(OR(F276>0,G276>0)),\"\",(IF((F276-G276>0),(VLOOKUP(H266,(TABLE!WIN),((E276+5)*2+2))),(VLOOKUP(H266,(TABLE!LOSE),((E276+5)*2+2))))))","v":""}]
[null,{"$f":"SCORECARD!C121","v":" "},null,null,{"$f":"SCORECARD!F121","v":" "},{"$f":"SCORECARD!G121","v":0},{"$f":"SCORECARD!H121","v":0},{"$f":"IF(NOT(OR(F277>0,G277>0)),\"\",(IF((F277-G277>0),(VLOOKUP(H266,(TABLE!WIN),((E277+5)*2+2))),(VLOOKUP(H266,(TABLE!LOSE),((E277+5)*2+2))))))","v":""}]
[null,{"$f":"SCORECARD!C122","v":" "},null,null,{"$f":"SCORECARD!F122","v":" "},{"$f":"SCORECARD!G122","v":0},{"$f":"SCORECARD!H122","v":0},{"$f":"IF(NOT(OR(F278>0,G278>0)),\"\",(IF((F278-G278>0),(VLOOKUP(H266,(TABLE!WIN),((E278+5)*2+2))),(VLOOKUP(H266,(TABLE!LOSE),((E278+5)*2+2))))))","v":""}]
[null,{"$f":"SCORECARD!C123","v":" "},null,null,{"$f":"SCORECARD!F123","v":" "},{"$f":"SCORECARD!G123","v":0},{"$f":"SCORECARD!H123","v":0},{"$f":"IF(NOT(OR(F279>0,G279>0)),\"\",(IF((F279-G279>0),(VLOOKUP(H266,(TABLE!WIN),((E279+5)*2+2))),(VLOOKUP(H266,(TABLE!LOSE),((E279+5)*2+2))))))","v":""}]
[null,{"$f":"SCORECARD!C124","v":" "},null,null,{"$f":"SCORECARD!F124","v":" "},{"$f":"SCORECARD!G124","v":0},{"$f":"SCORECARD!H124","v":0},{"$f":"IF(NOT(OR(F280>0,G280>0)),\"\",(IF((F280-G280>0),(VLOOKUP(H266,(TABLE!WIN),((E280+5)*2+2))),(VLOOKUP(H266,(TABLE!LOSE),((E280+5)*2+2))))))","v":""}]
[null,{"$f":"SCORECARD!C125","v":" "},null,null,{"$f":"SCORECARD!F125","v":" "},{"$f":"SCORECARD!G125","v":0},{"$f":"SCORECARD!H125","v":0},{"$f":"IF(NOT(OR(F281>0,G281>0)),\"\",(IF((F281-G281>0),(VLOOKUP(H266,(TABLE!WIN),((E281+5)*2+2))),(VLOOKUP(H266,(TABLE!LOSE),((E281+5)*2+2))))))","v":""}]
[null,{"$f":"SCORECARD!C126","v":" "},null,null,{"$f":"SCORECARD!F126","v":" "},{"$f":"SCORECARD!G126","v":0},{"$f":"SCORECARD!H126","v":0},{"$f":"IF(NOT(OR(F282>0,G282>0)),\"\",(IF((F282-G282>0),(VLOOKUP(H266,(TABLE!WIN),((E282+5)*2+2))),(VLOOKUP(H266,(TABLE!LOSE),((E282+5)*2+2))))))","v":""}]
[]
[null,null,null,null,null,null,"Handicap adjustment points total   ",{"$f":"SUM(H269:H282)","v":0}]
[]
[]
[]
[]
[]
[]
[]
[]
[]
[]
[]
[]
[{"$f":"note1","v":"Time limit 2.5 hours, Turn After Bell (61.1.6). Quadway hoops (3 11/16\"), Dawson International balls"}]
[{"$f":"note2","v":"Games may start early. Please be at the venue at least 30 minutes earlier than the scheduled start time."}]
[{"$f":"note3","v":"Entry Fee $40 will be invoiced by email. Please pay by EFT using the invoice No. as reference."}]
[{"$f":"note4","v":"Players please assist with setting and clearing courts."}]
[null,null,null,null,{"$f":"BLOCK!C31","v":" Block 2 Player 1"}]
[null,null,null,null,{"$f":"BLOCK!N27","v":"Tournament"}]
[null,null,null,null,{"$f":"BLOCK!K29","v":"Singles"}]
[null,null,null,null,{"$f":"BLOCK!B31","v":"BLOCK 2"}]
[]
[null,null,null,null,"BLOCK PLAY SCHEDULE"]
[null,"DAY","  TIME  ",null,"COURT",null,"OPPONENT","HANDICAP","PS","OS"]
[null,{"$f":"GAMES!C23","v":"00:00:00"},{"$f":"GAMES!B23","v":"00:00:00"},null,{"$f":"GAMES!D23","v":0},null,{"$f":"GAMES!G23","v":" Block 2 Player 4"},{"$f":"$E$321","v":0},{"$f":"$F$321","v":-1E-3},{"$f":"$G$321","v":-1E-3}]
[null,{"$f":"GAMES!C26","v":"00:00:00"},{"$f":"GAMES!B26","v":"00:00:00"},null,{"$f":"GAMES!D26","v":0},null,{"$f":"GAMES!E26","v":" Block 2 Player 3"},{"$f":"$E$320","v":0},{"$f":"$F$320","v":-1E-3},{"$f":"$G$320","v":-1E-3}]
[null,{"$f":"GAMES!C29","v":"00:00:00"},{"$f":"GAMES!B29","v":"00:00:00"},null,{"$f":"GAMES!D29","v":"--"},null,{"$f":"GAMES!G29","v":" Bye "},{"$f":"$E$323","v":0},{"$f":"$F$323","v":-1E-3},{"$f":"$G$323","v":-1E-3}]
[null,{"$f":"GAMES!C32","v":"00:00:00"},{"$f":"GAMES!B32","v":"00:00:00"},null,{"$f":"GAMES!D32","v":0},null,{"$f":"GAMES!E32","v":" Block 2 Player 5"},{"$f":"$E$322","v":0},{"$f":"$F$322","v":-1E-3},{"$f":"$G$322","v":-1E-3}]
[null,{"$f":"GAMES!C37","v":"00:00:00"},{"$f":"GAMES!B37","v":"00:00:00"},null,{"$f":"GAMES!D37","v":0},null,{"$f":"GAMES!G37","v":" Block 2 Player 2"},{"$f":"$E$319","v":0},{"$f":"$F$319","v":-1E-3},{"$f":"$G$319","v":-1E-3}]
[]
[]
[]
[null,"PLAYER:",{"$f":"BLOCK!C31","v":" Block 2 Player 1"},null,null,null,"HANDICAP",{"$f":"BLOCK!B34","v":0}]
[null,null,null,null,"OPP","PLAYER","OPP","H/CAP"]
[null,null,"OPPONENT",null,"HCP","SCORE","SCORE","PTS"]
[null,{"$f":"SCORECARD!C137","v":" Block 2 Player 2"},null,null,{"$f":"SCORECARD!F137","v":0},{"$f":"SCORECARD!G137","v":-1E-3},{"$f":"SCORECARD!H137","v":-1E-3},{"$f":"IF(NOT(OR(F319>0,G319>0)),\"\",IF(HandicapPlay=\"x\",IF(F319>G319,10,-10),(IF((F319-G319>0),(VLOOKUP(OFFSET(H319,-3,0),(TABLE!WIN),(MATCH(E319,WINCOL,0)+1))),(VLOOKUP(OFFSET(H319,-3,0),(TABLE!LOSE),(MATCH(E319,LOSECOL,0)+1)))))))","v":""}]
[null,{"$f":"SCORECARD!C138","v":" Block 2 Player 3"},null,null,{"$f":"SCORECARD!F138","v":0},{"$f":"SCORECARD!G138","v":-1E-3},{"$f":"SCORECARD!H138","v":-1E-3},{"$f":"IF(NOT(OR(F320>0,G320>0)),\"\",IF(HandicapPlay=\"x\",IF(F320>G320,10,-10),(IF((F320-G320>0),(VLOOKUP(OFFSET(H320,-4,0),(TABLE!WIN),(MATCH(E320,WINCOL,0)+1))),(VLOOKUP(OFFSET(H320,-4,0),(TABLE!LOSE),(MATCH(E320,LOSECOL,0)+1)))))))","v":""}]
[null,{"$f":"SCORECARD!C139","v":" Block 2 Player 4"},null,null,{"$f":"SCORECARD!F139","v":0},{"$f":"SCORECARD!G139","v":-1E-3},{"$f":"SCORECARD!H139","v":-1E-3},{"$f":"IF(NOT(OR(F321>0,G321>0)),\"\",IF(HandicapPlay=\"x\",IF(F321>G321,10,-10),(IF((F321-G321>0),(VLOOKUP(OFFSET(H321,-5,0),(TABLE!WIN),(MATCH(E321,WINCOL,0)+1))),(VLOOKUP(OFFSET(H321,-5,0),(TABLE!LOSE),(MATCH(E321,LOSECOL,0)+1)))))))","v":""}]
[null,{"$f":"SCORECARD!C140","v":" Block 2 Player 5"},null,null,{"$f":"SCORECARD!F140","v":0},{"$f":"SCORECARD!G140","v":-1E-3},{"$f":"SCORECARD!H140","v":-1E-3},{"$f":"IF(NOT(OR(F322>0,G322>0)),\"\",IF(HandicapPlay=\"x\",IF(F322>G322,10,-10),(IF((F322-G322>0),(VLOOKUP(OFFSET(H322,-6,0),(TABLE!WIN),(MATCH(E322,WINCOL,0)+1))),(VLOOKUP(OFFSET(H322,-6,0),(TABLE!LOSE),(MATCH(E322,LOSECOL,0)+1)))))))","v":""}]
[null,{"$f":"SCORECARD!C141","v":" Bye "},null,null,{"$f":"SCORECARD!F141","v":0},{"$f":"SCORECARD!G141","v":-1E-3},{"$f":"SCORECARD!H141","v":-1E-3},{"$f":"IF(NOT(OR(F323>0,G323>0)),\"\",IF(HandicapPlay=\"x\",IF(F323>G323,10,-10),(IF((F323-G323>0),(VLOOKUP(OFFSET(H323,-7,0),(TABLE!WIN),(MATCH(E323,WINCOL,0)+1))),(VLOOKUP(OFFSET(H323,-7,0),(TABLE!LOSE),(MATCH(E323,LOSECOL,0)+1)))))))","v":""}]
[null,{"$f":"SCORECARD!C142","v":" "},null,null,{"$f":"SCORECARD!F142","v":" "},{"$f":"SCORECARD!G142","v":0},{"$f":"SCORECARD!H142","v":0},{"$f":"IF(NOT(OR(F324>0,G324>0)),\"\",(IF((F324-G324>0),(VLOOKUP(H316,(TABLE!WIN),((E324+5)*2+2))),(VLOOKUP(H316,(TABLE!LOSE),((E324+5)*2+2))))))","v":""}]
[null,{"$f":"SCORECARD!C143","v":" "},null,null,{"$f":"SCORECARD!F143","v":" "},{"$f":"SCORECARD!G143","v":0},{"$f":"SCORECARD!H143","v":0},{"$f":"IF(NOT(OR(F325>0,G325>0)),\"\",(IF((F325-G325>0),(VLOOKUP(H316,(TABLE!WIN),((E325+5)*2+2))),(VLOOKUP(H316,(TABLE!LOSE),((E325+5)*2+2))))))","v":""}]
[null,{"$f":"SCORECARD!C144","v":" "},null,null,{"$f":"SCORECARD!F144","v":" "},{"$f":"SCORECARD!G144","v":0},{"$f":"SCORECARD!H144","v":0},{"$f":"IF(NOT(OR(F326>0,G326>0)),\"\",(IF((F326-G326>0),(VLOOKUP(H316,(TABLE!WIN),((E326+5)*2+2))),(VLOOKUP(H316,(TABLE!LOSE),((E326+5)*2+2))))))","v":""}]
[null,{"$f":"SCORECARD!C145","v":" "},null,null,{"$f":"SCORECARD!F145","v":" "},{"$f":"SCORECARD!G145","v":0},{"$f":"SCORECARD!H145","v":0},{"$f":"IF(NOT(OR(F327>0,G327>0)),\"\",(IF((F327-G327>0),(VLOOKUP(H316,(TABLE!WIN),((E327+5)*2+2))),(VLOOKUP(H316,(TABLE!LOSE),((E327+5)*2+2))))))","v":""}]
[null,{"$f":"SCORECARD!C146","v":" "},null,null,{"$f":"SCORECARD!F146","v":" "},{"$f":"SCORECARD!G146","v":0},{"$f":"SCORECARD!H146","v":0},{"$f":"IF(NOT(OR(F328>0,G328>0)),\"\",(IF((F328-G328>0),(VLOOKUP(H316,(TABLE!WIN),((E328+5)*2+2))),(VLOOKUP(H316,(TABLE!LOSE),((E328+5)*2+2))))))","v":""}]
[null,{"$f":"SCORECARD!C147","v":" "},null,null,{"$f":"SCORECARD!F147","v":" "},{"$f":"SCORECARD!G147","v":0},{"$f":"SCORECARD!H147","v":0},{"$f":"IF(NOT(OR(F329>0,G329>0)),\"\",(IF((F329-G329>0),(VLOOKUP(H316,(TABLE!WIN),((E329+5)*2+2))),(VLOOKUP(H316,(TABLE!LOSE),((E329+5)*2+2))))))","v":""}]
[null,{"$f":"SCORECARD!C148","v":" "},null,null,{"$f":"SCORECARD!F148","v":" "},{"$f":"SCORECARD!G148","v":0},{"$f":"SCORECARD!H148","v":0},{"$f":"IF(NOT(OR(F330>0,G330>0)),\"\",(IF((F330-G330>0),(VLOOKUP(H316,(TABLE!WIN),((E330+5)*2+2))),(VLOOKUP(H316,(TABLE!LOSE),((E330+5)*2+2))))))","v":""}]
[null,{"$f":"SCORECARD!C149","v":" "},null,null,{"$f":"SCORECARD!F149","v":" "},{"$f":"SCORECARD!G149","v":0},{"$f":"SCORECARD!H149","v":0},{"$f":"IF(NOT(OR(F331>0,G331>0)),\"\",(IF((F331-G331>0),(VLOOKUP(H316,(TABLE!WIN),((E331+5)*2+2))),(VLOOKUP(H316,(TABLE!LOSE),((E331+5)*2+2))))))","v":""}]
[null,{"$f":"SCORECARD!C150","v":" "},null,null,{"$f":"SCORECARD!F150","v":" "},{"$f":"SCORECARD!G150","v":0},{"$f":"SCORECARD!H150","v":0},{"$f":"IF(NOT(OR(F332>0,G332>0)),\"\",(IF((F332-G332>0),(VLOOKUP(H316,(TABLE!WIN),((E332+5)*2+2))),(VLOOKUP(H316,(TABLE!LOSE),((E332+5)*2+2))))))","v":""}]
[]
[null,null,null,null,null,null,"Handicap adjustment points total   ",{"$f":"SUM(H319:H332)","v":0}]
[]
[]
[]
[]
[]
[]
[]
[]
[]
[]
[]
[]
[{"$f":"note1","v":"Time limit 2.5 hours, Turn After Bell (61.1.6). Quadway hoops (3 11/16\"), Dawson International balls"}]
[{"$f":"note2","v":"Games may start early. Please be at the venue at least 30 minutes earlier than the scheduled start time."}]
[{"$f":"note3","v":"Entry Fee $40 will be invoiced by email. Please pay by EFT using the invoice No. as reference."}]
[{"$f":"note4","v":"Players please assist with setting and clearing courts."}]
[null,null,null,null,{"$f":"BLOCK!F31","v":" Block 2 Player 2"}]
[null,null,null,null,{"$f":"BLOCK!N27","v":"Tournament"}]
[null,null,null,null,{"$f":"BLOCK!K29","v":"Singles"}]
[null,null,null,null,{"$f":"BLOCK!B31","v":"BLOCK 2"}]
[]
[null,null,null,null,"BLOCK PLAY SCHEDULE"]
[null,"DAY","  TIME  ",null,"COURT",null,"OPPONENT","HANDICAP","PS","OS"]
[null,{"$f":"GAMES!C25","v":"00:00:00"},{"$f":"GAMES!B25","v":"00:00:00"},null,{"$f":"GAMES!D25","v":"--"},null,{"$f":"GAMES!E25","v":" Bye "},{"$f":"$E$373","v":0},{"$f":"$F$373","v":-1E-3},{"$f":"$G$373","v":-1E-3}]
[null,{"$f":"GAMES!C27","v":"00:00:00"},{"$f":"GAMES!B27","v":"00:00:00"},null,{"$f":"GAMES!D27","v":0},null,{"$f":"GAMES!E27","v":" Block 2 Player 4"},{"$f":"$E$371","v":0},{"$f":"$F$371","v":-1E-3},{"$f":"$G$371","v":-1E-3}]
[null,{"$f":"GAMES!C30","v":"00:00:00"},{"$f":"GAMES!B30","v":"00:00:00"},null,{"$f":"GAMES!D30","v":0},null,{"$f":"GAMES!G30","v":" Block 2 Player 5"},{"$f":"$E$372","v":0},{"$f":"$F$372","v":-1E-3},{"$f":"$G$372","v":-1E-3}]
[null,{"$f":"GAMES!C34","v":"00:00:00"},{"$f":"GAMES!B34","v":"00:00:00"},null,{"$f":"GAMES!D34","v":0},null,{"$f":"GAMES!G34","v":" Block 2 Player 3"},{"$f":"$E$370","v":0},{"$f":"$F$370","v":-1E-3},{"$f":"$G$370","v":-1E-3}]
[null,{"$f":"GAMES!C37","v":"00:00:00"},{"$f":"GAMES!B37","v":"00:00:00"},null,{"$f":"GAMES!D37","v":0},null,{"$f":"GAMES!E37","v":" Block 2 Player 1"},{"$f":"$E$369","v":0},{"$f":"$F$369","v":-1E-3},{"$f":"$G$369","v":-1E-3}]
[]
[]
[]
[null,"PLAYER:",{"$f":"BLOCK!F31","v":" Block 2 Player 2"},null,null,null,"HANDICAP",{"$f":"BLOCK!B37","v":0}]
[null,null,null,null,"OPP","PLAYER","OPP","H/CAP"]
[null,null,"OPPONENT",null,"HCP","SCORE","SCORE","PTS"]
[null,{"$f":"SCORECARD!C156","v":" Block 2 Player 1"},null,null,{"$f":"SCORECARD!F156","v":0},{"$f":"SCORECARD!G156","v":-1E-3},{"$f":"SCORECARD!H156","v":-1E-3},{"$f":"IF(NOT(OR(F369>0,G369>0)),\"\",IF(HandicapPlay=\"x\",IF(F369>G369,10,-10),(IF((F369-G369>0),(VLOOKUP(OFFSET(H369,-3,0),(TABLE!WIN),(MATCH(E369,WINCOL,0)+1))),(VLOOKUP(OFFSET(H369,-3,0),(TABLE!LOSE),(MATCH(E369,LOSECOL,0)+1)))))))","v":""}]
[null,{"$f":"SCORECARD!C157","v":" Block 2 Player 3"},null,null,{"$f":"SCORECARD!F157","v":0},{"$f":"SCORECARD!G157","v":-1E-3},{"$f":"SCORECARD!H157","v":-1E-3},{"$f":"IF(NOT(OR(F370>0,G370>0)),\"\",IF(HandicapPlay=\"x\",IF(F370>G370,10,-10),(IF((F370-G370>0),(VLOOKUP(OFFSET(H370,-4,0),(TABLE!WIN),(MATCH(E370,WINCOL,0)+1))),(VLOOKUP(OFFSET(H370,-4,0),(TABLE!LOSE),(MATCH(E370,LOSECOL,0)+1)))))))","v":""}]
[null,{"$f":"SCORECARD!C158","v":" Block 2 Player 4"},null,null,{"$f":"SCORECARD!F158","v":0},{"$f":"SCORECARD!G158","v":-1E-3},{"$f":"SCORECARD!H158","v":-1E-3},{"$f":"IF(NOT(OR(F371>0,G371>0)),\"\",IF(HandicapPlay=\"x\",IF(F371>G371,10,-10),(IF((F371-G371>0),(VLOOKUP(OFFSET(H371,-5,0),(TABLE!WIN),(MATCH(E371,WINCOL,0)+1))),(VLOOKUP(OFFSET(H371,-5,0),(TABLE!LOSE),(MATCH(E371,LOSECOL,0)+1)))))))","v":""}]
[null,{"$f":"SCORECARD!C159","v":" Block 2 Player 5"},null,null,{"$f":"SCORECARD!F159","v":0},{"$f":"SCORECARD!G159","v":-1E-3},{"$f":"SCORECARD!H159","v":-1E-3},{"$f":"IF(NOT(OR(F372>0,G372>0)),\"\",IF(HandicapPlay=\"x\",IF(F372>G372,10,-10),(IF((F372-G372>0),(VLOOKUP(OFFSET(H372,-6,0),(TABLE!WIN),(MATCH(E372,WINCOL,0)+1))),(VLOOKUP(OFFSET(H372,-6,0),(TABLE!LOSE),(MATCH(E372,LOSECOL,0)+1)))))))","v":""}]
[null,{"$f":"SCORECARD!C160","v":" Bye "},null,null,{"$f":"SCORECARD!F160","v":0},{"$f":"SCORECARD!G160","v":-1E-3},{"$f":"SCORECARD!H160","v":-1E-3},{"$f":"IF(NOT(OR(F373>0,G373>0)),\"\",IF(HandicapPlay=\"x\",IF(F373>G373,10,-10),(IF((F373-G373>0),(VLOOKUP(OFFSET(H373,-7,0),(TABLE!WIN),(MATCH(E373,WINCOL,0)+1))),(VLOOKUP(OFFSET(H373,-7,0),(TABLE!LOSE),(MATCH(E373,LOSECOL,0)+1)))))))","v":""}]
[null,{"$f":"SCORECARD!C161","v":" "},null,null,{"$f":"SCORECARD!F161","v":" "},{"$f":"SCORECARD!G161","v":0},{"$f":"SCORECARD!H161","v":0},{"$f":"IF(NOT(OR(F374>0,G374>0)),\"\",(IF((F374-G374>0),(VLOOKUP(H366,(TABLE!WIN),((E374+5)*2+2))),(VLOOKUP(H366,(TABLE!LOSE),((E374+5)*2+2))))))","v":""}]
[null,{"$f":"SCORECARD!C162","v":" "},null,null,{"$f":"SCORECARD!F162","v":" "},{"$f":"SCORECARD!G162","v":0},{"$f":"SCORECARD!H162","v":0},{"$f":"IF(NOT(OR(F375>0,G375>0)),\"\",(IF((F375-G375>0),(VLOOKUP(H366,(TABLE!WIN),((E375+5)*2+2))),(VLOOKUP(H366,(TABLE!LOSE),((E375+5)*2+2))))))","v":""}]
[null,{"$f":"SCORECARD!C163","v":" "},null,null,{"$f":"SCORECARD!F163","v":" "},{"$f":"SCORECARD!G163","v":0},{"$f":"SCORECARD!H163","v":0},{"$f":"IF(NOT(OR(F376>0,G376>0)),\"\",(IF((F376-G376>0),(VLOOKUP(H366,(TABLE!WIN),((E376+5)*2+2))),(VLOOKUP(H366,(TABLE!LOSE),((E376+5)*2+2))))))","v":""}]
[null,{"$f":"SCORECARD!C164","v":" "},null,null,{"$f":"SCORECARD!F164","v":" "},{"$f":"SCORECARD!G164","v":0},{"$f":"SCORECARD!H164","v":0},{"$f":"IF(NOT(OR(F377>0,G377>0)),\"\",(IF((F377-G377>0),(VLOOKUP(H366,(TABLE!WIN),((E377+5)*2+2))),(VLOOKUP(H366,(TABLE!LOSE),((E377+5)*2+2))))))","v":""}]
[null,{"$f":"SCORECARD!C165","v":" "},null,null,{"$f":"SCORECARD!F165","v":" "},{"$f":"SCORECARD!G165","v":0},{"$f":"SCORECARD!H165","v":0},{"$f":"IF(NOT(OR(F378>0,G378>0)),\"\",(IF((F378-G378>0),(VLOOKUP(H367,(TABLE!WIN),((E378+5)*2+2))),(VLOOKUP(H367,(TABLE!LOSE),((E378+5)*2+2))))))","v":""}]
[null,{"$f":"SCORECARD!C166","v":" "},null,null,{"$f":"SCORECARD!F166","v":" "},{"$f":"SCORECARD!G166","v":0},{"$f":"SCORECARD!H166","v":0},{"$f":"IF(NOT(OR(F379>0,G379>0)),\"\",(IF((F379-G379>0),(VLOOKUP(H368,(TABLE!WIN),((E379+5)*2+2))),(VLOOKUP(H368,(TABLE!LOSE),((E379+5)*2+2))))))","v":""}]
[null,{"$f":"SCORECARD!C167","v":" "},null,null,{"$f":"SCORECARD!F167","v":" "},{"$f":"SCORECARD!G167","v":0},{"$f":"SCORECARD!H167","v":0},{"$f":"IF(NOT(OR(F380>0,G380>0)),\"\",(IF((F380-G380>0),(VLOOKUP(H369,(TABLE!WIN),((E380+5)*2+2))),(VLOOKUP(H369,(TABLE!LOSE),((E380+5)*2+2))))))","v":""}]
[null,{"$f":"SCORECARD!C168","v":" "},null,null,{"$f":"SCORECARD!F168","v":" "},{"$f":"SCORECARD!G168","v":0},{"$f":"SCORECARD!H168","v":0},{"$f":"IF(NOT(OR(F381>0,G381>0)),\"\",(IF((F381-G381>0),(VLOOKUP(H370,(TABLE!WIN),((E381+5)*2+2))),(VLOOKUP(H370,(TABLE!LOSE),((E381+5)*2+2))))))","v":""}]
[null,{"$f":"SCORECARD!C169","v":" "},null,null,{"$f":"SCORECARD!F169","v":" "},{"$f":"SCORECARD!G169","v":0},{"$f":"SCORECARD!H169","v":0},{"$f":"IF(NOT(OR(F382>0,G382>0)),\"\",(IF((F382-G382>0),(VLOOKUP(H366,(TABLE!WIN),((E382+5)*2+2))),(VLOOKUP(H366,(TABLE!LOSE),((E382+5)*2+2))))))","v":""}]
[]
[null,null,null,null,null,null,"Handicap adjustment points total   ",{"$f":"SUM(H369:H382)","v":0}]
[]
[]
[]
[]
[]
[]
[]
[]
[]
[]
[]
[]
[{"$f":"note1","v":"Time limit 2.5 hours, Turn After Bell (61.1.6). Quadway hoops (3 11/16\"), Dawson International balls"}]
[{"$f":"note2","v":"Games may start early. Please be at the venue at least 30 minutes earlier than the scheduled start time."}]
[{"$f":"note3","v":"Entry Fee $40 will be invoiced by email. Please pay by EFT using the invoice No. as reference."}]
[{"$f":"note4","v":"Players please assist with setting and clearing courts."}]
[null,null,null,null,{"$f":"BLOCK!I31","v":" Block 2 Player 3"}]
[null,null,null,null,{"$f":"BLOCK!N27","v":"Tournament"}]
[null,null,null,null,{"$f":"BLOCK!K29","v":"Singles"}]
[null,null,null,null,{"$f":"BLOCK!B31","v":"BLOCK 2"}]
[]
[null,null,null,null,"BLOCK PLAY SCHEDULE"]
[null,"DAY","  TIME  ",null,"COURT",null,"OPPONENT","HANDICAP","PS","OS"]
[null,{"$f":"GAMES!C24","v":"00:00:00"},{"$f":"GAMES!B24","v":"00:00:00"},null,{"$f":"GAMES!D24","v":0},null,{"$f":"GAMES!E24","v":" Block 2 Player 5"},{"$f":"$E$422","v":0},{"$f":"$F$422","v":-1E-3},{"$f":"$G$422","v":-1E-3}]
[null,{"$f":"GAMES!C26","v":"00:00:00"},{"$f":"GAMES!B26","v":"00:00:00"},null,{"$f":"GAMES!D26","v":0},null,{"$f":"GAMES!G26","v":" Block 2 Player 1"},{"$f":"$E$419","v":0},{"$f":"$F$419","v":-1E-3},{"$f":"$G$419","v":-1E-3}]
[null,{"$f":"GAMES!C31","v":"00:00:00"},{"$f":"GAMES!B31","v":"00:00:00"},null,{"$f":"GAMES!D31","v":0},null,{"$f":"GAMES!G31","v":" Block 2 Player 4"},{"$f":"$E$421","v":0},{"$f":"$F$421","v":-1E-3},{"$f":"$G$421","v":-1E-3}]
[null,{"$f":"GAMES!C34","v":"00:00:00"},{"$f":"GAMES!B34","v":"00:00:00"},null,{"$f":"GAMES!D34","v":0},null,{"$f":"GAMES!E34","v":" Block 2 Player 2"},{"$f":"$E$420","v":0},{"$f":"$F$420","v":-1E-3},{"$f":"$G$420","v":-1E-3}]
[null,{"$f":"GAMES!C35","v":"00:00:00"},{"$f":"GAMES!B35","v":"00:00:00"},null,{"$f":"GAMES!D35","v":"--"},null,{"$f":"GAMES!G35","v":" Bye "},{"$f":"$E$423","v":0},{"$f":"$F$423","v":-1E-3},{"$f":"$G$423","v":-1E-3}]
[]
[]
[]
[null,"PLAYER:",{"$f":"BLOCK!I31","v":" Block 2 Player 3"},null,null,null,"HANDICAP",{"$f":"BLOCK!B40","v":0}]
[null,null,null,null,"OPP","PLAYER","OPP","H/CAP"]
[null,null,"OPPONENT",null,"HCP","SCORE","SCORE","PTS"]
[null,{"$f":"SCORECARD!C180","v":" Block 2 Player 1"},null,null,{"$f":"SCORECARD!F180","v":0},{"$f":"SCORECARD!G180","v":-1E-3},{"$f":"SCORECARD!H180","v":-1E-3},{"$f":"IF(NOT(OR(F419>0,G419>0)),\"\",IF(HandicapPlay=\"x\",IF(F419>G419,10,-10),(IF((F419-G419>0),(VLOOKUP(OFFSET(H419,-3,0),(TABLE!WIN),(MATCH(E419,WINCOL,0)+1))),(VLOOKUP(OFFSET(H419,-3,0),(TABLE!LOSE),(MATCH(E419,LOSECOL,0)+1)))))))","v":""}]
[null,{"$f":"SCORECARD!C181","v":" Block 2 Player 2"},null,null,{"$f":"SCORECARD!F181","v":0},{"$f":"SCORECARD!G181","v":-1E-3},{"$f":"SCORECARD!H181","v":-1E-3},{"$f":"IF(NOT(OR(F420>0,G420>0)),\"\",IF(HandicapPlay=\"x\",IF(F420>G420,10,-10),(IF((F420-G420>0),(VLOOKUP(OFFSET(H420,-4,0),(TABLE!WIN),(MATCH(E420,WINCOL,0)+1))),(VLOOKUP(OFFSET(H420,-4,0),(TABLE!LOSE),(MATCH(E420,LOSECOL,0)+1)))))))","v":""}]
[null,{"$f":"SCORECARD!C182","v":" Block 2 Player 4"},null,null,{"$f":"SCORECARD!F182","v":0},{"$f":"SCORECARD!G182","v":-1E-3},{"$f":"SCORECARD!H182","v":-1E-3},{"$f":"IF(NOT(OR(F421>0,G421>0)),\"\",IF(HandicapPlay=\"x\",IF(F421>G421,10,-10),(IF((F421-G421>0),(VLOOKUP(OFFSET(H421,-5,0),(TABLE!WIN),(MATCH(E421,WINCOL,0)+1))),(VLOOKUP(OFFSET(H421,-5,0),(TABLE!LOSE),(MATCH(E421,LOSECOL,0)+1)))))))","v":""}]
[null,{"$f":"SCORECARD!C183","v":" Block 2 Player 5"},null,null,{"$f":"SCORECARD!F183","v":0},{"$f":"SCORECARD!G183","v":-1E-3},{"$f":"SCORECARD!H183","v":-1E-3},{"$f":"IF(NOT(OR(F422>0,G422>0)),\"\",IF(HandicapPlay=\"x\",IF(F422>G422,10,-10),(IF((F422-G422>0),(VLOOKUP(OFFSET(H422,-6,0),(TABLE!WIN),(MATCH(E422,WINCOL,0)+1))),(VLOOKUP(OFFSET(H422,-6,0),(TABLE!LOSE),(MATCH(E422,LOSECOL,0)+1)))))))","v":""}]
[null,{"$f":"SCORECARD!C184","v":" Bye "},null,null,{"$f":"SCORECARD!F184","v":0},{"$f":"SCORECARD!G184","v":-1E-3},{"$f":"SCORECARD!H184","v":-1E-3},{"$f":"IF(NOT(OR(F423>0,G423>0)),\"\",IF(HandicapPlay=\"x\",IF(F423>G423,10,-10),(IF((F423-G423>0),(VLOOKUP(OFFSET(H423,-7,0),(TABLE!WIN),(MATCH(E423,WINCOL,0)+1))),(VLOOKUP(OFFSET(H423,-7,0),(TABLE!LOSE),(MATCH(E423,LOSECOL,0)+1)))))))","v":""}]
[null,{"$f":"SCORECARD!C185","v":" "},null,null,{"$f":"SCORECARD!F185","v":" "},{"$f":"SCORECARD!G185","v":0},{"$f":"SCORECARD!H185","v":0},{"$f":"IF(NOT(OR(F424>0,G424>0)),\"\",(IF((F424-G424>0),(VLOOKUP(H416,(TABLE!WIN),((E424+5)*2+2))),(VLOOKUP(H416,(TABLE!LOSE),((E424+5)*2+2))))))","v":""}]
[null,{"$f":"SCORECARD!C186","v":" "},null,null,{"$f":"SCORECARD!F186","v":" "},{"$f":"SCORECARD!G186","v":0},{"$f":"SCORECARD!H186","v":0},{"$f":"IF(NOT(OR(F425>0,G425>0)),\"\",(IF((F425-G425>0),(VLOOKUP(H416,(TABLE!WIN),((E425+5)*2+2))),(VLOOKUP(H416,(TABLE!LOSE),((E425+5)*2+2))))))","v":""}]
[null,{"$f":"SCORECARD!C187","v":" "},null,null,{"$f":"SCORECARD!F187","v":" "},{"$f":"SCORECARD!G187","v":0},{"$f":"SCORECARD!H187","v":0},{"$f":"IF(NOT(OR(F426>0,G426>0)),\"\",(IF((F426-G426>0),(VLOOKUP(H416,(TABLE!WIN),((E426+5)*2+2))),(VLOOKUP(H416,(TABLE!LOSE),((E426+5)*2+2))))))","v":""}]
[null,{"$f":"SCORECARD!C188","v":" "},null,null,{"$f":"SCORECARD!F188","v":" "},{"$f":"SCORECARD!G188","v":0},{"$f":"SCORECARD!H188","v":0},{"$f":"IF(NOT(OR(F427>0,G427>0)),\"\",(IF((F427-G427>0),(VLOOKUP(H416,(TABLE!WIN),((E427+5)*2+2))),(VLOOKUP(H416,(TABLE!LOSE),((E427+5)*2+2))))))","v":""}]
[null,{"$f":"SCORECARD!C189","v":" "},null,null,{"$f":"SCORECARD!F189","v":" "},{"$f":"SCORECARD!G189","v":0},{"$f":"SCORECARD!H189","v":0},{"$f":"IF(NOT(OR(F428>0,G428>0)),\"\",(IF((F428-G428>0),(VLOOKUP(H416,(TABLE!WIN),((E428+5)*2+2))),(VLOOKUP(H416,(TABLE!LOSE),((E428+5)*2+2))))))","v":""}]
[null,{"$f":"SCORECARD!C190","v":" "},null,null,{"$f":"SCORECARD!F190","v":" "},{"$f":"SCORECARD!G190","v":0},{"$f":"SCORECARD!H190","v":0},{"$f":"IF(NOT(OR(F429>0,G429>0)),\"\",(IF((F429-G429>0),(VLOOKUP(H416,(TABLE!WIN),((E429+5)*2+2))),(VLOOKUP(H416,(TABLE!LOSE),((E429+5)*2+2))))))","v":""}]
[null,{"$f":"SCORECARD!C191","v":" "},null,null,{"$f":"SCORECARD!F191","v":" "},{"$f":"SCORECARD!G191","v":0},{"$f":"SCORECARD!H191","v":0},{"$f":"IF(NOT(OR(F430>0,G430>0)),\"\",(IF((F430-G430>0),(VLOOKUP(H416,(TABLE!WIN),((E430+5)*2+2))),(VLOOKUP(H416,(TABLE!LOSE),((E430+5)*2+2))))))","v":""}]
[null,{"$f":"SCORECARD!C192","v":" "},null,null,{"$f":"SCORECARD!F192","v":" "},{"$f":"SCORECARD!G192","v":0},{"$f":"SCORECARD!H192","v":0},{"$f":"IF(NOT(OR(F431>0,G431>0)),\"\",(IF((F431-G431>0),(VLOOKUP(H416,(TABLE!WIN),((E431+5)*2+2))),(VLOOKUP(H416,(TABLE!LOSE),((E431+5)*2+2))))))","v":""}]
[null,{"$f":"SCORECARD!C193","v":" "},null,null,{"$f":"SCORECARD!F193","v":" "},{"$f":"SCORECARD!G193","v":0},{"$f":"SCORECARD!H193","v":0},{"$f":"IF(NOT(OR(F432>0,G432>0)),\"\",(IF((F432-G432>0),(VLOOKUP(H416,(TABLE!WIN),((E432+5)*2+2))),(VLOOKUP(H416,(TABLE!LOSE),((E432+5)*2+2))))))","v":""}]
[]
[null,null,null,null,null,null,"Handicap adjustment points total   ",{"$f":"SUM(H419:H432)","v":0}]
[]
[]
[]
[]
[]
[]
[]
[]
[]
[]
[]
[]
[{"$f":"note1","v":"Time limit 2.5 hours, Turn After Bell (61.1.6). Quadway hoops (3 11/16\"), Dawson International balls"}]
[{"$f":"note2","v":"Games may start early. Please be at the venue at least 30 minutes earlier than the scheduled start time."}]
[{"$f":"note3","v":"Entry Fee $40 will be invoiced by email. Please pay by EFT using the invoice No. as reference."}]
[{"$f":"note4","v":"Players please assist with setting and clearing courts."}]
[null,null,null,null,{"$f":"BLOCK!L31","v":" Block 2 Player 4"}]
[null,null,null,null,{"$f":"BLOCK!N27","v":"Tournament"}]
[null,null,null,null,{"$f":"BLOCK!K29","v":"Singles"}]
[null,null,null,null,{"$f":"BLOCK!B31","v":"BLOCK 2"}]
[]
[null,null,null,null,"BLOCK PLAY SCHEDULE"]
[null,"DAY","  TIME  ",null,"COURT",null,"OPPONENT","HANDICAP","PS","OS"]
[null,{"$f":"GAMES!C23","v":"00:00:00"},{"$f":"GAMES!B23","v":"00:00:00"},null,{"$f":"GAMES!D23","v":0},null,{"$f":"GAMES!E23","v":" Block 2 Player 1"},{"$f":"$E$469","v":0},{"$f":"$F$469","v":-1E-3},{"$f":"$G$469","v":-1E-3}]
[null,{"$f":"GAMES!C27","v":"00:00:00"},{"$f":"GAMES!B27","v":"00:00:00"},null,{"$f":"GAMES!D27","v":0},null,{"$f":"GAMES!G27","v":" Block 2 Player 2"},{"$f":"$E$470","v":0},{"$f":"$F$470","v":-1E-3},{"$f":"$G$470","v":-1E-3}]
[null,{"$f":"GAMES!C31","v":"00:00:00"},{"$f":"GAMES!B31","v":"00:00:00"},null,{"$f":"GAMES!D31","v":0},null,{"$f":"GAMES!E31","v":" Block 2 Player 3"},{"$f":"$E$471","v":0},{"$f":"$F$471","v":-1E-3},{"$f":"$G$471","v":-1E-3}]
[null,{"$f":"GAMES!C33","v":"00:00:00"},{"$f":"GAMES!B33","v":"00:00:00"},null,{"$f":"GAMES!D33","v":"--"},null,{"$f":"GAMES!E33","v":" Bye "},{"$f":"$E$473","v":0},{"$f":"$F$473","v":-1E-3},{"$f":"$G$473","v":-1E-3}]
[null,{"$f":"GAMES!C36","v":"00:00:00"},{"$f":"GAMES!B36","v":"00:00:00"},null,{"$f":"GAMES!D36","v":0},null,{"$f":"GAMES!G36","v":" Block 2 Player 5"},{"$f":"$E$472","v":0},{"$f":"$F$472","v":-1E-3},{"$f":"$G$472","v":-1E-3}]
[]
[]
[]
[null,"PLAYER:",{"$f":"BLOCK!L31","v":" Block 2 Player 4"},null,null,null,"HANDICAP",{"$f":"BLOCK!B43","v":0}]
[null,null,null,null,"OPP","PLAYER","OPP","H/CAP"]
[null,null,"OPPONENT",null,"HCP","SCORE","SCORE","PTS"]
[null,{"$f":"SCORECARD!C199","v":" Block 2 Player 1"},null,null,{"$f":"SCORECARD!F199","v":0},{"$f":"SCORECARD!G199","v":-1E-3},{"$f":"SCORECARD!H199","v":-1E-3},{"$f":"IF(NOT(OR(F469>0,G469>0)),\"\",IF(HandicapPlay=\"x\",IF(F469>G469,10,-10),(IF((F469-G469>0),(VLOOKUP(OFFSET(H469,-3,0),(TABLE!WIN),(MATCH(E469,WINCOL,0)+1))),(VLOOKUP(OFFSET(H469,-3,0),(TABLE!LOSE),(MATCH(E469,LOSECOL,0)+1)))))))","v":""}]
[null,{"$f":"SCORECARD!C200","v":" Block 2 Player 2"},null,null,{"$f":"SCORECARD!F200","v":0},{"$f":"SCORECARD!G200","v":-1E-3},{"$f":"SCORECARD!H200","v":-1E-3},{"$f":"IF(NOT(OR(F470>0,G470>0)),\"\",IF(HandicapPlay=\"x\",IF(F470>G470,10,-10),(IF((F470-G470>0),(VLOOKUP(OFFSET(H470,-4,0),(TABLE!WIN),(MATCH(E470,WINCOL,0)+1))),(VLOOKUP(OFFSET(H470,-4,0),(TABLE!LOSE),(MATCH(E470,LOSECOL,0)+1)))))))","v":""}]
[null,{"$f":"SCORECARD!C201","v":" Block 2 Player 3"},null,null,{"$f":"SCORECARD!F201","v":0},{"$f":"SCORECARD!G201","v":-1E-3},{"$f":"SCORECARD!H201","v":-1E-3},{"$f":"IF(NOT(OR(F471>0,G471>0)),\"\",IF(HandicapPlay=\"x\",IF(F471>G471,10,-10),(IF((F471-G471>0),(VLOOKUP(OFFSET(H471,-5,0),(TABLE!WIN),(MATCH(E471,WINCOL,0)+1))),(VLOOKUP(OFFSET(H471,-5,0),(TABLE!LOSE),(MATCH(E471,LOSECOL,0)+1)))))))","v":""}]
[null,{"$f":"SCORECARD!C202","v":" Block 2 Player 5"},null,null,{"$f":"SCORECARD!F202","v":0},{"$f":"SCORECARD!G202","v":-1E-3},{"$f":"SCORECARD!H202","v":-1E-3},{"$f":"IF(NOT(OR(F472>0,G472>0)),\"\",IF(HandicapPlay=\"x\",IF(F472>G472,10,-10),(IF((F472-G472>0),(VLOOKUP(OFFSET(H472,-6,0),(TABLE!WIN),(MATCH(E472,WINCOL,0)+1))),(VLOOKUP(OFFSET(H472,-6,0),(TABLE!LOSE),(MATCH(E472,LOSECOL,0)+1)))))))","v":""}]
[null,{"$f":"SCORECARD!C203","v":" Bye "},null,null,{"$f":"SCORECARD!F203","v":0},{"$f":"SCORECARD!G203","v":-1E-3},{"$f":"SCORECARD!H203","v":-1E-3},{"$f":"IF(NOT(OR(F473>0,G473>0)),\"\",IF(HandicapPlay=\"x\",IF(F473>G473,10,-10),(IF((F473-G473>0),(VLOOKUP(OFFSET(H473,-7,0),(TABLE!WIN),(MATCH(E473,WINCOL,0)+1))),(VLOOKUP(OFFSET(H473,-7,0),(TABLE!LOSE),(MATCH(E473,LOSECOL,0)+1)))))))","v":""}]
[null,{"$f":"SCORECARD!C204","v":" "},null,null,{"$f":"SCORECARD!F204","v":" "},{"$f":"SCORECARD!G204","v":0},{"$f":"SCORECARD!H204","v":0},{"$f":"IF(NOT(OR(F474>0,G474>0)),\"\",(IF((F474-G474>0),(VLOOKUP(H466,(TABLE!WIN),((E474+5)*2+2))),(VLOOKUP(H466,(TABLE!LOSE),((E474+5)*2+2))))))","v":""}]
[null,{"$f":"SCORECARD!C205","v":" "},null,null,{"$f":"SCORECARD!F205","v":" "},{"$f":"SCORECARD!G205","v":0},{"$f":"SCORECARD!H205","v":0},{"$f":"IF(NOT(OR(F475>0,G475>0)),\"\",(IF((F475-G475>0),(VLOOKUP(H466,(TABLE!WIN),((E475+5)*2+2))),(VLOOKUP(H466,(TABLE!LOSE),((E475+5)*2+2))))))","v":""}]
[null,{"$f":"SCORECARD!C206","v":" "},null,null,{"$f":"SCORECARD!F206","v":" "},{"$f":"SCORECARD!G206","v":0},{"$f":"SCORECARD!H206","v":0},{"$f":"IF(NOT(OR(F476>0,G476>0)),\"\",(IF((F476-G476>0),(VLOOKUP(H466,(TABLE!WIN),((E476+5)*2+2))),(VLOOKUP(H466,(TABLE!LOSE),((E476+5)*2+2))))))","v":""}]
[null,{"$f":"SCORECARD!C207","v":" "},null,null,{"$f":"SCORECARD!F207","v":" "},{"$f":"SCORECARD!G207","v":0},{"$f":"SCORECARD!H207","v":0},{"$f":"IF(NOT(OR(F477>0,G477>0)),\"\",(IF((F477-G477>0),(VLOOKUP(H466,(TABLE!WIN),((E477+5)*2+2))),(VLOOKUP(H466,(TABLE!LOSE),((E477+5)*2+2))))))","v":""}]
[null,{"$f":"SCORECARD!C208","v":" "},null,null,{"$f":"SCORECARD!F208","v":" "},{"$f":"SCORECARD!G208","v":0},{"$f":"SCORECARD!H208","v":0},{"$f":"IF(NOT(OR(F478>0,G478>0)),\"\",(IF((F478-G478>0),(VLOOKUP(H466,(TABLE!WIN),((E478+5)*2+2))),(VLOOKUP(H466,(TABLE!LOSE),((E478+5)*2+2))))))","v":""}]
[null,{"$f":"SCORECARD!C209","v":" "},null,null,{"$f":"SCORECARD!F209","v":" "},{"$f":"SCORECARD!G209","v":0},{"$f":"SCORECARD!H209","v":0},{"$f":"IF(NOT(OR(F479>0,G479>0)),\"\",(IF((F479-G479>0),(VLOOKUP(H466,(TABLE!WIN),((E479+5)*2+2))),(VLOOKUP(H466,(TABLE!LOSE),((E479+5)*2+2))))))","v":""}]
[null,{"$f":"SCORECARD!C210","v":" "},null,null,{"$f":"SCORECARD!F210","v":" "},{"$f":"SCORECARD!G210","v":0},{"$f":"SCORECARD!H210","v":0},{"$f":"IF(NOT(OR(F480>0,G480>0)),\"\",(IF((F480-G480>0),(VLOOKUP(H466,(TABLE!WIN),((E480+5)*2+2))),(VLOOKUP(H466,(TABLE!LOSE),((E480+5)*2+2))))))","v":""}]
[null,{"$f":"SCORECARD!C211","v":" "},null,null,{"$f":"SCORECARD!F211","v":" "},{"$f":"SCORECARD!G211","v":0},{"$f":"SCORECARD!H211","v":0},{"$f":"IF(NOT(OR(F481>0,G481>0)),\"\",(IF((F481-G481>0),(VLOOKUP(H466,(TABLE!WIN),((E481+5)*2+2))),(VLOOKUP(H466,(TABLE!LOSE),((E481+5)*2+2))))))","v":""}]
[null,{"$f":"SCORECARD!C212","v":" "},null,null,{"$f":"SCORECARD!F212","v":" "},{"$f":"SCORECARD!G212","v":0},{"$f":"SCORECARD!H212","v":0},{"$f":"IF(NOT(OR(F482>0,G482>0)),\"\",(IF((F482-G482>0),(VLOOKUP(H466,(TABLE!WIN),((E482+5)*2+2))),(VLOOKUP(H466,(TABLE!LOSE),((E482+5)*2+2))))))","v":""}]
[]
[null,null,null,null,null,null,"Handicap adjustment points total   ",{"$f":"SUM(H469:H482)","v":0}]
[]
[]
[]
[]
[]
[]
[]
[]
[]
[]
[]
[]
[{"$f":"note1","v":"Time limit 2.5 hours, Turn After Bell (61.1.6). Quadway hoops (3 11/16\"), Dawson International balls"}]
[{"$f":"note2","v":"Games may start early. Please be at the venue at least 30 minutes earlier than the scheduled start time."}]
[{"$f":"note3","v":"Entry Fee $40 will be invoiced by email. Please pay by EFT using the invoice No. as reference."}]
[{"$f":"note4","v":"Players please assist with setting and clearing courts."}]
[null,null,null,null,{"$f":"BLOCK!O31","v":" Block 2 Player 5"}]
[null,null,null,null,{"$f":"BLOCK!N27","v":"Tournament"}]
[null,null,null,null,{"$f":"BLOCK!K29","v":"Singles"}]
[null,null,null,null,{"$f":"BLOCK!B31","v":"BLOCK 2"}]
[]
[null,null,null,null,"BLOCK PLAY SCHEDULE"]
[null,"DAY","  TIME  ",null,"COURT",null,"OPPONENT","HANDICAP","PS","OS"]
[null,{"$f":"GAMES!C24","v":"00:00:00"},{"$f":"GAMES!B24","v":"00:00:00"},null,{"$f":"GAMES!D24","v":0},null,{"$f":"GAMES!G24","v":" Block 2 Player 3"},{"$f":"$E$521","v":0},{"$f":"$F$521","v":-1E-3},{"$f":"$G$521","v":-1E-3}]
[null,{"$f":"GAMES!C28","v":"00:00:00"},{"$f":"GAMES!B28","v":"00:00:00"},null,{"$f":"GAMES!D28","v":"--"},null,{"$f":"GAMES!G28","v":" Bye "},{"$f":"$E$523","v":0},{"$f":"$F$523","v":-1E-3},{"$f":"$G$523","v":-1E-3}]
[null,{"$f":"GAMES!C30","v":"00:00:00"},{"$f":"GAMES!B30","v":"00:00:00"},null,{"$f":"GAMES!D30","v":0},null,{"$f":"GAMES!E30","v":" Block 2 Player 2"},{"$f":"$E$520","v":0},{"$f":"$F$520","v":-1E-3},{"$f":"$G$520","v":-1E-3}]
[null,{"$f":"GAMES!C32","v":"00:00:00"},{"$f":"GAMES!B32","v":"00:00:00"},null,{"$f":"GAMES!D32","v":0},null,{"$f":"GAMES!G32","v":" Block 2 Player 1"},{"$f":"$E$519","v":0},{"$f":"$F$519","v":-1E-3},{"$f":"$G$519","v":-1E-3}]
[null,{"$f":"GAMES!C36","v":"00:00:00"},{"$f":"GAMES!B36","v":"00:00:00"},null,{"$f":"GAMES!D36","v":0},null,{"$f":"GAMES!E36","v":" Block 2 Player 4"},{"$f":"$E$522","v":0},{"$f":"$F$522","v":-1E-3},{"$f":"$G$522","v":-1E-3}]
[]
[]
[]
[null,"PLAYER:",{"$f":"BLOCK!O31","v":" Block 2 Player 5"},null,null,null,"HANDICAP",{"$f":"BLOCK!B46","v":0}]
[null,null,null,null,"OPP","PLAYER","OPP","H/CAP"]
[null,null,"OPPONENT",null,"HCP","SCORE","SCORE","PTS"]
[null,{"$f":"SCORECARD!C223","v":" Block 2 Player 1"},null,null,{"$f":"SCORECARD!F223","v":0},{"$f":"SCORECARD!G223","v":-1E-3},{"$f":"SCORECARD!H223","v":-1E-3},{"$f":"IF(NOT(OR(F519>0,G519>0)),\"\",IF(HandicapPlay=\"x\",IF(F519>G519,10,-10),(IF((F519-G519>0),(VLOOKUP(OFFSET(H519,-3,0),(TABLE!WIN),(MATCH(E519,WINCOL,0)+1))),(VLOOKUP(OFFSET(H519,-3,0),(TABLE!LOSE),(MATCH(E519,LOSECOL,0)+1)))))))","v":""}]
[null,{"$f":"SCORECARD!C224","v":" Block 2 Player 2"},null,null,{"$f":"SCORECARD!F224","v":0},{"$f":"SCORECARD!G224","v":-1E-3},{"$f":"SCORECARD!H224","v":-1E-3},{"$f":"IF(NOT(OR(F520>0,G520>0)),\"\",IF(HandicapPlay=\"x\",IF(F520>G520,10,-10),(IF((F520-G520>0),(VLOOKUP(OFFSET(H520,-4,0),(TABLE!WIN),(MATCH(E520,WINCOL,0)+1))),(VLOOKUP(OFFSET(H520,-4,0),(TABLE!LOSE),(MATCH(E520,LOSECOL,0)+1)))))))","v":""}]
[null,{"$f":"SCORECARD!C225","v":" Block 2 Player 3"},null,null,{"$f":"SCORECARD!F225","v":0},{"$f":"SCORECARD!G225","v":-1E-3},{"$f":"SCORECARD!H225","v":-1E-3},{"$f":"IF(NOT(OR(F521>0,G521>0)),\"\",IF(HandicapPlay=\"x\",IF(F521>G521,10,-10),(IF((F521-G521>0),(VLOOKUP(OFFSET(H521,-5,0),(TABLE!WIN),(MATCH(E521,WINCOL,0)+1))),(VLOOKUP(OFFSET(H521,-5,0),(TABLE!LOSE),(MATCH(E521,LOSECOL,0)+1)))))))","v":""}]
[null,{"$f":"SCORECARD!C226","v":" Block 2 Player 4"},null,null,{"$f":"SCORECARD!F226","v":0},{"$f":"SCORECARD!G226","v":-1E-3},{"$f":"SCORECARD!H226","v":-1E-3},{"$f":"IF(NOT(OR(F522>0,G522>0)),\"\",IF(HandicapPlay=\"x\",IF(F522>G522,10,-10),(IF((F522-G522>0),(VLOOKUP(OFFSET(H522,-6,0),(TABLE!WIN),(MATCH(E522,WINCOL,0)+1))),(VLOOKUP(OFFSET(H522,-6,0),(TABLE!LOSE),(MATCH(E522,LOSECOL,0)+1)))))))","v":""}]
[null,{"$f":"SCORECARD!C227","v":" Bye "},null,null,{"$f":"SCORECARD!F227","v":0},{"$f":"SCORECARD!G227","v":-1E-3},{"$f":"SCORECARD!H227","v":-1E-3},{"$f":"IF(NOT(OR(F523>0,G523>0)),\"\",IF(HandicapPlay=\"x\",IF(F523>G523,10,-10),(IF((F523-G523>0),(VLOOKUP(OFFSET(H523,-7,0),(TABLE!WIN),(MATCH(E523,WINCOL,0)+1))),(VLOOKUP(OFFSET(H523,-7,0),(TABLE!LOSE),(MATCH(E523,LOSECOL,0)+1)))))))","v":""}]
[null,{"$f":"SCORECARD!C228","v":" "},null,null,{"$f":"SCORECARD!F228","v":" "},{"$f":"SCORECARD!G228","v":0},{"$f":"SCORECARD!H228","v":0},{"$f":"IF(NOT(OR(F524>0,G524>0)),\"\",(IF((F524-G524>0),(VLOOKUP(H516,(TABLE!WIN),((E524+5)*2+2))),(VLOOKUP(H516,(TABLE!LOSE),((E524+5)*2+2))))))","v":""}]
[null,{"$f":"SCORECARD!C229","v":" "},null,null,{"$f":"SCORECARD!F229","v":" "},{"$f":"SCORECARD!G229","v":0},{"$f":"SCORECARD!H229","v":0},{"$f":"IF(NOT(OR(F525>0,G525>0)),\"\",(IF((F525-G525>0),(VLOOKUP(H516,(TABLE!WIN),((E525+5)*2+2))),(VLOOKUP(H516,(TABLE!LOSE),((E525+5)*2+2))))))","v":""}]
[null,{"$f":"SCORECARD!C230","v":" "},null,null,{"$f":"SCORECARD!F230","v":" "},{"$f":"SCORECARD!G230","v":0},{"$f":"SCORECARD!H230","v":0},{"$f":"IF(NOT(OR(F526>0,G526>0)),\"\",(IF((F526-G526>0),(VLOOKUP(H516,(TABLE!WIN),((E526+5)*2+2))),(VLOOKUP(H516,(TABLE!LOSE),((E526+5)*2+2))))))","v":""}]
[null,{"$f":"SCORECARD!C231","v":" "},null,null,{"$f":"SCORECARD!F231","v":" "},{"$f":"SCORECARD!G231","v":0},{"$f":"SCORECARD!H231","v":0},{"$f":"IF(NOT(OR(F527>0,G527>0)),\"\",(IF((F527-G527>0),(VLOOKUP(H516,(TABLE!WIN),((E527+5)*2+2))),(VLOOKUP(H516,(TABLE!LOSE),((E527+5)*2+2))))))","v":""}]
[null,{"$f":"SCORECARD!C232","v":" "},null,null,{"$f":"SCORECARD!F232","v":" "},{"$f":"SCORECARD!G232","v":0},{"$f":"SCORECARD!H232","v":0},{"$f":"IF(NOT(OR(F528>0,G528>0)),\"\",(IF((F528-G528>0),(VLOOKUP(H516,(TABLE!WIN),((E528+5)*2+2))),(VLOOKUP(H516,(TABLE!LOSE),((E528+5)*2+2))))))","v":""}]
[null,{"$f":"SCORECARD!C233","v":" "},null,null,{"$f":"SCORECARD!F233","v":" "},{"$f":"SCORECARD!G233","v":0},{"$f":"SCORECARD!H233","v":0},{"$f":"IF(NOT(OR(F529>0,G529>0)),\"\",(IF((F529-G529>0),(VLOOKUP(H516,(TABLE!WIN),((E529+5)*2+2))),(VLOOKUP(H516,(TABLE!LOSE),((E529+5)*2+2))))))","v":""}]
[null,{"$f":"SCORECARD!C234","v":" "},null,null,{"$f":"SCORECARD!F234","v":" "},{"$f":"SCORECARD!G234","v":0},{"$f":"SCORECARD!H234","v":0},{"$f":"IF(NOT(OR(F530>0,G530>0)),\"\",(IF((F530-G530>0),(VLOOKUP(H516,(TABLE!WIN),((E530+5)*2+2))),(VLOOKUP(H516,(TABLE!LOSE),((E530+5)*2+2))))))","v":""}]
[null,{"$f":"SCORECARD!C235","v":" "},null,null,{"$f":"SCORECARD!F235","v":" "},{"$f":"SCORECARD!G235","v":0},{"$f":"SCORECARD!H235","v":0},{"$f":"IF(NOT(OR(F531>0,G531>0)),\"\",(IF((F531-G531>0),(VLOOKUP(H516,(TABLE!WIN),((E531+5)*2+2))),(VLOOKUP(H516,(TABLE!LOSE),((E531+5)*2+2))))))","v":""}]
[null,{"$f":"SCORECARD!C236","v":" "},null,null,{"$f":"SCORECARD!F236","v":" "},{"$f":"SCORECARD!G236","v":0},{"$f":"SCORECARD!H236","v":0},{"$f":"IF(NOT(OR(F532>0,G532>0)),\"\",(IF((F532-G532>0),(VLOOKUP(H516,(TABLE!WIN),((E532+5)*2+2))),(VLOOKUP(H516,(TABLE!LOSE),((E532+5)*2+2))))))","v":""}]
[]
[null,null,null,null,null,null,"Handicap adjustment points total   ",{"$f":"SUM(H519:H532)","v":0}]
[]
[]
[]
[]
[]
[]
[]
[]
[]
[]
[]
[]
[{"$f":"note1","v":"Time limit 2.5 hours, Turn After Bell (61.1.6). Quadway hoops (3 11/16\"), Dawson International balls"}]
[{"$f":"note2","v":"Games may start early. Please be at the venue at least 30 minutes earlier than the scheduled start time."}]
[{"$f":"note3","v":"Entry Fee $40 will be invoiced by email. Please pay by EFT using the invoice No. as reference."}]
[{"$f":"note4","v":"Players please assist with setting and clearing courts."}]
[null,null,null,null,{"$f":"BLOCK!R31","v":" Bye "}]
[null,null,null,null,{"$f":"BLOCK!N27","v":"Tournament"}]
[null,null,null,null,{"$f":"BLOCK!K29","v":"Singles"}]
[null,null,null,null,{"$f":"BLOCK!B31","v":"BLOCK 2"}]
[]
[null,null,null,null,"BLOCK PLAY SCHEDULE"]
[null,"DAY","  TIME  ",null,"COURT",null,"OPPONENT","HANDICAP","PS","OS"]
[null,{"$f":"GAMES!C25","v":"00:00:00"},{"$f":"GAMES!B25","v":"00:00:00"},null,{"$f":"GAMES!D25","v":"--"},null,{"$f":"GAMES!G25","v":" Block 2 Player 2"},{"$f":"$E$570","v":0},{"$f":"$F$570","v":-1E-3},{"$f":"$G$570","v":-1E-3}]
[null,{"$f":"GAMES!C28","v":"00:00:00"},{"$f":"GAMES!B28","v":"00:00:00"},null,{"$f":"GAMES!D28","v":"--"},null,{"$f":"GAMES!E28","v":" Block 2 Player 5"},{"$f":"$E$573","v":0},{"$f":"$F$573","v":-1E-3},{"$f":"$G$573","v":-1E-3}]
[null,{"$f":"GAMES!C29","v":"00:00:00"},{"$f":"GAMES!B29","v":"00:00:00"},null,{"$f":"GAMES!D29","v":"--"},null,{"$f":"GAMES!E29","v":" Block 2 Player 1"},{"$f":"$E$569","v":0},{"$f":"$F$569","v":-1E-3},{"$f":"$G$569","v":-1E-3}]
[null,{"$f":"GAMES!C33","v":"00:00:00"},{"$f":"GAMES!B33","v":"00:00:00"},null,{"$f":"GAMES!D33","v":"--"},null,{"$f":"GAMES!G33","v":" Block 2 Player 4"},{"$f":"$E$572","v":0},{"$f":"$F$572","v":-1E-3},{"$f":"$G$572","v":-1E-3}]
[null,{"$f":"GAMES!C35","v":"00:00:00"},{"$f":"GAMES!B35","v":"00:00:00"},null,{"$f":"GAMES!D35","v":"--"},null,{"$f":"GAMES!E35","v":" Block 2 Player 3"},{"$f":"$E$571","v":0},{"$f":"$F$571","v":-1E-3},{"$f":"$G$571","v":-1E-3}]
[]
[]
[]
[null,"PLAYER:",{"$f":"BLOCK!R31","v":" Bye "},null,null,null,"HANDICAP",{"$f":"BLOCK!B49","v":0}]
[null,null,null,null,"OPP","PLAYER","OPP","H/CAP"]
[null,null,"OPPONENT",null,"HCP","SCORE","SCORE","PTS"]
[null,{"$f":"SCORECARD!C242","v":" Block 2 Player 1"},null,null,{"$f":"SCORECARD!F242","v":0},{"$f":"SCORECARD!G242","v":-1E-3},{"$f":"SCORECARD!H242","v":-1E-3},{"$f":"IF(NOT(OR(F569>0,G569>0)),\"\",IF(HandicapPlay=\"x\",IF(F569>G569,10,-10),(IF((F569-G569>0),(VLOOKUP(OFFSET(H569,-3,0),(TABLE!WIN),(MATCH(E569,WINCOL,0)+1))),(VLOOKUP(OFFSET(H569,-3,0),(TABLE!LOSE),(MATCH(E569,LOSECOL,0)+1)))))))","v":""}]
[null,{"$f":"SCORECARD!C243","v":" Block 2 Player 2"},null,null,{"$f":"SCORECARD!F243","v":0},{"$f":"SCORECARD!G243","v":-1E-3},{"$f":"SCORECARD!H243","v":-1E-3},{"$f":"IF(NOT(OR(F570>0,G570>0)),\"\",IF(HandicapPlay=\"x\",IF(F570>G570,10,-10),(IF((F570-G570>0),(VLOOKUP(OFFSET(H570,-4,0),(TABLE!WIN),(MATCH(E570,WINCOL,0)+1))),(VLOOKUP(OFFSET(H570,-4,0),(TABLE!LOSE),(MATCH(E570,LOSECOL,0)+1)))))))","v":""}]
[null,{"$f":"SCORECARD!C244","v":" Block 2 Player 3"},null,null,{"$f":"SCORECARD!F244","v":0},{"$f":"SCORECARD!G244","v":-1E-3},{"$f":"SCORECARD!H244","v":-1E-3},{"$f":"IF(NOT(OR(F571>0,G571>0)),\"\",IF(HandicapPlay=\"x\",IF(F571>G571,10,-10),(IF((F571-G571>0),(VLOOKUP(OFFSET(H571,-5,0),(TABLE!WIN),(MATCH(E571,WINCOL,0)+1))),(VLOOKUP(OFFSET(H571,-5,0),(TABLE!LOSE),(MATCH(E571,LOSECOL,0)+1)))))))","v":""}]
[null,{"$f":"SCORECARD!C245","v":" Block 2 Player 4"},null,null,{"$f":"SCORECARD!F245","v":0},{"$f":"SCORECARD!G245","v":-1E-3},{"$f":"SCORECARD!H245","v":-1E-3},{"$f":"IF(NOT(OR(F572>0,G572>0)),\"\",IF(HandicapPlay=\"x\",IF(F572>G572,10,-10),(IF((F572-G572>0),(VLOOKUP(OFFSET(H572,-6,0),(TABLE!WIN),(MATCH(E572,WINCOL,0)+1))),(VLOOKUP(OFFSET(H572,-6,0),(TABLE!LOSE),(MATCH(E572,LOSECOL,0)+1)))))))","v":""}]
[null,{"$f":"SCORECARD!C246","v":" Block 2 Player 5"},null,null,{"$f":"SCORECARD!F246","v":0},{"$f":"SCORECARD!G246","v":-1E-3},{"$f":"SCORECARD!H246","v":-1E-3},{"$f":"IF(NOT(OR(F573>0,G573>0)),\"\",IF(HandicapPlay=\"x\",IF(F573>G573,10,-10),(IF((F573-G573>0),(VLOOKUP(OFFSET(H573,-7,0),(TABLE!WIN),(MATCH(E573,WINCOL,0)+1))),(VLOOKUP(OFFSET(H573,-7,0),(TABLE!LOSE),(MATCH(E573,LOSECOL,0)+1)))))))","v":""}]
[null,{"$f":"SCORECARD!C247","v":" "},null,null,{"$f":"SCORECARD!F247","v":" "},{"$f":"SCORECARD!G247","v":0},{"$f":"SCORECARD!H247","v":0},{"$f":"IF(NOT(OR(F574>0,G574>0)),\"\",(IF((F574-G574>0),(VLOOKUP(H566,(TABLE!WIN),((E574+5)*2+2))),(VLOOKUP(H566,(TABLE!LOSE),((E574+5)*2+2))))))","v":""}]
[null,{"$f":"SCORECARD!C248","v":" "},null,null,{"$f":"SCORECARD!F248","v":" "},{"$f":"SCORECARD!G248","v":0},{"$f":"SCORECARD!H248","v":0},{"$f":"IF(NOT(OR(F575>0,G575>0)),\"\",(IF((F575-G575>0),(VLOOKUP(H566,(TABLE!WIN),((E575+5)*2+2))),(VLOOKUP(H566,(TABLE!LOSE),((E575+5)*2+2))))))","v":""}]
[null,{"$f":"SCORECARD!C249","v":" "},null,null,{"$f":"SCORECARD!F249","v":" "},{"$f":"SCORECARD!G249","v":0},{"$f":"SCORECARD!H249","v":0},{"$f":"IF(NOT(OR(F576>0,G576>0)),\"\",(IF((F576-G576>0),(VLOOKUP(H566,(TABLE!WIN),((E576+5)*2+2))),(VLOOKUP(H566,(TABLE!LOSE),((E576+5)*2+2))))))","v":""}]
[null,{"$f":"SCORECARD!C250","v":" "},null,null,{"$f":"SCORECARD!F250","v":" "},{"$f":"SCORECARD!G250","v":0},{"$f":"SCORECARD!H250","v":0},{"$f":"IF(NOT(OR(F577>0,G577>0)),\"\",(IF((F577-G577>0),(VLOOKUP(H566,(TABLE!WIN),((E577+5)*2+2))),(VLOOKUP(H566,(TABLE!LOSE),((E577+5)*2+2))))))","v":""}]
[null,{"$f":"SCORECARD!C251","v":" "},null,null,{"$f":"SCORECARD!F251","v":" "},{"$f":"SCORECARD!G251","v":0},{"$f":"SCORECARD!H251","v":0},{"$f":"IF(NOT(OR(F578>0,G578>0)),\"\",(IF((F578-G578>0),(VLOOKUP(H566,(TABLE!WIN),((E578+5)*2+2))),(VLOOKUP(H566,(TABLE!LOSE),((E578+5)*2+2))))))","v":""}]
[null,{"$f":"SCORECARD!C252","v":" "},null,null,{"$f":"SCORECARD!F252","v":" "},{"$f":"SCORECARD!G252","v":0},{"$f":"SCORECARD!H252","v":0},{"$f":"IF(NOT(OR(F579>0,G579>0)),\"\",(IF((F579-G579>0),(VLOOKUP(H566,(TABLE!WIN),((E579+5)*2+2))),(VLOOKUP(H566,(TABLE!LOSE),((E579+5)*2+2))))))","v":""}]
[null,{"$f":"SCORECARD!C253","v":" "},null,null,{"$f":"SCORECARD!F253","v":" "},{"$f":"SCORECARD!G253","v":0},{"$f":"SCORECARD!H253","v":0},{"$f":"IF(NOT(OR(F580>0,G580>0)),\"\",(IF((F580-G580>0),(VLOOKUP(H566,(TABLE!WIN),((E580+5)*2+2))),(VLOOKUP(H566,(TABLE!LOSE),((E580+5)*2+2))))))","v":""}]
[null,{"$f":"SCORECARD!C254","v":" "},null,null,{"$f":"SCORECARD!F254","v":" "},{"$f":"SCORECARD!G254","v":0},{"$f":"SCORECARD!H254","v":0},{"$f":"IF(NOT(OR(F581>0,G581>0)),\"\",(IF((F581-G581>0),(VLOOKUP(H566,(TABLE!WIN),((E581+5)*2+2))),(VLOOKUP(H566,(TABLE!LOSE),((E581+5)*2+2))))))","v":""}]
[null,{"$f":"SCORECARD!C255","v":" "},null,null,{"$f":"SCORECARD!F255","v":" "},{"$f":"SCORECARD!G255","v":0},{"$f":"SCORECARD!H255","v":0},{"$f":"IF(NOT(OR(F582>0,G582>0)),\"\",(IF((F582-G582>0),(VLOOKUP(H566,(TABLE!WIN),((E582+5)*2+2))),(VLOOKUP(H566,(TABLE!LOSE),((E582+5)*2+2))))))","v":""}]
[]
[null,null,null,null,null,null,"Handicap adjustment points total   ",{"$f":"SUM(H569:H582)","v":0}]
[]
[]
[]
[]
[]
[]
[]
[]
[]
[]
[]
[]
[{"$f":"note1","v":"Time limit 2.5 hours, Turn After Bell (61.1.6). Quadway hoops (3 11/16\"), Dawson International balls"}]
[{"$f":"note2","v":"Games may start early. Please be at the venue at least 30 minutes earlier than the scheduled start time."}]
[{"$f":"note3","v":"Entry Fee $40 will be invoiced by email. Please pay by EFT using the invoice No. as reference."}]
[{"$f":"note4","v":"Players please assist with setting and clearing courts."}]
[null,null,null,null,{"$f":"BLOCK!C56","v":" Block 3 Player 1"}]
[null,null,null,null,{"$f":"BLOCK!N52","v":"Tournament"}]
[null,null,null,null,{"$f":"BLOCK!K54","v":"Singles"}]
[null,null,null,null,{"$f":"BLOCK!B56","v":"BLOCK 3"}]
[]
[null,null,null,null,"BLOCK PLAY SCHEDULE"]
[null,"DAY","  TIME  ",null,"COURT",null,"OPPONENT","HANDICAP","PS","OS"]
[null,{"$f":"GAMES!C41","v":"00:00:00"},{"$f":"GAMES!B41","v":"00:00:00"},null,{"$f":"GAMES!D41","v":0},null,{"$f":"GAMES!G41","v":" Block 3 Player 4"},{"$f":"$E$621","v":0},{"$f":"$F$621","v":-1E-3},{"$f":"$G$621","v":-1E-3}]
[null,{"$f":"GAMES!C44","v":"00:00:00"},{"$f":"GAMES!B44","v":"00:00:00"},null,{"$f":"GAMES!D44","v":0},null,{"$f":"GAMES!E44","v":" Block 3 Player 3"},{"$f":"$E$620","v":0},{"$f":"$F$620","v":-1E-3},{"$f":"$G$620","v":-1E-3}]
[null,{"$f":"GAMES!C47","v":"00:00:00"},{"$f":"GAMES!B47","v":"00:00:00"},null,{"$f":"GAMES!D47","v":"--"},null,{"$f":"GAMES!G47","v":" Bye "},{"$f":"$E$623","v":0},{"$f":"$F$623","v":-1E-3},{"$f":"$G$623","v":-1E-3}]
[null,{"$f":"GAMES!C50","v":"00:00:00"},{"$f":"GAMES!B50","v":"00:00:00"},null,{"$f":"GAMES!D50","v":0},null,{"$f":"GAMES!E50","v":" Block 3 Player 5"},{"$f":"$E$622","v":0},{"$f":"$F$622","v":-1E-3},{"$f":"$G$622","v":-1E-3}]
[null,{"$f":"GAMES!C55","v":"00:00:00"},{"$f":"GAMES!B55","v":"00:00:00"},null,{"$f":"GAMES!D55","v":0},null,{"$f":"GAMES!G55","v":" Block 3 Player 2"},{"$f":"$E$619","v":0},{"$f":"$F$619","v":-1E-3},{"$f":"$G$619","v":-1E-3}]
[]
[]
[]
[null,"PLAYER:",{"$f":"BLOCK!C56","v":" Block 3 Player 1"},null,null,null,"HANDICAP",{"$f":"BLOCK!B59","v":0}]
[null,null,null,null,"OPP","PLAYER","OPP","H/CAP"]
[null,null,"OPPONENT",null,"HCP","SCORE","SCORE","PTS"]
[null,{"$f":"SCORECARD!C266","v":" Block 3 Player 2"},null,null,{"$f":"SCORECARD!F266","v":0},{"$f":"SCORECARD!G266","v":-1E-3},{"$f":"SCORECARD!H266","v":-1E-3},{"$f":"IF(NOT(OR(F619>0,G619>0)),\"\",IF(HandicapPlay=\"x\",IF(F619>G619,10,-10),(IF((F619-G619>0),(VLOOKUP(OFFSET(H619,-3,0),(TABLE!WIN),(MATCH(E619,WINCOL,0)+1))),(VLOOKUP(OFFSET(H619,-3,0),(TABLE!LOSE),(MATCH(E619,LOSECOL,0)+1)))))))","v":""}]
[null,{"$f":"SCORECARD!C267","v":" Block 3 Player 3"},null,null,{"$f":"SCORECARD!F267","v":0},{"$f":"SCORECARD!G267","v":-1E-3},{"$f":"SCORECARD!H267","v":-1E-3},{"$f":"IF(NOT(OR(F620>0,G620>0)),\"\",IF(HandicapPlay=\"x\",IF(F620>G620,10,-10),(IF((F620-G620>0),(VLOOKUP(OFFSET(H620,-4,0),(TABLE!WIN),(MATCH(E620,WINCOL,0)+1))),(VLOOKUP(OFFSET(H620,-4,0),(TABLE!LOSE),(MATCH(E620,LOSECOL,0)+1)))))))","v":""}]
[null,{"$f":"SCORECARD!C268","v":" Block 3 Player 4"},null,null,{"$f":"SCORECARD!F268","v":0},{"$f":"SCORECARD!G268","v":-1E-3},{"$f":"SCORECARD!H268","v":-1E-3},{"$f":"IF(NOT(OR(F621>0,G621>0)),\"\",IF(HandicapPlay=\"x\",IF(F621>G621,10,-10),(IF((F621-G621>0),(VLOOKUP(OFFSET(H621,-5,0),(TABLE!WIN),(MATCH(E621,WINCOL,0)+1))),(VLOOKUP(OFFSET(H621,-5,0),(TABLE!LOSE),(MATCH(E621,LOSECOL,0)+1)))))))","v":""}]
[null,{"$f":"SCORECARD!C269","v":" Block 3 Player 5"},null,null,{"$f":"SCORECARD!F269","v":0},{"$f":"SCORECARD!G269","v":-1E-3},{"$f":"SCORECARD!H269","v":-1E-3},{"$f":"IF(NOT(OR(F622>0,G622>0)),\"\",IF(HandicapPlay=\"x\",IF(F622>G622,10,-10),(IF((F622-G622>0),(VLOOKUP(OFFSET(H622,-6,0),(TABLE!WIN),(MATCH(E622,WINCOL,0)+1))),(VLOOKUP(OFFSET(H622,-6,0),(TABLE!LOSE),(MATCH(E622,LOSECOL,0)+1)))))))","v":""}]
[null,{"$f":"SCORECARD!C270","v":" Bye "},null,null,{"$f":"SCORECARD!F270","v":0},{"$f":"SCORECARD!G270","v":-1E-3},{"$f":"SCORECARD!H270","v":-1E-3},{"$f":"IF(NOT(OR(F623>0,G623>0)),\"\",IF(HandicapPlay=\"x\",IF(F623>G623,10,-10),(IF((F623-G623>0),(VLOOKUP(OFFSET(H623,-7,0),(TABLE!WIN),(MATCH(E623,WINCOL,0)+1))),(VLOOKUP(OFFSET(H623,-7,0),(TABLE!LOSE),(MATCH(E623,LOSECOL,0)+1)))))))","v":""}]
[null,{"$f":"SCORECARD!C271","v":" "},null,null,{"$f":"SCORECARD!F271","v":" "},{"$f":"SCORECARD!G271","v":0},{"$f":"SCORECARD!H271","v":0},{"$f":"IF(NOT(OR(F624>0,G624>0)),\"\",(IF((F624-G624>0),(VLOOKUP(H616,(TABLE!WIN),((E624+5)*2+2))),(VLOOKUP(H616,(TABLE!LOSE),((E624+5)*2+2))))))","v":""}]
[null,{"$f":"SCORECARD!C272","v":" "},null,null,{"$f":"SCORECARD!F272","v":" "},{"$f":"SCORECARD!G272","v":0},{"$f":"SCORECARD!H272","v":0},{"$f":"IF(NOT(OR(F625>0,G625>0)),\"\",(IF((F625-G625>0),(VLOOKUP(H616,(TABLE!WIN),((E625+5)*2+2))),(VLOOKUP(H616,(TABLE!LOSE),((E625+5)*2+2))))))","v":""}]
[null,{"$f":"SCORECARD!C273","v":" "},null,null,{"$f":"SCORECARD!F273","v":" "},{"$f":"SCORECARD!G273","v":0},{"$f":"SCORECARD!H273","v":0},{"$f":"IF(NOT(OR(F626>0,G626>0)),\"\",(IF((F626-G626>0),(VLOOKUP(H616,(TABLE!WIN),((E626+5)*2+2))),(VLOOKUP(H616,(TABLE!LOSE),((E626+5)*2+2))))))","v":""}]
[null,{"$f":"SCORECARD!C274","v":" "},null,null,{"$f":"SCORECARD!F274","v":" "},{"$f":"SCORECARD!G274","v":0},{"$f":"SCORECARD!H274","v":0},{"$f":"IF(NOT(OR(F627>0,G627>0)),\"\",(IF((F627-G627>0),(VLOOKUP(H616,(TABLE!WIN),((E627+5)*2+2))),(VLOOKUP(H616,(TABLE!LOSE),((E627+5)*2+2))))))","v":""}]
[null,{"$f":"SCORECARD!C275","v":" "},null,null,{"$f":"SCORECARD!F275","v":" "},{"$f":"SCORECARD!G275","v":0},{"$f":"SCORECARD!H275","v":0},{"$f":"IF(NOT(OR(F628>0,G628>0)),\"\",(IF((F628-G628>0),(VLOOKUP(H616,(TABLE!WIN),((E628+5)*2+2))),(VLOOKUP(H616,(TABLE!LOSE),((E628+5)*2+2))))))","v":""}]
[null,{"$f":"SCORECARD!C276","v":" "},null,null,{"$f":"SCORECARD!F276","v":" "},{"$f":"SCORECARD!G276","v":0},{"$f":"SCORECARD!H276","v":0},{"$f":"IF(NOT(OR(F629>0,G629>0)),\"\",(IF((F629-G629>0),(VLOOKUP(H616,(TABLE!WIN),((E629+5)*2+2))),(VLOOKUP(H616,(TABLE!LOSE),((E629+5)*2+2))))))","v":""}]
[null,{"$f":"SCORECARD!C277","v":" "},null,null,{"$f":"SCORECARD!F277","v":" "},{"$f":"SCORECARD!G277","v":0},{"$f":"SCORECARD!H277","v":0},{"$f":"IF(NOT(OR(F630>0,G630>0)),\"\",(IF((F630-G630>0),(VLOOKUP(H616,(TABLE!WIN),((E630+5)*2+2))),(VLOOKUP(H616,(TABLE!LOSE),((E630+5)*2+2))))))","v":""}]
[null,{"$f":"SCORECARD!C278","v":" "},null,null,{"$f":"SCORECARD!F278","v":" "},{"$f":"SCORECARD!G278","v":0},{"$f":"SCORECARD!H278","v":0},{"$f":"IF(NOT(OR(F631>0,G631>0)),\"\",(IF((F631-G631>0),(VLOOKUP(H616,(TABLE!WIN),((E631+5)*2+2))),(VLOOKUP(H616,(TABLE!LOSE),((E631+5)*2+2))))))","v":""}]
[null,{"$f":"SCORECARD!C279","v":" "},null,null,{"$f":"SCORECARD!F279","v":" "},{"$f":"SCORECARD!G279","v":0},{"$f":"SCORECARD!H279","v":0},{"$f":"IF(NOT(OR(F632>0,G632>0)),\"\",(IF((F632-G632>0),(VLOOKUP(H616,(TABLE!WIN),((E632+5)*2+2))),(VLOOKUP(H616,(TABLE!LOSE),((E632+5)*2+2))))))","v":""}]
[]
[null,null,null,null,null,null,"Handicap adjustment points total   ",{"$f":"SUM(H619:H632)","v":0}]
[]
[]
[]
[]
[]
[]
[]
[]
[]
[]
[]
[]
[{"$f":"note1","v":"Time limit 2.5 hours, Turn After Bell (61.1.6). Quadway hoops (3 11/16\"), Dawson International balls"}]
[{"$f":"note2","v":"Games may start early. Please be at the venue at least 30 minutes earlier than the scheduled start time."}]
[{"$f":"note3","v":"Entry Fee $40 will be invoiced by email. Please pay by EFT using the invoice No. as reference."}]
[{"$f":"note4","v":"Players please assist with setting and clearing courts."}]
[null,null,null,null,{"$f":"BLOCK!F56","v":" Block 3 Player 2"}]
[null,null,null,null,{"$f":"BLOCK!N52","v":"Tournament"}]
[null,null,null,null,{"$f":"BLOCK!K54","v":"Singles"}]
[null,null,null,null,{"$f":"BLOCK!B56","v":"BLOCK 3"}]
[]
[null,null,null,null,"BLOCK PLAY SCHEDULE"]
[null,"DAY","  TIME  ",null,"COURT",null,"OPPONENT","HANDICAP","PS","OS"]
[null,{"$f":"GAMES!C43","v":"00:00:00"},{"$f":"GAMES!B43","v":"00:00:00"},null,{"$f":"GAMES!D43","v":"--"},null,{"$f":"GAMES!E43","v":" Bye "},{"$f":"$E$673","v":0},{"$f":"$F$673","v":-1E-3},{"$f":"$G$673","v":-1E-3}]
[null,{"$f":"GAMES!$C45","v":"00:00:00"},{"$f":"GAMES!B45","v":"00:00:00"},null,{"$f":"GAMES!D45","v":0},null,{"$f":"GAMES!E45","v":" Block 3 Player 4"},{"$f":"$E$671","v":0},{"$f":"$F$671","v":-1E-3},{"$f":"$G$671","v":-1E-3}]
[null,{"$f":"GAMES!C48","v":"00:00:00"},{"$f":"GAMES!B48","v":"00:00:00"},null,{"$f":"GAMES!D48","v":0},null,{"$f":"GAMES!G48","v":" Block 3 Player 5"},{"$f":"$E$672","v":0},{"$f":"$F$672","v":-1E-3},{"$f":"$G$672","v":-1E-3}]
[null,{"$f":"GAMES!C52","v":"00:00:00"},{"$f":"GAMES!B52","v":"00:00:00"},null,{"$f":"GAMES!D52","v":0},null,{"$f":"GAMES!G52","v":" Block 3 Player 3"},{"$f":"$E$670","v":0},{"$f":"$F$670","v":-1E-3},{"$f":"$G$670","v":-1E-3}]
[null,{"$f":"GAMES!C55","v":"00:00:00"},{"$f":"GAMES!B55","v":"00:00:00"},null,{"$f":"GAMES!D55","v":0},null,{"$f":"GAMES!E55","v":" Block 3 Player 1"},{"$f":"$E$669","v":0},{"$f":"$F$669","v":-1E-3},{"$f":"$G$669","v":-1E-3}]
[]
[]
[]
[null,"PLAYER:",{"$f":"BLOCK!F56","v":" Block 3 Player 2"},null,null,null,"HANDICAP",{"$f":"BLOCK!B62","v":0}]
[null,null,null,null,"OPP","PLAYER","OPP","H/CAP"]
[null,null,"OPPONENT",null,"HCP","SCORE","SCORE","PTS"]
[null,{"$f":"SCORECARD!C285","v":" Block 3 Player 1"},null,null,{"$f":"SCORECARD!F285","v":0},{"$f":"SCORECARD!G285","v":-1E-3},{"$f":"SCORECARD!H285","v":-1E-3},{"$f":"IF(NOT(OR(F669>0,G669>0)),\"\",IF(HandicapPlay=\"x\",IF(F669>G669,10,-10),(IF((F669-G669>0),(VLOOKUP(OFFSET(H669,-3,0),(TABLE!WIN),(MATCH(E669,WINCOL,0)+1))),(VLOOKUP(OFFSET(H669,-3,0),(TABLE!LOSE),(MATCH(E669,LOSECOL,0)+1)))))))","v":""}]
[null,{"$f":"SCORECARD!C286","v":" Block 3 Player 3"},null,null,{"$f":"SCORECARD!F286","v":0},{"$f":"SCORECARD!G286","v":-1E-3},{"$f":"SCORECARD!H286","v":-1E-3},{"$f":"IF(NOT(OR(F670>0,G670>0)),\"\",IF(HandicapPlay=\"x\",IF(F670>G670,10,-10),(IF((F670-G670>0),(VLOOKUP(OFFSET(H670,-4,0),(TABLE!WIN),(MATCH(E670,WINCOL,0)+1))),(VLOOKUP(OFFSET(H670,-4,0),(TABLE!LOSE),(MATCH(E670,LOSECOL,0)+1)))))))","v":""}]
[null,{"$f":"SCORECARD!C287","v":" Block 3 Player 4"},null,null,{"$f":"SCORECARD!F287","v":0},{"$f":"SCORECARD!G287","v":-1E-3},{"$f":"SCORECARD!H287","v":-1E-3},{"$f":"IF(NOT(OR(F671>0,G671>0)),\"\",IF(HandicapPlay=\"x\",IF(F671>G671,10,-10),(IF((F671-G671>0),(VLOOKUP(OFFSET(H671,-5,0),(TABLE!WIN),(MATCH(E671,WINCOL,0)+1))),(VLOOKUP(OFFSET(H671,-5,0),(TABLE!LOSE),(MATCH(E671,LOSECOL,0)+1)))))))","v":""}]
[null,{"$f":"SCORECARD!C288","v":" Block 3 Player 5"},null,null,{"$f":"SCORECARD!F288","v":0},{"$f":"SCORECARD!G288","v":-1E-3},{"$f":"SCORECARD!H288","v":-1E-3},{"$f":"IF(NOT(OR(F672>0,G672>0)),\"\",IF(HandicapPlay=\"x\",IF(F672>G672,10,-10),(IF((F672-G672>0),(VLOOKUP(OFFSET(H672,-6,0),(TABLE!WIN),(MATCH(E672,WINCOL,0)+1))),(VLOOKUP(OFFSET(H672,-6,0),(TABLE!LOSE),(MATCH(E672,LOSECOL,0)+1)))))))","v":""}]
[null,{"$f":"SCORECARD!C289","v":" Bye "},null,null,{"$f":"SCORECARD!F289","v":0},{"$f":"SCORECARD!G289","v":-1E-3},{"$f":"SCORECARD!H289","v":-1E-3},{"$f":"IF(NOT(OR(F673>0,G673>0)),\"\",IF(HandicapPlay=\"x\",IF(F673>G673,10,-10),(IF((F673-G673>0),(VLOOKUP(OFFSET(H673,-7,0),(TABLE!WIN),(MATCH(E673,WINCOL,0)+1))),(VLOOKUP(OFFSET(H673,-7,0),(TABLE!LOSE),(MATCH(E673,LOSECOL,0)+1)))))))","v":""}]
[null,{"$f":"SCORECARD!C290","v":" "},null,null,{"$f":"SCORECARD!F290","v":" "},{"$f":"SCORECARD!G290","v":0},{"$f":"SCORECARD!H290","v":0},{"$f":"IF(NOT(OR(F674>0,G674>0)),\"\",(IF((F674-G674>0),(VLOOKUP(H666,(TABLE!WIN),((E674+5)*2+2))),(VLOOKUP(H666,(TABLE!LOSE),((E674+5)*2+2))))))","v":""}]
[null,{"$f":"SCORECARD!C291","v":" "},null,null,{"$f":"SCORECARD!F291","v":" "},{"$f":"SCORECARD!G291","v":0},{"$f":"SCORECARD!H291","v":0},{"$f":"IF(NOT(OR(F675>0,G675>0)),\"\",(IF((F675-G675>0),(VLOOKUP(H666,(TABLE!WIN),((E675+5)*2+2))),(VLOOKUP(H666,(TABLE!LOSE),((E675+5)*2+2))))))","v":""}]
[null,{"$f":"SCORECARD!C292","v":" "},null,null,{"$f":"SCORECARD!F292","v":" "},{"$f":"SCORECARD!G292","v":0},{"$f":"SCORECARD!H292","v":0},{"$f":"IF(NOT(OR(F676>0,G676>0)),\"\",(IF((F676-G676>0),(VLOOKUP(H666,(TABLE!WIN),((E676+5)*2+2))),(VLOOKUP(H666,(TABLE!LOSE),((E676+5)*2+2))))))","v":""}]
[null,{"$f":"SCORECARD!C293","v":" "},null,null,{"$f":"SCORECARD!F293","v":" "},{"$f":"SCORECARD!G293","v":0},{"$f":"SCORECARD!H293","v":0},{"$f":"IF(NOT(OR(F677>0,G677>0)),\"\",(IF((F677-G677>0),(VLOOKUP(H666,(TABLE!WIN),((E677+5)*2+2))),(VLOOKUP(H666,(TABLE!LOSE),((E677+5)*2+2))))))","v":""}]
[null,{"$f":"SCORECARD!C294","v":" "},null,null,{"$f":"SCORECARD!F294","v":" "},{"$f":"SCORECARD!G294","v":0},{"$f":"SCORECARD!H294","v":0},{"$f":"IF(NOT(OR(F678>0,G678>0)),\"\",(IF((F678-G678>0),(VLOOKUP(H666,(TABLE!WIN),((E678+5)*2+2))),(VLOOKUP(H666,(TABLE!LOSE),((E678+5)*2+2))))))","v":""}]
[null,{"$f":"SCORECARD!C295","v":" "},null,null,{"$f":"SCORECARD!F295","v":" "},{"$f":"SCORECARD!G295","v":0},{"$f":"SCORECARD!H295","v":0},{"$f":"IF(NOT(OR(F679>0,G679>0)),\"\",(IF((F679-G679>0),(VLOOKUP(H666,(TABLE!WIN),((E679+5)*2+2))),(VLOOKUP(H666,(TABLE!LOSE),((E679+5)*2+2))))))","v":""}]
[null,{"$f":"SCORECARD!C296","v":" "},null,null,{"$f":"SCORECARD!F296","v":" "},{"$f":"SCORECARD!G296","v":0},{"$f":"SCORECARD!H296","v":0},{"$f":"IF(NOT(OR(F680>0,G680>0)),\"\",(IF((F680-G680>0),(VLOOKUP(H666,(TABLE!WIN),((E680+5)*2+2))),(VLOOKUP(H666,(TABLE!LOSE),((E680+5)*2+2))))))","v":""}]
[null,{"$f":"SCORECARD!C297","v":" "},null,null,{"$f":"SCORECARD!F297","v":" "},{"$f":"SCORECARD!G297","v":0},{"$f":"SCORECARD!H297","v":0},{"$f":"IF(NOT(OR(F681>0,G681>0)),\"\",(IF((F681-G681>0),(VLOOKUP(H666,(TABLE!WIN),((E681+5)*2+2))),(VLOOKUP(H666,(TABLE!LOSE),((E681+5)*2+2))))))","v":""}]
[null,{"$f":"SCORECARD!C298","v":" "},null,null,{"$f":"SCORECARD!F298","v":" "},{"$f":"SCORECARD!G298","v":0},{"$f":"SCORECARD!H298","v":0},{"$f":"IF(NOT(OR(F682>0,G682>0)),\"\",(IF((F682-G682>0),(VLOOKUP(H666,(TABLE!WIN),((E682+5)*2+2))),(VLOOKUP(H666,(TABLE!LOSE),((E682+5)*2+2))))))","v":""}]
[]
[null,null,null,null,null,null,"Handicap adjustment points total   ",{"$f":"SUM(H669:H682)","v":0}]
[]
[]
[]
[]
[]
[]
[]
[]
[]
[]
[]
[]
[{"$f":"note1","v":"Time limit 2.5 hours, Turn After Bell (61.1.6). Quadway hoops (3 11/16\"), Dawson International balls"}]
[{"$f":"note2","v":"Games may start early. Please be at the venue at least 30 minutes earlier than the scheduled start time."}]
[{"$f":"note3","v":"Entry Fee $40 will be invoiced by email. Please pay by EFT using the invoice No. as reference."}]
[{"$f":"note4","v":"Players please assist with setting and clearing courts."}]
[null,null,null,null,{"$f":"BLOCK!I56","v":" Block 3 Player 3"}]
[null,null,null,null,{"$f":"BLOCK!N52","v":"Tournament"}]
[null,null,null,null,{"$f":"BLOCK!K54","v":"Singles"}]
[null,null,null,null,{"$f":"BLOCK!B56","v":"BLOCK 3"}]
[]
[null,null,null,null,"BLOCK PLAY SCHEDULE"]
[null,"DAY","  TIME  ",null,"COURT",null,"OPPONENT","HANDICAP","PS","OS"]
[null,{"$f":"GAMES!C42","v":"00:00:00"},{"$f":"GAMES!B42","v":"00:00:00"},null,{"$f":"GAMES!D42","v":0},null,{"$f":"GAMES!E42","v":" Block 3 Player 5"},{"$f":"$E$722","v":0},{"$f":"$F$722","v":-1E-3},{"$f":"$G$722","v":-1E-3}]
[null,{"$f":"GAMES!C44","v":"00:00:00"},{"$f":"GAMES!B44","v":"00:00:00"},null,{"$f":"GAMES!D44","v":0},null,{"$f":"GAMES!G44","v":" Block 3 Player 1"},{"$f":"$E$719","v":0},{"$f":"$F$719","v":-1E-3},{"$f":"$G$719","v":-1E-3}]
[null,{"$f":"GAMES!C49","v":"00:00:00"},{"$f":"GAMES!B49","v":"00:00:00"},null,{"$f":"GAMES!D49","v":0},null,{"$f":"GAMES!G49","v":" Block 3 Player 4"},{"$f":"$E$721","v":0},{"$f":"$F$721","v":-1E-3},{"$f":"$G$721","v":-1E-3}]
[null,{"$f":"GAMES!C52","v":"00:00:00"},{"$f":"GAMES!B52","v":"00:00:00"},null,{"$f":"GAMES!D52","v":0},null,{"$f":"GAMES!E52","v":" Block 3 Player 2"},{"$f":"$E$720","v":0},{"$f":"$F$720","v":-1E-3},{"$f":"$G$720","v":-1E-3}]
[null,{"$f":"GAMES!C53","v":"00:00:00"},{"$f":"GAMES!B53","v":"00:00:00"},null,{"$f":"GAMES!D53","v":"--"},null,{"$f":"GAMES!G53","v":" Bye "},{"$f":"$E$723","v":0},{"$f":"$F$723","v":-1E-3},{"$f":"$G$723","v":-1E-3}]
[]
[]
[]
[null,"PLAYER:",{"$f":"BLOCK!I56","v":" Block 3 Player 3"},null,null,null,"HANDICAP",{"$f":"BLOCK!B65","v":0}]
[null,null,null,null,"OPP","PLAYER","OPP","H/CAP"]
[null,null,"OPPONENT",null,"HCP","SCORE","SCORE","PTS"]
[null,{"$f":"SCORECARD!C309","v":" Block 3 Player 1"},null,null,{"$f":"SCORECARD!F309","v":0},{"$f":"SCORECARD!G309","v":-1E-3},{"$f":"SCORECARD!H309","v":-1E-3},{"$f":"IF(NOT(OR(F719>0,G719>0)),\"\",IF(HandicapPlay=\"x\",IF(F719>G719,10,-10),(IF((F719-G719>0),(VLOOKUP(OFFSET(H719,-3,0),(TABLE!WIN),(MATCH(E719,WINCOL,0)+1))),(VLOOKUP(OFFSET(H719,-3,0),(TABLE!LOSE),(MATCH(E719,LOSECOL,0)+1)))))))","v":""}]
[null,{"$f":"SCORECARD!C310","v":" Block 3 Player 2"},null,null,{"$f":"SCORECARD!F310","v":0},{"$f":"SCORECARD!G310","v":-1E-3},{"$f":"SCORECARD!H310","v":-1E-3},{"$f":"IF(NOT(OR(F720>0,G720>0)),\"\",IF(HandicapPlay=\"x\",IF(F720>G720,10,-10),(IF((F720-G720>0),(VLOOKUP(OFFSET(H720,-4,0),(TABLE!WIN),(MATCH(E720,WINCOL,0)+1))),(VLOOKUP(OFFSET(H720,-4,0),(TABLE!LOSE),(MATCH(E720,LOSECOL,0)+1)))))))","v":""}]
[null,{"$f":"SCORECARD!C311","v":" Block 3 Player 4"},null,null,{"$f":"SCORECARD!F311","v":0},{"$f":"SCORECARD!G311","v":-1E-3},{"$f":"SCORECARD!H311","v":-1E-3},{"$f":"IF(NOT(OR(F721>0,G721>0)),\"\",IF(HandicapPlay=\"x\",IF(F721>G721,10,-10),(IF((F721-G721>0),(VLOOKUP(OFFSET(H721,-5,0),(TABLE!WIN),(MATCH(E721,WINCOL,0)+1))),(VLOOKUP(OFFSET(H721,-5,0),(TABLE!LOSE),(MATCH(E721,LOSECOL,0)+1)))))))","v":""}]
[null,{"$f":"SCORECARD!C312","v":" Block 3 Player 5"},null,null,{"$f":"SCORECARD!F312","v":0},{"$f":"SCORECARD!G312","v":-1E-3},{"$f":"SCORECARD!H312","v":-1E-3},{"$f":"IF(NOT(OR(F722>0,G722>0)),\"\",IF(HandicapPlay=\"x\",IF(F722>G722,10,-10),(IF((F722-G722>0),(VLOOKUP(OFFSET(H722,-6,0),(TABLE!WIN),(MATCH(E722,WINCOL,0)+1))),(VLOOKUP(OFFSET(H722,-6,0),(TABLE!LOSE),(MATCH(E722,LOSECOL,0)+1)))))))","v":""}]
[null,{"$f":"SCORECARD!C313","v":" Bye "},null,null,{"$f":"SCORECARD!F313","v":0},{"$f":"SCORECARD!G313","v":-1E-3},{"$f":"SCORECARD!H313","v":-1E-3},{"$f":"IF(NOT(OR(F723>0,G723>0)),\"\",IF(HandicapPlay=\"x\",IF(F723>G723,10,-10),(IF((F723-G723>0),(VLOOKUP(OFFSET(H723,-7,0),(TABLE!WIN),(MATCH(E723,WINCOL,0)+1))),(VLOOKUP(OFFSET(H723,-7,0),(TABLE!LOSE),(MATCH(E723,LOSECOL,0)+1)))))))","v":""}]
[null,{"$f":"SCORECARD!C314","v":" "},null,null,{"$f":"SCORECARD!F314","v":" "},{"$f":"SCORECARD!G314","v":0},{"$f":"SCORECARD!H314","v":0},{"$f":"IF(NOT(OR(F724>0,G724>0)),\"\",(IF((F724-G724>0),(VLOOKUP(H716,(TABLE!WIN),((E724+5)*2+2))),(VLOOKUP(H716,(TABLE!LOSE),((E724+5)*2+2))))))","v":""}]
[null,{"$f":"SCORECARD!C315","v":" "},null,null,{"$f":"SCORECARD!F315","v":" "},{"$f":"SCORECARD!G315","v":0},{"$f":"SCORECARD!H315","v":0},{"$f":"IF(NOT(OR(F725>0,G725>0)),\"\",(IF((F725-G725>0),(VLOOKUP(H716,(TABLE!WIN),((E725+5)*2+2))),(VLOOKUP(H716,(TABLE!LOSE),((E725+5)*2+2))))))","v":""}]
[null,{"$f":"SCORECARD!C316","v":" "},null,null,{"$f":"SCORECARD!F316","v":" "},{"$f":"SCORECARD!G316","v":0},{"$f":"SCORECARD!H316","v":0},{"$f":"IF(NOT(OR(F726>0,G726>0)),\"\",(IF((F726-G726>0),(VLOOKUP(H716,(TABLE!WIN),((E726+5)*2+2))),(VLOOKUP(H716,(TABLE!LOSE),((E726+5)*2+2))))))","v":""}]
[null,{"$f":"SCORECARD!C317","v":" "},null,null,{"$f":"SCORECARD!F317","v":" "},{"$f":"SCORECARD!G317","v":0},{"$f":"SCORECARD!H317","v":0},{"$f":"IF(NOT(OR(F727>0,G727>0)),\"\",(IF((F727-G727>0),(VLOOKUP(H716,(TABLE!WIN),((E727+5)*2+2))),(VLOOKUP(H716,(TABLE!LOSE),((E727+5)*2+2))))))","v":""}]
[null,{"$f":"SCORECARD!C318","v":" "},null,null,{"$f":"SCORECARD!F318","v":" "},{"$f":"SCORECARD!G318","v":0},{"$f":"SCORECARD!H318","v":0},{"$f":"IF(NOT(OR(F728>0,G728>0)),\"\",(IF((F728-G728>0),(VLOOKUP(H716,(TABLE!WIN),((E728+5)*2+2))),(VLOOKUP(H716,(TABLE!LOSE),((E728+5)*2+2))))))","v":""}]
[null,{"$f":"SCORECARD!C319","v":" "},null,null,{"$f":"SCORECARD!F319","v":" "},{"$f":"SCORECARD!G319","v":0},{"$f":"SCORECARD!H319","v":0},{"$f":"IF(NOT(OR(F729>0,G729>0)),\"\",(IF((F729-G729>0),(VLOOKUP(H716,(TABLE!WIN),((E729+5)*2+2))),(VLOOKUP(H716,(TABLE!LOSE),((E729+5)*2+2))))))","v":""}]
[null,{"$f":"SCORECARD!C320","v":" "},null,null,{"$f":"SCORECARD!F320","v":" "},{"$f":"SCORECARD!G320","v":0},{"$f":"SCORECARD!H320","v":0},{"$f":"IF(NOT(OR(F730>0,G730>0)),\"\",(IF((F730-G730>0),(VLOOKUP(H716,(TABLE!WIN),((E730+5)*2+2))),(VLOOKUP(H716,(TABLE!LOSE),((E730+5)*2+2))))))","v":""}]
[null,{"$f":"SCORECARD!C321","v":" "},null,null,{"$f":"SCORECARD!F321","v":" "},{"$f":"SCORECARD!G321","v":0},{"$f":"SCORECARD!H321","v":0},{"$f":"IF(NOT(OR(F731>0,G731>0)),\"\",(IF((F731-G731>0),(VLOOKUP(H716,(TABLE!WIN),((E731+5)*2+2))),(VLOOKUP(H716,(TABLE!LOSE),((E731+5)*2+2))))))","v":""}]
[null,{"$f":"SCORECARD!C322","v":" "},null,null,{"$f":"SCORECARD!F322","v":" "},{"$f":"SCORECARD!G322","v":0},{"$f":"SCORECARD!H322","v":0},{"$f":"IF(NOT(OR(F732>0,G732>0)),\"\",(IF((F732-G732>0),(VLOOKUP(H716,(TABLE!WIN),((E732+5)*2+2))),(VLOOKUP(H716,(TABLE!LOSE),((E732+5)*2+2))))))","v":""}]
[]
[null,null,null,null,null,null,"Handicap adjustment points total   ",{"$f":"SUM(H719:H732)","v":0}]
[]
[]
[]
[]
[]
[]
[]
[]
[]
[]
[]
[]
[{"$f":"note1","v":"Time limit 2.5 hours, Turn After Bell (61.1.6). Quadway hoops (3 11/16\"), Dawson International balls"}]
[{"$f":"note2","v":"Games may start early. Please be at the venue at least 30 minutes earlier than the scheduled start time."}]
[{"$f":"note3","v":"Entry Fee $40 will be invoiced by email. Please pay by EFT using the invoice No. as reference."}]
[{"$f":"note4","v":"Players please assist with setting and clearing courts."}]
[null,null,null,null,{"$f":"BLOCK!L56","v":" Block 3 Player 4"}]
[null,null,null,null,{"$f":"BLOCK!N52","v":"Tournament"}]
[null,null,null,null,{"$f":"BLOCK!K54","v":"Singles"}]
[null,null,null,null,{"$f":"BLOCK!B56","v":"BLOCK 3"}]
[]
[null,null,null,null,"BLOCK PLAY SCHEDULE"]
[null,"DAY","  TIME  ",null,"COURT",null,"OPPONENT","HANDICAP","PS","OS"]
[null,{"$f":"GAMES!C41","v":"00:00:00"},{"$f":"GAMES!B41","v":"00:00:00"},null,{"$f":"GAMES!D41","v":0},null,{"$f":"GAMES!E41","v":" Block 3 Player 1"},{"$f":"$E$769","v":0},{"$f":"$F$769","v":-1E-3},{"$f":"$G$769","v":-1E-3}]
[null,{"$f":"GAMES!C45","v":"00:00:00"},{"$f":"GAMES!B45","v":"00:00:00"},null,{"$f":"GAMES!D45","v":0},null,{"$f":"GAMES!G45","v":" Block 3 Player 2"},{"$f":"$E$770","v":0},{"$f":"$F$770","v":-1E-3},{"$f":"$G$770","v":-1E-3}]
[null,{"$f":"GAMES!C49","v":"00:00:00"},{"$f":"GAMES!B49","v":"00:00:00"},null,{"$f":"GAMES!D49","v":0},null,{"$f":"GAMES!E49","v":" Block 3 Player 3"},{"$f":"$E$771","v":0},{"$f":"$F$771","v":-1E-3},{"$f":"$G$771","v":-1E-3}]
[null,{"$f":"GAMES!C51","v":"00:00:00"},{"$f":"GAMES!B51","v":"00:00:00"},null,{"$f":"GAMES!D51","v":"--"},null,{"$f":"GAMES!E51","v":" Bye "},{"$f":"$E$773","v":0},{"$f":"$F$773","v":-1E-3},{"$f":"$G$773","v":-1E-3}]
[null,{"$f":"GAMES!C54","v":"00:00:00"},{"$f":"GAMES!B54","v":"00:00:00"},null,{"$f":"GAMES!D54","v":0},null,{"$f":"GAMES!G54","v":" Block 3 Player 5"},{"$f":"$E$772","v":0},{"$f":"$F$772","v":-1E-3},{"$f":"$G$772","v":-1E-3}]
[]
[]
[]
[null,"PLAYER:",{"$f":"BLOCK!L56","v":" Block 3 Player 4"},null,null,null,"HANDICAP",{"$f":"BLOCK!B68","v":0}]
[null,null,null,null,"OPP","PLAYER","OPP","H/CAP"]
[null,null,"OPPONENT",null,"HCP","SCORE","SCORE","PTS"]
[null,{"$f":"SCORECARD!C328","v":" Block 3 Player 1"},null,null,{"$f":"SCORECARD!F328","v":0},{"$f":"SCORECARD!G328","v":-1E-3},{"$f":"SCORECARD!H328","v":-1E-3},{"$f":"IF(NOT(OR(F769>0,G769>0)),\"\",IF(HandicapPlay=\"x\",IF(F769>G769,10,-10),(IF((F769-G769>0),(VLOOKUP(OFFSET(H769,-3,0),(TABLE!WIN),(MATCH(E769,WINCOL,0)+1))),(VLOOKUP(OFFSET(H769,-3,0),(TABLE!LOSE),(MATCH(E769,LOSECOL,0)+1)))))))","v":""}]
[null,{"$f":"SCORECARD!C329","v":" Block 3 Player 2"},null,null,{"$f":"SCORECARD!F329","v":0},{"$f":"SCORECARD!G329","v":-1E-3},{"$f":"SCORECARD!H329","v":-1E-3},{"$f":"IF(NOT(OR(F770>0,G770>0)),\"\",IF(HandicapPlay=\"x\",IF(F770>G770,10,-10),(IF((F770-G770>0),(VLOOKUP(OFFSET(H770,-4,0),(TABLE!WIN),(MATCH(E770,WINCOL,0)+1))),(VLOOKUP(OFFSET(H770,-4,0),(TABLE!LOSE),(MATCH(E770,LOSECOL,0)+1)))))))","v":""}]
[null,{"$f":"SCORECARD!C330","v":" Block 3 Player 3"},null,null,{"$f":"SCORECARD!F330","v":0},{"$f":"SCORECARD!G330","v":-1E-3},{"$f":"SCORECARD!H330","v":-1E-3},{"$f":"IF(NOT(OR(F771>0,G771>0)),\"\",IF(HandicapPlay=\"x\",IF(F771>G771,10,-10),(IF((F771-G771>0),(VLOOKUP(OFFSET(H771,-5,0),(TABLE!WIN),(MATCH(E771,WINCOL,0)+1))),(VLOOKUP(OFFSET(H771,-5,0),(TABLE!LOSE),(MATCH(E771,LOSECOL,0)+1)))))))","v":""}]
[null,{"$f":"SCORECARD!C331","v":" Block 3 Player 5"},null,null,{"$f":"SCORECARD!F331","v":0},{"$f":"SCORECARD!G331","v":-1E-3},{"$f":"SCORECARD!H331","v":-1E-3},{"$f":"IF(NOT(OR(F772>0,G772>0)),\"\",IF(HandicapPlay=\"x\",IF(F772>G772,10,-10),(IF((F772-G772>0),(VLOOKUP(OFFSET(H772,-6,0),(TABLE!WIN),(MATCH(E772,WINCOL,0)+1))),(VLOOKUP(OFFSET(H772,-6,0),(TABLE!LOSE),(MATCH(E772,LOSECOL,0)+1)))))))","v":""}]
[null,{"$f":"SCORECARD!C332","v":" Bye "},null,null,{"$f":"SCORECARD!F332","v":0},{"$f":"SCORECARD!G332","v":-1E-3},{"$f":"SCORECARD!H332","v":-1E-3},{"$f":"IF(NOT(OR(F773>0,G773>0)),\"\",IF(HandicapPlay=\"x\",IF(F773>G773,10,-10),(IF((F773-G773>0),(VLOOKUP(OFFSET(H773,-7,0),(TABLE!WIN),(MATCH(E773,WINCOL,0)+1))),(VLOOKUP(OFFSET(H773,-7,0),(TABLE!LOSE),(MATCH(E773,LOSECOL,0)+1)))))))","v":""}]
[null,{"$f":"SCORECARD!C333","v":" "},null,null,{"$f":"SCORECARD!F333","v":" "},{"$f":"SCORECARD!G333","v":0},{"$f":"SCORECARD!H333","v":0},{"$f":"IF(NOT(OR(F774>0,G774>0)),\"\",(IF((F774-G774>0),(VLOOKUP(H766,(TABLE!WIN),((E774+5)*2+2))),(VLOOKUP(H766,(TABLE!LOSE),((E774+5)*2+2))))))","v":""}]
[null,{"$f":"SCORECARD!C334","v":" "},null,null,{"$f":"SCORECARD!F334","v":" "},{"$f":"SCORECARD!G334","v":0},{"$f":"SCORECARD!H334","v":0},{"$f":"IF(NOT(OR(F775>0,G775>0)),\"\",(IF((F775-G775>0),(VLOOKUP(H766,(TABLE!WIN),((E775+5)*2+2))),(VLOOKUP(H766,(TABLE!LOSE),((E775+5)*2+2))))))","v":""}]
[null,{"$f":"SCORECARD!C335","v":" "},null,null,{"$f":"SCORECARD!F335","v":" "},{"$f":"SCORECARD!G335","v":0},{"$f":"SCORECARD!H335","v":0},{"$f":"IF(NOT(OR(F776>0,G776>0)),\"\",(IF((F776-G776>0),(VLOOKUP(H766,(TABLE!WIN),((E776+5)*2+2))),(VLOOKUP(H766,(TABLE!LOSE),((E776+5)*2+2))))))","v":""}]
[null,{"$f":"SCORECARD!C336","v":" "},null,null,{"$f":"SCORECARD!F336","v":" "},{"$f":"SCORECARD!G336","v":0},{"$f":"SCORECARD!H336","v":0},{"$f":"IF(NOT(OR(F777>0,G777>0)),\"\",(IF((F777-G777>0),(VLOOKUP(H766,(TABLE!WIN),((E777+5)*2+2))),(VLOOKUP(H766,(TABLE!LOSE),((E777+5)*2+2))))))","v":""}]
[null,{"$f":"SCORECARD!C337","v":" "},null,null,{"$f":"SCORECARD!F337","v":" "},{"$f":"SCORECARD!G337","v":0},{"$f":"SCORECARD!H337","v":0},{"$f":"IF(NOT(OR(F778>0,G778>0)),\"\",(IF((F778-G778>0),(VLOOKUP(H766,(TABLE!WIN),((E778+5)*2+2))),(VLOOKUP(H766,(TABLE!LOSE),((E778+5)*2+2))))))","v":""}]
[null,{"$f":"SCORECARD!C338","v":" "},null,null,{"$f":"SCORECARD!F338","v":" "},{"$f":"SCORECARD!G338","v":0},{"$f":"SCORECARD!H338","v":0},{"$f":"IF(NOT(OR(F779>0,G779>0)),\"\",(IF((F779-G779>0),(VLOOKUP(H766,(TABLE!WIN),((E779+5)*2+2))),(VLOOKUP(H766,(TABLE!LOSE),((E779+5)*2+2))))))","v":""}]
[null,{"$f":"SCORECARD!C339","v":" "},null,null,{"$f":"SCORECARD!F339","v":" "},{"$f":"SCORECARD!G339","v":0},{"$f":"SCORECARD!H339","v":0},{"$f":"IF(NOT(OR(F780>0,G780>0)),\"\",(IF((F780-G780>0),(VLOOKUP(H766,(TABLE!WIN),((E780+5)*2+2))),(VLOOKUP(H766,(TABLE!LOSE),((E780+5)*2+2))))))","v":""}]
[null,{"$f":"SCORECARD!C340","v":" "},null,null,{"$f":"SCORECARD!F340","v":" "},{"$f":"SCORECARD!G340","v":0},{"$f":"SCORECARD!H340","v":0},{"$f":"IF(NOT(OR(F781>0,G781>0)),\"\",(IF((F781-G781>0),(VLOOKUP(H766,(TABLE!WIN),((E781+5)*2+2))),(VLOOKUP(H766,(TABLE!LOSE),((E781+5)*2+2))))))","v":""}]
[null,{"$f":"SCORECARD!C341","v":" "},null,null,{"$f":"SCORECARD!F341","v":" "},{"$f":"SCORECARD!G341","v":0},{"$f":"SCORECARD!H341","v":0},{"$f":"IF(NOT(OR(F782>0,G782>0)),\"\",(IF((F782-G782>0),(VLOOKUP(H766,(TABLE!WIN),((E782+5)*2+2))),(VLOOKUP(H766,(TABLE!LOSE),((E782+5)*2+2))))))","v":""}]
[]
[null,null,null,null,null,null,"Handicap adjustment points total   ",{"$f":"SUM(H769:H782)","v":0}]
[]
[]
[]
[]
[]
[]
[]
[]
[]
[]
[]
[]
[{"$f":"note1","v":"Time limit 2.5 hours, Turn After Bell (61.1.6). Quadway hoops (3 11/16\"), Dawson International balls"}]
[{"$f":"note2","v":"Games may start early. Please be at the venue at least 30 minutes earlier than the scheduled start time."}]
[{"$f":"note3","v":"Entry Fee $40 will be invoiced by email. Please pay by EFT using the invoice No. as reference."}]
[{"$f":"note4","v":"Players please assist with setting and clearing courts."}]
[null,null,null,null,{"$f":"BLOCK!O56","v":" Block 3 Player 5"}]
[null,null,null,null,{"$f":"BLOCK!N52","v":"Tournament"}]
[null,null,null,null,{"$f":"BLOCK!K54","v":"Singles"}]
[null,null,null,null,{"$f":"BLOCK!B56","v":"BLOCK 3"}]
[]
[null,null,null,null,"BLOCK PLAY SCHEDULE"]
[null,"DAY","  TIME  ",null,"COURT",null,"OPPONENT","HANDICAP","PS","OS"]
[null,{"$f":"GAMES!C42","v":"00:00:00"},{"$f":"GAMES!B42","v":"00:00:00"},null,{"$f":"GAMES!D42","v":0},null,{"$f":"GAMES!G42","v":" Block 3 Player 3"},{"$f":"$E$821","v":0},{"$f":"$F$821","v":-1E-3},{"$f":"$G$821","v":-1E-3}]
[null,{"$f":"GAMES!C46","v":"00:00:00"},{"$f":"GAMES!B46","v":"00:00:00"},null,{"$f":"GAMES!D46","v":"--"},null,{"$f":"GAMES!G46","v":" Bye "},{"$f":"$E$823","v":0},{"$f":"$F$823","v":-1E-3},{"$f":"$G$823","v":-1E-3}]
[null,{"$f":"GAMES!C48","v":"00:00:00"},{"$f":"GAMES!B48","v":"00:00:00"},null,{"$f":"GAMES!D48","v":0},null,{"$f":"GAMES!E48","v":" Block 3 Player 2"},{"$f":"$E$820","v":0},{"$f":"$F$820","v":-1E-3},{"$f":"$G$820","v":-1E-3}]
[null,{"$f":"GAMES!C50","v":"00:00:00"},{"$f":"GAMES!B50","v":"00:00:00"},null,{"$f":"GAMES!D50","v":0},null,{"$f":"GAMES!G50","v":" Block 3 Player 1"},{"$f":"$E$819","v":0},{"$f":"$F$819","v":-1E-3},{"$f":"$G$819","v":-1E-3}]
[null,{"$f":"GAMES!C54","v":"00:00:00"},{"$f":"GAMES!B54","v":"00:00:00"},null,{"$f":"GAMES!D54","v":0},null,{"$f":"GAMES!E54","v":" Block 3 Player 4"},{"$f":"$E$822","v":0},{"$f":"$F$822","v":-1E-3},{"$f":"$G$822","v":-1E-3}]
[]
[]
[]
[null,"PLAYER:",{"$f":"BLOCK!O56","v":" Block 3 Player 5"},null,null,null,"HANDICAP",{"$f":"BLOCK!B71","v":0}]
[null,null,null,null,"OPP","PLAYER","OPP","H/CAP"]
[null,null,"OPPONENT",null,"HCP","SCORE","SCORE","PTS"]
[null,{"$f":"SCORECARD!C352","v":" Block 3 Player 1"},null,null,{"$f":"SCORECARD!F352","v":0},{"$f":"SCORECARD!G352","v":-1E-3},{"$f":"SCORECARD!H352","v":-1E-3},{"$f":"IF(NOT(OR(F819>0,G819>0)),\"\",IF(HandicapPlay=\"x\",IF(F819>G819,10,-10),(IF((F819-G819>0),(VLOOKUP(OFFSET(H819,-3,0),(TABLE!WIN),(MATCH(E819,WINCOL,0)+1))),(VLOOKUP(OFFSET(H819,-3,0),(TABLE!LOSE),(MATCH(E819,LOSECOL,0)+1)))))))","v":""}]
[null,{"$f":"SCORECARD!C353","v":" Block 3 Player 2"},null,null,{"$f":"SCORECARD!F353","v":0},{"$f":"SCORECARD!G353","v":-1E-3},{"$f":"SCORECARD!H353","v":-1E-3},{"$f":"IF(NOT(OR(F820>0,G820>0)),\"\",IF(HandicapPlay=\"x\",IF(F820>G820,10,-10),(IF((F820-G820>0),(VLOOKUP(OFFSET(H820,-4,0),(TABLE!WIN),(MATCH(E820,WINCOL,0)+1))),(VLOOKUP(OFFSET(H820,-4,0),(TABLE!LOSE),(MATCH(E820,LOSECOL,0)+1)))))))","v":""}]
[null,{"$f":"SCORECARD!C354","v":" Block 3 Player 3"},null,null,{"$f":"SCORECARD!F354","v":0},{"$f":"SCORECARD!G354","v":-1E-3},{"$f":"SCORECARD!H354","v":-1E-3},{"$f":"IF(NOT(OR(F821>0,G821>0)),\"\",IF(HandicapPlay=\"x\",IF(F821>G821,10,-10),(IF((F821-G821>0),(VLOOKUP(OFFSET(H821,-5,0),(TABLE!WIN),(MATCH(E821,WINCOL,0)+1))),(VLOOKUP(OFFSET(H821,-5,0),(TABLE!LOSE),(MATCH(E821,LOSECOL,0)+1)))))))","v":""}]
[null,{"$f":"SCORECARD!C355","v":" Block 3 Player 4"},null,null,{"$f":"SCORECARD!F355","v":0},{"$f":"SCORECARD!G355","v":-1E-3},{"$f":"SCORECARD!H355","v":-1E-3},{"$f":"IF(NOT(OR(F822>0,G822>0)),\"\",IF(HandicapPlay=\"x\",IF(F822>G822,10,-10),(IF((F822-G822>0),(VLOOKUP(OFFSET(H822,-6,0),(TABLE!WIN),(MATCH(E822,WINCOL,0)+1))),(VLOOKUP(OFFSET(H822,-6,0),(TABLE!LOSE),(MATCH(E822,LOSECOL,0)+1)))))))","v":""}]
[null,{"$f":"SCORECARD!C356","v":" Bye "},null,null,{"$f":"SCORECARD!F356","v":0},{"$f":"SCORECARD!G356","v":-1E-3},{"$f":"SCORECARD!H356","v":-1E-3},{"$f":"IF(NOT(OR(F823>0,G823>0)),\"\",IF(HandicapPlay=\"x\",IF(F823>G823,10,-10),(IF((F823-G823>0),(VLOOKUP(OFFSET(H823,-7,0),(TABLE!WIN),(MATCH(E823,WINCOL,0)+1))),(VLOOKUP(OFFSET(H823,-7,0),(TABLE!LOSE),(MATCH(E823,LOSECOL,0)+1)))))))","v":""}]
[null,{"$f":"SCORECARD!C357","v":" "},null,null,{"$f":"SCORECARD!F357","v":" "},{"$f":"SCORECARD!G357","v":0},{"$f":"SCORECARD!H357","v":0},{"$f":"IF(NOT(OR(F824>0,G824>0)),\"\",(IF((F824-G824>0),(VLOOKUP(H816,(TABLE!WIN),((E824+5)*2+2))),(VLOOKUP(H816,(TABLE!LOSE),((E824+5)*2+2))))))","v":""}]
[null,{"$f":"SCORECARD!C358","v":" "},null,null,{"$f":"SCORECARD!F358","v":" "},{"$f":"SCORECARD!G358","v":0},{"$f":"SCORECARD!H358","v":0},{"$f":"IF(NOT(OR(F825>0,G825>0)),\"\",(IF((F825-G825>0),(VLOOKUP(H816,(TABLE!WIN),((E825+5)*2+2))),(VLOOKUP(H816,(TABLE!LOSE),((E825+5)*2+2))))))","v":""}]
[null,{"$f":"SCORECARD!C359","v":" "},null,null,{"$f":"SCORECARD!F359","v":" "},{"$f":"SCORECARD!G359","v":0},{"$f":"SCORECARD!H359","v":0},{"$f":"IF(NOT(OR(F826>0,G826>0)),\"\",(IF((F826-G826>0),(VLOOKUP(H816,(TABLE!WIN),((E826+5)*2+2))),(VLOOKUP(H816,(TABLE!LOSE),((E826+5)*2+2))))))","v":""}]
[null,{"$f":"SCORECARD!C360","v":" "},null,null,{"$f":"SCORECARD!F360","v":" "},{"$f":"SCORECARD!G360","v":0},{"$f":"SCORECARD!H360","v":0},{"$f":"IF(NOT(OR(F827>0,G827>0)),\"\",(IF((F827-G827>0),(VLOOKUP(H816,(TABLE!WIN),((E827+5)*2+2))),(VLOOKUP(H816,(TABLE!LOSE),((E827+5)*2+2))))))","v":""}]
[null,{"$f":"SCORECARD!C361","v":" "},null,null,{"$f":"SCORECARD!F361","v":" "},{"$f":"SCORECARD!G361","v":0},{"$f":"SCORECARD!H361","v":0},{"$f":"IF(NOT(OR(F828>0,G828>0)),\"\",(IF((F828-G828>0),(VLOOKUP(H816,(TABLE!WIN),((E828+5)*2+2))),(VLOOKUP(H816,(TABLE!LOSE),((E828+5)*2+2))))))","v":""}]
[null,{"$f":"SCORECARD!C362","v":" "},null,null,{"$f":"SCORECARD!F362","v":" "},{"$f":"SCORECARD!G362","v":0},{"$f":"SCORECARD!H362","v":0},{"$f":"IF(NOT(OR(F829>0,G829>0)),\"\",(IF((F829-G829>0),(VLOOKUP(H816,(TABLE!WIN),((E829+5)*2+2))),(VLOOKUP(H816,(TABLE!LOSE),((E829+5)*2+2))))))","v":""}]
[null,{"$f":"SCORECARD!C363","v":" "},null,null,{"$f":"SCORECARD!F363","v":" "},{"$f":"SCORECARD!G363","v":0},{"$f":"SCORECARD!H363","v":0},{"$f":"IF(NOT(OR(F830>0,G830>0)),\"\",(IF((F830-G830>0),(VLOOKUP(H816,(TABLE!WIN),((E830+5)*2+2))),(VLOOKUP(H816,(TABLE!LOSE),((E830+5)*2+2))))))","v":""}]
[null,{"$f":"SCORECARD!C364","v":" "},null,null,{"$f":"SCORECARD!F364","v":" "},{"$f":"SCORECARD!G364","v":0},{"$f":"SCORECARD!H364","v":0},{"$f":"IF(NOT(OR(F831>0,G831>0)),\"\",(IF((F831-G831>0),(VLOOKUP(H816,(TABLE!WIN),((E831+5)*2+2))),(VLOOKUP(H816,(TABLE!LOSE),((E831+5)*2+2))))))","v":""}]
[null,{"$f":"SCORECARD!C365","v":" "},null,null,{"$f":"SCORECARD!F365","v":" "},{"$f":"SCORECARD!G365","v":0},{"$f":"SCORECARD!H365","v":0},{"$f":"IF(NOT(OR(F832>0,G832>0)),\"\",(IF((F832-G832>0),(VLOOKUP(H816,(TABLE!WIN),((E832+5)*2+2))),(VLOOKUP(H816,(TABLE!LOSE),((E832+5)*2+2))))))","v":""}]
[]
[null,null,null,null,null,null,"Handicap adjustment points total   ",{"$f":"SUM(H819:H832)","v":0}]
[]
[]
[]
[]
[]
[]
[]
[]
[]
[]
[]
[]
[{"$f":"note1","v":"Time limit 2.5 hours, Turn After Bell (61.1.6). Quadway hoops (3 11/16\"), Dawson International balls"}]
[{"$f":"note2","v":"Games may start early. Please be at the venue at least 30 minutes earlier than the scheduled start time."}]
[{"$f":"note3","v":"Entry Fee $40 will be invoiced by email. Please pay by EFT using the invoice No. as reference."}]
[{"$f":"note4","v":"Players please assist with setting and clearing courts."}]
[null,null,null,null,{"$f":"BLOCK!R56","v":" Bye "}]
[null,null,null,null,{"$f":"BLOCK!N52","v":"Tournament"}]
[null,null,null,null,{"$f":"BLOCK!K54","v":"Singles"}]
[null,null,null,null,{"$f":"BLOCK!B56","v":"BLOCK 3"}]
[]
[null,null,null,null,"BLOCK PLAY SCHEDULE"]
[null,"DAY","  TIME  ",null,"COURT",null,"OPPONENT","HANDICAP","PS","OS"]
[null,{"$f":"GAMES!C43","v":"00:00:00"},{"$f":"GAMES!B43","v":"00:00:00"},null,{"$f":"GAMES!D43","v":"--"},null,{"$f":"GAMES!G43","v":" Block 3 Player 2"},{"$f":"$E$870","v":0},{"$f":"$F$870","v":-1E-3},{"$f":"$G$870","v":-1E-3}]
[null,{"$f":"GAMES!C46","v":"00:00:00"},{"$f":"GAMES!B46","v":"00:00:00"},null,{"$f":"GAMES!D46","v":"--"},null,{"$f":"GAMES!E46","v":" Block 3 Player 5"},{"$f":"$E$873","v":0},{"$f":"$F$873","v":-1E-3},{"$f":"$G$873","v":-1E-3}]
[null,{"$f":"GAMES!C47","v":"00:00:00"},{"$f":"GAMES!B47","v":"00:00:00"},null,{"$f":"GAMES!D47","v":"--"},null,{"$f":"GAMES!E47","v":" Block 3 Player 1"},{"$f":"$E$869","v":0},{"$f":"$F$869","v":-1E-3},{"$f":"$G$869","v":-1E-3}]
[null,{"$f":"GAMES!C51","v":"00:00:00"},{"$f":"GAMES!B51","v":"00:00:00"},null,{"$f":"GAMES!D51","v":"--"},null,{"$f":"GAMES!G51","v":" Block 3 Player 4"},{"$f":"$E$872","v":0},{"$f":"$F$872","v":-1E-3},{"$f":"$G$872","v":-1E-3}]
[null,{"$f":"GAMES!C53","v":"00:00:00"},{"$f":"GAMES!B53","v":"00:00:00"},null,{"$f":"GAMES!D53","v":"--"},null,{"$f":"GAMES!E53","v":" Block 3 Player 3"},{"$f":"$E$871","v":0},{"$f":"$F$871","v":-1E-3},{"$f":"$G$871","v":-1E-3}]
[]
[]
[]
[null,"PLAYER:",{"$f":"BLOCK!R56","v":" Bye "},null,null,null,"HANDICAP",{"$f":"BLOCK!B74","v":0}]
[null,null,null,null,"OPP","PLAYER","OPP","H/CAP"]
[null,null,"OPPONENT",null,"HCP","SCORE","SCORE","PTS"]
[null,{"$f":"SCORECARD!C371","v":" Block 3 Player 1"},null,null,{"$f":"SCORECARD!F371","v":0},{"$f":"SCORECARD!G371","v":-1E-3},{"$f":"SCORECARD!H371","v":-1E-3},{"$f":"IF(NOT(OR(F869>0,G869>0)),\"\",IF(HandicapPlay=\"x\",IF(F869>G869,10,-10),(IF((F869-G869>0),(VLOOKUP(OFFSET(H869,-3,0),(TABLE!WIN),(MATCH(E869,WINCOL,0)+1))),(VLOOKUP(OFFSET(H869,-3,0),(TABLE!LOSE),(MATCH(E869,LOSECOL,0)+1)))))))","v":""}]
[null,{"$f":"SCORECARD!C372","v":" Block 3 Player 2"},null,null,{"$f":"SCORECARD!F372","v":0},{"$f":"SCORECARD!G372","v":-1E-3},{"$f":"SCORECARD!H372","v":-1E-3},{"$f":"IF(NOT(OR(F870>0,G870>0)),\"\",IF(HandicapPlay=\"x\",IF(F870>G870,10,-10),(IF((F870-G870>0),(VLOOKUP(OFFSET(H870,-4,0),(TABLE!WIN),(MATCH(E870,WINCOL,0)+1))),(VLOOKUP(OFFSET(H870,-4,0),(TABLE!LOSE),(MATCH(E870,LOSECOL,0)+1)))))))","v":""}]
[null,{"$f":"SCORECARD!C373","v":" Block 3 Player 3"},null,null,{"$f":"SCORECARD!F373","v":0},{"$f":"SCORECARD!G373","v":-1E-3},{"$f":"SCORECARD!H373","v":-1E-3},{"$f":"IF(NOT(OR(F871>0,G871>0)),\"\",IF(HandicapPlay=\"x\",IF(F871>G871,10,-10),(IF((F871-G871>0),(VLOOKUP(OFFSET(H871,-5,0),(TABLE!WIN),(MATCH(E871,WINCOL,0)+1))),(VLOOKUP(OFFSET(H871,-5,0),(TABLE!LOSE),(MATCH(E871,LOSECOL,0)+1)))))))","v":""}]
[null,{"$f":"SCORECARD!C374","v":" Block 3 Player 4"},null,null,{"$f":"SCORECARD!F374","v":0},{"$f":"SCORECARD!G374","v":-1E-3},{"$f":"SCORECARD!H374","v":-1E-3},{"$f":"IF(NOT(OR(F872>0,G872>0)),\"\",IF(HandicapPlay=\"x\",IF(F872>G872,10,-10),(IF((F872-G872>0),(VLOOKUP(OFFSET(H872,-6,0),(TABLE!WIN),(MATCH(E872,WINCOL,0)+1))),(VLOOKUP(OFFSET(H872,-6,0),(TABLE!LOSE),(MATCH(E872,LOSECOL,0)+1)))))))","v":""}]
[null,{"$f":"SCORECARD!C375","v":" Block 3 Player 5"},null,null,{"$f":"SCORECARD!F375","v":0},{"$f":"SCORECARD!G375","v":-1E-3},{"$f":"SCORECARD!H375","v":-1E-3},{"$f":"IF(NOT(OR(F873>0,G873>0)),\"\",IF(HandicapPlay=\"x\",IF(F873>G873,10,-10),(IF((F873-G873>0),(VLOOKUP(OFFSET(H873,-7,0),(TABLE!WIN),(MATCH(E873,WINCOL,0)+1))),(VLOOKUP(OFFSET(H873,-7,0),(TABLE!LOSE),(MATCH(E873,LOSECOL,0)+1)))))))","v":""}]
[null,{"$f":"SCORECARD!C376","v":" "},null,null,{"$f":"SCORECARD!F376","v":" "},{"$f":"SCORECARD!G376","v":0},{"$f":"SCORECARD!H376","v":0},{"$f":"IF(NOT(OR(F874>0,G874>0)),\"\",(IF((F874-G874>0),(VLOOKUP(H866,(TABLE!WIN),((E874+5)*2+2))),(VLOOKUP(H866,(TABLE!LOSE),((E874+5)*2+2))))))","v":""}]
[null,{"$f":"SCORECARD!C377","v":" "},null,null,{"$f":"SCORECARD!F377","v":" "},{"$f":"SCORECARD!G377","v":0},{"$f":"SCORECARD!H377","v":0},{"$f":"IF(NOT(OR(F875>0,G875>0)),\"\",(IF((F875-G875>0),(VLOOKUP(H866,(TABLE!WIN),((E875+5)*2+2))),(VLOOKUP(H866,(TABLE!LOSE),((E875+5)*2+2))))))","v":""}]
[null,{"$f":"SCORECARD!C378","v":" "},null,null,{"$f":"SCORECARD!F378","v":" "},{"$f":"SCORECARD!G378","v":0},{"$f":"SCORECARD!H378","v":0},{"$f":"IF(NOT(OR(F876>0,G876>0)),\"\",(IF((F876-G876>0),(VLOOKUP(H866,(TABLE!WIN),((E876+5)*2+2))),(VLOOKUP(H866,(TABLE!LOSE),((E876+5)*2+2))))))","v":""}]
[null,{"$f":"SCORECARD!C379","v":" "},null,null,{"$f":"SCORECARD!F379","v":" "},{"$f":"SCORECARD!G379","v":0},{"$f":"SCORECARD!H379","v":0},{"$f":"IF(NOT(OR(F877>0,G877>0)),\"\",(IF((F877-G877>0),(VLOOKUP(H866,(TABLE!WIN),((E877+5)*2+2))),(VLOOKUP(H866,(TABLE!LOSE),((E877+5)*2+2))))))","v":""}]
[null,{"$f":"SCORECARD!C380","v":" "},null,null,{"$f":"SCORECARD!F380","v":" "},{"$f":"SCORECARD!G380","v":0},{"$f":"SCORECARD!H380","v":0},{"$f":"IF(NOT(OR(F878>0,G878>0)),\"\",(IF((F878-G878>0),(VLOOKUP(H866,(TABLE!WIN),((E878+5)*2+2))),(VLOOKUP(H866,(TABLE!LOSE),((E878+5)*2+2))))))","v":""}]
[null,{"$f":"SCORECARD!C381","v":" "},null,null,{"$f":"SCORECARD!F381","v":" "},{"$f":"SCORECARD!G381","v":0},{"$f":"SCORECARD!H381","v":0},{"$f":"IF(NOT(OR(F879>0,G879>0)),\"\",(IF((F879-G879>0),(VLOOKUP(H866,(TABLE!WIN),((E879+5)*2+2))),(VLOOKUP(H866,(TABLE!LOSE),((E879+5)*2+2))))))","v":""}]
[null,{"$f":"SCORECARD!C382","v":" "},null,null,{"$f":"SCORECARD!F382","v":" "},{"$f":"SCORECARD!G382","v":0},{"$f":"SCORECARD!H382","v":0},{"$f":"IF(NOT(OR(F880>0,G880>0)),\"\",(IF((F880-G880>0),(VLOOKUP(H866,(TABLE!WIN),((E880+5)*2+2))),(VLOOKUP(H866,(TABLE!LOSE),((E880+5)*2+2))))))","v":""}]
[null,{"$f":"SCORECARD!C383","v":" "},null,null,{"$f":"SCORECARD!F383","v":" "},{"$f":"SCORECARD!G383","v":0},{"$f":"SCORECARD!H383","v":0},{"$f":"IF(NOT(OR(F881>0,G881>0)),\"\",(IF((F881-G881>0),(VLOOKUP(H866,(TABLE!WIN),((E881+5)*2+2))),(VLOOKUP(H866,(TABLE!LOSE),((E881+5)*2+2))))))","v":""}]
[null,{"$f":"SCORECARD!C384","v":" "},null,null,{"$f":"SCORECARD!F384","v":" "},{"$f":"SCORECARD!G384","v":0},{"$f":"SCORECARD!H384","v":0},{"$f":"IF(NOT(OR(F882>0,G882>0)),\"\",(IF((F882-G882>0),(VLOOKUP(H866,(TABLE!WIN),((E882+5)*2+2))),(VLOOKUP(H866,(TABLE!LOSE),((E882+5)*2+2))))))","v":""}]
[]
[null,null,null,null,null,null,"Handicap adjustment points total   ",{"$f":"SUM(H869:H882)","v":0}]
[]
[]
[]
[]
[]
[]
[]
[]
[]
[]
[]
[]
[{"$f":"note1","v":"Time limit 2.5 hours, Turn After Bell (61.1.6). Quadway hoops (3 11/16\"), Dawson International balls"}]
[{"$f":"note2","v":"Games may start early. Please be at the venue at least 30 minutes earlier than the scheduled start time."}]
[{"$f":"note3","v":"Entry Fee $40 will be invoiced by email. Please pay by EFT using the invoice No. as reference."}]
[{"$f":"note4","v":"Players please assist with setting and clearing courts."}]
[null,null,null,null,{"$f":"BLOCK!C81","v":" Block 4 Player 1"}]
[null,null,null,null,{"$f":"BLOCK!N77","v":"Tournament"}]
[null,null,null,null,{"$f":"BLOCK!N79","v":"Singles"}]
[null,null,null,null,{"$f":"BLOCK!B81","v":"BLOCK 4"}]
[]
[null,null,null,null,"BLOCK PLAY SCHEDULE"]
[null,"DAY","  TIME  ",null,"COURT",null,"OPPONENT","HANDICAP","PS","OS"]
[null,{"$f":"GAMES!C59","v":"00:00:00"},{"$f":"GAMES!B59","v":"00:00:00"},null,{"$f":"GAMES!D59","v":0},null,{"$f":"GAMES!G59","v":" Block 4 Player 4"},{"$f":"$E$921","v":0},{"$f":"$F$921","v":-1E-3},{"$f":"$G$921","v":-1E-3}]
[null,{"$f":"GAMES!C62","v":"00:00:00"},{"$f":"GAMES!B62","v":"00:00:00"},null,{"$f":"GAMES!D62","v":0},null,{"$f":"GAMES!E62","v":" Block 4 Player 3"},{"$f":"$E$920","v":0},{"$f":"$F$920","v":-1E-3},{"$f":"$G$920","v":-1E-3}]
[null,{"$f":"GAMES!C65","v":"00:00:00"},{"$f":"GAMES!B65","v":"00:00:00"},null,{"$f":"GAMES!D65","v":"--"},null,{"$f":"GAMES!G65","v":" Bye "},{"$f":"$E$923","v":0},{"$f":"$F$923","v":-1E-3},{"$f":"$G$923","v":-1E-3}]
[null,{"$f":"GAMES!C68","v":"00:00:00"},{"$f":"GAMES!B68","v":"00:00:00"},null,{"$f":"GAMES!D68","v":0},null,{"$f":"GAMES!E68","v":" Block 4 Player 5"},{"$f":"$E$922","v":0},{"$f":"$F$922","v":-1E-3},{"$f":"$G$922","v":-1E-3}]
[null,{"$f":"GAMES!C73","v":"00:00:00"},{"$f":"GAMES!B73","v":"00:00:00"},null,{"$f":"GAMES!D73","v":0},null,{"$f":"GAMES!G73","v":" Block 4 Player 2"},{"$f":"$E$919","v":0},{"$f":"$F$919","v":-1E-3},{"$f":"$G$919","v":-1E-3}]
[]
[]
[]
[null,"PLAYER:",{"$f":"BLOCK!C81","v":" Block 4 Player 1"},null,null,null,"HANDICAP",{"$f":"BLOCK!B84","v":0}]
[null,null,null,null,"OPP","PLAYER","OPP","H/CAP"]
[null,null,"OPPONENT",null,"HCP","SCORE","SCORE","PTS"]
[null,{"$f":"SCORECARD!C395","v":" Block 4 Player 2"},null,null,{"$f":"SCORECARD!F395","v":0},{"$f":"SCORECARD!G395","v":-1E-3},{"$f":"SCORECARD!H395","v":-1E-3},{"$f":"IF(NOT(OR(F919>0,G919>0)),\"\",IF(HandicapPlay=\"x\",IF(F919>G919,10,-10),(IF((F919-G919>0),(VLOOKUP(OFFSET(H919,-3,0),(TABLE!WIN),(MATCH(E919,WINCOL,0)+1))),(VLOOKUP(OFFSET(H919,-3,0),(TABLE!LOSE),(MATCH(E919,LOSECOL,0)+1)))))))","v":""}]
[null,{"$f":"SCORECARD!C396","v":" Block 4 Player 3"},null,null,{"$f":"SCORECARD!F396","v":0},{"$f":"SCORECARD!G396","v":-1E-3},{"$f":"SCORECARD!H396","v":-1E-3},{"$f":"IF(NOT(OR(F920>0,G920>0)),\"\",IF(HandicapPlay=\"x\",IF(F920>G920,10,-10),(IF((F920-G920>0),(VLOOKUP(OFFSET(H920,-4,0),(TABLE!WIN),(MATCH(E920,WINCOL,0)+1))),(VLOOKUP(OFFSET(H920,-4,0),(TABLE!LOSE),(MATCH(E920,LOSECOL,0)+1)))))))","v":""}]
[null,{"$f":"SCORECARD!C397","v":" Block 4 Player 4"},null,null,{"$f":"SCORECARD!F397","v":0},{"$f":"SCORECARD!G397","v":-1E-3},{"$f":"SCORECARD!H397","v":-1E-3},{"$f":"IF(NOT(OR(F921>0,G921>0)),\"\",IF(HandicapPlay=\"x\",IF(F921>G921,10,-10),(IF((F921-G921>0),(VLOOKUP(OFFSET(H921,-5,0),(TABLE!WIN),(MATCH(E921,WINCOL,0)+1))),(VLOOKUP(OFFSET(H921,-5,0),(TABLE!LOSE),(MATCH(E921,LOSECOL,0)+1)))))))","v":""}]
[null,{"$f":"SCORECARD!C398","v":" Block 4 Player 5"},null,null,{"$f":"SCORECARD!F398","v":0},{"$f":"SCORECARD!G398","v":-1E-3},{"$f":"SCORECARD!H398","v":-1E-3},{"$f":"IF(NOT(OR(F922>0,G922>0)),\"\",IF(HandicapPlay=\"x\",IF(F922>G922,10,-10),(IF((F922-G922>0),(VLOOKUP(OFFSET(H922,-6,0),(TABLE!WIN),(MATCH(E922,WINCOL,0)+1))),(VLOOKUP(OFFSET(H922,-6,0),(TABLE!LOSE),(MATCH(E922,LOSECOL,0)+1)))))))","v":""}]
[null,{"$f":"SCORECARD!C399","v":" Bye "},null,null,{"$f":"SCORECARD!F399","v":0},{"$f":"SCORECARD!G399","v":-1E-3},{"$f":"SCORECARD!H399","v":-1E-3},{"$f":"IF(NOT(OR(F923>0,G923>0)),\"\",IF(HandicapPlay=\"x\",IF(F923>G923,10,-10),(IF((F923-G923>0),(VLOOKUP(OFFSET(H923,-7,0),(TABLE!WIN),(MATCH(E923,WINCOL,0)+1))),(VLOOKUP(OFFSET(H923,-7,0),(TABLE!LOSE),(MATCH(E923,LOSECOL,0)+1)))))))","v":""}]
[null,{"$f":"SCORECARD!C400","v":" "},null,null,{"$f":"SCORECARD!F400","v":" "},{"$f":"SCORECARD!G400","v":0},{"$f":"SCORECARD!H400","v":0},{"$f":"IF(NOT(OR(F924>0,G924>0)),\"\",(IF((F924-G924>0),(VLOOKUP(H916,(TABLE!WIN),((E924+5)*2+2))),(VLOOKUP(H916,(TABLE!LOSE),((E924+5)*2+2))))))","v":""}]
[null,{"$f":"SCORECARD!C401","v":" "},null,null,{"$f":"SCORECARD!F401","v":" "},{"$f":"SCORECARD!G401","v":0},{"$f":"SCORECARD!H401","v":0},{"$f":"IF(NOT(OR(F925>0,G925>0)),\"\",(IF((F925-G925>0),(VLOOKUP(H916,(TABLE!WIN),((E925+5)*2+2))),(VLOOKUP(H916,(TABLE!LOSE),((E925+5)*2+2))))))","v":""}]
[null,{"$f":"SCORECARD!C402","v":" "},null,null,{"$f":"SCORECARD!F402","v":" "},{"$f":"SCORECARD!G402","v":0},{"$f":"SCORECARD!H402","v":0},{"$f":"IF(NOT(OR(F926>0,G926>0)),\"\",(IF((F926-G926>0),(VLOOKUP(H916,(TABLE!WIN),((E926+5)*2+2))),(VLOOKUP(H916,(TABLE!LOSE),((E926+5)*2+2))))))","v":""}]
[null,{"$f":"SCORECARD!C403","v":" "},null,null,{"$f":"SCORECARD!F403","v":" "},{"$f":"SCORECARD!G403","v":0},{"$f":"SCORECARD!H403","v":0},{"$f":"IF(NOT(OR(F927>0,G927>0)),\"\",(IF((F927-G927>0),(VLOOKUP(H916,(TABLE!WIN),((E927+5)*2+2))),(VLOOKUP(H916,(TABLE!LOSE),((E927+5)*2+2))))))","v":""}]
[null,{"$f":"SCORECARD!C404","v":" "},null,null,{"$f":"SCORECARD!F404","v":" "},{"$f":"SCORECARD!G404","v":0},{"$f":"SCORECARD!H404","v":0},{"$f":"IF(NOT(OR(F928>0,G928>0)),\"\",(IF((F928-G928>0),(VLOOKUP(H916,(TABLE!WIN),((E928+5)*2+2))),(VLOOKUP(H916,(TABLE!LOSE),((E928+5)*2+2))))))","v":""}]
[null,{"$f":"SCORECARD!C405","v":" "},null,null,{"$f":"SCORECARD!F405","v":" "},{"$f":"SCORECARD!G405","v":0},{"$f":"SCORECARD!H405","v":0},{"$f":"IF(NOT(OR(F929>0,G929>0)),\"\",(IF((F929-G929>0),(VLOOKUP(H916,(TABLE!WIN),((E929+5)*2+2))),(VLOOKUP(H916,(TABLE!LOSE),((E929+5)*2+2))))))","v":""}]
[null,{"$f":"SCORECARD!C406","v":" "},null,null,{"$f":"SCORECARD!F406","v":" "},{"$f":"SCORECARD!G406","v":0},{"$f":"SCORECARD!H406","v":0},{"$f":"IF(NOT(OR(F930>0,G930>0)),\"\",(IF((F930-G930>0),(VLOOKUP(H916,(TABLE!WIN),((E930+5)*2+2))),(VLOOKUP(H916,(TABLE!LOSE),((E930+5)*2+2))))))","v":""}]
[null,{"$f":"SCORECARD!C407","v":" "},null,null,{"$f":"SCORECARD!F407","v":" "},{"$f":"SCORECARD!G407","v":0},{"$f":"SCORECARD!H407","v":0},{"$f":"IF(NOT(OR(F931>0,G931>0)),\"\",(IF((F931-G931>0),(VLOOKUP(H916,(TABLE!WIN),((E931+5)*2+2))),(VLOOKUP(H916,(TABLE!LOSE),((E931+5)*2+2))))))","v":""}]
[null,{"$f":"SCORECARD!C408","v":" "},null,null,{"$f":"SCORECARD!F408","v":" "},{"$f":"SCORECARD!G408","v":0},{"$f":"SCORECARD!H408","v":0},{"$f":"IF(NOT(OR(F932>0,G932>0)),\"\",(IF((F932-G932>0),(VLOOKUP(H916,(TABLE!WIN),((E932+5)*2+2))),(VLOOKUP(H916,(TABLE!LOSE),((E932+5)*2+2))))))","v":""}]
[]
[null,null,null,null,null,null,"Handicap adjustment points total   ",{"$f":"SUM(H919:H932)","v":0}]
[]
[]
[]
[]
[]
[]
[]
[]
[]
[]
[]
[]
[{"$f":"note1","v":"Time limit 2.5 hours, Turn After Bell (61.1.6). Quadway hoops (3 11/16\"), Dawson International balls"}]
[{"$f":"note2","v":"Games may start early. Please be at the venue at least 30 minutes earlier than the scheduled start time."}]
[{"$f":"note3","v":"Entry Fee $40 will be invoiced by email. Please pay by EFT using the invoice No. as reference."}]
[{"$f":"note4","v":"Players please assist with setting and clearing courts."}]
[null,null,null,null,{"$f":"BLOCK!F81","v":" Block 4 Player 2"}]
[null,null,null,null,{"$f":"BLOCK!N77","v":"Tournament"}]
[null,null,null,null,{"$f":"BLOCK!N79","v":"Singles"}]
[null,null,null,null,{"$f":"BLOCK!B81","v":"BLOCK 4"}]
[]
[null,null,null,null,"BLOCK PLAY SCHEDULE"]
[null,"DAY","  TIME  ",null,"COURT",null,"OPPONENT","HANDICAP","PS","OS"]
[null,{"$f":"GAMES!C61","v":"00:00:00"},{"$f":"GAMES!B61","v":"00:00:00"},null,{"$f":"GAMES!D61","v":"--"},null,{"$f":"GAMES!E61","v":" Bye "},{"$f":"$E$973","v":0},{"$f":"$F$973","v":-1E-3},{"$f":"$G$973","v":-1E-3}]
[null,{"$f":"GAMES!C63","v":"00:00:00"},{"$f":"GAMES!B63","v":"00:00:00"},null,{"$f":"GAMES!D63","v":0},null,{"$f":"GAMES!E63","v":" Block 4 Player 4"},{"$f":"$E$971","v":0},{"$f":"$F$971","v":-1E-3},{"$f":"$G$971","v":-1E-3}]
[null,{"$f":"GAMES!C66","v":"00:00:00"},{"$f":"GAMES!B66","v":"00:00:00"},null,{"$f":"GAMES!D66","v":0},null,{"$f":"GAMES!G66","v":" Block 4 Player 5"},{"$f":"$E$972","v":0},{"$f":"$F$972","v":-1E-3},{"$f":"$G$972","v":-1E-3}]
[null,{"$f":"GAMES!C70","v":"00:00:00"},{"$f":"GAMES!B70","v":"00:00:00"},null,{"$f":"GAMES!D70","v":0},null,{"$f":"GAMES!G70","v":" Block 4 Player 3"},{"$f":"$E$970","v":0},{"$f":"$F$970","v":-1E-3},{"$f":"$G$970","v":-1E-3}]
[null,{"$f":"GAMES!C73","v":"00:00:00"},{"$f":"GAMES!B73","v":"00:00:00"},null,{"$f":"GAMES!D73","v":0},null,{"$f":"GAMES!E73","v":" Block 4 Player 1"},{"$f":"$E$969","v":0},{"$f":"$F$969","v":-1E-3},{"$f":"$G$969","v":-1E-3}]
[]
[]
[]
[null,"PLAYER:",{"$f":"BLOCK!F81","v":" Block 4 Player 2"},null,null,null,"HANDICAP",{"$f":"BLOCK!B87","v":0}]
[null,null,null,null,"OPP","PLAYER","OPP","H/CAP"]
[null,null,"OPPONENT",null,"HCP","SCORE","SCORE","PTS"]
[null,{"$f":"SCORECARD!C414","v":" Block 4 Player 1"},null,null,{"$f":"SCORECARD!F414","v":0},{"$f":"SCORECARD!G414","v":-1E-3},{"$f":"SCORECARD!H414","v":-1E-3},{"$f":"IF(NOT(OR(F969>0,G969>0)),\"\",IF(HandicapPlay=\"x\",IF(F969>G969,10,-10),(IF((F969-G969>0),(VLOOKUP(OFFSET(H969,-3,0),(TABLE!WIN),(MATCH(E969,WINCOL,0)+1))),(VLOOKUP(OFFSET(H969,-3,0),(TABLE!LOSE),(MATCH(E969,LOSECOL,0)+1)))))))","v":""}]
[null,{"$f":"SCORECARD!C415","v":" Block 4 Player 3"},null,null,{"$f":"SCORECARD!F415","v":0},{"$f":"SCORECARD!G415","v":-1E-3},{"$f":"SCORECARD!H415","v":-1E-3},{"$f":"IF(NOT(OR(F970>0,G970>0)),\"\",IF(HandicapPlay=\"x\",IF(F970>G970,10,-10),(IF((F970-G970>0),(VLOOKUP(OFFSET(H970,-4,0),(TABLE!WIN),(MATCH(E970,WINCOL,0)+1))),(VLOOKUP(OFFSET(H970,-4,0),(TABLE!LOSE),(MATCH(E970,LOSECOL,0)+1)))))))","v":""}]
[null,{"$f":"SCORECARD!C416","v":" Block 4 Player 4"},null,null,{"$f":"SCORECARD!F416","v":0},{"$f":"SCORECARD!G416","v":-1E-3},{"$f":"SCORECARD!H416","v":-1E-3},{"$f":"IF(NOT(OR(F971>0,G971>0)),\"\",IF(HandicapPlay=\"x\",IF(F971>G971,10,-10),(IF((F971-G971>0),(VLOOKUP(OFFSET(H971,-5,0),(TABLE!WIN),(MATCH(E971,WINCOL,0)+1))),(VLOOKUP(OFFSET(H971,-5,0),(TABLE!LOSE),(MATCH(E971,LOSECOL,0)+1)))))))","v":""}]
[null,{"$f":"SCORECARD!C417","v":" Block 4 Player 5"},null,null,{"$f":"SCORECARD!F417","v":0},{"$f":"SCORECARD!G417","v":-1E-3},{"$f":"SCORECARD!H417","v":-1E-3},{"$f":"IF(NOT(OR(F972>0,G972>0)),\"\",IF(HandicapPlay=\"x\",IF(F972>G972,10,-10),(IF((F972-G972>0),(VLOOKUP(OFFSET(H972,-6,0),(TABLE!WIN),(MATCH(E972,WINCOL,0)+1))),(VLOOKUP(OFFSET(H972,-6,0),(TABLE!LOSE),(MATCH(E972,LOSECOL,0)+1)))))))","v":""}]
[null,{"$f":"SCORECARD!C418","v":" Bye "},null,null,{"$f":"SCORECARD!F418","v":0},{"$f":"SCORECARD!G418","v":-1E-3},{"$f":"SCORECARD!H418","v":-1E-3},{"$f":"IF(NOT(OR(F973>0,G973>0)),\"\",IF(HandicapPlay=\"x\",IF(F973>G973,10,-10),(IF((F973-G973>0),(VLOOKUP(OFFSET(H973,-7,0),(TABLE!WIN),(MATCH(E973,WINCOL,0)+1))),(VLOOKUP(OFFSET(H973,-7,0),(TABLE!LOSE),(MATCH(E973,LOSECOL,0)+1)))))))","v":""}]
[null,{"$f":"SCORECARD!C419","v":" "},null,null,{"$f":"SCORECARD!F419","v":" "},{"$f":"SCORECARD!G419","v":0},{"$f":"SCORECARD!H419","v":0},{"$f":"IF(NOT(OR(F974>0,G974>0)),\"\",(IF((F974-G974>0),(VLOOKUP(H966,(TABLE!WIN),((E974+5)*2+2))),(VLOOKUP(H966,(TABLE!LOSE),((E974+5)*2+2))))))","v":""}]
[null,{"$f":"SCORECARD!C420","v":" "},null,null,{"$f":"SCORECARD!F420","v":" "},{"$f":"SCORECARD!G420","v":0},{"$f":"SCORECARD!H420","v":0},{"$f":"IF(NOT(OR(F975>0,G975>0)),\"\",(IF((F975-G975>0),(VLOOKUP(H966,(TABLE!WIN),((E975+5)*2+2))),(VLOOKUP(H966,(TABLE!LOSE),((E975+5)*2+2))))))","v":""}]
[null,{"$f":"SCORECARD!C421","v":" "},null,null,{"$f":"SCORECARD!F421","v":" "},{"$f":"SCORECARD!G421","v":0},{"$f":"SCORECARD!H421","v":0},{"$f":"IF(NOT(OR(F976>0,G976>0)),\"\",(IF((F976-G976>0),(VLOOKUP(H966,(TABLE!WIN),((E976+5)*2+2))),(VLOOKUP(H966,(TABLE!LOSE),((E976+5)*2+2))))))","v":""}]
[null,{"$f":"SCORECARD!C422","v":" "},null,null,{"$f":"SCORECARD!F422","v":" "},{"$f":"SCORECARD!G422","v":0},{"$f":"SCORECARD!H422","v":0},{"$f":"IF(NOT(OR(F977>0,G977>0)),\"\",(IF((F977-G977>0),(VLOOKUP(H966,(TABLE!WIN),((E977+5)*2+2))),(VLOOKUP(H966,(TABLE!LOSE),((E977+5)*2+2))))))","v":""}]
[null,{"$f":"SCORECARD!C423","v":" "},null,null,{"$f":"SCORECARD!F423","v":" "},{"$f":"SCORECARD!G423","v":0},{"$f":"SCORECARD!H423","v":0},{"$f":"IF(NOT(OR(F978>0,G978>0)),\"\",(IF((F978-G978>0),(VLOOKUP(H966,(TABLE!WIN),((E978+5)*2+2))),(VLOOKUP(H966,(TABLE!LOSE),((E978+5)*2+2))))))","v":""}]
[null,{"$f":"SCORECARD!C424","v":" "},null,null,{"$f":"SCORECARD!F424","v":" "},{"$f":"SCORECARD!G424","v":0},{"$f":"SCORECARD!H424","v":0},{"$f":"IF(NOT(OR(F979>0,G979>0)),\"\",(IF((F979-G979>0),(VLOOKUP(H966,(TABLE!WIN),((E979+5)*2+2))),(VLOOKUP(H966,(TABLE!LOSE),((E979+5)*2+2))))))","v":""}]
[null,{"$f":"SCORECARD!C425","v":" "},null,null,{"$f":"SCORECARD!F425","v":" "},{"$f":"SCORECARD!G425","v":0},{"$f":"SCORECARD!H425","v":0},{"$f":"IF(NOT(OR(F980>0,G980>0)),\"\",(IF((F980-G980>0),(VLOOKUP(H966,(TABLE!WIN),((E980+5)*2+2))),(VLOOKUP(H966,(TABLE!LOSE),((E980+5)*2+2))))))","v":""}]
[null,{"$f":"SCORECARD!C426","v":" "},null,null,{"$f":"SCORECARD!F426","v":" "},{"$f":"SCORECARD!G426","v":0},{"$f":"SCORECARD!H426","v":0},{"$f":"IF(NOT(OR(F981>0,G981>0)),\"\",(IF((F981-G981>0),(VLOOKUP(H966,(TABLE!WIN),((E981+5)*2+2))),(VLOOKUP(H966,(TABLE!LOSE),((E981+5)*2+2))))))","v":""}]
[null,{"$f":"SCORECARD!C427","v":" "},null,null,{"$f":"SCORECARD!F427","v":" "},{"$f":"SCORECARD!G427","v":0},{"$f":"SCORECARD!H427","v":0},{"$f":"IF(NOT(OR(F982>0,G982>0)),\"\",(IF((F982-G982>0),(VLOOKUP(H966,(TABLE!WIN),((E982+5)*2+2))),(VLOOKUP(H966,(TABLE!LOSE),((E982+5)*2+2))))))","v":""}]
[]
[null,null,null,null,null,null,"Handicap adjustment points total   ",{"$f":"SUM(H969:H982)","v":0}]
[]
[]
[]
[]
[]
[]
[]
[]
[]
[]
[]
[]
[{"$f":"note1","v":"Time limit 2.5 hours, Turn After Bell (61.1.6). Quadway hoops (3 11/16\"), Dawson International balls"}]
[{"$f":"note2","v":"Games may start early. Please be at the venue at least 30 minutes earlier than the scheduled start time."}]
[{"$f":"note3","v":"Entry Fee $40 will be invoiced by email. Please pay by EFT using the invoice No. as reference."}]
[{"$f":"note4","v":"Players please assist with setting and clearing courts."}]
[null,null,null,null,{"$f":"BLOCK!I81","v":" Block 4 Player 3"}]
[null,null,null,null,{"$f":"BLOCK!N77","v":"Tournament"}]
[null,null,null,null,{"$f":"BLOCK!N79","v":"Singles"}]
[null,null,null,null,{"$f":"BLOCK!B81","v":"BLOCK 4"}]
[]
[null,null,null,null,"BLOCK PLAY SCHEDULE"]
[null,"DAY","  TIME  ",null,"COURT",null,"OPPONENT","HANDICAP","PS","OS"]
[null,{"$f":"GAMES!C60","v":"00:00:00"},{"$f":"GAMES!B60","v":"00:00:00"},null,{"$f":"GAMES!D60","v":0},null,{"$f":"GAMES!E60","v":" Block 4 Player 5"},{"$f":"$E$1022","v":0},{"$f":"$F$1022","v":-1E-3},{"$f":"$G$1022","v":-1E-3}]
[null,{"$f":"GAMES!C62","v":"00:00:00"},{"$f":"GAMES!B62","v":"00:00:00"},null,{"$f":"GAMES!D62","v":0},null,{"$f":"GAMES!G62","v":" Block 4 Player 1"},{"$f":"$E$1019","v":0},{"$f":"$F$1019","v":-1E-3},{"$f":"$G$1019","v":-1E-3}]
[null,{"$f":"GAMES!C67","v":"00:00:00"},{"$f":"GAMES!B67","v":"00:00:00"},null,{"$f":"GAMES!D67","v":0},null,{"$f":"GAMES!G67","v":" Block 4 Player 4"},{"$f":"$E$1021","v":0},{"$f":"$F$1021","v":-1E-3},{"$f":"$G$1021","v":-1E-3}]
[null,{"$f":"GAMES!C70","v":"00:00:00"},{"$f":"GAMES!B70","v":"00:00:00"},null,{"$f":"GAMES!D70","v":0},null,{"$f":"GAMES!E70","v":" Block 4 Player 2"},{"$f":"$E$1020","v":0},{"$f":"$F$1020","v":-1E-3},{"$f":"$G$1020","v":-1E-3}]
[null,{"$f":"GAMES!C71","v":"00:00:00"},{"$f":"GAMES!B71","v":"00:00:00"},null,{"$f":"GAMES!D71","v":"--"},null,{"$f":"GAMES!G71","v":" Bye "},{"$f":"$E$1023","v":0},{"$f":"$F$1023","v":-1E-3},{"$f":"$G$1023","v":-1E-3}]
[]
[]
[]
[null,"PLAYER:",{"$f":"BLOCK!I81","v":" Block 4 Player 3"},null,null,null,"HANDICAP",{"$f":"BLOCK!B90","v":0}]
[null,null,null,null,"OPP","PLAYER","OPP","H/CAP"]
[null,null,"OPPONENT",null,"HCP","SCORE","SCORE","PTS"]
[null,{"$f":"SCORECARD!C438","v":" Block 4 Player 1"},null,null,{"$f":"SCORECARD!F438","v":0},{"$f":"SCORECARD!G438","v":-1E-3},{"$f":"SCORECARD!H438","v":-1E-3},{"$f":"IF(NOT(OR(F1019>0,G1019>0)),\"\",IF(HandicapPlay=\"x\",IF(F1019>G1019,10,-10),(IF((F1019-G1019>0),(VLOOKUP(OFFSET(H1019,-3,0),(TABLE!WIN),(MATCH(E1019,WINCOL,0)+1))),(VLOOKUP(OFFSET(H1019,-3,0),(TABLE!LOSE),(MATCH(E1019,LOSECOL,0)+1)))))))","v":""}]
[null,{"$f":"SCORECARD!C439","v":" Block 4 Player 2"},null,null,{"$f":"SCORECARD!F439","v":0},{"$f":"SCORECARD!G439","v":-1E-3},{"$f":"SCORECARD!H439","v":-1E-3},{"$f":"IF(NOT(OR(F1020>0,G1020>0)),\"\",IF(HandicapPlay=\"x\",IF(F1020>G1020,10,-10),(IF((F1020-G1020>0),(VLOOKUP(OFFSET(H1020,-4,0),(TABLE!WIN),(MATCH(E1020,WINCOL,0)+1))),(VLOOKUP(OFFSET(H1020,-4,0),(TABLE!LOSE),(MATCH(E1020,LOSECOL,0)+1)))))))","v":""}]
[null,{"$f":"SCORECARD!C440","v":" Block 4 Player 4"},null,null,{"$f":"SCORECARD!F440","v":0},{"$f":"SCORECARD!G440","v":-1E-3},{"$f":"SCORECARD!H440","v":-1E-3},{"$f":"IF(NOT(OR(F1021>0,G1021>0)),\"\",IF(HandicapPlay=\"x\",IF(F1021>G1021,10,-10),(IF((F1021-G1021>0),(VLOOKUP(OFFSET(H1021,-5,0),(TABLE!WIN),(MATCH(E1021,WINCOL,0)+1))),(VLOOKUP(OFFSET(H1021,-5,0),(TABLE!LOSE),(MATCH(E1021,LOSECOL,0)+1)))))))","v":""}]
[null,{"$f":"SCORECARD!C441","v":" Block 4 Player 5"},null,null,{"$f":"SCORECARD!F441","v":0},{"$f":"SCORECARD!G441","v":-1E-3},{"$f":"SCORECARD!H441","v":-1E-3},{"$f":"IF(NOT(OR(F1022>0,G1022>0)),\"\",IF(HandicapPlay=\"x\",IF(F1022>G1022,10,-10),(IF((F1022-G1022>0),(VLOOKUP(OFFSET(H1022,-6,0),(TABLE!WIN),(MATCH(E1022,WINCOL,0)+1))),(VLOOKUP(OFFSET(H1022,-6,0),(TABLE!LOSE),(MATCH(E1022,LOSECOL,0)+1)))))))","v":""}]
[null,{"$f":"SCORECARD!C442","v":" Bye "},null,null,{"$f":"SCORECARD!F442","v":0},{"$f":"SCORECARD!G442","v":-1E-3},{"$f":"SCORECARD!H442","v":-1E-3},{"$f":"IF(NOT(OR(F1023>0,G1023>0)),\"\",IF(HandicapPlay=\"x\",IF(F1023>G1023,10,-10),(IF((F1023-G1023>0),(VLOOKUP(OFFSET(H1023,-7,0),(TABLE!WIN),(MATCH(E1023,WINCOL,0)+1))),(VLOOKUP(OFFSET(H1023,-7,0),(TABLE!LOSE),(MATCH(E1023,LOSECOL,0)+1)))))))","v":""}]
[null,{"$f":"SCORECARD!C443","v":" "},null,null,{"$f":"SCORECARD!F443","v":" "},{"$f":"SCORECARD!G443","v":0},{"$f":"SCORECARD!H443","v":0},{"$f":"IF(NOT(OR(F1024>0,G1024>0)),\"\",(IF((F1024-G1024>0),(VLOOKUP(H1016,(TABLE!WIN),((E1024+5)*2+2))),(VLOOKUP(H1016,(TABLE!LOSE),((E1024+5)*2+2))))))","v":""}]
[null,{"$f":"SCORECARD!C444","v":" "},null,null,{"$f":"SCORECARD!F444","v":" "},{"$f":"SCORECARD!G444","v":0},{"$f":"SCORECARD!H444","v":0},{"$f":"IF(NOT(OR(F1025>0,G1025>0)),\"\",(IF((F1025-G1025>0),(VLOOKUP(H1016,(TABLE!WIN),((E1025+5)*2+2))),(VLOOKUP(H1016,(TABLE!LOSE),((E1025+5)*2+2))))))","v":""}]
[null,{"$f":"SCORECARD!C445","v":" "},null,null,{"$f":"SCORECARD!F445","v":" "},{"$f":"SCORECARD!G445","v":0},{"$f":"SCORECARD!H445","v":0},{"$f":"IF(NOT(OR(F1026>0,G1026>0)),\"\",(IF((F1026-G1026>0),(VLOOKUP(H1016,(TABLE!WIN),((E1026+5)*2+2))),(VLOOKUP(H1016,(TABLE!LOSE),((E1026+5)*2+2))))))","v":""}]
[null,{"$f":"SCORECARD!C446","v":" "},null,null,{"$f":"SCORECARD!F446","v":" "},{"$f":"SCORECARD!G446","v":0},{"$f":"SCORECARD!H446","v":0},{"$f":"IF(NOT(OR(F1027>0,G1027>0)),\"\",(IF((F1027-G1027>0),(VLOOKUP(H1016,(TABLE!WIN),((E1027+5)*2+2))),(VLOOKUP(H1016,(TABLE!LOSE),((E1027+5)*2+2))))))","v":""}]
[null,{"$f":"SCORECARD!C447","v":" "},null,null,{"$f":"SCORECARD!F447","v":" "},{"$f":"SCORECARD!G447","v":0},{"$f":"SCORECARD!H447","v":0},{"$f":"IF(NOT(OR(F1028>0,G1028>0)),\"\",(IF((F1028-G1028>0),(VLOOKUP(H1016,(TABLE!WIN),((E1028+5)*2+2))),(VLOOKUP(H1016,(TABLE!LOSE),((E1028+5)*2+2))))))","v":""}]
[null,{"$f":"SCORECARD!C448","v":" "},null,null,{"$f":"SCORECARD!F448","v":" "},{"$f":"SCORECARD!G448","v":0},{"$f":"SCORECARD!H448","v":0},{"$f":"IF(NOT(OR(F1029>0,G1029>0)),\"\",(IF((F1029-G1029>0),(VLOOKUP(H1016,(TABLE!WIN),((E1029+5)*2+2))),(VLOOKUP(H1016,(TABLE!LOSE),((E1029+5)*2+2))))))","v":""}]
[null,{"$f":"SCORECARD!C449","v":" "},null,null,{"$f":"SCORECARD!F449","v":" "},{"$f":"SCORECARD!G449","v":0},{"$f":"SCORECARD!H449","v":0},{"$f":"IF(NOT(OR(F1030>0,G1030>0)),\"\",(IF((F1030-G1030>0),(VLOOKUP(H1016,(TABLE!WIN),((E1030+5)*2+2))),(VLOOKUP(H1016,(TABLE!LOSE),((E1030+5)*2+2))))))","v":""}]
[null,{"$f":"SCORECARD!C450","v":" "},null,null,{"$f":"SCORECARD!F450","v":" "},{"$f":"SCORECARD!G450","v":0},{"$f":"SCORECARD!H450","v":0},{"$f":"IF(NOT(OR(F1031>0,G1031>0)),\"\",(IF((F1031-G1031>0),(VLOOKUP(H1016,(TABLE!WIN),((E1031+5)*2+2))),(VLOOKUP(H1016,(TABLE!LOSE),((E1031+5)*2+2))))))","v":""}]
[null,{"$f":"SCORECARD!C451","v":" "},null,null,{"$f":"SCORECARD!F451","v":" "},{"$f":"SCORECARD!G451","v":0},{"$f":"SCORECARD!H451","v":0},{"$f":"IF(NOT(OR(F1032>0,G1032>0)),\"\",(IF((F1032-G1032>0),(VLOOKUP(H1016,(TABLE!WIN),((E1032+5)*2+2))),(VLOOKUP(H1016,(TABLE!LOSE),((E1032+5)*2+2))))))","v":""}]
[]
[null,null,null,null,null,null,"Handicap adjustment points total   ",{"$f":"SUM(H1019:H1032)","v":0}]
[]
[]
[]
[]
[]
[]
[]
[]
[]
[]
[]
[]
[{"$f":"note1","v":"Time limit 2.5 hours, Turn After Bell (61.1.6). Quadway hoops (3 11/16\"), Dawson International balls"}]
[{"$f":"note2","v":"Games may start early. Please be at the venue at least 30 minutes earlier than the scheduled start time."}]
[{"$f":"note3","v":"Entry Fee $40 will be invoiced by email. Please pay by EFT using the invoice No. as reference."}]
[{"$f":"note4","v":"Players please assist with setting and clearing courts."}]
[null,null,null,null,{"$f":"BLOCK!L81","v":" Block 4 Player 4"}]
[null,null,null,null,{"$f":"BLOCK!N77","v":"Tournament"}]
[null,null,null,null,{"$f":"BLOCK!N79","v":"Singles"}]
[null,null,null,null,{"$f":"BLOCK!B81","v":"BLOCK 4"}]
[]
[null,null,null,null,"BLOCK PLAY SCHEDULE"]
[null,"DAY","  TIME  ",null,"COURT",null,"OPPONENT","HANDICAP","PS","OS"]
[null,{"$f":"GAMES!C59","v":"00:00:00"},{"$f":"GAMES!B59","v":"00:00:00"},null,{"$f":"GAMES!D59","v":0},null,{"$f":"GAMES!E59","v":" Block 4 Player 1"},{"$f":"$E$1069","v":0},{"$f":"$F$1069","v":-1E-3},{"$f":"$G$1069","v":-1E-3}]
[null,{"$f":"GAMES!C63","v":"00:00:00"},{"$f":"GAMES!B63","v":"00:00:00"},null,{"$f":"GAMES!D63","v":0},null,{"$f":"GAMES!G63","v":" Block 4 Player 2"},{"$f":"$E$1070","v":0},{"$f":"$F$1070","v":-1E-3},{"$f":"$G$1070","v":-1E-3}]
[null,{"$f":"GAMES!C67","v":"00:00:00"},{"$f":"GAMES!B67","v":"00:00:00"},null,{"$f":"GAMES!D67","v":0},null,{"$f":"GAMES!E67","v":" Block 4 Player 3"},{"$f":"$E$1071","v":0},{"$f":"$F$1071","v":-1E-3},{"$f":"$G$1071","v":-1E-3}]
[null,{"$f":"GAMES!C69","v":"00:00:00"},{"$f":"GAMES!B69","v":"00:00:00"},null,{"$f":"GAMES!D69","v":"--"},null,{"$f":"GAMES!E69","v":" Bye "},{"$f":"$E$1073","v":0},{"$f":"$F$1073","v":-1E-3},{"$f":"$G$1073","v":-1E-3}]
[null,{"$f":"GAMES!C72","v":"00:00:00"},{"$f":"GAMES!B72","v":"00:00:00"},null,{"$f":"GAMES!D72","v":0},null,{"$f":"GAMES!G72","v":" Block 4 Player 5"},{"$f":"$E$1072","v":0},{"$f":"$F$1072","v":-1E-3},{"$f":"$G$1072","v":-1E-3}]
[]
[]
[]
[null,"PLAYER:",{"$f":"BLOCK!L81","v":" Block 4 Player 4"},null,null,null,"HANDICAP",{"$f":"BLOCK!B93","v":0}]
[null,null,null,null,"OPP","PLAYER","OPP","H/CAP"]
[null,null,"OPPONENT",null,"HCP","SCORE","SCORE","PTS"]
[null,{"$f":"SCORECARD!C457","v":" Block 4 Player 1"},null,null,{"$f":"SCORECARD!F457","v":0},{"$f":"SCORECARD!G457","v":-1E-3},{"$f":"SCORECARD!H457","v":-1E-3},{"$f":"IF(NOT(OR(F1069>0,G1069>0)),\"\",IF(HandicapPlay=\"x\",IF(F1069>G1069,10,-10),(IF((F1069-G1069>0),(VLOOKUP(OFFSET(H1069,-3,0),(TABLE!WIN),(MATCH(E1069,WINCOL,0)+1))),(VLOOKUP(OFFSET(H1069,-3,0),(TABLE!LOSE),(MATCH(E1069,LOSECOL,0)+1)))))))","v":""}]
[null,{"$f":"SCORECARD!C458","v":" Block 4 Player 2"},null,null,{"$f":"SCORECARD!F458","v":0},{"$f":"SCORECARD!G458","v":-1E-3},{"$f":"SCORECARD!H458","v":-1E-3},{"$f":"IF(NOT(OR(F1070>0,G1070>0)),\"\",IF(HandicapPlay=\"x\",IF(F1070>G1070,10,-10),(IF((F1070-G1070>0),(VLOOKUP(OFFSET(H1070,-4,0),(TABLE!WIN),(MATCH(E1070,WINCOL,0)+1))),(VLOOKUP(OFFSET(H1070,-4,0),(TABLE!LOSE),(MATCH(E1070,LOSECOL,0)+1)))))))","v":""}]
[null,{"$f":"SCORECARD!C459","v":" Block 4 Player 3"},null,null,{"$f":"SCORECARD!F459","v":0},{"$f":"SCORECARD!G459","v":-1E-3},{"$f":"SCORECARD!H459","v":-1E-3},{"$f":"IF(NOT(OR(F1071>0,G1071>0)),\"\",IF(HandicapPlay=\"x\",IF(F1071>G1071,10,-10),(IF((F1071-G1071>0),(VLOOKUP(OFFSET(H1071,-5,0),(TABLE!WIN),(MATCH(E1071,WINCOL,0)+1))),(VLOOKUP(OFFSET(H1071,-5,0),(TABLE!LOSE),(MATCH(E1071,LOSECOL,0)+1)))))))","v":""}]
[null,{"$f":"SCORECARD!C460","v":" Block 4 Player 5"},null,null,{"$f":"SCORECARD!F460","v":0},{"$f":"SCORECARD!G460","v":-1E-3},{"$f":"SCORECARD!H460","v":-1E-3},{"$f":"IF(NOT(OR(F1072>0,G1072>0)),\"\",IF(HandicapPlay=\"x\",IF(F1072>G1072,10,-10),(IF((F1072-G1072>0),(VLOOKUP(OFFSET(H1072,-6,0),(TABLE!WIN),(MATCH(E1072,WINCOL,0)+1))),(VLOOKUP(OFFSET(H1072,-6,0),(TABLE!LOSE),(MATCH(E1072,LOSECOL,0)+1)))))))","v":""}]
[null,{"$f":"SCORECARD!C461","v":" Bye "},null,null,{"$f":"SCORECARD!F461","v":0},{"$f":"SCORECARD!G461","v":-1E-3},{"$f":"SCORECARD!H461","v":-1E-3},{"$f":"IF(NOT(OR(F1073>0,G1073>0)),\"\",IF(HandicapPlay=\"x\",IF(F1073>G1073,10,-10),(IF((F1073-G1073>0),(VLOOKUP(OFFSET(H1073,-7,0),(TABLE!WIN),(MATCH(E1073,WINCOL,0)+1))),(VLOOKUP(OFFSET(H1073,-7,0),(TABLE!LOSE),(MATCH(E1073,LOSECOL,0)+1)))))))","v":""}]
[null,{"$f":"SCORECARD!C462","v":" "},null,null,{"$f":"SCORECARD!F462","v":" "},{"$f":"SCORECARD!G462","v":0},{"$f":"SCORECARD!H462","v":0},{"$f":"IF(NOT(OR(F1074>0,G1074>0)),\"\",(IF((F1074-G1074>0),(VLOOKUP(H1066,(TABLE!WIN),((E1074+5)*2+2))),(VLOOKUP(H1066,(TABLE!LOSE),((E1074+5)*2+2))))))","v":""}]
[null,{"$f":"SCORECARD!C463","v":" "},null,null,{"$f":"SCORECARD!F463","v":" "},{"$f":"SCORECARD!G463","v":0},{"$f":"SCORECARD!H463","v":0},{"$f":"IF(NOT(OR(F1075>0,G1075>0)),\"\",(IF((F1075-G1075>0),(VLOOKUP(H1066,(TABLE!WIN),((E1075+5)*2+2))),(VLOOKUP(H1066,(TABLE!LOSE),((E1075+5)*2+2))))))","v":""}]
[null,{"$f":"SCORECARD!C464","v":" "},null,null,{"$f":"SCORECARD!F464","v":" "},{"$f":"SCORECARD!G464","v":0},{"$f":"SCORECARD!H464","v":0},{"$f":"IF(NOT(OR(F1076>0,G1076>0)),\"\",(IF((F1076-G1076>0),(VLOOKUP(H1066,(TABLE!WIN),((E1076+5)*2+2))),(VLOOKUP(H1066,(TABLE!LOSE),((E1076+5)*2+2))))))","v":""}]
[null,{"$f":"SCORECARD!C465","v":" "},null,null,{"$f":"SCORECARD!F465","v":" "},{"$f":"SCORECARD!G465","v":0},{"$f":"SCORECARD!H465","v":0},{"$f":"IF(NOT(OR(F1077>0,G1077>0)),\"\",(IF((F1077-G1077>0),(VLOOKUP(H1066,(TABLE!WIN),((E1077+5)*2+2))),(VLOOKUP(H1066,(TABLE!LOSE),((E1077+5)*2+2))))))","v":""}]
[null,{"$f":"SCORECARD!C466","v":" "},null,null,{"$f":"SCORECARD!F466","v":" "},{"$f":"SCORECARD!G466","v":0},{"$f":"SCORECARD!H466","v":0},{"$f":"IF(NOT(OR(F1078>0,G1078>0)),\"\",(IF((F1078-G1078>0),(VLOOKUP(H1066,(TABLE!WIN),((E1078+5)*2+2))),(VLOOKUP(H1066,(TABLE!LOSE),((E1078+5)*2+2))))))","v":""}]
[null,{"$f":"SCORECARD!C467","v":" "},null,null,{"$f":"SCORECARD!F467","v":" "},{"$f":"SCORECARD!G467","v":0},{"$f":"SCORECARD!H467","v":0},{"$f":"IF(NOT(OR(F1079>0,G1079>0)),\"\",(IF((F1079-G1079>0),(VLOOKUP(H1066,(TABLE!WIN),((E1079+5)*2+2))),(VLOOKUP(H1066,(TABLE!LOSE),((E1079+5)*2+2))))))","v":""}]
[null,{"$f":"SCORECARD!C468","v":" "},null,null,{"$f":"SCORECARD!F468","v":" "},{"$f":"SCORECARD!G468","v":0},{"$f":"SCORECARD!H468","v":0},{"$f":"IF(NOT(OR(F1080>0,G1080>0)),\"\",(IF((F1080-G1080>0),(VLOOKUP(H1066,(TABLE!WIN),((E1080+5)*2+2))),(VLOOKUP(H1066,(TABLE!LOSE),((E1080+5)*2+2))))))","v":""}]
[null,{"$f":"SCORECARD!C469","v":" "},null,null,{"$f":"SCORECARD!F469","v":" "},{"$f":"SCORECARD!G469","v":0},{"$f":"SCORECARD!H469","v":0},{"$f":"IF(NOT(OR(F1081>0,G1081>0)),\"\",(IF((F1081-G1081>0),(VLOOKUP(H1066,(TABLE!WIN),((E1081+5)*2+2))),(VLOOKUP(H1066,(TABLE!LOSE),((E1081+5)*2+2))))))","v":""}]
[null,{"$f":"SCORECARD!C470","v":" "},null,null,{"$f":"SCORECARD!F470","v":" "},{"$f":"SCORECARD!G470","v":0},{"$f":"SCORECARD!H470","v":0},{"$f":"IF(NOT(OR(F1082>0,G1082>0)),\"\",(IF((F1082-G1082>0),(VLOOKUP(H1066,(TABLE!WIN),((E1082+5)*2+2))),(VLOOKUP(H1066,(TABLE!LOSE),((E1082+5)*2+2))))))","v":""}]
[]
[null,null,null,null,null,null,"Handicap adjustment points total   ",{"$f":"SUM(H1069:H1082)","v":0}]
[]
[]
[]
[]
[]
[]
[]
[]
[]
[]
[]
[]
[{"$f":"note1","v":"Time limit 2.5 hours, Turn After Bell (61.1.6). Quadway hoops (3 11/16\"), Dawson International balls"}]
[{"$f":"note2","v":"Games may start early. Please be at the venue at least 30 minutes earlier than the scheduled start time."}]
[{"$f":"note3","v":"Entry Fee $40 will be invoiced by email. Please pay by EFT using the invoice No. as reference."}]
[{"$f":"note4","v":"Players please assist with setting and clearing courts."}]
[null,null,null,null,{"$f":"BLOCK!O81","v":" Block 4 Player 5"}]
[null,null,null,null,{"$f":"BLOCK!N77","v":"Tournament"}]
[null,null,null,null,{"$f":"BLOCK!N79","v":"Singles"}]
[null,null,null,null,{"$f":"BLOCK!B81","v":"BLOCK 4"}]
[]
[null,null,null,null,"BLOCK PLAY SCHEDULE"]
[null,"DAY","  TIME  ",null,"COURT",null,"OPPONENT","HANDICAP","PS","OS"]
[null,{"$f":"GAMES!C60","v":"00:00:00"},{"$f":"GAMES!B60","v":"00:00:00"},null,{"$f":"GAMES!D60","v":0},null,{"$f":"GAMES!G60","v":" Block 4 Player 3"},{"$f":"$E$1121","v":0},{"$f":"$F$1121","v":-1E-3},{"$f":"$G$1121","v":-1E-3}]
[null,{"$f":"GAMES!C64","v":"00:00:00"},{"$f":"GAMES!B64","v":"00:00:00"},null,{"$f":"GAMES!D64","v":"--"},null,{"$f":"GAMES!G64","v":" Bye "},{"$f":"$E$1123","v":0},{"$f":"$F$1123","v":-1E-3},{"$f":"$G$1123","v":-1E-3}]
[null,{"$f":"GAMES!C66","v":"00:00:00"},{"$f":"GAMES!B66","v":"00:00:00"},null,{"$f":"GAMES!D66","v":0},null,{"$f":"GAMES!E66","v":" Block 4 Player 2"},{"$f":"$E$1120","v":0},{"$f":"$F$1120","v":-1E-3},{"$f":"$G$1120","v":-1E-3}]
[null,{"$f":"GAMES!C68","v":"00:00:00"},{"$f":"GAMES!B68","v":"00:00:00"},null,{"$f":"GAMES!D68","v":0},null,{"$f":"GAMES!G68","v":" Block 4 Player 1"},{"$f":"$E$1119","v":0},{"$f":"$F$1119","v":-1E-3},{"$f":"$G$1119","v":-1E-3}]
[null,{"$f":"GAMES!C72","v":"00:00:00"},{"$f":"GAMES!B72","v":"00:00:00"},null,{"$f":"GAMES!D72","v":0},null,{"$f":"GAMES!E72","v":" Block 4 Player 4"},{"$f":"$E$1122","v":0},{"$f":"$F$1122","v":-1E-3},{"$f":"$G$1122","v":-1E-3}]
[]
[]
[]
[null,"PLAYER:",{"$f":"BLOCK!O81","v":" Block 4 Player 5"},null,null,null,"HANDICAP",{"$f":"BLOCK!B96","v":0}]
[null,null,null,null,"OPP","PLAYER","OPP","H/CAP"]
[null,null,"OPPONENT",null,"HCP","SCORE","SCORE","PTS"]
[null,{"$f":"SCORECARD!C481","v":" Block 4 Player 1"},null,null,{"$f":"SCORECARD!F481","v":0},{"$f":"SCORECARD!G481","v":-1E-3},{"$f":"SCORECARD!H481","v":-1E-3},{"$f":"IF(NOT(OR(F1119>0,G1119>0)),\"\",IF(HandicapPlay=\"x\",IF(F1119>G1119,10,-10),(IF((F1119-G1119>0),(VLOOKUP(OFFSET(H1119,-3,0),(TABLE!WIN),(MATCH(E1119,WINCOL,0)+1))),(VLOOKUP(OFFSET(H1119,-3,0),(TABLE!LOSE),(MATCH(E1119,LOSECOL,0)+1)))))))","v":""}]
[null,{"$f":"SCORECARD!C482","v":" Block 4 Player 2"},null,null,{"$f":"SCORECARD!F482","v":0},{"$f":"SCORECARD!G482","v":-1E-3},{"$f":"SCORECARD!H482","v":-1E-3},{"$f":"IF(NOT(OR(F1120>0,G1120>0)),\"\",IF(HandicapPlay=\"x\",IF(F1120>G1120,10,-10),(IF((F1120-G1120>0),(VLOOKUP(OFFSET(H1120,-4,0),(TABLE!WIN),(MATCH(E1120,WINCOL,0)+1))),(VLOOKUP(OFFSET(H1120,-4,0),(TABLE!LOSE),(MATCH(E1120,LOSECOL,0)+1)))))))","v":""}]
[null,{"$f":"SCORECARD!C483","v":" Block 4 Player 3"},null,null,{"$f":"SCORECARD!F483","v":0},{"$f":"SCORECARD!G483","v":-1E-3},{"$f":"SCORECARD!H483","v":-1E-3},{"$f":"IF(NOT(OR(F1121>0,G1121>0)),\"\",IF(HandicapPlay=\"x\",IF(F1121>G1121,10,-10),(IF((F1121-G1121>0),(VLOOKUP(OFFSET(H1121,-5,0),(TABLE!WIN),(MATCH(E1121,WINCOL,0)+1))),(VLOOKUP(OFFSET(H1121,-5,0),(TABLE!LOSE),(MATCH(E1121,LOSECOL,0)+1)))))))","v":""}]
[null,{"$f":"SCORECARD!C484","v":" Block 4 Player 4"},null,null,{"$f":"SCORECARD!F484","v":0},{"$f":"SCORECARD!G484","v":-1E-3},{"$f":"SCORECARD!H484","v":-1E-3},{"$f":"IF(NOT(OR(F1122>0,G1122>0)),\"\",IF(HandicapPlay=\"x\",IF(F1122>G1122,10,-10),(IF((F1122-G1122>0),(VLOOKUP(OFFSET(H1122,-6,0),(TABLE!WIN),(MATCH(E1122,WINCOL,0)+1))),(VLOOKUP(OFFSET(H1122,-6,0),(TABLE!LOSE),(MATCH(E1122,LOSECOL,0)+1)))))))","v":""}]
[null,{"$f":"SCORECARD!C485","v":" Bye "},null,null,{"$f":"SCORECARD!F485","v":0},{"$f":"SCORECARD!G485","v":-1E-3},{"$f":"SCORECARD!H485","v":-1E-3},{"$f":"IF(NOT(OR(F1123>0,G1123>0)),\"\",IF(HandicapPlay=\"x\",IF(F1123>G1123,10,-10),(IF((F1123-G1123>0),(VLOOKUP(OFFSET(H1123,-7,0),(TABLE!WIN),(MATCH(E1123,WINCOL,0)+1))),(VLOOKUP(OFFSET(H1123,-7,0),(TABLE!LOSE),(MATCH(E1123,LOSECOL,0)+1)))))))","v":""}]
[null,{"$f":"SCORECARD!C486","v":" "},null,null,{"$f":"SCORECARD!F486","v":" "},{"$f":"SCORECARD!G486","v":0},{"$f":"SCORECARD!H486","v":0},{"$f":"IF(NOT(OR(F1124>0,G1124>0)),\"\",(IF((F1124-G1124>0),(VLOOKUP(H1116,(TABLE!WIN),((E1124+5)*2+2))),(VLOOKUP(H1116,(TABLE!LOSE),((E1124+5)*2+2))))))","v":""}]
[null,{"$f":"SCORECARD!C487","v":" "},null,null,{"$f":"SCORECARD!F487","v":" "},{"$f":"SCORECARD!G487","v":0},{"$f":"SCORECARD!H487","v":0},{"$f":"IF(NOT(OR(F1125>0,G1125>0)),\"\",(IF((F1125-G1125>0),(VLOOKUP(H1116,(TABLE!WIN),((E1125+5)*2+2))),(VLOOKUP(H1116,(TABLE!LOSE),((E1125+5)*2+2))))))","v":""}]
[null,{"$f":"SCORECARD!C488","v":" "},null,null,{"$f":"SCORECARD!F488","v":" "},{"$f":"SCORECARD!G488","v":0},{"$f":"SCORECARD!H488","v":0},{"$f":"IF(NOT(OR(F1126>0,G1126>0)),\"\",(IF((F1126-G1126>0),(VLOOKUP(H1116,(TABLE!WIN),((E1126+5)*2+2))),(VLOOKUP(H1116,(TABLE!LOSE),((E1126+5)*2+2))))))","v":""}]
[null,{"$f":"SCORECARD!C489","v":" "},null,null,{"$f":"SCORECARD!F489","v":" "},{"$f":"SCORECARD!G489","v":0},{"$f":"SCORECARD!H489","v":0},{"$f":"IF(NOT(OR(F1127>0,G1127>0)),\"\",(IF((F1127-G1127>0),(VLOOKUP(H1116,(TABLE!WIN),((E1127+5)*2+2))),(VLOOKUP(H1116,(TABLE!LOSE),((E1127+5)*2+2))))))","v":""}]
[null,{"$f":"SCORECARD!C490","v":" "},null,null,{"$f":"SCORECARD!F490","v":" "},{"$f":"SCORECARD!G490","v":0},{"$f":"SCORECARD!H490","v":0},{"$f":"IF(NOT(OR(F1128>0,G1128>0)),\"\",(IF((F1128-G1128>0),(VLOOKUP(H1116,(TABLE!WIN),((E1128+5)*2+2))),(VLOOKUP(H1116,(TABLE!LOSE),((E1128+5)*2+2))))))","v":""}]
[null,{"$f":"SCORECARD!C491","v":" "},null,null,{"$f":"SCORECARD!F491","v":" "},{"$f":"SCORECARD!G491","v":0},{"$f":"SCORECARD!H491","v":0},{"$f":"IF(NOT(OR(F1129>0,G1129>0)),\"\",(IF((F1129-G1129>0),(VLOOKUP(H1116,(TABLE!WIN),((E1129+5)*2+2))),(VLOOKUP(H1116,(TABLE!LOSE),((E1129+5)*2+2))))))","v":""}]
[null,{"$f":"SCORECARD!C492","v":" "},null,null,{"$f":"SCORECARD!F492","v":" "},{"$f":"SCORECARD!G492","v":0},{"$f":"SCORECARD!H492","v":0},{"$f":"IF(NOT(OR(F1130>0,G1130>0)),\"\",(IF((F1130-G1130>0),(VLOOKUP(H1116,(TABLE!WIN),((E1130+5)*2+2))),(VLOOKUP(H1116,(TABLE!LOSE),((E1130+5)*2+2))))))","v":""}]
[null,{"$f":"SCORECARD!C493","v":" "},null,null,{"$f":"SCORECARD!F493","v":" "},{"$f":"SCORECARD!G493","v":0},{"$f":"SCORECARD!H493","v":0},{"$f":"IF(NOT(OR(F1131>0,G1131>0)),\"\",(IF((F1131-G1131>0),(VLOOKUP(H1116,(TABLE!WIN),((E1131+5)*2+2))),(VLOOKUP(H1116,(TABLE!LOSE),((E1131+5)*2+2))))))","v":""}]
[null,{"$f":"SCORECARD!C494","v":" "},null,null,{"$f":"SCORECARD!F494","v":" "},{"$f":"SCORECARD!G494","v":0},{"$f":"SCORECARD!H494","v":0},{"$f":"IF(NOT(OR(F1132>0,G1132>0)),\"\",(IF((F1132-G1132>0),(VLOOKUP(H1116,(TABLE!WIN),((E1132+5)*2+2))),(VLOOKUP(H1116,(TABLE!LOSE),((E1132+5)*2+2))))))","v":""}]
[]
[null,null,null,null,null,null,"Handicap adjustment points total   ",{"$f":"SUM(H1119:H1132)","v":0}]
[]
[]
[]
[]
[]
[]
[]
[]
[]
[]
[]
[]
[{"$f":"note1","v":"Time limit 2.5 hours, Turn After Bell (61.1.6). Quadway hoops (3 11/16\"), Dawson International balls"}]
[{"$f":"note2","v":"Games may start early. Please be at the venue at least 30 minutes earlier than the scheduled start time."}]
[{"$f":"note3","v":"Entry Fee $40 will be invoiced by email. Please pay by EFT using the invoice No. as reference."}]
[{"$f":"note4","v":"Players please assist with setting and clearing courts."}]
[null,null,null,null,{"$f":"BLOCK!R81","v":" Bye "}]
[null,null,null,null,{"$f":"BLOCK!N77","v":"Tournament"}]
[null,null,null,null,{"$f":"BLOCK!N79","v":"Singles"}]
[null,null,null,null,{"$f":"BLOCK!B81","v":"BLOCK 4"}]
[]
[null,null,null,null,"BLOCK PLAY SCHEDULE"]
[null,"DAY","  TIME  ",null,"COURT",null,"OPPONENT","HANDICAP","PS","OS"]
[null,{"$f":"GAMES!C61","v":"00:00:00"},{"$f":"GAMES!B61","v":"00:00:00"},null,{"$f":"GAMES!D61","v":"--"},null,{"$f":"GAMES!G61","v":" Block 4 Player 2"},{"$f":"$E$1170","v":0},{"$f":"$F$1170","v":-1E-3},{"$f":"$G$1170","v":-1E-3}]
[null,{"$f":"GAMES!C64","v":"00:00:00"},{"$f":"GAMES!B64","v":"00:00:00"},null,{"$f":"GAMES!D64","v":"--"},null,{"$f":"GAMES!E64","v":" Block 4 Player 5"},{"$f":"$E$1173","v":0},{"$f":"$F$1173","v":-1E-3},{"$f":"$G$1173","v":-1E-3}]
[null,{"$f":"GAMES!C65","v":"00:00:00"},{"$f":"GAMES!B65","v":"00:00:00"},null,{"$f":"GAMES!D65","v":"--"},null,{"$f":"GAMES!E65","v":" Block 4 Player 1"},{"$f":"$E$1169","v":0},{"$f":"$F$1169","v":-1E-3},{"$f":"$G$1169","v":-1E-3}]
[null,{"$f":"GAMES!C69","v":"00:00:00"},{"$f":"GAMES!B69","v":"00:00:00"},null,{"$f":"GAMES!D69","v":"--"},null,{"$f":"GAMES!G69","v":" Block 4 Player 4"},{"$f":"$E$1172","v":0},{"$f":"$F$1172","v":-1E-3},{"$f":"$G$1172","v":-1E-3}]
[null,{"$f":"GAMES!C71","v":"00:00:00"},{"$f":"GAMES!B71","v":"00:00:00"},null,{"$f":"GAMES!D71","v":"--"},null,{"$f":"GAMES!E71","v":" Block 4 Player 3"},{"$f":"$E$1171","v":0},{"$f":"$F$1171","v":-1E-3},{"$f":"$G$1171","v":-1E-3}]
[]
[]
[]
[null,"PLAYER:",{"$f":"BLOCK!R81","v":" Bye "},null,null,null,"HANDICAP",{"$f":"BLOCK!B99","v":0}]
[null,null,null,null,"OPP","PLAYER","OPP","H/CAP"]
[null,null,"OPPONENT",null,"HCP","SCORE","SCORE","PTS"]
[null,{"$f":"SCORECARD!C500","v":" Block 4 Player 1"},null,null,{"$f":"SCORECARD!F500","v":0},{"$f":"SCORECARD!G500","v":-1E-3},{"$f":"SCORECARD!H500","v":-1E-3},{"$f":"IF(NOT(OR(F1169>0,G1169>0)),\"\",IF(HandicapPlay=\"x\",IF(F1169>G1169,10,-10),(IF((F1169-G1169>0),(VLOOKUP(OFFSET(H1169,-3,0),(TABLE!WIN),(MATCH(E1169,WINCOL,0)+1))),(VLOOKUP(OFFSET(H1169,-3,0),(TABLE!LOSE),(MATCH(E1169,LOSECOL,0)+1)))))))","v":""}]
[null,{"$f":"SCORECARD!C501","v":" Block 4 Player 2"},null,null,{"$f":"SCORECARD!F501","v":0},{"$f":"SCORECARD!G501","v":-1E-3},{"$f":"SCORECARD!H501","v":-1E-3},{"$f":"IF(NOT(OR(F1170>0,G1170>0)),\"\",IF(HandicapPlay=\"x\",IF(F1170>G1170,10,-10),(IF((F1170-G1170>0),(VLOOKUP(OFFSET(H1170,-4,0),(TABLE!WIN),(MATCH(E1170,WINCOL,0)+1))),(VLOOKUP(OFFSET(H1170,-4,0),(TABLE!LOSE),(MATCH(E1170,LOSECOL,0)+1)))))))","v":""}]
[null,{"$f":"SCORECARD!C502","v":" Block 4 Player 3"},null,null,{"$f":"SCORECARD!F502","v":0},{"$f":"SCORECARD!G502","v":-1E-3},{"$f":"SCORECARD!H502","v":-1E-3},{"$f":"IF(NOT(OR(F1171>0,G1171>0)),\"\",IF(HandicapPlay=\"x\",IF(F1171>G1171,10,-10),(IF((F1171-G1171>0),(VLOOKUP(OFFSET(H1171,-5,0),(TABLE!WIN),(MATCH(E1171,WINCOL,0)+1))),(VLOOKUP(OFFSET(H1171,-5,0),(TABLE!LOSE),(MATCH(E1171,LOSECOL,0)+1)))))))","v":""}]
[null,{"$f":"SCORECARD!C503","v":" Block 4 Player 4"},null,null,{"$f":"SCORECARD!F503","v":0},{"$f":"SCORECARD!G503","v":-1E-3},{"$f":"SCORECARD!H503","v":-1E-3},{"$f":"IF(NOT(OR(F1172>0,G1172>0)),\"\",IF(HandicapPlay=\"x\",IF(F1172>G1172,10,-10),(IF((F1172-G1172>0),(VLOOKUP(OFFSET(H1172,-6,0),(TABLE!WIN),(MATCH(E1172,WINCOL,0)+1))),(VLOOKUP(OFFSET(H1172,-6,0),(TABLE!LOSE),(MATCH(E1172,LOSECOL,0)+1)))))))","v":""}]
[null,{"$f":"SCORECARD!C504","v":" Block 4 Player 5"},null,null,{"$f":"SCORECARD!F504","v":0},{"$f":"SCORECARD!G504","v":-1E-3},{"$f":"SCORECARD!H504","v":-1E-3},{"$f":"IF(NOT(OR(F1173>0,G1173>0)),\"\",IF(HandicapPlay=\"x\",IF(F1173>G1173,10,-10),(IF((F1173-G1173>0),(VLOOKUP(OFFSET(H1173,-7,0),(TABLE!WIN),(MATCH(E1173,WINCOL,0)+1))),(VLOOKUP(OFFSET(H1173,-7,0),(TABLE!LOSE),(MATCH(E1173,LOSECOL,0)+1)))))))","v":""}]
[null,{"$f":"SCORECARD!C505","v":" "},null,null,{"$f":"SCORECARD!F505","v":" "},{"$f":"SCORECARD!G505","v":0},{"$f":"SCORECARD!H505","v":0},{"$f":"IF(NOT(OR(F1174>0,G1174>0)),\"\",(IF((F1174-G1174>0),(VLOOKUP(H1166,(TABLE!WIN),((E1174+5)*2+2))),(VLOOKUP(H1166,(TABLE!LOSE),((E1174+5)*2+2))))))","v":""}]
[null,{"$f":"SCORECARD!C506","v":" "},null,null,{"$f":"SCORECARD!F506","v":" "},{"$f":"SCORECARD!G506","v":0},{"$f":"SCORECARD!H506","v":0},{"$f":"IF(NOT(OR(F1175>0,G1175>0)),\"\",(IF((F1175-G1175>0),(VLOOKUP(H1166,(TABLE!WIN),((E1175+5)*2+2))),(VLOOKUP(H1166,(TABLE!LOSE),((E1175+5)*2+2))))))","v":""}]
[null,{"$f":"SCORECARD!C507","v":" "},null,null,{"$f":"SCORECARD!F507","v":" "},{"$f":"SCORECARD!G507","v":0},{"$f":"SCORECARD!H507","v":0},{"$f":"IF(NOT(OR(F1176>0,G1176>0)),\"\",(IF((F1176-G1176>0),(VLOOKUP(H1166,(TABLE!WIN),((E1176+5)*2+2))),(VLOOKUP(H1166,(TABLE!LOSE),((E1176+5)*2+2))))))","v":""}]
[null,{"$f":"SCORECARD!C508","v":" "},null,null,{"$f":"SCORECARD!F508","v":" "},{"$f":"SCORECARD!G508","v":0},{"$f":"SCORECARD!H508","v":0},{"$f":"IF(NOT(OR(F1177>0,G1177>0)),\"\",(IF((F1177-G1177>0),(VLOOKUP(H1166,(TABLE!WIN),((E1177+5)*2+2))),(VLOOKUP(H1166,(TABLE!LOSE),((E1177+5)*2+2))))))","v":""}]
[null,{"$f":"SCORECARD!C509","v":" "},null,null,{"$f":"SCORECARD!F509","v":" "},{"$f":"SCORECARD!G509","v":0},{"$f":"SCORECARD!H509","v":0},{"$f":"IF(NOT(OR(F1178>0,G1178>0)),\"\",(IF((F1178-G1178>0),(VLOOKUP(H1166,(TABLE!WIN),((E1178+5)*2+2))),(VLOOKUP(H1166,(TABLE!LOSE),((E1178+5)*2+2))))))","v":""}]
[null,{"$f":"SCORECARD!C510","v":" "},null,null,{"$f":"SCORECARD!F510","v":" "},{"$f":"SCORECARD!G510","v":0},{"$f":"SCORECARD!H510","v":0},{"$f":"IF(NOT(OR(F1179>0,G1179>0)),\"\",(IF((F1179-G1179>0),(VLOOKUP(H1166,(TABLE!WIN),((E1179+5)*2+2))),(VLOOKUP(H1166,(TABLE!LOSE),((E1179+5)*2+2))))))","v":""}]
[null,{"$f":"SCORECARD!C511","v":" "},null,null,{"$f":"SCORECARD!F511","v":" "},{"$f":"SCORECARD!G511","v":0},{"$f":"SCORECARD!H511","v":0},{"$f":"IF(NOT(OR(F1180>0,G1180>0)),\"\",(IF((F1180-G1180>0),(VLOOKUP(H1166,(TABLE!WIN),((E1180+5)*2+2))),(VLOOKUP(H1166,(TABLE!LOSE),((E1180+5)*2+2))))))","v":""}]
[null,{"$f":"SCORECARD!C512","v":" "},null,null,{"$f":"SCORECARD!F512","v":" "},{"$f":"SCORECARD!G512","v":0},{"$f":"SCORECARD!H512","v":0},{"$f":"IF(NOT(OR(F1181>0,G1181>0)),\"\",(IF((F1181-G1181>0),(VLOOKUP(H1166,(TABLE!WIN),((E1181+5)*2+2))),(VLOOKUP(H1166,(TABLE!LOSE),((E1181+5)*2+2))))))","v":""}]
[null,{"$f":"SCORECARD!C513","v":" "},null,null,{"$f":"SCORECARD!F513","v":" "},{"$f":"SCORECARD!G513","v":0},{"$f":"SCORECARD!H513","v":0},{"$f":"IF(NOT(OR(F1182>0,G1182>0)),\"\",(IF((F1182-G1182>0),(VLOOKUP(H1166,(TABLE!WIN),((E1182+5)*2+2))),(VLOOKUP(H1166,(TABLE!LOSE),((E1182+5)*2+2))))))","v":""}]
[]
[null,null,null,null,null,null,"Handicap adjustment points total   ",{"$f":"SUM(H1169:H1182)","v":0}]
[]
[]
[]
[]
[]
[]
[]
[]
[]
[]
[]
[]
[{"$f":"note1","v":"Time limit 2.5 hours, Turn After Bell (61.1.6). Quadway hoops (3 11/16\"), Dawson International balls"}]
[{"$f":"note2","v":"Games may start early. Please be at the venue at least 30 minutes earlier than the scheduled start time."}]
[{"$f":"note3","v":"Entry Fee $40 will be invoiced by email. Please pay by EFT using the invoice No. as reference."}]
[{"$f":"note4","v":"Players please assist with setting and clearing courts."}]

{"sheet":"WORLD RANKING RESULTS","index":11,"n_rows":248,"n_cols":12,"rows_kept":248,"cut":false,"hidden":false,"merged":[]}
[]
[]
[]
["BLOCK 1","Name",null,"Name","Margin","Peels","Time","Day",null,"LU Name","Score","Peels"]
[null,{"$f":"IF(K5<0,\"\",IF(K5>K6,J5,J6))","v":""},"beat",{"$f":"IF(K5<0,\"\",IF(K5>K6,J6,J5))","v":""},{"$f":"IF(B5=\"\",\"\",IF(K5>K6,K5-K6,K6-K5))","v":""},{"$f":"IF(B5=\"\",\"\",IF(ISTEXT(L5),L5,IF(ISTEXT(L6),L6,\"\")))","v":""},{"$f":"GAMES!B5","v":"00:00:00"},{"$f":"GAMES!C5","v":"00:00:00"},null,{"$f":"RESULTS!C5","v":" Block 1 Player 1"},{"$f":"RESULTS!D5","v":-1E-3},{"$f":"RESULTS!E5","v":-1E-3}]
[null,{"$f":"IF(K7<0,\"\",IF(K7>K8,J7,J8))","v":""},"beat",{"$f":"IF(K7<0,\"\",IF(K7>K8,J8,J7))","v":""},{"$f":"IF(B6=\"\",\"\",IF(K7>K8,K7-K8,K8-K7))","v":""},{"$f":"IF(B6=\"\",\"\",IF(ISTEXT(L7),L7,IF(ISTEXT(L8),L8,\"\")))","v":""},{"$f":"GAMES!B6","v":"00:00:00"},{"$f":"GAMES!C6","v":"00:00:00"},null,{"$f":"RESULTS!C6","v":" Block 1 Player 4"},{"$f":"RESULTS!D6","v":-1E-3},{"$f":"RESULTS!E6","v":-1E-3}]
[null,{"$f":"IF(K9<0,\"\",IF(K9>K10,J9,J10))","v":""},"beat",{"$f":"IF(K9<0,\"\",IF(K9>K10,J10,J9))","v":""},{"$f":"IF(B7=\"\",\"\",IF(K9>K10,K9-K10,K10-K9))","v":""},{"$f":"IF(B7=\"\",\"\",IF(ISTEXT(L9),L9,IF(ISTEXT(L10),L10,\"\")))","v":""},{"$f":"GAMES!B7","v":"00:00:00"},{"$f":"GAMES!C7","v":"00:00:00"},null,{"$f":"RESULTS!C7","v":" Block 1 Player 5"},{"$f":"RESULTS!D7","v":-1E-3},{"$f":"RESULTS!E7","v":-1E-3}]
[null,{"$f":"IF(K11<0,\"\",IF(K11>K12,J11,J12))","v":""},"beat",{"$f":"IF(K11<0,\"\",IF(K11>K12,J12,J11))","v":""},{"$f":"IF(B8=\"\",\"\",IF(K11>K12,K11-K12,K12-K11))","v":""},{"$f":"IF(B8=\"\",\"\",IF(ISTEXT(L11),L11,IF(ISTEXT(L12),L12,\"\")))","v":""},{"$f":"GAMES!B8","v":"00:00:00"},{"$f":"GAMES!C8","v":"00:00:00"},null,{"$f":"RESULTS!C8","v":" Block 1 Player 3"},{"$f":"RESULTS!D8","v":-1E-3},{"$f":"RESULTS!E8","v":-1E-3}]
[null,{"$f":"IF(K13<0,\"\",IF(K13>K14,J13,J14))","v":""},"beat",{"$f":"IF(K13<0,\"\",IF(K13>K14,J14,J13))","v":""},{"$f":"IF(B9=\"\",\"\",IF(K13>K14,K13-K14,K14-K13))","v":""},{"$f":"IF(B9=\"\",\"\",IF(ISTEXT(L13),L13,IF(ISTEXT(L14),L14,\"\")))","v":""},{"$f":"GAMES!B9","v":"00:00:00"},{"$f":"GAMES!C9","v":"00:00:00"},null,{"$f":"RESULTS!C9","v":" Bye "},{"$f":"RESULTS!D9","v":-1E-3},{"$f":"RESULTS!E9","v":-1E-3}]
[null,{"$f":"IF(K15<0,\"\",IF(K15>K16,J15,J16))","v":""},"beat",{"$f":"IF(K15<0,\"\",IF(K15>K16,J16,J15))","v":""},{"$f":"IF(B10=\"\",\"\",IF(K15>K16,K15-K16,K16-K15))","v":""},{"$f":"IF(B10=\"\",\"\",IF(ISTEXT(L15),L15,IF(ISTEXT(L16),L16,\"\")))","v":""},{"$f":"GAMES!B10","v":"00:00:00"},{"$f":"GAMES!C10","v":"00:00:00"},null,{"$f":"RESULTS!C10","v":" Block 1 Player 2"},{"$f":"RESULTS!D10","v":-1E-3},{"$f":"RESULTS!E10","v":-1E-3}]
[null,{"$f":"IF(K17<0,\"\",IF(K17>K18,J17,J18))","v":""},"beat",{"$f":"IF(K17<0,\"\",IF(K17>K18,J18,J17))","v":""},{"$f":"IF(B11=\"\",\"\",IF(K17>K18,K17-K18,K18-K17))","v":""},{"$f":"IF(B11=\"\",\"\",IF(ISTEXT(L17),L17,IF(ISTEXT(L18),L18,\"\")))","v":""},{"$f":"GAMES!B11","v":"00:00:00"},{"$f":"GAMES!C11","v":"00:00:00"},null,{"$f":"RESULTS!C11","v":" Block 1 Player 3"},{"$f":"RESULTS!D11","v":-1E-3},{"$f":"RESULTS!E11","v":-1E-3}]
[null,{"$f":"IF(K19<0,\"\",IF(K19>K20,J19,J20))","v":""},"beat",{"$f":"IF(K19<0,\"\",IF(K19>K20,J20,J19))","v":""},{"$f":"IF(B12=\"\",\"\",IF(K19>K20,K19-K20,K20-K19))","v":""},{"$f":"IF(B12=\"\",\"\",IF(ISTEXT(L19),L19,IF(ISTEXT(L20),L20,\"\")))","v":""},{"$f":"GAMES!B12","v":"00:00:00"},{"$f":"GAMES!C12","v":"00:00:00"},null,{"$f":"RESULTS!C12","v":" Block 1 Player 1"},{"$f":"RESULTS!D12","v":-1E-3},{"$f":"RESULTS!E12","v":-1E-3}]
[null,{"$f":"IF(K21<0,\"\",IF(K21>K22,J21,J22))","v":""},"beat",{"$f":"IF(K21<0,\"\",IF(K21>K22,J22,J21))","v":""},{"$f":"IF(B13=\"\",\"\",IF(K21>K22,K21-K22,K22-K21))","v":""},{"$f":"IF(B13=\"\",\"\",IF(ISTEXT(L21),L21,IF(ISTEXT(L22),L22,\"\")))","v":""},{"$f":"GAMES!B13","v":"00:00:00"},{"$f":"GAMES!C13","v":"00:00:00"},null,{"$f":"RESULTS!C13","v":" Block 1 Player 4"},{"$f":"RESULTS!D13","v":-1E-3},{"$f":"RESULTS!E13","v":-1E-3}]
[null,{"$f":"IF(K23<0,\"\",IF(K23>K24,J23,J24))","v":""},"beat",{"$f":"IF(K23<0,\"\",IF(K23>K24,J24,J23))","v":""},{"$f":"IF(B14=\"\",\"\",IF(K23>K24,K23-K24,K24-K23))","v":""},{"$f":"IF(B14=\"\",\"\",IF(ISTEXT(L23),L23,IF(ISTEXT(L24),L24,\"\")))","v":""},{"$f":"GAMES!B14","v":"00:00:00"},{"$f":"GAMES!C14","v":"00:00:00"},null,{"$f":"RESULTS!C14","v":" Block 1 Player 2"},{"$f":"RESULTS!D14","v":-1E-3},{"$f":"RESULTS!E14","v":-1E-3}]
[null,{"$f":"IF(K25<0,\"\",IF(K25>K26,J25,J26))","v":""},"beat",{"$f":"IF(K25<0,\"\",IF(K25>K26,J26,J25))","v":""},{"$f":"IF(B15=\"\",\"\",IF(K25>K26,K25-K26,K26-K25))","v":""},{"$f":"IF(B15=\"\",\"\",IF(ISTEXT(L25),L25,IF(ISTEXT(L26),L26,\"\")))","v":""},{"$f":"GAMES!B15","v":"00:00:00"},{"$f":"GAMES!C15","v":"00:00:00"},null,{"$f":"RESULTS!G5","v":" Block 1 Player 5"},{"$f":"RESULTS!H5","v":-1E-3},{"$f":"RESULTS!I5","v":-1E-3}]
[null,{"$f":"IF(K27<0,\"\",IF(K27>K28,J27,J28))","v":""},"beat",{"$f":"IF(K27<0,\"\",IF(K27>K28,J28,J27))","v":""},{"$f":"IF(B16=\"\",\"\",IF(K27>K28,K27-K28,K28-K27))","v":""},{"$f":"IF(B16=\"\",\"\",IF(ISTEXT(L27),L27,IF(ISTEXT(L28),L28,\"\")))","v":""},{"$f":"GAMES!B16","v":"00:00:00"},{"$f":"GAMES!C16","v":"00:00:00"},null,{"$f":"RESULTS!G6","v":" Bye "},{"$f":"RESULTS!H6","v":-1E-3},{"$f":"RESULTS!I6","v":-1E-3}]
[null,{"$f":"IF(K29<0,\"\",IF(K29>K30,J29,J30))","v":""},"beat",{"$f":"IF(K29<0,\"\",IF(K29>K30,J30,J29))","v":""},{"$f":"IF(B17=\"\",\"\",IF(K29>K30,K29-K30,K30-K29))","v":""},{"$f":"IF(B17=\"\",\"\",IF(ISTEXT(L29),L29,IF(ISTEXT(L30),L30,\"\")))","v":""},{"$f":"GAMES!B17","v":"00:00:00"},{"$f":"GAMES!C17","v":"00:00:00"},null,{"$f":"RESULTS!G7","v":" Block 1 Player 1"},{"$f":"RESULTS!H7","v":-1E-3},{"$f":"RESULTS!I7","v":-1E-3}]
[null,{"$f":"IF(K31<0,\"\",IF(K31>K32,J31,J32))","v":""},"beat",{"$f":"IF(K31<0,\"\",IF(K31>K32,J32,J31))","v":""},{"$f":"IF(B18=\"\",\"\",IF(K31>K32,K31-K32,K32-K31))","v":""},{"$f":"IF(B18=\"\",\"\",IF(ISTEXT(L31),L31,IF(ISTEXT(L32),L32,\"\")))","v":""},{"$f":"GAMES!B18","v":"00:00:00"},{"$f":"GAMES!C18","v":"00:00:00"},null,{"$f":"RESULTS!G8","v":" Bye "},{"$f":"RESULTS!H8","v":-1E-3},{"$f":"RESULTS!I8","v":-1E-3}]
[null,{"$f":"IF(K33<0,\"\",IF(K33>K34,J33,J34))","v":""},"beat",{"$f":"IF(K33<0,\"\",IF(K33>K34,J34,J33))","v":""},{"$f":"IF(B19=\"\",\"\",IF(K33>K34,K33-K34,K34-K33))","v":""},{"$f":"IF(B19=\"\",\"\",IF(ISTEXT(L33),L33,IF(ISTEXT(L34),L34,\"\")))","v":""},{"$f":"GAMES!B19","v":"00:00:00"},{"$f":"GAMES!C19","v":"00:00:00"},null,{"$f":"RESULTS!G9","v":" Block 1 Player 2"},{"$f":"RESULTS!H9","v":-1E-3},{"$f":"RESULTS!I9","v":-1E-3}]
[null,null,null,null,null,null,null,null,null,{"$f":"RESULTS!G10","v":" Block 1 Player 5"},{"$f":"RESULTS!H10","v":-1E-3},{"$f":"RESULTS!I10","v":-1E-3}]
[null,null,null,null,null,null,null,null,null,{"$f":"RESULTS!G11","v":" Block 1 Player 3"},{"$f":"RESULTS!H11","v":-1E-3},{"$f":"RESULTS!I11","v":-1E-3}]
[null,null,null,null,null,null,null,null,null,{"$f":"RESULTS!G12","v":" Block 1 Player 4"},{"$f":"RESULTS!H12","v":-1E-3},{"$f":"RESULTS!I12","v":-1E-3}]
[null,null,null,null,null,null,null,null,null,{"$f":"RESULTS!G13","v":" Block 1 Player 5"},{"$f":"RESULTS!H13","v":-1E-3},{"$f":"RESULTS!I13","v":-1E-3}]
[null,null,null,null,null,null,null,null,null,{"$f":"RESULTS!G14","v":" Block 1 Player 1"},{"$f":"RESULTS!H14","v":-1E-3},{"$f":"RESULTS!I14","v":-1E-3}]
[null,null,null,null,null,null,null,null,null,{"$f":"RESULTS!K5","v":" Bye "},{"$f":"RESULTS!L5","v":-1E-3},{"$f":"RESULTS!M5","v":-1E-3}]
[null,null,null,null,null,null,null,null,null,{"$f":"RESULTS!K6","v":" Block 1 Player 4"},{"$f":"RESULTS!L6","v":-1E-3},{"$f":"RESULTS!M6","v":-1E-3}]
[null,null,null,null,null,null,null,null,null,{"$f":"RESULTS!K7","v":" Block 1 Player 2"},{"$f":"RESULTS!L7","v":-1E-3},{"$f":"RESULTS!M7","v":-1E-3}]
[null,null,null,null,null,null,null,null,null,{"$f":"RESULTS!K8","v":" Block 1 Player 3"},{"$f":"RESULTS!L8","v":-1E-3},{"$f":"RESULTS!M8","v":-1E-3}]
[null,null,null,null,null,null,null,null,null,{"$f":"RESULTS!K9","v":" Block 1 Player 3"},{"$f":"RESULTS!L9","v":-1E-3},{"$f":"RESULTS!M9","v":-1E-3}]
[null,null,null,null,null,null,null,null,null,{"$f":"RESULTS!K10","v":" Bye "},{"$f":"RESULTS!L10","v":-1E-3},{"$f":"RESULTS!M10","v":-1E-3}]
[null,null,null,null,null,null,null,null,null,{"$f":"RESULTS!K11","v":" Block 1 Player 4"},{"$f":"RESULTS!L11","v":-1E-3},{"$f":"RESULTS!M11","v":-1E-3}]
[null,null,null,null,null,null,null,null,null,{"$f":"RESULTS!K12","v":" Block 1 Player 5"},{"$f":"RESULTS!L12","v":-1E-3},{"$f":"RESULTS!M12","v":-1E-3}]
[null,null,null,null,null,null,null,null,null,{"$f":"RESULTS!K13","v":" Block 1 Player 1"},{"$f":"RESULTS!L13","v":-1E-3},{"$f":"RESULTS!M13","v":-1E-3}]
[null,null,null,null,null,null,null,null,null,{"$f":"RESULTS!K14","v":" Block 1 Player 2"},{"$f":"RESULTS!L14","v":-1E-3},{"$f":"RESULTS!M14","v":-1E-3}]
[]
["BLOCK 2","Name",null,"Name","Margin","Peels","Time","Day",null,"LU Name","Score","Peels"]
[null,{"$f":"IF(K37<0,\"\",IF(K37>K38,J37,J38))","v":""},"beat",{"$f":"IF(K37<0,\"\",IF(K37>K38,J38,J37))","v":""},{"$f":"IF(B37=\"\",\"\",IF(K37>K38,K37-K38,K38-K37))","v":""},{"$f":"IF(B37=\"\",\"\",IF(ISTEXT(L37),L37,IF(ISTEXT(L38),L38,\"\")))","v":""},{"$f":"GAMES!B23","v":"00:00:00"},{"$f":"GAMES!C23","v":"00:00:00"},null,{"$f":"RESULTS!C21","v":" Block 2 Player 1"},{"$f":"RESULTS!D21","v":-1E-3},{"$f":"RESULTS!E21","v":-1E-3}]
[null,{"$f":"IF(K39<0,\"\",IF(K39>K40,J39,J40))","v":""},"beat",{"$f":"IF(K39<0,\"\",IF(K39>K40,J40,J39))","v":""},{"$f":"IF(B38=\"\",\"\",IF(K39>K40,K39-K40,K40-K39))","v":""},{"$f":"IF(B38=\"\",\"\",IF(ISTEXT(L39),L39,IF(ISTEXT(L40),L40,\"\")))","v":""},{"$f":"GAMES!B24","v":"00:00:00"},{"$f":"GAMES!C24","v":"00:00:00"},null,{"$f":"RESULTS!C22","v":" Block 2 Player 4"},{"$f":"RESULTS!D22","v":-1E-3},{"$f":"RESULTS!E22","v":-1E-3}]
[null,{"$f":"IF(K41<0,\"\",IF(K41>K42,J41,J42))","v":""},"beat",{"$f":"IF(K41<0,\"\",IF(K41>K42,J42,J41))","v":""},{"$f":"IF(B39=\"\",\"\",IF(K41>K42,K41-K42,K42-K41))","v":""},{"$f":"IF(B39=\"\",\"\",IF(ISTEXT(L41),L41,IF(ISTEXT(L42),L42,\"\")))","v":""},{"$f":"GAMES!B25","v":"00:00:00"},{"$f":"GAMES!C25","v":"00:00:00"},null,{"$f":"RESULTS!C23","v":" Block 2 Player 5"},{"$f":"RESULTS!D23","v":-1E-3},{"$f":"RESULTS!E23","v":-1E-3}]
[null,{"$f":"IF(K43<0,\"\",IF(K43>K44,J43,J44))","v":""},"beat",{"$f":"IF(K43<0,\"\",IF(K43>K44,J44,J43))","v":""},{"$f":"IF(B40=\"\",\"\",IF(K43>K44,K43-K44,K44-K43))","v":""},{"$f":"IF(B40=\"\",\"\",IF(ISTEXT(L43),L43,IF(ISTEXT(L44),L44,\"\")))","v":""},{"$f":"GAMES!B26","v":"00:00:00"},{"$f":"GAMES!C26","v":"00:00:00"},null,{"$f":"RESULTS!C24","v":" Block 2 Player 3"},{"$f":"RESULTS!D24","v":-1E-3},{"$f":"RESULTS!E24","v":-1E-3}]
[null,{"$f":"IF(K45<0,\"\",IF(K45>K46,J45,J46))","v":""},"beat",{"$f":"IF(K45<0,\"\",IF(K45>K46,J46,J45))","v":""},{"$f":"IF(B41=\"\",\"\",IF(K45>K46,K45-K46,K46-K45))","v":""},{"$f":"IF(B41=\"\",\"\",IF(ISTEXT(L45),L45,IF(ISTEXT(L46),L46,\"\")))","v":""},{"$f":"GAMES!B27","v":"00:00:00"},{"$f":"GAMES!C27","v":"00:00:00"},null,{"$f":"RESULTS!C25","v":" Bye "},{"$f":"RESULTS!D25","v":-1E-3},{"$f":"RESULTS!E25","v":-1E-3}]
[null,{"$f":"IF(K47<0,\"\",IF(K47>K48,J47,J48))","v":""},"beat",{"$f":"IF(K47<0,\"\",IF(K47>K48,J48,J47))","v":""},{"$f":"IF(B42=\"\",\"\",IF(K47>K48,K47-K48,K48-K47))","v":""},{"$f":"IF(B42=\"\",\"\",IF(ISTEXT(L47),L47,IF(ISTEXT(L48),L48,\"\")))","v":""},{"$f":"GAMES!B28","v":"00:00:00"},{"$f":"GAMES!C28","v":"00:00:00"},null,{"$f":"RESULTS!C26","v":" Block 2 Player 2"},{"$f":"RESULTS!D26","v":-1E-3},{"$f":"RESULTS!E26","v":-1E-3}]
[null,{"$f":"IF(K49<0,\"\",IF(K49>K50,J49,J50))","v":""},"beat",{"$f":"IF(K49<0,\"\",IF(K49>K50,J50,J49))","v":""},{"$f":"IF(B43=\"\",\"\",IF(K49>K50,K49-K50,K50-K49))","v":""},{"$f":"IF(B43=\"\",\"\",IF(ISTEXT(L49),L49,IF(ISTEXT(L50),L50,\"\")))","v":""},{"$f":"GAMES!B29","v":"00:00:00"},{"$f":"GAMES!C29","v":"00:00:00"},null,{"$f":"RESULTS!C27","v":" Block 2 Player 3"},{"$f":"RESULTS!D27","v":-1E-3},{"$f":"RESULTS!E27","v":-1E-3}]
[null,{"$f":"IF(K51<0,\"\",IF(K51>K52,J51,J52))","v":""},"beat",{"$f":"IF(K51<0,\"\",IF(K51>K52,J52,J51))","v":""},{"$f":"IF(B44=\"\",\"\",IF(K51>K52,K51-K52,K52-K51))","v":""},{"$f":"IF(B44=\"\",\"\",IF(ISTEXT(L51),L51,IF(ISTEXT(L52),L52,\"\")))","v":""},{"$f":"GAMES!B30","v":"00:00:00"},{"$f":"GAMES!C30","v":"00:00:00"},null,{"$f":"RESULTS!C28","v":" Block 2 Player 1"},{"$f":"RESULTS!D28","v":-1E-3},{"$f":"RESULTS!E28","v":-1E-3}]
[null,{"$f":"IF(K53<0,\"\",IF(K53>K54,J53,J54))","v":""},"beat",{"$f":"IF(K53<0,\"\",IF(K53>K54,J54,J53))","v":""},{"$f":"IF(B45=\"\",\"\",IF(K53>K54,K53-K54,K54-K53))","v":""},{"$f":"IF(B45=\"\",\"\",IF(ISTEXT(L53),L53,IF(ISTEXT(L54),L54,\"\")))","v":""},{"$f":"GAMES!B31","v":"00:00:00"},{"$f":"GAMES!C31","v":"00:00:00"},null,{"$f":"RESULTS!C29","v":" Block 2 Player 4"},{"$f":"RESULTS!D29","v":-1E-3},{"$f":"RESULTS!E29","v":-1E-3}]
[null,{"$f":"IF(K55<0,\"\",IF(K55>K56,J55,J56))","v":""},"beat",{"$f":"IF(K55<0,\"\",IF(K55>K56,J56,J55))","v":""},{"$f":"IF(B46=\"\",\"\",IF(K55>K56,K55-K56,K56-K55))","v":""},{"$f":"IF(B46=\"\",\"\",IF(ISTEXT(L55),L55,IF(ISTEXT(L56),L56,\"\")))","v":""},{"$f":"GAMES!B32","v":"00:00:00"},{"$f":"GAMES!C32","v":"00:00:00"},null,{"$f":"RESULTS!C30","v":" Block 2 Player 2"},{"$f":"RESULTS!D30","v":-1E-3},{"$f":"RESULTS!E30","v":-1E-3}]
[null,{"$f":"IF(K57<0,\"\",IF(K57>K58,J57,J58))","v":""},"beat",{"$f":"IF(K57<0,\"\",IF(K57>K58,J58,J57))","v":""},{"$f":"IF(B47=\"\",\"\",IF(K57>K58,K57-K58,K58-K57))","v":""},{"$f":"IF(B47=\"\",\"\",IF(ISTEXT(L57),L57,IF(ISTEXT(L58),L58,\"\")))","v":""},{"$f":"GAMES!B33","v":"00:00:00"},{"$f":"GAMES!C33","v":"00:00:00"},null,{"$f":"RESULTS!G21","v":" Block 2 Player 5"},{"$f":"RESULTS!H21","v":-1E-3},{"$f":"RESULTS!I21","v":-1E-3}]
[null,{"$f":"IF(K59<0,\"\",IF(K59>K60,J59,J60))","v":""},"beat",{"$f":"IF(K59<0,\"\",IF(K59>K60,J60,J59))","v":""},{"$f":"IF(B48=\"\",\"\",IF(K59>K60,K59-K60,K60-K59))","v":""},{"$f":"IF(B48=\"\",\"\",IF(ISTEXT(L59),L59,IF(ISTEXT(L60),L60,\"\")))","v":""},{"$f":"GAMES!B34","v":"00:00:00"},{"$f":"GAMES!C34","v":"00:00:00"},null,{"$f":"RESULTS!G22","v":" Bye "},{"$f":"RESULTS!H22","v":-1E-3},{"$f":"RESULTS!I22","v":-1E-3}]
[null,{"$f":"IF(K61<0,\"\",IF(K61>K62,J61,J62))","v":""},"beat",{"$f":"IF(K61<0,\"\",IF(K61>K62,J62,J61))","v":""},{"$f":"IF(B49=\"\",\"\",IF(K61>K62,K61-K62,K62-K61))","v":""},{"$f":"IF(B49=\"\",\"\",IF(ISTEXT(L61),L61,IF(ISTEXT(L62),L62,\"\")))","v":""},{"$f":"GAMES!B35","v":"00:00:00"},{"$f":"GAMES!C35","v":"00:00:00"},null,{"$f":"RESULTS!G23","v":" Block 2 Player 1"},{"$f":"RESULTS!H23","v":-1E-3},{"$f":"RESULTS!I23","v":-1E-3}]
[null,{"$f":"IF(K63<0,\"\",IF(K63>K64,J63,J64))","v":""},"beat",{"$f":"IF(K63<0,\"\",IF(K63>K64,J64,J63))","v":""},{"$f":"IF(B50=\"\",\"\",IF(K63>K64,K63-K64,K64-K63))","v":""},{"$f":"IF(B50=\"\",\"\",IF(ISTEXT(L63),L63,IF(ISTEXT(L64),L64,\"\")))","v":""},{"$f":"GAMES!B36","v":"00:00:00"},{"$f":"GAMES!C36","v":"00:00:00"},null,{"$f":"RESULTS!G24","v":" Bye "},{"$f":"RESULTS!H24","v":-1E-3},{"$f":"RESULTS!I24","v":-1E-3}]
[null,{"$f":"IF(K65<0,\"\",IF(K65>K66,J65,J66))","v":""},"beat",{"$f":"IF(K65<0,\"\",IF(K65>K66,J66,J65))","v":""},{"$f":"IF(B51=\"\",\"\",IF(K65>K66,K65-K66,K66-K65))","v":""},{"$f":"IF(B51=\"\",\"\",IF(ISTEXT(L65),L65,IF(ISTEXT(L66),L66,\"\")))","v":""},{"$f":"GAMES!B37","v":"00:00:00"},{"$f":"GAMES!C37","v":"00:00:00"},null,{"$f":"RESULTS!G25","v":" Block 2 Player 2"},{"$f":"RESULTS!H25","v":-1E-3},{"$f":"RESULTS!I25","v":-1E-3}]
[null,null,null,null,null,null,null,null,null,{"$f":"RESULTS!G26","v":" Block 2 Player 5"},{"$f":"RESULTS!H26","v":-1E-3},{"$f":"RESULTS!I26","v":-1E-3}]
[null,null,null,null,null,null,null,null,null,{"$f":"RESULTS!G27","v":" Block 2 Player 3"},{"$f":"RESULTS!H27","v":-1E-3},{"$f":"RESULTS!I27","v":-1E-3}]
[null,null,null,null,null,null,null,null,null,{"$f":"RESULTS!G28","v":" Block 2 Player 4"},{"$f":"RESULTS!H28","v":-1E-3},{"$f":"RESULTS!I28","v":-1E-3}]
[null,null,null,null,null,null,null,null,null,{"$f":"RESULTS!G29","v":" Block 2 Player 5"},{"$f":"RESULTS!H29","v":-1E-3},{"$f":"RESULTS!I29","v":-1E-3}]
[null,null,null,null,null,null,null,null,null,{"$f":"RESULTS!G30","v":" Block 2 Player 1"},{"$f":"RESULTS!H30","v":-1E-3},{"$f":"RESULTS!I30","v":-1E-3}]
[null,null,null,null,null,null,null,null,null,{"$f":"RESULTS!K21","v":" Bye "},{"$f":"RESULTS!L21","v":-1E-3},{"$f":"RESULTS!M21","v":-1E-3}]
[null,null,null,null,null,null,null,null,null,{"$f":"RESULTS!K22","v":" Block 2 Player 4"},{"$f":"RESULTS!L22","v":-1E-3},{"$f":"RESULTS!M22","v":-1E-3}]
[null,null,null,null,null,null,null,null,null,{"$f":"RESULTS!K23","v":" Block 2 Player 2"},{"$f":"RESULTS!L23","v":-1E-3},{"$f":"RESULTS!M23","v":-1E-3}]
[null,null,null,null,null,null,null,null,null,{"$f":"RESULTS!K24","v":" Block 2 Player 3"},{"$f":"RESULTS!L24","v":-1E-3},{"$f":"RESULTS!M24","v":-1E-3}]
[null,null,null,null,null,null,null,null,null,{"$f":"RESULTS!K25","v":" Block 2 Player 3"},{"$f":"RESULTS!L25","v":-1E-3},{"$f":"RESULTS!M25","v":-1E-3}]
[null,null,null,null,null,null,null,null,null,{"$f":"RESULTS!K26","v":" Bye "},{"$f":"RESULTS!L26","v":-1E-3},{"$f":"RESULTS!M26","v":-1E-3}]
[null,null,null,null,null,null,null,null,null,{"$f":"RESULTS!K27","v":" Block 2 Player 4"},{"$f":"RESULTS!L27","v":-1E-3},{"$f":"RESULTS!M27","v":-1E-3}]
[null,null,null,null,null,null,null,null,null,{"$f":"RESULTS!K28","v":" Block 2 Player 5"},{"$f":"RESULTS!L28","v":-1E-3},{"$f":"RESULTS!M28","v":-1E-3}]
[null,null,null,null,null,null,null,null,null,{"$f":"RESULTS!K29","v":" Block 2 Player 1"},{"$f":"RESULTS!L29","v":-1E-3},{"$f":"RESULTS!M29","v":-1E-3}]
[null,null,null,null,null,null,null,null,null,{"$f":"RESULTS!K30","v":" Block 2 Player 2"},{"$f":"RESULTS!L30","v":-1E-3},{"$f":"RESULTS!M30","v":-1E-3}]
[]
["BLOCK 3","Name",null,"Name","Margin","Peels","Time","Day",null,"LU Name","Score","Peels"]
[null,{"$f":"IF(K69<0,\"\",IF(K69>K70,J69,J70))","v":""},"beat",{"$f":"IF(K69<0,\"\",IF(K69>K70,J70,J69))","v":""},{"$f":"IF(B69=\"\",\"\",IF(K69>K70,K69-K70,K70-K69))","v":""},{"$f":"IF(B69=\"\",\"\",IF(ISTEXT(L69),L69,IF(ISTEXT(L70),L70,\"\")))","v":""},{"$f":"GAMES!B41","v":"00:00:00"},{"$f":"GAMES!C41","v":"00:00:00"},null,{"$f":"RESULTS!C37","v":" Block 3 Player 1"},{"$f":"RESULTS!D37","v":-1E-3},{"$f":"RESULTS!E37","v":-1E-3}]
[null,{"$f":"IF(K71<0,\"\",IF(K71>K72,J71,J72))","v":""},"beat",{"$f":"IF(K71<0,\"\",IF(K71>K72,J72,J71))","v":""},{"$f":"IF(B70=\"\",\"\",IF(K71>K72,K71-K72,K72-K71))","v":""},{"$f":"IF(B70=\"\",\"\",IF(ISTEXT(L71),L71,IF(ISTEXT(L72),L72,\"\")))","v":""},{"$f":"GAMES!B42","v":"00:00:00"},{"$f":"GAMES!C42","v":"00:00:00"},null,{"$f":"RESULTS!C38","v":" Block 3 Player 4"},{"$f":"RESULTS!D38","v":-1E-3},{"$f":"RESULTS!E38","v":-1E-3}]
[null,{"$f":"IF(K73<0,\"\",IF(K73>K74,J73,J74))","v":""},"beat",{"$f":"IF(K73<0,\"\",IF(K73>K74,J74,J73))","v":""},{"$f":"IF(B71=\"\",\"\",IF(K73>K74,K73-K74,K74-K73))","v":""},{"$f":"IF(B71=\"\",\"\",IF(ISTEXT(L73),L73,IF(ISTEXT(L74),L74,\"\")))","v":""},{"$f":"GAMES!B43","v":"00:00:00"},{"$f":"GAMES!C43","v":"00:00:00"},null,{"$f":"RESULTS!C39","v":" Block 3 Player 5"},{"$f":"RESULTS!D39","v":-1E-3},{"$f":"RESULTS!E39","v":-1E-3}]
[null,{"$f":"IF(K75<0,\"\",IF(K75>K76,J75,J76))","v":""},"beat",{"$f":"IF(K75<0,\"\",IF(K75>K76,J76,J75))","v":""},{"$f":"IF(B72=\"\",\"\",IF(K75>K76,K75-K76,K76-K75))","v":""},{"$f":"IF(B72=\"\",\"\",IF(ISTEXT(L75),L75,IF(ISTEXT(L76),L76,\"\")))","v":""},{"$f":"GAMES!B44","v":"00:00:00"},{"$f":"GAMES!C44","v":"00:00:00"},null,{"$f":"RESULTS!C40","v":" Block 3 Player 3"},{"$f":"RESULTS!D40","v":-1E-3},{"$f":"RESULTS!E40","v":-1E-3}]
[null,{"$f":"IF(K77<0,\"\",IF(K77>K78,J77,J78))","v":""},"beat",{"$f":"IF(K77<0,\"\",IF(K77>K78,J78,J77))","v":""},{"$f":"IF(B73=\"\",\"\",IF(K77>K78,K77-K78,K78-K77))","v":""},{"$f":"IF(B73=\"\",\"\",IF(ISTEXT(L77),L77,IF(ISTEXT(L78),L78,\"\")))","v":""},{"$f":"GAMES!B45","v":"00:00:00"},{"$f":"GAMES!C45","v":"00:00:00"},null,{"$f":"RESULTS!C41","v":" Bye "},{"$f":"RESULTS!D41","v":-1E-3},{"$f":"RESULTS!E41","v":-1E-3}]
[null,{"$f":"IF(K79<0,\"\",IF(K79>K80,J79,J80))","v":""},"beat",{"$f":"IF(K79<0,\"\",IF(K79>K80,J80,J79))","v":""},{"$f":"IF(B74=\"\",\"\",IF(K79>K80,K79-K80,K80-K79))","v":""},{"$f":"IF(B74=\"\",\"\",IF(ISTEXT(L79),L79,IF(ISTEXT(L80),L80,\"\")))","v":""},{"$f":"GAMES!B46","v":"00:00:00"},{"$f":"GAMES!C46","v":"00:00:00"},null,{"$f":"RESULTS!C42","v":" Block 3 Player 2"},{"$f":"RESULTS!D42","v":-1E-3},{"$f":"RESULTS!E42","v":-1E-3}]
[null,{"$f":"IF(K81<0,\"\",IF(K81>K82,J81,J82))","v":""},"beat",{"$f":"IF(K81<0,\"\",IF(K81>K82,J82,J81))","v":""},{"$f":"IF(B75=\"\",\"\",IF(K81>K82,K81-K82,K82-K81))","v":""},{"$f":"IF(B75=\"\",\"\",IF(ISTEXT(L81),L81,IF(ISTEXT(L82),L82,\"\")))","v":""},{"$f":"GAMES!B47","v":"00:00:00"},{"$f":"GAMES!C47","v":"00:00:00"},null,{"$f":"RESULTS!C43","v":" Block 3 Player 3"},{"$f":"RESULTS!D43","v":-1E-3},{"$f":"RESULTS!E43","v":-1E-3}]
[null,{"$f":"IF(K83<0,\"\",IF(K83>K84,J83,J84))","v":""},"beat",{"$f":"IF(K83<0,\"\",IF(K83>K84,J84,J83))","v":""},{"$f":"IF(B76=\"\",\"\",IF(K83>K84,K83-K84,K84-K83))","v":""},{"$f":"IF(B76=\"\",\"\",IF(ISTEXT(L83),L83,IF(ISTEXT(L84),L84,\"\")))","v":""},{"$f":"GAMES!B48","v":"00:00:00"},{"$f":"GAMES!C48","v":"00:00:00"},null,{"$f":"RESULTS!C44","v":" Block 3 Player 1"},{"$f":"RESULTS!D44","v":-1E-3},{"$f":"RESULTS!E44","v":-1E-3}]
[null,{"$f":"IF(K85<0,\"\",IF(K85>K86,J85,J86))","v":""},"beat",{"$f":"IF(K85<0,\"\",IF(K85>K86,J86,J85))","v":""},{"$f":"IF(B77=\"\",\"\",IF(K85>K86,K85-K86,K86-K85))","v":""},{"$f":"IF(B77=\"\",\"\",IF(ISTEXT(L85),L85,IF(ISTEXT(L86),L86,\"\")))","v":""},{"$f":"GAMES!B49","v":"00:00:00"},{"$f":"GAMES!C49","v":"00:00:00"},null,{"$f":"RESULTS!C45","v":" Block 3 Player 4"},{"$f":"RESULTS!D45","v":-1E-3},{"$f":"RESULTS!E45","v":-1E-3}]
[null,{"$f":"IF(K87<0,\"\",IF(K87>K88,J87,J88))","v":""},"beat",{"$f":"IF(K87<0,\"\",IF(K87>K88,J88,J87))","v":""},{"$f":"IF(B78=\"\",\"\",IF(K87>K88,K87-K88,K88-K87))","v":""},{"$f":"IF(B78=\"\",\"\",IF(ISTEXT(L87),L87,IF(ISTEXT(L88),L88,\"\")))","v":""},{"$f":"GAMES!B50","v":"00:00:00"},{"$f":"GAMES!C50","v":"00:00:00"},null,{"$f":"RESULTS!C46","v":" Block 3 Player 2"},{"$f":"RESULTS!D46","v":-1E-3},{"$f":"RESULTS!E46","v":-1E-3}]
[null,{"$f":"IF(K89<0,\"\",IF(K89>K90,J89,J90))","v":""},"beat",{"$f":"IF(K89<0,\"\",IF(K89>K90,J90,J89))","v":""},{"$f":"IF(B79=\"\",\"\",IF(K89>K90,K89-K90,K90-K89))","v":""},{"$f":"IF(B79=\"\",\"\",IF(ISTEXT(L89),L89,IF(ISTEXT(L90),L90,\"\")))","v":""},{"$f":"GAMES!B51","v":"00:00:00"},{"$f":"GAMES!C51","v":"00:00:00"},null,{"$f":"RESULTS!G37","v":" Block 3 Player 5"},{"$f":"RESULTS!H37","v":-1E-3},{"$f":"RESULTS!I37","v":-1E-3}]
[null,{"$f":"IF(K91<0,\"\",IF(K91>K92,J91,J92))","v":""},"beat",{"$f":"IF(K91<0,\"\",IF(K91>K92,J92,J91))","v":""},{"$f":"IF(B80=\"\",\"\",IF(K91>K92,K91-K92,K92-K91))","v":""},{"$f":"IF(B80=\"\",\"\",IF(ISTEXT(L91),L91,IF(ISTEXT(L92),L92,\"\")))","v":""},{"$f":"GAMES!B52","v":"00:00:00"},{"$f":"GAMES!C52","v":"00:00:00"},null,{"$f":"RESULTS!G38","v":" Bye "},{"$f":"RESULTS!H38","v":-1E-3},{"$f":"RESULTS!I38","v":-1E-3}]
[null,{"$f":"IF(K93<0,\"\",IF(K93>K94,J93,J94))","v":""},"beat",{"$f":"IF(K93<0,\"\",IF(K93>K94,J94,J93))","v":""},{"$f":"IF(B81=\"\",\"\",IF(K93>K94,K93-K94,K94-K93))","v":""},{"$f":"IF(B81=\"\",\"\",IF(ISTEXT(L93),L93,IF(ISTEXT(L94),L94,\"\")))","v":""},{"$f":"GAMES!B53","v":"00:00:00"},{"$f":"GAMES!C53","v":"00:00:00"},null,{"$f":"RESULTS!G39","v":" Block 3 Player 1"},{"$f":"RESULTS!H39","v":-1E-3},{"$f":"RESULTS!I39","v":-1E-3}]
[null,{"$f":"IF(K95<0,\"\",IF(K95>K96,J95,J96))","v":""},"beat",{"$f":"IF(K95<0,\"\",IF(K95>K96,J96,J95))","v":""},{"$f":"IF(B82=\"\",\"\",IF(K95>K96,K95-K96,K96-K95))","v":""},{"$f":"IF(B82=\"\",\"\",IF(ISTEXT(L95),L95,IF(ISTEXT(L96),L96,\"\")))","v":""},{"$f":"GAMES!B54","v":"00:00:00"},{"$f":"GAMES!C54","v":"00:00:00"},null,{"$f":"RESULTS!G40","v":" Bye "},{"$f":"RESULTS!H40","v":-1E-3},{"$f":"RESULTS!I40","v":-1E-3}]
[null,{"$f":"IF(K97<0,\"\",IF(K97>K98,J97,J98))","v":""},"beat",{"$f":"IF(K97<0,\"\",IF(K97>K98,J98,J97))","v":""},{"$f":"IF(B83=\"\",\"\",IF(K97>K98,K97-K98,K98-K97))","v":""},{"$f":"IF(B83=\"\",\"\",IF(ISTEXT(L97),L97,IF(ISTEXT(L98),L98,\"\")))","v":""},{"$f":"GAMES!B55","v":"00:00:00"},{"$f":"GAMES!C55","v":"00:00:00"},null,{"$f":"RESULTS!G41","v":" Block 3 Player 2"},{"$f":"RESULTS!H41","v":-1E-3},{"$f":"RESULTS!I41","v":-1E-3}]
[null,null,null,null,null,null,null,null,null,{"$f":"RESULTS!G42","v":" Block 3 Player 5"},{"$f":"RESULTS!H42","v":-1E-3},{"$f":"RESULTS!I42","v":-1E-3}]
[null,null,null,null,null,null,null,null,null,{"$f":"RESULTS!G43","v":" Block 3 Player 3"},{"$f":"RESULTS!H43","v":-1E-3},{"$f":"RESULTS!I43","v":-1E-3}]
[null,null,null,null,null,null,null,null,null,{"$f":"RESULTS!G44","v":" Block 3 Player 4"},{"$f":"RESULTS!H44","v":-1E-3},{"$f":"RESULTS!I44","v":-1E-3}]
[null,null,null,null,null,null,null,null,null,{"$f":"RESULTS!G45","v":" Block 3 Player 5"},{"$f":"RESULTS!H45","v":-1E-3},{"$f":"RESULTS!I45","v":-1E-3}]
[null,null,null,null,null,null,null,null,null,{"$f":"RESULTS!G46","v":" Block 3 Player 1"},{"$f":"RESULTS!H46","v":-1E-3},{"$f":"RESULTS!I46","v":-1E-3}]
[null,null,null,null,null,null,null,null,null,{"$f":"RESULTS!K37","v":" Bye "},{"$f":"RESULTS!L37","v":-1E-3},{"$f":"RESULTS!M37","v":-1E-3}]
[null,null,null,null,null,null,null,null,null,{"$f":"RESULTS!K38","v":" Block 3 Player 4"},{"$f":"RESULTS!L38","v":-1E-3},{"$f":"RESULTS!M38","v":-1E-3}]
[null,null,null,null,null,null,null,null,null,{"$f":"RESULTS!K39","v":" Block 3 Player 2"},{"$f":"RESULTS!L39","v":-1E-3},{"$f":"RESULTS!M39","v":-1E-3}]
[null,null,null,null,null,null,null,null,null,{"$f":"RESULTS!K40","v":" Block 3 Player 3"},{"$f":"RESULTS!L40","v":-1E-3},{"$f":"RESULTS!M40","v":-1E-3}]
[null,null,null,null,null,null,null,null,null,{"$f":"RESULTS!K41","v":" Block 3 Player 3"},{"$f":"RESULTS!L41","v":-1E-3},{"$f":"RESULTS!M41","v":-1E-3}]
[null,null,null,null,null,null,null,null,null,{"$f":"RESULTS!K42","v":" Bye "},{"$f":"RESULTS!L42","v":-1E-3},{"$f":"RESULTS!M42","v":-1E-3}]
[null,null,null,null,null,null,null,null,null,{"$f":"RESULTS!K43","v":" Block 3 Player 4"},{"$f":"RESULTS!L43","v":-1E-3},{"$f":"RESULTS!M43","v":-1E-3}]
[null,null,null,null,null,null,null,null,null,{"$f":"RESULTS!K44","v":" Block 3 Player 5"},{"$f":"RESULTS!L44","v":-1E-3},{"$f":"RESULTS!M44","v":-1E-3}]
[null,null,null,null,null,null,null,null,null,{"$f":"RESULTS!K45","v":" Block 3 Player 1"},{"$f":"RESULTS!L45","v":-1E-3},{"$f":"RESULTS!M45","v":-1E-3}]
[null,null,null,null,null,null,null,null,null,{"$f":"RESULTS!K46","v":" Block 3 Player 2"},{"$f":"RESULTS!L46","v":-1E-3},{"$f":"RESULTS!M46","v":-1E-3}]
[]
["BLOCK 4","Name",null,"Name","Margin","Peels","Time","Day",null,"LU Name","Score","Peels"]
[null,{"$f":"IF(K101<0,\"\",IF(K101>K102,J101,J102))","v":""},"beat",{"$f":"IF(K101<0,\"\",IF(K101>K102,J102,J101))","v":""},{"$f":"IF(B101=\"\",\"\",IF(K101>K102,K101-K102,K102-K101))","v":""},{"$f":"IF(B101=\"\",\"\",IF(ISTEXT(L101),L101,IF(ISTEXT(L102),L102,\"\")))","v":""},{"$f":"GAMES!B59","v":"00:00:00"},{"$f":"GAMES!C59","v":"00:00:00"},null,{"$f":"RESULTS!C53","v":" Block 4 Player 1"},{"$f":"RESULTS!D53","v":-1E-3},{"$f":"RESULTS!E53","v":-1E-3}]
[null,{"$f":"IF(K103<0,\"\",IF(K103>K104,J103,J104))","v":""},"beat",{"$f":"IF(K103<0,\"\",IF(K103>K104,J104,J103))","v":""},{"$f":"IF(B102=\"\",\"\",IF(K103>K104,K103-K104,K104-K103))","v":""},{"$f":"IF(B102=\"\",\"\",IF(ISTEXT(L103),L103,IF(ISTEXT(L104),L104,\"\")))","v":""},{"$f":"GAMES!B60","v":"00:00:00"},{"$f":"GAMES!C60","v":"00:00:00"},null,{"$f":"RESULTS!C54","v":" Block 4 Player 4"},{"$f":"RESULTS!D54","v":-1E-3},{"$f":"RESULTS!E54","v":-1E-3}]
[null,{"$f":"IF(K105<0,\"\",IF(K105>K106,J105,J106))","v":""},"beat",{"$f":"IF(K105<0,\"\",IF(K105>K106,J106,J105))","v":""},{"$f":"IF(B103=\"\",\"\",IF(K105>K106,K105-K106,K106-K105))","v":""},{"$f":"IF(B103=\"\",\"\",IF(ISTEXT(L105),L105,IF(ISTEXT(L106),L106,\"\")))","v":""},{"$f":"GAMES!B61","v":"00:00:00"},{"$f":"GAMES!C61","v":"00:00:00"},null,{"$f":"RESULTS!C55","v":" Block 4 Player 5"},{"$f":"RESULTS!D55","v":-1E-3},{"$f":"RESULTS!E55","v":-1E-3}]
[null,{"$f":"IF(K107<0,\"\",IF(K107>K108,J107,J108))","v":""},"beat",{"$f":"IF(K107<0,\"\",IF(K107>K108,J108,J107))","v":""},{"$f":"IF(B104=\"\",\"\",IF(K107>K108,K107-K108,K108-K107))","v":""},{"$f":"IF(B104=\"\",\"\",IF(ISTEXT(L107),L107,IF(ISTEXT(L108),L108,\"\")))","v":""},{"$f":"GAMES!B62","v":"00:00:00"},{"$f":"GAMES!C62","v":"00:00:00"},null,{"$f":"RESULTS!C56","v":" Block 4 Player 3"},{"$f":"RESULTS!D56","v":-1E-3},{"$f":"RESULTS!E56","v":-1E-3}]
[null,{"$f":"IF(K109<0,\"\",IF(K109>K110,J109,J110))","v":""},"beat",{"$f":"IF(K109<0,\"\",IF(K109>K110,J110,J109))","v":""},{"$f":"IF(B105=\"\",\"\",IF(K109>K110,K109-K110,K110-K109))","v":""},{"$f":"IF(B105=\"\",\"\",IF(ISTEXT(L109),L109,IF(ISTEXT(L110),L110,\"\")))","v":""},{"$f":"GAMES!B63","v":"00:00:00"},{"$f":"GAMES!C63","v":"00:00:00"},null,{"$f":"RESULTS!C57","v":" Bye "},{"$f":"RESULTS!D57","v":-1E-3},{"$f":"RESULTS!E57","v":-1E-3}]
[null,{"$f":"IF(K111<0,\"\",IF(K111>K112,J111,J112))","v":""},"beat",{"$f":"IF(K111<0,\"\",IF(K111>K112,J112,J111))","v":""},{"$f":"IF(B106=\"\",\"\",IF(K111>K112,K111-K112,K112-K111))","v":""},{"$f":"IF(B106=\"\",\"\",IF(ISTEXT(L111),L111,IF(ISTEXT(L112),L112,\"\")))","v":""},{"$f":"GAMES!B64","v":"00:00:00"},{"$f":"GAMES!C64","v":"00:00:00"},null,{"$f":"RESULTS!C58","v":" Block 4 Player 2"},{"$f":"RESULTS!D58","v":-1E-3},{"$f":"RESULTS!E58","v":-1E-3}]
[null,{"$f":"IF(K113<0,\"\",IF(K113>K114,J113,J114))","v":""},"beat",{"$f":"IF(K113<0,\"\",IF(K113>K114,J114,J113))","v":""},{"$f":"IF(B107=\"\",\"\",IF(K113>K114,K113-K114,K114-K113))","v":""},{"$f":"IF(B107=\"\",\"\",IF(ISTEXT(L113),L113,IF(ISTEXT(L114),L114,\"\")))","v":""},{"$f":"GAMES!B65","v":"00:00:00"},{"$f":"GAMES!C65","v":"00:00:00"},null,{"$f":"RESULTS!C59","v":" Block 4 Player 3"},{"$f":"RESULTS!D59","v":-1E-3},{"$f":"RESULTS!E59","v":-1E-3}]
[null,{"$f":"IF(K115<0,\"\",IF(K115>K116,J115,J116))","v":""},"beat",{"$f":"IF(K115<0,\"\",IF(K115>K116,J116,J115))","v":""},{"$f":"IF(B108=\"\",\"\",IF(K115>K116,K115-K116,K116-K115))","v":""},{"$f":"IF(B108=\"\",\"\",IF(ISTEXT(L115),L115,IF(ISTEXT(L116),L116,\"\")))","v":""},{"$f":"GAMES!B66","v":"00:00:00"},{"$f":"GAMES!C66","v":"00:00:00"},null,{"$f":"RESULTS!C60","v":" Block 4 Player 1"},{"$f":"RESULTS!D60","v":-1E-3},{"$f":"RESULTS!E60","v":-1E-3}]
[null,{"$f":"IF(K117<0,\"\",IF(K117>K118,J117,J118))","v":""},"beat",{"$f":"IF(K117<0,\"\",IF(K117>K118,J118,J117))","v":""},{"$f":"IF(B109=\"\",\"\",IF(K117>K118,K117-K118,K118-K117))","v":""},{"$f":"IF(B109=\"\",\"\",IF(ISTEXT(L117),L117,IF(ISTEXT(L118),L118,\"\")))","v":""},{"$f":"GAMES!B67","v":"00:00:00"},{"$f":"GAMES!C67","v":"00:00:00"},null,{"$f":"RESULTS!C61","v":" Block 4 Player 4"},{"$f":"RESULTS!D61","v":-1E-3},{"$f":"RESULTS!E61","v":-1E-3}]
[null,{"$f":"IF(K119<0,\"\",IF(K119>K120,J119,J120))","v":""},"beat",{"$f":"IF(K119<0,\"\",IF(K119>K120,J120,J119))","v":""},{"$f":"IF(B110=\"\",\"\",IF(K119>K120,K119-K120,K120-K119))","v":""},{"$f":"IF(B110=\"\",\"\",IF(ISTEXT(L119),L119,IF(ISTEXT(L120),L120,\"\")))","v":""},{"$f":"GAMES!B68","v":"00:00:00"},{"$f":"GAMES!C68","v":"00:00:00"},null,{"$f":"RESULTS!C62","v":" Block 4 Player 2"},{"$f":"RESULTS!D62","v":-1E-3},{"$f":"RESULTS!E62","v":-1E-3}]
[null,{"$f":"IF(K121<0,\"\",IF(K121>K122,J121,J122))","v":""},"beat",{"$f":"IF(K121<0,\"\",IF(K121>K122,J122,J121))","v":""},{"$f":"IF(B111=\"\",\"\",IF(K121>K122,K121-K122,K122-K121))","v":""},{"$f":"IF(B111=\"\",\"\",IF(ISTEXT(L121),L121,IF(ISTEXT(L122),L122,\"\")))","v":""},{"$f":"GAMES!B69","v":"00:00:00"},{"$f":"GAMES!C69","v":"00:00:00"},null,{"$f":"RESULTS!G53","v":" Block 4 Player 5"},{"$f":"RESULTS!H53","v":-1E-3},{"$f":"RESULTS!I53","v":-1E-3}]
[null,{"$f":"IF(K123<0,\"\",IF(K123>K124,J123,J124))","v":""},"beat",{"$f":"IF(K123<0,\"\",IF(K123>K124,J124,J123))","v":""},{"$f":"IF(B112=\"\",\"\",IF(K123>K124,K123-K124,K124-K123))","v":""},{"$f":"IF(B112=\"\",\"\",IF(ISTEXT(L123),L123,IF(ISTEXT(L124),L124,\"\")))","v":""},{"$f":"GAMES!B70","v":"00:00:00"},{"$f":"GAMES!C70","v":"00:00:00"},null,{"$f":"RESULTS!G54","v":" Bye "},{"$f":"RESULTS!H54","v":-1E-3},{"$f":"RESULTS!I54","v":-1E-3}]
[null,{"$f":"IF(K125<0,\"\",IF(K125>K126,J125,J126))","v":""},"beat",{"$f":"IF(K125<0,\"\",IF(K125>K126,J126,J125))","v":""},{"$f":"IF(B113=\"\",\"\",IF(K125>K126,K125-K126,K126-K125))","v":""},{"$f":"IF(B113=\"\",\"\",IF(ISTEXT(L125),L125,IF(ISTEXT(L126),L126,\"\")))","v":""},{"$f":"GAMES!B71","v":"00:00:00"},{"$f":"GAMES!C71","v":"00:00:00"},null,{"$f":"RESULTS!G55","v":" Block 4 Player 1"},{"$f":"RESULTS!H55","v":-1E-3},{"$f":"RESULTS!I55","v":-1E-3}]
[null,{"$f":"IF(K127<0,\"\",IF(K127>K128,J127,J128))","v":""},"beat",{"$f":"IF(K127<0,\"\",IF(K127>K128,J128,J127))","v":""},{"$f":"IF(B114=\"\",\"\",IF(K127>K128,K127-K128,K128-K127))","v":""},{"$f":"IF(B114=\"\",\"\",IF(ISTEXT(L127),L127,IF(ISTEXT(L128),L128,\"\")))","v":""},{"$f":"GAMES!B72","v":"00:00:00"},{"$f":"GAMES!C72","v":"00:00:00"},null,{"$f":"RESULTS!G56","v":" Bye "},{"$f":"RESULTS!H56","v":-1E-3},{"$f":"RESULTS!I56","v":-1E-3}]
[null,{"$f":"IF(K129<0,\"\",IF(K129>K130,J129,J130))","v":""},"beat",{"$f":"IF(K129<0,\"\",IF(K129>K130,J130,J129))","v":""},{"$f":"IF(B115=\"\",\"\",IF(K129>K130,K129-K130,K130-K129))","v":""},{"$f":"IF(B115=\"\",\"\",IF(ISTEXT(L129),L129,IF(ISTEXT(L130),L130,\"\")))","v":""},{"$f":"GAMES!B73","v":"00:00:00"},{"$f":"GAMES!C73","v":"00:00:00"},null,{"$f":"RESULTS!G57","v":" Block 4 Player 2"},{"$f":"RESULTS!H57","v":-1E-3},{"$f":"RESULTS!I57","v":-1E-3}]
[null,null,null,null,null,null,null,null,null,{"$f":"RESULTS!G58","v":" Block 4 Player 5"},{"$f":"RESULTS!H58","v":-1E-3},{"$f":"RESULTS!I58","v":-1E-3}]
[null,null,null,null,null,null,null,null,null,{"$f":"RESULTS!G59","v":" Block 4 Player 3"},{"$f":"RESULTS!H59","v":-1E-3},{"$f":"RESULTS!I59","v":-1E-3}]
[null,null,null,null,null,null,null,null,null,{"$f":"RESULTS!G60","v":" Block 4 Player 4"},{"$f":"RESULTS!H60","v":-1E-3},{"$f":"RESULTS!I60","v":-1E-3}]
[null,null,null,null,null,null,null,null,null,{"$f":"RESULTS!G61","v":" Block 4 Player 5"},{"$f":"RESULTS!H61","v":-1E-3},{"$f":"RESULTS!I61","v":-1E-3}]
[null,null,null,null,null,null,null,null,null,{"$f":"RESULTS!G62","v":" Block 4 Player 1"},{"$f":"RESULTS!H62","v":-1E-3},{"$f":"RESULTS!I62","v":-1E-3}]
[null,null,null,null,null,null,null,null,null,{"$f":"RESULTS!K53","v":" Bye "},{"$f":"RESULTS!L53","v":-1E-3},{"$f":"RESULTS!M53","v":-1E-3}]
[null,null,null,null,null,null,null,null,null,{"$f":"RESULTS!K54","v":" Block 4 Player 4"},{"$f":"RESULTS!L54","v":-1E-3},{"$f":"RESULTS!M54","v":-1E-3}]
[null,null,null,null,null,null,null,null,null,{"$f":"RESULTS!K55","v":" Block 4 Player 2"},{"$f":"RESULTS!L55","v":-1E-3},{"$f":"RESULTS!M55","v":-1E-3}]
[null,null,null,null,null,null,null,null,null,{"$f":"RESULTS!K56","v":" Block 4 Player 3"},{"$f":"RESULTS!L56","v":-1E-3},{"$f":"RESULTS!M56","v":-1E-3}]
[null,null,null,null,null,null,null,null,null,{"$f":"RESULTS!K57","v":" Block 4 Player 3"},{"$f":"RESULTS!L57","v":-1E-3},{"$f":"RESULTS!M57","v":-1E-3}]
[null,null,null,null,null,null,null,null,null,{"$f":"RESULTS!K58","v":" Bye "},{"$f":"RESULTS!L58","v":-1E-3},{"$f":"RESULTS!M58","v":-1E-3}]
[null,null,null,null,null,null,null,null,null,{"$f":"RESULTS!K59","v":" Block 4 Player 4"},{"$f":"RESULTS!L59","v":-1E-3},{"$f":"RESULTS!M59","v":-1E-3}]
[null,null,null,null,null,null,null,null,null,{"$f":"RESULTS!K60","v":" Block 4 Player 5"},{"$f":"RESULTS!L60","v":-1E-3},{"$f":"RESULTS!M60","v":-1E-3}]
[null,null,null,null,null,null,null,null,null,{"$f":"RESULTS!K61","v":" Block 4 Player 1"},{"$f":"RESULTS!L61","v":-1E-3},{"$f":"RESULTS!M61","v":-1E-3}]
[null,null,null,null,null,null,null,null,null,{"$f":"RESULTS!K62","v":" Block 4 Player 2"},{"$f":"RESULTS!L62","v":-1E-3},{"$f":"RESULTS!M62","v":-1E-3}]
[]
["BLOCK 5","Name",null,"Name","Margin","Peels","Time","Day",null,"LU Name","Score","Peels"]
[null,{"$f":"IF(K133<0,\"\",IF(K133>K134,J133,J134))","v":{"$error":"#REF!"}},"beat",{"$f":"IF(K133<0,\"\",IF(K133>K134,J134,J133))","v":{"$error":"#REF!"}},{"$f":"IF(B133=\"\",\"\",IF(K133>K134,K133-K134,K134-K133))","v":{"$error":"#REF!"}},{"$f":"IF(B133=\"\",\"\",IF(ISTEXT(L133),L133,IF(ISTEXT(L134),L134,\"\")))","v":{"$error":"#REF!"}},{"$f":"GAMES!#REF!","v":{"$error":"#REF!"}},{"$f":"GAMES!#REF!","v":{"$error":"#REF!"}},null,{"$f":"RESULTS!#REF!","v":{"$error":"#REF!"}},{"$f":"RESULTS!#REF!","v":{"$error":"#REF!"}},{"$f":"RESULTS!#REF!","v":{"$error":"#REF!"}}]
[null,{"$f":"IF(K135<0,\"\",IF(K135>K136,J135,J136))","v":{"$error":"#REF!"}},"beat",{"$f":"IF(K135<0,\"\",IF(K135>K136,J136,J135))","v":{"$error":"#REF!"}},{"$f":"IF(B134=\"\",\"\",IF(K135>K136,K135-K136,K136-K135))","v":{"$error":"#REF!"}},{"$f":"IF(B134=\"\",\"\",IF(ISTEXT(L135),L135,IF(ISTEXT(L136),L136,\"\")))","v":{"$error":"#REF!"}},{"$f":"GAMES!#REF!","v":{"$error":"#REF!"}},{"$f":"GAMES!#REF!","v":{"$error":"#REF!"}},null,{"$f":"RESULTS!#REF!","v":{"$error":"#REF!"}},{"$f":"RESULTS!#REF!","v":{"$error":"#REF!"}},{"$f":"RESULTS!#REF!","v":{"$error":"#REF!"}}]
[null,{"$f":"IF(K137<0,\"\",IF(K137>K138,J137,J138))","v":{"$error":"#REF!"}},"beat",{"$f":"IF(K137<0,\"\",IF(K137>K138,J138,J137))","v":{"$error":"#REF!"}},{"$f":"IF(B135=\"\",\"\",IF(K137>K138,K137-K138,K138-K137))","v":{"$error":"#REF!"}},{"$f":"IF(B135=\"\",\"\",IF(ISTEXT(L137),L137,IF(ISTEXT(L138),L138,\"\")))","v":{"$error":"#REF!"}},{"$f":"GAMES!#REF!","v":{"$error":"#REF!"}},{"$f":"GAMES!#REF!","v":{"$error":"#REF!"}},null,{"$f":"RESULTS!#REF!","v":{"$error":"#REF!"}},{"$f":"RESULTS!#REF!","v":{"$error":"#REF!"}},{"$f":"RESULTS!#REF!","v":{"$error":"#REF!"}}]
[null,{"$f":"IF(K139<0,\"\",IF(K139>K140,J139,J140))","v":{"$error":"#REF!"}},"beat",{"$f":"IF(K139<0,\"\",IF(K139>K140,J140,J139))","v":{"$error":"#REF!"}},{"$f":"IF(B136=\"\",\"\",IF(K139>K140,K139-K140,K140-K139))","v":{"$error":"#REF!"}},{"$f":"IF(B136=\"\",\"\",IF(ISTEXT(L139),L139,IF(ISTEXT(L140),L140,\"\")))","v":{"$error":"#REF!"}},{"$f":"GAMES!#REF!","v":{"$error":"#REF!"}},{"$f":"GAMES!#REF!","v":{"$error":"#REF!"}},null,{"$f":"RESULTS!#REF!","v":{"$error":"#REF!"}},{"$f":"RESULTS!#REF!","v":{"$error":"#REF!"}},{"$f":"RESULTS!#REF!","v":{"$error":"#REF!"}}]
[null,{"$f":"IF(K141<0,\"\",IF(K141>K142,J141,J142))","v":{"$error":"#REF!"}},"beat",{"$f":"IF(K141<0,\"\",IF(K141>K142,J142,J141))","v":{"$error":"#REF!"}},{"$f":"IF(B137=\"\",\"\",IF(K141>K142,K141-K142,K142-K141))","v":{"$error":"#REF!"}},{"$f":"IF(B137=\"\",\"\",IF(ISTEXT(L141),L141,IF(ISTEXT(L142),L142,\"\")))","v":{"$error":"#REF!"}},{"$f":"GAMES!#REF!","v":{"$error":"#REF!"}},{"$f":"GAMES!#REF!","v":{"$error":"#REF!"}},null,{"$f":"RESULTS!#REF!","v":{"$error":"#REF!"}},{"$f":"RESULTS!#REF!","v":{"$error":"#REF!"}},{"$f":"RESULTS!#REF!","v":{"$error":"#REF!"}}]
[null,{"$f":"IF(K143<0,\"\",IF(K143>K144,J143,J144))","v":{"$error":"#REF!"}},"beat",{"$f":"IF(K143<0,\"\",IF(K143>K144,J144,J143))","v":{"$error":"#REF!"}},{"$f":"IF(B138=\"\",\"\",IF(K143>K144,K143-K144,K144-K143))","v":{"$error":"#REF!"}},{"$f":"IF(B138=\"\",\"\",IF(ISTEXT(L143),L143,IF(ISTEXT(L144),L144,\"\")))","v":{"$error":"#REF!"}},{"$f":"GAMES!#REF!","v":{"$error":"#REF!"}},{"$f":"GAMES!#REF!","v":{"$error":"#REF!"}},null,{"$f":"RESULTS!#REF!","v":{"$error":"#REF!"}},{"$f":"RESULTS!#REF!","v":{"$error":"#REF!"}},{"$f":"RESULTS!#REF!","v":{"$error":"#REF!"}}]
[null,{"$f":"IF(K145<0,\"\",IF(K145>K146,J145,J146))","v":{"$error":"#REF!"}},"beat",{"$f":"IF(K145<0,\"\",IF(K145>K146,J146,J145))","v":{"$error":"#REF!"}},{"$f":"IF(B139=\"\",\"\",IF(K145>K146,K145-K146,K146-K145))","v":{"$error":"#REF!"}},{"$f":"IF(B139=\"\",\"\",IF(ISTEXT(L145),L145,IF(ISTEXT(L146),L146,\"\")))","v":{"$error":"#REF!"}},{"$f":"GAMES!#REF!","v":{"$error":"#REF!"}},{"$f":"GAMES!#REF!","v":{"$error":"#REF!"}},null,{"$f":"RESULTS!#REF!","v":{"$error":"#REF!"}},{"$f":"RESULTS!#REF!","v":{"$error":"#REF!"}},{"$f":"RESULTS!#REF!","v":{"$error":"#REF!"}}]
[null,{"$f":"IF(K147<0,\"\",IF(K147>K148,J147,J148))","v":{"$error":"#REF!"}},"beat",{"$f":"IF(K147<0,\"\",IF(K147>K148,J148,J147))","v":{"$error":"#REF!"}},{"$f":"IF(B140=\"\",\"\",IF(K147>K148,K147-K148,K148-K147))","v":{"$error":"#REF!"}},{"$f":"IF(B140=\"\",\"\",IF(ISTEXT(L147),L147,IF(ISTEXT(L148),L148,\"\")))","v":{"$error":"#REF!"}},{"$f":"GAMES!#REF!","v":{"$error":"#REF!"}},{"$f":"GAMES!#REF!","v":{"$error":"#REF!"}},null,{"$f":"RESULTS!#REF!","v":{"$error":"#REF!"}},{"$f":"RESULTS!#REF!","v":{"$error":"#REF!"}},{"$f":"RESULTS!#REF!","v":{"$error":"#REF!"}}]
[null,{"$f":"IF(K149<0,\"\",IF(K149>K150,J149,J150))","v":{"$error":"#REF!"}},"beat",{"$f":"IF(K149<0,\"\",IF(K149>K150,J150,J149))","v":{"$error":"#REF!"}},{"$f":"IF(B141=\"\",\"\",IF(K149>K150,K149-K150,K150-K149))","v":{"$error":"#REF!"}},{"$f":"IF(B141=\"\",\"\",IF(ISTEXT(L149),L149,IF(ISTEXT(L150),L150,\"\")))","v":{"$error":"#REF!"}},{"$f":"GAMES!#REF!","v":{"$error":"#REF!"}},{"$f":"GAMES!#REF!","v":{"$error":"#REF!"}},null,{"$f":"RESULTS!#REF!","v":{"$error":"#REF!"}},{"$f":"RESULTS!#REF!","v":{"$error":"#REF!"}},{"$f":"RESULTS!#REF!","v":{"$error":"#REF!"}}]
[null,{"$f":"IF(K151<0,\"\",IF(K151>K152,J151,J152))","v":{"$error":"#REF!"}},"beat",{"$f":"IF(K151<0,\"\",IF(K151>K152,J152,J151))","v":{"$error":"#REF!"}},{"$f":"IF(B142=\"\",\"\",IF(K151>K152,K151-K152,K152-K151))","v":{"$error":"#REF!"}},{"$f":"IF(B142=\"\",\"\",IF(ISTEXT(L151),L151,IF(ISTEXT(L152),L152,\"\")))","v":{"$error":"#REF!"}},{"$f":"GAMES!#REF!","v":{"$error":"#REF!"}},{"$f":"GAMES!#REF!","v":{"$error":"#REF!"}},null,{"$f":"RESULTS!#REF!","v":{"$error":"#REF!"}},{"$f":"RESULTS!#REF!","v":{"$error":"#REF!"}},{"$f":"RESULTS!#REF!","v":{"$error":"#REF!"}}]
[null,{"$f":"IF(K153<0,\"\",IF(K153>K154,J153,J154))","v":{"$error":"#REF!"}},"beat",{"$f":"IF(K153<0,\"\",IF(K153>K154,J154,J153))","v":{"$error":"#REF!"}},{"$f":"IF(B143=\"\",\"\",IF(K153>K154,K153-K154,K154-K153))","v":{"$error":"#REF!"}},{"$f":"IF(B143=\"\",\"\",IF(ISTEXT(L153),L153,IF(ISTEXT(L154),L154,\"\")))","v":{"$error":"#REF!"}},{"$f":"GAMES!#REF!","v":{"$error":"#REF!"}},{"$f":"GAMES!#REF!","v":{"$error":"#REF!"}},null,{"$f":"RESULTS!#REF!","v":{"$error":"#REF!"}},{"$f":"RESULTS!#REF!","v":{"$error":"#REF!"}},{"$f":"RESULTS!#REF!","v":{"$error":"#REF!"}}]
[null,{"$f":"IF(K155<0,\"\",IF(K155>K156,J155,J156))","v":{"$error":"#REF!"}},"beat",{"$f":"IF(K155<0,\"\",IF(K155>K156,J156,J155))","v":{"$error":"#REF!"}},{"$f":"IF(B144=\"\",\"\",IF(K155>K156,K155-K156,K156-K155))","v":{"$error":"#REF!"}},{"$f":"IF(B144=\"\",\"\",IF(ISTEXT(L155),L155,IF(ISTEXT(L156),L156,\"\")))","v":{"$error":"#REF!"}},{"$f":"GAMES!#REF!","v":{"$error":"#REF!"}},{"$f":"GAMES!#REF!","v":{"$error":"#REF!"}},null,{"$f":"RESULTS!#REF!","v":{"$error":"#REF!"}},{"$f":"RESULTS!#REF!","v":{"$error":"#REF!"}},{"$f":"RESULTS!#REF!","v":{"$error":"#REF!"}}]
[null,{"$f":"IF(K157<0,\"\",IF(K157>K158,J157,J158))","v":{"$error":"#REF!"}},"beat",{"$f":"IF(K157<0,\"\",IF(K157>K158,J158,J157))","v":{"$error":"#REF!"}},{"$f":"IF(B145=\"\",\"\",IF(K157>K158,K157-K158,K158-K157))","v":{"$error":"#REF!"}},{"$f":"IF(B145=\"\",\"\",IF(ISTEXT(L157),L157,IF(ISTEXT(L158),L158,\"\")))","v":{"$error":"#REF!"}},{"$f":"GAMES!#REF!","v":{"$error":"#REF!"}},{"$f":"GAMES!#REF!","v":{"$error":"#REF!"}},null,{"$f":"RESULTS!#REF!","v":{"$error":"#REF!"}},{"$f":"RESULTS!#REF!","v":{"$error":"#REF!"}},{"$f":"RESULTS!#REF!","v":{"$error":"#REF!"}}]
[null,{"$f":"IF(K159<0,\"\",IF(K159>K160,J159,J160))","v":{"$error":"#REF!"}},"beat",{"$f":"IF(K159<0,\"\",IF(K159>K160,J160,J159))","v":{"$error":"#REF!"}},{"$f":"IF(B146=\"\",\"\",IF(K159>K160,K159-K160,K160-K159))","v":{"$error":"#REF!"}},{"$f":"IF(B146=\"\",\"\",IF(ISTEXT(L159),L159,IF(ISTEXT(L160),L160,\"\")))","v":{"$error":"#REF!"}},{"$f":"GAMES!#REF!","v":{"$error":"#REF!"}},{"$f":"GAMES!#REF!","v":{"$error":"#REF!"}},null,{"$f":"RESULTS!#REF!","v":{"$error":"#REF!"}},{"$f":"RESULTS!#REF!","v":{"$error":"#REF!"}},{"$f":"RESULTS!#REF!","v":{"$error":"#REF!"}}]
[null,{"$f":"IF(K161<0,\"\",IF(K161>K162,J161,J162))","v":{"$error":"#REF!"}},"beat",{"$f":"IF(K161<0,\"\",IF(K161>K162,J162,J161))","v":{"$error":"#REF!"}},{"$f":"IF(B147=\"\",\"\",IF(K161>K162,K161-K162,K162-K161))","v":{"$error":"#REF!"}},{"$f":"IF(B147=\"\",\"\",IF(ISTEXT(L161),L161,IF(ISTEXT(L162),L162,\"\")))","v":{"$error":"#REF!"}},{"$f":"GAMES!#REF!","v":{"$error":"#REF!"}},{"$f":"GAMES!#REF!","v":{"$error":"#REF!"}},null,{"$f":"RESULTS!#REF!","v":{"$error":"#REF!"}},{"$f":"RESULTS!#REF!","v":{"$error":"#REF!"}},{"$f":"RESULTS!#REF!","v":{"$error":"#REF!"}}]
[null,null,null,null,null,null,null,null,null,{"$f":"RESULTS!#REF!","v":{"$error":"#REF!"}},{"$f":"RESULTS!#REF!","v":{"$error":"#REF!"}},{"$f":"RESULTS!#REF!","v":{"$error":"#REF!"}}]
[null,null,null,null,null,null,null,null,null,{"$f":"RESULTS!#REF!","v":{"$error":"#REF!"}},{"$f":"RESULTS!#REF!","v":{"$error":"#REF!"}},{"$f":"RESULTS!#REF!","v":{"$error":"#REF!"}}]
[null,null,null,null,null,null,null,null,null,{"$f":"RESULTS!#REF!","v":{"$error":"#REF!"}},{"$f":"RESULTS!#REF!","v":{"$error":"#REF!"}},{"$f":"RESULTS!#REF!","v":{"$error":"#REF!"}}]
[null,null,null,null,null,null,null,null,null,{"$f":"RESULTS!#REF!","v":{"$error":"#REF!"}},{"$f":"RESULTS!#REF!","v":{"$error":"#REF!"}},{"$f":"RESULTS!#REF!","v":{"$error":"#REF!"}}]
[null,null,null,null,null,null,null,null,null,{"$f":"RESULTS!#REF!","v":{"$error":"#REF!"}},{"$f":"RESULTS!#REF!","v":{"$error":"#REF!"}},{"$f":"RESULTS!#REF!","v":{"$error":"#REF!"}}]
[null,null,null,null,null,null,null,null,null,{"$f":"RESULTS!#REF!","v":{"$error":"#REF!"}},{"$f":"RESULTS!#REF!","v":{"$error":"#REF!"}},{"$f":"RESULTS!#REF!","v":{"$error":"#REF!"}}]
[null,null,null,null,null,null,null,null,null,{"$f":"RESULTS!#REF!","v":{"$error":"#REF!"}},{"$f":"RESULTS!#REF!","v":{"$error":"#REF!"}},{"$f":"RESULTS!#REF!","v":{"$error":"#REF!"}}]
[null,null,null,null,null,null,null,null,null,{"$f":"RESULTS!#REF!","v":{"$error":"#REF!"}},{"$f":"RESULTS!#REF!","v":{"$error":"#REF!"}},{"$f":"RESULTS!#REF!","v":{"$error":"#REF!"}}]
[null,null,null,null,null,null,null,null,null,{"$f":"RESULTS!#REF!","v":{"$error":"#REF!"}},{"$f":"RESULTS!#REF!","v":{"$error":"#REF!"}},{"$f":"RESULTS!#REF!","v":{"$error":"#REF!"}}]
[null,null,null,null,null,null,null,null,null,{"$f":"RESULTS!#REF!","v":{"$error":"#REF!"}},{"$f":"RESULTS!#REF!","v":{"$error":"#REF!"}},{"$f":"RESULTS!#REF!","v":{"$error":"#REF!"}}]
[null,null,null,null,null,null,null,null,null,{"$f":"RESULTS!#REF!","v":{"$error":"#REF!"}},{"$f":"RESULTS!#REF!","v":{"$error":"#REF!"}},{"$f":"RESULTS!#REF!","v":{"$error":"#REF!"}}]
[null,null,null,null,null,null,null,null,null,{"$f":"RESULTS!#REF!","v":{"$error":"#REF!"}},{"$f":"RESULTS!#REF!","v":{"$error":"#REF!"}},{"$f":"RESULTS!#REF!","v":{"$error":"#REF!"}}]
[null,null,null,null,null,null,null,null,null,{"$f":"RESULTS!#REF!","v":{"$error":"#REF!"}},{"$f":"RESULTS!#REF!","v":{"$error":"#REF!"}},{"$f":"RESULTS!#REF!","v":{"$error":"#REF!"}}]
[null,null,null,null,null,null,null,null,null,{"$f":"RESULTS!#REF!","v":{"$error":"#REF!"}},{"$f":"RESULTS!#REF!","v":{"$error":"#REF!"}},{"$f":"RESULTS!#REF!","v":{"$error":"#REF!"}}]
[null,null,null,null,null,null,null,null,null,{"$f":"RESULTS!#REF!","v":{"$error":"#REF!"}},{"$f":"RESULTS!#REF!","v":{"$error":"#REF!"}},{"$f":"RESULTS!#REF!","v":{"$error":"#REF!"}}]
[]
[]
[]
[]
[null,{"$f":"NAMES!$C$7","v":"Tournament"}]
[null,{"$f":"NAMES!$C$9","v":"Date"}]
[null,{"$f":"NAMES!$C$8","v":"Singles"},null,{"$f":"NAMES!$C$10","v":"BLOCK 1"}]
[null,"Name",null,"Name","H/Cap","Peels","Time","Day"]
[1,"","beat","","","","08:00:00","2014-01-15"]
[2,"","beat","","","","08:00:00","2014-01-15"]
[3,"","beat","","","","08:00:00","2014-01-15"]
[4,"","beat","","","","09:00:00","2014-01-15"]
[5,"","beat","","","","09:00:00","2014-01-15"]
[6,"","beat","","","","09:00:00","2014-01-15"]
[7,"","beat","","","","10:00:00","2014-01-15"]
[8,"","beat","","","","10:00:00","2014-01-15"]
[9,"","beat","","","","10:00:00","2014-01-15"]
[10,"","beat","","","","11:00:00","2014-01-15"]
[11,"","beat","","","","11:00:00","2014-01-15"]
[12,"","beat","","","","11:00:00","2014-01-15"]
[13,"","beat","","","","12:00:00","2014-01-15"]
[14,"","beat","","","","12:00:00","2014-01-15"]
[15,"","beat","","","","12:00:00","2014-01-15"]
[]
[]
[null,{"$f":"NAMES!$C$7","v":"Tournament"}]
[null,{"$f":"NAMES!$C$9","v":"Date"}]
[null,{"$f":"NAMES!$C$8","v":"Singles"},null,{"$f":"NAMES!$C$41","v":"BLOCK 2"}]
[null,"Name",null,"Name","H/Cap","Peels","Time","Day"]
[1,"","beat","","","","08:00:00","2014-01-15"]
[2,"","beat","","","","08:00:00","2014-01-15"]
[3,"","beat","","","","08:00:00","2014-01-15"]
[4,"","beat","","","","09:00:00","2014-01-15"]
[5,"","beat","","","","09:00:00","2014-01-15"]
[6,"","beat","","","","09:00:00","2014-01-15"]
[7,"","beat","","","","10:00:00","2014-01-15"]
[8,"","beat","","","","10:00:00","2014-01-15"]
[9,"","beat","","","","10:00:00","2014-01-15"]
[10,"","beat","","","","11:00:00","2014-01-15"]
[11,"","beat","","","","11:00:00","2014-01-15"]
[12,"","beat","","","","11:00:00","2014-01-15"]
[13,"","beat","","","","12:00:00","2014-01-15"]
[14,"","beat","","","","12:00:00","2014-01-15"]
[15,"","beat","","","","12:00:00","2014-01-15"]
[]
[]
[null,{"$f":"NAMES!$C$7","v":"Tournament"}]
[null,{"$f":"NAMES!$C$9","v":"Date"}]
[null,{"$f":"NAMES!$C$8","v":"Singles"},null,{"$f":"NAMES!$C$72","v":"BLOCK 3"}]
[null,"Name",null,"Name","H/Cap","Peels","Time","Day"]
[1,"","beat","","","","08:00:00","2014-01-15"]
[2,"","beat","","","","08:00:00","2014-01-15"]
[3,"","beat","","","","08:00:00","2014-01-15"]
[4,"","beat","","","","09:00:00","2014-01-15"]
[5,"","beat","","","","09:00:00","2014-01-15"]
[6,"","beat","","","","09:00:00","2014-01-15"]
[7,"","beat","","","","10:00:00","2014-01-15"]
[8,"","beat","","","","10:00:00","2014-01-15"]
[9,"","beat","","","","10:00:00","2014-01-15"]
[10,"","beat","","","","11:00:00","2014-01-15"]
[11,"","beat","","","","11:00:00","2014-01-15"]
[12,"","beat","","","","11:00:00","2014-01-15"]
[13,"","beat","","","","12:00:00","2014-01-15"]
[14,"","beat","","","","12:00:00","2014-01-15"]
[15,"","beat","","","","12:00:00","2014-01-15"]
[]
[]
[null,{"$f":"NAMES!$C$7","v":"Tournament"}]
[null,{"$f":"NAMES!$C$9","v":"Date"}]
[null,{"$f":"NAMES!$C$8","v":"Singles"},null,{"$f":"NAMES!$C$103","v":"BLOCK 4"}]
[null,"Name",null,"Name","H/Cap","Peels","Time","Day"]
[1,"","beat","","","","08:00:00","2014-01-15"]
[2,"","beat","","","","08:00:00","2014-01-15"]
[3,"","beat","","","","08:00:00","2014-01-15"]
[4,"","beat","","","","09:00:00","2014-01-15"]
[5,"","beat","","","","09:00:00","2014-01-15"]
[6,"","beat","","","","09:00:00","2014-01-15"]
[7,"","beat","","","","10:00:00","2014-01-15"]
[8,"","beat","","","","10:00:00","2014-01-15"]
[9,"","beat","","","","10:00:00","2014-01-15"]
[10,"","beat","","","","11:00:00","2014-01-15"]
[11,"","beat","","","","11:00:00","2014-01-15"]
[12,"","beat","","","","11:00:00","2014-01-15"]
[13,"","beat","","","","12:00:00","2014-01-15"]
[14,"","beat","","","","12:00:00","2014-01-15"]
[15,"","beat","","","","12:00:00","2014-01-15"]

{"sheet":"HANDICAP CARD","index":12,"n_rows":192,"n_cols":21,"rows_kept":192,"cut":false,"hidden":false,"merged":[[86,18,87,18],[161,12,162,12],[169,12,170,12],[177,12,178,12],[89,12,90,12],[97,12,98,12],[105,12,106,12],[113,12,114,12],[121,12,122,12],[185,12,186,12],[129,12,130,12],[137,12,138,12],[145,12,146,12],[153,12,154,12],[1,13,1,14],[49,13,49,14],[145,13,145,14],[1,12,2,12],[9,12,10,12],[17,12,18,12],[25,12,26,12],[33,12,34,12],[41,12,42,12],[49,12,50,12],[97,13,97,14],[57,12,58,12],[65,12,66,12],[73,12,74,12],[81,12,82,12],[0,1,0,11],[97,1,97,2],[105,1,105,2],[113,1,113,2],[121,1,121,2],[106,6,106,7],[98,6,98,7],[90,6,90,7],[82,6,82,7],[74,6,74,7],[96,1,96,11],[34,6,34,7],[26,6,26,7],[18,6,18,7],[10,6,10,7],[66,6,66,7],[129,1,129,2],[137,1,137,2],[2,6,2,7],[81,1,81,2],[89,1,89,2],[122,6,122,7],[114,6,114,7],[58,6,58,7],[42,6,42,7],[48,1,48,11],[65,1,65,2],[49,1,49,2],[57,1,57,2],[185,1,185,2],[161,1,161,2],[130,6,130,7],[138,6,138,7],[144,1,144,11],[145,1,145,2],[153,1,153,2],[186,6,186,7],[178,6,178,7],[1,1,1,2],[9,1,9,2],[33,1,33,2],[41,1,41,2],[17,1,17,2],[25,1,25,2],[170,6,170,7],[162,6,162,7],[154,6,154,7],[146,6,146,7],[73,1,73,2],[50,6,50,7],[169,1,169,2],[177,1,177,2]]}
[null,{"$f":"SEED!$D$6","v":"BLOCK 1"}]
[null,"PLAYER",null,{"$f":"SEED!$D$8","v":" Block 1 Player 1"},null,null,"Start H/C",{"$f":"SEED!$E$8","v":0},"New H/C",{"$f":"VLOOKUP(D2,HCTableBlk1,2,FALSE)","v":0},"Start Index",{"$f":"SEED!$C$8","v":0},"HC Change Indicator","Block 1"]
[null,"Date","Event","Opponent","Op Hcap","Lev / Hcap","Score",null,"Won / Lost","Change +/-",null,"New Index",null,"Player","H/C","Temp H/C",null,null,null,"HC Change Flags"]
[null,{"$f":"NAMES!$C$9","v":"Date"},{"$f":"NAMES!$C$7","v":"Tournament"},{"$f":"PLAYER!G8","v":" Block 1 Player 4"},{"$f":"IF(UPPER(TRIM($D$4))=\"BYE\",\"-\",VLOOKUP($D$4,HCTableBlk1,2,FALSE))","v":0},{"$f":"IF(HandicapPlay=\"x\",\"H\",\"L\")","v":"L"},{"$f":"IF(UPPER(TRIM(D4))=\"BYE\",\"0\",PLAYER!I8)","v":-1E-3},{"$f":"IF(UPPER(TRIM(D4))=\"BYE\",\"0\",PLAYER!J8)","v":-1E-3},{"$f":"IF(UPPER(TRIM(D4))=\"BYE\",\"-\",IF(G4<0,\"\",(IF(G4>H4,\"W\",\"L\"))))","v":""},null,null,{"$f":"IF(J4=\"\",\"\",IF((L2+J4)<900,900,(L2+J4)))","v":""},null,{"$f":"SEED!D8","v":" Block 1 Player 1"},{"$f":"SEED!E8","v":0},null,null,{"$f":"IF(UPPER(TRIM($D$4))=\"BYE\",\"-\",VLOOKUP($D$4,HCTableBlk1,2,FALSE))","v":0},null,0,1]
[null,"\"","\"           \"",{"$f":"PLAYER!G9","v":" Block 1 Player 3"},{"$f":"IF(UPPER(TRIM($D$5))=\"BYE\",\"-\",VLOOKUP($D$5,HCTableBlk1,2,FALSE))","v":0},{"$f":"IF(HandicapPlay=\"x\",\"H\",\"L\")","v":"L"},{"$f":"IF(UPPER(TRIM(D5))=\"BYE\",\"0\",PLAYER!I9)","v":-1E-3},{"$f":"IF(UPPER(TRIM(D5))=\"BYE\",\"0\",PLAYER!J9)","v":-1E-3},{"$f":"IF(UPPER(TRIM(D5))=\"BYE\",\"-\",IF(G5<0,\"\",(IF(G5>H5,\"W\",\"L\"))))","v":""},null,null,{"$f":"IF(OR(J5=\"\",L4=\"\"),\"\",IF((L4+J5)<900,900,(L4+J5)))","v":""},null,{"$f":"SEED!D9","v":" Block 1 Player 2"},{"$f":"SEED!E9","v":0},null,null,{"$f":"IF(UPPER(TRIM($D$5))=\"BYE\",\"-\",VLOOKUP($D$5,HCTableBlk1,2,FALSE))","v":0},null,0,2]
[null,"\"","\"           \"",{"$f":"PLAYER!G10","v":" Bye "},{"$f":"IF(UPPER(TRIM($D$6))=\"BYE\",\"-\",VLOOKUP($D$6,HCTableBlk1,2,FALSE))","v":"-"},{"$f":"IF(HandicapPlay=\"x\",\"H\",\"L\")","v":"L"},{"$f":"IF(UPPER(TRIM(D6))=\"BYE\",\"0\",PLAYER!I10)","v":"0"},{"$f":"IF(UPPER(TRIM(D6))=\"BYE\",\"0\",PLAYER!J10)","v":"0"},{"$f":"IF(UPPER(TRIM(D6))=\"BYE\",\"-\",IF(G6<0,\"\",(IF(G6>H6,\"W\",\"L\"))))","v":"-"},null,null,{"$f":"IF(OR(J6=\"\",L5=\"\"),\"\",IF((L5+J6)<900,900,(L5+J6)))","v":""},null,{"$f":"SEED!D10","v":" Block 1 Player 3"},{"$f":"SEED!E10","v":0},null,null,{"$f":"IF(UPPER(TRIM($D$6))=\"BYE\",\"-\",VLOOKUP($D$6,HCTableBlk1,2,FALSE))","v":"-"},null,0,3]
[null,"\"","\"           \"",{"$f":"PLAYER!G11","v":" Block 1 Player 5"},{"$f":"IF(UPPER(TRIM($D$7))=\"BYE\",\"-\",VLOOKUP($D$7,HCTableBlk1,2,FALSE))","v":0},{"$f":"IF(HandicapPlay=\"x\",\"H\",\"L\")","v":"L"},{"$f":"IF(UPPER(TRIM(D7))=\"BYE\",\"0\",PLAYER!I11)","v":-1E-3},{"$f":"IF(UPPER(TRIM(D7))=\"BYE\",\"0\",PLAYER!J11)","v":-1E-3},{"$f":"IF(UPPER(TRIM(D7))=\"BYE\",\"-\",IF(G7<0,\"\",(IF(G7>H7,\"W\",\"L\"))))","v":""},null,null,{"$f":"IF(OR(J7=\"\",L6=\"\"),\"\",IF((L6+J7)<900,900,(L6+J7)))","v":""},null,{"$f":"SEED!D11","v":" Block 1 Player 4"},{"$f":"SEED!E11","v":0},null,null,{"$f":"IF(UPPER(TRIM($D$7))=\"BYE\",\"-\",VLOOKUP($D$7,HCTableBlk1,2,FALSE))","v":0},null,0,4]
[null,"\"","\"           \"",{"$f":"PLAYER!G12","v":" Block 1 Player 2"},{"$f":"IF(UPPER(TRIM($D$8))=\"BYE\",\"-\",VLOOKUP($D$8,HCTableBlk1,2,FALSE))","v":0},{"$f":"IF(HandicapPlay=\"x\",\"H\",\"L\")","v":"L"},{"$f":"IF(UPPER(TRIM(D8))=\"BYE\",\"0\",PLAYER!I12)","v":-1E-3},{"$f":"IF(UPPER(TRIM(D8))=\"BYE\",\"0\",PLAYER!J12)","v":-1E-3},{"$f":"IF(UPPER(TRIM(D8))=\"BYE\",\"-\",IF(G8<0,\"\",(IF(G8>H8,\"W\",\"L\"))))","v":""},null,"Finish >",{"$f":"IF(OR(J8=\"\",L7=\"\"),\"\",IF((L7+J8)<900,900,(L7+J8)))","v":""},null,{"$f":"SEED!D12","v":" Block 1 Player 5"},{"$f":"SEED!E12","v":0},null,null,{"$f":"IF(UPPER(TRIM($D$8))=\"BYE\",\"-\",VLOOKUP($D$8,HCTableBlk1,2,FALSE))","v":0},null,0,5]
[null,null,null,null,null,null,null,null,null,null,null,null,null,{"$f":"SEED!D13","v":" Bye "},{"$f":"SEED!E13","v":0},null,null,null,null,0,"(6)"]
[null,"PLAYER",null,{"$f":"SEED!$D$9","v":" Block 1 Player 2"},null,null,"Start H/C",{"$f":"SEED!$E$9","v":0},"New H/C",{"$f":"VLOOKUP(D10,HCTableBlk1,2,FALSE)","v":0},"Start Index",{"$f":"SEED!$C$9","v":0},"HC Change Indicator"]
[null,"Date","Event","Opponent","Oppt Hcap","Lev / Hcap","Score",null,"Won / Lost","Change +/-",null,"New Index"]
[null,{"$f":"NAMES!$C$9","v":"Date"},{"$f":"NAMES!$C$7","v":"Tournament"},{"$f":"PLAYER!G58","v":" Bye "},{"$f":"IF(UPPER(TRIM($D$12))=\"BYE\",\"-\",VLOOKUP($D$12,HCTableBlk1,2,FALSE))","v":"-"},{"$f":"IF(HandicapPlay=\"x\",\"H\",\"L\")","v":"L"},{"$f":"IF(UPPER(TRIM(D12))=\"BYE\",\"0\",PLAYER!I58)","v":"0"},{"$f":"IF(UPPER(TRIM(D12))=\"BYE\",\"0\",PLAYER!J58)","v":"0"},{"$f":"IF(UPPER(TRIM(D12))=\"BYE\",\"-\",IF(G12<0,\"\",(IF(G12>H12,\"W\",\"L\"))))","v":"-"},null,null,{"$f":"IF(J12=\"\",\"\",IF((L10+J12)<900,900,(L10+J12)))","v":""},null,null,null,null,null,{"$f":"IF(UPPER(TRIM($D$12))=\"BYE\",\"-\",VLOOKUP($D$12,HCTableBlk1,2,FALSE))","v":"-"}]
[null,"\"","\"           \"",{"$f":"PLAYER!G59","v":" Block 1 Player 4"},{"$f":"IF(UPPER(TRIM($D$13))=\"BYE\",\"-\",VLOOKUP($D$13,HCTableBlk1,2,FALSE))","v":0},{"$f":"IF(HandicapPlay=\"x\",\"H\",\"L\")","v":"L"},{"$f":"IF(UPPER(TRIM(D13))=\"BYE\",\"0\",PLAYER!I59)","v":-1E-3},{"$f":"IF(UPPER(TRIM(D13))=\"BYE\",\"0\",PLAYER!J59)","v":-1E-3},{"$f":"IF(UPPER(TRIM(D13))=\"BYE\",\"-\",IF(G13<0,\"\",(IF(G13>H13,\"W\",\"L\"))))","v":""},null,null,{"$f":"IF(OR(J13=\"\",L12=\"\"),\"\",IF((L12+J13)<900,900,(L12+J13)))","v":""},null,null,null,null,null,{"$f":"IF(UPPER(TRIM($D$13))=\"BYE\",\"-\",VLOOKUP($D$13,HCTableBlk1,2,FALSE))","v":0}]
[null,"\"","\"           \"",{"$f":"PLAYER!G60","v":" Block 1 Player 5"},{"$f":"IF(UPPER(TRIM($D$14))=\"BYE\",\"-\",VLOOKUP($D$14,HCTableBlk1,2,FALSE))","v":0},{"$f":"IF(HandicapPlay=\"x\",\"H\",\"L\")","v":"L"},{"$f":"IF(UPPER(TRIM(D14))=\"BYE\",\"0\",PLAYER!I60)","v":-1E-3},{"$f":"IF(UPPER(TRIM(D14))=\"BYE\",\"0\",PLAYER!J60)","v":-1E-3},{"$f":"IF(UPPER(TRIM(D14))=\"BYE\",\"-\",IF(G14<0,\"\",(IF(G14>H14,\"W\",\"L\"))))","v":""},null,null,{"$f":"IF(OR(J14=\"\",L13=\"\"),\"\",IF((L13+J14)<900,900,(L13+J14)))","v":""},null,null,null,null,null,{"$f":"IF(UPPER(TRIM($D$14))=\"BYE\",\"-\",VLOOKUP($D$14,HCTableBlk1,2,FALSE))","v":0}]
[null,"\"","\"           \"",{"$f":"PLAYER!G61","v":" Block 1 Player 3"},{"$f":"IF(UPPER(TRIM($D$15))=\"BYE\",\"-\",VLOOKUP($D$15,HCTableBlk1,2,FALSE))","v":0},{"$f":"IF(HandicapPlay=\"x\",\"H\",\"L\")","v":"L"},{"$f":"IF(UPPER(TRIM(D15))=\"BYE\",\"0\",PLAYER!I61)","v":-1E-3},{"$f":"IF(UPPER(TRIM(D15))=\"BYE\",\"0\",PLAYER!J61)","v":-1E-3},{"$f":"IF(UPPER(TRIM(D15))=\"BYE\",\"-\",IF(G15<0,\"\",(IF(G15>H15,\"W\",\"L\"))))","v":""},null,null,{"$f":"IF(OR(J15=\"\",L14=\"\"),\"\",IF((L14+J15)<900,900,(L14+J15)))","v":""},null,null,null,null,null,{"$f":"IF(UPPER(TRIM($D$15))=\"BYE\",\"-\",VLOOKUP($D$15,HCTableBlk1,2,FALSE))","v":0}]
[null,"\"","\"           \"",{"$f":"PLAYER!G62","v":" Block 1 Player 1"},{"$f":"IF(UPPER(TRIM($D$16))=\"BYE\",\"-\",VLOOKUP($D$16,HCTableBlk1,2,FALSE))","v":0},{"$f":"IF(HandicapPlay=\"x\",\"H\",\"L\")","v":"L"},{"$f":"IF(UPPER(TRIM(D16))=\"BYE\",\"0\",PLAYER!I62)","v":-1E-3},{"$f":"IF(UPPER(TRIM(D16))=\"BYE\",\"0\",PLAYER!J62)","v":-1E-3},{"$f":"IF(UPPER(TRIM(D16))=\"BYE\",\"-\",IF(G16<0,\"\",(IF(G16>H16,\"W\",\"L\"))))","v":""},null,"Finish >",{"$f":"IF(OR(J16=\"\",L15=\"\"),\"\",IF((L15+J16)<900,900,(L15+J16)))","v":""},null,null,null,null,null,{"$f":"IF(UPPER(TRIM($D$16))=\"BYE\",\"-\",VLOOKUP($D$16,HCTableBlk1,2,FALSE))","v":0}]
[null,null,null,null,null,null,null,null,null,null,null,{"$f":"IF(J17=\"\",\"\",IF((L16+J17)<900,900,(L16+J17)))","v":""}]
[null,"PLAYER",null,{"$f":"SEED!$D$10","v":" Block 1 Player 3"},null,null,"Start H/C",{"$f":"SEED!$E$10","v":0},"New H/C",{"$f":"VLOOKUP(D18,HCTableBlk1,2,FALSE)","v":0},"Start Index",{"$f":"SEED!$C$10","v":0},"HC Change Indicator"]
[null,"Date","Event","Opponent","Oppt Hcap","Lev / Hcap","Score",null,"Won / Lost","Change +/-",null,"New Index"]
[null,{"$f":"NAMES!$C$9","v":"Date"},{"$f":"NAMES!$C$7","v":"Tournament"},{"$f":"PLAYER!G108","v":" Block 1 Player 5"},{"$f":"IF(UPPER(TRIM($D$20))=\"BYE\",\"-\",VLOOKUP($D$20,HCTableBlk1,2,FALSE))","v":0},{"$f":"IF(HandicapPlay=\"x\",\"H\",\"L\")","v":"L"},{"$f":"IF(UPPER(TRIM(D20))=\"BYE\",\"0\",PLAYER!I108)","v":-1E-3},{"$f":"IF(UPPER(TRIM(D20))=\"BYE\",\"0\",PLAYER!J108)","v":-1E-3},{"$f":"IF(UPPER(TRIM(D20))=\"BYE\",\"-\",IF(G20<0,\"\",(IF(G20>H20,\"W\",\"L\"))))","v":""},null,null,{"$f":"IF(J20=\"\",\"\",IF((L18+J20)<900,900,(L18+J20)))","v":""},null,null,null,null,null,{"$f":"IF(UPPER(TRIM($D$20))=\"BYE\",\"-\",VLOOKUP($D$20,HCTableBlk1,2,FALSE))","v":0}]
[null,"\"","\"           \"",{"$f":"PLAYER!G109","v":" Block 1 Player 1"},{"$f":"IF(UPPER(TRIM($D$21))=\"BYE\",\"-\",VLOOKUP($D$21,HCTableBlk1,2,FALSE))","v":0},{"$f":"IF(HandicapPlay=\"x\",\"H\",\"L\")","v":"L"},{"$f":"IF(UPPER(TRIM(D21))=\"BYE\",\"0\",PLAYER!I109)","v":-1E-3},{"$f":"IF(UPPER(TRIM(D21))=\"BYE\",\"0\",PLAYER!J109)","v":-1E-3},{"$f":"IF(UPPER(TRIM(D21))=\"BYE\",\"-\",IF(G21<0,\"\",(IF(G21>H21,\"W\",\"L\"))))","v":""},null,null,{"$f":"IF(OR(J21=\"\",L20=\"\"),\"\",IF((L20+J21)<900,900,(L20+J21)))","v":""},null,null,null,null,null,{"$f":"IF(UPPER(TRIM($D$21))=\"BYE\",\"-\",VLOOKUP($D$21,HCTableBlk1,2,FALSE))","v":0}]
[null,"\"","\"           \"",{"$f":"PLAYER!G110","v":" Block 1 Player 4"},{"$f":"IF(UPPER(TRIM($D$22))=\"BYE\",\"-\",VLOOKUP($D$22,HCTableBlk1,2,FALSE))","v":0},{"$f":"IF(HandicapPlay=\"x\",\"H\",\"L\")","v":"L"},{"$f":"IF(UPPER(TRIM(D22))=\"BYE\",\"0\",PLAYER!I110)","v":-1E-3},{"$f":"IF(UPPER(TRIM(D22))=\"BYE\",\"0\",PLAYER!J110)","v":-1E-3},{"$f":"IF(UPPER(TRIM(D22))=\"BYE\",\"-\",IF(G22<0,\"\",(IF(G22>H22,\"W\",\"L\"))))","v":""},null,null,{"$f":"IF(OR(J22=\"\",L21=\"\"),\"\",IF((L21+J22)<900,900,(L21+J22)))","v":""},null,null,null,null,null,{"$f":"IF(UPPER(TRIM($D$22))=\"BYE\",\"-\",VLOOKUP($D$22,HCTableBlk1,2,FALSE))","v":0}]
[null,"\"","\"           \"",{"$f":"PLAYER!G111","v":" Block 1 Player 2"},{"$f":"IF(UPPER(TRIM($D$23))=\"BYE\",\"-\",VLOOKUP($D$23,HCTableBlk1,2,FALSE))","v":0},{"$f":"IF(HandicapPlay=\"x\",\"H\",\"L\")","v":"L"},{"$f":"IF(UPPER(TRIM(D23))=\"BYE\",\"0\",PLAYER!I111)","v":-1E-3},{"$f":"IF(UPPER(TRIM(D23))=\"BYE\",\"0\",PLAYER!J111)","v":-1E-3},{"$f":"IF(UPPER(TRIM(D23))=\"BYE\",\"-\",IF(G23<0,\"\",(IF(G23>H23,\"W\",\"L\"))))","v":""},null,null,{"$f":"IF(OR(J23=\"\",L22=\"\"),\"\",IF((L22+J23)<900,900,(L22+J23)))","v":""},null,null,null,null,null,{"$f":"IF(UPPER(TRIM($D$23))=\"BYE\",\"-\",VLOOKUP($D$23,HCTableBlk1,2,FALSE))","v":0}]
[null,"\"","\"           \"",{"$f":"PLAYER!G112","v":" Bye "},{"$f":"IF(UPPER(TRIM($D$24))=\"BYE\",\"-\",VLOOKUP($D$24,HCTableBlk1,2,FALSE))","v":"-"},{"$f":"IF(HandicapPlay=\"x\",\"H\",\"L\")","v":"L"},{"$f":"IF(UPPER(TRIM(D24))=\"BYE\",\"0\",PLAYER!I112)","v":"0"},{"$f":"IF(UPPER(TRIM(D24))=\"BYE\",\"0\",PLAYER!J112)","v":"0"},{"$f":"IF(UPPER(TRIM(D24))=\"BYE\",\"-\",IF(G24<0,\"\",(IF(G24>H24,\"W\",\"L\"))))","v":"-"},null,"Finish >",{"$f":"IF(OR(J24=\"\",L23=\"\"),\"\",IF((L23+J24)<900,900,(L23+J24)))","v":""},null,null,null,null,null,{"$f":"IF(UPPER(TRIM($D$24))=\"BYE\",\"-\",VLOOKUP($D$24,HCTableBlk1,2,FALSE))","v":"-"}]
[]
[null,"PLAYER",null,{"$f":"SEED!$D$11","v":" Block 1 Player 4"},null,null,"Start H/C",{"$f":"SEED!$E$11","v":0},"New H/C",{"$f":"VLOOKUP(D26,HCTableBlk1,2,FALSE)","v":0},"Start Index",{"$f":"SEED!$C$11","v":0},"HC Change Indicator"]
[null,"Date","Event","Opponent","Oppt Hcap","Lev / Hcap","Score",null,"Won / Lost","Change +/-",null,"New Index"]
[null,{"$f":"NAMES!$C$9","v":"Date"},{"$f":"NAMES!$C$7","v":"Tournament"},{"$f":"PLAYER!G158","v":" Block 1 Player 1"},{"$f":"IF(UPPER(TRIM($D$28))=\"BYE\",\"-\",VLOOKUP($D$28,HCTableBlk1,2,FALSE))","v":0},{"$f":"IF(HandicapPlay=\"x\",\"H\",\"L\")","v":"L"},{"$f":"IF(UPPER(TRIM(D28))=\"BYE\",\"0\",PLAYER!I158)","v":-1E-3},{"$f":"IF(UPPER(TRIM(D28))=\"BYE\",\"0\",PLAYER!J158)","v":-1E-3},{"$f":"IF(UPPER(TRIM(D28))=\"BYE\",\"-\",IF(G28<0,\"\",(IF(G28>H28,\"W\",\"L\"))))","v":""},null,null,{"$f":"IF(J28=\"\",\"\",IF((L26+J28)<900,900,(L26+J28)))","v":""},null,null,null,null,null,{"$f":"IF(UPPER(TRIM($D$28))=\"BYE\",\"-\",VLOOKUP($D$28,HCTableBlk1,2,FALSE))","v":0}]
[null,"\"","\"           \"",{"$f":"PLAYER!G159","v":" Block 1 Player 2"},{"$f":"IF(UPPER(TRIM($D$29))=\"BYE\",\"-\",VLOOKUP($D$29,HCTableBlk1,2,FALSE))","v":0},{"$f":"IF(HandicapPlay=\"x\",\"H\",\"L\")","v":"L"},{"$f":"IF(UPPER(TRIM(D29))=\"BYE\",\"0\",PLAYER!I159)","v":-1E-3},{"$f":"IF(UPPER(TRIM(D29))=\"BYE\",\"0\",PLAYER!J159)","v":-1E-3},{"$f":"IF(UPPER(TRIM(D29))=\"BYE\",\"-\",IF(G29<0,\"\",(IF(G29>H29,\"W\",\"L\"))))","v":""},null,null,{"$f":"IF(OR(J29=\"\",L28=\"\"),\"\",IF((L28+J29)<900,900,(L28+J29)))","v":""},null,null,null,null,null,{"$f":"IF(UPPER(TRIM($D$29))=\"BYE\",\"-\",VLOOKUP($D$29,HCTableBlk1,2,FALSE))","v":0}]
[null,"\"","\"           \"",{"$f":"PLAYER!G160","v":" Block 1 Player 3"},{"$f":"IF(UPPER(TRIM($D$30))=\"BYE\",\"-\",VLOOKUP($D$30,HCTableBlk1,2,FALSE))","v":0},{"$f":"IF(HandicapPlay=\"x\",\"H\",\"L\")","v":"L"},{"$f":"IF(UPPER(TRIM(D30))=\"BYE\",\"0\",PLAYER!I160)","v":-1E-3},{"$f":"IF(UPPER(TRIM(D30))=\"BYE\",\"0\",PLAYER!J160)","v":-1E-3},{"$f":"IF(UPPER(TRIM(D30))=\"BYE\",\"-\",IF(G30<0,\"\",(IF(G30>H30,\"W\",\"L\"))))","v":""},null,null,{"$f":"IF(OR(J30=\"\",L29=\"\"),\"\",IF((L29+J30)<900,900,(L29+J30)))","v":""},null,null,null,null,null,{"$f":"IF(UPPER(TRIM($D$30))=\"BYE\",\"-\",VLOOKUP($D$30,HCTableBlk1,2,FALSE))","v":0}]
[null,"\"","\"           \"",{"$f":"PLAYER!G161","v":" Bye "},{"$f":"IF(UPPER(TRIM($D$31))=\"BYE\",\"-\",VLOOKUP($D$31,HCTableBlk1,2,FALSE))","v":"-"},{"$f":"IF(HandicapPlay=\"x\",\"H\",\"L\")","v":"L"},{"$f":"IF(UPPER(TRIM(D31))=\"BYE\",\"0\",PLAYER!I161)","v":"0"},{"$f":"IF(UPPER(TRIM(D31))=\"BYE\",\"0\",PLAYER!J161)","v":"0"},{"$f":"IF(UPPER(TRIM(D31))=\"BYE\",\"-\",IF(G31<0,\"\",(IF(G31>H31,\"W\",\"L\"))))","v":"-"},null,null,{"$f":"IF(OR(J31=\"\",L30=\"\"),\"\",IF((L30+J31)<900,900,(L30+J31)))","v":""},null,null,null,null,null,{"$f":"IF(UPPER(TRIM($D$31))=\"BYE\",\"-\",VLOOKUP($D$31,HCTableBlk1,2,FALSE))","v":"-"}]
[null,"\"","\"           \"",{"$f":"PLAYER!G162","v":" Block 1 Player 5"},{"$f":"IF(UPPER(TRIM($D$32))=\"BYE\",\"-\",VLOOKUP($D$32,HCTableBlk1,2,FALSE))","v":0},{"$f":"IF(HandicapPlay=\"x\",\"H\",\"L\")","v":"L"},{"$f":"IF(UPPER(TRIM(D32))=\"BYE\",\"0\",PLAYER!I162)","v":-1E-3},{"$f":"IF(UPPER(TRIM(D32))=\"BYE\",\"0\",PLAYER!J162)","v":-1E-3},{"$f":"IF(UPPER(TRIM(D32))=\"BYE\",\"-\",IF(G32<0,\"\",(IF(G32>H32,\"W\",\"L\"))))","v":""},null,"Finish >",{"$f":"IF(OR(J32=\"\",L31=\"\"),\"\",IF((L31+J32)<900,900,(L31+J32)))","v":""},null,null,null,null,null,{"$f":"IF(UPPER(TRIM($D$32))=\"BYE\",\"-\",VLOOKUP($D$32,HCTableBlk1,2,FALSE))","v":0}]
[]
[null,"PLAYER",null,{"$f":"SEED!$D$12","v":" Block 1 Player 5"},null,null,"Start H/C",{"$f":"SEED!$E$12","v":0},"New H/C",{"$f":"VLOOKUP(D34,HCTableBlk1,2,FALSE)","v":0},"Start Index",{"$f":"SEED!$C$12","v":0},"HC Change Indicator"]
[null,"Date","Event","Opponent","Oppt Hcap","Lev / Hcap","Score",null,"Won / Lost","Change +/-",null,"New Index"]
[null,{"$f":"NAMES!$C$9","v":"Date"},{"$f":"NAMES!$C$7","v":"Tournament"},{"$f":"PLAYER!G208","v":" Block 1 Player 3"},{"$f":"IF(UPPER(TRIM($D$36))=\"BYE\",\"-\",VLOOKUP($D$36,HCTableBlk1,2,FALSE))","v":0},{"$f":"IF(HandicapPlay=\"x\",\"H\",\"L\")","v":"L"},{"$f":"IF(UPPER(TRIM(D36))=\"BYE\",\"0\",PLAYER!I208)","v":-1E-3},{"$f":"IF(UPPER(TRIM(D36))=\"BYE\",\"0\",PLAYER!J208)","v":-1E-3},{"$f":"IF(UPPER(TRIM(D36))=\"BYE\",\"-\",IF(G36<0,\"\",(IF(G36>H36,\"W\",\"L\"))))","v":""},null,null,{"$f":"IF(J36=\"\",\"\",IF((L34+J36)<900,900,(L34+J36)))","v":""},null,null,null,null,null,{"$f":"IF(UPPER(TRIM($D$36))=\"BYE\",\"-\",VLOOKUP($D$36,HCTableBlk1,2,FALSE))","v":0}]
[null,"\"","\"           \"",{"$f":"PLAYER!G209","v":" Bye "},{"$f":"IF(UPPER(TRIM($D$37))=\"BYE\",\"-\",VLOOKUP($D$37,HCTableBlk1,2,FALSE))","v":"-"},{"$f":"IF(HandicapPlay=\"x\",\"H\",\"L\")","v":"L"},{"$f":"IF(UPPER(TRIM(D37))=\"BYE\",\"0\",PLAYER!I209)","v":"0"},{"$f":"IF(UPPER(TRIM(D37))=\"BYE\",\"0\",PLAYER!J209)","v":"0"},{"$f":"IF(UPPER(TRIM(D37))=\"BYE\",\"-\",IF(G37<0,\"\",(IF(G37>H37,\"W\",\"L\"))))","v":"-"},null,null,{"$f":"IF(OR(J37=\"\",L36=\"\"),\"\",IF((L36+J37)<900,900,(L36+J37)))","v":""},null,null,null,null,null,{"$f":"IF(UPPER(TRIM($D$37))=\"BYE\",\"-\",VLOOKUP($D$37,HCTableBlk1,2,FALSE))","v":"-"}]
[null,"\"","\"           \"",{"$f":"PLAYER!G210","v":" Block 1 Player 2"},{"$f":"IF(UPPER(TRIM($D$38))=\"BYE\",\"-\",VLOOKUP($D$38,HCTableBlk1,2,FALSE))","v":0},{"$f":"IF(HandicapPlay=\"x\",\"H\",\"L\")","v":"L"},{"$f":"IF(UPPER(TRIM(D38))=\"BYE\",\"0\",PLAYER!I210)","v":-1E-3},{"$f":"IF(UPPER(TRIM(D38))=\"BYE\",\"0\",PLAYER!J210)","v":-1E-3},{"$f":"IF(UPPER(TRIM(D38))=\"BYE\",\"-\",IF(G38<0,\"\",(IF(G38>H38,\"W\",\"L\"))))","v":""},null,null,{"$f":"IF(OR(J38=\"\",L37=\"\"),\"\",IF((L37+J38)<900,900,(L37+J38)))","v":""},null,null,null,null,null,{"$f":"IF(UPPER(TRIM($D$38))=\"BYE\",\"-\",VLOOKUP($D$38,HCTableBlk1,2,FALSE))","v":0}]
[null,"\"","\"           \"",{"$f":"PLAYER!G211","v":" Block 1 Player 1"},{"$f":"IF(UPPER(TRIM($D$39))=\"BYE\",\"-\",VLOOKUP($D$39,HCTableBlk1,2,FALSE))","v":0},{"$f":"IF(HandicapPlay=\"x\",\"H\",\"L\")","v":"L"},{"$f":"IF(UPPER(TRIM(D39))=\"BYE\",\"0\",PLAYER!I211)","v":-1E-3},{"$f":"IF(UPPER(TRIM(D39))=\"BYE\",\"0\",PLAYER!J211)","v":-1E-3},{"$f":"IF(UPPER(TRIM(D39))=\"BYE\",\"-\",IF(G39<0,\"\",(IF(G39>H39,\"W\",\"L\"))))","v":""},null,null,{"$f":"IF(OR(J39=\"\",L38=\"\"),\"\",IF((L38+J39)<900,900,(L38+J39)))","v":""},null,null,null,null,null,{"$f":"IF(UPPER(TRIM($D$39))=\"BYE\",\"-\",VLOOKUP($D$39,HCTableBlk1,2,FALSE))","v":0}]
[null,"\"","\"           \"",{"$f":"PLAYER!G212","v":" Block 1 Player 4"},{"$f":"IF(UPPER(TRIM($D$40))=\"BYE\",\"-\",VLOOKUP($D$40,HCTableBlk1,2,FALSE))","v":0},{"$f":"IF(HandicapPlay=\"x\",\"H\",\"L\")","v":"L"},{"$f":"IF(UPPER(TRIM(D40))=\"BYE\",\"0\",PLAYER!I212)","v":-1E-3},{"$f":"IF(UPPER(TRIM(D40))=\"BYE\",\"0\",PLAYER!J212)","v":-1E-3},{"$f":"IF(UPPER(TRIM(D40))=\"BYE\",\"-\",IF(G40<0,\"\",(IF(G40>H40,\"W\",\"L\"))))","v":""},null,"Finish >",{"$f":"IF(OR(J40=\"\",L39=\"\"),\"\",IF((L39+J40)<900,900,(L39+J40)))","v":""},null,null,null,null,null,{"$f":"IF(UPPER(TRIM($D$40))=\"BYE\",\"-\",VLOOKUP($D$40,HCTableBlk1,2,FALSE))","v":0}]
[]
[null,"PLAYER",null,{"$f":"SEED!$D$13","v":" Bye "},null,null,"Start H/C",{"$f":"SEED!$E$13","v":0},"New H/C",{"$f":"VLOOKUP(D42,HCTableBlk1,2,FALSE)","v":0},"Start Index",{"$f":"SEED!$C$13","v":0},"HC Change Indicator"]
[null,"Date","Event","Opponent","Oppt Hcap","Lev / Hcap","Score",null,"Won / Lost","Change +/-",null,"New Index"]
[null,{"$f":"NAMES!$C$9","v":"Date"},{"$f":"NAMES!$C$7","v":"Tournament"},{"$f":"PLAYER!G258","v":" Block 1 Player 2"},2,{"$f":"IF(HandicapPlay=\"x\",\"H\",\"L\")","v":"L"},{"$f":"PLAYER!I258","v":-1E-3},{"$f":"PLAYER!J258","v":-1E-3},{"$f":"IF(G44=-0.001,\"\",(IF(G44>H44,\"W\",\"L\")))","v":""},null,null,{"$f":"IF(J44=\"\",\"\",L42+J44)","v":""}]
[null,"\"","\"           \"",{"$f":"PLAYER!G259","v":" Block 1 Player 5"},5,{"$f":"IF(HandicapPlay=\"x\",\"H\",\"L\")","v":"L"},{"$f":"PLAYER!I259","v":-1E-3},{"$f":"PLAYER!J259","v":-1E-3},{"$f":"IF(G45=-0.001,\"\",(IF(G45>H45,\"W\",\"L\")))","v":""},null,null,{"$f":"IF(J45=\"\",\"\",L44+J45)","v":""}]
[null,"\"","\"           \"",{"$f":"PLAYER!G260","v":" Block 1 Player 1"},1,{"$f":"IF(HandicapPlay=\"x\",\"H\",\"L\")","v":"L"},{"$f":"PLAYER!I260","v":-1E-3},{"$f":"PLAYER!J260","v":-1E-3},{"$f":"IF(G46=-0.001,\"\",(IF(G46>H46,\"W\",\"L\")))","v":""},null,null,{"$f":"IF(J46=\"\",\"\",L45+J46)","v":""}]
[null,"\"","\"           \"",{"$f":"PLAYER!G261","v":" Block 1 Player 4"},4,{"$f":"IF(HandicapPlay=\"x\",\"H\",\"L\")","v":"L"},{"$f":"PLAYER!I261","v":-1E-3},{"$f":"PLAYER!J261","v":-1E-3},{"$f":"IF(G47=-0.001,\"\",(IF(G47>H47,\"W\",\"L\")))","v":""},null,null,{"$f":"IF(J47=\"\",\"\",L46+J47)","v":""}]
[null,"\"","\"           \"",{"$f":"PLAYER!G262","v":" Block 1 Player 3"},3,{"$f":"IF(HandicapPlay=\"x\",\"H\",\"L\")","v":"L"},{"$f":"PLAYER!I262","v":-1E-3},{"$f":"PLAYER!J262","v":-1E-3},{"$f":"IF(G48=-0.001,\"\",(IF(G48>H48,\"W\",\"L\")))","v":""},null,"Finish >",{"$f":"IF(J48=\"\",\"\",L47+J48)","v":""}]
[null,{"$f":"SEED!$I$6","v":"BLOCK 2"}]
[null,"PLAYER",null,{"$f":"SEED!$I$8","v":" Block 2 Player 1"},null,null,"Start H/C",{"$f":"SEED!$J$8","v":0},"New H/C",{"$f":"VLOOKUP(D50,HCTableBlk2,2,FALSE)","v":0},"Start Index",{"$f":"SEED!$H$8","v":0},"HC Change Indicator","Block 2"]
[null,"Date","Event","Opponent","Oppt Hcap","Lev / Hcap","Score",null,"Won / Lost","Change +/-",null,"New Index",null,"Player","H/C","Temp H/C",null,null,null,"HC Change Flags"]
[null,{"$f":"NAMES!$C$9","v":"Date"},{"$f":"NAMES!$C$7","v":"Tournament"},{"$f":"PLAYER!G308","v":" Block 2 Player 4"},{"$f":"IF(UPPER(TRIM($D$52))=\"BYE\",\"-\",VLOOKUP($D$52,HCTableBlk2,2,FALSE))","v":0},{"$f":"IF(HandicapPlay=\"x\",\"H\",\"L\")","v":"L"},{"$f":"IF(UPPER(TRIM(D52))=\"BYE\",\"0\",PLAYER!I308)","v":-1E-3},{"$f":"IF(UPPER(TRIM(D52))=\"BYE\",\"0\",PLAYER!J308)","v":-1E-3},{"$f":"IF(UPPER(TRIM(D52))=\"BYE\",\"-\",IF(G52<0,\"\",(IF(G52>H52,\"W\",\"L\"))))","v":""},null,null,{"$f":"IF(J52=\"\",\"\",IF((L50+J52)<900,900,(L50+J52)))","v":""},null,{"$f":"SEED!I8","v":" Block 2 Player 1"},{"$f":"SEED!J8","v":0},null,null,{"$f":"IF(UPPER(TRIM($D$52))=\"BYE\",\"-\",VLOOKUP($D$52,HCTableBlk2,2,FALSE))","v":0},null,0,"7"]
[null,"\"","\"           \"",{"$f":"PLAYER!G309","v":" Block 2 Player 3"},{"$f":"IF(UPPER(TRIM($D$53))=\"BYE\",\"-\",VLOOKUP($D$53,HCTableBlk2,2,FALSE))","v":0},{"$f":"IF(HandicapPlay=\"x\",\"H\",\"L\")","v":"L"},{"$f":"IF(UPPER(TRIM(D53))=\"BYE\",\"0\",PLAYER!I309)","v":-1E-3},{"$f":"IF(UPPER(TRIM(D53))=\"BYE\",\"0\",PLAYER!J309)","v":-1E-3},{"$f":"IF(UPPER(TRIM(D53))=\"BYE\",\"-\",IF(G53<0,\"\",(IF(G53>H53,\"W\",\"L\"))))","v":""},null,null,{"$f":"IF(OR(J53=\"\",L52=\"\"),\"\",IF((L52+J53)<900,900,(L52+J53)))","v":""},null,{"$f":"SEED!I9","v":" Block 2 Player 2"},{"$f":"SEED!J9","v":0},null,null,{"$f":"IF(UPPER(TRIM($D$53))=\"BYE\",\"-\",VLOOKUP($D$53,HCTableBlk2,2,FALSE))","v":0},null,0,"8"]
[null,"\"","\"           \"",{"$f":"PLAYER!G310","v":" Bye "},{"$f":"IF(UPPER(TRIM($D$54))=\"BYE\",\"-\",VLOOKUP($D$54,HCTableBlk2,2,FALSE))","v":"-"},{"$f":"IF(HandicapPlay=\"x\",\"H\",\"L\")","v":"L"},{"$f":"IF(UPPER(TRIM(D54))=\"BYE\",\"0\",PLAYER!I310)","v":"0"},{"$f":"IF(UPPER(TRIM(D54))=\"BYE\",\"0\",PLAYER!J310)","v":"0"},{"$f":"IF(UPPER(TRIM(D54))=\"BYE\",\"-\",IF(G54<0,\"\",(IF(G54>H54,\"W\",\"L\"))))","v":"-"},null,null,{"$f":"IF(OR(J54=\"\",L53=\"\"),\"\",IF((L53+J54)<900,900,(L53+J54)))","v":""},null,{"$f":"SEED!I10","v":" Block 2 Player 3"},{"$f":"SEED!J10","v":0},null,null,{"$f":"IF(UPPER(TRIM($D$54))=\"BYE\",\"-\",VLOOKUP($D$54,HCTableBlk2,2,FALSE))","v":"-"},null,0,"9"]
[null,"\"","\"           \"",{"$f":"PLAYER!G311","v":" Block 2 Player 5"},{"$f":"IF(UPPER(TRIM($D$55))=\"BYE\",\"-\",VLOOKUP($D$55,HCTableBlk2,2,FALSE))","v":0},{"$f":"IF(HandicapPlay=\"x\",\"H\",\"L\")","v":"L"},{"$f":"IF(UPPER(TRIM(D55))=\"BYE\",\"0\",PLAYER!I311)","v":-1E-3},{"$f":"IF(UPPER(TRIM(D55))=\"BYE\",\"0\",PLAYER!J311)","v":-1E-3},{"$f":"IF(UPPER(TRIM(D55))=\"BYE\",\"-\",IF(G55<0,\"\",(IF(G55>H55,\"W\",\"L\"))))","v":""},null,null,{"$f":"IF(OR(J55=\"\",L54=\"\"),\"\",IF((L54+J55)<900,900,(L54+J55)))","v":""},null,{"$f":"SEED!I11","v":" Block 2 Player 4"},{"$f":"SEED!J11","v":0},null,null,{"$f":"IF(UPPER(TRIM($D$55))=\"BYE\",\"-\",VLOOKUP($D$55,HCTableBlk2,2,FALSE))","v":0},null,0,"10"]
[null,"\"","\"           \"",{"$f":"PLAYER!G312","v":" Block 2 Player 2"},{"$f":"IF(UPPER(TRIM($D$56))=\"BYE\",\"-\",VLOOKUP($D$56,HCTableBlk2,2,FALSE))","v":0},{"$f":"IF(HandicapPlay=\"x\",\"H\",\"L\")","v":"L"},{"$f":"IF(UPPER(TRIM(D56))=\"BYE\",\"0\",PLAYER!I312)","v":-1E-3},{"$f":"IF(UPPER(TRIM(D56))=\"BYE\",\"0\",PLAYER!J312)","v":-1E-3},{"$f":"IF(UPPER(TRIM(D56))=\"BYE\",\"-\",IF(G56<0,\"\",(IF(G56>H56,\"W\",\"L\"))))","v":""},null,"Finish >",{"$f":"IF(OR(J56=\"\",L55=\"\"),\"\",IF((L55+J56)<900,900,(L55+J56)))","v":""},null,{"$f":"SEED!I12","v":" Block 2 Player 5"},{"$f":"SEED!J12","v":0},null,null,{"$f":"IF(UPPER(TRIM($D$56))=\"BYE\",\"-\",VLOOKUP($D$56,HCTableBlk2,2,FALSE))","v":0},null,0,"11"]
[null,null,null,null,null,null,null,null,null,null,null,null,null,{"$f":"SEED!I13","v":" Bye "},{"$f":"SEED!J13","v":0},null,null,null,null,0,"(12)"]
[null,"PLAYER",null,{"$f":"SEED!$I$9","v":" Block 2 Player 2"},null,null,"Start H/C",{"$f":"SEED!$J$9","v":0},"New H/C",{"$f":"VLOOKUP(D58,HCTableBlk2,2,FALSE)","v":0},"Start Index",{"$f":"SEED!$H$9","v":0},"HC Change Indicator"]
[null,"Date","Event","Opponent","Oppt Hcap","Lev / Hcap","Score",null,"Won / Lost","Change +/-",null,"New Index"]
[null,{"$f":"NAMES!$C$9","v":"Date"},{"$f":"NAMES!$C$7","v":"Tournament"},{"$f":"PLAYER!G358","v":" Bye "},{"$f":"IF(UPPER(TRIM($D$60))=\"BYE\",\"-\",VLOOKUP($D$60,HCTableBlk2,2,FALSE))","v":"-"},{"$f":"IF(HandicapPlay=\"x\",\"H\",\"L\")","v":"L"},{"$f":"IF(UPPER(TRIM(D60))=\"BYE\",\"0\",PLAYER!I358)","v":"0"},{"$f":"IF(UPPER(TRIM(D60))=\"BYE\",\"0\",PLAYER!J358)","v":"0"},{"$f":"IF(UPPER(TRIM(D60))=\"BYE\",\"-\",IF(G60<0,\"\",(IF(G60>H60,\"W\",\"L\"))))","v":"-"},null,null,{"$f":"IF(J60=\"\",\"\",IF((L58+J60)<900,900,(L58+J60)))","v":""},null,null,null,null,null,{"$f":"IF(UPPER(TRIM($D$60))=\"BYE\",\"-\",VLOOKUP($D$60,HCTableBlk2,2,FALSE))","v":"-"}]
[null,"\"","\"           \"",{"$f":"PLAYER!G359","v":" Block 2 Player 4"},{"$f":"IF(UPPER(TRIM($D$61))=\"BYE\",\"-\",VLOOKUP($D$61,HCTableBlk2,2,FALSE))","v":0},{"$f":"IF(HandicapPlay=\"x\",\"H\",\"L\")","v":"L"},{"$f":"IF(UPPER(TRIM(D61))=\"BYE\",\"0\",PLAYER!I359)","v":-1E-3},{"$f":"IF(UPPER(TRIM(D61))=\"BYE\",\"0\",PLAYER!J359)","v":-1E-3},{"$f":"IF(UPPER(TRIM(D61))=\"BYE\",\"-\",IF(G61<0,\"\",(IF(G61>H61,\"W\",\"L\"))))","v":""},null,null,{"$f":"IF(OR(J61=\"\",L60=\"\"),\"\",IF((L60+J61)<900,900,(L60+J61)))","v":""},null,null,null,null,null,{"$f":"IF(UPPER(TRIM($D$61))=\"BYE\",\"-\",VLOOKUP($D$61,HCTableBlk2,2,FALSE))","v":0}]
[null,"\"","\"           \"",{"$f":"PLAYER!G360","v":" Block 2 Player 5"},{"$f":"IF(UPPER(TRIM($D$62))=\"BYE\",\"-\",VLOOKUP($D$62,HCTableBlk2,2,FALSE))","v":0},{"$f":"IF(HandicapPlay=\"x\",\"H\",\"L\")","v":"L"},{"$f":"IF(UPPER(TRIM(D62))=\"BYE\",\"0\",PLAYER!I360)","v":-1E-3},{"$f":"IF(UPPER(TRIM(D62))=\"BYE\",\"0\",PLAYER!J360)","v":-1E-3},{"$f":"IF(UPPER(TRIM(D62))=\"BYE\",\"-\",IF(G62<0,\"\",(IF(G62>H62,\"W\",\"L\"))))","v":""},null,null,{"$f":"IF(OR(J62=\"\",L61=\"\"),\"\",IF((L61+J62)<900,900,(L61+J62)))","v":""},null,null,null,null,null,{"$f":"IF(UPPER(TRIM($D$62))=\"BYE\",\"-\",VLOOKUP($D$62,HCTableBlk2,2,FALSE))","v":0}]
[null,"\"","\"           \"",{"$f":"PLAYER!G361","v":" Block 2 Player 3"},{"$f":"IF(UPPER(TRIM($D$63))=\"BYE\",\"-\",VLOOKUP($D$63,HCTableBlk2,2,FALSE))","v":0},{"$f":"IF(HandicapPlay=\"x\",\"H\",\"L\")","v":"L"},{"$f":"IF(UPPER(TRIM(D63))=\"BYE\",\"0\",PLAYER!I361)","v":-1E-3},{"$f":"IF(UPPER(TRIM(D63))=\"BYE\",\"0\",PLAYER!J361)","v":-1E-3},{"$f":"IF(UPPER(TRIM(D63))=\"BYE\",\"-\",IF(G63<0,\"\",(IF(G63>H63,\"W\",\"L\"))))","v":""},null,null,{"$f":"IF(OR(J63=\"\",L62=\"\"),\"\",IF((L62+J63)<900,900,(L62+J63)))","v":""},null,null,null,null,null,{"$f":"IF(UPPER(TRIM($D$63))=\"BYE\",\"-\",VLOOKUP($D$63,HCTableBlk2,2,FALSE))","v":0}]
[null,"\"","\"           \"",{"$f":"PLAYER!G362","v":" Block 2 Player 1"},{"$f":"IF(UPPER(TRIM($D$64))=\"BYE\",\"-\",VLOOKUP($D$64,HCTableBlk2,2,FALSE))","v":0},{"$f":"IF(HandicapPlay=\"x\",\"H\",\"L\")","v":"L"},{"$f":"IF(UPPER(TRIM(D64))=\"BYE\",\"0\",PLAYER!I362)","v":-1E-3},{"$f":"IF(UPPER(TRIM(D64))=\"BYE\",\"0\",PLAYER!J362)","v":-1E-3},{"$f":"IF(UPPER(TRIM(D64))=\"BYE\",\"-\",IF(G64<0,\"\",(IF(G64>H64,\"W\",\"L\"))))","v":""},null,"Finish >",{"$f":"IF(OR(J64=\"\",L63=\"\"),\"\",IF((L63+J64)<900,900,(L63+J64)))","v":""},null,null,null,null,null,{"$f":"IF(UPPER(TRIM($D$64))=\"BYE\",\"-\",VLOOKUP($D$64,HCTableBlk2,2,FALSE))","v":0}]
[]
[null,"PLAYER",null,{"$f":"SEED!$I$10","v":" Block 2 Player 3"},null,null,"Start H/C",{"$f":"SEED!$J$10","v":0},"New H/C",{"$f":"VLOOKUP(D66,HCTableBlk2,2,FALSE)","v":0},"Start Index",{"$f":"SEED!$H$10","v":0},"HC Change Indicator"]
[null,"Date","Event","Opponent","Oppt Hcap","Lev / Hcap","Score",null,"Won / Lost","Change +/-",null,"New Index"]
[null,{"$f":"NAMES!$C$9","v":"Date"},{"$f":"NAMES!$C$7","v":"Tournament"},{"$f":"PLAYER!G408","v":" Block 2 Player 5"},{"$f":"IF(UPPER(TRIM($D$68))=\"BYE\",\"-\",VLOOKUP($D$68,HCTableBlk2,2,FALSE))","v":0},{"$f":"IF(HandicapPlay=\"x\",\"H\",\"L\")","v":"L"},{"$f":"IF(UPPER(TRIM(D68))=\"BYE\",\"0\",PLAYER!I408)","v":-1E-3},{"$f":"IF(UPPER(TRIM(D68))=\"BYE\",\"0\",PLAYER!J408)","v":-1E-3},{"$f":"IF(UPPER(TRIM(D68))=\"BYE\",\"-\",IF(G68<0,\"\",(IF(G68>H68,\"W\",\"L\"))))","v":""},null,null,{"$f":"IF(J68=\"\",\"\",IF((L66+J68)<900,900,(L66+J68)))","v":""},null,null,null,null,null,{"$f":"IF(UPPER(TRIM($D$68))=\"BYE\",\"-\",VLOOKUP($D$68,HCTableBlk2,2,FALSE))","v":0}]
[null,"\"","\"           \"",{"$f":"PLAYER!G409","v":" Block 2 Player 1"},{"$f":"IF(UPPER(TRIM($D$69))=\"BYE\",\"-\",VLOOKUP($D$69,HCTableBlk2,2,FALSE))","v":0},{"$f":"IF(HandicapPlay=\"x\",\"H\",\"L\")","v":"L"},{"$f":"IF(UPPER(TRIM(D69))=\"BYE\",\"0\",PLAYER!I409)","v":-1E-3},{"$f":"IF(UPPER(TRIM(D69))=\"BYE\",\"0\",PLAYER!J409)","v":-1E-3},{"$f":"IF(UPPER(TRIM(D69))=\"BYE\",\"-\",IF(G69<0,\"\",(IF(G69>H69,\"W\",\"L\"))))","v":""},null,null,{"$f":"IF(OR(J69=\"\",L68=\"\"),\"\",IF((L68+J69)<900,900,(L68+J69)))","v":""},null,null,null,null,null,{"$f":"IF(UPPER(TRIM($D$69))=\"BYE\",\"-\",VLOOKUP($D$69,HCTableBlk2,2,FALSE))","v":0}]
[null,"\"","\"           \"",{"$f":"PLAYER!G410","v":" Block 2 Player 4"},{"$f":"IF(UPPER(TRIM($D$70))=\"BYE\",\"-\",VLOOKUP($D$70,HCTableBlk2,2,FALSE))","v":0},{"$f":"IF(HandicapPlay=\"x\",\"H\",\"L\")","v":"L"},{"$f":"IF(UPPER(TRIM(D70))=\"BYE\",\"0\",PLAYER!I410)","v":-1E-3},{"$f":"IF(UPPER(TRIM(D70))=\"BYE\",\"0\",PLAYER!J410)","v":-1E-3},{"$f":"IF(UPPER(TRIM(D70))=\"BYE\",\"-\",IF(G70<0,\"\",(IF(G70>H70,\"W\",\"L\"))))","v":""},null,null,{"$f":"IF(OR(J70=\"\",L69=\"\"),\"\",IF((L69+J70)<900,900,(L69+J70)))","v":""},null,null,null,null,null,{"$f":"IF(UPPER(TRIM($D$70))=\"BYE\",\"-\",VLOOKUP($D$70,HCTableBlk2,2,FALSE))","v":0}]
[null,"\"","\"           \"",{"$f":"PLAYER!G411","v":" Block 2 Player 2"},{"$f":"IF(UPPER(TRIM($D$71))=\"BYE\",\"-\",VLOOKUP($D$71,HCTableBlk2,2,FALSE))","v":0},{"$f":"IF(HandicapPlay=\"x\",\"H\",\"L\")","v":"L"},{"$f":"IF(UPPER(TRIM(D71))=\"BYE\",\"0\",PLAYER!I411)","v":-1E-3},{"$f":"IF(UPPER(TRIM(D71))=\"BYE\",\"0\",PLAYER!J411)","v":-1E-3},{"$f":"IF(UPPER(TRIM(D71))=\"BYE\",\"-\",IF(G71<0,\"\",(IF(G71>H71,\"W\",\"L\"))))","v":""},null,null,{"$f":"IF(OR(J71=\"\",L70=\"\"),\"\",IF((L70+J71)<900,900,(L70+J71)))","v":""},null,null,null,null,null,{"$f":"IF(UPPER(TRIM($D$71))=\"BYE\",\"-\",VLOOKUP($D$71,HCTableBlk2,2,FALSE))","v":0}]
[null,"\"","\"           \"",{"$f":"PLAYER!G412","v":" Bye "},{"$f":"IF(UPPER(TRIM($D$72))=\"BYE\",\"-\",VLOOKUP($D$72,HCTableBlk2,2,FALSE))","v":"-"},{"$f":"IF(HandicapPlay=\"x\",\"H\",\"L\")","v":"L"},{"$f":"IF(UPPER(TRIM(D72))=\"BYE\",\"0\",PLAYER!I412)","v":"0"},{"$f":"IF(UPPER(TRIM(D72))=\"BYE\",\"0\",PLAYER!J412)","v":"0"},{"$f":"IF(UPPER(TRIM(D72))=\"BYE\",\"-\",IF(G72<0,\"\",(IF(G72>H72,\"W\",\"L\"))))","v":"-"},null,"Finish >",{"$f":"IF(OR(J72=\"\",L71=\"\"),\"\",IF((L71+J72)<900,900,(L71+J72)))","v":""},null,null,null,null,null,{"$f":"IF(UPPER(TRIM($D$72))=\"BYE\",\"-\",VLOOKUP($D$72,HCTableBlk2,2,FALSE))","v":"-"}]
[]
[null,"PLAYER",null,{"$f":"SEED!$I$11","v":" Block 2 Player 4"},null,null,"Start H/C",{"$f":"SEED!$J$11","v":0},"New H/C",{"$f":"VLOOKUP(D74,HCTableBlk2,2,FALSE)","v":0},"Start Index",{"$f":"SEED!$H$11","v":0},"HC Change Indicator"]
[null,"Date","Event","Opponent","Oppt Hcap","Lev / Hcap","Score",null,"Won / Lost","Change +/-",null,"New Index"]
[null,{"$f":"NAMES!$C$9","v":"Date"},{"$f":"NAMES!$C$7","v":"Tournament"},{"$f":"PLAYER!G458","v":" Block 2 Player 1"},{"$f":"IF(UPPER(TRIM($D$76))=\"BYE\",\"-\",VLOOKUP($D$76,HCTableBlk2,2,FALSE))","v":0},{"$f":"IF(HandicapPlay=\"x\",\"H\",\"L\")","v":"L"},{"$f":"IF(UPPER(TRIM(D76))=\"BYE\",\"0\",PLAYER!I458)","v":-1E-3},{"$f":"IF(UPPER(TRIM(D76))=\"BYE\",\"0\",PLAYER!J458)","v":-1E-3},{"$f":"IF(UPPER(TRIM(D76))=\"BYE\",\"-\",IF(G76<0,\"\",(IF(G76>H76,\"W\",\"L\"))))","v":""},null,null,{"$f":"IF(J76=\"\",\"\",IF((L74+J76)<900,900,(L74+J76)))","v":""},null,null,null,null,null,{"$f":"IF(UPPER(TRIM($D$76))=\"BYE\",\"-\",VLOOKUP($D$76,HCTableBlk2,2,FALSE))","v":0}]
[null,"\"","\"           \"",{"$f":"PLAYER!G459","v":" Block 2 Player 2"},{"$f":"IF(UPPER(TRIM($D$77))=\"BYE\",\"-\",VLOOKUP($D$77,HCTableBlk2,2,FALSE))","v":0},{"$f":"IF(HandicapPlay=\"x\",\"H\",\"L\")","v":"L"},{"$f":"IF(UPPER(TRIM(D77))=\"BYE\",\"0\",PLAYER!I459)","v":-1E-3},{"$f":"IF(UPPER(TRIM(D77))=\"BYE\",\"0\",PLAYER!J459)","v":-1E-3},{"$f":"IF(UPPER(TRIM(D77))=\"BYE\",\"-\",IF(G77<0,\"\",(IF(G77>H77,\"W\",\"L\"))))","v":""},null,null,{"$f":"IF(OR(J77=\"\",L76=\"\"),\"\",IF((L76+J77)<900,900,(L76+J77)))","v":""},null,null,null,null,null,{"$f":"IF(UPPER(TRIM($D$77))=\"BYE\",\"-\",VLOOKUP($D$77,HCTableBlk2,2,FALSE))","v":0}]
[null,"\"","\"           \"",{"$f":"PLAYER!G460","v":" Block 2 Player 3"},{"$f":"IF(UPPER(TRIM($D$78))=\"BYE\",\"-\",VLOOKUP($D$78,HCTableBlk2,2,FALSE))","v":0},{"$f":"IF(HandicapPlay=\"x\",\"H\",\"L\")","v":"L"},{"$f":"IF(UPPER(TRIM(D78))=\"BYE\",\"0\",PLAYER!I460)","v":-1E-3},{"$f":"IF(UPPER(TRIM(D78))=\"BYE\",\"0\",PLAYER!J460)","v":-1E-3},{"$f":"IF(UPPER(TRIM(D78))=\"BYE\",\"-\",IF(G78<0,\"\",(IF(G78>H78,\"W\",\"L\"))))","v":""},null,null,{"$f":"IF(OR(J78=\"\",L77=\"\"),\"\",IF((L77+J78)<900,900,(L77+J78)))","v":""},null,null,null,null,null,{"$f":"IF(UPPER(TRIM($D$78))=\"BYE\",\"-\",VLOOKUP($D$78,HCTableBlk2,2,FALSE))","v":0}]
[null,"\"","\"           \"",{"$f":"PLAYER!G461","v":" Bye "},{"$f":"IF(UPPER(TRIM($D$79))=\"BYE\",\"-\",VLOOKUP($D$79,HCTableBlk2,2,FALSE))","v":"-"},{"$f":"IF(HandicapPlay=\"x\",\"H\",\"L\")","v":"L"},{"$f":"IF(UPPER(TRIM(D79))=\"BYE\",\"0\",PLAYER!I461)","v":"0"},{"$f":"IF(UPPER(TRIM(D79))=\"BYE\",\"0\",PLAYER!J461)","v":"0"},{"$f":"IF(UPPER(TRIM(D79))=\"BYE\",\"-\",IF(G79<0,\"\",(IF(G79>H79,\"W\",\"L\"))))","v":"-"},null,null,{"$f":"IF(OR(J79=\"\",L78=\"\"),\"\",IF((L78+J79)<900,900,(L78+J79)))","v":""},null,null,null,null,null,{"$f":"IF(UPPER(TRIM($D$79))=\"BYE\",\"-\",VLOOKUP($D$79,HCTableBlk2,2,FALSE))","v":"-"}]
[null,"\"","\"           \"",{"$f":"PLAYER!G462","v":" Block 2 Player 5"},{"$f":"IF(UPPER(TRIM($D$80))=\"BYE\",\"-\",VLOOKUP($D$80,HCTableBlk2,2,FALSE))","v":0},{"$f":"IF(HandicapPlay=\"x\",\"H\",\"L\")","v":"L"},{"$f":"IF(UPPER(TRIM(D80))=\"BYE\",\"0\",PLAYER!I462)","v":-1E-3},{"$f":"IF(UPPER(TRIM(D80))=\"BYE\",\"0\",PLAYER!J462)","v":-1E-3},{"$f":"IF(UPPER(TRIM(D80))=\"BYE\",\"-\",IF(G80<0,\"\",(IF(G80>H80,\"W\",\"L\"))))","v":""},null,"Finish >",{"$f":"IF(OR(J80=\"\",L79=\"\"),\"\",IF((L79+J80)<900,900,(L79+J80)))","v":""},null,null,null,null,null,{"$f":"IF(UPPER(TRIM($D$80))=\"BYE\",\"-\",VLOOKUP($D$80,HCTableBlk2,2,FALSE))","v":0}]
[]
[null,"PLAYER",null,{"$f":"SEED!$I$12","v":" Block 2 Player 5"},null,null,"Start H/C",{"$f":"SEED!$J$12","v":0},"New H/C",{"$f":"VLOOKUP(D82,HCTableBlk2,2,FALSE)","v":0},"Start Index",{"$f":"SEED!$H$12","v":0},"HC Change Indicator"]
[null,"Date","Event","Opponent","Oppt Hcap","Lev / Hcap","Score",null,"Won / Lost","Change +/-",null,"New Index"]
[null,{"$f":"NAMES!$C$9","v":"Date"},{"$f":"NAMES!$C$7","v":"Tournament"},{"$f":"PLAYER!G508","v":" Block 2 Player 3"},{"$f":"IF(UPPER(TRIM($D$84))=\"BYE\",\"-\",VLOOKUP($D$84,HCTableBlk2,2,FALSE))","v":0},{"$f":"IF(HandicapPlay=\"x\",\"H\",\"L\")","v":"L"},{"$f":"IF(UPPER(TRIM(D84))=\"BYE\",\"0\",PLAYER!I508)","v":-1E-3},{"$f":"IF(UPPER(TRIM(D84))=\"BYE\",\"0\",PLAYER!J508)","v":-1E-3},{"$f":"IF(UPPER(TRIM(D84))=\"BYE\",\"-\",IF(G84<0,\"\",(IF(G84>H84,\"W\",\"L\"))))","v":""},null,null,{"$f":"IF(J84=\"\",\"\",IF((L82+J84)<900,900,(L82+J84)))","v":""},null,null,null,null,null,{"$f":"IF(UPPER(TRIM($D$84))=\"BYE\",\"-\",VLOOKUP($D$84,HCTableBlk2,2,FALSE))","v":0}]
[null,"\"","\"           \"",{"$f":"PLAYER!G509","v":" Bye "},{"$f":"IF(UPPER(TRIM($D$85))=\"BYE\",\"-\",VLOOKUP($D$85,HCTableBlk2,2,FALSE))","v":"-"},{"$f":"IF(HandicapPlay=\"x\",\"H\",\"L\")","v":"L"},{"$f":"IF(UPPER(TRIM(D85))=\"BYE\",\"0\",PLAYER!I509)","v":"0"},{"$f":"IF(UPPER(TRIM(D85))=\"BYE\",\"0\",PLAYER!J509)","v":"0"},{"$f":"IF(UPPER(TRIM(D85))=\"BYE\",\"-\",IF(G85<0,\"\",(IF(G85>H85,\"W\",\"L\"))))","v":"-"},null,null,{"$f":"IF(OR(J85=\"\",L84=\"\"),\"\",IF((L84+J85)<900,900,(L84+J85)))","v":""},null,null,null,null,null,{"$f":"IF(UPPER(TRIM($D$85))=\"BYE\",\"-\",VLOOKUP($D$85,HCTableBlk2,2,FALSE))","v":"-"}]
[null,"\"","\"           \"",{"$f":"PLAYER!G510","v":" Block 2 Player 2"},{"$f":"IF(UPPER(TRIM($D$86))=\"BYE\",\"-\",VLOOKUP($D$86,HCTableBlk2,2,FALSE))","v":0},{"$f":"IF(HandicapPlay=\"x\",\"H\",\"L\")","v":"L"},{"$f":"IF(UPPER(TRIM(D86))=\"BYE\",\"0\",PLAYER!I510)","v":-1E-3},{"$f":"IF(UPPER(TRIM(D86))=\"BYE\",\"0\",PLAYER!J510)","v":-1E-3},{"$f":"IF(UPPER(TRIM(D86))=\"BYE\",\"-\",IF(G86<0,\"\",(IF(G86>H86,\"W\",\"L\"))))","v":""},null,null,{"$f":"IF(OR(J86=\"\",L85=\"\"),\"\",IF((L85+J86)<900,900,(L85+J86)))","v":""},null,null,null,null,null,{"$f":"IF(UPPER(TRIM($D$86))=\"BYE\",\"-\",VLOOKUP($D$86,HCTableBlk2,2,FALSE))","v":0}]
[null,"\"","\"           \"",{"$f":"PLAYER!G511","v":" Block 2 Player 1"},{"$f":"IF(UPPER(TRIM($D$87))=\"BYE\",\"-\",VLOOKUP($D$87,HCTableBlk2,2,FALSE))","v":0},{"$f":"IF(HandicapPlay=\"x\",\"H\",\"L\")","v":"L"},{"$f":"IF(UPPER(TRIM(D87))=\"BYE\",\"0\",PLAYER!I511)","v":-1E-3},{"$f":"IF(UPPER(TRIM(D87))=\"BYE\",\"0\",PLAYER!J511)","v":-1E-3},{"$f":"IF(UPPER(TRIM(D87))=\"BYE\",\"-\",IF(G87<0,\"\",(IF(G87>H87,\"W\",\"L\"))))","v":""},null,null,{"$f":"IF(OR(J87=\"\",L86=\"\"),\"\",IF((L86+J87)<900,900,(L86+J87)))","v":""},null,null,null,null,null,{"$f":"IF(UPPER(TRIM($D$87))=\"BYE\",\"-\",VLOOKUP($D$87,HCTableBlk2,2,FALSE))","v":0}]
[null,"\"","\"           \"",{"$f":"PLAYER!G512","v":" Block 2 Player 4"},{"$f":"IF(UPPER(TRIM($D$88))=\"BYE\",\"-\",VLOOKUP($D$88,HCTableBlk2,2,FALSE))","v":0},{"$f":"IF(HandicapPlay=\"x\",\"H\",\"L\")","v":"L"},{"$f":"IF(UPPER(TRIM(D88))=\"BYE\",\"0\",PLAYER!I512)","v":-1E-3},{"$f":"IF(UPPER(TRIM(D88))=\"BYE\",\"0\",PLAYER!J512)","v":-1E-3},{"$f":"IF(UPPER(TRIM(D88))=\"BYE\",\"-\",IF(G88<0,\"\",(IF(G88>H88,\"W\",\"L\"))))","v":""},null,"Finish >",{"$f":"IF(OR(J88=\"\",L87=\"\"),\"\",IF((L87+J88)<900,900,(L87+J88)))","v":""},null,null,null,null,null,{"$f":"IF(UPPER(TRIM($D$88))=\"BYE\",\"-\",VLOOKUP($D$88,HCTableBlk2,2,FALSE))","v":0}]
[]
[null,"PLAYER",null,{"$f":"SEED!$I$13","v":" Bye "},null,null,"Start H/C",{"$f":"SEED!$J$13","v":0},"New H/C",{"$f":"VLOOKUP(D90,HCTableBlk2,2,FALSE)","v":0},"Start Index",{"$f":"SEED!$H$13","v":0},"HC Change Indicator"]
[null,"Date","Event","Opponent","Oppt Hcap","Lev / Hcap","Score",null,"Won / Lost","Change +/-",null,"New Index"]
[null,{"$f":"NAMES!$C$9","v":"Date"},{"$f":"NAMES!$C$7","v":"Tournament"},{"$f":"PLAYER!G558","v":" Block 2 Player 2"},2,{"$f":"IF(HandicapPlay=\"x\",\"H\",\"L\")","v":"L"},{"$f":"PLAYER!I558","v":-1E-3},{"$f":"PLAYER!J558","v":-1E-3},{"$f":"IF(G92=-0.001,\"\",(IF(G92>H92,\"W\",\"L\")))","v":""},null,null,{"$f":"IF(J92=\"\",\"\",L90+J92)","v":""}]
[null,"\"","\"           \"",{"$f":"PLAYER!G559","v":" Block 2 Player 5"},5,{"$f":"IF(HandicapPlay=\"x\",\"H\",\"L\")","v":"L"},{"$f":"PLAYER!I559","v":-1E-3},{"$f":"PLAYER!J559","v":-1E-3},{"$f":"IF(G93=-0.001,\"\",(IF(G93>H93,\"W\",\"L\")))","v":""},null,null,{"$f":"IF(J93=\"\",\"\",L92+J93)","v":""}]
[null,"\"","\"           \"",{"$f":"PLAYER!G560","v":" Block 2 Player 1"},1,{"$f":"IF(HandicapPlay=\"x\",\"H\",\"L\")","v":"L"},{"$f":"PLAYER!I560","v":-1E-3},{"$f":"PLAYER!J560","v":-1E-3},{"$f":"IF(G94=-0.001,\"\",(IF(G94>H94,\"W\",\"L\")))","v":""},null,null,{"$f":"IF(J94=\"\",\"\",L93+J94)","v":""}]
[null,"\"","\"           \"",{"$f":"PLAYER!G561","v":" Block 2 Player 4"},4,{"$f":"IF(HandicapPlay=\"x\",\"H\",\"L\")","v":"L"},{"$f":"PLAYER!I561","v":-1E-3},{"$f":"PLAYER!J561","v":-1E-3},{"$f":"IF(G95=-0.001,\"\",(IF(G95>H95,\"W\",\"L\")))","v":""},null,null,{"$f":"IF(J95=\"\",\"\",L94+J95)","v":""}]
[null,"\"","\"           \"",{"$f":"PLAYER!G562","v":" Block 2 Player 3"},3,{"$f":"IF(HandicapPlay=\"x\",\"H\",\"L\")","v":"L"},{"$f":"PLAYER!I562","v":-1E-3},{"$f":"PLAYER!J562","v":-1E-3},{"$f":"IF(G96=-0.001,\"\",(IF(G96>H96,\"W\",\"L\")))","v":""},null,"Finish >",{"$f":"IF(J96=\"\",\"\",L95+J96)","v":""}]
[null,{"$f":"SEED!$D$15","v":"BLOCK 3"}]
[null,"PLAYER",null,{"$f":"SEED!$D$17","v":" Block 3 Player 1"},null,null,"Start H/C",{"$f":"SEED!$E$17","v":0},"New H/C",{"$f":"VLOOKUP(D98,HCTableBlk3,2,FALSE)","v":0},"Start Index",{"$f":"SEED!$C$17","v":0},"HC Change Indicator","Block 3"]
[null,"Date","Event","Opponent","Oppt Hcap","Lev / Hcap","Score",null,"Won / Lost","Change +/-",null,"New Index",null,"Player","H/C","Temp H/C",null,null,null,"HC Change Flags"]
[null,{"$f":"NAMES!$C$9","v":"Date"},{"$f":"NAMES!$C$7","v":"Tournament"},{"$f":"PLAYER!G608","v":" Block 3 Player 4"},{"$f":"IF(UPPER(TRIM($D$100))=\"BYE\",\"-\",VLOOKUP($D$100,HCTableBlk3,2,FALSE))","v":0},{"$f":"IF(HandicapPlay=\"x\",\"H\",\"L\")","v":"L"},{"$f":"IF(UPPER(TRIM(D100))=\"BYE\",\"0\",PLAYER!I608)","v":-1E-3},{"$f":"IF(UPPER(TRIM(D100))=\"BYE\",\"0\",PLAYER!J608)","v":-1E-3},{"$f":"IF(UPPER(TRIM(D100))=\"BYE\",\"-\",IF(G100<0,\"\",(IF(G100>H100,\"W\",\"L\"))))","v":""},null,null,{"$f":"IF(J100=\"\",\"\",IF((L98+J100)<900,900,(L98+J100)))","v":""},null,{"$f":"SEED!D17","v":" Block 3 Player 1"},{"$f":"SEED!E17","v":0},null,null,{"$f":"IF(UPPER(TRIM($D$100))=\"BYE\",\"-\",VLOOKUP($D$100,HCTableBlk3,2,FALSE))","v":0},null,0,"13"]
[null,"\"","\"           \"",{"$f":"PLAYER!G609","v":" Block 3 Player 3"},{"$f":"IF(UPPER(TRIM($D$101))=\"BYE\",\"-\",VLOOKUP($D$101,HCTableBlk3,2,FALSE))","v":0},{"$f":"IF(HandicapPlay=\"x\",\"H\",\"L\")","v":"L"},{"$f":"IF(UPPER(TRIM(D101))=\"BYE\",\"0\",PLAYER!I609)","v":-1E-3},{"$f":"IF(UPPER(TRIM(D101))=\"BYE\",\"0\",PLAYER!J609)","v":-1E-3},{"$f":"IF(UPPER(TRIM(D101))=\"BYE\",\"-\",IF(G101<0,\"\",(IF(G101>H101,\"W\",\"L\"))))","v":""},null,null,{"$f":"IF(OR(J101=\"\",L100=\"\"),\"\",IF((L100+J101)<900,900,(L100+J101)))","v":""},null,{"$f":"SEED!D18","v":" Block 3 Player 2"},{"$f":"SEED!E18","v":0},null,null,{"$f":"IF(UPPER(TRIM($D$101))=\"BYE\",\"-\",VLOOKUP($D$101,HCTableBlk3,2,FALSE))","v":0},null,0,"14"]
[null,"\"","\"           \"",{"$f":"PLAYER!G610","v":" Bye "},{"$f":"IF(UPPER(TRIM($D$102))=\"BYE\",\"-\",VLOOKUP($D$102,HCTableBlk3,2,FALSE))","v":"-"},{"$f":"IF(HandicapPlay=\"x\",\"H\",\"L\")","v":"L"},{"$f":"IF(UPPER(TRIM(D102))=\"BYE\",\"0\",PLAYER!I610)","v":"0"},{"$f":"IF(UPPER(TRIM(D102))=\"BYE\",\"0\",PLAYER!J610)","v":"0"},{"$f":"IF(UPPER(TRIM(D102))=\"BYE\",\"-\",IF(G102<0,\"\",(IF(G102>H102,\"W\",\"L\"))))","v":"-"},null,null,{"$f":"IF(OR(J102=\"\",L101=\"\"),\"\",IF((L101+J102)<900,900,(L101+J102)))","v":""},null,{"$f":"SEED!D19","v":" Block 3 Player 3"},{"$f":"SEED!E19","v":0},null,null,{"$f":"IF(UPPER(TRIM($D$102))=\"BYE\",\"-\",VLOOKUP($D$102,HCTableBlk3,2,FALSE))","v":"-"},null,0,"15"]
[null,"\"","\"           \"",{"$f":"PLAYER!G611","v":" Block 3 Player 5"},{"$f":"IF(UPPER(TRIM($D$103))=\"BYE\",\"-\",VLOOKUP($D$103,HCTableBlk3,2,FALSE))","v":0},{"$f":"IF(HandicapPlay=\"x\",\"H\",\"L\")","v":"L"},{"$f":"IF(UPPER(TRIM(D103))=\"BYE\",\"0\",PLAYER!I611)","v":-1E-3},{"$f":"IF(UPPER(TRIM(D103))=\"BYE\",\"0\",PLAYER!J611)","v":-1E-3},{"$f":"IF(UPPER(TRIM(D103))=\"BYE\",\"-\",IF(G103<0,\"\",(IF(G103>H103,\"W\",\"L\"))))","v":""},null,null,{"$f":"IF(OR(J103=\"\",L102=\"\"),\"\",IF((L102+J103)<900,900,(L102+J103)))","v":""},null,{"$f":"SEED!D20","v":" Block 3 Player 4"},{"$f":"SEED!E20","v":0},null,null,{"$f":"IF(UPPER(TRIM($D$103))=\"BYE\",\"-\",VLOOKUP($D$103,HCTableBlk3,2,FALSE))","v":0},null,0,"16"]
[null,"\"","\"           \"",{"$f":"PLAYER!G612","v":" Block 3 Player 2"},{"$f":"IF(UPPER(TRIM($D$104))=\"BYE\",\"-\",VLOOKUP($D$104,HCTableBlk3,2,FALSE))","v":0},{"$f":"IF(HandicapPlay=\"x\",\"H\",\"L\")","v":"L"},{"$f":"IF(UPPER(TRIM(D104))=\"BYE\",\"0\",PLAYER!I612)","v":-1E-3},{"$f":"IF(UPPER(TRIM(D104))=\"BYE\",\"0\",PLAYER!J612)","v":-1E-3},{"$f":"IF(UPPER(TRIM(D104))=\"BYE\",\"-\",IF(G104<0,\"\",(IF(G104>H104,\"W\",\"L\"))))","v":""},null,"Finish >",{"$f":"IF(OR(J104=\"\",L103=\"\"),\"\",IF((L103+J104)<900,900,(L103+J104)))","v":""},null,{"$f":"SEED!D21","v":" Block 3 Player 5"},{"$f":"SEED!E21","v":0},null,null,{"$f":"IF(UPPER(TRIM($D$104))=\"BYE\",\"-\",VLOOKUP($D$104,HCTableBlk3,2,FALSE))","v":0},null,0,"17"]
[null,null,null,null,null,null,null,null,null,null,null,null,null,{"$f":"SEED!D22","v":" Bye "},{"$f":"SEED!E22","v":0},null,null,null,null,0,"(18)"]
[null,"PLAYER",null,{"$f":"SEED!$D$18","v":" Block 3 Player 2"},null,null,"Start H/C",{"$f":"SEED!$E$18","v":0},"New H/C",{"$f":"VLOOKUP(D106,HCTableBlk3,2,FALSE)","v":0},"Start Index",{"$f":"SEED!$C$18","v":0},"HC Change Indicator"]
[null,"Date","Event","Opponent","Oppt Hcap","Lev / Hcap","Score",null,"Won / Lost","Change +/-",null,"New Index"]
[null,{"$f":"NAMES!$C$9","v":"Date"},{"$f":"NAMES!$C$7","v":"Tournament"},{"$f":"PLAYER!G658","v":" Bye "},{"$f":"IF(UPPER(TRIM($D$108))=\"BYE\",\"-\",VLOOKUP($D$108,HCTableBlk3,2,FALSE))","v":"-"},{"$f":"IF(HandicapPlay=\"x\",\"H\",\"L\")","v":"L"},{"$f":"IF(UPPER(TRIM(D108))=\"BYE\",\"0\",PLAYER!I658)","v":"0"},{"$f":"IF(UPPER(TRIM(D108))=\"BYE\",\"0\",PLAYER!J658)","v":"0"},{"$f":"IF(UPPER(TRIM(D108))=\"BYE\",\"-\",IF(G108<0,\"\",(IF(G108>H108,\"W\",\"L\"))))","v":"-"},null,null,{"$f":"IF(J108=\"\",\"\",IF((L106+J108)<900,900,(L106+J108)))","v":""},null,null,null,null,null,{"$f":"IF(UPPER(TRIM($D$108))=\"BYE\",\"-\",VLOOKUP($D$108,HCTableBlk3,2,FALSE))","v":"-"}]
[null,"\"","\"           \"",{"$f":"PLAYER!G659","v":" Block 3 Player 4"},{"$f":"IF(UPPER(TRIM($D$109))=\"BYE\",\"-\",VLOOKUP($D$109,HCTableBlk3,2,FALSE))","v":0},{"$f":"IF(HandicapPlay=\"x\",\"H\",\"L\")","v":"L"},{"$f":"IF(UPPER(TRIM(D109))=\"BYE\",\"0\",PLAYER!I659)","v":-1E-3},{"$f":"IF(UPPER(TRIM(D109))=\"BYE\",\"0\",PLAYER!J659)","v":-1E-3},{"$f":"IF(UPPER(TRIM(D109))=\"BYE\",\"-\",IF(G109<0,\"\",(IF(G109>H109,\"W\",\"L\"))))","v":""},null,null,{"$f":"IF(OR(J109=\"\",L108=\"\"),\"\",IF((L108+J109)<900,900,(L108+J109)))","v":""},null,null,null,null,null,{"$f":"IF(UPPER(TRIM($D$109))=\"BYE\",\"-\",VLOOKUP($D$109,HCTableBlk3,2,FALSE))","v":0}]
[null,"\"","\"           \"",{"$f":"PLAYER!G660","v":" Block 3 Player 5"},{"$f":"IF(UPPER(TRIM($D$110))=\"BYE\",\"-\",VLOOKUP($D$110,HCTableBlk3,2,FALSE))","v":0},{"$f":"IF(HandicapPlay=\"x\",\"H\",\"L\")","v":"L"},{"$f":"IF(UPPER(TRIM(D110))=\"BYE\",\"0\",PLAYER!I660)","v":-1E-3},{"$f":"IF(UPPER(TRIM(D110))=\"BYE\",\"0\",PLAYER!J660)","v":-1E-3},{"$f":"IF(UPPER(TRIM(D110))=\"BYE\",\"-\",IF(G110<0,\"\",(IF(G110>H110,\"W\",\"L\"))))","v":""},null,null,{"$f":"IF(OR(J110=\"\",L109=\"\"),\"\",IF((L109+J110)<900,900,(L109+J110)))","v":""},null,null,null,null,null,{"$f":"IF(UPPER(TRIM($D$110))=\"BYE\",\"-\",VLOOKUP($D$110,HCTableBlk3,2,FALSE))","v":0}]
[null,"\"","\"           \"",{"$f":"PLAYER!G661","v":" Block 3 Player 3"},{"$f":"IF(UPPER(TRIM($D$111))=\"BYE\",\"-\",VLOOKUP($D$111,HCTableBlk3,2,FALSE))","v":0},{"$f":"IF(HandicapPlay=\"x\",\"H\",\"L\")","v":"L"},{"$f":"IF(UPPER(TRIM(D111))=\"BYE\",\"0\",PLAYER!I661)","v":-1E-3},{"$f":"IF(UPPER(TRIM(D111))=\"BYE\",\"0\",PLAYER!J661)","v":-1E-3},{"$f":"IF(UPPER(TRIM(D111))=\"BYE\",\"-\",IF(G111<0,\"\",(IF(G111>H111,\"W\",\"L\"))))","v":""},null,null,{"$f":"IF(OR(J111=\"\",L110=\"\"),\"\",IF((L110+J111)<900,900,(L110+J111)))","v":""},null,null,null,null,null,{"$f":"IF(UPPER(TRIM($D$111))=\"BYE\",\"-\",VLOOKUP($D$111,HCTableBlk3,2,FALSE))","v":0}]
[null,"\"","\"           \"",{"$f":"PLAYER!G662","v":" Block 3 Player 1"},{"$f":"IF(UPPER(TRIM($D$112))=\"BYE\",\"-\",VLOOKUP($D$112,HCTableBlk3,2,FALSE))","v":0},{"$f":"IF(HandicapPlay=\"x\",\"H\",\"L\")","v":"L"},{"$f":"IF(UPPER(TRIM(D112))=\"BYE\",\"0\",PLAYER!I662)","v":-1E-3},{"$f":"IF(UPPER(TRIM(D112))=\"BYE\",\"0\",PLAYER!J662)","v":-1E-3},{"$f":"IF(UPPER(TRIM(D112))=\"BYE\",\"-\",IF(G112<0,\"\",(IF(G112>H112,\"W\",\"L\"))))","v":""},null,"Finish >",{"$f":"IF(OR(J112=\"\",L111=\"\"),\"\",IF((L111+J112)<900,900,(L111+J112)))","v":""},null,null,null,null,null,{"$f":"IF(UPPER(TRIM($D$112))=\"BYE\",\"-\",VLOOKUP($D$112,HCTableBlk3,2,FALSE))","v":0}]
[]
[null,"PLAYER",null,{"$f":"SEED!$D$19","v":" Block 3 Player 3"},null,null,"Start H/C",{"$f":"SEED!$E$19","v":0},"New H/C",{"$f":"VLOOKUP(D114,HCTableBlk3,2,FALSE)","v":0},"Start Index",{"$f":"SEED!$C$19","v":0},"HC Change Indicator"]
[null,"Date","Event","Opponent","Oppt Hcap","Lev / Hcap","Score",null,"Won / Lost","Change +/-",null,"New Index"]
[null,{"$f":"NAMES!$C$9","v":"Date"},{"$f":"NAMES!$C$7","v":"Tournament"},{"$f":"PLAYER!G708","v":" Block 3 Player 5"},{"$f":"IF(UPPER(TRIM($D$116))=\"BYE\",\"-\",VLOOKUP($D$116,HCTableBlk3,2,FALSE))","v":0},{"$f":"IF(HandicapPlay=\"x\",\"H\",\"L\")","v":"L"},{"$f":"IF(UPPER(TRIM(D116))=\"BYE\",\"0\",PLAYER!I708)","v":-1E-3},{"$f":"IF(UPPER(TRIM(D116))=\"BYE\",\"0\",PLAYER!J708)","v":-1E-3},{"$f":"IF(UPPER(TRIM(D116))=\"BYE\",\"-\",IF(G116<0,\"\",(IF(G116>H116,\"W\",\"L\"))))","v":""},null,null,{"$f":"IF(J116=\"\",\"\",IF((L114+J116)<900,900,(L114+J116)))","v":""},null,null,null,null,null,{"$f":"IF(UPPER(TRIM($D$116))=\"BYE\",\"-\",VLOOKUP($D$116,HCTableBlk3,2,FALSE))","v":0}]
[null,"\"","\"           \"",{"$f":"PLAYER!G709","v":" Block 3 Player 1"},{"$f":"IF(UPPER(TRIM($D$117))=\"BYE\",\"-\",VLOOKUP($D$117,HCTableBlk3,2,FALSE))","v":0},{"$f":"IF(HandicapPlay=\"x\",\"H\",\"L\")","v":"L"},{"$f":"IF(UPPER(TRIM(D117))=\"BYE\",\"0\",PLAYER!I709)","v":-1E-3},{"$f":"IF(UPPER(TRIM(D117))=\"BYE\",\"0\",PLAYER!J709)","v":-1E-3},{"$f":"IF(UPPER(TRIM(D117))=\"BYE\",\"-\",IF(G117<0,\"\",(IF(G117>H117,\"W\",\"L\"))))","v":""},null,null,{"$f":"IF(OR(J117=\"\",L116=\"\"),\"\",IF((L116+J117)<900,900,(L116+J117)))","v":""},null,null,null,null,null,{"$f":"IF(UPPER(TRIM($D$117))=\"BYE\",\"-\",VLOOKUP($D$117,HCTableBlk3,2,FALSE))","v":0}]
[null,"\"","\"           \"",{"$f":"PLAYER!G710","v":" Block 3 Player 4"},{"$f":"IF(UPPER(TRIM($D$118))=\"BYE\",\"-\",VLOOKUP($D$118,HCTableBlk3,2,FALSE))","v":0},{"$f":"IF(HandicapPlay=\"x\",\"H\",\"L\")","v":"L"},{"$f":"IF(UPPER(TRIM(D118))=\"BYE\",\"0\",PLAYER!I710)","v":-1E-3},{"$f":"IF(UPPER(TRIM(D118))=\"BYE\",\"0\",PLAYER!J710)","v":-1E-3},{"$f":"IF(UPPER(TRIM(D118))=\"BYE\",\"-\",IF(G118<0,\"\",(IF(G118>H118,\"W\",\"L\"))))","v":""},null,null,{"$f":"IF(OR(J118=\"\",L117=\"\"),\"\",IF((L117+J118)<900,900,(L117+J118)))","v":""},null,null,null,null,null,{"$f":"IF(UPPER(TRIM($D$118))=\"BYE\",\"-\",VLOOKUP($D$118,HCTableBlk3,2,FALSE))","v":0}]
[null,"\"","\"           \"",{"$f":"PLAYER!G711","v":" Block 3 Player 2"},{"$f":"IF(UPPER(TRIM($D$119))=\"BYE\",\"-\",VLOOKUP($D$119,HCTableBlk3,2,FALSE))","v":0},{"$f":"IF(HandicapPlay=\"x\",\"H\",\"L\")","v":"L"},{"$f":"IF(UPPER(TRIM(D119))=\"BYE\",\"0\",PLAYER!I711)","v":-1E-3},{"$f":"IF(UPPER(TRIM(D119))=\"BYE\",\"0\",PLAYER!J711)","v":-1E-3},{"$f":"IF(UPPER(TRIM(D119))=\"BYE\",\"-\",IF(G119<0,\"\",(IF(G119>H119,\"W\",\"L\"))))","v":""},null,null,{"$f":"IF(OR(J119=\"\",L118=\"\"),\"\",IF((L118+J119)<900,900,(L118+J119)))","v":""},null,null,null,null,null,{"$f":"IF(UPPER(TRIM($D$119))=\"BYE\",\"-\",VLOOKUP($D$119,HCTableBlk3,2,FALSE))","v":0}]
[null,"\"","\"           \"",{"$f":"PLAYER!G712","v":" Bye "},{"$f":"IF(UPPER(TRIM($D$120))=\"BYE\",\"-\",VLOOKUP($D$120,HCTableBlk3,2,FALSE))","v":"-"},{"$f":"IF(HandicapPlay=\"x\",\"H\",\"L\")","v":"L"},{"$f":"IF(UPPER(TRIM(D120))=\"BYE\",\"0\",PLAYER!I712)","v":"0"},{"$f":"IF(UPPER(TRIM(D120))=\"BYE\",\"0\",PLAYER!J712)","v":"0"},{"$f":"IF(UPPER(TRIM(D120))=\"BYE\",\"-\",IF(G120<0,\"\",(IF(G120>H120,\"W\",\"L\"))))","v":"-"},null,"Finish >",{"$f":"IF(OR(J120=\"\",L119=\"\"),\"\",IF((L119+J120)<900,900,(L119+J120)))","v":""},null,null,null,null,null,{"$f":"IF(UPPER(TRIM($D$120))=\"BYE\",\"-\",VLOOKUP($D$120,HCTableBlk3,2,FALSE))","v":"-"}]
[]
[null,"PLAYER",null,{"$f":"SEED!$D$20","v":" Block 3 Player 4"},null,null,"Start H/C",{"$f":"SEED!$E$20","v":0},"New H/C",{"$f":"VLOOKUP(D122,HCTableBlk3,2,FALSE)","v":0},"Start Index",{"$f":"SEED!$C$20","v":0},"HC Change Indicator"]
[null,"Date","Event","Opponent","Oppt Hcap","Lev / Hcap","Score",null,"Won / Lost","Change +/-",null,"New Index"]
[null,{"$f":"NAMES!$C$9","v":"Date"},{"$f":"NAMES!$C$7","v":"Tournament"},{"$f":"PLAYER!G758","v":" Block 3 Player 1"},{"$f":"IF(UPPER(TRIM($D$124))=\"BYE\",\"-\",VLOOKUP($D$124,HCTableBlk3,2,FALSE))","v":0},{"$f":"IF(HandicapPlay=\"x\",\"H\",\"L\")","v":"L"},{"$f":"IF(UPPER(TRIM(D124))=\"BYE\",\"0\",PLAYER!I758)","v":-1E-3},{"$f":"IF(UPPER(TRIM(D124))=\"BYE\",\"0\",PLAYER!J758)","v":-1E-3},{"$f":"IF(UPPER(TRIM(D124))=\"BYE\",\"-\",IF(G124<0,\"\",(IF(G124>H124,\"W\",\"L\"))))","v":""},null,null,{"$f":"IF(J124=\"\",\"\",IF((L122+J124)<900,900,(L122+J124)))","v":""},null,null,null,null,null,{"$f":"IF(UPPER(TRIM($D$124))=\"BYE\",\"-\",VLOOKUP($D$124,HCTableBlk3,2,FALSE))","v":0}]
[null,"\"","\"           \"",{"$f":"PLAYER!G759","v":" Block 3 Player 2"},{"$f":"IF(UPPER(TRIM($D$125))=\"BYE\",\"-\",VLOOKUP($D$125,HCTableBlk3,2,FALSE))","v":0},{"$f":"IF(HandicapPlay=\"x\",\"H\",\"L\")","v":"L"},{"$f":"IF(UPPER(TRIM(D125))=\"BYE\",\"0\",PLAYER!I759)","v":-1E-3},{"$f":"IF(UPPER(TRIM(D125))=\"BYE\",\"0\",PLAYER!J759)","v":-1E-3},{"$f":"IF(UPPER(TRIM(D125))=\"BYE\",\"-\",IF(G125<0,\"\",(IF(G125>H125,\"W\",\"L\"))))","v":""},null,null,{"$f":"IF(OR(J125=\"\",L124=\"\"),\"\",IF((L124+J125)<900,900,(L124+J125)))","v":""},null,null,null,null,null,{"$f":"IF(UPPER(TRIM($D$125))=\"BYE\",\"-\",VLOOKUP($D$125,HCTableBlk3,2,FALSE))","v":0}]
[null,"\"","\"           \"",{"$f":"PLAYER!G760","v":" Block 3 Player 3"},{"$f":"IF(UPPER(TRIM($D$126))=\"BYE\",\"-\",VLOOKUP($D$126,HCTableBlk3,2,FALSE))","v":0},{"$f":"IF(HandicapPlay=\"x\",\"H\",\"L\")","v":"L"},{"$f":"IF(UPPER(TRIM(D126))=\"BYE\",\"0\",PLAYER!I760)","v":-1E-3},{"$f":"IF(UPPER(TRIM(D126))=\"BYE\",\"0\",PLAYER!J760)","v":-1E-3},{"$f":"IF(UPPER(TRIM(D126))=\"BYE\",\"-\",IF(G126<0,\"\",(IF(G126>H126,\"W\",\"L\"))))","v":""},null,null,{"$f":"IF(OR(J126=\"\",L125=\"\"),\"\",IF((L125+J126)<900,900,(L125+J126)))","v":""},null,null,null,null,null,{"$f":"IF(UPPER(TRIM($D$126))=\"BYE\",\"-\",VLOOKUP($D$126,HCTableBlk3,2,FALSE))","v":0}]
[null,"\"","\"           \"",{"$f":"PLAYER!G761","v":" Bye "},{"$f":"IF(UPPER(TRIM($D$127))=\"BYE\",\"-\",VLOOKUP($D$127,HCTableBlk3,2,FALSE))","v":"-"},{"$f":"IF(HandicapPlay=\"x\",\"H\",\"L\")","v":"L"},{"$f":"IF(UPPER(TRIM(D127))=\"BYE\",\"0\",PLAYER!I761)","v":"0"},{"$f":"IF(UPPER(TRIM(D127))=\"BYE\",\"0\",PLAYER!J761)","v":"0"},{"$f":"IF(UPPER(TRIM(D127))=\"BYE\",\"-\",IF(G127<0,\"\",(IF(G127>H127,\"W\",\"L\"))))","v":"-"},null,null,{"$f":"IF(OR(J127=\"\",L126=\"\"),\"\",IF((L126+J127)<900,900,(L126+J127)))","v":""},null,null,null,null,null,{"$f":"IF(UPPER(TRIM($D$127))=\"BYE\",\"-\",VLOOKUP($D$127,HCTableBlk3,2,FALSE))","v":"-"}]
[null,"\"","\"           \"",{"$f":"PLAYER!G762","v":" Block 3 Player 5"},{"$f":"IF(UPPER(TRIM($D$128))=\"BYE\",\"-\",VLOOKUP($D$128,HCTableBlk3,2,FALSE))","v":0},{"$f":"IF(HandicapPlay=\"x\",\"H\",\"L\")","v":"L"},{"$f":"IF(UPPER(TRIM(D128))=\"BYE\",\"0\",PLAYER!I762)","v":-1E-3},{"$f":"IF(UPPER(TRIM(D128))=\"BYE\",\"0\",PLAYER!J762)","v":-1E-3},{"$f":"IF(UPPER(TRIM(D128))=\"BYE\",\"-\",IF(G128<0,\"\",(IF(G128>H128,\"W\",\"L\"))))","v":""},null,"Finish >",{"$f":"IF(OR(J128=\"\",L127=\"\"),\"\",IF((L127+J128)<900,900,(L127+J128)))","v":""},null,null,null,null,null,{"$f":"IF(UPPER(TRIM($D$128))=\"BYE\",\"-\",VLOOKUP($D$128,HCTableBlk3,2,FALSE))","v":0}]
[]
[null,"PLAYER",null,{"$f":"SEED!$D$21","v":" Block 3 Player 5"},null,null,"Start H/C",{"$f":"SEED!$E$21","v":0},"New H/C",{"$f":"VLOOKUP(D130,HCTableBlk3,2,FALSE)","v":0},"Start Index",{"$f":"SEED!$C$21","v":0},"HC Change Indicator"]
[null,"Date","Event","Opponent","Oppt Hcap","Lev / Hcap","Score",null,"Won / Lost","Change +/-",null,"New Index"]
[null,{"$f":"NAMES!$C$9","v":"Date"},{"$f":"NAMES!$C$7","v":"Tournament"},{"$f":"PLAYER!G808","v":" Block 3 Player 3"},{"$f":"IF(UPPER(TRIM($D$132))=\"BYE\",\"-\",VLOOKUP($D$132,HCTableBlk3,2,FALSE))","v":0},{"$f":"IF(HandicapPlay=\"x\",\"H\",\"L\")","v":"L"},{"$f":"IF(UPPER(TRIM(D132))=\"BYE\",\"0\",PLAYER!I808)","v":-1E-3},{"$f":"IF(UPPER(TRIM(D132))=\"BYE\",\"0\",PLAYER!J808)","v":-1E-3},{"$f":"IF(UPPER(TRIM(D132))=\"BYE\",\"-\",IF(G132<0,\"\",(IF(G132>H132,\"W\",\"L\"))))","v":""},null,null,{"$f":"IF(J132=\"\",\"\",IF((L130+J132)<900,900,(L130+J132)))","v":""},null,null,null,null,null,{"$f":"IF(UPPER(TRIM($D$132))=\"BYE\",\"-\",VLOOKUP($D$132,HCTableBlk3,2,FALSE))","v":0}]
[null,"\"","\"           \"",{"$f":"PLAYER!G809","v":" Bye "},{"$f":"IF(UPPER(TRIM($D$133))=\"BYE\",\"-\",VLOOKUP($D$133,HCTableBlk3,2,FALSE))","v":"-"},{"$f":"IF(HandicapPlay=\"x\",\"H\",\"L\")","v":"L"},{"$f":"IF(UPPER(TRIM(D133))=\"BYE\",\"0\",PLAYER!I809)","v":"0"},{"$f":"IF(UPPER(TRIM(D133))=\"BYE\",\"0\",PLAYER!J809)","v":"0"},{"$f":"IF(UPPER(TRIM(D133))=\"BYE\",\"-\",IF(G133<0,\"\",(IF(G133>H133,\"W\",\"L\"))))","v":"-"},null,null,{"$f":"IF(OR(J133=\"\",L132=\"\"),\"\",IF((L132+J133)<900,900,(L132+J133)))","v":""},null,null,null,null,null,{"$f":"IF(UPPER(TRIM($D$133))=\"BYE\",\"-\",VLOOKUP($D$133,HCTableBlk3,2,FALSE))","v":"-"}]
[null,"\"","\"           \"",{"$f":"PLAYER!G810","v":" Block 3 Player 2"},{"$f":"IF(UPPER(TRIM($D$134))=\"BYE\",\"-\",VLOOKUP($D$134,HCTableBlk3,2,FALSE))","v":0},{"$f":"IF(HandicapPlay=\"x\",\"H\",\"L\")","v":"L"},{"$f":"IF(UPPER(TRIM(D134))=\"BYE\",\"0\",PLAYER!I810)","v":-1E-3},{"$f":"IF(UPPER(TRIM(D134))=\"BYE\",\"0\",PLAYER!J810)","v":-1E-3},{"$f":"IF(UPPER(TRIM(D134))=\"BYE\",\"-\",IF(G134<0,\"\",(IF(G134>H134,\"W\",\"L\"))))","v":""},null,null,{"$f":"IF(OR(J134=\"\",L133=\"\"),\"\",IF((L133+J134)<900,900,(L133+J134)))","v":""},null,null,null,null,null,{"$f":"IF(UPPER(TRIM($D$134))=\"BYE\",\"-\",VLOOKUP($D$134,HCTableBlk3,2,FALSE))","v":0}]
[null,"\"","\"           \"",{"$f":"PLAYER!G811","v":" Block 3 Player 1"},{"$f":"IF(UPPER(TRIM($D$135))=\"BYE\",\"-\",VLOOKUP($D$135,HCTableBlk3,2,FALSE))","v":0},{"$f":"IF(HandicapPlay=\"x\",\"H\",\"L\")","v":"L"},{"$f":"IF(UPPER(TRIM(D135))=\"BYE\",\"0\",PLAYER!I811)","v":-1E-3},{"$f":"IF(UPPER(TRIM(D135))=\"BYE\",\"0\",PLAYER!J811)","v":-1E-3},{"$f":"IF(UPPER(TRIM(D135))=\"BYE\",\"-\",IF(G135<0,\"\",(IF(G135>H135,\"W\",\"L\"))))","v":""},null,null,{"$f":"IF(OR(J135=\"\",L134=\"\"),\"\",IF((L134+J135)<900,900,(L134+J135)))","v":""},null,null,null,null,null,{"$f":"IF(UPPER(TRIM($D$135))=\"BYE\",\"-\",VLOOKUP($D$135,HCTableBlk3,2,FALSE))","v":0}]
[null,"\"","\"           \"",{"$f":"PLAYER!G812","v":" Block 3 Player 4"},{"$f":"IF(UPPER(TRIM($D$136))=\"BYE\",\"-\",VLOOKUP($D$136,HCTableBlk3,2,FALSE))","v":0},{"$f":"IF(HandicapPlay=\"x\",\"H\",\"L\")","v":"L"},{"$f":"IF(UPPER(TRIM(D136))=\"BYE\",\"0\",PLAYER!I812)","v":-1E-3},{"$f":"IF(UPPER(TRIM(D136))=\"BYE\",\"0\",PLAYER!J812)","v":-1E-3},{"$f":"IF(UPPER(TRIM(D136))=\"BYE\",\"-\",IF(G136<0,\"\",(IF(G136>H136,\"W\",\"L\"))))","v":""},null,"Finish >",{"$f":"IF(OR(J136=\"\",L135=\"\"),\"\",IF((L135+J136)<900,900,(L135+J136)))","v":""},null,null,null,null,null,{"$f":"IF(UPPER(TRIM($D$136))=\"BYE\",\"-\",VLOOKUP($D$136,HCTableBlk3,2,FALSE))","v":0}]
[]
[null,"PLAYER",null,{"$f":"SEED!$D$22","v":" Bye "},null,null,"Start H/C",{"$f":"SEED!$E$22","v":0},"New H/C",{"$f":"VLOOKUP(D138,HCTableBlk3,2,FALSE)","v":0},"Start Index",{"$f":"SEED!$C$22","v":0},"HC Change Indicator"]
[null,"Date","Event","Opponent","Oppt Hcap","Lev / Hcap","Score",null,"Won / Lost","Change +/-",null,"New Index"]
[null,{"$f":"NAMES!$C$9","v":"Date"},{"$f":"NAMES!$C$7","v":"Tournament"},{"$f":"PLAYER!G858","v":" Block 3 Player 2"},2,{"$f":"IF(HandicapPlay=\"x\",\"H\",\"L\")","v":"L"},{"$f":"PLAYER!I858","v":-1E-3},{"$f":"PLAYER!J858","v":-1E-3},{"$f":"IF(G140=-0.001,\"\",(IF(G140>H140,\"W\",\"L\")))","v":""},null,null,{"$f":"IF(J140=\"\",\"\",L138+J140)","v":""}]
[null,"\"","\"           \"",{"$f":"PLAYER!G859","v":" Block 3 Player 5"},5,{"$f":"IF(HandicapPlay=\"x\",\"H\",\"L\")","v":"L"},{"$f":"PLAYER!I859","v":-1E-3},{"$f":"PLAYER!J859","v":-1E-3},{"$f":"IF(G141=-0.001,\"\",(IF(G141>H141,\"W\",\"L\")))","v":""},null,null,{"$f":"IF(J141=\"\",\"\",L140+J141)","v":""}]
[null,"\"","\"           \"",{"$f":"PLAYER!G860","v":" Block 3 Player 1"},1,{"$f":"IF(HandicapPlay=\"x\",\"H\",\"L\")","v":"L"},{"$f":"PLAYER!I860","v":-1E-3},{"$f":"PLAYER!J860","v":-1E-3},{"$f":"IF(G142=-0.001,\"\",(IF(G142>H142,\"W\",\"L\")))","v":""},null,null,{"$f":"IF(J142=\"\",\"\",L141+J142)","v":""}]
[null,"\"","\"           \"",{"$f":"PLAYER!G861","v":" Block 3 Player 4"},4,{"$f":"IF(HandicapPlay=\"x\",\"H\",\"L\")","v":"L"},{"$f":"PLAYER!I861","v":-1E-3},{"$f":"PLAYER!J861","v":-1E-3},{"$f":"IF(G143=-0.001,\"\",(IF(G143>H143,\"W\",\"L\")))","v":""},null,null,{"$f":"IF(J143=\"\",\"\",L142+J143)","v":""}]
[null,"\"","\"           \"",{"$f":"PLAYER!G862","v":" Block 3 Player 3"},3,{"$f":"IF(HandicapPlay=\"x\",\"H\",\"L\")","v":"L"},{"$f":"PLAYER!I862","v":-1E-3},{"$f":"PLAYER!J862","v":-1E-3},{"$f":"IF(G144=-0.001,\"\",(IF(G144>H144,\"W\",\"L\")))","v":""},null,"Finish >",{"$f":"IF(J144=\"\",\"\",L143+J144)","v":""}]
[null,{"$f":"SEED!$I$15","v":"BLOCK 4"}]
[null,"PLAYER",null,{"$f":"SEED!$I$17","v":" Block 4 Player 1"},null,null,"Start H/C",{"$f":"SEED!$J$17","v":0},"New H/C",{"$f":"VLOOKUP(D146,HCTableBlk4,2,FALSE)","v":0},"Start Index",{"$f":"SEED!$H$17","v":0},"HC Change Indicator","Block 4"]
[null,"Date","Event","Opponent","Oppt Hcap","Lev / Hcap","Score",null,"Won / Lost","Change +/-",null,"New Index",null,"Player","H/C","Temp H/C",null,null,null,"HC Change Flags"]
[null,{"$f":"NAMES!$C$9","v":"Date"},{"$f":"NAMES!$C$7","v":"Tournament"},{"$f":"PLAYER!G908","v":" Block 4 Player 4"},{"$f":"IF(UPPER(TRIM($D$148))=\"BYE\",\"-\",VLOOKUP($D$148,HCTableBlk4,2,FALSE))","v":0},{"$f":"IF(HandicapPlay=\"x\",\"H\",\"L\")","v":"L"},{"$f":"IF(UPPER(TRIM(D148))=\"BYE\",\"0\",PLAYER!I908)","v":-1E-3},{"$f":"IF(UPPER(TRIM(D148))=\"BYE\",\"0\",PLAYER!J908)","v":-1E-3},{"$f":"IF(UPPER(TRIM(D148))=\"BYE\",\"-\",IF(G148<0,\"\",(IF(G148>H148,\"W\",\"L\"))))","v":""},null,null,{"$f":"IF(J148=\"\",\"\",IF((L146+J148)<900,900,(L146+J148)))","v":""},null,{"$f":"SEED!I17","v":" Block 4 Player 1"},{"$f":"SEED!J17","v":0},null,null,{"$f":"IF(UPPER(TRIM($D$148))=\"BYE\",\"-\",VLOOKUP($D$148,HCTableBlk4,2,FALSE))","v":0},null,0,"19"]
[null,"\"","\"           \"",{"$f":"PLAYER!G909","v":" Block 4 Player 3"},{"$f":"IF(UPPER(TRIM($D$149))=\"BYE\",\"-\",VLOOKUP($D$149,HCTableBlk4,2,FALSE))","v":0},{"$f":"IF(HandicapPlay=\"x\",\"H\",\"L\")","v":"L"},{"$f":"IF(UPPER(TRIM(D149))=\"BYE\",\"0\",PLAYER!I909)","v":-1E-3},{"$f":"IF(UPPER(TRIM(D149))=\"BYE\",\"0\",PLAYER!J909)","v":-1E-3},{"$f":"IF(UPPER(TRIM(D149))=\"BYE\",\"-\",IF(G149<0,\"\",(IF(G149>H149,\"W\",\"L\"))))","v":""},null,null,{"$f":"IF(OR(J149=\"\",L148=\"\"),\"\",IF((L148+J149)<900,900,(L148+J149)))","v":""},null,{"$f":"SEED!I18","v":" Block 4 Player 2"},{"$f":"SEED!J18","v":0},null,null,{"$f":"IF(UPPER(TRIM($D$149))=\"BYE\",\"-\",VLOOKUP($D$149,HCTableBlk4,2,FALSE))","v":0},null,0,"20"]
[null,"\"","\"           \"",{"$f":"PLAYER!G910","v":" Bye "},{"$f":"IF(UPPER(TRIM($D$150))=\"BYE\",\"-\",VLOOKUP($D$150,HCTableBlk4,2,FALSE))","v":"-"},{"$f":"IF(HandicapPlay=\"x\",\"H\",\"L\")","v":"L"},{"$f":"IF(UPPER(TRIM(D150))=\"BYE\",\"0\",PLAYER!I910)","v":"0"},{"$f":"IF(UPPER(TRIM(D150))=\"BYE\",\"0\",PLAYER!J910)","v":"0"},{"$f":"IF(UPPER(TRIM(D150))=\"BYE\",\"-\",IF(G150<0,\"\",(IF(G150>H150,\"W\",\"L\"))))","v":"-"},null,null,{"$f":"IF(OR(J150=\"\",L149=\"\"),\"\",IF((L149+J150)<900,900,(L149+J150)))","v":""},null,{"$f":"SEED!I19","v":" Block 4 Player 3"},{"$f":"SEED!J19","v":0},null,null,{"$f":"IF(UPPER(TRIM($D$150))=\"BYE\",\"-\",VLOOKUP($D$150,HCTableBlk4,2,FALSE))","v":"-"},null,0,"21"]
[null,"\"","\"           \"",{"$f":"PLAYER!G911","v":" Block 4 Player 5"},{"$f":"IF(UPPER(TRIM($D$151))=\"BYE\",\"-\",VLOOKUP($D$151,HCTableBlk4,2,FALSE))","v":0},{"$f":"IF(HandicapPlay=\"x\",\"H\",\"L\")","v":"L"},{"$f":"IF(UPPER(TRIM(D151))=\"BYE\",\"0\",PLAYER!I911)","v":-1E-3},{"$f":"IF(UPPER(TRIM(D151))=\"BYE\",\"0\",PLAYER!J911)","v":-1E-3},{"$f":"IF(UPPER(TRIM(D151))=\"BYE\",\"-\",IF(G151<0,\"\",(IF(G151>H151,\"W\",\"L\"))))","v":""},null,null,{"$f":"IF(OR(J151=\"\",L150=\"\"),\"\",IF((L150+J151)<900,900,(L150+J151)))","v":""},null,{"$f":"SEED!I20","v":" Block 4 Player 4"},{"$f":"SEED!J20","v":0},null,null,{"$f":"IF(UPPER(TRIM($D$151))=\"BYE\",\"-\",VLOOKUP($D$151,HCTableBlk4,2,FALSE))","v":0},null,0,"22"]
[null,"\"","\"           \"",{"$f":"PLAYER!G912","v":" Block 4 Player 2"},{"$f":"IF(UPPER(TRIM($D$152))=\"BYE\",\"-\",VLOOKUP($D$152,HCTableBlk4,2,FALSE))","v":0},{"$f":"IF(HandicapPlay=\"x\",\"H\",\"L\")","v":"L"},{"$f":"IF(UPPER(TRIM(D152))=\"BYE\",\"0\",PLAYER!I912)","v":-1E-3},{"$f":"IF(UPPER(TRIM(D152))=\"BYE\",\"0\",PLAYER!J912)","v":-1E-3},{"$f":"IF(UPPER(TRIM(D152))=\"BYE\",\"-\",IF(G152<0,\"\",(IF(G152>H152,\"W\",\"L\"))))","v":""},null,"Finish >",{"$f":"IF(OR(J152=\"\",L151=\"\"),\"\",IF((L151+J152)<900,900,(L151+J152)))","v":""},null,{"$f":"SEED!I21","v":" Block 4 Player 5"},{"$f":"SEED!J21","v":0},null,null,{"$f":"IF(UPPER(TRIM($D$152))=\"BYE\",\"-\",VLOOKUP($D$152,HCTableBlk4,2,FALSE))","v":0},null,0,"23"]
[null,null,null,null,null,null,null,null,null,null,null,null,null,{"$f":"SEED!I22","v":" Bye "},{"$f":"SEED!J22","v":0},null,null,null,null,0,"(24)"]
[null,"PLAYER",null,{"$f":"SEED!$I$18","v":" Block 4 Player 2"},null,null,"Start H/C",{"$f":"SEED!$J$18","v":0},"New H/C",{"$f":"VLOOKUP(D154,HCTableBlk4,2,FALSE)","v":0},"Start Index",{"$f":"SEED!$H$18","v":0},"HC Change Indicator"]
[null,"Date","Event","Opponent","Oppt Hcap","Lev / Hcap","Score",null,"Won / Lost","Change +/-",null,"New Index"]
[null,{"$f":"NAMES!$C$9","v":"Date"},{"$f":"NAMES!$C$7","v":"Tournament"},{"$f":"PLAYER!G958","v":" Bye "},{"$f":"IF(UPPER(TRIM($D$156))=\"BYE\",\"-\",VLOOKUP($D$156,HCTableBlk4,2,FALSE))","v":"-"},{"$f":"IF(HandicapPlay=\"x\",\"H\",\"L\")","v":"L"},{"$f":"IF(UPPER(TRIM(D156))=\"BYE\",\"0\",PLAYER!I958)","v":"0"},{"$f":"IF(UPPER(TRIM(D156))=\"BYE\",\"0\",PLAYER!J958)","v":"0"},{"$f":"IF(UPPER(TRIM(D156))=\"BYE\",\"-\",IF(G156<0,\"\",(IF(G156>H156,\"W\",\"L\"))))","v":"-"},null,null,{"$f":"IF(J156=\"\",\"\",IF((L154+J156)<900,900,(L154+J156)))","v":""},null,null,null,null,null,{"$f":"IF(UPPER(TRIM($D$156))=\"BYE\",\"-\",VLOOKUP($D$156,HCTableBlk4,2,FALSE))","v":"-"}]
[null,"\"","\"           \"",{"$f":"PLAYER!G959","v":" Block 4 Player 4"},{"$f":"IF(UPPER(TRIM($D$157))=\"BYE\",\"-\",VLOOKUP($D$157,HCTableBlk4,2,FALSE))","v":0},{"$f":"IF(HandicapPlay=\"x\",\"H\",\"L\")","v":"L"},{"$f":"IF(UPPER(TRIM(D157))=\"BYE\",\"0\",PLAYER!I959)","v":-1E-3},{"$f":"IF(UPPER(TRIM(D157))=\"BYE\",\"0\",PLAYER!J959)","v":-1E-3},{"$f":"IF(UPPER(TRIM(D157))=\"BYE\",\"-\",IF(G157<0,\"\",(IF(G157>H157,\"W\",\"L\"))))","v":""},null,null,{"$f":"IF(OR(J157=\"\",L156=\"\"),\"\",IF((L156+J157)<900,900,(L156+J157)))","v":""},null,null,null,null,null,{"$f":"IF(UPPER(TRIM($D$157))=\"BYE\",\"-\",VLOOKUP($D$157,HCTableBlk4,2,FALSE))","v":0}]
[null,"\"","\"           \"",{"$f":"PLAYER!G960","v":" Block 4 Player 5"},{"$f":"IF(UPPER(TRIM($D$158))=\"BYE\",\"-\",VLOOKUP($D$158,HCTableBlk4,2,FALSE))","v":0},{"$f":"IF(HandicapPlay=\"x\",\"H\",\"L\")","v":"L"},{"$f":"IF(UPPER(TRIM(D158))=\"BYE\",\"0\",PLAYER!I960)","v":-1E-3},{"$f":"IF(UPPER(TRIM(D158))=\"BYE\",\"0\",PLAYER!J960)","v":-1E-3},{"$f":"IF(UPPER(TRIM(D158))=\"BYE\",\"-\",IF(G158<0,\"\",(IF(G158>H158,\"W\",\"L\"))))","v":""},null,null,{"$f":"IF(OR(J158=\"\",L157=\"\"),\"\",IF((L157+J158)<900,900,(L157+J158)))","v":""},null,null,null,null,null,{"$f":"IF(UPPER(TRIM($D$158))=\"BYE\",\"-\",VLOOKUP($D$158,HCTableBlk4,2,FALSE))","v":0}]
[null,"\"","\"           \"",{"$f":"PLAYER!G961","v":" Block 4 Player 3"},{"$f":"IF(UPPER(TRIM($D$159))=\"BYE\",\"-\",VLOOKUP($D$159,HCTableBlk4,2,FALSE))","v":0},{"$f":"IF(HandicapPlay=\"x\",\"H\",\"L\")","v":"L"},{"$f":"IF(UPPER(TRIM(D159))=\"BYE\",\"0\",PLAYER!I961)","v":-1E-3},{"$f":"IF(UPPER(TRIM(D159))=\"BYE\",\"0\",PLAYER!J961)","v":-1E-3},{"$f":"IF(UPPER(TRIM(D159))=\"BYE\",\"-\",IF(G159<0,\"\",(IF(G159>H159,\"W\",\"L\"))))","v":""},null,null,{"$f":"IF(OR(J159=\"\",L158=\"\"),\"\",IF((L158+J159)<900,900,(L158+J159)))","v":""},null,null,null,null,null,{"$f":"IF(UPPER(TRIM($D$159))=\"BYE\",\"-\",VLOOKUP($D$159,HCTableBlk4,2,FALSE))","v":0}]
[null,"\"","\"           \"",{"$f":"PLAYER!G962","v":" Block 4 Player 1"},{"$f":"IF(UPPER(TRIM($D$160))=\"BYE\",\"-\",VLOOKUP($D$160,HCTableBlk4,2,FALSE))","v":0},{"$f":"IF(HandicapPlay=\"x\",\"H\",\"L\")","v":"L"},{"$f":"IF(UPPER(TRIM(D160))=\"BYE\",\"0\",PLAYER!I962)","v":-1E-3},{"$f":"IF(UPPER(TRIM(D160))=\"BYE\",\"0\",PLAYER!J962)","v":-1E-3},{"$f":"IF(UPPER(TRIM(D160))=\"BYE\",\"-\",IF(G160<0,\"\",(IF(G160>H160,\"W\",\"L\"))))","v":""},null,"Finish >",{"$f":"IF(OR(J160=\"\",L159=\"\"),\"\",IF((L159+J160)<900,900,(L159+J160)))","v":""},null,null,null,null,null,{"$f":"IF(UPPER(TRIM($D$160))=\"BYE\",\"-\",VLOOKUP($D$160,HCTableBlk4,2,FALSE))","v":0}]
[]
[null,"PLAYER",null,{"$f":"SEED!$I$19","v":" Block 4 Player 3"},null,null,"Start H/C",{"$f":"SEED!$J$19","v":0},"New H/C",{"$f":"VLOOKUP(D162,HCTableBlk4,2,FALSE)","v":0},"Start Index",{"$f":"SEED!$H$19","v":0},"HC Change Indicator"]
[null,"Date","Event","Opponent","Oppt Hcap","Lev / Hcap","Score",null,"Won / Lost","Change +/-",null,"New Index"]
[null,{"$f":"NAMES!$C$9","v":"Date"},{"$f":"NAMES!$C$7","v":"Tournament"},{"$f":"PLAYER!G1008","v":" Block 4 Player 5"},{"$f":"IF(UPPER(TRIM($D$164))=\"BYE\",\"-\",VLOOKUP($D$164,HCTableBlk4,2,FALSE))","v":0},{"$f":"IF(HandicapPlay=\"x\",\"H\",\"L\")","v":"L"},{"$f":"IF(UPPER(TRIM(D164))=\"BYE\",\"0\",PLAYER!I1008)","v":-1E-3},{"$f":"IF(UPPER(TRIM(D164))=\"BYE\",\"0\",PLAYER!J1008)","v":-1E-3},{"$f":"IF(UPPER(TRIM(D164))=\"BYE\",\"-\",IF(G164<0,\"\",(IF(G164>H164,\"W\",\"L\"))))","v":""},null,null,{"$f":"IF(J164=\"\",\"\",IF((L162+J164)<900,900,(L162+J164)))","v":""},null,null,null,null,null,{"$f":"IF(UPPER(TRIM($D$164))=\"BYE\",\"-\",VLOOKUP($D$164,HCTableBlk4,2,FALSE))","v":0}]
[null,"\"","\"           \"",{"$f":"PLAYER!G1009","v":" Block 4 Player 1"},{"$f":"IF(UPPER(TRIM($D$165))=\"BYE\",\"-\",VLOOKUP($D$165,HCTableBlk4,2,FALSE))","v":0},{"$f":"IF(HandicapPlay=\"x\",\"H\",\"L\")","v":"L"},{"$f":"IF(UPPER(TRIM(D165))=\"BYE\",\"0\",PLAYER!I1009)","v":-1E-3},{"$f":"IF(UPPER(TRIM(D165))=\"BYE\",\"0\",PLAYER!J1009)","v":-1E-3},{"$f":"IF(UPPER(TRIM(D165))=\"BYE\",\"-\",IF(G165<0,\"\",(IF(G165>H165,\"W\",\"L\"))))","v":""},null,null,{"$f":"IF(OR(J165=\"\",L164=\"\"),\"\",IF((L164+J165)<900,900,(L164+J165)))","v":""},null,null,null,null,null,{"$f":"IF(UPPER(TRIM($D$165))=\"BYE\",\"-\",VLOOKUP($D$165,HCTableBlk4,2,FALSE))","v":0}]
[null,"\"","\"           \"",{"$f":"PLAYER!G1010","v":" Block 4 Player 4"},{"$f":"IF(UPPER(TRIM($D$166))=\"BYE\",\"-\",VLOOKUP($D$166,HCTableBlk4,2,FALSE))","v":0},{"$f":"IF(HandicapPlay=\"x\",\"H\",\"L\")","v":"L"},{"$f":"IF(UPPER(TRIM(D166))=\"BYE\",\"0\",PLAYER!I1010)","v":-1E-3},{"$f":"IF(UPPER(TRIM(D166))=\"BYE\",\"0\",PLAYER!J1010)","v":-1E-3},{"$f":"IF(UPPER(TRIM(D166))=\"BYE\",\"-\",IF(G166<0,\"\",(IF(G166>H166,\"W\",\"L\"))))","v":""},null,null,{"$f":"IF(OR(J166=\"\",L165=\"\"),\"\",IF((L165+J166)<900,900,(L165+J166)))","v":""},null,null,null,null,null,{"$f":"IF(UPPER(TRIM($D$166))=\"BYE\",\"-\",VLOOKUP($D$166,HCTableBlk4,2,FALSE))","v":0}]
[null,"\"","\"           \"",{"$f":"PLAYER!G1011","v":" Block 4 Player 2"},{"$f":"IF(UPPER(TRIM($D$167))=\"BYE\",\"-\",VLOOKUP($D$167,HCTableBlk4,2,FALSE))","v":0},{"$f":"IF(HandicapPlay=\"x\",\"H\",\"L\")","v":"L"},{"$f":"IF(UPPER(TRIM(D167))=\"BYE\",\"0\",PLAYER!I1011)","v":-1E-3},{"$f":"IF(UPPER(TRIM(D167))=\"BYE\",\"0\",PLAYER!J1011)","v":-1E-3},{"$f":"IF(UPPER(TRIM(D167))=\"BYE\",\"-\",IF(G167<0,\"\",(IF(G167>H167,\"W\",\"L\"))))","v":""},null,null,{"$f":"IF(OR(J167=\"\",L166=\"\"),\"\",IF((L166+J167)<900,900,(L166+J167)))","v":""},null,null,null,null,null,{"$f":"IF(UPPER(TRIM($D$167))=\"BYE\",\"-\",VLOOKUP($D$167,HCTableBlk4,2,FALSE))","v":0}]
[null,"\"","\"           \"",{"$f":"PLAYER!G1012","v":" Bye "},{"$f":"IF(UPPER(TRIM($D$168))=\"BYE\",\"-\",VLOOKUP($D$168,HCTableBlk4,2,FALSE))","v":"-"},{"$f":"IF(HandicapPlay=\"x\",\"H\",\"L\")","v":"L"},{"$f":"IF(UPPER(TRIM(D168))=\"BYE\",\"0\",PLAYER!I1012)","v":"0"},{"$f":"IF(UPPER(TRIM(D168))=\"BYE\",\"0\",PLAYER!J1012)","v":"0"},{"$f":"IF(UPPER(TRIM(D168))=\"BYE\",\"-\",IF(G168<0,\"\",(IF(G168>H168,\"W\",\"L\"))))","v":"-"},null,"Finish >",{"$f":"IF(OR(J168=\"\",L167=\"\"),\"\",IF((L167+J168)<900,900,(L167+J168)))","v":""},null,null,null,null,null,{"$f":"IF(UPPER(TRIM($D$168))=\"BYE\",\"-\",VLOOKUP($D$168,HCTableBlk4,2,FALSE))","v":"-"}]
[]
[null,"PLAYER",null,{"$f":"SEED!$I$20","v":" Block 4 Player 4"},null,null,"Start H/C",{"$f":"SEED!$J$20","v":0},"New H/C",{"$f":"VLOOKUP(D170,HCTableBlk4,2,FALSE)","v":0},"Start Index",{"$f":"SEED!$H$20","v":0},"HC Change Indicator"]
[null,"Date","Event","Opponent","Oppt Hcap","Lev / Hcap","Score",null,"Won / Lost","Change +/-",null,"New Index"]
[null,{"$f":"NAMES!$C$9","v":"Date"},{"$f":"NAMES!$C$7","v":"Tournament"},{"$f":"PLAYER!G1058","v":" Block 4 Player 1"},{"$f":"IF(UPPER(TRIM($D$172))=\"BYE\",\"-\",VLOOKUP($D$172,HCTableBlk4,2,FALSE))","v":0},{"$f":"IF(HandicapPlay=\"x\",\"H\",\"L\")","v":"L"},{"$f":"IF(UPPER(TRIM(D172))=\"BYE\",\"0\",PLAYER!I1058)","v":-1E-3},{"$f":"IF(UPPER(TRIM(D172))=\"BYE\",\"0\",PLAYER!J1058)","v":-1E-3},{"$f":"IF(UPPER(TRIM(D172))=\"BYE\",\"-\",IF(G172<0,\"\",(IF(G172>H172,\"W\",\"L\"))))","v":""},null,null,{"$f":"IF(J172=\"\",\"\",IF((L170+J172)<900,900,(L170+J172)))","v":""},null,null,null,null,null,{"$f":"IF(UPPER(TRIM($D$172))=\"BYE\",\"-\",VLOOKUP($D$172,HCTableBlk4,2,FALSE))","v":0}]
[null,"\"","\"           \"",{"$f":"PLAYER!G1059","v":" Block 4 Player 2"},{"$f":"IF(UPPER(TRIM($D$173))=\"BYE\",\"-\",VLOOKUP($D$173,HCTableBlk4,2,FALSE))","v":0},{"$f":"IF(HandicapPlay=\"x\",\"H\",\"L\")","v":"L"},{"$f":"IF(UPPER(TRIM(D173))=\"BYE\",\"0\",PLAYER!I1059)","v":-1E-3},{"$f":"IF(UPPER(TRIM(D173))=\"BYE\",\"0\",PLAYER!J1059)","v":-1E-3},{"$f":"IF(UPPER(TRIM(D173))=\"BYE\",\"-\",IF(G173<0,\"\",(IF(G173>H173,\"W\",\"L\"))))","v":""},null,null,{"$f":"IF(OR(J173=\"\",L172=\"\"),\"\",IF((L172+J173)<900,900,(L172+J173)))","v":""},null,null,null,null,null,{"$f":"IF(UPPER(TRIM($D$173))=\"BYE\",\"-\",VLOOKUP($D$173,HCTableBlk4,2,FALSE))","v":0}]
[null,"\"","\"           \"",{"$f":"PLAYER!G1060","v":" Block 4 Player 3"},{"$f":"IF(UPPER(TRIM($D$174))=\"BYE\",\"-\",VLOOKUP($D$174,HCTableBlk4,2,FALSE))","v":0},{"$f":"IF(HandicapPlay=\"x\",\"H\",\"L\")","v":"L"},{"$f":"IF(UPPER(TRIM(D174))=\"BYE\",\"0\",PLAYER!I1060)","v":-1E-3},{"$f":"IF(UPPER(TRIM(D174))=\"BYE\",\"0\",PLAYER!J1060)","v":-1E-3},{"$f":"IF(UPPER(TRIM(D174))=\"BYE\",\"-\",IF(G174<0,\"\",(IF(G174>H174,\"W\",\"L\"))))","v":""},null,null,{"$f":"IF(OR(J174=\"\",L173=\"\"),\"\",IF((L173+J174)<900,900,(L173+J174)))","v":""},null,null,null,null,null,{"$f":"IF(UPPER(TRIM($D$174))=\"BYE\",\"-\",VLOOKUP($D$174,HCTableBlk4,2,FALSE))","v":0}]
[null,"\"","\"           \"",{"$f":"PLAYER!G1061","v":" Bye "},{"$f":"IF(UPPER(TRIM($D$175))=\"BYE\",\"-\",VLOOKUP($D$175,HCTableBlk4,2,FALSE))","v":"-"},{"$f":"IF(HandicapPlay=\"x\",\"H\",\"L\")","v":"L"},{"$f":"IF(UPPER(TRIM(D175))=\"BYE\",\"0\",PLAYER!I1061)","v":"0"},{"$f":"IF(UPPER(TRIM(D175))=\"BYE\",\"0\",PLAYER!J1061)","v":"0"},{"$f":"IF(UPPER(TRIM(D175))=\"BYE\",\"-\",IF(G175<0,\"\",(IF(G175>H175,\"W\",\"L\"))))","v":"-"},null,null,{"$f":"IF(OR(J175=\"\",L174=\"\"),\"\",IF((L174+J175)<900,900,(L174+J175)))","v":""},null,null,null,null,null,{"$f":"IF(UPPER(TRIM($D$175))=\"BYE\",\"-\",VLOOKUP($D$175,HCTableBlk4,2,FALSE))","v":"-"}]
[null,"\"","\"           \"",{"$f":"PLAYER!G1062","v":" Block 4 Player 5"},{"$f":"IF(UPPER(TRIM($D$176))=\"BYE\",\"-\",VLOOKUP($D$176,HCTableBlk4,2,FALSE))","v":0},{"$f":"IF(HandicapPlay=\"x\",\"H\",\"L\")","v":"L"},{"$f":"IF(UPPER(TRIM(D176))=\"BYE\",\"0\",PLAYER!I1062)","v":-1E-3},{"$f":"IF(UPPER(TRIM(D176))=\"BYE\",\"0\",PLAYER!J1062)","v":-1E-3},{"$f":"IF(UPPER(TRIM(D176))=\"BYE\",\"-\",IF(G176<0,\"\",(IF(G176>H176,\"W\",\"L\"))))","v":""},null,"Finish >",{"$f":"IF(OR(J176=\"\",L175=\"\"),\"\",IF((L175+J176)<900,900,(L175+J176)))","v":""},null,null,null,null,null,{"$f":"IF(UPPER(TRIM($D$176))=\"BYE\",\"-\",VLOOKUP($D$176,HCTableBlk4,2,FALSE))","v":0}]
[]
[null,"PLAYER",null,{"$f":"SEED!$I$21","v":" Block 4 Player 5"},null,null,"Start H/C",{"$f":"SEED!$J$21","v":0},"New H/C",{"$f":"VLOOKUP(D178,HCTableBlk4,2,FALSE)","v":0},null,{"$f":"SEED!$H$21","v":0},"HC Change Indicator"]
[null,"Date","Event","Opponent","Oppt Hcap","Lev / Hcap","Score",null,"Won / Lost","Change +/-",null,"New Index"]
[null,{"$f":"NAMES!$C$9","v":"Date"},{"$f":"NAMES!$C$7","v":"Tournament"},{"$f":"PLAYER!G1108","v":" Block 4 Player 3"},{"$f":"IF(UPPER(TRIM($D$180))=\"BYE\",\"-\",VLOOKUP($D$180,HCTableBlk4,2,FALSE))","v":0},{"$f":"IF(HandicapPlay=\"x\",\"H\",\"L\")","v":"L"},{"$f":"IF(UPPER(TRIM(D180))=\"BYE\",\"0\",PLAYER!I1108)","v":-1E-3},{"$f":"IF(UPPER(TRIM(D180))=\"BYE\",\"0\",PLAYER!J1108)","v":-1E-3},{"$f":"IF(UPPER(TRIM(D180))=\"BYE\",\"-\",IF(G180<0,\"\",(IF(G180>H180,\"W\",\"L\"))))","v":""},null,null,{"$f":"IF(J180=\"\",\"\",IF((L178+J180)<900,900,(L178+J180)))","v":""},null,null,null,null,null,{"$f":"IF(UPPER(TRIM($D$180))=\"BYE\",\"-\",VLOOKUP($D$180,HCTableBlk4,2,FALSE))","v":0}]
[null,"\"","\"           \"",{"$f":"PLAYER!G1109","v":" Bye "},{"$f":"IF(UPPER(TRIM($D$181))=\"BYE\",\"-\",VLOOKUP($D$181,HCTableBlk4,2,FALSE))","v":"-"},{"$f":"IF(HandicapPlay=\"x\",\"H\",\"L\")","v":"L"},{"$f":"IF(UPPER(TRIM(D181))=\"BYE\",\"0\",PLAYER!I1109)","v":"0"},{"$f":"IF(UPPER(TRIM(D181))=\"BYE\",\"0\",PLAYER!J1109)","v":"0"},{"$f":"IF(UPPER(TRIM(D181))=\"BYE\",\"-\",IF(G181<0,\"\",(IF(G181>H181,\"W\",\"L\"))))","v":"-"},null,null,{"$f":"IF(OR(J181=\"\",L180=\"\"),\"\",IF((L180+J181)<900,900,(L180+J181)))","v":""},null,null,null,null,null,{"$f":"IF(UPPER(TRIM($D$181))=\"BYE\",\"-\",VLOOKUP($D$181,HCTableBlk4,2,FALSE))","v":"-"}]
[null,"\"","\"           \"",{"$f":"PLAYER!G1110","v":" Block 4 Player 2"},{"$f":"IF(UPPER(TRIM($D$182))=\"BYE\",\"-\",VLOOKUP($D$182,HCTableBlk4,2,FALSE))","v":0},{"$f":"IF(HandicapPlay=\"x\",\"H\",\"L\")","v":"L"},{"$f":"IF(UPPER(TRIM(D182))=\"BYE\",\"0\",PLAYER!I1110)","v":-1E-3},{"$f":"IF(UPPER(TRIM(D182))=\"BYE\",\"0\",PLAYER!J1110)","v":-1E-3},{"$f":"IF(UPPER(TRIM(D182))=\"BYE\",\"-\",IF(G182<0,\"\",(IF(G182>H182,\"W\",\"L\"))))","v":""},null,null,{"$f":"IF(OR(J182=\"\",L181=\"\"),\"\",IF((L181+J182)<900,900,(L181+J182)))","v":""},null,null,null,null,null,{"$f":"IF(UPPER(TRIM($D$182))=\"BYE\",\"-\",VLOOKUP($D$182,HCTableBlk4,2,FALSE))","v":0}]
[null,"\"","\"           \"",{"$f":"PLAYER!G1111","v":" Block 4 Player 1"},{"$f":"IF(UPPER(TRIM($D$183))=\"BYE\",\"-\",VLOOKUP($D$183,HCTableBlk4,2,FALSE))","v":0},{"$f":"IF(HandicapPlay=\"x\",\"H\",\"L\")","v":"L"},{"$f":"IF(UPPER(TRIM(D183))=\"BYE\",\"0\",PLAYER!I1111)","v":-1E-3},{"$f":"IF(UPPER(TRIM(D183))=\"BYE\",\"0\",PLAYER!J1111)","v":-1E-3},{"$f":"IF(UPPER(TRIM(D183))=\"BYE\",\"-\",IF(G183<0,\"\",(IF(G183>H183,\"W\",\"L\"))))","v":""},null,null,{"$f":"IF(OR(J183=\"\",L182=\"\"),\"\",IF((L182+J183)<900,900,(L182+J183)))","v":""},null,null,null,null,null,{"$f":"IF(UPPER(TRIM($D$183))=\"BYE\",\"-\",VLOOKUP($D$183,HCTableBlk4,2,FALSE))","v":0}]
[null,"\"","\"           \"",{"$f":"PLAYER!G1112","v":" Block 4 Player 4"},{"$f":"IF(UPPER(TRIM($D$184))=\"BYE\",\"-\",VLOOKUP($D$184,HCTableBlk4,2,FALSE))","v":0},{"$f":"IF(HandicapPlay=\"x\",\"H\",\"L\")","v":"L"},{"$f":"IF(UPPER(TRIM(D184))=\"BYE\",\"0\",PLAYER!I1112)","v":-1E-3},{"$f":"IF(UPPER(TRIM(D184))=\"BYE\",\"0\",PLAYER!J1112)","v":-1E-3},{"$f":"IF(UPPER(TRIM(D184))=\"BYE\",\"-\",IF(G184<0,\"\",(IF(G184>H184,\"W\",\"L\"))))","v":""},null,"Finish >",{"$f":"IF(OR(J184=\"\",L183=\"\"),\"\",IF((L183+J184)<900,900,(L183+J184)))","v":""},null,null,null,null,null,{"$f":"IF(UPPER(TRIM($D$184))=\"BYE\",\"-\",VLOOKUP($D$184,HCTableBlk4,2,FALSE))","v":0}]
[]
[null,"PLAYER",null,{"$f":"SEED!$I$22","v":" Bye "},null,null,"Start H/C",{"$f":"SEED!$J$22","v":0},"New H/C",{"$f":"VLOOKUP(D186,HCTableBlk4,2,FALSE)","v":0},"Start Index",{"$f":"SEED!$H$22","v":0},"HC Change Indicator"]
[null,"Date","Event","Opponent","Oppt Hcap","Lev / Hcap","Score",null,"Won / Lost","Change +/-",null,"New Index"]
[null,{"$f":"NAMES!$C$9","v":"Date"},{"$f":"NAMES!$C$7","v":"Tournament"},{"$f":"PLAYER!G1158","v":" Block 4 Player 2"},2,{"$f":"IF(HandicapPlay=\"x\",\"H\",\"L\")","v":"L"},{"$f":"PLAYER!I1158","v":-1E-3},{"$f":"PLAYER!J1158","v":-1E-3},{"$f":"IF(G188=-0.001,\"\",(IF(G188>H188,\"W\",\"L\")))","v":""},null,null,{"$f":"IF(J188=\"\",\"\",L186+J188)","v":""}]
[null,"\"","\"           \"",{"$f":"PLAYER!G1159","v":" Block 4 Player 5"},5,{"$f":"IF(HandicapPlay=\"x\",\"H\",\"L\")","v":"L"},{"$f":"PLAYER!I1159","v":-1E-3},{"$f":"PLAYER!J1159","v":-1E-3},{"$f":"IF(G189=-0.001,\"\",(IF(G189>H189,\"W\",\"L\")))","v":""},null,null,{"$f":"IF(J189=\"\",\"\",L188+J189)","v":""}]
[null,"\"","\"           \"",{"$f":"PLAYER!G1160","v":" Block 4 Player 1"},1,{"$f":"IF(HandicapPlay=\"x\",\"H\",\"L\")","v":"L"},{"$f":"PLAYER!I1160","v":-1E-3},{"$f":"PLAYER!J1160","v":-1E-3},{"$f":"IF(G190=-0.001,\"\",(IF(G190>H190,\"W\",\"L\")))","v":""},null,null,{"$f":"IF(J190=\"\",\"\",L189+J190)","v":""}]
[null,"\"","\"           \"",{"$f":"PLAYER!G1161","v":" Block 4 Player 4"},4,{"$f":"IF(HandicapPlay=\"x\",\"H\",\"L\")","v":"L"},{"$f":"PLAYER!I1161","v":-1E-3},{"$f":"PLAYER!J1161","v":-1E-3},{"$f":"IF(G191=-0.001,\"\",(IF(G191>H191,\"W\",\"L\")))","v":""},null,null,{"$f":"IF(J191=\"\",\"\",L190+J191)","v":""}]
[null,"\"","\"           \"",{"$f":"PLAYER!G1162","v":" Block 4 Player 3"},3,{"$f":"IF(HandicapPlay=\"x\",\"H\",\"L\")","v":"L"},{"$f":"PLAYER!I1162","v":-1E-3},{"$f":"PLAYER!J1162","v":-1E-3},{"$f":"IF(G192=-0.001,\"\",(IF(G192>H192,\"W\",\"L\")))","v":""},null,"Finish >",{"$f":"IF(J192=\"\",\"\",L191+J192)","v":""}]

{"sheet":"AHS1","index":13,"n_rows":47,"n_cols":14,"rows_kept":47,"cut":false,"hidden":false,"merged":[[12,3,12,6],[14,2,15,2],[14,3,15,5],[14,6,15,6],[2,2,5,4],[3,5,3,10],[8,2,8,10],[9,2,9,10],[14,7,14,8],[14,9,14,10],[18,3,18,5],[19,3,19,5],[20,3,20,5],[21,3,21,5],[16,3,16,5],[17,3,17,5],[33,3,33,5],[26,3,26,5],[27,3,27,5],[28,3,28,5],[29,3,29,5],[30,3,30,5],[31,3,31,5],[22,3,22,5],[23,3,23,5],[24,3,24,5],[25,3,25,5],[32,3,32,5],[40,3,40,5],[38,3,38,5],[39,3,39,5],[34,3,34,5],[35,3,35,5],[36,3,36,5],[37,3,37,5]]}
[]
[]
[null,null,"AHS1"]
[null,null,null,null,null,"HANDICAP CHANGES REPORT FORM"]
[]
[]
[]
[]
[null,null,"Players are to fill in the details from their National Handicap Cards and hand the slips to the"]
[null,null,"Tournament Handicapper before leaving the venue at the end of the tournament"]
[]
[]
[null,null,"Event:",{"$f":"NAMES!$C$7","v":"Tournament"},null,null,null,"State:",null,"Date:",{"$f":"NAMES!$C$9","v":"Date"}]
[]
[null,null,"ACA ID","NAME",null,null,"*Non AHS","HANDICAP",null,"INDEX"]
[null,null,null,null,null,null,null,"Start","Finish","Start","Finish"]
[null,1,{"$f":"SEED!B8","v":0},{"$f":"SEED!D8","v":" Block 1 Player 1"},null,null,null,{"$f":"SEED!E8","v":0},{"$f":"'HANDICAP CARD'!$J$2","v":0},{"$f":"SEED!C8","v":0},{"$f":"'HANDICAP CARD'!$L$8","v":""},null,"H/Cap","Index"]
[null,2,{"$f":"SEED!B9","v":0},{"$f":"SEED!D9","v":" Block 1 Player 2"},null,null,null,{"$f":"SEED!E9","v":0},{"$f":"'HANDICAP CARD'!$J$10","v":0},{"$f":"SEED!C9","v":0},{"$f":"'HANDICAP CARD'!$L$16","v":""},null,-3,3050]
[null,3,{"$f":"SEED!B10","v":0},{"$f":"SEED!D10","v":" Block 1 Player 3"},null,null,null,{"$f":"SEED!E10","v":0},{"$f":"'HANDICAP CARD'!$J$18","v":0},{"$f":"SEED!C10","v":0},{"$f":"'HANDICAP CARD'!$L$24","v":""},null,-2.5,2800]
[null,4,{"$f":"SEED!B11","v":0},{"$f":"SEED!D11","v":" Block 1 Player 4"},null,null,null,{"$f":"SEED!E11","v":0},{"$f":"'HANDICAP CARD'!$J$26","v":0},{"$f":"SEED!C11","v":0},{"$f":"'HANDICAP CARD'!$L$32","v":""},null,-2,2600]
[null,5,{"$f":"SEED!B12","v":0},{"$f":"SEED!D12","v":" Block 1 Player 5"},null,null,null,{"$f":"SEED!E12","v":0},{"$f":"'HANDICAP CARD'!$J$34","v":0},{"$f":"SEED!C12","v":0},{"$f":"'HANDICAP CARD'!$L$40","v":""},null,-1.5,2400]
[null,6,{"$f":"SEED!B13","v":0},{"$f":"SEED!D13","v":" Bye "},null,null,null,{"$f":"SEED!E13","v":0},{"$f":"'HANDICAP CARD'!$J$42","v":0},{"$f":"SEED!C13","v":0},{"$f":"'HANDICAP CARD'!$L$48","v":""},null,-1,2250]
[null,7,{"$f":"SEED!G8","v":0},{"$f":"SEED!I8","v":" Block 2 Player 1"},null,null,null,{"$f":"SEED!J8","v":0},{"$f":"'HANDICAP CARD'!$J$50","v":0},{"$f":"SEED!H8","v":0},{"$f":"'HANDICAP CARD'!$L$56","v":""},null,-0.5,2100]
[null,8,{"$f":"SEED!G9","v":0},{"$f":"SEED!I9","v":" Block 2 Player 2"},null,null,null,{"$f":"SEED!J9","v":0},{"$f":"'HANDICAP CARD'!$J$58","v":0},{"$f":"SEED!H9","v":0},{"$f":"'HANDICAP CARD'!$L$64","v":""},null,0,2000]
[null,9,{"$f":"SEED!G10","v":0},{"$f":"SEED!I10","v":" Block 2 Player 3"},null,null,null,{"$f":"SEED!J10","v":0},{"$f":"'HANDICAP CARD'!$J$66","v":0},{"$f":"SEED!H10","v":0},{"$f":"'HANDICAP CARD'!$L$72","v":""},null,0.5,1950]
[null,10,{"$f":"SEED!G11","v":0},{"$f":"SEED!I11","v":" Block 2 Player 4"},null,null,null,{"$f":"SEED!J11","v":0},{"$f":"'HANDICAP CARD'!$J$74","v":0},{"$f":"SEED!H11","v":0},{"$f":"'HANDICAP CARD'!$L$80","v":""},null,1,1900]
[null,11,{"$f":"SEED!G12","v":0},{"$f":"SEED!I12","v":" Block 2 Player 5"},null,null,null,{"$f":"SEED!J12","v":0},{"$f":"'HANDICAP CARD'!$J$82","v":0},{"$f":"SEED!H12","v":0},{"$f":"'HANDICAP CARD'!$L$88","v":""},null,1.5,1850]
[null,12,{"$f":"SEED!G13","v":0},{"$f":"SEED!I13","v":" Bye "},null,null,null,{"$f":"SEED!J13","v":0},{"$f":"'HANDICAP CARD'!$J$90","v":0},{"$f":"SEED!H13","v":0},{"$f":"'HANDICAP CARD'!$L$96","v":""},null,2,1800]
[null,13,{"$f":"SEED!B17","v":0},{"$f":"SEED!D17","v":" Block 3 Player 1"},null,null,null,{"$f":"SEED!E17","v":0},{"$f":"'HANDICAP CARD'!$J$98","v":0},{"$f":"SEED!C17","v":0},{"$f":"'HANDICAP CARD'!$L$104","v":""},null,2.5,1750]
[null,14,{"$f":"SEED!B18","v":0},{"$f":"SEED!D18","v":" Block 3 Player 2"},null,null,null,{"$f":"SEED!E18","v":0},{"$f":"'HANDICAP CARD'!$J$106","v":0},{"$f":"SEED!C18","v":0},{"$f":"'HANDICAP CARD'!$L$112","v":""},null,3,1700]
[null,15,{"$f":"SEED!B19","v":0},{"$f":"SEED!D19","v":" Block 3 Player 3"},null,null,null,{"$f":"SEED!E19","v":0},{"$f":"'HANDICAP CARD'!$J$114","v":0},{"$f":"SEED!C19","v":0},{"$f":"'HANDICAP CARD'!$L$120","v":""},null,3.5,1650]
[null,16,{"$f":"SEED!B20","v":0},{"$f":"SEED!D20","v":" Block 3 Player 4"},null,null,null,{"$f":"SEED!E20","v":0},{"$f":"'HANDICAP CARD'!$J$122","v":0},{"$f":"SEED!C20","v":0},{"$f":"'HANDICAP CARD'!$L$128","v":""},null,4,1600]
[null,17,{"$f":"SEED!B21","v":0},{"$f":"SEED!D21","v":" Block 3 Player 5"},null,null,null,{"$f":"SEED!E21","v":0},{"$f":"'HANDICAP CARD'!$J$130","v":0},{"$f":"SEED!C21","v":0},{"$f":"'HANDICAP CARD'!$L$136","v":""},null,4.5,1550]
[null,18,{"$f":"SEED!B22","v":0},{"$f":"SEED!D22","v":" Bye "},null,null,null,{"$f":"SEED!E22","v":0},{"$f":"'HANDICAP CARD'!$J$138","v":0},{"$f":"SEED!C22","v":0},{"$f":"'HANDICAP CARD'!$L$144","v":""},null,5,1500]
[null,19,{"$f":"SEED!G17","v":0},{"$f":"SEED!I17","v":" Block 4 Player 1"},null,null,null,{"$f":"SEED!J17","v":0},{"$f":"'HANDICAP CARD'!$J$146","v":0},{"$f":"SEED!H17","v":0},{"$f":"'HANDICAP CARD'!$L$152","v":""},null,6,1450]
[null,20,{"$f":"SEED!G18","v":0},{"$f":"SEED!I18","v":" Block 4 Player 2"},null,null,null,{"$f":"SEED!J18","v":0},{"$f":"'HANDICAP CARD'!$J$154","v":0},{"$f":"SEED!H18","v":0},{"$f":"'HANDICAP CARD'!$L$160","v":""},null,7,1400]
[null,21,{"$f":"SEED!G19","v":0},{"$f":"SEED!I19","v":" Block 4 Player 3"},null,null,null,{"$f":"SEED!J19","v":0},{"$f":"'HANDICAP CARD'!$J$162","v":0},{"$f":"SEED!H19","v":0},{"$f":"'HANDICAP CARD'!$L$168","v":""},null,8,1350]
[null,22,{"$f":"SEED!G20","v":0},{"$f":"SEED!I20","v":" Block 4 Player 4"},null,null,null,{"$f":"SEED!J20","v":0},{"$f":"'HANDICAP CARD'!$J$170","v":0},{"$f":"SEED!H20","v":0},{"$f":"'HANDICAP CARD'!$L$176","v":""},null,9,1300]
[null,23,{"$f":"SEED!G21","v":0},{"$f":"SEED!I21","v":" Block 4 Player 5"},null,null,null,{"$f":"SEED!J21","v":0},{"$f":"'HANDICAP CARD'!$J$178","v":0},{"$f":"SEED!H21","v":0},{"$f":"'HANDICAP CARD'!$L$184","v":""},null,10,1250]
[null,24,{"$f":"SEED!G22","v":0},{"$f":"SEED!I22","v":" Bye "},null,null,null,{"$f":"SEED!J22","v":0},{"$f":"'HANDICAP CARD'!$J$186","v":0},{"$f":"SEED!H22","v":0},{"$f":"'HANDICAP CARD'!$L$192","v":""},null,11,1200]
[null,30,{"$f":"SEED!#REF!","v":{"$error":"#REF!"}},{"$f":"SEED!#REF!","v":{"$error":"#REF!"}},null,null,null,{"$f":"SEED!#REF!","v":{"$error":"#REF!"}},{"$f":"'HANDICAP CARD'!#REF!","v":{"$error":"#REF!"}},{"$f":"SEED!#REF!","v":{"$error":"#REF!"}},{"$f":"'HANDICAP CARD'!#REF!","v":{"$error":"#REF!"}},null,12,1150]
[null,null,null,null,null,null,null,null,null,null,null,null,14,1100]
[null,null,null,null,null,null,null,null,null,null,null,null,16,1050]
[null,null,null,null,null,null,null,null,null,null,null,null,18,1000]
[null,null,null,null,null,null,null,null,null,null,null,null,20,950]
[null,null,null,null,null,null,null,null,null,null,null,null,22,900]
[null,null,null,null,null,null,null,null,null,null,null,null,24,850]

{"sheet":"HANDICAPS","index":14,"n_rows":52,"n_cols":14,"rows_kept":52,"cut":false,"hidden":true,"merged":[[1,2,1,12],[2,2,2,12]]}
[]
[null,null,{"$f":"BLOCK!N2","v":"Tournament"}]
[null,null,{"$f":"BLOCK!K4","v":"Singles"}]
[null,"PLAYERS NAME","HDCP","WIN / LOSS RECORD",null,null,null,null,null,null,null,null,null,"PNTS"]
[null,{"$f":"SCORECARD!D5","v":" Block 1 Player 1"},{"$f":"SCORECARD!I5","v":0},{"$f":"IF(SCORECARD!I8>0,\"W\",(IF(SCORECARD!I8<0,\"L\",\"\")))","v":""},{"$f":"SCORECARD!F8","v":0},{"$f":"IF(SCORECARD!I9>0,\"W\",(IF(SCORECARD!I9<0,\"L\",\"\")))","v":""},{"$f":"SCORECARD!F9","v":0},{"$f":"IF(SCORECARD!I10>0,\"W\",(IF(SCORECARD!I10<0,\"L\",\"\")))","v":""},{"$f":"SCORECARD!F10","v":0},{"$f":"IF(SCORECARD!I11>0,\"W\",(IF(SCORECARD!I11<0,\"L\",\"\")))","v":""},{"$f":"SCORECARD!F11","v":0},{"$f":"IF(SCORECARD!I12>0,\"W\",(IF(SCORECARD!I12<0,\"L\",\"\")))","v":""},{"$f":"SCORECARD!F12","v":0}]
[null,null,null,{"$f":"IF(NOT(OR(D5=\"W\",D5=\"L\")),\"\",IF(HandicapPlay=\"x\",IF(D5=\"W\",10,-10),(IF(D5=\"W\",(VLOOKUP($C5,(TABLE!WIN),(MATCH(E5,WINCOL,0)+1))),(VLOOKUP($C5,(TABLE!LOSE),(MATCH(E5,LOSECOL,0)+1)))))))","v":""},null,{"$f":"IF(NOT(OR(F5=\"W\",F5=\"L\")),\"\",IF(HandicapPlay=\"x\",IF(F5=\"W\",10,-10),(IF(F5=\"W\",(VLOOKUP($C5,(TABLE!WIN),(MATCH(G5,WINCOL,0)+1))),(VLOOKUP($C5,(TABLE!LOSE),(MATCH(G5,LOSECOL,0)+1)))))))","v":""},null,{"$f":"IF(NOT(OR(H5=\"W\",H5=\"L\")),\"\",IF(HandicapPlay=\"x\",IF(H5=\"W\",10,-10),(IF(H5=\"W\",(VLOOKUP($C5,(TABLE!WIN),(MATCH(I5,WINCOL,0)+1))),(VLOOKUP($C5,(TABLE!LOSE),(MATCH(I5,LOSECOL,0)+1)))))))","v":""},null,{"$f":"IF(NOT(OR(J5=\"W\",J5=\"L\")),\"\",IF(HandicapPlay=\"x\",IF(J5=\"W\",10,-10),(IF(J5=\"W\",(VLOOKUP($C5,(TABLE!WIN),(MATCH(K5,WINCOL,0)+1))),(VLOOKUP($C5,(TABLE!LOSE),(MATCH(K5,LOSECOL,0)+1)))))))","v":""},null,{"$f":"IF(NOT(OR(L5=\"W\",L5=\"L\")),\"\",IF(HandicapPlay=\"x\",IF(L5=\"W\",10,-10),(IF(L5=\"W\",(VLOOKUP($C5,(TABLE!WIN),(MATCH(M5,WINCOL,0)+1))),(VLOOKUP($C5,(TABLE!LOSE),(MATCH(M5,LOSECOL,0)+1)))))))","v":""},null,{"$f":"SUM(D6:M6)","v":0}]
[null,{"$f":"SCORECARD!D24","v":" Block 1 Player 2"},{"$f":"SCORECARD!I24","v":0},{"$f":"IF(SCORECARD!$I27>0,\"W\",(IF(SCORECARD!$I27<0,\"L\",\"\")))","v":""},{"$f":"SCORECARD!F27","v":0},{"$f":"IF(SCORECARD!$I28>0,\"W\",(IF(SCORECARD!$I28<0,\"L\",\"\")))","v":""},{"$f":"SCORECARD!F28","v":0},{"$f":"IF(SCORECARD!$I29>0,\"W\",(IF(SCORECARD!$I29<0,\"L\",\"\")))","v":""},{"$f":"SCORECARD!F29","v":0},{"$f":"IF(SCORECARD!$I30>0,\"W\",(IF(SCORECARD!$I30<0,\"L\",\"\")))","v":""},{"$f":"SCORECARD!F30","v":0},{"$f":"IF(SCORECARD!$I31>0,\"W\",(IF(SCORECARD!$I31<0,\"L\",\"\")))","v":""},{"$f":"SCORECARD!$F$31","v":0}]
[null,null,null,{"$f":"IF(NOT(OR(D7=\"W\",D7=\"L\")),\"\",IF(HandicapPlay=\"x\",IF(D7=\"W\",10,-10),(IF(D7=\"W\",(VLOOKUP($C7,(TABLE!WIN),(MATCH(E7,WINCOL,0)+1))),(VLOOKUP($C7,(TABLE!LOSE),(MATCH(E7,LOSECOL,0)+1)))))))","v":""},null,{"$f":"IF(NOT(OR(F7=\"W\",F7=\"L\")),\"\",IF(HandicapPlay=\"x\",IF(F7=\"W\",10,-10),(IF(F7=\"W\",(VLOOKUP($C7,(TABLE!WIN),(MATCH(G7,WINCOL,0)+1))),(VLOOKUP($C7,(TABLE!LOSE),(MATCH(G7,LOSECOL,0)+1)))))))","v":""},null,{"$f":"IF(NOT(OR(H7=\"W\",H7=\"L\")),\"\",IF(HandicapPlay=\"x\",IF(H7=\"W\",10,-10),(IF(H7=\"W\",(VLOOKUP($C7,(TABLE!WIN),(MATCH(I7,WINCOL,0)+1))),(VLOOKUP($C7,(TABLE!LOSE),(MATCH(I7,LOSECOL,0)+1)))))))","v":""},null,{"$f":"IF(NOT(OR(J7=\"W\",J7=\"L\")),\"\",IF(HandicapPlay=\"x\",IF(J7=\"W\",10,-10),(IF(J7=\"W\",(VLOOKUP($C7,(TABLE!WIN),(MATCH(K7,WINCOL,0)+1))),(VLOOKUP($C7,(TABLE!LOSE),(MATCH(K7,LOSECOL,0)+1)))))))","v":""},null,{"$f":"IF(NOT(OR(L7=\"W\",L7=\"L\")),\"\",IF(HandicapPlay=\"x\",IF(L7=\"W\",10,-10),(IF(L7=\"W\",(VLOOKUP($C7,(TABLE!WIN),(MATCH(M7,WINCOL,0)+1))),(VLOOKUP($C7,(TABLE!LOSE),(MATCH(M7,LOSECOL,0)+1)))))))","v":""},null,{"$f":"SUM(D8:M8)","v":0}]
[null,{"$f":"SCORECARD!D48","v":" Block 1 Player 3"},{"$f":"SCORECARD!I48","v":0},{"$f":"IF(SCORECARD!$I51>0,\"W\",(IF(SCORECARD!$I51<0,\"L\",\"\")))","v":""},{"$f":"SCORECARD!F51","v":0},{"$f":"IF(SCORECARD!$I52>0,\"W\",(IF(SCORECARD!$I52<0,\"L\",\"\")))","v":""},{"$f":"SCORECARD!F52","v":0},{"$f":"IF(SCORECARD!$I53>0,\"W\",(IF(SCORECARD!$I53<0,\"L\",\"\")))","v":""},{"$f":"SCORECARD!F53","v":0},{"$f":"IF(SCORECARD!$I54>0,\"W\",(IF(SCORECARD!$I54<0,\"L\",\"\")))","v":""},{"$f":"SCORECARD!F54","v":0},{"$f":"IF(SCORECARD!$I55>0,\"W\",(IF(SCORECARD!$I55<0,\"L\",\"\")))","v":""},{"$f":"SCORECARD!F55","v":0}]
[null,null,null,{"$f":"IF(NOT(OR(D9=\"W\",D9=\"L\")),\"\",IF(HandicapPlay=\"x\",IF(D9=\"W\",10,-10),(IF(D9=\"W\",(VLOOKUP($C9,(TABLE!WIN),(MATCH(E9,WINCOL,0)+1))),(VLOOKUP($C9,(TABLE!LOSE),(MATCH(E9,LOSECOL,0)+1)))))))","v":""},null,{"$f":"IF(NOT(OR(F9=\"W\",F9=\"L\")),\"\",IF(HandicapPlay=\"x\",IF(F9=\"W\",10,-10),(IF(F9=\"W\",(VLOOKUP($C9,(TABLE!WIN),(MATCH(G9,WINCOL,0)+1))),(VLOOKUP($C9,(TABLE!LOSE),(MATCH(G9,LOSECOL,0)+1)))))))","v":""},null,{"$f":"IF(NOT(OR(H9=\"W\",H9=\"L\")),\"\",IF(HandicapPlay=\"x\",IF(H9=\"W\",10,-10),(IF(H9=\"W\",(VLOOKUP($C9,(TABLE!WIN),(MATCH(I9,WINCOL,0)+1))),(VLOOKUP($C9,(TABLE!LOSE),(MATCH(I9,LOSECOL,0)+1)))))))","v":""},null,{"$f":"IF(NOT(OR(J9=\"W\",J9=\"L\")),\"\",IF(HandicapPlay=\"x\",IF(J9=\"W\",10,-10),(IF(J9=\"W\",(VLOOKUP($C9,(TABLE!WIN),(MATCH(K9,WINCOL,0)+1))),(VLOOKUP($C9,(TABLE!LOSE),(MATCH(K9,LOSECOL,0)+1)))))))","v":""},null,{"$f":"IF(NOT(OR(L9=\"W\",L9=\"L\")),\"\",IF(HandicapPlay=\"x\",IF(L9=\"W\",10,-10),(IF(L9=\"W\",(VLOOKUP($C9,(TABLE!WIN),(MATCH(M9,WINCOL,0)+1))),(VLOOKUP($C9,(TABLE!LOSE),(MATCH(M9,LOSECOL,0)+1)))))))","v":""},null,{"$f":"SUM(D10:M10)","v":0}]
[null,{"$f":"SCORECARD!D67","v":" Block 1 Player 4"},{"$f":"SCORECARD!I67","v":0},{"$f":"IF(SCORECARD!$I70>0,\"W\",(IF(SCORECARD!$I70<0,\"L\",\"\")))","v":""},{"$f":"SCORECARD!F70","v":0},{"$f":"IF(SCORECARD!$I71>0,\"W\",(IF(SCORECARD!$I71<0,\"L\",\"\")))","v":""},{"$f":"SCORECARD!F71","v":0},{"$f":"IF(SCORECARD!$I72>0,\"W\",(IF(SCORECARD!$I72<0,\"L\",\"\")))","v":""},{"$f":"SCORECARD!F72","v":0},{"$f":"IF(SCORECARD!$I73>0,\"W\",(IF(SCORECARD!$I73<0,\"L\",\"\")))","v":""},{"$f":"SCORECARD!F73","v":0},{"$f":"IF(SCORECARD!$I74>0,\"W\",(IF(SCORECARD!$I74<0,\"L\",\"\")))","v":""},{"$f":"SCORECARD!F74","v":0}]
[null,null,null,{"$f":"IF(NOT(OR(D11=\"W\",D11=\"L\")),\"\",IF(HandicapPlay=\"x\",IF(D11=\"W\",10,-10),(IF(D11=\"W\",(VLOOKUP($C11,(TABLE!WIN),(MATCH(E11,WINCOL,0)+1))),(VLOOKUP($C11,(TABLE!LOSE),(MATCH(E11,LOSECOL,0)+1)))))))","v":""},null,{"$f":"IF(NOT(OR(F11=\"W\",F11=\"L\")),\"\",IF(HandicapPlay=\"x\",IF(F11=\"W\",10,-10),(IF(F11=\"W\",(VLOOKUP($C11,(TABLE!WIN),(MATCH(G11,WINCOL,0)+1))),(VLOOKUP($C11,(TABLE!LOSE),(MATCH(G11,LOSECOL,0)+1)))))))","v":""},null,{"$f":"IF(NOT(OR(H11=\"W\",H11=\"L\")),\"\",IF(HandicapPlay=\"x\",IF(H11=\"W\",10,-10),(IF(H11=\"W\",(VLOOKUP($C11,(TABLE!WIN),(MATCH(I11,WINCOL,0)+1))),(VLOOKUP($C11,(TABLE!LOSE),(MATCH(I11,LOSECOL,0)+1)))))))","v":""},null,{"$f":"IF(NOT(OR(J11=\"W\",J11=\"L\")),\"\",IF(HandicapPlay=\"x\",IF(J11=\"W\",10,-10),(IF(J11=\"W\",(VLOOKUP($C11,(TABLE!WIN),(MATCH(K11,WINCOL,0)+1))),(VLOOKUP($C11,(TABLE!LOSE),(MATCH(K11,LOSECOL,0)+1)))))))","v":""},null,{"$f":"IF(NOT(OR(L11=\"W\",L11=\"L\")),\"\",IF(HandicapPlay=\"x\",IF(L11=\"W\",10,-10),(IF(L11=\"W\",(VLOOKUP($C11,(TABLE!WIN),(MATCH(M11,WINCOL,0)+1))),(VLOOKUP($C11,(TABLE!LOSE),(MATCH(M11,LOSECOL,0)+1)))))))","v":""},null,{"$f":"SUM(D12:M12)","v":0}]
[null,{"$f":"SCORECARD!D91","v":" Block 1 Player 5"},{"$f":"SCORECARD!I91","v":0},{"$f":"IF(SCORECARD!$I94>0,\"W\",(IF(SCORECARD!I94<0,\"L\",\"\")))","v":""},{"$f":"SCORECARD!F94","v":0},{"$f":"IF(SCORECARD!$I95>0,\"W\",(IF(SCORECARD!$I95<0,\"L\",\"\")))","v":""},{"$f":"SCORECARD!F95","v":0},{"$f":"IF(SCORECARD!$I96>0,\"W\",(IF(SCORECARD!$I96<0,\"L\",\"\")))","v":""},{"$f":"SCORECARD!F96","v":0},{"$f":"IF(SCORECARD!$I97>0,\"W\",(IF(SCORECARD!$I97<0,\"L\",\"\")))","v":""},{"$f":"SCORECARD!F97","v":0},{"$f":"IF(SCORECARD!$I98>0,\"W\",(IF(SCORECARD!$I98<0,\"L\",\"\")))","v":""},{"$f":"SCORECARD!F98","v":0}]
[null,null,null,{"$f":"IF(NOT(OR(D13=\"W\",D13=\"L\")),\"\",IF(HandicapPlay=\"x\",IF(D13=\"W\",10,-10),(IF(D13=\"W\",(VLOOKUP($C13,(TABLE!WIN),(MATCH(E13,WINCOL,0)+1))),(VLOOKUP($C13,(TABLE!LOSE),(MATCH(E13,LOSECOL,0)+1)))))))","v":""},null,{"$f":"IF(NOT(OR(F13=\"W\",F13=\"L\")),\"\",IF(HandicapPlay=\"x\",IF(F13=\"W\",10,-10),(IF(F13=\"W\",(VLOOKUP($C13,(TABLE!WIN),(MATCH(G13,WINCOL,0)+1))),(VLOOKUP($C13,(TABLE!LOSE),(MATCH(G13,LOSECOL,0)+1)))))))","v":""},null,{"$f":"IF(NOT(OR(H13=\"W\",H13=\"L\")),\"\",IF(HandicapPlay=\"x\",IF(H13=\"W\",10,-10),(IF(H13=\"W\",(VLOOKUP($C13,(TABLE!WIN),(MATCH(I13,WINCOL,0)+1))),(VLOOKUP($C13,(TABLE!LOSE),(MATCH(I13,LOSECOL,0)+1)))))))","v":""},null,{"$f":"IF(NOT(OR(J13=\"W\",J13=\"L\")),\"\",IF(HandicapPlay=\"x\",IF(J13=\"W\",10,-10),(IF(J13=\"W\",(VLOOKUP($C13,(TABLE!WIN),(MATCH(K13,WINCOL,0)+1))),(VLOOKUP($C13,(TABLE!LOSE),(MATCH(K13,LOSECOL,0)+1)))))))","v":""},null,{"$f":"IF(NOT(OR(L13=\"W\",L13=\"L\")),\"\",IF(HandicapPlay=\"x\",IF(L13=\"W\",10,-10),(IF(L13=\"W\",(VLOOKUP($C13,(TABLE!WIN),(MATCH(M13,WINCOL,0)+1))),(VLOOKUP($C13,(TABLE!LOSE),(MATCH(M13,LOSECOL,0)+1)))))))","v":""},null,{"$f":"SUM(D14:M14)","v":0}]
[null,{"$f":"SCORECARD!D110","v":" Bye "},{"$f":"SCORECARD!I110","v":0},{"$f":"IF(SCORECARD!$I113>0,\"W\",(IF(SCORECARD!$I113<0,\"L\",\"\")))","v":""},{"$f":"SCORECARD!F113","v":0},{"$f":"IF(SCORECARD!$I114>0,\"W\",(IF(SCORECARD!$I114<0,\"L\",\"\")))","v":""},{"$f":"SCORECARD!F114","v":0},{"$f":"IF(SCORECARD!$I115>0,\"W\",(IF(SCORECARD!$I115<0,\"L\",\"\")))","v":""},{"$f":"SCORECARD!F115","v":0},{"$f":"IF(SCORECARD!$I116>0,\"W\",(IF(SCORECARD!$I116<0,\"L\",\"\")))","v":""},{"$f":"SCORECARD!F116","v":0},{"$f":"IF(SCORECARD!$I117>0,\"W\",(IF(SCORECARD!$I117<0,\"L\",\"\")))","v":""},{"$f":"SCORECARD!F117","v":0}]
[null,null,null,{"$f":"IF(NOT(OR(D15=\"W\",D15=\"L\")),\"\",IF(HandicapPlay=\"x\",IF(D15=\"W\",10,-10),(IF(D15=\"W\",(VLOOKUP($C15,(TABLE!WIN),(MATCH(E15,WINCOL,0)+1))),(VLOOKUP($C15,(TABLE!LOSE),(MATCH(E15,LOSECOL,0)+1)))))))","v":""},null,{"$f":"IF(NOT(OR(F15=\"W\",F15=\"L\")),\"\",IF(HandicapPlay=\"x\",IF(F15=\"W\",10,-10),(IF(F15=\"W\",(VLOOKUP($C15,(TABLE!WIN),(MATCH(G15,WINCOL,0)+1))),(VLOOKUP($C15,(TABLE!LOSE),(MATCH(G15,LOSECOL,0)+1)))))))","v":""},null,{"$f":"IF(NOT(OR(H15=\"W\",H15=\"L\")),\"\",IF(HandicapPlay=\"x\",IF(H15=\"W\",10,-10),(IF(H15=\"W\",(VLOOKUP($C15,(TABLE!WIN),(MATCH(I15,WINCOL,0)+1))),(VLOOKUP($C15,(TABLE!LOSE),(MATCH(I15,LOSECOL,0)+1)))))))","v":""},null,{"$f":"IF(NOT(OR(J15=\"W\",J15=\"L\")),\"\",IF(HandicapPlay=\"x\",IF(J15=\"W\",10,-10),(IF(J15=\"W\",(VLOOKUP($C15,(TABLE!WIN),(MATCH(K15,WINCOL,0)+1))),(VLOOKUP($C15,(TABLE!LOSE),(MATCH(K15,LOSECOL,0)+1)))))))","v":""},null,{"$f":"IF(NOT(OR(L15=\"W\",L15=\"L\")),\"\",IF(HandicapPlay=\"x\",IF(L15=\"W\",10,-10),(IF(L15=\"W\",(VLOOKUP($C15,(TABLE!WIN),(MATCH(M15,WINCOL,0)+1))),(VLOOKUP($C15,(TABLE!LOSE),(MATCH(M15,LOSECOL,0)+1)))))))","v":""},null,{"$f":"SUM(D16:M16)","v":0}]
[null,{"$f":"SCORECARD!D134","v":" Block 2 Player 1"},{"$f":"SCORECARD!I134","v":0},{"$f":"IF(SCORECARD!$I137>0,\"W\",(IF(SCORECARD!$I137<0,\"L\",\"\")))","v":""},{"$f":"SCORECARD!F137","v":0},{"$f":"IF(SCORECARD!$I138>0,\"W\",(IF(SCORECARD!$I138<0,\"L\",\"\")))","v":""},{"$f":"SCORECARD!F138","v":0},{"$f":"IF(SCORECARD!$I139>0,\"W\",(IF(SCORECARD!$I139<0,\"L\",\"\")))","v":""},{"$f":"SCORECARD!F139","v":0},{"$f":"IF(SCORECARD!$I140>0,\"W\",(IF(SCORECARD!$I140<0,\"L\",\"\")))","v":""},{"$f":"SCORECARD!F140","v":0},{"$f":"IF(SCORECARD!$I141>0,\"W\",(IF(SCORECARD!$I141<0,\"L\",\"\")))","v":""},{"$f":"SCORECARD!F141","v":0}]
[null,null,null,{"$f":"IF(NOT(OR(D17=\"W\",D17=\"L\")),\"\",IF(HandicapPlay=\"x\",IF(D17=\"W\",10,-10),(IF(D17=\"W\",(VLOOKUP($C17,(TABLE!WIN),(MATCH(E17,WINCOL,0)+1))),(VLOOKUP($C17,(TABLE!LOSE),(MATCH(E17,LOSECOL,0)+1)))))))","v":""},null,{"$f":"IF(NOT(OR(F17=\"W\",F17=\"L\")),\"\",IF(HandicapPlay=\"x\",IF(F17=\"W\",10,-10),(IF(F17=\"W\",(VLOOKUP($C17,(TABLE!WIN),(MATCH(G17,WINCOL,0)+1))),(VLOOKUP($C17,(TABLE!LOSE),(MATCH(G17,LOSECOL,0)+1)))))))","v":""},null,{"$f":"IF(NOT(OR(H17=\"W\",H17=\"L\")),\"\",IF(HandicapPlay=\"x\",IF(H17=\"W\",10,-10),(IF(H17=\"W\",(VLOOKUP($C17,(TABLE!WIN),(MATCH(I17,WINCOL,0)+1))),(VLOOKUP($C17,(TABLE!LOSE),(MATCH(I17,LOSECOL,0)+1)))))))","v":""},null,{"$f":"IF(NOT(OR(J17=\"W\",J17=\"L\")),\"\",IF(HandicapPlay=\"x\",IF(J17=\"W\",10,-10),(IF(J17=\"W\",(VLOOKUP($C17,(TABLE!WIN),(MATCH(K17,WINCOL,0)+1))),(VLOOKUP($C17,(TABLE!LOSE),(MATCH(K17,LOSECOL,0)+1)))))))","v":""},null,{"$f":"IF(NOT(OR(L17=\"W\",L17=\"L\")),\"\",IF(HandicapPlay=\"x\",IF(L17=\"W\",10,-10),(IF(L17=\"W\",(VLOOKUP($C17,(TABLE!WIN),(MATCH(M17,WINCOL,0)+1))),(VLOOKUP($C17,(TABLE!LOSE),(MATCH(M17,LOSECOL,0)+1)))))))","v":""},null,{"$f":"SUM(D18:M18)","v":0}]
[null,{"$f":"SCORECARD!D153","v":" Block 2 Player 2"},{"$f":"SCORECARD!I153","v":0},{"$f":"IF(SCORECARD!$I156>0,\"W\",(IF(SCORECARD!$I156<0,\"L\",\"\")))","v":""},{"$f":"SCORECARD!F156","v":0},{"$f":"IF(SCORECARD!$I157>0,\"W\",(IF(SCORECARD!$I157<0,\"L\",\"\")))","v":""},{"$f":"SCORECARD!F157","v":0},{"$f":"IF(SCORECARD!$I158>0,\"W\",(IF(SCORECARD!$I158<0,\"L\",\"\")))","v":""},{"$f":"SCORECARD!F158","v":0},{"$f":"IF(SCORECARD!$I159>0,\"W\",(IF(SCORECARD!$I159<0,\"L\",\"\")))","v":""},{"$f":"SCORECARD!F159","v":0},{"$f":"IF(SCORECARD!$I160>0,\"W\",(IF(SCORECARD!$I160<0,\"L\",\"\")))","v":""},{"$f":"SCORECARD!F160","v":0}]
[null,null,null,{"$f":"IF(NOT(OR(D19=\"W\",D19=\"L\")),\"\",IF(HandicapPlay=\"x\",IF(D19=\"W\",10,-10),(IF(D19=\"W\",(VLOOKUP($C19,(TABLE!WIN),(MATCH(E19,WINCOL,0)+1))),(VLOOKUP($C19,(TABLE!LOSE),(MATCH(E19,LOSECOL,0)+1)))))))","v":""},null,{"$f":"IF(NOT(OR(F19=\"W\",F19=\"L\")),\"\",IF(HandicapPlay=\"x\",IF(F19=\"W\",10,-10),(IF(F19=\"W\",(VLOOKUP($C19,(TABLE!WIN),(MATCH(G19,WINCOL,0)+1))),(VLOOKUP($C19,(TABLE!LOSE),(MATCH(G19,LOSECOL,0)+1)))))))","v":""},null,{"$f":"IF(NOT(OR(H19=\"W\",H19=\"L\")),\"\",IF(HandicapPlay=\"x\",IF(H19=\"W\",10,-10),(IF(H19=\"W\",(VLOOKUP($C19,(TABLE!WIN),(MATCH(I19,WINCOL,0)+1))),(VLOOKUP($C19,(TABLE!LOSE),(MATCH(I19,LOSECOL,0)+1)))))))","v":""},null,{"$f":"IF(NOT(OR(J19=\"W\",J19=\"L\")),\"\",IF(HandicapPlay=\"x\",IF(J19=\"W\",10,-10),(IF(J19=\"W\",(VLOOKUP($C19,(TABLE!WIN),(MATCH(K19,WINCOL,0)+1))),(VLOOKUP($C19,(TABLE!LOSE),(MATCH(K19,LOSECOL,0)+1)))))))","v":""},null,{"$f":"IF(NOT(OR(L19=\"W\",L19=\"L\")),\"\",IF(HandicapPlay=\"x\",IF(L19=\"W\",10,-10),(IF(L19=\"W\",(VLOOKUP($C19,(TABLE!WIN),(MATCH(M19,WINCOL,0)+1))),(VLOOKUP($C19,(TABLE!LOSE),(MATCH(M19,LOSECOL,0)+1)))))))","v":""},null,{"$f":"SUM(D20:M20)","v":0}]
[null,{"$f":"SCORECARD!D177","v":" Block 2 Player 3"},{"$f":"SCORECARD!I177","v":0},{"$f":"IF(SCORECARD!$I180>0,\"W\",(IF(SCORECARD!$I180<0,\"L\",\"\")))","v":""},{"$f":"SCORECARD!F180","v":0},{"$f":"IF(SCORECARD!$I181>0,\"W\",(IF(SCORECARD!$I181<0,\"L\",\"\")))","v":""},{"$f":"SCORECARD!F181","v":0},{"$f":"IF(SCORECARD!$I182>0,\"W\",(IF(SCORECARD!$I182<0,\"L\",\"\")))","v":""},{"$f":"SCORECARD!F182","v":0},{"$f":"IF(SCORECARD!$I183>0,\"W\",(IF(SCORECARD!$I183<0,\"L\",\"\")))","v":""},{"$f":"SCORECARD!F183","v":0},{"$f":"IF(SCORECARD!$I184>0,\"W\",(IF(SCORECARD!$I184<0,\"L\",\"\")))","v":""},{"$f":"SCORECARD!F184","v":0}]
[null,null,null,{"$f":"IF(NOT(OR(D21=\"W\",D21=\"L\")),\"\",IF(HandicapPlay=\"x\",IF(D21=\"W\",10,-10),(IF(D21=\"W\",(VLOOKUP($C21,(TABLE!WIN),(MATCH(E21,WINCOL,0)+1))),(VLOOKUP($C21,(TABLE!LOSE),(MATCH(E21,LOSECOL,0)+1)))))))","v":""},null,{"$f":"IF(NOT(OR(F21=\"W\",F21=\"L\")),\"\",IF(HandicapPlay=\"x\",IF(F21=\"W\",10,-10),(IF(F21=\"W\",(VLOOKUP($C21,(TABLE!WIN),(MATCH(G21,WINCOL,0)+1))),(VLOOKUP($C21,(TABLE!LOSE),(MATCH(G21,LOSECOL,0)+1)))))))","v":""},null,{"$f":"IF(NOT(OR(H21=\"W\",H21=\"L\")),\"\",IF(HandicapPlay=\"x\",IF(H21=\"W\",10,-10),(IF(H21=\"W\",(VLOOKUP($C21,(TABLE!WIN),(MATCH(I21,WINCOL,0)+1))),(VLOOKUP($C21,(TABLE!LOSE),(MATCH(I21,LOSECOL,0)+1)))))))","v":""},null,{"$f":"IF(NOT(OR(J21=\"W\",J21=\"L\")),\"\",IF(HandicapPlay=\"x\",IF(J21=\"W\",10,-10),(IF(J21=\"W\",(VLOOKUP($C21,(TABLE!WIN),(MATCH(K21,WINCOL,0)+1))),(VLOOKUP($C21,(TABLE!LOSE),(MATCH(K21,LOSECOL,0)+1)))))))","v":""},null,{"$f":"IF(NOT(OR(L21=\"W\",L21=\"L\")),\"\",IF(HandicapPlay=\"x\",IF(L21=\"W\",10,-10),(IF(L21=\"W\",(VLOOKUP($C21,(TABLE!WIN),(MATCH(M21,WINCOL,0)+1))),(VLOOKUP($C21,(TABLE!LOSE),(MATCH(M21,LOSECOL,0)+1)))))))","v":""},null,{"$f":"SUM(D22:M22)","v":0}]
[null,{"$f":"SCORECARD!D196","v":" Block 2 Player 4"},{"$f":"SCORECARD!I196","v":0},{"$f":"IF(SCORECARD!$I199>0,\"W\",(IF(SCORECARD!$I199<0,\"L\",\"\")))","v":""},{"$f":"SCORECARD!F199","v":0},{"$f":"IF(SCORECARD!$I200>0,\"W\",(IF(SCORECARD!$I200<0,\"L\",\"\")))","v":""},{"$f":"SCORECARD!F200","v":0},{"$f":"IF(SCORECARD!$I201>0,\"W\",(IF(SCORECARD!$I201<0,\"L\",\"\")))","v":""},{"$f":"SCORECARD!F201","v":0},{"$f":"IF(SCORECARD!$I202>0,\"W\",(IF(SCORECARD!$I202<0,\"L\",\"\")))","v":""},{"$f":"SCORECARD!F202","v":0},{"$f":"IF(SCORECARD!$I203>0,\"W\",(IF(SCORECARD!$I203<0,\"L\",\"\")))","v":""},{"$f":"SCORECARD!F203","v":0}]
[null,null,null,{"$f":"IF(NOT(OR(D23=\"W\",D23=\"L\")),\"\",IF(HandicapPlay=\"x\",IF(D23=\"W\",10,-10),(IF(D23=\"W\",(VLOOKUP($C23,(TABLE!WIN),(MATCH(E23,WINCOL,0)+1))),(VLOOKUP($C23,(TABLE!LOSE),(MATCH(E23,LOSECOL,0)+1)))))))","v":""},null,{"$f":"IF(NOT(OR(F23=\"W\",F23=\"L\")),\"\",IF(HandicapPlay=\"x\",IF(F23=\"W\",10,-10),(IF(F23=\"W\",(VLOOKUP($C23,(TABLE!WIN),(MATCH(G23,WINCOL,0)+1))),(VLOOKUP($C23,(TABLE!LOSE),(MATCH(G23,LOSECOL,0)+1)))))))","v":""},null,{"$f":"IF(NOT(OR(H23=\"W\",H23=\"L\")),\"\",IF(HandicapPlay=\"x\",IF(H23=\"W\",10,-10),(IF(H23=\"W\",(VLOOKUP($C23,(TABLE!WIN),(MATCH(I23,WINCOL,0)+1))),(VLOOKUP($C23,(TABLE!LOSE),(MATCH(I23,LOSECOL,0)+1)))))))","v":""},null,{"$f":"IF(NOT(OR(J23=\"W\",J23=\"L\")),\"\",IF(HandicapPlay=\"x\",IF(J23=\"W\",10,-10),(IF(J23=\"W\",(VLOOKUP($C23,(TABLE!WIN),(MATCH(K23,WINCOL,0)+1))),(VLOOKUP($C23,(TABLE!LOSE),(MATCH(K23,LOSECOL,0)+1)))))))","v":""},null,{"$f":"IF(NOT(OR(L23=\"W\",L23=\"L\")),\"\",IF(HandicapPlay=\"x\",IF(L23=\"W\",10,-10),(IF(L23=\"W\",(VLOOKUP($C23,(TABLE!WIN),(MATCH(M23,WINCOL,0)+1))),(VLOOKUP($C23,(TABLE!LOSE),(MATCH(M23,LOSECOL,0)+1)))))))","v":""},null,{"$f":"SUM(D24:M24)","v":0}]
[null,{"$f":"SCORECARD!D220","v":" Block 2 Player 5"},{"$f":"SCORECARD!I220","v":0},{"$f":"IF(SCORECARD!$I223>0,\"W\",(IF(SCORECARD!$I223<0,\"L\",\"\")))","v":""},{"$f":"SCORECARD!F223","v":0},{"$f":"IF(SCORECARD!$I224>0,\"W\",(IF(SCORECARD!$I224<0,\"L\",\"\")))","v":""},{"$f":"SCORECARD!F224","v":0},{"$f":"IF(SCORECARD!$I225>0,\"W\",(IF(SCORECARD!$I225<0,\"L\",\"\")))","v":""},{"$f":"SCORECARD!F225","v":0},{"$f":"IF(SCORECARD!$I226>0,\"W\",(IF(SCORECARD!$I226<0,\"L\",\"\")))","v":""},{"$f":"SCORECARD!F226","v":0},{"$f":"IF(SCORECARD!$I227>0,\"W\",(IF(SCORECARD!$I227<0,\"L\",\"\")))","v":""},{"$f":"SCORECARD!F227","v":0}]
[null,null,null,{"$f":"IF(NOT(OR(D25=\"W\",D25=\"L\")),\"\",IF(HandicapPlay=\"x\",IF(D25=\"W\",10,-10),(IF(D25=\"W\",(VLOOKUP($C25,(TABLE!WIN),(MATCH(E25,WINCOL,0)+1))),(VLOOKUP($C25,(TABLE!LOSE),(MATCH(E25,LOSECOL,0)+1)))))))","v":""},null,{"$f":"IF(NOT(OR(F25=\"W\",F25=\"L\")),\"\",IF(HandicapPlay=\"x\",IF(F25=\"W\",10,-10),(IF(F25=\"W\",(VLOOKUP($C25,(TABLE!WIN),(MATCH(G25,WINCOL,0)+1))),(VLOOKUP($C25,(TABLE!LOSE),(MATCH(G25,LOSECOL,0)+1)))))))","v":""},null,{"$f":"IF(NOT(OR(H25=\"W\",H25=\"L\")),\"\",IF(HandicapPlay=\"x\",IF(H25=\"W\",10,-10),(IF(H25=\"W\",(VLOOKUP($C25,(TABLE!WIN),(MATCH(I25,WINCOL,0)+1))),(VLOOKUP($C25,(TABLE!LOSE),(MATCH(I25,LOSECOL,0)+1)))))))","v":""},null,{"$f":"IF(NOT(OR(J25=\"W\",J25=\"L\")),\"\",IF(HandicapPlay=\"x\",IF(J25=\"W\",10,-10),(IF(J25=\"W\",(VLOOKUP($C25,(TABLE!WIN),(MATCH(K25,WINCOL,0)+1))),(VLOOKUP($C25,(TABLE!LOSE),(MATCH(K25,LOSECOL,0)+1)))))))","v":""},null,{"$f":"IF(NOT(OR(L25=\"W\",L25=\"L\")),\"\",IF(HandicapPlay=\"x\",IF(L25=\"W\",10,-10),(IF(L25=\"W\",(VLOOKUP($C25,(TABLE!WIN),(MATCH(M25,WINCOL,0)+1))),(VLOOKUP($C25,(TABLE!LOSE),(MATCH(M25,LOSECOL,0)+1)))))))","v":""},null,{"$f":"SUM(D26:M26)","v":0}]
[null,{"$f":"SCORECARD!D239","v":" Bye "},{"$f":"SCORECARD!I239","v":0},{"$f":"IF(SCORECARD!$I242>0,\"W\",(IF(SCORECARD!$I242<0,\"L\",\"\")))","v":""},{"$f":"SCORECARD!F242","v":0},{"$f":"IF(SCORECARD!$I243>0,\"W\",(IF(SCORECARD!$I243<0,\"L\",\"\")))","v":""},{"$f":"SCORECARD!F243","v":0},{"$f":"IF(SCORECARD!$I244>0,\"W\",(IF(SCORECARD!$I244<0,\"L\",\"\")))","v":""},{"$f":"SCORECARD!F244","v":0},{"$f":"IF(SCORECARD!$I245>0,\"W\",(IF(SCORECARD!$I245<0,\"L\",\"\")))","v":""},{"$f":"SCORECARD!F245","v":0},{"$f":"IF(SCORECARD!$I246>0,\"W\",(IF(SCORECARD!$I246<0,\"L\",\"\")))","v":""},{"$f":"SCORECARD!F246","v":0}]
[null,null,null,{"$f":"IF(NOT(OR(D27=\"W\",D27=\"L\")),\"\",IF(HandicapPlay=\"x\",IF(D27=\"W\",10,-10),(IF(D27=\"W\",(VLOOKUP($C27,(TABLE!WIN),(MATCH(E27,WINCOL,0)+1))),(VLOOKUP($C27,(TABLE!LOSE),(MATCH(E27,LOSECOL,0)+1)))))))","v":""},null,{"$f":"IF(NOT(OR(F27=\"W\",F27=\"L\")),\"\",IF(HandicapPlay=\"x\",IF(F27=\"W\",10,-10),(IF(F27=\"W\",(VLOOKUP($C27,(TABLE!WIN),(MATCH(G27,WINCOL,0)+1))),(VLOOKUP($C27,(TABLE!LOSE),(MATCH(G27,LOSECOL,0)+1)))))))","v":""},null,{"$f":"IF(NOT(OR(H27=\"W\",H27=\"L\")),\"\",IF(HandicapPlay=\"x\",IF(H27=\"W\",10,-10),(IF(H27=\"W\",(VLOOKUP($C27,(TABLE!WIN),(MATCH(I27,WINCOL,0)+1))),(VLOOKUP($C27,(TABLE!LOSE),(MATCH(I27,LOSECOL,0)+1)))))))","v":""},null,{"$f":"IF(NOT(OR(J27=\"W\",J27=\"L\")),\"\",IF(HandicapPlay=\"x\",IF(J27=\"W\",10,-10),(IF(J27=\"W\",(VLOOKUP($C27,(TABLE!WIN),(MATCH(K27,WINCOL,0)+1))),(VLOOKUP($C27,(TABLE!LOSE),(MATCH(K27,LOSECOL,0)+1)))))))","v":""},null,{"$f":"IF(NOT(OR(L27=\"W\",L27=\"L\")),\"\",IF(HandicapPlay=\"x\",IF(L27=\"W\",10,-10),(IF(L27=\"W\",(VLOOKUP($C27,(TABLE!WIN),(MATCH(M27,WINCOL,0)+1))),(VLOOKUP($C27,(TABLE!LOSE),(MATCH(M27,LOSECOL,0)+1)))))))","v":""},null,{"$f":"SUM(D28:M28)","v":0}]
[null,{"$f":"SCORECARD!D263","v":" Block 3 Player 1"},{"$f":"SCORECARD!I263","v":0},{"$f":"IF(SCORECARD!$I266>0,\"W\",(IF(SCORECARD!$I266<0,\"L\",\"\")))","v":""},{"$f":"SCORECARD!F266","v":0},{"$f":"IF(SCORECARD!$I267>0,\"W\",(IF(SCORECARD!$I267<0,\"L\",\"\")))","v":""},{"$f":"SCORECARD!F267","v":0},{"$f":"IF(SCORECARD!$I268>0,\"W\",(IF(SCORECARD!$I268<0,\"L\",\"\")))","v":""},{"$f":"SCORECARD!F268","v":0},{"$f":"IF(SCORECARD!$I269>0,\"W\",(IF(SCORECARD!$I269<0,\"L\",\"\")))","v":""},{"$f":"SCORECARD!F269","v":0},{"$f":"IF(SCORECARD!$I270>0,\"W\",(IF(SCORECARD!$I270<0,\"L\",\"\")))","v":""},{"$f":"SCORECARD!F270","v":0}]
[null,null,null,{"$f":"IF(NOT(OR(D29=\"W\",D29=\"L\")),\"\",IF(HandicapPlay=\"x\",IF(D29=\"W\",10,-10),(IF(D29=\"W\",(VLOOKUP($C29,(TABLE!WIN),(MATCH(E29,WINCOL,0)+1))),(VLOOKUP($C29,(TABLE!LOSE),(MATCH(E29,LOSECOL,0)+1)))))))","v":""},null,{"$f":"IF(NOT(OR(F29=\"W\",F29=\"L\")),\"\",IF(HandicapPlay=\"x\",IF(F29=\"W\",10,-10),(IF(F29=\"W\",(VLOOKUP($C29,(TABLE!WIN),(MATCH(G29,WINCOL,0)+1))),(VLOOKUP($C29,(TABLE!LOSE),(MATCH(G29,LOSECOL,0)+1)))))))","v":""},null,{"$f":"IF(NOT(OR(H29=\"W\",H29=\"L\")),\"\",IF(HandicapPlay=\"x\",IF(H29=\"W\",10,-10),(IF(H29=\"W\",(VLOOKUP($C29,(TABLE!WIN),(MATCH(I29,WINCOL,0)+1))),(VLOOKUP($C29,(TABLE!LOSE),(MATCH(I29,LOSECOL,0)+1)))))))","v":""},null,{"$f":"IF(NOT(OR(J29=\"W\",J29=\"L\")),\"\",IF(HandicapPlay=\"x\",IF(J29=\"W\",10,-10),(IF(J29=\"W\",(VLOOKUP($C29,(TABLE!WIN),(MATCH(K29,WINCOL,0)+1))),(VLOOKUP($C29,(TABLE!LOSE),(MATCH(K29,LOSECOL,0)+1)))))))","v":""},null,{"$f":"IF(NOT(OR(L29=\"W\",L29=\"L\")),\"\",IF(HandicapPlay=\"x\",IF(L29=\"W\",10,-10),(IF(L29=\"W\",(VLOOKUP($C29,(TABLE!WIN),(MATCH(M29,WINCOL,0)+1))),(VLOOKUP($C29,(TABLE!LOSE),(MATCH(M29,LOSECOL,0)+1)))))))","v":""},null,{"$f":"SUM(D30:M30)","v":0}]
[null,{"$f":"SCORECARD!D282","v":" Block 3 Player 2"},{"$f":"SCORECARD!I282","v":0},{"$f":"IF(SCORECARD!$I285>0,\"W\",(IF(SCORECARD!$I285<0,\"L\",\"\")))","v":""},{"$f":"SCORECARD!F285","v":0},{"$f":"IF(SCORECARD!$I286>0,\"W\",(IF(SCORECARD!$I286<0,\"L\",\"\")))","v":""},{"$f":"SCORECARD!F286","v":0},{"$f":"IF(SCORECARD!$I287>0,\"W\",(IF(SCORECARD!$I287<0,\"L\",\"\")))","v":""},{"$f":"SCORECARD!F287","v":0},{"$f":"IF(SCORECARD!$I288>0,\"W\",(IF(SCORECARD!$I288<0,\"L\",\"\")))","v":""},{"$f":"SCORECARD!F288","v":0},{"$f":"IF(SCORECARD!$I289>0,\"W\",(IF(SCORECARD!$I289<0,\"L\",\"\")))","v":""},{"$f":"SCORECARD!F289","v":0}]
[null,null,null,{"$f":"IF(NOT(OR(D31=\"W\",D31=\"L\")),\"\",IF(HandicapPlay=\"x\",IF(D31=\"W\",10,-10),(IF(D31=\"W\",(VLOOKUP($C31,(TABLE!WIN),(MATCH(E31,WINCOL,0)+1))),(VLOOKUP($C31,(TABLE!LOSE),(MATCH(E31,LOSECOL,0)+1)))))))","v":""},null,{"$f":"IF(NOT(OR(F31=\"W\",F31=\"L\")),\"\",IF(HandicapPlay=\"x\",IF(F31=\"W\",10,-10),(IF(F31=\"W\",(VLOOKUP($C31,(TABLE!WIN),(MATCH(G31,WINCOL,0)+1))),(VLOOKUP($C31,(TABLE!LOSE),(MATCH(G31,LOSECOL,0)+1)))))))","v":""},null,{"$f":"IF(NOT(OR(H31=\"W\",H31=\"L\")),\"\",IF(HandicapPlay=\"x\",IF(H31=\"W\",10,-10),(IF(H31=\"W\",(VLOOKUP($C31,(TABLE!WIN),(MATCH(I31,WINCOL,0)+1))),(VLOOKUP($C31,(TABLE!LOSE),(MATCH(I31,LOSECOL,0)+1)))))))","v":""},null,{"$f":"IF(NOT(OR(J31=\"W\",J31=\"L\")),\"\",IF(HandicapPlay=\"x\",IF(J31=\"W\",10,-10),(IF(J31=\"W\",(VLOOKUP($C31,(TABLE!WIN),(MATCH(K31,WINCOL,0)+1))),(VLOOKUP($C31,(TABLE!LOSE),(MATCH(K31,LOSECOL,0)+1)))))))","v":""},null,{"$f":"IF(NOT(OR(L31=\"W\",L31=\"L\")),\"\",IF(HandicapPlay=\"x\",IF(L31=\"W\",10,-10),(IF(L31=\"W\",(VLOOKUP($C31,(TABLE!WIN),(MATCH(M31,WINCOL,0)+1))),(VLOOKUP($C31,(TABLE!LOSE),(MATCH(M31,LOSECOL,0)+1)))))))","v":""},null,{"$f":"SUM(D32:M32)","v":0}]
[null,{"$f":"SCORECARD!D306","v":" Block 3 Player 3"},{"$f":"SCORECARD!I306","v":0},{"$f":"IF(SCORECARD!$I309>0,\"W\",(IF(SCORECARD!$I309<0,\"L\",\"\")))","v":""},{"$f":"SCORECARD!F309","v":0},{"$f":"IF(SCORECARD!$I310>0,\"W\",(IF(SCORECARD!$I310<0,\"L\",\"\")))","v":""},{"$f":"SCORECARD!F310","v":0},{"$f":"IF(SCORECARD!$I311>0,\"W\",(IF(SCORECARD!$I311<0,\"L\",\"\")))","v":""},{"$f":"SCORECARD!F311","v":0},{"$f":"IF(SCORECARD!$I312>0,\"W\",(IF(SCORECARD!$I312<0,\"L\",\"\")))","v":""},{"$f":"SCORECARD!F312","v":0},{"$f":"IF(SCORECARD!$I313>0,\"W\",(IF(SCORECARD!$I313<0,\"L\",\"\")))","v":""},{"$f":"SCORECARD!F313","v":0}]
[null,null,null,{"$f":"IF(NOT(OR(D33=\"W\",D33=\"L\")),\"\",IF(HandicapPlay=\"x\",IF(D33=\"W\",10,-10),(IF(D33=\"W\",(VLOOKUP($C33,(TABLE!WIN),(MATCH(E33,WINCOL,0)+1))),(VLOOKUP($C33,(TABLE!LOSE),(MATCH(E33,LOSECOL,0)+1)))))))","v":""},null,{"$f":"IF(NOT(OR(F33=\"W\",F33=\"L\")),\"\",IF(HandicapPlay=\"x\",IF(F33=\"W\",10,-10),(IF(F33=\"W\",(VLOOKUP($C33,(TABLE!WIN),(MATCH(G33,WINCOL,0)+1))),(VLOOKUP($C33,(TABLE!LOSE),(MATCH(G33,LOSECOL,0)+1)))))))","v":""},null,{"$f":"IF(NOT(OR(H33=\"W\",H33=\"L\")),\"\",IF(HandicapPlay=\"x\",IF(H33=\"W\",10,-10),(IF(H33=\"W\",(VLOOKUP($C33,(TABLE!WIN),(MATCH(I33,WINCOL,0)+1))),(VLOOKUP($C33,(TABLE!LOSE),(MATCH(I33,LOSECOL,0)+1)))))))","v":""},null,{"$f":"IF(NOT(OR(J33=\"W\",J33=\"L\")),\"\",IF(HandicapPlay=\"x\",IF(J33=\"W\",10,-10),(IF(J33=\"W\",(VLOOKUP($C33,(TABLE!WIN),(MATCH(K33,WINCOL,0)+1))),(VLOOKUP($C33,(TABLE!LOSE),(MATCH(K33,LOSECOL,0)+1)))))))","v":""},null,{"$f":"IF(NOT(OR(L33=\"W\",L33=\"L\")),\"\",IF(HandicapPlay=\"x\",IF(L33=\"W\",10,-10),(IF(L33=\"W\",(VLOOKUP($C33,(TABLE!WIN),(MATCH(M33,WINCOL,0)+1))),(VLOOKUP($C33,(TABLE!LOSE),(MATCH(M33,LOSECOL,0)+1)))))))","v":""},null,{"$f":"SUM(D34:M34)","v":0}]
[null,{"$f":"SCORECARD!D325","v":" Block 3 Player 4"},{"$f":"SCORECARD!I325","v":0},{"$f":"IF(SCORECARD!$I328>0,\"W\",(IF(SCORECARD!$I328<0,\"L\",\"\")))","v":""},{"$f":"SCORECARD!F328","v":0},{"$f":"IF(SCORECARD!$I329>0,\"W\",(IF(SCORECARD!$I329<0,\"L\",\"\")))","v":""},{"$f":"SCORECARD!F329","v":0},{"$f":"IF(SCORECARD!$I330>0,\"W\",(IF(SCORECARD!$I330<0,\"L\",\"\")))","v":""},{"$f":"SCORECARD!F330","v":0},{"$f":"IF(SCORECARD!$I331>0,\"W\",(IF(SCORECARD!$I331<0,\"L\",\"\")))","v":""},{"$f":"SCORECARD!F331","v":0},{"$f":"IF(SCORECARD!$I332>0,\"W\",(IF(SCORECARD!$I332<0,\"L\",\"\")))","v":""},{"$f":"SCORECARD!F332","v":0}]
[null,null,null,{"$f":"IF(NOT(OR(D35=\"W\",D35=\"L\")),\"\",IF(HandicapPlay=\"x\",IF(D35=\"W\",10,-10),(IF(D35=\"W\",(VLOOKUP($C35,(TABLE!WIN),(MATCH(E35,WINCOL,0)+1))),(VLOOKUP($C35,(TABLE!LOSE),(MATCH(E35,LOSECOL,0)+1)))))))","v":""},null,{"$f":"IF(NOT(OR(F35=\"W\",F35=\"L\")),\"\",IF(HandicapPlay=\"x\",IF(F35=\"W\",10,-10),(IF(F35=\"W\",(VLOOKUP($C35,(TABLE!WIN),(MATCH(G35,WINCOL,0)+1))),(VLOOKUP($C35,(TABLE!LOSE),(MATCH(G35,LOSECOL,0)+1)))))))","v":""},null,{"$f":"IF(NOT(OR(H35=\"W\",H35=\"L\")),\"\",IF(HandicapPlay=\"x\",IF(H35=\"W\",10,-10),(IF(H35=\"W\",(VLOOKUP($C35,(TABLE!WIN),(MATCH(I35,WINCOL,0)+1))),(VLOOKUP($C35,(TABLE!LOSE),(MATCH(I35,LOSECOL,0)+1)))))))","v":""},null,{"$f":"IF(NOT(OR(J35=\"W\",J35=\"L\")),\"\",IF(HandicapPlay=\"x\",IF(J35=\"W\",10,-10),(IF(J35=\"W\",(VLOOKUP($C35,(TABLE!WIN),(MATCH(K35,WINCOL,0)+1))),(VLOOKUP($C35,(TABLE!LOSE),(MATCH(K35,LOSECOL,0)+1)))))))","v":""},null,{"$f":"IF(NOT(OR(L35=\"W\",L35=\"L\")),\"\",IF(HandicapPlay=\"x\",IF(L35=\"W\",10,-10),(IF(L35=\"W\",(VLOOKUP($C35,(TABLE!WIN),(MATCH(M35,WINCOL,0)+1))),(VLOOKUP($C35,(TABLE!LOSE),(MATCH(M35,LOSECOL,0)+1)))))))","v":""},null,{"$f":"SUM(D36:M36)","v":0}]
[null,{"$f":"SCORECARD!D349","v":" Block 3 Player 5"},{"$f":"SCORECARD!I349","v":0},{"$f":"IF(SCORECARD!$I352>0,\"W\",(IF(SCORECARD!$I352<0,\"L\",\"\")))","v":""},{"$f":"SCORECARD!F352","v":0},{"$f":"IF(SCORECARD!$I353>0,\"W\",(IF(SCORECARD!$I353<0,\"L\",\"\")))","v":""},{"$f":"SCORECARD!F353","v":0},{"$f":"IF(SCORECARD!$I354>0,\"W\",(IF(SCORECARD!$I354<0,\"L\",\"\")))","v":""},{"$f":"SCORECARD!F354","v":0},{"$f":"IF(SCORECARD!$I355>0,\"W\",(IF(SCORECARD!$I355<0,\"L\",\"\")))","v":""},{"$f":"SCORECARD!F355","v":0},{"$f":"IF(SCORECARD!$I356>0,\"W\",(IF(SCORECARD!$I356<0,\"L\",\"\")))","v":""},{"$f":"SCORECARD!F356","v":0}]
[null,null,null,{"$f":"IF(NOT(OR(D37=\"W\",D37=\"L\")),\"\",IF(HandicapPlay=\"x\",IF(D37=\"W\",10,-10),(IF(D37=\"W\",(VLOOKUP($C37,(TABLE!WIN),(MATCH(E37,WINCOL,0)+1))),(VLOOKUP($C37,(TABLE!LOSE),(MATCH(E37,LOSECOL,0)+1)))))))","v":""},null,{"$f":"IF(NOT(OR(F37=\"W\",F37=\"L\")),\"\",IF(HandicapPlay=\"x\",IF(F37=\"W\",10,-10),(IF(F37=\"W\",(VLOOKUP($C37,(TABLE!WIN),(MATCH(G37,WINCOL,0)+1))),(VLOOKUP($C37,(TABLE!LOSE),(MATCH(G37,LOSECOL,0)+1)))))))","v":""},null,{"$f":"IF(NOT(OR(H37=\"W\",H37=\"L\")),\"\",IF(HandicapPlay=\"x\",IF(H37=\"W\",10,-10),(IF(H37=\"W\",(VLOOKUP($C37,(TABLE!WIN),(MATCH(I37,WINCOL,0)+1))),(VLOOKUP($C37,(TABLE!LOSE),(MATCH(I37,LOSECOL,0)+1)))))))","v":""},null,{"$f":"IF(NOT(OR(J37=\"W\",J37=\"L\")),\"\",IF(HandicapPlay=\"x\",IF(J37=\"W\",10,-10),(IF(J37=\"W\",(VLOOKUP($C37,(TABLE!WIN),(MATCH(K37,WINCOL,0)+1))),(VLOOKUP($C37,(TABLE!LOSE),(MATCH(K37,LOSECOL,0)+1)))))))","v":""},null,{"$f":"IF(NOT(OR(L37=\"W\",L37=\"L\")),\"\",IF(HandicapPlay=\"x\",IF(L37=\"W\",10,-10),(IF(L37=\"W\",(VLOOKUP($C37,(TABLE!WIN),(MATCH(M37,WINCOL,0)+1))),(VLOOKUP($C37,(TABLE!LOSE),(MATCH(M37,LOSECOL,0)+1)))))))","v":""},null,{"$f":"SUM(D38:M38)","v":0}]
[null,{"$f":"SCORECARD!D368","v":" Bye "},{"$f":"SCORECARD!I368","v":0},{"$f":"IF(SCORECARD!$I371>0,\"W\",(IF(SCORECARD!$I371<0,\"L\",\"\")))","v":""},{"$f":"SCORECARD!F371","v":0},{"$f":"IF(SCORECARD!$I372>0,\"W\",(IF(SCORECARD!$I372<0,\"L\",\"\")))","v":""},{"$f":"SCORECARD!F372","v":0},{"$f":"IF(SCORECARD!$I373>0,\"W\",(IF(SCORECARD!$I373<0,\"L\",\"\")))","v":""},{"$f":"SCORECARD!F373","v":0},{"$f":"IF(SCORECARD!$I374>0,\"W\",(IF(SCORECARD!$I374<0,\"L\",\"\")))","v":""},{"$f":"SCORECARD!F374","v":0},{"$f":"IF(SCORECARD!$I375>0,\"W\",(IF(SCORECARD!$I375<0,\"L\",\"\")))","v":""},{"$f":"SCORECARD!F375","v":0}]
[null,null,null,{"$f":"IF(NOT(OR(D39=\"W\",D39=\"L\")),\"\",IF(HandicapPlay=\"x\",IF(D39=\"W\",10,-10),(IF(D39=\"W\",(VLOOKUP($C39,(TABLE!WIN),(MATCH(E39,WINCOL,0)+1))),(VLOOKUP($C39,(TABLE!LOSE),(MATCH(E39,LOSECOL,0)+1)))))))","v":""},null,{"$f":"IF(NOT(OR(F39=\"W\",F39=\"L\")),\"\",IF(HandicapPlay=\"x\",IF(F39=\"W\",10,-10),(IF(F39=\"W\",(VLOOKUP($C39,(TABLE!WIN),(MATCH(G39,WINCOL,0)+1))),(VLOOKUP($C39,(TABLE!LOSE),(MATCH(G39,LOSECOL,0)+1)))))))","v":""},null,{"$f":"IF(NOT(OR(H39=\"W\",H39=\"L\")),\"\",IF(HandicapPlay=\"x\",IF(H39=\"W\",10,-10),(IF(H39=\"W\",(VLOOKUP($C39,(TABLE!WIN),(MATCH(I39,WINCOL,0)+1))),(VLOOKUP($C39,(TABLE!LOSE),(MATCH(I39,LOSECOL,0)+1)))))))","v":""},null,{"$f":"IF(NOT(OR(J39=\"W\",J39=\"L\")),\"\",IF(HandicapPlay=\"x\",IF(J39=\"W\",10,-10),(IF(J39=\"W\",(VLOOKUP($C39,(TABLE!WIN),(MATCH(K39,WINCOL,0)+1))),(VLOOKUP($C39,(TABLE!LOSE),(MATCH(K39,LOSECOL,0)+1)))))))","v":""},null,{"$f":"IF(NOT(OR(L39=\"W\",L39=\"L\")),\"\",IF(HandicapPlay=\"x\",IF(L39=\"W\",10,-10),(IF(L39=\"W\",(VLOOKUP($C39,(TABLE!WIN),(MATCH(M39,WINCOL,0)+1))),(VLOOKUP($C39,(TABLE!LOSE),(MATCH(M39,LOSECOL,0)+1)))))))","v":""},null,{"$f":"SUM(D40:M40)","v":0}]
[null,{"$f":"SCORECARD!D392","v":" Block 4 Player 1"},{"$f":"SCORECARD!I392","v":0},{"$f":"IF(SCORECARD!$I395>0,\"W\",(IF(SCORECARD!$I395<0,\"L\",\"\")))","v":""},{"$f":"SCORECARD!F395","v":0},{"$f":"IF(SCORECARD!$I396>0,\"W\",(IF(SCORECARD!$I396<0,\"L\",\"\")))","v":""},{"$f":"SCORECARD!F396","v":0},{"$f":"IF(SCORECARD!$I397>0,\"W\",(IF(SCORECARD!$I397<0,\"L\",\"\")))","v":""},{"$f":"SCORECARD!F397","v":0},{"$f":"IF(SCORECARD!$I398>0,\"W\",(IF(SCORECARD!$I398<0,\"L\",\"\")))","v":""},{"$f":"SCORECARD!F398","v":0},{"$f":"IF(SCORECARD!$I399>0,\"W\",(IF(SCORECARD!$I399<0,\"L\",\"\")))","v":""},{"$f":"SCORECARD!F399","v":0}]
[null,null,null,{"$f":"IF(NOT(OR(D41=\"W\",D41=\"L\")),\"\",IF(HandicapPlay=\"x\",IF(D41=\"W\",10,-10),(IF(D41=\"W\",(VLOOKUP($C41,(TABLE!WIN),(MATCH(E41,WINCOL,0)+1))),(VLOOKUP($C41,(TABLE!LOSE),(MATCH(E41,LOSECOL,0)+1)))))))","v":""},null,{"$f":"IF(NOT(OR(F41=\"W\",F41=\"L\")),\"\",IF(HandicapPlay=\"x\",IF(F41=\"W\",10,-10),(IF(F41=\"W\",(VLOOKUP($C41,(TABLE!WIN),(MATCH(G41,WINCOL,0)+1))),(VLOOKUP($C41,(TABLE!LOSE),(MATCH(G41,LOSECOL,0)+1)))))))","v":""},null,{"$f":"IF(NOT(OR(H41=\"W\",H41=\"L\")),\"\",IF(HandicapPlay=\"x\",IF(H41=\"W\",10,-10),(IF(H41=\"W\",(VLOOKUP($C41,(TABLE!WIN),(MATCH(I41,WINCOL,0)+1))),(VLOOKUP($C41,(TABLE!LOSE),(MATCH(I41,LOSECOL,0)+1)))))))","v":""},null,{"$f":"IF(NOT(OR(J41=\"W\",J41=\"L\")),\"\",IF(HandicapPlay=\"x\",IF(J41=\"W\",10,-10),(IF(J41=\"W\",(VLOOKUP($C41,(TABLE!WIN),(MATCH(K41,WINCOL,0)+1))),(VLOOKUP($C41,(TABLE!LOSE),(MATCH(K41,LOSECOL,0)+1)))))))","v":""},null,{"$f":"IF(NOT(OR(L41=\"W\",L41=\"L\")),\"\",IF(HandicapPlay=\"x\",IF(L41=\"W\",10,-10),(IF(L41=\"W\",(VLOOKUP($C41,(TABLE!WIN),(MATCH(M41,WINCOL,0)+1))),(VLOOKUP($C41,(TABLE!LOSE),(MATCH(M41,LOSECOL,0)+1)))))))","v":""},null,{"$f":"SUM(D42:M42)","v":0}]
[null,{"$f":"SCORECARD!D411","v":" Block 4 Player 2"},{"$f":"SCORECARD!I411","v":0},{"$f":"IF(SCORECARD!$I414>0,\"W\",(IF(SCORECARD!$I414<0,\"L\",\"\")))","v":""},{"$f":"SCORECARD!F414","v":0},{"$f":"IF(SCORECARD!$I415>0,\"W\",(IF(SCORECARD!$I415<0,\"L\",\"\")))","v":""},{"$f":"SCORECARD!F415","v":0},{"$f":"IF(SCORECARD!$I416>0,\"W\",(IF(SCORECARD!$I416<0,\"L\",\"\")))","v":""},{"$f":"SCORECARD!F416","v":0},{"$f":"IF(SCORECARD!$I417>0,\"W\",(IF(SCORECARD!$I417<0,\"L\",\"\")))","v":""},{"$f":"SCORECARD!F417","v":0},{"$f":"IF(SCORECARD!$I418>0,\"W\",(IF(SCORECARD!$I418<0,\"L\",\"\")))","v":""},{"$f":"SCORECARD!F418","v":0}]
[null,null,null,{"$f":"IF(NOT(OR(D43=\"W\",D43=\"L\")),\"\",IF(HandicapPlay=\"x\",IF(D43=\"W\",10,-10),(IF(D43=\"W\",(VLOOKUP($C43,(TABLE!WIN),(MATCH(E43,WINCOL,0)+1))),(VLOOKUP($C43,(TABLE!LOSE),(MATCH(E43,LOSECOL,0)+1)))))))","v":""},null,{"$f":"IF(NOT(OR(F43=\"W\",F43=\"L\")),\"\",IF(HandicapPlay=\"x\",IF(F43=\"W\",10,-10),(IF(F43=\"W\",(VLOOKUP($C43,(TABLE!WIN),(MATCH(G43,WINCOL,0)+1))),(VLOOKUP($C43,(TABLE!LOSE),(MATCH(G43,LOSECOL,0)+1)))))))","v":""},null,{"$f":"IF(NOT(OR(H43=\"W\",H43=\"L\")),\"\",IF(HandicapPlay=\"x\",IF(H43=\"W\",10,-10),(IF(H43=\"W\",(VLOOKUP($C43,(TABLE!WIN),(MATCH(I43,WINCOL,0)+1))),(VLOOKUP($C43,(TABLE!LOSE),(MATCH(I43,LOSECOL,0)+1)))))))","v":""},null,{"$f":"IF(NOT(OR(J43=\"W\",J43=\"L\")),\"\",IF(HandicapPlay=\"x\",IF(J43=\"W\",10,-10),(IF(J43=\"W\",(VLOOKUP($C43,(TABLE!WIN),(MATCH(K43,WINCOL,0)+1))),(VLOOKUP($C43,(TABLE!LOSE),(MATCH(K43,LOSECOL,0)+1)))))))","v":""},null,{"$f":"IF(NOT(OR(L43=\"W\",L43=\"L\")),\"\",IF(HandicapPlay=\"x\",IF(L43=\"W\",10,-10),(IF(L43=\"W\",(VLOOKUP($C43,(TABLE!WIN),(MATCH(M43,WINCOL,0)+1))),(VLOOKUP($C43,(TABLE!LOSE),(MATCH(M43,LOSECOL,0)+1)))))))","v":""},null,{"$f":"SUM(D44:M44)","v":0}]
[null,{"$f":"SCORECARD!D435","v":" Block 4 Player 3"},{"$f":"SCORECARD!I435","v":0},{"$f":"IF(SCORECARD!$I438>0,\"W\",(IF(SCORECARD!$I438<0,\"L\",\"\")))","v":""},{"$f":"SCORECARD!F438","v":0},{"$f":"IF(SCORECARD!$I439>0,\"W\",(IF(SCORECARD!$I439<0,\"L\",\"\")))","v":""},{"$f":"SCORECARD!F439","v":0},{"$f":"IF(SCORECARD!$I440>0,\"W\",(IF(SCORECARD!$I440<0,\"L\",\"\")))","v":""},{"$f":"SCORECARD!F440","v":0},{"$f":"IF(SCORECARD!$I441>0,\"W\",(IF(SCORECARD!$I441<0,\"L\",\"\")))","v":""},{"$f":"SCORECARD!F441","v":0},{"$f":"IF(SCORECARD!$I442>0,\"W\",(IF(SCORECARD!$I442<0,\"L\",\"\")))","v":""},{"$f":"SCORECARD!F442","v":0}]
[null,null,null,{"$f":"IF(NOT(OR(D45=\"W\",D45=\"L\")),\"\",IF(HandicapPlay=\"x\",IF(D45=\"W\",10,-10),(IF(D45=\"W\",(VLOOKUP($C45,(TABLE!WIN),(MATCH(E45,WINCOL,0)+1))),(VLOOKUP($C45,(TABLE!LOSE),(MATCH(E45,LOSECOL,0)+1)))))))","v":""},null,{"$f":"IF(NOT(OR(F45=\"W\",F45=\"L\")),\"\",IF(HandicapPlay=\"x\",IF(F45=\"W\",10,-10),(IF(F45=\"W\",(VLOOKUP($C45,(TABLE!WIN),(MATCH(G45,WINCOL,0)+1))),(VLOOKUP($C45,(TABLE!LOSE),(MATCH(G45,LOSECOL,0)+1)))))))","v":""},null,{"$f":"IF(NOT(OR(H45=\"W\",H45=\"L\")),\"\",IF(HandicapPlay=\"x\",IF(H45=\"W\",10,-10),(IF(H45=\"W\",(VLOOKUP($C45,(TABLE!WIN),(MATCH(I45,WINCOL,0)+1))),(VLOOKUP($C45,(TABLE!LOSE),(MATCH(I45,LOSECOL,0)+1)))))))","v":""},null,{"$f":"IF(NOT(OR(J45=\"W\",J45=\"L\")),\"\",IF(HandicapPlay=\"x\",IF(J45=\"W\",10,-10),(IF(J45=\"W\",(VLOOKUP($C45,(TABLE!WIN),(MATCH(K45,WINCOL,0)+1))),(VLOOKUP($C45,(TABLE!LOSE),(MATCH(K45,LOSECOL,0)+1)))))))","v":""},null,{"$f":"IF(NOT(OR(L45=\"W\",L45=\"L\")),\"\",IF(HandicapPlay=\"x\",IF(L45=\"W\",10,-10),(IF(L45=\"W\",(VLOOKUP($C45,(TABLE!WIN),(MATCH(M45,WINCOL,0)+1))),(VLOOKUP($C45,(TABLE!LOSE),(MATCH(M45,LOSECOL,0)+1)))))))","v":""},null,{"$f":"SUM(D46:M46)","v":0}]
[null,{"$f":"SCORECARD!D454","v":" Block 4 Player 4"},{"$f":"SCORECARD!I454","v":0},{"$f":"IF(SCORECARD!$I457>0,\"W\",(IF(SCORECARD!$I457<0,\"L\",\"\")))","v":""},{"$f":"SCORECARD!$F457","v":0},{"$f":"IF(SCORECARD!$I458>0,\"W\",(IF(SCORECARD!$I458<0,\"L\",\"\")))","v":""},{"$f":"SCORECARD!F458","v":0},{"$f":"IF(SCORECARD!$I459>0,\"W\",(IF(SCORECARD!$I459<0,\"L\",\"\")))","v":""},{"$f":"SCORECARD!F459","v":0},{"$f":"IF(SCORECARD!$I460>0,\"W\",(IF(SCORECARD!$I460<0,\"L\",\"\")))","v":""},{"$f":"SCORECARD!F460","v":0},{"$f":"IF(SCORECARD!$I461>0,\"W\",(IF(SCORECARD!$I461<0,\"L\",\"\")))","v":""},{"$f":"SCORECARD!F461","v":0}]
[null,null,null,{"$f":"IF(NOT(OR(D47=\"W\",D47=\"L\")),\"\",IF(HandicapPlay=\"x\",IF(D47=\"W\",10,-10),(IF(D47=\"W\",(VLOOKUP($C47,(TABLE!WIN),(MATCH(E47,WINCOL,0)+1))),(VLOOKUP($C47,(TABLE!LOSE),(MATCH(E47,LOSECOL,0)+1)))))))","v":""},null,{"$f":"IF(NOT(OR(F47=\"W\",F47=\"L\")),\"\",IF(HandicapPlay=\"x\",IF(F47=\"W\",10,-10),(IF(F47=\"W\",(VLOOKUP($C47,(TABLE!WIN),(MATCH(G47,WINCOL,0)+1))),(VLOOKUP($C47,(TABLE!LOSE),(MATCH(G47,LOSECOL,0)+1)))))))","v":""},null,{"$f":"IF(NOT(OR(H47=\"W\",H47=\"L\")),\"\",IF(HandicapPlay=\"x\",IF(H47=\"W\",10,-10),(IF(H47=\"W\",(VLOOKUP($C47,(TABLE!WIN),(MATCH(I47,WINCOL,0)+1))),(VLOOKUP($C47,(TABLE!LOSE),(MATCH(I47,LOSECOL,0)+1)))))))","v":""},null,{"$f":"IF(NOT(OR(J47=\"W\",J47=\"L\")),\"\",IF(HandicapPlay=\"x\",IF(J47=\"W\",10,-10),(IF(J47=\"W\",(VLOOKUP($C47,(TABLE!WIN),(MATCH(K47,WINCOL,0)+1))),(VLOOKUP($C47,(TABLE!LOSE),(MATCH(K47,LOSECOL,0)+1)))))))","v":""},null,{"$f":"IF(NOT(OR(L47=\"W\",L47=\"L\")),\"\",IF(HandicapPlay=\"x\",IF(L47=\"W\",10,-10),(IF(L47=\"W\",(VLOOKUP($C47,(TABLE!WIN),(MATCH(M47,WINCOL,0)+1))),(VLOOKUP($C47,(TABLE!LOSE),(MATCH(M47,LOSECOL,0)+1)))))))","v":""},null,{"$f":"SUM(D48:M48)","v":0}]
[null,{"$f":"SCORECARD!D478","v":" Block 4 Player 5"},{"$f":"SCORECARD!I478","v":0},{"$f":"IF(SCORECARD!$I481>0,\"W\",(IF(SCORECARD!$I481<0,\"L\",\"\")))","v":""},{"$f":"SCORECARD!F481","v":0},{"$f":"IF(SCORECARD!$I482>0,\"W\",(IF(SCORECARD!$I482<0,\"L\",\"\")))","v":""},{"$f":"SCORECARD!F482","v":0},{"$f":"IF(SCORECARD!$I483>0,\"W\",(IF(SCORECARD!$I483<0,\"L\",\"\")))","v":""},{"$f":"SCORECARD!F483","v":0},{"$f":"IF(SCORECARD!$I484>0,\"W\",(IF(SCORECARD!$I484<0,\"L\",\"\")))","v":""},{"$f":"SCORECARD!F484","v":0},{"$f":"IF(SCORECARD!$I485>0,\"W\",(IF(SCORECARD!$I485<0,\"L\",\"\")))","v":""},{"$f":"SCORECARD!F485","v":0}]
[null,null,null,{"$f":"IF(NOT(OR(D49=\"W\",D49=\"L\")),\"\",IF(HandicapPlay=\"x\",IF(D49=\"W\",10,-10),(IF(D49=\"W\",(VLOOKUP($C49,(TABLE!WIN),(MATCH(E49,WINCOL,0)+1))),(VLOOKUP($C49,(TABLE!LOSE),(MATCH(E49,LOSECOL,0)+1)))))))","v":""},null,{"$f":"IF(NOT(OR(F49=\"W\",F49=\"L\")),\"\",IF(HandicapPlay=\"x\",IF(F49=\"W\",10,-10),(IF(F49=\"W\",(VLOOKUP($C49,(TABLE!WIN),(MATCH(G49,WINCOL,0)+1))),(VLOOKUP($C49,(TABLE!LOSE),(MATCH(G49,LOSECOL,0)+1)))))))","v":""},null,{"$f":"IF(NOT(OR(H49=\"W\",H49=\"L\")),\"\",IF(HandicapPlay=\"x\",IF(H49=\"W\",10,-10),(IF(H49=\"W\",(VLOOKUP($C49,(TABLE!WIN),(MATCH(I49,WINCOL,0)+1))),(VLOOKUP($C49,(TABLE!LOSE),(MATCH(I49,LOSECOL,0)+1)))))))","v":""},null,{"$f":"IF(NOT(OR(J49=\"W\",J49=\"L\")),\"\",IF(HandicapPlay=\"x\",IF(J49=\"W\",10,-10),(IF(J49=\"W\",(VLOOKUP($C49,(TABLE!WIN),(MATCH(K49,WINCOL,0)+1))),(VLOOKUP($C49,(TABLE!LOSE),(MATCH(K49,LOSECOL,0)+1)))))))","v":""},null,{"$f":"IF(NOT(OR(L49=\"W\",L49=\"L\")),\"\",IF(HandicapPlay=\"x\",IF(L49=\"W\",10,-10),(IF(L49=\"W\",(VLOOKUP($C49,(TABLE!WIN),(MATCH(M49,WINCOL,0)+1))),(VLOOKUP($C49,(TABLE!LOSE),(MATCH(M49,LOSECOL,0)+1)))))))","v":""},null,{"$f":"SUM(D50:M50)","v":0}]
[null,{"$f":"SCORECARD!D497","v":" Bye "},{"$f":"SCORECARD!I497","v":0},{"$f":"IF(SCORECARD!$I500>0,\"W\",(IF(SCORECARD!$I500<0,\"L\",\"\")))","v":""},{"$f":"SCORECARD!F500","v":0},{"$f":"IF(SCORECARD!$I501>0,\"W\",(IF(SCORECARD!$I501<0,\"L\",\"\")))","v":""},{"$f":"SCORECARD!F501","v":0},{"$f":"IF(SCORECARD!$I502>0,\"W\",(IF(SCORECARD!$I502<0,\"L\",\"\")))","v":""},{"$f":"SCORECARD!F502","v":0},{"$f":"IF(SCORECARD!$I503>0,\"W\",(IF(SCORECARD!$I503<0,\"L\",\"\")))","v":""},{"$f":"SCORECARD!F503","v":0},{"$f":"IF(SCORECARD!$I504>0,\"W\",(IF(SCORECARD!$I504<0,\"L\",\"\")))","v":""},{"$f":"SCORECARD!F504","v":0}]
[null,null,null,{"$f":"IF(NOT(OR(D51=\"W\",D51=\"L\")),\"\",IF(HandicapPlay=\"x\",IF(D51=\"W\",10,-10),(IF(D51=\"W\",(VLOOKUP($C51,(TABLE!WIN),(MATCH(E51,WINCOL,0)+1))),(VLOOKUP($C51,(TABLE!LOSE),(MATCH(E51,LOSECOL,0)+1)))))))","v":""},null,{"$f":"IF(NOT(OR(F51=\"W\",F51=\"L\")),\"\",IF(HandicapPlay=\"x\",IF(F51=\"W\",10,-10),(IF(F51=\"W\",(VLOOKUP($C51,(TABLE!WIN),(MATCH(G51,WINCOL,0)+1))),(VLOOKUP($C51,(TABLE!LOSE),(MATCH(G51,LOSECOL,0)+1)))))))","v":""},null,{"$f":"IF(NOT(OR(H51=\"W\",H51=\"L\")),\"\",IF(HandicapPlay=\"x\",IF(H51=\"W\",10,-10),(IF(H51=\"W\",(VLOOKUP($C51,(TABLE!WIN),(MATCH(I51,WINCOL,0)+1))),(VLOOKUP($C51,(TABLE!LOSE),(MATCH(I51,LOSECOL,0)+1)))))))","v":""},null,{"$f":"IF(NOT(OR(J51=\"W\",J51=\"L\")),\"\",IF(HandicapPlay=\"x\",IF(J51=\"W\",10,-10),(IF(J51=\"W\",(VLOOKUP($C51,(TABLE!WIN),(MATCH(K51,WINCOL,0)+1))),(VLOOKUP($C51,(TABLE!LOSE),(MATCH(K51,LOSECOL,0)+1)))))))","v":""},null,{"$f":"IF(NOT(OR(L51=\"W\",L51=\"L\")),\"\",IF(HandicapPlay=\"x\",IF(L51=\"W\",10,-10),(IF(L51=\"W\",(VLOOKUP($C51,(TABLE!WIN),(MATCH(M51,WINCOL,0)+1))),(VLOOKUP($C51,(TABLE!LOSE),(MATCH(M51,LOSECOL,0)+1)))))))","v":""},null,{"$f":"SUM(D52:M52)","v":0}]

{"sheet":"PUBLISHING","index":15,"n_rows":133,"n_cols":11,"rows_kept":133,"cut":false,"hidden":true,"merged":[[2,1,2,4],[4,1,4,4],[6,1,6,5],[3,1,3,4],[101,6,102,6],[69,6,70,6],[37,6,38,6],[102,1,102,5],[70,1,70,5],[38,1,38,5]]}
[]
[]
[null,{"$f":"NAMES!$C$7","v":"Tournament"}]
[null,{"$f":"NAMES!$C$9","v":"Date"}]
[null,{"$f":"NAMES!$C$8","v":"Singles"}]
[]
[null,{"$f":"NAMES!$C$10","v":"BLOCK 1"},null,null,null,null,null,null,"LU Name","Score","Peels"]
[null,{"$f":"IF(J8<0,\"\",IF(J8>J9,I8,I9))","v":""},{"$f":"IF(J8<0,\"\",IF(J8>J9,J8,J9))","v":""},"d.",{"$f":"IF(J8<0,\"\",IF(J8>J9,I9,I8))","v":""},{"$f":"IF(J8<0,\"\",IF(J8>J9,J9,J8))","v":""},{"$f":"IF(B8=\"\",\"\",IF(ISTEXT(K8),K8,IF(ISTEXT(K9),K9,\"\")))","v":""},null,{"$f":"RESULTS!C5","v":" Block 1 Player 1"},{"$f":"RESULTS!D5","v":-1E-3},{"$f":"RESULTS!E5","v":-1E-3}]
[null,null,null,null,null,null,null,null,{"$f":"RESULTS!C6","v":" Block 1 Player 4"},{"$f":"RESULTS!D6","v":-1E-3},{"$f":"RESULTS!E6","v":-1E-3}]
[null,{"$f":"IF(J10<0,\"\",IF(J10>J11,I10,I11))","v":""},{"$f":"IF(J10<0,\"\",IF(J10>J11,J10,J11))","v":""},"d.",{"$f":"IF(J10<0,\"\",IF(J10>J11,I11,I10))","v":""},{"$f":"IF(J10<0,\"\",IF(J10>J11,J11,J10))","v":""},{"$f":"IF(B10=\"\",\"\",IF(ISTEXT(K10),K10,IF(ISTEXT(K11),K11,\"\")))","v":""},null,{"$f":"RESULTS!C7","v":" Block 1 Player 5"},{"$f":"RESULTS!D7","v":-1E-3},{"$f":"RESULTS!E7","v":-1E-3}]
[null,null,null,null,null,null,null,null,{"$f":"RESULTS!C8","v":" Block 1 Player 3"},{"$f":"RESULTS!D8","v":-1E-3},{"$f":"RESULTS!E8","v":-1E-3}]
[null,{"$f":"IF(J12<0,\"\",IF(J12>J13,I12,I13))","v":""},{"$f":"IF(J12<0,\"\",IF(J12>J13,J12,J13))","v":""},"d.",{"$f":"IF(J12<0,\"\",IF(J12>J13,I13,I12))","v":""},{"$f":"IF(J12<0,\"\",IF(J12>J13,J13,J12))","v":""},{"$f":"IF(B12=\"\",\"\",IF(ISTEXT(K12),K12,IF(ISTEXT(K13),K13,\"\")))","v":""},null,{"$f":"RESULTS!C9","v":" Bye "},{"$f":"RESULTS!D9","v":-1E-3},{"$f":"RESULTS!E9","v":-1E-3}]
[null,null,null,null,null,null,null,null,{"$f":"RESULTS!C10","v":" Block 1 Player 2"},{"$f":"RESULTS!D10","v":-1E-3},{"$f":"RESULTS!E10","v":-1E-3}]
[null,{"$f":"IF(J14<0,\"\",IF(J14>J15,I14,I15))","v":""},{"$f":"IF(J14<0,\"\",IF(J14>J15,J14,J15))","v":""},"d.",{"$f":"IF(J14<0,\"\",IF(J14>J15,I15,I14))","v":""},{"$f":"IF(J14<0,\"\",IF(J14>J15,J15,J14))","v":""},{"$f":"IF(B14=\"\",\"\",IF(ISTEXT(K14),K14,IF(ISTEXT(K15),K15,\"\")))","v":""},null,{"$f":"RESULTS!C11","v":" Block 1 Player 3"},{"$f":"RESULTS!D11","v":-1E-3},{"$f":"RESULTS!E11","v":-1E-3}]
[null,null,null,null,null,null,null,null,{"$f":"RESULTS!C12","v":" Block 1 Player 1"},{"$f":"RESULTS!D12","v":-1E-3},{"$f":"RESULTS!E12","v":-1E-3}]
[null,{"$f":"IF(J16<0,\"\",IF(J16>J17,I16,I17))","v":""},{"$f":"IF(J16<0,\"\",IF(J16>J17,J16,J17))","v":""},"d.",{"$f":"IF(J16<0,\"\",IF(J16>J17,I17,I16))","v":""},{"$f":"IF(J16<0,\"\",IF(J16>J17,J17,J16))","v":""},{"$f":"IF(B16=\"\",\"\",IF(ISTEXT(K16),K16,IF(ISTEXT(K17),K17,\"\")))","v":""},null,{"$f":"RESULTS!C13","v":" Block 1 Player 4"},{"$f":"RESULTS!D13","v":-1E-3},{"$f":"RESULTS!E13","v":-1E-3}]
[null,null,null,null,null,null,null,null,{"$f":"RESULTS!C14","v":" Block 1 Player 2"},{"$f":"RESULTS!D14","v":-1E-3},{"$f":"RESULTS!E14","v":-1E-3}]
[null,{"$f":"IF(J18<0,\"\",IF(J18>J19,I18,I19))","v":""},{"$f":"IF(J18<0,\"\",IF(J18>J19,J18,J19))","v":""},"d.",{"$f":"IF(J18<0,\"\",IF(J18>J19,I19,I18))","v":""},{"$f":"IF(J18<0,\"\",IF(J18>J19,J19,J18))","v":""},{"$f":"IF(B18=\"\",\"\",IF(ISTEXT(K18),K18,IF(ISTEXT(K19),K19,\"\")))","v":""},null,{"$f":"RESULTS!G5","v":" Block 1 Player 5"},{"$f":"RESULTS!H5","v":-1E-3},{"$f":"RESULTS!I5","v":-1E-3}]
[null,null,null,null,null,null,null,null,{"$f":"RESULTS!G6","v":" Bye "},{"$f":"RESULTS!H6","v":-1E-3},{"$f":"RESULTS!I6","v":-1E-3}]
[null,{"$f":"IF(J20<0,\"\",IF(J20>J21,I20,I21))","v":""},{"$f":"IF(J20<0,\"\",IF(J20>J21,J20,J21))","v":""},"d.",{"$f":"IF(J20<0,\"\",IF(J20>J21,I21,I20))","v":""},{"$f":"IF(J20<0,\"\",IF(J20>J21,J21,J20))","v":""},{"$f":"IF(B20=\"\",\"\",IF(ISTEXT(K20),K20,IF(ISTEXT(K21),K21,\"\")))","v":""},null,{"$f":"RESULTS!G7","v":" Block 1 Player 1"},{"$f":"RESULTS!H7","v":-1E-3},{"$f":"RESULTS!I7","v":-1E-3}]
[null,null,null,null,null,null,null,null,{"$f":"RESULTS!G8","v":" Bye "},{"$f":"RESULTS!H8","v":-1E-3},{"$f":"RESULTS!I8","v":-1E-3}]
[null,{"$f":"IF(J22<0,\"\",IF(J22>J23,I22,I23))","v":""},{"$f":"IF(J22<0,\"\",IF(J22>J23,J22,J23))","v":""},"d.",{"$f":"IF(J22<0,\"\",IF(J22>J23,I23,I22))","v":""},{"$f":"IF(J22<0,\"\",IF(J22>J23,J23,J22))","v":""},{"$f":"IF(B22=\"\",\"\",IF(ISTEXT(K22),K22,IF(ISTEXT(K23),K23,\"\")))","v":""},null,{"$f":"RESULTS!G9","v":" Block 1 Player 2"},{"$f":"RESULTS!H9","v":-1E-3},{"$f":"RESULTS!I9","v":-1E-3}]
[null,null,null,null,null,null,null,null,{"$f":"RESULTS!G10","v":" Block 1 Player 5"},{"$f":"RESULTS!H10","v":-1E-3},{"$f":"RESULTS!I10","v":-1E-3}]
[null,{"$f":"IF(J24<0,\"\",IF(J24>J25,I24,I25))","v":""},{"$f":"IF(J24<0,\"\",IF(J24>J25,J24,J25))","v":""},"d.",{"$f":"IF(J24<0,\"\",IF(J24>J25,I25,I24))","v":""},{"$f":"IF(J24<0,\"\",IF(J24>J25,J25,J24))","v":""},{"$f":"IF(B24=\"\",\"\",IF(ISTEXT(K24),K24,IF(ISTEXT(K25),K25,\"\")))","v":""},null,{"$f":"RESULTS!G11","v":" Block 1 Player 3"},{"$f":"RESULTS!H11","v":-1E-3},{"$f":"RESULTS!I11","v":-1E-3}]
[null,null,null,null,null,null,null,null,{"$f":"RESULTS!G12","v":" Block 1 Player 4"},{"$f":"RESULTS!H12","v":-1E-3},{"$f":"RESULTS!I12","v":-1E-3}]
[null,{"$f":"IF(J26<0,\"\",IF(J26>J27,I26,I27))","v":""},{"$f":"IF(J26<0,\"\",IF(J26>J27,J26,J27))","v":""},"d.",{"$f":"IF(J26<0,\"\",IF(J26>J27,I27,I26))","v":""},{"$f":"IF(J26<0,\"\",IF(J26>J27,J27,J26))","v":""},{"$f":"IF(B26=\"\",\"\",IF(ISTEXT(K26),K26,IF(ISTEXT(K27),K27,\"\")))","v":""},null,{"$f":"RESULTS!G13","v":" Block 1 Player 5"},{"$f":"RESULTS!H13","v":-1E-3},{"$f":"RESULTS!I13","v":-1E-3}]
[null,null,null,null,null,null,null,null,{"$f":"RESULTS!G14","v":" Block 1 Player 1"},{"$f":"RESULTS!H14","v":-1E-3},{"$f":"RESULTS!I14","v":-1E-3}]
[null,{"$f":"IF(J28<0,\"\",IF(J28>J29,I28,I29))","v":""},{"$f":"IF(J28<0,\"\",IF(J28>J29,J28,J29))","v":""},"d.",{"$f":"IF(J28<0,\"\",IF(J28>J29,I29,I28))","v":""},{"$f":"IF(J28<0,\"\",IF(J28>J29,J29,J28))","v":""},{"$f":"IF(B28=\"\",\"\",IF(ISTEXT(K28),K28,IF(ISTEXT(K29),K29,\"\")))","v":""},null,{"$f":"RESULTS!K5","v":" Bye "},{"$f":"RESULTS!L5","v":-1E-3},{"$f":"RESULTS!M5","v":-1E-3}]
[null,null,null,null,null,null,null,null,{"$f":"RESULTS!K6","v":" Block 1 Player 4"},{"$f":"RESULTS!L6","v":-1E-3},{"$f":"RESULTS!M6","v":-1E-3}]
[null,{"$f":"IF(J30<0,\"\",IF(J30>J31,I30,I31))","v":""},{"$f":"IF(J30<0,\"\",IF(J30>J31,J30,J31))","v":""},"d.",{"$f":"IF(J30<0,\"\",IF(J30>J31,I31,I30))","v":""},{"$f":"IF(J30<0,\"\",IF(J30>J31,J31,J30))","v":""},{"$f":"IF(B30=\"\",\"\",IF(ISTEXT(K30),K30,IF(ISTEXT(K31),K31,\"\")))","v":""},null,{"$f":"RESULTS!K7","v":" Block 1 Player 2"},{"$f":"RESULTS!L7","v":-1E-3},{"$f":"RESULTS!M7","v":-1E-3}]
[null,null,null,null,null,null,null,null,{"$f":"RESULTS!K8","v":" Block 1 Player 3"},{"$f":"RESULTS!L8","v":-1E-3},{"$f":"RESULTS!M8","v":-1E-3}]
[null,{"$f":"IF(J32<0,\"\",IF(J32>J33,I32,I33))","v":""},{"$f":"IF(J32<0,\"\",IF(J32>J33,J32,J33))","v":""},"d.",{"$f":"IF(J32<0,\"\",IF(J32>J33,I33,I32))","v":""},{"$f":"IF(J32<0,\"\",IF(J32>J33,J33,J32))","v":""},{"$f":"IF(B32=\"\",\"\",IF(ISTEXT(K32),K32,IF(ISTEXT(K33),K33,\"\")))","v":""},null,{"$f":"RESULTS!K9","v":" Block 1 Player 3"},{"$f":"RESULTS!L9","v":-1E-3},{"$f":"RESULTS!M9","v":-1E-3}]
[null,null,null,null,null,null,null,null,{"$f":"RESULTS!K10","v":" Bye "},{"$f":"RESULTS!L10","v":-1E-3},{"$f":"RESULTS!M10","v":-1E-3}]
[null,{"$f":"IF(J34<0,\"\",IF(J34>J35,I34,I35))","v":""},{"$f":"IF(J34<0,\"\",IF(J34>J35,J34,J35))","v":""},"d.",{"$f":"IF(J34<0,\"\",IF(J34>J35,I35,I34))","v":""},{"$f":"IF(J34<0,\"\",IF(J34>J35,J35,J34))","v":""},{"$f":"IF(B34=\"\",\"\",IF(ISTEXT(K34),K34,IF(ISTEXT(K35),K35,\"\")))","v":""},null,{"$f":"RESULTS!K11","v":" Block 1 Player 4"},{"$f":"RESULTS!L11","v":-1E-3},{"$f":"RESULTS!M11","v":-1E-3}]
[null,null,null,null,null,null,null,null,{"$f":"RESULTS!K12","v":" Block 1 Player 5"},{"$f":"RESULTS!L12","v":-1E-3},{"$f":"RESULTS!M12","v":-1E-3}]
[null,{"$f":"IF(J36<0,\"\",IF(J36>J37,I36,I37))","v":""},{"$f":"IF(J36<0,\"\",IF(J36>J37,J36,J37))","v":""},"d.",{"$f":"IF(J36<0,\"\",IF(J36>J37,I37,I36))","v":""},{"$f":"IF(J36<0,\"\",IF(J36>J37,J37,J36))","v":""},{"$f":"IF(B36=\"\",\"\",IF(ISTEXT(K36),K36,IF(ISTEXT(K37),K37,\"\")))","v":""},null,{"$f":"RESULTS!K13","v":" Block 1 Player 1"},{"$f":"RESULTS!L13","v":-1E-3},{"$f":"RESULTS!M13","v":-1E-3}]
[null,null,null,null,null,null,null,null,{"$f":"RESULTS!K14","v":" Block 1 Player 2"},{"$f":"RESULTS!L14","v":-1E-3},{"$f":"RESULTS!M14","v":-1E-3}]
[]
[null,{"$f":"NAMES!$C$41","v":"BLOCK 2"},null,null,null,null,null,null,"LU Name","Score","Peels"]
[null,{"$f":"IF(J40<0,\"\",IF(J40>J41,I40,I41))","v":""},{"$f":"IF(J40<0,\"\",IF(J40>J41,J40,J41))","v":""},"d.",{"$f":"IF(J40<0,\"\",IF(J40>J41,I41,I40))","v":""},{"$f":"IF(J40<0,\"\",IF(J40>J41,J41,J40))","v":""},{"$f":"IF(B40=\"\",\"\",IF(ISTEXT(K40),K40,IF(ISTEXT(K41),K41,\"\")))","v":""},null,{"$f":"RESULTS!C21","v":" Block 2 Player 1"},{"$f":"RESULTS!D21","v":-1E-3},{"$f":"RESULTS!E21","v":-1E-3}]
[null,null,null,null,null,null,null,null,{"$f":"RESULTS!C22","v":" Block 2 Player 4"},{"$f":"RESULTS!D22","v":-1E-3},{"$f":"RESULTS!E22","v":-1E-3}]
[null,{"$f":"IF(J42<0,\"\",IF(J42>J43,I42,I43))","v":""},{"$f":"IF(J42<0,\"\",IF(J42>J43,J42,J43))","v":""},"d.",{"$f":"IF(J42<0,\"\",IF(J42>J43,I43,I42))","v":""},{"$f":"IF(J42<0,\"\",IF(J42>J43,J43,J42))","v":""},{"$f":"IF(B42=\"\",\"\",IF(ISTEXT(K42),K42,IF(ISTEXT(K43),K43,\"\")))","v":""},null,{"$f":"RESULTS!C23","v":" Block 2 Player 5"},{"$f":"RESULTS!D23","v":-1E-3},{"$f":"RESULTS!E23","v":-1E-3}]
[null,null,null,null,null,null,null,null,{"$f":"RESULTS!C24","v":" Block 2 Player 3"},{"$f":"RESULTS!D24","v":-1E-3},{"$f":"RESULTS!E24","v":-1E-3}]
[null,{"$f":"IF(J44<0,\"\",IF(J44>J45,I44,I45))","v":""},{"$f":"IF(J44<0,\"\",IF(J44>J45,J44,J45))","v":""},"d.",{"$f":"IF(J44<0,\"\",IF(J44>J45,I45,I44))","v":""},{"$f":"IF(J44<0,\"\",IF(J44>J45,J45,J44))","v":""},{"$f":"IF(B44=\"\",\"\",IF(ISTEXT(K44),K44,IF(ISTEXT(K45),K45,\"\")))","v":""},null,{"$f":"RESULTS!C25","v":" Bye "},{"$f":"RESULTS!D25","v":-1E-3},{"$f":"RESULTS!E25","v":-1E-3}]
[null,null,null,null,null,null,null,null,{"$f":"RESULTS!C26","v":" Block 2 Player 2"},{"$f":"RESULTS!D26","v":-1E-3},{"$f":"RESULTS!E26","v":-1E-3}]
[null,{"$f":"IF(J46<0,\"\",IF(J46>J47,I46,I47))","v":""},{"$f":"IF(J46<0,\"\",IF(J46>J47,J46,J47))","v":""},"d.",{"$f":"IF(J46<0,\"\",IF(J46>J47,I47,I46))","v":""},{"$f":"IF(J46<0,\"\",IF(J46>J47,J47,J46))","v":""},{"$f":"IF(B46=\"\",\"\",IF(ISTEXT(K46),K46,IF(ISTEXT(K47),K47,\"\")))","v":""},null,{"$f":"RESULTS!C27","v":" Block 2 Player 3"},{"$f":"RESULTS!D27","v":-1E-3},{"$f":"RESULTS!E27","v":-1E-3}]
[null,null,null,null,null,null,null,null,{"$f":"RESULTS!C28","v":" Block 2 Player 1"},{"$f":"RESULTS!D28","v":-1E-3},{"$f":"RESULTS!E28","v":-1E-3}]
[null,{"$f":"IF(J48<0,\"\",IF(J48>J49,I48,I49))","v":""},{"$f":"IF(J48<0,\"\",IF(J48>J49,J48,J49))","v":""},"d.",{"$f":"IF(J48<0,\"\",IF(J48>J49,I49,I48))","v":""},{"$f":"IF(J48<0,\"\",IF(J48>J49,J49,J48))","v":""},{"$f":"IF(B48=\"\",\"\",IF(ISTEXT(K48),K48,IF(ISTEXT(K49),K49,\"\")))","v":""},null,{"$f":"RESULTS!C29","v":" Block 2 Player 4"},{"$f":"RESULTS!D29","v":-1E-3},{"$f":"RESULTS!E29","v":-1E-3}]
[null,null,null,null,null,null,null,null,{"$f":"RESULTS!C30","v":" Block 2 Player 2"},{"$f":"RESULTS!D30","v":-1E-3},{"$f":"RESULTS!E30","v":-1E-3}]
[null,{"$f":"IF(J50<0,\"\",IF(J50>J51,I50,I51))","v":""},{"$f":"IF(J50<0,\"\",IF(J50>J51,J50,J51))","v":""},"d.",{"$f":"IF(J50<0,\"\",IF(J50>J51,I51,I50))","v":""},{"$f":"IF(J50<0,\"\",IF(J50>J51,J51,J50))","v":""},{"$f":"IF(B50=\"\",\"\",IF(ISTEXT(K50),K50,IF(ISTEXT(K51),K51,\"\")))","v":""},null,{"$f":"RESULTS!G21","v":" Block 2 Player 5"},{"$f":"RESULTS!H21","v":-1E-3},{"$f":"RESULTS!I21","v":-1E-3}]
[null,null,null,null,null,null,null,null,{"$f":"RESULTS!G22","v":" Bye "},{"$f":"RESULTS!H22","v":-1E-3},{"$f":"RESULTS!I22","v":-1E-3}]
[null,{"$f":"IF(J52<0,\"\",IF(J52>J53,I52,I53))","v":""},{"$f":"IF(J52<0,\"\",IF(J52>J53,J52,J53))","v":""},"d.",{"$f":"IF(J52<0,\"\",IF(J52>J53,I53,I52))","v":""},{"$f":"IF(J52<0,\"\",IF(J52>J53,J53,J52))","v":""},{"$f":"IF(B52=\"\",\"\",IF(ISTEXT(K52),K52,IF(ISTEXT(K53),K53,\"\")))","v":""},null,{"$f":"RESULTS!G23","v":" Block 2 Player 1"},{"$f":"RESULTS!H23","v":-1E-3},{"$f":"RESULTS!I23","v":-1E-3}]
[null,null,null,null,null,null,null,null,{"$f":"RESULTS!G24","v":" Bye "},{"$f":"RESULTS!H24","v":-1E-3},{"$f":"RESULTS!I24","v":-1E-3}]
[null,{"$f":"IF(J54<0,\"\",IF(J54>J55,I54,I55))","v":""},{"$f":"IF(J54<0,\"\",IF(J54>J55,J54,J55))","v":""},"d.",{"$f":"IF(J54<0,\"\",IF(J54>J55,I55,I54))","v":""},{"$f":"IF(J54<0,\"\",IF(J54>J55,J55,J54))","v":""},{"$f":"IF(B54=\"\",\"\",IF(ISTEXT(K54),K54,IF(ISTEXT(K55),K55,\"\")))","v":""},null,{"$f":"RESULTS!G25","v":" Block 2 Player 2"},{"$f":"RESULTS!H25","v":-1E-3},{"$f":"RESULTS!I25","v":-1E-3}]
[null,null,null,null,null,null,null,null,{"$f":"RESULTS!G26","v":" Block 2 Player 5"},{"$f":"RESULTS!H26","v":-1E-3},{"$f":"RESULTS!I26","v":-1E-3}]
[null,{"$f":"IF(J56<0,\"\",IF(J56>J57,I56,I57))","v":""},{"$f":"IF(J56<0,\"\",IF(J56>J57,J56,J57))","v":""},"d.",{"$f":"IF(J56<0,\"\",IF(J56>J57,I57,I56))","v":""},{"$f":"IF(J56<0,\"\",IF(J56>J57,J57,J56))","v":""},{"$f":"IF(B56=\"\",\"\",IF(ISTEXT(K56),K56,IF(ISTEXT(K57),K57,\"\")))","v":""},null,{"$f":"RESULTS!G27","v":" Block 2 Player 3"},{"$f":"RESULTS!H27","v":-1E-3},{"$f":"RESULTS!I27","v":-1E-3}]
[null,null,null,null,null,null,null,null,{"$f":"RESULTS!G28","v":" Block 2 Player 4"},{"$f":"RESULTS!H28","v":-1E-3},{"$f":"RESULTS!I28","v":-1E-3}]
[null,{"$f":"IF(J58<0,\"\",IF(J58>J59,I58,I59))","v":""},{"$f":"IF(J58<0,\"\",IF(J58>J59,J58,J59))","v":""},"d.",{"$f":"IF(J58<0,\"\",IF(J58>J59,I59,I58))","v":""},{"$f":"IF(J58<0,\"\",IF(J58>J59,J59,J58))","v":""},{"$f":"IF(B58=\"\",\"\",IF(ISTEXT(K58),K58,IF(ISTEXT(K59),K59,\"\")))","v":""},null,{"$f":"RESULTS!G29","v":" Block 2 Player 5"},{"$f":"RESULTS!H29","v":-1E-3},{"$f":"RESULTS!I29","v":-1E-3}]
[null,null,null,null,null,null,null,null,{"$f":"RESULTS!G30","v":" Block 2 Player 1"},{"$f":"RESULTS!H30","v":-1E-3},{"$f":"RESULTS!I30","v":-1E-3}]
[null,{"$f":"IF(J60<0,\"\",IF(J60>J61,I60,I61))","v":""},{"$f":"IF(J60<0,\"\",IF(J60>J61,J60,J61))","v":""},"d.",{"$f":"IF(J60<0,\"\",IF(J60>J61,I61,I60))","v":""},{"$f":"IF(J60<0,\"\",IF(J60>J61,J61,J60))","v":""},{"$f":"IF(B60=\"\",\"\",IF(ISTEXT(K60),K60,IF(ISTEXT(K61),K61,\"\")))","v":""},null,{"$f":"RESULTS!K21","v":" Bye "},{"$f":"RESULTS!L21","v":-1E-3},{"$f":"RESULTS!M21","v":-1E-3}]
[null,null,null,null,null,null,null,null,{"$f":"RESULTS!K22","v":" Block 2 Player 4"},{"$f":"RESULTS!L22","v":-1E-3},{"$f":"RESULTS!M22","v":-1E-3}]
[null,{"$f":"IF(J62<0,\"\",IF(J62>J63,I62,I63))","v":""},{"$f":"IF(J62<0,\"\",IF(J62>J63,J62,J63))","v":""},"d.",{"$f":"IF(J62<0,\"\",IF(J62>J63,I63,I62))","v":""},{"$f":"IF(J62<0,\"\",IF(J62>J63,J63,J62))","v":""},{"$f":"IF(B62=\"\",\"\",IF(ISTEXT(K62),K62,IF(ISTEXT(K63),K63,\"\")))","v":""},null,{"$f":"RESULTS!K23","v":" Block 2 Player 2"},{"$f":"RESULTS!L23","v":-1E-3},{"$f":"RESULTS!M23","v":-1E-3}]
[null,null,null,null,null,null,null,null,{"$f":"RESULTS!K24","v":" Block 2 Player 3"},{"$f":"RESULTS!L24","v":-1E-3},{"$f":"RESULTS!M24","v":-1E-3}]
[null,{"$f":"IF(J64<0,\"\",IF(J64>J65,I64,I65))","v":""},{"$f":"IF(J64<0,\"\",IF(J64>J65,J64,J65))","v":""},"d.",{"$f":"IF(J64<0,\"\",IF(J64>J65,I65,I64))","v":""},{"$f":"IF(J64<0,\"\",IF(J64>J65,J65,J64))","v":""},{"$f":"IF(B64=\"\",\"\",IF(ISTEXT(K64),K64,IF(ISTEXT(K65),K65,\"\")))","v":""},null,{"$f":"RESULTS!K25","v":" Block 2 Player 3"},{"$f":"RESULTS!L25","v":-1E-3},{"$f":"RESULTS!M25","v":-1E-3}]
[null,null,null,null,null,null,null,null,{"$f":"RESULTS!K26","v":" Bye "},{"$f":"RESULTS!L26","v":-1E-3},{"$f":"RESULTS!M26","v":-1E-3}]
[null,{"$f":"IF(J66<0,\"\",IF(J66>J67,I66,I67))","v":""},{"$f":"IF(J66<0,\"\",IF(J66>J67,J66,J67))","v":""},"d.",{"$f":"IF(J66<0,\"\",IF(J66>J67,I67,I66))","v":""},{"$f":"IF(J66<0,\"\",IF(J66>J67,J67,J66))","v":""},{"$f":"IF(B66=\"\",\"\",IF(ISTEXT(K66),K66,IF(ISTEXT(K67),K67,\"\")))","v":""},null,{"$f":"RESULTS!K27","v":" Block 2 Player 4"},{"$f":"RESULTS!L27","v":-1E-3},{"$f":"RESULTS!M27","v":-1E-3}]
[null,null,null,null,null,null,null,null,{"$f":"RESULTS!K28","v":" Block 2 Player 5"},{"$f":"RESULTS!L28","v":-1E-3},{"$f":"RESULTS!M28","v":-1E-3}]
[null,{"$f":"IF(J68<0,\"\",IF(J68>J69,I68,I69))","v":""},{"$f":"IF(J68<0,\"\",IF(J68>J69,J68,J69))","v":""},"d.",{"$f":"IF(J68<0,\"\",IF(J68>J69,I69,I68))","v":""},{"$f":"IF(J68<0,\"\",IF(J68>J69,J69,J68))","v":""},{"$f":"IF(B68=\"\",\"\",IF(ISTEXT(K68),K68,IF(ISTEXT(K69),K69,\"\")))","v":""},null,{"$f":"RESULTS!K29","v":" Block 2 Player 1"},{"$f":"RESULTS!L29","v":-1E-3},{"$f":"RESULTS!M29","v":-1E-3}]
[null,null,null,null,null,null,null,null,{"$f":"RESULTS!K30","v":" Block 2 Player 2"},{"$f":"RESULTS!L30","v":-1E-3},{"$f":"RESULTS!M30","v":-1E-3}]
[]
[null,{"$f":"NAMES!$C$72","v":"BLOCK 3"},null,null,null,null,null,null,"LU Name","Score","Peels"]
[null,{"$f":"IF(J72<0,\"\",IF(J72>J73,I72,I73))","v":""},{"$f":"IF(J72<0,\"\",IF(J72>J73,J72,J73))","v":""},"d.",{"$f":"IF(J72<0,\"\",IF(J72>J73,I73,I72))","v":""},{"$f":"IF(J72<0,\"\",IF(J72>J73,J73,J72))","v":""},{"$f":"IF(B72=\"\",\"\",IF(ISTEXT(K72),K72,IF(ISTEXT(K73),K73,\"\")))","v":""},null,{"$f":"RESULTS!C37","v":" Block 3 Player 1"},{"$f":"RESULTS!D37","v":-1E-3},{"$f":"RESULTS!E37","v":-1E-3}]
[null,null,null,null,null,null,null,null,{"$f":"RESULTS!C38","v":" Block 3 Player 4"},{"$f":"RESULTS!D38","v":-1E-3},{"$f":"RESULTS!E38","v":-1E-3}]
[null,{"$f":"IF(J74<0,\"\",IF(J74>J75,I74,I75))","v":""},{"$f":"IF(J74<0,\"\",IF(J74>J75,J74,J75))","v":""},"d.",{"$f":"IF(J74<0,\"\",IF(J74>J75,I75,I74))","v":""},{"$f":"IF(J74<0,\"\",IF(J74>J75,J75,J74))","v":""},{"$f":"IF(B74=\"\",\"\",IF(ISTEXT(K74),K74,IF(ISTEXT(K75),K75,\"\")))","v":""},null,{"$f":"RESULTS!C39","v":" Block 3 Player 5"},{"$f":"RESULTS!D39","v":-1E-3},{"$f":"RESULTS!E39","v":-1E-3}]
[null,null,null,null,null,null,null,null,{"$f":"RESULTS!C40","v":" Block 3 Player 3"},{"$f":"RESULTS!D40","v":-1E-3},{"$f":"RESULTS!E40","v":-1E-3}]
[null,{"$f":"IF(J76<0,\"\",IF(J76>J77,I76,I77))","v":""},{"$f":"IF(J76<0,\"\",IF(J76>J77,J76,J77))","v":""},"d.",{"$f":"IF(J76<0,\"\",IF(J76>J77,I77,I76))","v":""},{"$f":"IF(J76<0,\"\",IF(J76>J77,J77,J76))","v":""},{"$f":"IF(B76=\"\",\"\",IF(ISTEXT(K76),K76,IF(ISTEXT(K77),K77,\"\")))","v":""},null,{"$f":"RESULTS!C41","v":" Bye "},{"$f":"RESULTS!D41","v":-1E-3},{"$f":"RESULTS!E41","v":-1E-3}]
[null,null,null,null,null,null,null,null,{"$f":"RESULTS!C42","v":" Block 3 Player 2"},{"$f":"RESULTS!D42","v":-1E-3},{"$f":"RESULTS!E42","v":-1E-3}]
[null,{"$f":"IF(J78<0,\"\",IF(J78>J79,I78,I79))","v":""},{"$f":"IF(J78<0,\"\",IF(J78>J79,J78,J79))","v":""},"d.",{"$f":"IF(J78<0,\"\",IF(J78>J79,I79,I78))","v":""},{"$f":"IF(J78<0,\"\",IF(J78>J79,J79,J78))","v":""},{"$f":"IF(B78=\"\",\"\",IF(ISTEXT(K78),K78,IF(ISTEXT(K79),K79,\"\")))","v":""},null,{"$f":"RESULTS!C43","v":" Block 3 Player 3"},{"$f":"RESULTS!D43","v":-1E-3},{"$f":"RESULTS!E43","v":-1E-3}]
[null,null,null,null,null,null,null,null,{"$f":"RESULTS!C44","v":" Block 3 Player 1"},{"$f":"RESULTS!D44","v":-1E-3},{"$f":"RESULTS!E44","v":-1E-3}]
[null,{"$f":"IF(J80<0,\"\",IF(J80>J81,I80,I81))","v":""},{"$f":"IF(J80<0,\"\",IF(J80>J81,J80,J81))","v":""},"d.",{"$f":"IF(J80<0,\"\",IF(J80>J81,I81,I80))","v":""},{"$f":"IF(J80<0,\"\",IF(J80>J81,J81,J80))","v":""},{"$f":"IF(B80=\"\",\"\",IF(ISTEXT(K80),K80,IF(ISTEXT(K81),K81,\"\")))","v":""},null,{"$f":"RESULTS!C45","v":" Block 3 Player 4"},{"$f":"RESULTS!D45","v":-1E-3},{"$f":"RESULTS!E45","v":-1E-3}]
[null,null,null,null,null,null,null,null,{"$f":"RESULTS!C46","v":" Block 3 Player 2"},{"$f":"RESULTS!D46","v":-1E-3},{"$f":"RESULTS!E46","v":-1E-3}]
[null,{"$f":"IF(J82<0,\"\",IF(J82>J83,I82,I83))","v":""},{"$f":"IF(J82<0,\"\",IF(J82>J83,J82,J83))","v":""},"d.",{"$f":"IF(J82<0,\"\",IF(J82>J83,I83,I82))","v":""},{"$f":"IF(J82<0,\"\",IF(J82>J83,J83,J82))","v":""},{"$f":"IF(B82=\"\",\"\",IF(ISTEXT(K82),K82,IF(ISTEXT(K83),K83,\"\")))","v":""},null,{"$f":"RESULTS!G37","v":" Block 3 Player 5"},{"$f":"RESULTS!H37","v":-1E-3},{"$f":"RESULTS!I37","v":-1E-3}]
[null,null,null,null,null,null,null,null,{"$f":"RESULTS!G38","v":" Bye "},{"$f":"RESULTS!H38","v":-1E-3},{"$f":"RESULTS!I38","v":-1E-3}]
[null,{"$f":"IF(J84<0,\"\",IF(J84>J85,I84,I85))","v":""},{"$f":"IF(J84<0,\"\",IF(J84>J85,J84,J85))","v":""},"d.",{"$f":"IF(J84<0,\"\",IF(J84>J85,I85,I84))","v":""},{"$f":"IF(J84<0,\"\",IF(J84>J85,J85,J84))","v":""},{"$f":"IF(B84=\"\",\"\",IF(ISTEXT(K84),K84,IF(ISTEXT(K85),K85,\"\")))","v":""},null,{"$f":"RESULTS!G39","v":" Block 3 Player 1"},{"$f":"RESULTS!H39","v":-1E-3},{"$f":"RESULTS!I39","v":-1E-3}]
[null,null,null,null,null,null,null,null,{"$f":"RESULTS!G40","v":" Bye "},{"$f":"RESULTS!H40","v":-1E-3},{"$f":"RESULTS!I40","v":-1E-3}]
[null,{"$f":"IF(J86<0,\"\",IF(J86>J87,I86,I87))","v":""},{"$f":"IF(J86<0,\"\",IF(J86>J87,J86,J87))","v":""},"d.",{"$f":"IF(J86<0,\"\",IF(J86>J87,I87,I86))","v":""},{"$f":"IF(J86<0,\"\",IF(J86>J87,J87,J86))","v":""},{"$f":"IF(B86=\"\",\"\",IF(ISTEXT(K86),K86,IF(ISTEXT(K87),K87,\"\")))","v":""},null,{"$f":"RESULTS!G41","v":" Block 3 Player 2"},{"$f":"RESULTS!H41","v":-1E-3},{"$f":"RESULTS!I41","v":-1E-3}]
[null,null,null,null,null,null,null,null,{"$f":"RESULTS!G42","v":" Block 3 Player 5"},{"$f":"RESULTS!H42","v":-1E-3},{"$f":"RESULTS!I42","v":-1E-3}]
[null,{"$f":"IF(J88<0,\"\",IF(J88>J89,I88,I89))","v":""},{"$f":"IF(J88<0,\"\",IF(J88>J89,J88,J89))","v":""},"d.",{"$f":"IF(J88<0,\"\",IF(J88>J89,I89,I88))","v":""},{"$f":"IF(J88<0,\"\",IF(J88>J89,J89,J88))","v":""},{"$f":"IF(B88=\"\",\"\",IF(ISTEXT(K88),K88,IF(ISTEXT(K89),K89,\"\")))","v":""},null,{"$f":"RESULTS!G43","v":" Block 3 Player 3"},{"$f":"RESULTS!H43","v":-1E-3},{"$f":"RESULTS!I43","v":-1E-3}]
[null,null,null,null,null,null,null,null,{"$f":"RESULTS!G44","v":" Block 3 Player 4"},{"$f":"RESULTS!H44","v":-1E-3},{"$f":"RESULTS!I44","v":-1E-3}]
[null,{"$f":"IF(J90<0,\"\",IF(J90>J91,I90,I91))","v":""},{"$f":"IF(J90<0,\"\",IF(J90>J91,J90,J91))","v":""},"d.",{"$f":"IF(J90<0,\"\",IF(J90>J91,I91,I90))","v":""},{"$f":"IF(J90<0,\"\",IF(J90>J91,J91,J90))","v":""},{"$f":"IF(B90=\"\",\"\",IF(ISTEXT(K90),K90,IF(ISTEXT(K91),K91,\"\")))","v":""},null,{"$f":"RESULTS!G45","v":" Block 3 Player 5"},{"$f":"RESULTS!H45","v":-1E-3},{"$f":"RESULTS!I45","v":-1E-3}]
[null,null,null,null,null,null,null,null,{"$f":"RESULTS!G46","v":" Block 3 Player 1"},{"$f":"RESULTS!H46","v":-1E-3},{"$f":"RESULTS!I46","v":-1E-3}]
[null,{"$f":"IF(J92<0,\"\",IF(J92>J93,I92,I93))","v":""},{"$f":"IF(J92<0,\"\",IF(J92>J93,J92,J93))","v":""},"d.",{"$f":"IF(J92<0,\"\",IF(J92>J93,I93,I92))","v":""},{"$f":"IF(J92<0,\"\",IF(J92>J93,J93,J92))","v":""},{"$f":"IF(B92=\"\",\"\",IF(ISTEXT(K92),K92,IF(ISTEXT(K93),K93,\"\")))","v":""},null,{"$f":"RESULTS!K37","v":" Bye "},{"$f":"RESULTS!L37","v":-1E-3},{"$f":"RESULTS!M37","v":-1E-3}]
[null,null,null,null,null,null,null,null,{"$f":"RESULTS!K38","v":" Block 3 Player 4"},{"$f":"RESULTS!L38","v":-1E-3},{"$f":"RESULTS!M38","v":-1E-3}]
[null,{"$f":"IF(J94<0,\"\",IF(J94>J95,I94,I95))","v":""},{"$f":"IF(J94<0,\"\",IF(J94>J95,J94,J95))","v":""},"d.",{"$f":"IF(J94<0,\"\",IF(J94>J95,I95,I94))","v":""},{"$f":"IF(J94<0,\"\",IF(J94>J95,J95,J94))","v":""},{"$f":"IF(B94=\"\",\"\",IF(ISTEXT(K94),K94,IF(ISTEXT(K95),K95,\"\")))","v":""},null,{"$f":"RESULTS!K39","v":" Block 3 Player 2"},{"$f":"RESULTS!L39","v":-1E-3},{"$f":"RESULTS!M39","v":-1E-3}]
[null,null,null,null,null,null,null,null,{"$f":"RESULTS!K40","v":" Block 3 Player 3"},{"$f":"RESULTS!L40","v":-1E-3},{"$f":"RESULTS!M40","v":-1E-3}]
[null,{"$f":"IF(J96<0,\"\",IF(J96>J97,I96,I97))","v":""},{"$f":"IF(J96<0,\"\",IF(J96>J97,J96,J97))","v":""},"d.",{"$f":"IF(J96<0,\"\",IF(J96>J97,I97,I96))","v":""},{"$f":"IF(J96<0,\"\",IF(J96>J97,J97,J96))","v":""},{"$f":"IF(B96=\"\",\"\",IF(ISTEXT(K96),K96,IF(ISTEXT(K97),K97,\"\")))","v":""},null,{"$f":"RESULTS!K41","v":" Block 3 Player 3"},{"$f":"RESULTS!L41","v":-1E-3},{"$f":"RESULTS!M41","v":-1E-3}]
[null,null,null,null,null,null,null,null,{"$f":"RESULTS!K42","v":" Bye "},{"$f":"RESULTS!L42","v":-1E-3},{"$f":"RESULTS!M42","v":-1E-3}]
[null,{"$f":"IF(J98<0,\"\",IF(J98>J99,I98,I99))","v":""},{"$f":"IF(J98<0,\"\",IF(J98>J99,J98,J99))","v":""},"d.",{"$f":"IF(J98<0,\"\",IF(J98>J99,I99,I98))","v":""},{"$f":"IF(J98<0,\"\",IF(J98>J99,J99,J98))","v":""},{"$f":"IF(B98=\"\",\"\",IF(ISTEXT(K98),K98,IF(ISTEXT(K99),K99,\"\")))","v":""},null,{"$f":"RESULTS!K43","v":" Block 3 Player 4"},{"$f":"RESULTS!L43","v":-1E-3},{"$f":"RESULTS!M43","v":-1E-3}]
[null,null,null,null,null,null,null,null,{"$f":"RESULTS!K44","v":" Block 3 Player 5"},{"$f":"RESULTS!L44","v":-1E-3},{"$f":"RESULTS!M44","v":-1E-3}]
[null,{"$f":"IF(J100<0,\"\",IF(J100>J101,I100,I101))","v":""},{"$f":"IF(J100<0,\"\",IF(J100>J101,J100,J101))","v":""},"d.",{"$f":"IF(J100<0,\"\",IF(J100>J101,I101,I100))","v":""},{"$f":"IF(J100<0,\"\",IF(J100>J101,J101,J100))","v":""},{"$f":"IF(B100=\"\",\"\",IF(ISTEXT(K100),K100,IF(ISTEXT(K101),K101,\"\")))","v":""},null,{"$f":"RESULTS!K45","v":" Block 3 Player 1"},{"$f":"RESULTS!L45","v":-1E-3},{"$f":"RESULTS!M45","v":-1E-3}]
[null,null,null,null,null,null,null,null,{"$f":"RESULTS!K46","v":" Block 3 Player 2"},{"$f":"RESULTS!L46","v":-1E-3},{"$f":"RESULTS!M46","v":-1E-3}]
[]
[null,{"$f":"NAMES!$C$103","v":"BLOCK 4"},null,null,null,null,null,null,"LU Name","Score","Peels"]
[null,{"$f":"IF(J104<0,\"\",IF(J104>J105,I104,I105))","v":""},{"$f":"IF(J104<0,\"\",IF(J104>J105,J104,J105))","v":""},"d.",{"$f":"IF(J104<0,\"\",IF(J104>J105,I105,I104))","v":""},{"$f":"IF(J104<0,\"\",IF(J104>J105,J105,J104))","v":""},{"$f":"IF(B104=\"\",\"\",IF(ISTEXT(K104),K104,IF(ISTEXT(K105),K105,\"\")))","v":""},null,{"$f":"RESULTS!C53","v":" Block 4 Player 1"},{"$f":"RESULTS!D53","v":-1E-3},{"$f":"RESULTS!E53","v":-1E-3}]
[null,null,null,null,null,null,null,null,{"$f":"RESULTS!C54","v":" Block 4 Player 4"},{"$f":"RESULTS!D54","v":-1E-3},{"$f":"RESULTS!E54","v":-1E-3}]
[null,{"$f":"IF(J106<0,\"\",IF(J106>J107,I106,I107))","v":""},{"$f":"IF(J106<0,\"\",IF(J106>J107,J106,J107))","v":""},"d.",{"$f":"IF(J106<0,\"\",IF(J106>J107,I107,I106))","v":""},{"$f":"IF(J106<0,\"\",IF(J106>J107,J107,J106))","v":""},{"$f":"IF(B106=\"\",\"\",IF(ISTEXT(K106),K106,IF(ISTEXT(K107),K107,\"\")))","v":""},null,{"$f":"RESULTS!C55","v":" Block 4 Player 5"},{"$f":"RESULTS!D55","v":-1E-3},{"$f":"RESULTS!E55","v":-1E-3}]
[null,null,null,null,null,null,null,null,{"$f":"RESULTS!C56","v":" Block 4 Player 3"},{"$f":"RESULTS!D56","v":-1E-3},{"$f":"RESULTS!E56","v":-1E-3}]
[null,{"$f":"IF(J108<0,\"\",IF(J108>J109,I108,I109))","v":""},{"$f":"IF(J108<0,\"\",IF(J108>J109,J108,J109))","v":""},"d.",{"$f":"IF(J108<0,\"\",IF(J108>J109,I109,I108))","v":""},{"$f":"IF(J108<0,\"\",IF(J108>J109,J109,J108))","v":""},{"$f":"IF(B108=\"\",\"\",IF(ISTEXT(K108),K108,IF(ISTEXT(K109),K109,\"\")))","v":""},null,{"$f":"RESULTS!C57","v":" Bye "},{"$f":"RESULTS!D57","v":-1E-3},{"$f":"RESULTS!E57","v":-1E-3}]
[null,null,null,null,null,null,null,null,{"$f":"RESULTS!C58","v":" Block 4 Player 2"},{"$f":"RESULTS!D58","v":-1E-3},{"$f":"RESULTS!E58","v":-1E-3}]
[null,{"$f":"IF(J110<0,\"\",IF(J110>J111,I110,I111))","v":""},{"$f":"IF(J110<0,\"\",IF(J110>J111,J110,J111))","v":""},"d.",{"$f":"IF(J110<0,\"\",IF(J110>J111,I111,I110))","v":""},{"$f":"IF(J110<0,\"\",IF(J110>J111,J111,J110))","v":""},{"$f":"IF(B110=\"\",\"\",IF(ISTEXT(K110),K110,IF(ISTEXT(K111),K111,\"\")))","v":""},null,{"$f":"RESULTS!C59","v":" Block 4 Player 3"},{"$f":"RESULTS!D59","v":-1E-3},{"$f":"RESULTS!E59","v":-1E-3}]
[null,null,null,null,null,null,null,null,{"$f":"RESULTS!C60","v":" Block 4 Player 1"},{"$f":"RESULTS!D60","v":-1E-3},{"$f":"RESULTS!E60","v":-1E-3}]
[null,{"$f":"IF(J112<0,\"\",IF(J112>J113,I112,I113))","v":""},{"$f":"IF(J112<0,\"\",IF(J112>J113,J112,J113))","v":""},"d.",{"$f":"IF(J112<0,\"\",IF(J112>J113,I113,I112))","v":""},{"$f":"IF(J112<0,\"\",IF(J112>J113,J113,J112))","v":""},{"$f":"IF(B112=\"\",\"\",IF(ISTEXT(K112),K112,IF(ISTEXT(K113),K113,\"\")))","v":""},null,{"$f":"RESULTS!C61","v":" Block 4 Player 4"},{"$f":"RESULTS!D61","v":-1E-3},{"$f":"RESULTS!E61","v":-1E-3}]
[null,null,null,null,null,null,null,null,{"$f":"RESULTS!C62","v":" Block 4 Player 2"},{"$f":"RESULTS!D62","v":-1E-3},{"$f":"RESULTS!E62","v":-1E-3}]
[null,{"$f":"IF(J114<0,\"\",IF(J114>J115,I114,I115))","v":""},{"$f":"IF(J114<0,\"\",IF(J114>J115,J114,J115))","v":""},"d.",{"$f":"IF(J114<0,\"\",IF(J114>J115,I115,I114))","v":""},{"$f":"IF(J114<0,\"\",IF(J114>J115,J115,J114))","v":""},{"$f":"IF(B114=\"\",\"\",IF(ISTEXT(K114),K114,IF(ISTEXT(K115),K115,\"\")))","v":""},null,{"$f":"RESULTS!G53","v":" Block 4 Player 5"},{"$f":"RESULTS!H53","v":-1E-3},{"$f":"RESULTS!I53","v":-1E-3}]
[null,null,null,null,null,null,null,null,{"$f":"RESULTS!G54","v":" Bye "},{"$f":"RESULTS!H54","v":-1E-3},{"$f":"RESULTS!I54","v":-1E-3}]
[null,{"$f":"IF(J116<0,\"\",IF(J116>J117,I116,I117))","v":""},{"$f":"IF(J116<0,\"\",IF(J116>J117,J116,J117))","v":""},"d.",{"$f":"IF(J116<0,\"\",IF(J116>J117,I117,I116))","v":""},{"$f":"IF(J116<0,\"\",IF(J116>J117,J117,J116))","v":""},{"$f":"IF(B116=\"\",\"\",IF(ISTEXT(K116),K116,IF(ISTEXT(K117),K117,\"\")))","v":""},null,{"$f":"RESULTS!G55","v":" Block 4 Player 1"},{"$f":"RESULTS!H55","v":-1E-3},{"$f":"RESULTS!I55","v":-1E-3}]
[null,null,null,null,null,null,null,null,{"$f":"RESULTS!G56","v":" Bye "},{"$f":"RESULTS!H56","v":-1E-3},{"$f":"RESULTS!I56","v":-1E-3}]
[null,{"$f":"IF(J118<0,\"\",IF(J118>J119,I118,I119))","v":""},{"$f":"IF(J118<0,\"\",IF(J118>J119,J118,J119))","v":""},"d.",{"$f":"IF(J118<0,\"\",IF(J118>J119,I119,I118))","v":""},{"$f":"IF(J118<0,\"\",IF(J118>J119,J119,J118))","v":""},{"$f":"IF(B118=\"\",\"\",IF(ISTEXT(K118),K118,IF(ISTEXT(K119),K119,\"\")))","v":""},null,{"$f":"RESULTS!G57","v":" Block 4 Player 2"},{"$f":"RESULTS!H57","v":-1E-3},{"$f":"RESULTS!I57","v":-1E-3}]
[null,null,null,null,null,null,null,null,{"$f":"RESULTS!G58","v":" Block 4 Player 5"},{"$f":"RESULTS!H58","v":-1E-3},{"$f":"RESULTS!I58","v":-1E-3}]
[null,{"$f":"IF(J120<0,\"\",IF(J120>J121,I120,I121))","v":""},{"$f":"IF(J120<0,\"\",IF(J120>J121,J120,J121))","v":""},"d.",{"$f":"IF(J120<0,\"\",IF(J120>J121,I121,I120))","v":""},{"$f":"IF(J120<0,\"\",IF(J120>J121,J121,J120))","v":""},{"$f":"IF(B120=\"\",\"\",IF(ISTEXT(K120),K120,IF(ISTEXT(K121),K121,\"\")))","v":""},null,{"$f":"RESULTS!G59","v":" Block 4 Player 3"},{"$f":"RESULTS!H59","v":-1E-3},{"$f":"RESULTS!I59","v":-1E-3}]
[null,null,null,null,null,null,null,null,{"$f":"RESULTS!G60","v":" Block 4 Player 4"},{"$f":"RESULTS!H60","v":-1E-3},{"$f":"RESULTS!I60","v":-1E-3}]
[null,{"$f":"IF(J122<0,\"\",IF(J122>J123,I122,I123))","v":""},{"$f":"IF(J122<0,\"\",IF(J122>J123,J122,J123))","v":""},"d.",{"$f":"IF(J122<0,\"\",IF(J122>J123,I123,I122))","v":""},{"$f":"IF(J122<0,\"\",IF(J122>J123,J123,J122))","v":""},{"$f":"IF(B122=\"\",\"\",IF(ISTEXT(K122),K122,IF(ISTEXT(K123),K123,\"\")))","v":""},null,{"$f":"RESULTS!G61","v":" Block 4 Player 5"},{"$f":"RESULTS!H61","v":-1E-3},{"$f":"RESULTS!I61","v":-1E-3}]
[null,null,null,null,null,null,null,null,{"$f":"RESULTS!G62","v":" Block 4 Player 1"},{"$f":"RESULTS!H62","v":-1E-3},{"$f":"RESULTS!I62","v":-1E-3}]
[null,{"$f":"IF(J124<0,\"\",IF(J124>J125,I124,I125))","v":""},{"$f":"IF(J124<0,\"\",IF(J124>J125,J124,J125))","v":""},"d.",{"$f":"IF(J124<0,\"\",IF(J124>J125,I125,I124))","v":""},{"$f":"IF(J124<0,\"\",IF(J124>J125,J125,J124))","v":""},{"$f":"IF(B124=\"\",\"\",IF(ISTEXT(K124),K124,IF(ISTEXT(K125),K125,\"\")))","v":""},null,{"$f":"RESULTS!K53","v":" Bye "},{"$f":"RESULTS!L53","v":-1E-3},{"$f":"RESULTS!M53","v":-1E-3}]
[null,null,null,null,null,null,null,null,{"$f":"RESULTS!K54","v":" Block 4 Player 4"},{"$f":"RESULTS!L54","v":-1E-3},{"$f":"RESULTS!M54","v":-1E-3}]
[null,{"$f":"IF(J126<0,\"\",IF(J126>J127,I126,I127))","v":""},{"$f":"IF(J126<0,\"\",IF(J126>J127,J126,J127))","v":""},"d.",{"$f":"IF(J126<0,\"\",IF(J126>J127,I127,I126))","v":""},{"$f":"IF(J126<0,\"\",IF(J126>J127,J127,J126))","v":""},{"$f":"IF(B126=\"\",\"\",IF(ISTEXT(K126),K126,IF(ISTEXT(K127),K127,\"\")))","v":""},null,{"$f":"RESULTS!K55","v":" Block 4 Player 2"},{"$f":"RESULTS!L55","v":-1E-3},{"$f":"RESULTS!M55","v":-1E-3}]
[null,null,null,null,null,null,null,null,{"$f":"RESULTS!K56","v":" Block 4 Player 3"},{"$f":"RESULTS!L56","v":-1E-3},{"$f":"RESULTS!M56","v":-1E-3}]
[null,{"$f":"IF(J128<0,\"\",IF(J128>J129,I128,I129))","v":""},{"$f":"IF(J128<0,\"\",IF(J128>J129,J128,J129))","v":""},"d.",{"$f":"IF(J128<0,\"\",IF(J128>J129,I129,I128))","v":""},{"$f":"IF(J128<0,\"\",IF(J128>J129,J129,J128))","v":""},{"$f":"IF(B128=\"\",\"\",IF(ISTEXT(K128),K128,IF(ISTEXT(K129),K129,\"\")))","v":""},null,{"$f":"RESULTS!K57","v":" Block 4 Player 3"},{"$f":"RESULTS!L57","v":-1E-3},{"$f":"RESULTS!M57","v":-1E-3}]
[null,null,null,null,null,null,null,null,{"$f":"RESULTS!K58","v":" Bye "},{"$f":"RESULTS!L58","v":-1E-3},{"$f":"RESULTS!M58","v":-1E-3}]
[null,{"$f":"IF(J130<0,\"\",IF(J130>J131,I130,I131))","v":""},{"$f":"IF(J130<0,\"\",IF(J130>J131,J130,J131))","v":""},"d.",{"$f":"IF(J130<0,\"\",IF(J130>J131,I131,I130))","v":""},{"$f":"IF(J130<0,\"\",IF(J130>J131,J131,J130))","v":""},{"$f":"IF(B130=\"\",\"\",IF(ISTEXT(K130),K130,IF(ISTEXT(K131),K131,\"\")))","v":""},null,{"$f":"RESULTS!K59","v":" Block 4 Player 4"},{"$f":"RESULTS!L59","v":-1E-3},{"$f":"RESULTS!M59","v":-1E-3}]
[null,null,null,null,null,null,null,null,{"$f":"RESULTS!K60","v":" Block 4 Player 5"},{"$f":"RESULTS!L60","v":-1E-3},{"$f":"RESULTS!M60","v":-1E-3}]
[null,{"$f":"IF(J132<0,\"\",IF(J132>J133,I132,I133))","v":""},{"$f":"IF(J132<0,\"\",IF(J132>J133,J132,J133))","v":""},"d.",{"$f":"IF(J132<0,\"\",IF(J132>J133,I133,I132))","v":""},{"$f":"IF(J132<0,\"\",IF(J132>J133,J133,J132))","v":""},{"$f":"IF(B132=\"\",\"\",IF(ISTEXT(K132),K132,IF(ISTEXT(K133),K133,\"\")))","v":""},null,{"$f":"RESULTS!K61","v":" Block 4 Player 1"},{"$f":"RESULTS!L61","v":-1E-3},{"$f":"RESULTS!M61","v":-1E-3}]
[null,null,null,null,null,null,null,null,{"$f":"RESULTS!K62","v":" Block 4 Player 2"},{"$f":"RESULTS!L62","v":-1E-3},{"$f":"RESULTS!M62","v":-1E-3}]

{"sheet":"MISC","index":16,"n_rows":26,"n_cols":11,"rows_kept":26,"cut":false,"hidden":false,"merged":[[2,1,2,10],[3,1,3,10]]}
[]
[]
[null,{"$f":"SEED!F2","v":"Tournament"}]
[null,{"$f":"SEED!F4","v":"Singles"}]
[null,null,"NAME","NAME",null,null,"NO OF","BLOCK","POINTS","POINTS","NET"]
[null,null,"FIRST","LAST","PLAYER","H/CAP","WINS","PLACE","FOR","AGAINST","POINTS"]
[null,1,{"$f":"NAMES!C11","v":"Block 1"},{"$f":"NAMES!C12","v":"Player 1"},{"$f":"C7&\" \"&D7","v":"Block 1 Player 1"},{"$f":"SEED!E8","v":0},{"$f":"BLOCK!V8","v":0},{"$f":"BLOCK!AA8","v":5},{"$f":"BLOCK!W8","v":-5.0000000000000001E-3},{"$f":"BLOCK!X8","v":-5.0000000000000001E-3},{"$f":"BLOCK!Y8","v":0}]
[null,2,{"$f":"NAMES!C16","v":"Block 1"},{"$f":"NAMES!C17","v":"Player 2"},"Block 1 Player 2",{"$f":"SEED!E9","v":0},{"$f":"BLOCK!V11","v":0},{"$f":"BLOCK!AA11","v":4},{"$f":"BLOCK!W11","v":-5.0000000000000001E-3},{"$f":"BLOCK!X11","v":-5.0000000000000001E-3},{"$f":"BLOCK!Y11","v":0}]
[null,3,{"$f":"NAMES!C21","v":"Block 1"},{"$f":"NAMES!C22","v":"Player 3"},"Block 1 Player 3",{"$f":"SEED!E10","v":0},{"$f":"BLOCK!V14","v":0},{"$f":"BLOCK!AA14","v":3},{"$f":"BLOCK!W14","v":-5.0000000000000001E-3},{"$f":"BLOCK!X14","v":-5.0000000000000001E-3},{"$f":"BLOCK!Y14","v":0}]
[null,4,{"$f":"NAMES!C26","v":"Block 1"},{"$f":"NAMES!C27","v":"Player 4"},"Block 1 Player 4",{"$f":"SEED!E11","v":0},{"$f":"BLOCK!V17","v":0},{"$f":"BLOCK!AA17","v":2},{"$f":"BLOCK!W17","v":-5.0000000000000001E-3},{"$f":"BLOCK!X17","v":-5.0000000000000001E-3},{"$f":"BLOCK!Y17","v":0}]
[null,5,{"$f":"NAMES!C31","v":"Block 1"},{"$f":"NAMES!C32","v":"Player 5"},"Block 1 Player 5",{"$f":"SEED!E12","v":0},{"$f":"BLOCK!V20","v":0},{"$f":"BLOCK!AA20","v":1},{"$f":"BLOCK!W20","v":-5.0000000000000001E-3},{"$f":"BLOCK!X20","v":-5.0000000000000001E-3},{"$f":"BLOCK!Y20","v":0}]
[null,7,{"$f":"NAMES!C42","v":"Block 2"},{"$f":"NAMES!C43","v":"Player 1"},"Block 2 Player 1",{"$f":"SEED!J8","v":0},{"$f":"BLOCK!V33","v":0},{"$f":"BLOCK!AA33","v":5},{"$f":"BLOCK!W33","v":-5.0000000000000001E-3},{"$f":"BLOCK!X33","v":-5.0000000000000001E-3},{"$f":"BLOCK!Y33","v":0}]
[null,8,{"$f":"NAMES!C47","v":"Block 2"},{"$f":"NAMES!C48","v":"Player 2"},"Block 2 Player 2",{"$f":"SEED!J9","v":0},{"$f":"BLOCK!V36","v":0},{"$f":"BLOCK!AA36","v":4},{"$f":"BLOCK!W36","v":-5.0000000000000001E-3},{"$f":"BLOCK!X36","v":-5.0000000000000001E-3},{"$f":"BLOCK!Y36","v":0}]
[null,9,{"$f":"NAMES!C52","v":"Block 2"},{"$f":"NAMES!C53","v":"Player 3"},"Block 2 Player 3",{"$f":"SEED!J10","v":0},{"$f":"BLOCK!V39","v":0},{"$f":"BLOCK!AA39","v":3},{"$f":"BLOCK!W39","v":-5.0000000000000001E-3},{"$f":"BLOCK!X39","v":-5.0000000000000001E-3},{"$f":"BLOCK!Y39","v":0}]
[null,10,{"$f":"NAMES!C57","v":"Block 2"},{"$f":"NAMES!C58","v":"Player 4"},"Block 2 Player 4",{"$f":"SEED!J11","v":0},{"$f":"BLOCK!V42","v":0},{"$f":"BLOCK!AA42","v":2},{"$f":"BLOCK!W42","v":-5.0000000000000001E-3},{"$f":"BLOCK!X42","v":-5.0000000000000001E-3},{"$f":"BLOCK!Y42","v":0}]
[null,11,{"$f":"NAMES!C62","v":"Block 2"},{"$f":"NAMES!C63","v":"Player 5"},"Block 2 Player 5",{"$f":"SEED!J12","v":0},{"$f":"BLOCK!V45","v":0},{"$f":"BLOCK!AA45","v":1},{"$f":"BLOCK!W45","v":-5.0000000000000001E-3},{"$f":"BLOCK!X45","v":-5.0000000000000001E-3},{"$f":"BLOCK!Y45","v":0}]
[null,13,{"$f":"NAMES!C73","v":"Block 3"},{"$f":"NAMES!C74","v":"Player 1"},"Block 3 Player 1",{"$f":"SEED!E17","v":0},{"$f":"BLOCK!V58","v":0},{"$f":"BLOCK!AA58","v":5},{"$f":"BLOCK!W58","v":-5.0000000000000001E-3},{"$f":"BLOCK!X58","v":-5.0000000000000001E-3},{"$f":"BLOCK!Y58","v":0}]
[null,14,{"$f":"NAMES!C78","v":"Block 3"},{"$f":"NAMES!C79","v":"Player 2"},"Block 3 Player 2",{"$f":"SEED!E18","v":0},{"$f":"BLOCK!V61","v":0},{"$f":"BLOCK!AA61","v":4},{"$f":"BLOCK!W61","v":-5.0000000000000001E-3},{"$f":"BLOCK!X61","v":-5.0000000000000001E-3},{"$f":"BLOCK!Y61","v":0}]
[null,15,{"$f":"NAMES!C83","v":"Block 3"},{"$f":"NAMES!C84","v":"Player 3"},"Block 3 Player 3",{"$f":"SEED!E19","v":0},{"$f":"BLOCK!V64","v":0},{"$f":"BLOCK!AA64","v":3},{"$f":"BLOCK!W64","v":-5.0000000000000001E-3},{"$f":"BLOCK!X64","v":-5.0000000000000001E-3},{"$f":"BLOCK!Y64","v":0}]
[null,16,{"$f":"NAMES!C88","v":"Block 3"},{"$f":"NAMES!C89","v":"Player 4"},"Block 3 Player 4",{"$f":"SEED!E20","v":0},{"$f":"BLOCK!V67","v":0},{"$f":"BLOCK!AA67","v":2},{"$f":"BLOCK!W67","v":-5.0000000000000001E-3},{"$f":"BLOCK!X67","v":-5.0000000000000001E-3},{"$f":"BLOCK!Y67","v":0}]
[null,17,{"$f":"NAMES!C93","v":"Block 3"},{"$f":"NAMES!C94","v":"Player 5"},"Block 3 Player 5",{"$f":"SEED!E21","v":0},{"$f":"BLOCK!V70","v":0},{"$f":"BLOCK!AA70","v":1},{"$f":"BLOCK!W70","v":-5.0000000000000001E-3},{"$f":"BLOCK!X70","v":-5.0000000000000001E-3},{"$f":"BLOCK!Y70","v":0}]
[null,19,{"$f":"NAMES!C104","v":"Block 4"},{"$f":"NAMES!C105","v":"Player 1"},"Block 4 Player 1",{"$f":"SEED!J17","v":0},{"$f":"BLOCK!V83","v":0},{"$f":"BLOCK!AA83","v":5},{"$f":"BLOCK!W83","v":-5.0000000000000001E-3},{"$f":"BLOCK!X83","v":-5.0000000000000001E-3},{"$f":"BLOCK!Y83","v":0}]
[null,20,{"$f":"NAMES!C109","v":"Block 4"},{"$f":"NAMES!C110","v":"Player 2"},"Block 4 Player 2",{"$f":"SEED!J18","v":0},{"$f":"BLOCK!V86","v":0},{"$f":"BLOCK!AA86","v":4},{"$f":"BLOCK!W86","v":-5.0000000000000001E-3},{"$f":"BLOCK!X86","v":-5.0000000000000001E-3},{"$f":"BLOCK!Y86","v":0}]
[null,21,{"$f":"NAMES!C114","v":"Block 4"},{"$f":"NAMES!C115","v":"Player 3"},"Block 4 Player 3",{"$f":"SEED!J19","v":0},{"$f":"BLOCK!V89","v":0},{"$f":"BLOCK!AA89","v":3},{"$f":"BLOCK!W89","v":-5.0000000000000001E-3},{"$f":"BLOCK!X89","v":-5.0000000000000001E-3},{"$f":"BLOCK!Y89","v":0}]
[null,22,{"$f":"NAMES!C119","v":"Block 4"},{"$f":"NAMES!C120","v":"Player 4"},"Block 4 Player 4",{"$f":"SEED!J20","v":0},{"$f":"BLOCK!V92","v":0},{"$f":"BLOCK!AA92","v":2},{"$f":"BLOCK!W92","v":-5.0000000000000001E-3},{"$f":"BLOCK!X92","v":-5.0000000000000001E-3},{"$f":"BLOCK!Y92","v":0}]
[null,23,{"$f":"NAMES!C124","v":"Block 4"},{"$f":"NAMES!C125","v":"Player 5"},"Block 4 Player 5",{"$f":"SEED!J21","v":0},{"$f":"BLOCK!V95","v":0},{"$f":"BLOCK!AA95","v":1},{"$f":"BLOCK!W95","v":-5.0000000000000001E-3},{"$f":"BLOCK!X95","v":-5.0000000000000001E-3},{"$f":"BLOCK!Y95","v":0}]

{"sheet":"BLOCK SCHEDULE","index":17,"n_rows":83,"n_cols":7,"rows_kept":83,"cut":false,"hidden":false,"merged":[[66,1,66,3],[66,4,66,6],[67,4,67,6],[29,4,29,6],[7,1,7,6],[10,4,10,6],[9,1,9,3],[9,4,9,6],[28,1,28,3],[28,4,28,6],[47,1,47,3],[47,4,47,6],[48,4,48,6],[2,1,2,6],[4,1,4,6],[5,1,5,6],[6,1,6,6],[3,1,3,6]]}
[]
[]
[null,{"$f":"NAMES!$C$7","v":"Tournament"}]
[null,{"$f":"NAMES!$C$9","v":"Date"}]
[null,{"$f":"NAMES!E22","v":"Time limit 2.5 hours, Turn After Bell (61.1.6). Quadway hoops (3 11/16\"), Dawson International balls"}]
[null,{"$f":"NAMES!E23","v":"Games may start early. Please be at the venue at least 30 minutes earlier than the scheduled start time."}]
[null,{"$f":"NAMES!E24","v":"Entry Fee $40 will be invoiced by email. Please pay by EFT using the invoice No. as reference."}]
[null,{"$f":"NAMES!E25","v":"Players please assist with setting and clearing courts."}]
[]
[null,{"$f":"\"SCHEDULE   \"&NAMES!$C$10","v":"SCHEDULE   BLOCK 1"},null,null,{"$f":"NAMES!$C$8","v":"Singles"}]
[null,"  TIME  "," DAY "," COURT ","PLAYERS","  PLAYERS  "]
[null,{"$f":"GAMES!B5","v":"00:00:00"},{"$f":"GAMES!C5","v":"00:00:00"},{"$f":"GAMES!D5","v":0},{"$f":"GAMES!E5","v":" Block 1 Player 1"},"vs",{"$f":"GAMES!G5","v":" Block 1 Player 4"}]
[null,{"$f":"GAMES!B6","v":"00:00:00"},{"$f":"GAMES!C6","v":"00:00:00"},{"$f":"GAMES!D6","v":0},{"$f":"GAMES!E6","v":" Block 1 Player 5"},"vs",{"$f":"GAMES!G6","v":" Block 1 Player 3"}]
[null,{"$f":"GAMES!B7","v":"00:00:00"},{"$f":"GAMES!C7","v":"00:00:00"},{"$f":"GAMES!D7","v":"--"},{"$f":"GAMES!G7","v":" Block 1 Player 2"},"vs",{"$f":"GAMES!E7","v":" Bye "}]
[null,{"$f":"GAMES!B9","v":"00:00:00"},{"$f":"GAMES!C9","v":"00:00:00"},{"$f":"GAMES!D9","v":0},{"$f":"GAMES!G9","v":" Block 1 Player 2"},"vs",{"$f":"GAMES!E9","v":" Block 1 Player 4"}]
[null,{"$f":"GAMES!B8","v":"00:00:00"},{"$f":"GAMES!C8","v":"00:00:00"},{"$f":"GAMES!D8","v":0},{"$f":"GAMES!E8","v":" Block 1 Player 3"},"vs",{"$f":"GAMES!G8","v":" Block 1 Player 1"}]
[null,{"$f":"GAMES!B10","v":"00:00:00"},{"$f":"GAMES!C10","v":"00:00:00"},{"$f":"GAMES!D10","v":"--"},{"$f":"GAMES!E10","v":" Block 1 Player 5"},"vs",{"$f":"GAMES!G10","v":" Bye "}]
[null,{"$f":"GAMES!B13","v":"00:00:00"},{"$f":"GAMES!C13","v":"00:00:00"},{"$f":"GAMES!D13","v":0},{"$f":"GAMES!E13","v":" Block 1 Player 3"},"vs",{"$f":"GAMES!G13","v":" Block 1 Player 4"}]
[null,{"$f":"GAMES!B12","v":"00:00:00"},{"$f":"GAMES!C12","v":"00:00:00"},{"$f":"GAMES!D12","v":0},{"$f":"GAMES!E12","v":" Block 1 Player 2"},"vs",{"$f":"GAMES!G12","v":" Block 1 Player 5"}]
[null,{"$f":"GAMES!B11","v":"00:00:00"},{"$f":"GAMES!C11","v":"00:00:00"},{"$f":"GAMES!D11","v":"--"},{"$f":"GAMES!E11","v":" Block 1 Player 1"},"vs",{"$f":"GAMES!G11","v":" Bye "}]
[null,{"$f":"GAMES!B14","v":"00:00:00"},{"$f":"GAMES!C14","v":"00:00:00"},{"$f":"GAMES!D14","v":0},{"$f":"GAMES!E14","v":" Block 1 Player 5"},"vs",{"$f":"GAMES!G14","v":" Block 1 Player 1"}]
[null,{"$f":"GAMES!B16","v":"00:00:00"},{"$f":"GAMES!C16","v":"00:00:00"},{"$f":"GAMES!D16","v":0},{"$f":"GAMES!E16","v":" Block 1 Player 2"},"vs",{"$f":"GAMES!G16","v":" Block 1 Player 3"}]
[null,{"$f":"GAMES!B15","v":"00:00:00"},{"$f":"GAMES!C15","v":"00:00:00"},{"$f":"GAMES!D15","v":"--"},{"$f":"GAMES!E15","v":" Bye "},"vs",{"$f":"GAMES!G15","v":" Block 1 Player 4"}]
[null,{"$f":"GAMES!B18","v":"00:00:00"},{"$f":"GAMES!C18","v":"00:00:00"},{"$f":"GAMES!D18","v":0},{"$f":"GAMES!G18","v":" Block 1 Player 5"},"vs",{"$f":"GAMES!E18","v":" Block 1 Player 4"}]
[null,{"$f":"GAMES!B19","v":"00:00:00"},{"$f":"GAMES!C19","v":"00:00:00"},{"$f":"GAMES!D19","v":0},{"$f":"GAMES!E19","v":" Block 1 Player 1"},"vs",{"$f":"GAMES!G19","v":" Block 1 Player 2"}]
[null,{"$f":"GAMES!B17","v":"00:00:00"},{"$f":"GAMES!C17","v":"00:00:00"},{"$f":"GAMES!D17","v":"--"},{"$f":"GAMES!G17","v":" Bye "},"vs",{"$f":"GAMES!E17","v":" Block 1 Player 3"}]
[]
[]
[null,{"$f":"\"SCHEDULE   \"&NAMES!$C$41","v":"SCHEDULE   BLOCK 2"},null,null,{"$f":"NAMES!$C$8","v":"Singles"}]
[null,"  TIME  "," DAY "," COURT ","PLAYERS","  PLAYERS  "]
[null,{"$f":"GAMES!B24","v":"00:00:00"},{"$f":"GAMES!C24","v":"00:00:00"},{"$f":"GAMES!D24","v":0},{"$f":"GAMES!E24","v":" Block 2 Player 5"},"vs",{"$f":"GAMES!G24","v":" Block 2 Player 3"}]
[null,{"$f":"GAMES!B23","v":"00:00:00"},{"$f":"GAMES!C23","v":"00:00:00"},{"$f":"GAMES!D23","v":0},{"$f":"GAMES!E23","v":" Block 2 Player 1"},"vs",{"$f":"GAMES!G23","v":" Block 2 Player 4"}]
[null,{"$f":"GAMES!B25","v":"00:00:00"},{"$f":"GAMES!C25","v":"00:00:00"},{"$f":"GAMES!D25","v":"--"},{"$f":"GAMES!E25","v":" Bye "},"vs",{"$f":"GAMES!G25","v":" Block 2 Player 2"}]
[null,{"$f":"GAMES!B27","v":"00:00:00"},{"$f":"GAMES!C27","v":"00:00:00"},{"$f":"GAMES!D27","v":0},{"$f":"GAMES!E27","v":" Block 2 Player 4"},"vs",{"$f":"GAMES!G27","v":" Block 2 Player 2"}]
[null,{"$f":"GAMES!B26","v":"00:00:00"},{"$f":"GAMES!C26","v":"00:00:00"},{"$f":"GAMES!D26","v":0},{"$f":"GAMES!E26","v":" Block 2 Player 3"},"vs",{"$f":"GAMES!G26","v":" Block 2 Player 1"}]
[null,{"$f":"GAMES!B28","v":"00:00:00"},{"$f":"GAMES!C28","v":"00:00:00"},{"$f":"GAMES!D28","v":"--"},{"$f":"GAMES!E28","v":" Block 2 Player 5"},"vs",{"$f":"GAMES!G28","v":" Bye "}]
[null,{"$f":"GAMES!B30","v":"00:00:00"},{"$f":"GAMES!C30","v":"00:00:00"},{"$f":"GAMES!D30","v":0},{"$f":"GAMES!E30","v":" Block 2 Player 2"},"vs",{"$f":"GAMES!G30","v":" Block 2 Player 5"}]
[null,{"$f":"GAMES!B31","v":"00:00:00"},{"$f":"GAMES!C31","v":"00:00:00"},{"$f":"GAMES!D31","v":0},{"$f":"GAMES!E31","v":" Block 2 Player 3"},"vs",{"$f":"GAMES!G31","v":" Block 2 Player 4"}]
[null,{"$f":"GAMES!B29","v":"00:00:00"},{"$f":"GAMES!C29","v":"00:00:00"},{"$f":"GAMES!D29","v":"--"},{"$f":"GAMES!E29","v":" Block 2 Player 1"},"vs",{"$f":"GAMES!G29","v":" Bye "}]
[null,{"$f":"GAMES!B32","v":"00:00:00"},{"$f":"GAMES!C32","v":"00:00:00"},{"$f":"GAMES!D32","v":0},{"$f":"GAMES!E32","v":" Block 2 Player 5"},"vs",{"$f":"GAMES!G32","v":" Block 2 Player 1"}]
[null,{"$f":"GAMES!B34","v":"00:00:00"},{"$f":"GAMES!C34","v":"00:00:00"},{"$f":"GAMES!D34","v":0},{"$f":"GAMES!E34","v":" Block 2 Player 2"},"vs",{"$f":"GAMES!G34","v":" Block 2 Player 3"}]
[null,{"$f":"GAMES!B33","v":"00:00:00"},{"$f":"GAMES!C33","v":"00:00:00"},{"$f":"GAMES!D33","v":"--"},{"$f":"GAMES!E33","v":" Bye "},"vs",{"$f":"GAMES!G33","v":" Block 2 Player 4"}]
[null,{"$f":"GAMES!B36","v":"00:00:00"},{"$f":"GAMES!C36","v":"00:00:00"},{"$f":"GAMES!D36","v":0},{"$f":"GAMES!E36","v":" Block 2 Player 4"},"vs",{"$f":"GAMES!G36","v":" Block 2 Player 5"}]
[null,{"$f":"GAMES!B37","v":"00:00:00"},{"$f":"GAMES!C37","v":"00:00:00"},{"$f":"GAMES!D37","v":0},{"$f":"GAMES!E37","v":" Block 2 Player 1"},"vs",{"$f":"GAMES!G37","v":" Block 2 Player 2"}]
[null,{"$f":"GAMES!B35","v":"00:00:00"},{"$f":"GAMES!C35","v":"00:00:00"},{"$f":"GAMES!D35","v":"--"},{"$f":"GAMES!E35","v":" Block 2 Player 3"},"vs",{"$f":"GAMES!G35","v":" Bye "}]
[]
[]
[null,{"$f":"\"SCHEDULE   \"&NAMES!$C$72","v":"SCHEDULE   BLOCK 3"},null,null,{"$f":"NAMES!$C$8","v":"Singles"}]
[null,"  TIME  "," DAY "," COURT ","PLAYERS","  PLAYERS  "]
[null,{"$f":"GAMES!B42","v":"00:00:00"},{"$f":"GAMES!C42","v":"00:00:00"},{"$f":"GAMES!D42","v":0},{"$f":"GAMES!E42","v":" Block 3 Player 5"},"vs",{"$f":"GAMES!G42","v":" Block 3 Player 3"}]
[null,{"$f":"GAMES!B41","v":"00:00:00"},{"$f":"GAMES!C41","v":"00:00:00"},{"$f":"GAMES!D41","v":0},{"$f":"GAMES!E41","v":" Block 3 Player 1"},"vs",{"$f":"GAMES!G41","v":" Block 3 Player 4"}]
[null,{"$f":"GAMES!B43","v":"00:00:00"},{"$f":"GAMES!C43","v":"00:00:00"},{"$f":"GAMES!D43","v":"--"},{"$f":"GAMES!E43","v":" Bye "},"vs",{"$f":"GAMES!G43","v":" Block 3 Player 2"}]
[null,{"$f":"GAMES!B45","v":"00:00:00"},{"$f":"GAMES!C45","v":"00:00:00"},{"$f":"GAMES!D45","v":0},{"$f":"GAMES!E45","v":" Block 3 Player 4"},"vs",{"$f":"GAMES!G45","v":" Block 3 Player 2"}]
[null,{"$f":"GAMES!B44","v":"00:00:00"},{"$f":"GAMES!C44","v":"00:00:00"},{"$f":"GAMES!D44","v":0},{"$f":"GAMES!E44","v":" Block 3 Player 3"},"vs",{"$f":"GAMES!G44","v":" Block 3 Player 1"}]
[null,{"$f":"GAMES!B46","v":"00:00:00"},{"$f":"GAMES!C46","v":"00:00:00"},{"$f":"GAMES!D46","v":"--"},{"$f":"GAMES!E46","v":" Block 3 Player 5"},"vs",{"$f":"GAMES!G46","v":" Bye "}]
[null,{"$f":"GAMES!B48","v":"00:00:00"},{"$f":"GAMES!C48","v":"00:00:00"},{"$f":"GAMES!D48","v":0},{"$f":"GAMES!E48","v":" Block 3 Player 2"},"vs",{"$f":"GAMES!G48","v":" Block 3 Player 5"}]
[null,{"$f":"GAMES!B49","v":"00:00:00"},{"$f":"GAMES!C49","v":"00:00:00"},{"$f":"GAMES!D49","v":0},{"$f":"GAMES!E49","v":" Block 3 Player 3"},"vs",{"$f":"GAMES!G49","v":" Block 3 Player 4"}]
[null,{"$f":"GAMES!B47","v":"00:00:00"},{"$f":"GAMES!C47","v":"00:00:00"},{"$f":"GAMES!D47","v":"--"},{"$f":"GAMES!E47","v":" Block 3 Player 1"},"vs",{"$f":"GAMES!G47","v":" Bye "}]
[null,{"$f":"GAMES!B50","v":"00:00:00"},{"$f":"GAMES!C50","v":"00:00:00"},{"$f":"GAMES!D50","v":0},{"$f":"GAMES!E50","v":" Block 3 Player 5"},"vs",{"$f":"GAMES!G50","v":" Block 3 Player 1"}]
[null,{"$f":"GAMES!B52","v":"00:00:00"},{"$f":"GAMES!C52","v":"00:00:00"},{"$f":"GAMES!D52","v":0},{"$f":"GAMES!E52","v":" Block 3 Player 2"},"vs",{"$f":"GAMES!G52","v":" Block 3 Player 3"}]
[null,{"$f":"GAMES!B51","v":"00:00:00"},{"$f":"GAMES!C51","v":"00:00:00"},{"$f":"GAMES!D51","v":"--"},{"$f":"GAMES!E51","v":" Bye "},"vs",{"$f":"GAMES!G51","v":" Block 3 Player 4"}]
[null,{"$f":"GAMES!B54","v":"00:00:00"},{"$f":"GAMES!C54","v":"00:00:00"},{"$f":"GAMES!D54","v":0},{"$f":"GAMES!E54","v":" Block 3 Player 4"},"vs",{"$f":"GAMES!G54","v":" Block 3 Player 5"}]
[null,{"$f":"GAMES!B55","v":"00:00:00"},{"$f":"GAMES!C55","v":"00:00:00"},{"$f":"GAMES!D55","v":0},{"$f":"GAMES!E55","v":" Block 3 Player 1"},"vs",{"$f":"GAMES!G55","v":" Block 3 Player 2"}]
[null,{"$f":"GAMES!B53","v":"00:00:00"},{"$f":"GAMES!C53","v":"00:00:00"},{"$f":"GAMES!D53","v":"--"},{"$f":"GAMES!E53","v":" Block 3 Player 3"},"vs",{"$f":"GAMES!G53","v":" Bye "}]
[]
[]
[null,{"$f":"\"SCHEDULE   \"&NAMES!$C$103","v":"SCHEDULE   BLOCK 4"},null,null,{"$f":"NAMES!$C$8","v":"Singles"}]
[null,"  TIME  "," DAY "," COURT ","PLAYERS","  PLAYERS  "]
[null,{"$f":"GAMES!B60","v":"00:00:00"},{"$f":"GAMES!C60","v":"00:00:00"},{"$f":"GAMES!D60","v":0},{"$f":"GAMES!E60","v":" Block 4 Player 5"},"vs",{"$f":"GAMES!G60","v":" Block 4 Player 3"}]
[null,{"$f":"GAMES!B59","v":"00:00:00"},{"$f":"GAMES!C59","v":"00:00:00"},{"$f":"GAMES!D59","v":0},{"$f":"GAMES!E59","v":" Block 4 Player 1"},"vs",{"$f":"GAMES!G59","v":" Block 4 Player 4"}]
[null,{"$f":"GAMES!B61","v":"00:00:00"},{"$f":"GAMES!C61","v":"00:00:00"},{"$f":"GAMES!D61","v":"--"},{"$f":"GAMES!E61","v":" Bye "},"vs",{"$f":"GAMES!G61","v":" Block 4 Player 2"}]
[null,{"$f":"GAMES!B63","v":"00:00:00"},{"$f":"GAMES!C63","v":"00:00:00"},{"$f":"GAMES!D63","v":0},{"$f":"GAMES!E63","v":" Block 4 Player 4"},"vs",{"$f":"GAMES!G63","v":" Block 4 Player 2"}]
[null,{"$f":"GAMES!B62","v":"00:00:00"},{"$f":"GAMES!C62","v":"00:00:00"},{"$f":"GAMES!D62","v":0},{"$f":"GAMES!E62","v":" Block 4 Player 3"},"vs",{"$f":"GAMES!G62","v":" Block 4 Player 1"}]
[null,{"$f":"GAMES!B64","v":"00:00:00"},{"$f":"GAMES!C64","v":"00:00:00"},{"$f":"GAMES!D64","v":"--"},{"$f":"GAMES!E64","v":" Block 4 Player 5"},"vs",{"$f":"GAMES!G64","v":" Bye "}]
[null,{"$f":"GAMES!B66","v":"00:00:00"},{"$f":"GAMES!C66","v":"00:00:00"},{"$f":"GAMES!D66","v":0},{"$f":"GAMES!E66","v":" Block 4 Player 2"},"vs",{"$f":"GAMES!G66","v":" Block 4 Player 5"}]
[null,{"$f":"GAMES!B67","v":"00:00:00"},{"$f":"GAMES!C67","v":"00:00:00"},{"$f":"GAMES!D67","v":0},{"$f":"GAMES!E67","v":" Block 4 Player 3"},"vs",{"$f":"GAMES!G67","v":" Block 4 Player 4"}]
[null,{"$f":"GAMES!B65","v":"00:00:00"},{"$f":"GAMES!C65","v":"00:00:00"},{"$f":"GAMES!D65","v":"--"},{"$f":"GAMES!E65","v":" Block 4 Player 1"},"vs",{"$f":"GAMES!G65","v":" Bye "}]
[null,{"$f":"GAMES!B68","v":"00:00:00"},{"$f":"GAMES!C68","v":"00:00:00"},{"$f":"GAMES!D68","v":0},{"$f":"GAMES!E68","v":" Block 4 Player 5"},"vs",{"$f":"GAMES!G68","v":" Block 4 Player 1"}]
[null,{"$f":"GAMES!B70","v":"00:00:00"},{"$f":"GAMES!C70","v":"00:00:00"},{"$f":"GAMES!D70","v":0},{"$f":"GAMES!E70","v":" Block 4 Player 2"},"vs",{"$f":"GAMES!G70","v":" Block 4 Player 3"}]
[null,{"$f":"GAMES!B69","v":"00:00:00"},{"$f":"GAMES!C69","v":"00:00:00"},{"$f":"GAMES!D69","v":"--"},{"$f":"GAMES!E69","v":" Bye "},"vs",{"$f":"GAMES!G69","v":" Block 4 Player 4"}]
[null,{"$f":"GAMES!B72","v":"00:00:00"},{"$f":"GAMES!C72","v":"00:00:00"},{"$f":"GAMES!D72","v":0},{"$f":"GAMES!E72","v":" Block 4 Player 4"},"vs",{"$f":"GAMES!G72","v":" Block 4 Player 5"}]
[null,{"$f":"GAMES!B73","v":"00:00:00"},{"$f":"GAMES!C73","v":"00:00:00"},{"$f":"GAMES!D73","v":0},{"$f":"GAMES!E73","v":" Block 4 Player 1"},"vs",{"$f":"GAMES!G73","v":" Block 4 Player 2"}]
[null,{"$f":"GAMES!B71","v":"00:00:00"},{"$f":"GAMES!C71","v":"00:00:00"},{"$f":"GAMES!D71","v":"--"},{"$f":"GAMES!E71","v":" Block 4 Player 3"},"vs",{"$f":"GAMES!G71","v":" Bye "}]

{"sheet":"SCHEDULE","index":18,"n_rows":63,"n_cols":7,"rows_kept":63,"cut":false,"hidden":false,"merged":[]}
[]
[]
[null,"TIME","DAY","COURT","PLAYER 1","vs","PLAYER 2"]
[null,{"$f":"GAMES!B5","v":"00:00:00"},{"$f":"GAMES!C5","v":"00:00:00"},{"$f":"GAMES!D5","v":0},{"$f":"GAMES!E5","v":" Block 1 Player 1"},{"$f":"GAMES!F5","v":"vs"},{"$f":"GAMES!G5","v":" Block 1 Player 4"}]
[null,{"$f":"GAMES!B6","v":"00:00:00"},{"$f":"GAMES!C6","v":"00:00:00"},{"$f":"GAMES!D6","v":0},{"$f":"GAMES!E6","v":" Block 1 Player 5"},{"$f":"GAMES!F6","v":"vs"},{"$f":"GAMES!G6","v":" Block 1 Player 3"}]
[null,{"$f":"GAMES!B7","v":"00:00:00"},{"$f":"GAMES!C7","v":"00:00:00"},{"$f":"GAMES!D7","v":"--"},{"$f":"GAMES!E7","v":" Bye "},{"$f":"GAMES!F7","v":"vs"},{"$f":"GAMES!G7","v":" Block 1 Player 2"}]
[null,{"$f":"GAMES!B8","v":"00:00:00"},{"$f":"GAMES!C8","v":"00:00:00"},{"$f":"GAMES!D8","v":0},{"$f":"GAMES!E8","v":" Block 1 Player 3"},{"$f":"GAMES!F8","v":"vs"},{"$f":"GAMES!G8","v":" Block 1 Player 1"}]
[null,{"$f":"GAMES!B9","v":"00:00:00"},{"$f":"GAMES!C9","v":"00:00:00"},{"$f":"GAMES!D9","v":0},{"$f":"GAMES!E9","v":" Block 1 Player 4"},{"$f":"GAMES!F9","v":"vs"},{"$f":"GAMES!G9","v":" Block 1 Player 2"}]
[null,{"$f":"GAMES!B10","v":"00:00:00"},{"$f":"GAMES!C10","v":"00:00:00"},{"$f":"GAMES!D10","v":"--"},{"$f":"GAMES!E10","v":" Block 1 Player 5"},{"$f":"GAMES!F10","v":"vs"},{"$f":"GAMES!G10","v":" Bye "}]
[null,{"$f":"GAMES!B11","v":"00:00:00"},{"$f":"GAMES!C11","v":"00:00:00"},{"$f":"GAMES!D11","v":"--"},{"$f":"GAMES!E11","v":" Block 1 Player 1"},{"$f":"GAMES!F11","v":"vs"},{"$f":"GAMES!G11","v":" Bye "}]
[null,{"$f":"GAMES!B12","v":"00:00:00"},{"$f":"GAMES!C12","v":"00:00:00"},{"$f":"GAMES!D12","v":0},{"$f":"GAMES!E12","v":" Block 1 Player 2"},{"$f":"GAMES!F12","v":"vs"},{"$f":"GAMES!G12","v":" Block 1 Player 5"}]
[null,{"$f":"GAMES!B13","v":"00:00:00"},{"$f":"GAMES!C13","v":"00:00:00"},{"$f":"GAMES!D13","v":0},{"$f":"GAMES!E13","v":" Block 1 Player 3"},{"$f":"GAMES!F13","v":"vs"},{"$f":"GAMES!G13","v":" Block 1 Player 4"}]
[null,{"$f":"GAMES!B14","v":"00:00:00"},{"$f":"GAMES!C14","v":"00:00:00"},{"$f":"GAMES!D14","v":0},{"$f":"GAMES!E14","v":" Block 1 Player 5"},{"$f":"GAMES!F14","v":"vs"},{"$f":"GAMES!G14","v":" Block 1 Player 1"}]
[null,{"$f":"GAMES!B15","v":"00:00:00"},{"$f":"GAMES!C15","v":"00:00:00"},{"$f":"GAMES!D15","v":"--"},{"$f":"GAMES!E15","v":" Bye "},{"$f":"GAMES!F15","v":"vs"},{"$f":"GAMES!G15","v":" Block 1 Player 4"}]
[null,{"$f":"GAMES!B16","v":"00:00:00"},{"$f":"GAMES!C16","v":"00:00:00"},{"$f":"GAMES!D16","v":0},{"$f":"GAMES!E16","v":" Block 1 Player 2"},{"$f":"GAMES!F16","v":"vs"},{"$f":"GAMES!G16","v":" Block 1 Player 3"}]
[null,{"$f":"GAMES!B17","v":"00:00:00"},{"$f":"GAMES!C17","v":"00:00:00"},{"$f":"GAMES!D17","v":"--"},{"$f":"GAMES!E17","v":" Block 1 Player 3"},{"$f":"GAMES!F17","v":"vs"},{"$f":"GAMES!G17","v":" Bye "}]
[null,{"$f":"GAMES!B18","v":"00:00:00"},{"$f":"GAMES!C18","v":"00:00:00"},{"$f":"GAMES!D18","v":0},{"$f":"GAMES!E18","v":" Block 1 Player 4"},{"$f":"GAMES!F18","v":"vs"},{"$f":"GAMES!G18","v":" Block 1 Player 5"}]
[null,{"$f":"GAMES!B19","v":"00:00:00"},{"$f":"GAMES!C19","v":"00:00:00"},{"$f":"GAMES!D19","v":0},{"$f":"GAMES!E19","v":" Block 1 Player 1"},{"$f":"GAMES!F19","v":"vs"},{"$f":"GAMES!G19","v":" Block 1 Player 2"}]
[null,{"$f":"GAMES!B23","v":"00:00:00"},{"$f":"GAMES!C23","v":"00:00:00"},{"$f":"GAMES!D23","v":0},{"$f":"GAMES!E23","v":" Block 2 Player 1"},{"$f":"GAMES!F23","v":"vs"},{"$f":"GAMES!G23","v":" Block 2 Player 4"}]
[null,{"$f":"GAMES!B24","v":"00:00:00"},{"$f":"GAMES!C24","v":"00:00:00"},{"$f":"GAMES!D24","v":0},{"$f":"GAMES!E24","v":" Block 2 Player 5"},{"$f":"GAMES!F24","v":"vs"},{"$f":"GAMES!G24","v":" Block 2 Player 3"}]
[null,{"$f":"GAMES!B25","v":"00:00:00"},{"$f":"GAMES!C25","v":"00:00:00"},{"$f":"GAMES!D25","v":"--"},{"$f":"GAMES!E25","v":" Bye "},{"$f":"GAMES!F25","v":"vs"},{"$f":"GAMES!G25","v":" Block 2 Player 2"}]
[null,{"$f":"GAMES!B26","v":"00:00:00"},{"$f":"GAMES!C26","v":"00:00:00"},{"$f":"GAMES!D26","v":0},{"$f":"GAMES!E26","v":" Block 2 Player 3"},{"$f":"GAMES!F26","v":"vs"},{"$f":"GAMES!G26","v":" Block 2 Player 1"}]
[null,{"$f":"GAMES!B27","v":"00:00:00"},{"$f":"GAMES!C27","v":"00:00:00"},{"$f":"GAMES!D27","v":0},{"$f":"GAMES!E27","v":" Block 2 Player 4"},{"$f":"GAMES!F27","v":"vs"},{"$f":"GAMES!G27","v":" Block 2 Player 2"}]
[null,{"$f":"GAMES!B28","v":"00:00:00"},{"$f":"GAMES!C28","v":"00:00:00"},{"$f":"GAMES!D28","v":"--"},{"$f":"GAMES!E28","v":" Block 2 Player 5"},{"$f":"GAMES!F28","v":"vs"},{"$f":"GAMES!G28","v":" Bye "}]
[null,{"$f":"GAMES!B29","v":"00:00:00"},{"$f":"GAMES!C29","v":"00:00:00"},{"$f":"GAMES!D29","v":"--"},{"$f":"GAMES!E29","v":" Block 2 Player 1"},{"$f":"GAMES!F29","v":"vs"},{"$f":"GAMES!G29","v":" Bye "}]
[null,{"$f":"GAMES!B30","v":"00:00:00"},{"$f":"GAMES!C30","v":"00:00:00"},{"$f":"GAMES!D30","v":0},{"$f":"GAMES!E30","v":" Block 2 Player 2"},{"$f":"GAMES!F30","v":"vs"},{"$f":"GAMES!G30","v":" Block 2 Player 5"}]
[null,{"$f":"GAMES!B31","v":"00:00:00"},{"$f":"GAMES!C31","v":"00:00:00"},{"$f":"GAMES!D31","v":0},{"$f":"GAMES!E31","v":" Block 2 Player 3"},{"$f":"GAMES!F31","v":"vs"},{"$f":"GAMES!G31","v":" Block 2 Player 4"}]
[null,{"$f":"GAMES!B32","v":"00:00:00"},{"$f":"GAMES!C32","v":"00:00:00"},{"$f":"GAMES!D32","v":0},{"$f":"GAMES!E32","v":" Block 2 Player 5"},{"$f":"GAMES!F32","v":"vs"},{"$f":"GAMES!G32","v":" Block 2 Player 1"}]
[null,{"$f":"GAMES!B33","v":"00:00:00"},{"$f":"GAMES!C33","v":"00:00:00"},{"$f":"GAMES!D33","v":"--"},{"$f":"GAMES!E33","v":" Bye "},{"$f":"GAMES!F33","v":"vs"},{"$f":"GAMES!G33","v":" Block 2 Player 4"}]
[null,{"$f":"GAMES!B34","v":"00:00:00"},{"$f":"GAMES!C34","v":"00:00:00"},{"$f":"GAMES!D34","v":0},{"$f":"GAMES!E34","v":" Block 2 Player 2"},{"$f":"GAMES!F34","v":"vs"},{"$f":"GAMES!G34","v":" Block 2 Player 3"}]
[null,{"$f":"GAMES!B35","v":"00:00:00"},{"$f":"GAMES!C35","v":"00:00:00"},{"$f":"GAMES!D35","v":"--"},{"$f":"GAMES!E35","v":" Block 2 Player 3"},{"$f":"GAMES!F35","v":"vs"},{"$f":"GAMES!G35","v":" Bye "}]
[null,{"$f":"GAMES!B36","v":"00:00:00"},{"$f":"GAMES!C36","v":"00:00:00"},{"$f":"GAMES!D36","v":0},{"$f":"GAMES!E36","v":" Block 2 Player 4"},{"$f":"GAMES!F36","v":"vs"},{"$f":"GAMES!G36","v":" Block 2 Player 5"}]
[null,{"$f":"GAMES!B37","v":"00:00:00"},{"$f":"GAMES!C37","v":"00:00:00"},{"$f":"GAMES!D37","v":0},{"$f":"GAMES!E37","v":" Block 2 Player 1"},{"$f":"GAMES!F37","v":"vs"},{"$f":"GAMES!G37","v":" Block 2 Player 2"}]
[null,{"$f":"GAMES!B41","v":"00:00:00"},{"$f":"GAMES!C41","v":"00:00:00"},{"$f":"GAMES!D41","v":0},{"$f":"GAMES!E41","v":" Block 3 Player 1"},{"$f":"GAMES!F41","v":"vs"},{"$f":"GAMES!G41","v":" Block 3 Player 4"}]
[null,{"$f":"GAMES!B42","v":"00:00:00"},{"$f":"GAMES!C42","v":"00:00:00"},{"$f":"GAMES!D42","v":0},{"$f":"GAMES!E42","v":" Block 3 Player 5"},{"$f":"GAMES!F42","v":"vs"},{"$f":"GAMES!G42","v":" Block 3 Player 3"}]
[null,{"$f":"GAMES!B43","v":"00:00:00"},{"$f":"GAMES!C43","v":"00:00:00"},{"$f":"GAMES!D43","v":"--"},{"$f":"GAMES!E43","v":" Bye "},{"$f":"GAMES!F43","v":"vs"},{"$f":"GAMES!G43","v":" Block 3 Player 2"}]
[null,{"$f":"GAMES!B44","v":"00:00:00"},{"$f":"GAMES!C44","v":"00:00:00"},{"$f":"GAMES!D44","v":0},{"$f":"GAMES!E44","v":" Block 3 Player 3"},{"$f":"GAMES!F44","v":"vs"},{"$f":"GAMES!G44","v":" Block 3 Player 1"}]
[null,{"$f":"GAMES!B45","v":"00:00:00"},{"$f":"GAMES!C45","v":"00:00:00"},{"$f":"GAMES!D45","v":0},{"$f":"GAMES!E45","v":" Block 3 Player 4"},{"$f":"GAMES!F45","v":"vs"},{"$f":"GAMES!G45","v":" Block 3 Player 2"}]
[null,{"$f":"GAMES!B46","v":"00:00:00"},{"$f":"GAMES!C46","v":"00:00:00"},{"$f":"GAMES!D46","v":"--"},{"$f":"GAMES!E46","v":" Block 3 Player 5"},{"$f":"GAMES!F46","v":"vs"},{"$f":"GAMES!G46","v":" Bye "}]
[null,{"$f":"GAMES!B47","v":"00:00:00"},{"$f":"GAMES!C47","v":"00:00:00"},{"$f":"GAMES!D47","v":"--"},{"$f":"GAMES!E47","v":" Block 3 Player 1"},{"$f":"GAMES!F47","v":"vs"},{"$f":"GAMES!G47","v":" Bye "}]
[null,{"$f":"GAMES!B48","v":"00:00:00"},{"$f":"GAMES!C48","v":"00:00:00"},{"$f":"GAMES!D48","v":0},{"$f":"GAMES!E48","v":" Block 3 Player 2"},{"$f":"GAMES!F48","v":"vs"},{"$f":"GAMES!G48","v":" Block 3 Player 5"}]
[null,{"$f":"GAMES!B49","v":"00:00:00"},{"$f":"GAMES!C49","v":"00:00:00"},{"$f":"GAMES!D49","v":0},{"$f":"GAMES!E49","v":" Block 3 Player 3"},{"$f":"GAMES!F49","v":"vs"},{"$f":"GAMES!G49","v":" Block 3 Player 4"}]
[null,{"$f":"GAMES!B50","v":"00:00:00"},{"$f":"GAMES!C50","v":"00:00:00"},{"$f":"GAMES!D50","v":0},{"$f":"GAMES!E50","v":" Block 3 Player 5"},{"$f":"GAMES!F50","v":"vs"},{"$f":"GAMES!G50","v":" Block 3 Player 1"}]
[null,{"$f":"GAMES!B51","v":"00:00:00"},{"$f":"GAMES!C51","v":"00:00:00"},{"$f":"GAMES!D51","v":"--"},{"$f":"GAMES!E51","v":" Bye "},{"$f":"GAMES!F51","v":"vs"},{"$f":"GAMES!G51","v":" Block 3 Player 4"}]
[null,{"$f":"GAMES!B52","v":"00:00:00"},{"$f":"GAMES!C52","v":"00:00:00"},{"$f":"GAMES!D52","v":0},{"$f":"GAMES!E52","v":" Block 3 Player 2"},{"$f":"GAMES!F52","v":"vs"},{"$f":"GAMES!G52","v":" Block 3 Player 3"}]
[null,{"$f":"GAMES!B53","v":"00:00:00"},{"$f":"GAMES!C53","v":"00:00:00"},{"$f":"GAMES!D53","v":"--"},{"$f":"GAMES!E53","v":" Block 3 Player 3"},{"$f":"GAMES!F53","v":"vs"},{"$f":"GAMES!G53","v":" Bye "}]
[null,{"$f":"GAMES!B54","v":"00:00:00"},{"$f":"GAMES!C54","v":"00:00:00"},{"$f":"GAMES!D54","v":0},{"$f":"GAMES!E54","v":" Block 3 Player 4"},{"$f":"GAMES!F54","v":"vs"},{"$f":"GAMES!G54","v":" Block 3 Player 5"}]
[null,{"$f":"GAMES!B55","v":"00:00:00"},{"$f":"GAMES!C55","v":"00:00:00"},{"$f":"GAMES!D55","v":0},{"$f":"GAMES!E55","v":" Block 3 Player 1"},{"$f":"GAMES!F55","v":"vs"},{"$f":"GAMES!G55","v":" Block 3 Player 2"}]
[null,{"$f":"GAMES!B59","v":"00:00:00"},{"$f":"GAMES!C59","v":"00:00:00"},{"$f":"GAMES!D59","v":0},{"$f":"GAMES!E59","v":" Block 4 Player 1"},{"$f":"GAMES!F59","v":"vs"},{"$f":"GAMES!G59","v":" Block 4 Player 4"}]
[null,{"$f":"GAMES!B60","v":"00:00:00"},{"$f":"GAMES!C60","v":"00:00:00"},{"$f":"GAMES!D60","v":0},{"$f":"GAMES!E60","v":" Block 4 Player 5"},{"$f":"GAMES!F60","v":"vs"},{"$f":"GAMES!G60","v":" Block 4 Player 3"}]
[null,{"$f":"GAMES!B61","v":"00:00:00"},{"$f":"GAMES!C61","v":"00:00:00"},{"$f":"GAMES!D61","v":"--"},{"$f":"GAMES!E61","v":" Bye "},{"$f":"GAMES!F61","v":"vs"},{"$f":"GAMES!G61","v":" Block 4 Player 2"}]
[null,{"$f":"GAMES!B62","v":"00:00:00"},{"$f":"GAMES!C62","v":"00:00:00"},{"$f":"GAMES!D62","v":0},{"$f":"GAMES!E62","v":" Block 4 Player 3"},{"$f":"GAMES!F62","v":"vs"},{"$f":"GAMES!G62","v":" Block 4 Player 1"}]
[null,{"$f":"GAMES!B63","v":"00:00:00"},{"$f":"GAMES!C63","v":"00:00:00"},{"$f":"GAMES!D63","v":0},{"$f":"GAMES!E63","v":" Block 4 Player 4"},{"$f":"GAMES!F63","v":"vs"},{"$f":"GAMES!G63","v":" Block 4 Player 2"}]
[null,{"$f":"GAMES!B64","v":"00:00:00"},{"$f":"GAMES!C64","v":"00:00:00"},{"$f":"GAMES!D64","v":"--"},{"$f":"GAMES!E64","v":" Block 4 Player 5"},{"$f":"GAMES!F64","v":"vs"},{"$f":"GAMES!G64","v":" Bye "}]
[null,{"$f":"GAMES!B65","v":"00:00:00"},{"$f":"GAMES!C65","v":"00:00:00"},{"$f":"GAMES!D65","v":"--"},{"$f":"GAMES!E65","v":" Block 4 Player 1"},{"$f":"GAMES!F65","v":"vs"},{"$f":"GAMES!G65","v":" Bye "}]
[null,{"$f":"GAMES!B66","v":"00:00:00"},{"$f":"GAMES!C66","v":"00:00:00"},{"$f":"GAMES!D66","v":0},{"$f":"GAMES!E66","v":" Block 4 Player 2"},{"$f":"GAMES!F66","v":"vs"},{"$f":"GAMES!G66","v":" Block 4 Player 5"}]
[null,{"$f":"GAMES!B67","v":"00:00:00"},{"$f":"GAMES!C67","v":"00:00:00"},{"$f":"GAMES!D67","v":0},{"$f":"GAMES!E67","v":" Block 4 Player 3"},{"$f":"GAMES!F67","v":"vs"},{"$f":"GAMES!G67","v":" Block 4 Player 4"}]
[null,{"$f":"GAMES!B68","v":"00:00:00"},{"$f":"GAMES!C68","v":"00:00:00"},{"$f":"GAMES!D68","v":0},{"$f":"GAMES!E68","v":" Block 4 Player 5"},{"$f":"GAMES!F68","v":"vs"},{"$f":"GAMES!G68","v":" Block 4 Player 1"}]
[null,{"$f":"GAMES!B69","v":"00:00:00"},{"$f":"GAMES!C69","v":"00:00:00"},{"$f":"GAMES!D69","v":"--"},{"$f":"GAMES!E69","v":" Bye "},{"$f":"GAMES!F69","v":"vs"},{"$f":"GAMES!G69","v":" Block 4 Player 4"}]
[null,{"$f":"GAMES!B70","v":"00:00:00"},{"$f":"GAMES!C70","v":"00:00:00"},{"$f":"GAMES!D70","v":0},{"$f":"GAMES!E70","v":" Block 4 Player 2"},{"$f":"GAMES!F70","v":"vs"},{"$f":"GAMES!G70","v":" Block 4 Player 3"}]
[null,{"$f":"GAMES!B71","v":"00:00:00"},{"$f":"GAMES!C71","v":"00:00:00"},{"$f":"GAMES!D71","v":"--"},{"$f":"GAMES!E71","v":" Block 4 Player 3"},{"$f":"GAMES!F71","v":"vs"},{"$f":"GAMES!G71","v":" Bye "}]
[null,{"$f":"GAMES!B72","v":"00:00:00"},{"$f":"GAMES!C72","v":"00:00:00"},{"$f":"GAMES!D72","v":0},{"$f":"GAMES!E72","v":" Block 4 Player 4"},{"$f":"GAMES!F72","v":"vs"},{"$f":"GAMES!G72","v":" Block 4 Player 5"}]
[null,{"$f":"GAMES!B73","v":"00:00:00"},{"$f":"GAMES!C73","v":"00:00:00"},{"$f":"GAMES!D73","v":0},{"$f":"GAMES!E73","v":" Block 4 Player 1"},{"$f":"GAMES!F73","v":"vs"},{"$f":"GAMES!G73","v":" Block 4 Player 2"}]

{"sheet":"WAIT","index":19,"n_rows":0,"n_cols":0,"rows_kept":0,"cut":false,"hidden":true,"merged":[]}

{"sheet":"TABLE","index":20,"n_rows":72,"n_cols":31,"rows_kept":72,"cut":false,"hidden":true,"merged":[[41,3,41,30],[42,3,42,30],[44,1,71,1],[6,4,6,27],[8,3,8,30],[9,3,9,30],[11,1,38,1]]}
[]
[null,"WIN = W, LOSE = L","w"]
[]
[null,"PLAYER HC",-2]
[null,"OPPONENT HC",-0.5]
[]
[null,"+/- INDEX POINTS",{"$f":"IF(C2=\"W\",(VLOOKUP(C4,WIN,(MATCH(C5,WINCOL,0)+1))),(VLOOKUP(C4,LOSE,(MATCH(C5,LOSECOL,0)+1))))","v":2},"<----","IF(C2 = \"W\", (VLOOKUP(C4, WIN, (MATCH(C5, WINCOL, 0) +1))), (VLOOKUP(C4, LOSE, (MATCH(C5, LOSECOL, 0) +1))))"]
[]
[null,null,null,"WIN TABLE"]
[null,null,null,"OPPONENT HANDICAP"]
[null,null,null,-2,-1.5,-1,-0.5,0,0.5,1,1.5,2,2.5,3,3.5,4,4.5,5,6,7,8,9,10,11,12,14,16,18,20,22,24]
[null,"PLAYER HANDICAP",-2,10,6,3,2,1,1,1,1,1,1,1,1,1,1,1,1,1,1,1,1,1,1,1,1,1,1,1,1]
[null,null,-1.5,14,10,7,4,3,2,2,1,1,1,1,1,1,1,1,1,1,1,1,1,1,1,1,1,1,1,1,1]
[null,null,-1,17,13,10,7,5,4,3,3,2,2,1,1,1,1,1,1,1,1,1,1,1,1,1,1,1,1,1,1]
[null,null,-0.5,18,16,13,10,8,7,6,5,4,3,3,2,2,1,1,1,1,1,1,1,1,1,1,1,1,1,1,1]
[null,null,0,19,17,15,12,10,9,8,7,6,5,4,3,3,2,2,1,1,1,1,1,1,1,1,1,1,1,1,1]
[null,null,0.5,19,18,16,13,11,10,9,8,7,6,5,4,3,3,2,2,1,1,1,1,1,1,1,1,1,1,1,1]
[null,null,1,19,18,17,14,12,11,10,9,8,7,6,5,4,3,3,2,2,1,1,1,1,1,1,1,1,1,1,1]
[null,null,1.5,19,19,17,15,13,12,11,10,9,8,7,6,5,4,3,3,2,2,1,1,1,1,1,1,1,1,1,1]
[null,null,2,19,19,18,16,14,13,12,11,10,9,8,7,6,5,4,3,3,2,2,1,1,1,1,1,1,1,1,1]
[null,null,2.5,19,19,18,17,15,14,13,12,11,10,9,8,7,6,5,4,3,3,2,2,1,1,1,1,1,1,1,1]
[null,null,3,19,19,19,17,16,15,14,13,12,11,10,9,8,7,6,5,4,3,3,2,2,1,1,1,1,1,1,1]
[null,null,3.5,19,19,19,18,17,16,15,14,13,12,11,10,9,8,7,6,5,4,3,3,2,2,1,1,1,1,1,1]
[null,null,4,19,19,19,18,17,17,16,15,14,13,12,11,10,9,8,7,6,5,4,3,3,2,2,1,1,1,1,1]
[null,null,4.5,19,19,19,19,18,17,17,16,15,14,13,12,11,10,9,8,7,6,5,4,3,3,2,2,1,1,1,1]
[null,null,5,19,19,19,19,18,18,17,17,16,15,14,13,12,11,10,9,8,7,6,5,4,3,3,2,2,1,1,1]
[null,null,6,19,19,19,19,19,18,18,17,17,16,15,14,13,12,11,10,9,8,7,6,5,4,3,3,2,2,1,1]
[null,null,7,19,19,19,19,19,19,18,18,17,17,16,15,14,13,12,11,10,9,8,7,6,5,4,3,3,2,2,1]
[null,null,8,19,19,19,19,19,19,19,18,18,17,17,16,15,14,13,12,11,10,9,8,7,6,5,4,3,3,2,2]
[null,null,9,19,19,19,19,19,19,19,19,18,18,17,17,16,15,14,13,12,11,10,9,8,7,6,5,4,3,3,2]
[null,null,10,19,19,19,19,19,19,19,19,19,18,18,17,17,16,15,14,13,12,11,10,9,8,7,6,5,4,3,3]
[null,null,11,19,19,19,19,19,19,19,19,19,19,18,18,17,17,16,15,14,13,12,11,10,9,8,7,6,5,4,3]
[null,null,12,19,19,19,19,19,19,19,19,19,19,19,18,18,17,17,16,15,14,13,12,11,10,9,8,7,6,5,4]
[null,null,14,19,19,19,19,19,19,19,19,19,19,19,19,18,18,17,17,16,15,14,13,12,11,10,9,8,7,6,5]
[null,null,16,19,19,19,19,19,19,19,19,19,19,19,19,19,18,18,17,17,16,15,14,13,12,11,10,9,8,7,6]
[null,null,18,19,19,19,19,19,19,19,19,19,19,19,19,19,19,18,18,17,17,16,15,14,13,12,11,10,9,8,7]
[null,null,20,19,19,19,19,19,19,19,19,19,19,19,19,19,19,19,18,18,17,17,16,15,14,13,12,11,10,9,8]
[null,null,22,19,19,19,19,19,19,19,19,19,19,19,19,19,19,19,19,18,18,17,17,16,15,14,13,12,11,10,9]
[null,null,24,19,19,19,19,19,19,19,19,19,19,19,19,19,19,19,19,19,18,18,17,17,16,15,14,13,12,11,10]
[]
[]
[null,null,null,"LOSE TABLE"]
[null,null,null,"OPPONENT HANDICAP"]
[null,null,null,-2,-1.5,-1,-0.5,0,0.5,1,1.5,2,2.5,3,3.5,4,4.5,5,6,7,8,9,10,11,12,14,16,18,20,22,24]
[null,"PLAYER HANDICAP",-2,-10,-14,-17,-18,-19,-19,-19,-19,-19,-19,-19,-19,-19,-19,-19,-19,-19,-19,-19,-19,-19,-19,-19,-19,-19,-19,-19,-19]
[null,null,-1.5,-6,-10,-13,-16,-17,-18,-19,-19,-19,-19,-19,-19,-19,-19,-19,-19,-19,-19,-19,-19,-19,-19,-19,-19,-19,-19,-19,-19]
[null,null,-1,-3,-7,-10,-13,-15,-16,-17,-17,-18,-18,-19,-19,-19,-19,-19,-19,-19,-19,-19,-19,-19,-19,-19,-19,-19,-19,-19,-19]
[null,null,-0.5,-2,-4,-7,-10,-12,-13,-14,-15,-16,-17,-17,-18,-18,-19,-19,-19,-19,-19,-19,-19,-19,-19,-19,-19,-19,-19,-19,-19]
[null,null,0,-1,-3,-5,-8,-10,-11,-12,-13,-14,-15,-16,-17,-17,-18,-18,-19,-19,-19,-19,-19,-19,-19,-19,-19,-19,-19,-19,-19]
[null,null,0.5,-1,-2,-4,-7,-9,-10,-11,-12,-13,-14,-15,-16,-17,-17,-18,-18,-19,-19,-19,-19,-19,-19,-19,-19,-19,-19,-19,-19]
[null,null,1,-1,-2,-3,-6,-8,-9,-10,-11,-12,-13,-14,-15,-16,-17,-17,-18,-18,-19,-19,-19,-19,-19,-19,-19,-19,-19,-19,-19]
[null,null,1.5,-1,-1,-3,-5,-7,-8,-9,-10,-11,-12,-13,-14,-15,-16,-17,-17,-18,-18,-19,-19,-19,-19,-19,-19,-19,-19,-19,-19]
[null,null,2,-1,-1,-2,-4,-6,-7,-8,-9,-10,-11,-12,-13,-14,-15,-16,-17,-17,-18,-18,-19,-19,-19,-19,-19,-19,-19,-19,-19]
[null,null,2.5,-1,-1,-2,-3,-5,-6,-7,-8,-9,-10,-11,-12,-13,-14,-15,-16,-17,-17,-18,-18,-19,-19,-19,-19,-19,-19,-19,-19]
[null,null,3,-1,-1,-1,-3,-4,-5,-6,-7,-8,-9,-10,-11,-12,-13,-14,-15,-16,-17,-17,-18,-18,-19,-19,-19,-19,-19,-19,-19]
[null,null,3.5,-1,-1,-1,-2,-3,-4,-5,-6,-7,-8,-9,-10,-11,-12,-13,-14,-15,-16,-17,-17,-18,-18,-19,-19,-19,-19,-19,-19]
[null,null,4,-1,-1,-1,-2,-3,-3,-4,-5,-6,-7,-8,-9,-10,-11,-12,-13,-14,-15,-16,-17,-17,-18,-18,-19,-19,-19,-19,-19]
[null,null,4.5,-1,-1,-1,-1,-2,-3,-3,-4,-5,-6,-7,-8,-9,-10,-11,-12,-13,-14,-15,-16,-17,-17,-18,-18,-19,-19,-19,-19]
[null,null,5,-1,-1,-1,-1,-2,-2,-3,-3,-4,-5,-6,-7,-8,-9,-10,-11,-12,-13,-14,-15,-16,-17,-17,-18,-18,-19,-19,-19]
[null,null,6,-1,-1,-1,-1,-1,-2,-2,-3,-3,-4,-5,-6,-7,-8,-9,-10,-11,-12,-13,-14,-15,-16,-17,-17,-18,-18,-19,-19]
[null,null,7,-1,-1,-1,-1,-1,-1,-2,-2,-3,-3,-4,-5,-6,-7,-8,-9,-10,-11,-12,-13,-14,-15,-16,-17,-17,-18,-18,-19]
[null,null,8,-1,-1,-1,-1,-1,-1,-1,-2,-2,-3,-3,-4,-5,-6,-7,-8,-9,-10,-11,-12,-13,-14,-15,-16,-17,-17,-18,-18]
[null,null,9,-1,-1,-1,-1,-1,-1,-1,-1,-2,-2,-3,-3,-4,-5,-6,-7,-8,-9,-10,-11,-12,-13,-14,-15,-16,-17,-17,-18]
[null,null,10,-1,-1,-1,-1,-1,-1,-1,-1,-1,-2,-2,-3,-3,-4,-5,-6,-7,-8,-9,-10,-11,-12,-13,-14,-15,-16,-17,-17]
[null,null,11,-1,-1,-1,-1,-1,-1,-1,-1,-1,-1,-2,-2,-3,-3,-4,-5,-6,-7,-8,-9,-10,-11,-12,-13,-14,-15,-16,-17]
[null,null,12,-1,-1,-1,-1,-1,-1,-1,-1,-1,-1,-1,-2,-2,-3,-3,-4,-5,-6,-7,-8,-9,-10,-11,-12,-13,-14,-15,-16]
[null,null,14,-1,-1,-1,-1,-1,-1,-1,-1,-1,-1,-1,-1,-2,-2,-3,-3,-4,-5,-6,-7,-8,-9,-10,-11,-12,-13,-14,-15]
[null,null,16,-1,-1,-1,-1,-1,-1,-1,-1,-1,-1,-1,-1,-1,-2,-2,-3,-3,-4,-5,-6,-7,-8,-9,-10,-11,-12,-13,-14]
[null,null,18,-1,-1,-1,-1,-1,-1,-1,-1,-1,-1,-1,-1,-1,-1,-2,-2,-3,-3,-4,-5,-6,-7,-8,-9,-10,-11,-12,-13]
[null,null,20,-1,-1,-1,-1,-1,-1,-1,-1,-1,-1,-1,-1,-1,-1,-1,-2,-2,-3,-3,-4,-5,-6,-7,-8,-9,-10,-11,-12]
[null,null,22,-1,-1,-1,-1,-1,-1,-1,-1,-1,-1,-1,-1,-1,-1,-1,-1,-2,-2,-3,-3,-4,-5,-6,-7,-8,-9,-10,-11]
[null,null,24,-1,-1,-1,-1,-1,-1,-1,-1,-1,-1,-1,-1,-1,-1,-1,-1,-1,-2,-2,-3,-3,-4,-5,-6,-7,-8,-9,-10]