{"text_format":"1","workbook":"xlsx","n_sheets":21,"sheets":["MENU","ABOUT","NAMES","SEED","GAMES","RESULTS","RESULTS DATA","SCORES","BLOCK","SCORECARD","PLAYER","WORLD RANKING RESULTS","HANDICAP CARD","AHS1","HANDICAPS","PUBLISHING","MISC","BLOCK SCHEDULE","SCHEDULE","WAIT","TABLE"],"not_rendered":{"charts":0,"images":20,"macros":1,"external_links":0,"defined_names":658,"comments":0,"pivot_tables":0},"unopened":[],"bounds":{"document_bytes":16777216,"sheet_cells":100000,"rows_first":2000,"rows_last":500,"rows_between":2000,"halvings":0,"cell_chars":16384,"cell_head_chars":4096},"cells_cut":0,"cells_raw":0,"read":"whole","date_system":"1900"}

{"sheet":"MENU","index":0,"n_rows":163,"n_cols":14,"rows_kept":163,"cut":false,"hidden":false,"merged":[[41,2,41,12]]}
[]
[]
[]
[]
[]
[]
[]
[]
[]
[]
[]
[]
[]
[]
[]
[]
[]
[]
[]
[]
[]
[]
[]
[]
[]
[]
[]
[]
[]
[]
[]
[]
[]
[]
[]
[]
[null,null,null,null,null,null,"`"]
[]
[]
[]
[]
[null,null,"© Roger Buddle"]
[]
[]
[]
[]
[]
[]
[]
[]
[]
[]
[]
[]
[]
[]
[]
[]
[]
[]
[]
[]
[]
[]
[]
[]
[]
[]
[]
[]
[]
[]
[]
[]
[]
[]
[]
[]
[]
[]
[]
[]
[]
[]
[]
[]
[]
[]
[]
[]
[]
[]
[]
[]
[]
[]
[]
[]
[]
[]
[]
[]
[]
[]
[]
[]
[]
[]
[]
[]
[]
[]
[]
[]
[]
[]
[]
[]
[]
[]
[]
[]
[]
[]
[]
[]
[]
[]
[]
[]
[]
[]
[]
[]
[]
[]
[]
[]
[]
[]
[]
[]
[]
[]
[]
[]
[]
[]
[]
[]
[]
[]
[]
[]
[]
[]
[]
[]
[]
[]
[]
[]
[null,null,null,null,null,null,null,null,null,null,null,null,null," "]

{"sheet":"ABOUT","index":1,"n_rows":0,"n_cols":0,"rows_kept":0,"cut":false,"hidden":false,"merged":[]}

{"sheet":"NAMES","index":2,"n_rows":227,"n_cols":17,"rows_kept":227,"cut":false,"hidden":true,"merged":[]}
[]
[]
[]
[null,null,null,"<- For Handicap play insert an X here"]
[]
[null,null,null,"<- For doubles insert an X here",null,null,null,null,null,null,null,null,null,null,"TEST DATA",null,"BLANK DATA"]
[]
["TOURNAMENT NAME",null,"TOURNAMENT","<- Enter tournament name",null,null,null,null,null,null,null,null,null,null,"TOURNAMENT",null,"TOURNAMENT"]
["GROUP NAME",null,"GROUP","<- Enter name of Group (eg SINGLES)",null,null,null,null,null,null,null,null,null,null,"GROUP",null,"GROUP"]
["TOURAMENT DATE",null,"DATE",null,null,null,null,null,null,null,null,null,null,null,"DATE",null,"DATE"]
["BLOCK 1 NAME",null,"BLOCK 1","<- Enter name of Block",null,null,null,null,null,null,null,null,null,null,"BLOCK 1",null,"BLOCK 1"]
["SEED 1 - First Name",null,"Block 1",null,null,null,null,null,null,null,null,null,null,null,"Block 1",null,"Block 1"]
["Last Name",null,"Player 1",null,null,null,null,null,null,null,null,null,null,null,"Player 1",null,"Player 1"]
["ID Number"]
["Handicap",null,null,null,null,null,null,null,null,null,null,null,null,null,0]
["Index",null,null,null,null,null,null,null,null,null,null,null,null,null,1951]
["SEED 2 - First Name",null,"Block 1",null,null,null,null,null,null,null,null,null,null,null,"Block 1",null,"Block 1"]
["Last Name",null,"Player 2",null,null,null,null,null,null,null,null,null,null,null,"Player 2",null,"Player 2"]
["ID Number"]
["Handicap",null,null,null,"Notes entered below will appear at the bottom of each player's sheet.",null,null,null,null,null,null,null,null,null,1]
["Index",null,null,null,null,null,null,null,null,null,null,null,null,null,1949]
["SEED 3 - First Name",null,"Block 1","Note 1->","Time limit 2.5 hours, Turn After Bell (61.1.6). Quadway hoops (3 11/16\"), Dawson International balls",null,null,null,null,null,null,null,null,null,"Block 1",null,"Block 1"]
["Last Name",null,"Player 3","Note 2->","Games may start early. Please be at the venue at least 30 minutes earlier than the scheduled start time.",null,null,null,null,null,null,null,null,null,"Player 3",null,"Player 3"]
["ID Number",null,null,"Note 3->","Entry Fee $40 will be invoiced by email. Please pay by EFT using the invoice No. as reference."]
["Handicap",null,null,"Note 4->","Players please assist with setting and clearing courts.",null,null,null,null,null,null,null,null,null,2]
["Index",null,null,null,null,null,null,null,null,null,null,null,null,null,1849]
["SEED 4 - First Name",null,"Block 1",null,"To hide the notes use spaces not deletes. A delete shows as a \"0\".",null,null,null,null,null,null,null,null,null,"Block 1",null,"Block 1"]
["Last Name",null,"Player 4",null,null,null,null,null,null,null,null,null,null,null,"Player 4",null,"Player 4"]
["ID Number"]
["Handicap",null,null,null,null,null,null,null,null,null,null,null,null,null,3]
["Index",null,null,null,null,null,null,null,null,null,null,null,null,null,1749]
["BLOCK 2 NAME",null,"BLOCK 2","<- Enter name of Block",null,null,null,null,null,null,null,null,null,null,"BLOCK 2",null,"BLOCK 2"]
["SEED 1 - First Name",null,"Block 2",null,null,null,null,null,null,null,null,null,null,null,"Block 2",null,"Block 2"]
["Last Name",null,"Player 1",null,null,null,null,null,null,null,null,null,null,null,"Player 1",null,"Player 1"]
["ID Number"]
["Handicap",null,null,null,null,null,null,null,null,null,null,null,null,null,0]
["Index",null,null,null,null,null,null,null,null,null,null,null,null,null,1951]
["SEED 2 - First Name",null,"Block 2",null,null,null,null,null,null,null,null,null,null,null,"Block 2",null,"Block 2"]
["Last Name",null,"Player 2",null,null,null,null,null,null,null,null,null,null,null,"Player 2",null,"Player 2"]
["ID Number"]
["Handicap",null,null,null,null,null,null,null,null,null,null,null,null,null,1]
["Index",null,null,null,null,null,null,null,null,null,null,null,null,null,1949]
["SEED 3 - First Name",null,"Block 2",null,null,null,null,null,null,null,null,null,null,null,"Block 2",null,"Block 2"]
["Last Name",null,"Player 3",null,null,null,null,null,null,null,null,null,null,null,"Player 3",null,"Player 3"]
["ID Number"]
["Handicap",null,null,null,null,null,null,null,null,null,null,null,null,null,2]
["Index",null,null,null,null,null,null,null,null,null,null,null,null,null,1849]
["SEED 4 - First Name",null,"Block 2",null,null,null,null,null,null,null,null,null,null,null,"Block 2",null,"Block 2"]
["Last Name",null,"Player 4",null,null,null,null,null,null,null,null,null,null,null,"Player 4",null,"Player 4"]
["ID Number"]
["Handicap",null,null,null,null,null,"`",null,null,null,null,null,null,null,3]
["Index",null,null,null,null,null,null,null,null,null,null,null,null,null,1749]
["BLOCK 3 NAME",null,"BLOCK 3","<- Enter name of Block",null,null,null,null,null,null,null,null,null,null,"BLOCK 3",null,"BLOCK 3"]
["SEED 1 - First Name",null,"Block 3",null,null,null,null,null,null,null,null,null,null,null,"Block 3",null,"Block 3"]
["Last Name",null,"Player 1",null,null,null,null,null,null,null,null,null,null,null,"Player 1",null,"Player 1"]
["ID Number"]
["Handicap",null,null,null,null,null,null,null,null,null,null,null,null,null,0]
["Index",null,null,null,null,null,null,null,null,null,null,null,null,null,1951]
["SEED 2 - First Name",null,"Block 3",null,null,null,null,null,null,null,null,null,null,null,"Block 3",null,"Block 3"]
["Last Name",null,"Player 2",null,null,null,null,null,null,null,null,null,null,null,"Player 2",null,"Player 2"]
["ID Number"]
["Handicap",null,null,null,null,null,null,null,null,null,null,null,null,null,1]
["Index",null,null,null,null,null,null,null,null,null,null,null,null,null,1949]
["SEED 3 - First Name",null,"Block 3",null,null,null,null,null,null,null,null,null,null,null,"Block 3",null,"Block 3"]
["Last Name",null,"Player 3",null,null,null,null,null,null,null,null,null,null,null,"Player 3",null,"Player 3"]
["ID Number"]
["Handicap",null,null,null,null,null,null,null,null,null,null,null,null,null,2]
["Index",null,null,null,null,null,null,null,null,null,null,null,null,null,1849]
["SEED 4 - First Name",null,"Block 3",null,null,null,null,null,null,null,null,null,null,null,"Block 3",null,"Block 3"]
["Last Name",null,"Player 4",null,null,null,null,null,null,null,null,null,null,null,"Player 4",null,"Player 4"]
["ID Number"]
["Handicap",null,null,null,null,null,null,null,null,null,null,null,null,null,3]
["Index",null,null,null,null,null,null,null,null,null,null,null,null,null,1749]
["BLOCK 4 NAME",null,"BLOCK 4","<- Enter name of Block",null,null,null,null,null,null,null,null,null,null,"BLOCK 4",null,"BLOCK 4"]
["SEED 1 - First Name",null,"Block 4",null,null,null,null,null,null,null,null,null,null,null,"Block 4",null,"Block 4"]
["Last Name",null,"Player 1",null,null,null,null,null,null,null,null,null,null,null,"Player 1",null,"Player 1"]
["ID Number"]
["Handicap",null,null,null,null,null,null,null,null,null,null,null,null,null,0]
["Index",null,null,null,null,null,null,null,null,null,null,null,null,null,1951]
["SEED 2 - First Name",null,"Block 4",null,null,null,null,null,null,null,null,null,null,null,"Block 4",null,"Block 4"]
["Last Name",null,"Player 2",null,null,null,null,null,null,null,null,null,null,null,"Player 2",null,"Player 2"]
["ID Number"]
["Handicap",null,null,null,null,null,null,null,null,null,null,null,null,null,1]
["Index",null,null,null,null,null,null,null,null,null,null,null,null,null,1949]
["SEED 3 - First Name",null,"Block 4",null,null,null,null,null,null,null,null,null,null,null,"Block 4",null,"Block 4"]
["Last Name",null,"Player 3",null,null,null,null,null,null,null,null,null,null,null,"Player 3",null,"Player 3"]
["ID Number"]
["Handicap",null,null,null,null,null,null,null,null,null,null,null,null,null,2]
["Index",null,null,null,null,null,null,null,null,null,null,null,null,null,1849]
["SEED 4 - First Name",null,"Block 4",null,null,null,null,null,null,null,null,null,null,null,"Block 4",null,"Block 4"]
["Last Name",null,"Player 4",null,null,null,null,null,null,null,null,null,null,null,"Player 4",null,"Player 4"]
["ID Number"]
["Handicap",null,null,null,null,null,null,null,null,null,null,null,null,null,3]
["Index",null,null,null,null,null,null,null,null,null,null,null,null,null,1749]
["BLOCK 5 NAME",null,"BLOCK 5","<- Enter name of Block",null,null,null,null,null,null,null,null,null,null,"BLOCK 5",null,"BLOCK 5"]
["SEED 1 - First Name",null,"Block 5",null,null,null,null,null,null,null,null,null,null,null,"Block 5",null,"Block 5"]
["Last Name",null,"Player 1",null,null,null,null,null,null,null,null,null,null,null,"Player 1",null,"Player 1"]
["ID Number"]
["Handicap",null,null,null,null,null,null,null,null,null,null,null,null,null,0]
["Index",null,null,null,null,null,null,null,null,null,null,null,null,null,1951]
["SEED 2 - First Name",null,"Block 5",null,null,null,null,null,null,null,null,null,null,null,"Block 5",null,"Block 5"]
["Last Name",null,"Player 2",null,null,null,null,null,null,null,null,null,null,null,"Player 2",null,"Player 2"]
["ID Number"]
["Handicap",null,null,null,null,null,null,null,null,null,null,null,null,null,1]
["Index",null,null,null,null,null,null,null,null,null,null,null,null,null,1949]
["SEED 3 - First Name",null,"Block 5",null,null,null,null,null,null,null,null,null,null,null,"Block 5",null,"Block 5"]
["Last Name",null,"Player 3",null,null,null,null,null,null,null,null,null,null,null,"Player 3",null,"Player 3"]
["ID Number"]
["Handicap",null,null,null,null,null,null,null,null,null,null,null,null,null,2]
["Index",null,null,null,null,null,null,null,null,null,null,null,null,null,1849]
["SEED 4 - First Name",null,"Block 5",null,null,null,null,null,null,null,null,null,null,null,"Block 5",null,"Block 5"]
["Last Name",null,"Player 4",null,null,null,null,null,null,null,null,null,null,null,"Player 4",null,"Player 4"]
["ID Number"]
["Handicap",null,null,null,null,null,null,null,null,null,null,null,null,null,3]
["Index",null,null,null,null,null,null,null,null,null,null,null,null,null,1749]
["BLOCK 6 NAME",null,"BLOCK 6","<- Enter name of Block",null,null,null,null,null,null,null,null,null,null,"BLOCK 6",null,"BLOCK 6"]
["SEED 1 - First Name",null,"Block 6",null,null,null,null,null,null,null,null,null,null,null,"Block 6",null,"Block 6"]
["Last Name",null,"Player 1",null,null,null,null,null,null,null,null,null,null,null,"Player 1",null,"Player 1"]
["ID Number"]
["Handicap",null,null,null,null,null,null,null,null,null,null,null,null,null,0]
["Index",null,null,null,null,null,null,null,null,null,null,null,null,null,1951]
["SEED 2 - First Name",null,"Block 6",null,null,null,null,null,null,null,null,null,null,null,"Block 6",null,"Block 6"]
["Last Name",null,"Player 2",null,null,null,null,null,null,null,null,null,null,null,"Player 2",null,"Player 2"]
["ID Number"]
["Handicap",null,null,null,null,null,null,null,null,null,null,null,null,null,1]
["Index",null,null,null,null,null,null,null,null,null,null,null,null,null,1949]
["SEED 3 - First Name",null,"Block 6",null,null,null,null,null,null,null,null,null,null,null,"Block 6",null,"Block 6"]
["Last Name",null,"Player 3",null,null,null,null,null,null,null,null,null,null,null,"Player 3",null,"Player 3"]
["ID Number"]
["Handicap",null,null,null,null,null,null,null,null,null,null,null,null,null,2]
["Index",null,null,null,null,null,null,null,null,null,null,null,null,null,1849]
["SEED 4 - First Name",null,"Block 6",null,null,null,null,null,null,null,null,null,null,null,"Block 6",null,"Block 6"]
["Last Name",null,"Player 4",null,null,null,null,null,null,null,null,null,null,null,"Player 4",null,"Player 4"]
["ID Number"]
["Handicap",null,null,null,null,null,null,null,null,null,null,null,null,null,3]
["Index",null,null,null,null,null,null,null,null,null,null,null,null,null,1749]
["BLOCK 7 NAME",null,"BLOCK 7","<- Enter name of Block",null,null,null,null,null,null,null,null,null,null,"BLOCK 7",null,"BLOCK 7"]
["SEED 1 - First Name",null,"Block 7",null,null,null,null,null,null,null,null,null,null,null,"Block 7",null,"Block 7"]
["Last Name",null,"Player 1",null,null,null,null,null,null,null,null,null,null,null,"Player 1",null,"Player 1"]
["ID Number"]
["Handicap",null,null,null,null,null,null,null,null,null,null,null,null,null,0]
["Index",null,null,null,null,null,null,null,null,null,null,null,null,null,1951]
["SEED 2 - First Name",null,"Block 7",null,null,null,null,null,null,null,null,null,null,null,"Block 7",null,"Block 7"]
["Last Name",null,"Player 2",null,null,null,null,null,null,null,null,null,null,null,"Player 2",null,"Player 2"]
["ID Number"]
["Handicap",null,null,null,null,null,null,null,null,null,null,null,null,null,1]
["Index",null,null,null,null,null,null,null,null,null,null,null,null,null,1949]
["SEED 3 - First Name",null,"Block 7",null,null,null,null,null,null,null,null,null,null,null,"Block 7",null,"Block 7"]
["Last Name",null,"Player 3",null,null,null,null,null,null,null,null,null,null,null,"Player 3",null,"Player 3"]
["ID Number"]
["Handicap",null,null,null,null,null,null,null,null,null,null,null,null,null,2]
["Index",null,null,null,null,null,null,null,null,null,null,null,null,null,1849]
["SEED 4 - First Name",null,"Block 7",null,null,null,null,null,null,null,null,null,null,null,"Block 7",null,"Block 7"]
["Last Name",null,"Player 4",null,null,null,null,null,null,null,null,null,null,null,"Player 4",null,"Player 4"]
["ID Number"]
["Handicap",null,null,null,null,null,null,null,null,null,null,null,null,null,3]
["Index",null,null,null,null,null,null,null,null,null,null,null,null,null,1749]
["BLOCK 8 NAME",null,"BLOCK 8","<- Enter name of Block",null,null,null,null,null,null,null,null,null,null,"BLOCK 8",null,"BLOCK 8"]
["SEED 1 - First Name",null,"Block 8",null,null,null,null,null,null,null,null,null,null,null,"Block 8",null,"Block 8"]
["Last Name",null,"Player 1",null,null,null,null,null,null,null,null,null,null,null,"Player 1",null,"Player 1"]
["ID Number"]
["Handicap",null,null,null,null,null,null,null,null,null,null,null,null,null,0]
["Index",null,null,null,null,null,null,null,null,null,null,null,null,null,1951]
["SEED 2 - First Name",null,"Block 8",null,null,null,null,null,null,null,null,null,null,null,"Block 8",null,"Block 8"]
["Last Name",null,"Player 2",null,null,null,null,null,null,null,null,null,null,null,"Player 2",null,"Player 2"]
["ID Number"]
["Handicap",null,null,null,null,null,null,null,null,null,null,null,null,null,1]
["Index",null,null,null,null,null,null,null,null,null,null,null,null,null,1949]
["SEED 3 - First Name",null,"Block 8",null,null,null,null,null,null,null,null,null,null,null,"Block 8",null,"Block 8"]
["Last Name",null,"Player 3",null,null,null,null,null,null,null,null,null,null,null,"Player 3",null,"Player 3"]
["ID Number"]
["Handicap",null,null,null,null,null,null,null,null,null,null,null,null,null,2]
["Index",null,null,null,null,null,null,null,null,null,null,null,null,null,1849]
["SEED 4 - First Name",null,"Block 8",null,null,null,null,null,null,null,null,null,null,null,"Block 8",null,"Block 8"]
["Last Name",null,"Player 4",null,null,null,null,null,null,null,null,null,null,null,"Player 4",null,"Player 4"]
["ID Number"]
["Handicap",null,null,null,null,null,null,null,null,null,null,null,null,null,3]
["Index",null,null,null,null,null,null,null,null,null,null,null,null,null,1749]
["BLOCK 9 NAME",null,"BLOCK 9","<- Enter name of Block",null,null,null,null,null,null,null,null,null,null,"BLOCK 9",null,"BLOCK 9"]
["SEED 1 - First Name",null,"Block 9",null,null,null,null,null,null,null,null,null,null,null,"Block 9",null,"Block 9"]
["Last Name",null,"Player 1",null,null,null,null,null,null,null,null,null,null,null,"Player 1",null,"Player 1"]
["ID Number"]
["Handicap",null,null,null,null,null,null,null,null,null,null,null,null,null,0]
["Index",null,null,null,null,null,null,null,null,null,null,null,null,null,1951]
["SEED 2 - First Name",null,"Block 9",null,null,null,null,null,null,null,null,null,null,null,"Block 9",null,"Block 9"]
["Last Name",null,"Player 2",null,null,null,null,null,null,null,null,null,null,null,"Player 2",null,"Player 2"]
["ID Number"]
["Handicap",null,null,null,null,null,null,null,null,null,null,null,null,null,1]
["Index",null,null,null,null,null,null,null,null,null,null,null,null,null,1949]
["SEED 3 - First Name",null,"Block 9",null,null,null,null,null,null,null,null,null,null,null,"Block 9",null,"Block 9"]
["Last Name",null,"Player 3",null,null,null,null,null,null,null,null,null,null,null,"Player 3",null,"Player 3"]
["ID Number"]
["Handicap",null,null,null,null,null,null,null,null,null,null,null,null,null,2]
["Index",null,null,null,null,null,null,null,null,null,null,null,null,null,1849]
["SEED 4 - First Name",null,"Block 9",null,null,null,null,null,null,null,null,null,null,null,"Block 9",null,"Block 9"]
["Last Name",null,"Player 4",null,null,null,null,null,null,null,null,null,null,null,"Player 4",null,"Player 4"]
["ID Number"]
["Handicap",null,null,null,null,null,null,null,null,null,null,null,null,null,3]
["Index",null,null,null,null,null,null,null,null,null,null,null,null,null,1749]
[]
[]
[]
[]
[]
[]
[]
[]
[]
[]
[]
[]
[]
[]
[]
[]
[]
[]
[]
[]
[]
[]
[]
[]
[]
[]
[]
[{"$f":"IF(C6=\"x\",\" & \",\" \")","v":" "}]

{"sheet":"SEED","index":3,"n_rows":40,"n_cols":12,"rows_kept":40,"cut":false,"hidden":false,"merged":[]}
[]
[null,null,null,null,null,null,{"$f":"NAMES!C8","v":"TOURNAMENT"}]
[]
[null,null,null,null,null,null,{"$f":"NAMES!C9","v":"GROUP"}]
[]
[null,null,null,{"$f":"NAMES!C11","v":"BLOCK 1"},null,null,null,null,{"$f":"NAMES!C32","v":"BLOCK 2"}]
[null,"ID","INDEX","NAME","H/CAP",null,"ID","INDEX","NAME","H/CAP"]
[null,{"$f":"NAMES!$C$14","v":0},{"$f":"NAMES!$C$16","v":0},{"$f":"\" \"&NAMES!C12&NAMES!$A$227&NAMES!C13","v":" Block 1 Player 1"},{"$f":"NAMES!C15","v":0},null,{"$f":"NAMES!$C$35","v":0},{"$f":"NAMES!$C$37","v":0},{"$f":"\" \"&NAMES!C33&NAMES!$A$227&NAMES!C34","v":" Block 2 Player 1"},{"$f":"NAMES!C36","v":0}]
[null,{"$f":"NAMES!$C$19","v":0},{"$f":"NAMES!$C$21","v":0},{"$f":"\" \"&NAMES!C17&NAMES!$A$227&NAMES!C18","v":" Block 1 Player 2"},{"$f":"NAMES!C20","v":0},null,{"$f":"NAMES!$C$40","v":0},{"$f":"NAMES!$C$42","v":0},{"$f":"\" \"&NAMES!C38&NAMES!$A$227&NAMES!C39","v":" Block 2 Player 2"},{"$f":"NAMES!C41","v":0}]
[null,{"$f":"NAMES!$C$24","v":0},{"$f":"NAMES!$C$26","v":0},{"$f":"\" \"&NAMES!C22&NAMES!$A$227&NAMES!C23","v":" Block 1 Player 3"},{"$f":"NAMES!C25","v":0},null,{"$f":"NAMES!$C$45","v":0},{"$f":"NAMES!$C$47","v":0},{"$f":"\" \"&NAMES!C43&NAMES!$A$227&NAMES!C44","v":" Block 2 Player 3"},{"$f":"NAMES!C46","v":0}]
[null,{"$f":"NAMES!$C$29","v":0},{"$f":"NAMES!$C$31","v":0},{"$f":"\" \"&NAMES!C27&NAMES!$A$227&NAMES!C28","v":" Block 1 Player 4"},{"$f":"NAMES!C30","v":0},null,{"$f":"NAMES!$C$50","v":0},{"$f":"NAMES!$C$52","v":0},{"$f":"\" \"&NAMES!C48&NAMES!$A$227&NAMES!C49","v":" Block 2 Player 4"},{"$f":"NAMES!C51","v":0}]
[null,null,null,"Average Block Handicap",{"$f":"+IF(ISERR(AVERAGE(E8:E11)),\" \",AVERAGE(E8:E11))","v":0},null,null,null,"Average Block Handicap",{"$f":"+IF(ISERR(AVERAGE(J8:J11)),\" \",AVERAGE(J8:J11))","v":0}]
[null,null,null,{"$f":"NAMES!C53","v":"BLOCK 3"},null,null,null,null,{"$f":"NAMES!C74","v":"BLOCK 4"}]
[null,"ID","INDEX","NAME","H/CAP",null,"ID","INDEX","NAME","H/CAP"]
[null,{"$f":"NAMES!$C$56","v":0},{"$f":"NAMES!$C$58","v":0},{"$f":"\" \"&NAMES!C54&NAMES!$A$227&NAMES!C55","v":" Block 3 Player 1"},{"$f":"NAMES!C57","v":0},null,{"$f":"NAMES!$C$77","v":0},{"$f":"NAMES!$C$79","v":0},{"$f":"\" \"&NAMES!C75&NAMES!$A$227&NAMES!C76","v":" Block 4 Player 1"},{"$f":"NAMES!C78","v":0}]
[null,{"$f":"NAMES!$C$61","v":0},{"$f":"NAMES!$C$63","v":0},{"$f":"\" \"&NAMES!C59&NAMES!$A$227&NAMES!C60","v":" Block 3 Player 2"},{"$f":"NAMES!C62","v":0},null,{"$f":"NAMES!$C$82","v":0},{"$f":"NAMES!$C$84","v":0},{"$f":"\" \"&NAMES!C80&NAMES!$A$227&NAMES!C81","v":" Block 4 Player 2"},{"$f":"NAMES!C83","v":0}]
[null,{"$f":"NAMES!$C$66","v":0},{"$f":"NAMES!$C$68","v":0},{"$f":"\" \"&NAMES!C64&NAMES!$A$227&NAMES!C65","v":" Block 3 Player 3"},{"$f":"NAMES!C67","v":0},null,{"$f":"NAMES!$C$87","v":0},{"$f":"NAMES!$C$89","v":0},{"$f":"\" \"&NAMES!C85&NAMES!$A$227&NAMES!C86","v":" Block 4 Player 3"},{"$f":"NAMES!C88","v":0}]
[null,{"$f":"NAMES!$C$71","v":0},{"$f":"NAMES!$C$73","v":0},{"$f":"\" \"&NAMES!C69&NAMES!$A$227&NAMES!C70","v":" Block 3 Player 4"},{"$f":"NAMES!C72","v":0},null,{"$f":"NAMES!$C$92","v":0},{"$f":"NAMES!$C$94","v":0},{"$f":"\" \"&NAMES!C90&NAMES!$A$227&NAMES!C91","v":" Block 4 Player 4"},{"$f":"NAMES!C93","v":0}]
[null,null,null,"Average Block Handicap",{"$f":"+IF(ISERR(AVERAGE(E15:E18)),\" \",AVERAGE(E15:E18))","v":0},null,null,null,"Average Block Handicap",{"$f":"+IF(ISERR(AVERAGE(J15:J18)),\" \",AVERAGE(J15:J18))","v":0}]
[null,null,null,{"$f":"NAMES!C95","v":"BLOCK 5"},null,null,null,null,{"$f":"NAMES!C116","v":"BLOCK 6"}]
[null,"ID","INDEX","NAME","H/CAP",null,"ID","INDEX","NAME","H/CAP"]
[null,{"$f":"NAMES!$C$98","v":0},{"$f":"NAMES!$C$100","v":0},{"$f":"\" \"&NAMES!C96&NAMES!$A$227&NAMES!C97","v":" Block 5 Player 1"},{"$f":"NAMES!C99","v":0},null,{"$f":"NAMES!$C$119","v":0},{"$f":"NAMES!$C$121","v":0},{"$f":"\" \"&NAMES!C117&NAMES!$A$227&NAMES!C118","v":" Block 6 Player 1"},{"$f":"NAMES!C120","v":0}]
[null,{"$f":"NAMES!$C$103","v":0},{"$f":"NAMES!$C$105","v":0},{"$f":"\" \"&NAMES!C101&NAMES!$A$227&NAMES!C102","v":" Block 5 Player 2"},{"$f":"NAMES!C104","v":0},null,{"$f":"NAMES!$C$124","v":0},{"$f":"NAMES!$C$126","v":0},{"$f":"\" \"&NAMES!C122&NAMES!$A$227&NAMES!C123","v":" Block 6 Player 2"},{"$f":"NAMES!C125","v":0}]
[null,{"$f":"NAMES!$C$108","v":0},{"$f":"NAMES!$C$110","v":0},{"$f":"\" \"&NAMES!C106&NAMES!$A$227&NAMES!C107","v":" Block 5 Player 3"},{"$f":"NAMES!C109","v":0},null,{"$f":"NAMES!$C$129","v":0},{"$f":"NAMES!$C$131","v":0},{"$f":"\" \"&NAMES!C127&NAMES!$A$227&NAMES!C128","v":" Block 6 Player 3"},{"$f":"NAMES!C130","v":0}]
[null,{"$f":"NAMES!$C$113","v":0},{"$f":"NAMES!$C$115","v":0},{"$f":"\" \"&NAMES!C111&NAMES!$A$227&NAMES!C112","v":" Block 5 Player 4"},{"$f":"NAMES!C114","v":0},null,{"$f":"NAMES!$C$134","v":0},{"$f":"NAMES!$C$136","v":0},{"$f":"\" \"&NAMES!C132&NAMES!$A$227&NAMES!C133","v":" Block 6 Player 4"},{"$f":"NAMES!C135","v":0}]
[null,null,null,"Average Block Handicap",{"$f":"+IF(ISERR(AVERAGE(E22:E25)),\" \",AVERAGE(E22:E25))","v":0},null,null,null,"Average Block Handicap",{"$f":"+IF(ISERR(AVERAGE(J22:J25)),\" \",AVERAGE(J22:J25))","v":0}]
[null,null,null,{"$f":"NAMES!C137","v":"BLOCK 7"},null,null,null,null,{"$f":"NAMES!C158","v":"BLOCK 8"}]
[null,"ID","INDEX","NAME","H/CAP",null,"ID","INDEX","NAME","H/CAP"]
[null,{"$f":"NAMES!$C$140","v":0},{"$f":"NAMES!$C$142","v":0},{"$f":"\" \"&NAMES!C138&NAMES!$A$227&NAMES!C139","v":" Block 7 Player 1"},{"$f":"NAMES!C141","v":0},null,{"$f":"NAMES!$C$161","v":0},{"$f":"NAMES!$C$163","v":0},{"$f":"\" \"&NAMES!C159&NAMES!$A$227&NAMES!C160","v":" Block 8 Player 1"},{"$f":"NAMES!C162","v":0}]
[null,{"$f":"NAMES!$C$145","v":0},{"$f":"NAMES!$C$147","v":0},{"$f":"\" \"&NAMES!C143&NAMES!$A$227&NAMES!C144","v":" Block 7 Player 2"},{"$f":"NAMES!C146","v":0},null,{"$f":"NAMES!$C$166","v":0},{"$f":"NAMES!$C$168","v":0},{"$f":"\" \"&NAMES!C164&NAMES!$A$227&NAMES!C165","v":" Block 8 Player 2"},{"$f":"NAMES!C167","v":0}]
[null,{"$f":"NAMES!$C$150","v":0},{"$f":"NAMES!$C$152","v":0},{"$f":"\" \"&NAMES!C148&NAMES!$A$227&NAMES!C149","v":" Block 7 Player 3"},{"$f":"NAMES!C151","v":0},null,{"$f":"NAMES!$C$171","v":0},{"$f":"NAMES!$C$173","v":0},{"$f":"\" \"&NAMES!C169&NAMES!$A$227&NAMES!C170","v":" Block 8 Player 3"},{"$f":"NAMES!C172","v":0}]
[null,{"$f":"NAMES!$C$155","v":0},{"$f":"NAMES!$C$157","v":0},{"$f":"\" \"&NAMES!C153&NAMES!$A$227&NAMES!C154","v":" Block 7 Player 4"},{"$f":"NAMES!C156","v":0},null,{"$f":"NAMES!$C$176","v":0},{"$f":"NAMES!$C$178","v":0},{"$f":"\" \"&NAMES!C174&NAMES!$A$227&NAMES!C175","v":" Block 8 Player 4"},{"$f":"NAMES!C177","v":0}]
[null,null,null,"Average Block Handicap",{"$f":"+IF(ISERR(AVERAGE(E29:E32)),\" \",AVERAGE(E29:E32))","v":0},null,null,null,"Average Block Handicap",{"$f":"+IF(ISERR(AVERAGE(J29:J32)),\" \",AVERAGE(J29:J32))","v":0}]
[null,null,null,{"$f":"NAMES!C179","v":"BLOCK 9"},null,null,null,null,{"$f":"NAMES!C200","v":0},null,null,"`"]
[null,"ID","INDEX","NAME","H/CAP"]
[null,{"$f":"NAMES!$C$182","v":0},{"$f":"NAMES!$C$184","v":0},{"$f":"\" \"&NAMES!C180&NAMES!$A$227&NAMES!C181","v":" Block 9 Player 1"},{"$f":"NAMES!C183","v":0}]
[null,{"$f":"NAMES!$C$187","v":0},{"$f":"NAMES!$C$189","v":0},{"$f":"\" \"&NAMES!C185&NAMES!$A$227&NAMES!C186","v":" Block 9 Player 2"},{"$f":"NAMES!C188","v":0}]
[null,{"$f":"NAMES!$C$192","v":0},{"$f":"NAMES!$C$194","v":0},{"$f":"\" \"&NAMES!C190&NAMES!$A$227&NAMES!C191","v":" Block 9 Player 3"},{"$f":"NAMES!C193","v":0}]
[null,{"$f":"NAMES!$C$197","v":0},{"$f":"NAMES!$C$199","v":0},{"$f":"\" \"&NAMES!C195&NAMES!$A$227&NAMES!C196","v":" Block 9 Player 4"},{"$f":"NAMES!C198","v":0}]
[null,null,null,"Average Block Handicap",{"$f":"+IF(ISERR(AVERAGE(E36:E39)),\" \",AVERAGE(E36:E39))","v":0}]

{"sheet":"GAMES","index":4,"n_rows":72,"n_cols":10,"rows_kept":72,"cut":false,"hidden":false,"merged":[]}
[]
[null,"TIME","DAY","COURT",{"$f":"SEED!D6","v":"BLOCK 1"},null,{"$f":"SEED!G4","v":"GROUP"}]
[1,null,null,null,{"$f":"SEED!D8","v":" Block 1 Player 1"},"vs",{"$f":"SEED!D11","v":" Block 1 Player 4"},null,"08:00:00","2014-01-17"]
[2,null,null,null,{"$f":"SEED!D9","v":" Block 1 Player 2"},"vs",{"$f":"SEED!D10","v":" Block 1 Player 3"},null,"08:00:00","2014-01-17"]
[3,null,null,null,{"$f":"SEED!D10","v":" Block 1 Player 3"},"vs",{"$f":"SEED!D8","v":" Block 1 Player 1"},null,"09:00:00","2014-01-17"]
[4,null,null,null,{"$f":"SEED!D11","v":" Block 1 Player 4"},"vs",{"$f":"SEED!D9","v":" Block 1 Player 2"},null,"09:00:00","2014-01-17"]
[5,null,null,null,{"$f":"SEED!D8","v":" Block 1 Player 1"},"vs",{"$f":"SEED!D9","v":" Block 1 Player 2"},null,"10:00:00","2014-01-17"]
[6,null,null,null,{"$f":"SEED!D10","v":" Block 1 Player 3"},"vs",{"$f":"SEED!D11","v":" Block 1 Player 4"},null,"10:00:00","2014-01-17"]
[]
[null,"TIME","DAY","COURT",{"$f":"SEED!I6","v":"BLOCK 2"},null,{"$f":"SEED!G4","v":"GROUP"}]
[7,null,null,null,{"$f":"SEED!I8","v":" Block 2 Player 1"},"vs",{"$f":"SEED!I11","v":" Block 2 Player 4"}]
[8,null,null,null,{"$f":"SEED!I9","v":" Block 2 Player 2"},"vs",{"$f":"SEED!I10","v":" Block 2 Player 3"}]
[9,null,null,null,{"$f":"SEED!I10","v":" Block 2 Player 3"},"vs",{"$f":"SEED!I8","v":" Block 2 Player 1"}]
[10,null,null,null,{"$f":"SEED!I11","v":" Block 2 Player 4"},"vs",{"$f":"SEED!I9","v":" Block 2 Player 2"}]
[11,null,null,null,{"$f":"SEED!I9","v":" Block 2 Player 2"},"vs",{"$f":"SEED!I8","v":" Block 2 Player 1"}]
[12,null,null,null,{"$f":"SEED!I10","v":" Block 2 Player 3"},"vs",{"$f":"SEED!I11","v":" Block 2 Player 4"}]
[]
[null,"TIME","DAY","COURT",{"$f":"SEED!D13","v":"BLOCK 3"},".",{"$f":"SEED!G4","v":"GROUP"}]
[13,null,null,null,{"$f":"SEED!D15","v":" Block 3 Player 1"},"vs",{"$f":"SEED!D18","v":" Block 3 Player 4"}]
[14,null,null,null,{"$f":"SEED!D16","v":" Block 3 Player 2"},"vs",{"$f":"SEED!D17","v":" Block 3 Player 3"}]
[15,null,null,null,{"$f":"SEED!D17","v":" Block 3 Player 3"},"vs",{"$f":"SEED!D15","v":" Block 3 Player 1"}]
[16,null,null,null,{"$f":"SEED!D18","v":" Block 3 Player 4"},"vs",{"$f":"SEED!D16","v":" Block 3 Player 2"}]
[17,null,null,null,{"$f":"SEED!D16","v":" Block 3 Player 2"},"vs",{"$f":"SEED!D15","v":" Block 3 Player 1"}]
[18,null,null,null,{"$f":"SEED!D17","v":" Block 3 Player 3"},"vs",{"$f":"SEED!D18","v":" Block 3 Player 4"}]
[]
[null,"TIME","DAY","COURT",{"$f":"SEED!I13","v":"BLOCK 4"},null,{"$f":"SEED!G4","v":"GROUP"}]
[19,null,null,null,{"$f":"SEED!I15","v":" Block 4 Player 1"},"vs",{"$f":"SEED!I18","v":" Block 4 Player 4"}]
[20,null,null,null,{"$f":"SEED!I16","v":" Block 4 Player 2"},"vs",{"$f":"SEED!I17","v":" Block 4 Player 3"}]
[21,null,null,null,{"$f":"SEED!I17","v":" Block 4 Player 3"},"vs",{"$f":"SEED!I15","v":" Block 4 Player 1"}]
[22,null,null,null,{"$f":"SEED!I18","v":" Block 4 Player 4"},"vs",{"$f":"SEED!I16","v":" Block 4 Player 2"}]
[23,null,null,null,{"$f":"SEED!I16","v":" Block 4 Player 2"},"vs",{"$f":"SEED!I15","v":" Block 4 Player 1"}]
[24,null,null,null,{"$f":"SEED!I17","v":" Block 4 Player 3"},"vs",{"$f":"SEED!I18","v":" Block 4 Player 4"}]
[null,null,null,null,null,null,"`"]
[null,"TIME","DAY","COURT",{"$f":"SEED!D20","v":"BLOCK 5"},null,{"$f":"SEED!G4","v":"GROUP"}]
[25,null,null,null,{"$f":"SEED!D22","v":" Block 5 Player 1"},"vs",{"$f":"SEED!D25","v":" Block 5 Player 4"}]
[26,null,null,null,{"$f":"SEED!D23","v":" Block 5 Player 2"},"vs",{"$f":"SEED!D24","v":" Block 5 Player 3"}]
[27,null,null,null,{"$f":"SEED!D24","v":" Block 5 Player 3"},"vs",{"$f":"SEED!D22","v":" Block 5 Player 1"}]
[28,null,null,null,{"$f":"SEED!D25","v":" Block 5 Player 4"},"vs",{"$f":"SEED!D23","v":" Block 5 Player 2"}]
[29,null,null,null,{"$f":"SEED!D23","v":" Block 5 Player 2"},"vs",{"$f":"SEED!D22","v":" Block 5 Player 1"}]
[30,null,null,null,{"$f":"SEED!D24","v":" Block 5 Player 3"},"vs",{"$f":"SEED!D25","v":" Block 5 Player 4"}]
[]
[null,"TIME","DAY","COURT",{"$f":"SEED!I20","v":"BLOCK 6"},null,{"$f":"SEED!G4","v":"GROUP"}]
[31,null,null,null,{"$f":"SEED!I22","v":" Block 6 Player 1"},"vs",{"$f":"SEED!I25","v":" Block 6 Player 4"}]
[32,null,null,null,{"$f":"SEED!I23","v":" Block 6 Player 2"},"vs",{"$f":"SEED!I24","v":" Block 6 Player 3"}]
[33,null,null,null,{"$f":"SEED!I24","v":" Block 6 Player 3"},"vs",{"$f":"SEED!I22","v":" Block 6 Player 1"}]
[34,null,null,null,{"$f":"SEED!I25","v":" Block 6 Player 4"},"vs",{"$f":"SEED!I23","v":" Block 6 Player 2"}]
[35,null,null,null,{"$f":"SEED!I23","v":" Block 6 Player 2"},"vs",{"$f":"SEED!I22","v":" Block 6 Player 1"}]
[36,null,null,null,{"$f":"SEED!I24","v":" Block 6 Player 3"},"vs",{"$f":"SEED!I25","v":" Block 6 Player 4"}]
[]
[null,"TIME","DAY","COURT",{"$f":"SEED!D27","v":"BLOCK 7"},null,{"$f":"SEED!G4","v":"GROUP"}]
[37,null,null,null,{"$f":"SEED!D29","v":" Block 7 Player 1"},"vs",{"$f":"SEED!D32","v":" Block 7 Player 4"}]
[38,null,null,null,{"$f":"SEED!D30","v":" Block 7 Player 2"},"vs",{"$f":"SEED!D31","v":" Block 7 Player 3"}]
[39,null,null,null,{"$f":"SEED!D31","v":" Block 7 Player 3"},"vs",{"$f":"SEED!D29","v":" Block 7 Player 1"}]
[40,null,null,null,{"$f":"SEED!D32","v":" Block 7 Player 4"},"vs",{"$f":"SEED!D30","v":" Block 7 Player 2"}]
[41,null,null,null,{"$f":"SEED!D30","v":" Block 7 Player 2"},"vs",{"$f":"SEED!D29","v":" Block 7 Player 1"}]
[42,null,null,null,{"$f":"SEED!D31","v":" Block 7 Player 3"},"vs",{"$f":"SEED!D32","v":" Block 7 Player 4"}]
[]
[null,"TIME","DAY","COURT",{"$f":"SEED!I27","v":"BLOCK 8"},null,{"$f":"SEED!G4","v":"GROUP"}]
[43,null,null,null,{"$f":"SEED!I29","v":" Block 8 Player 1"},"vs",{"$f":"SEED!I32","v":" Block 8 Player 4"}]
[44,null,null,null,{"$f":"SEED!I30","v":" Block 8 Player 2"},"vs",{"$f":"SEED!I31","v":" Block 8 Player 3"}]
[45,null,null,null,{"$f":"SEED!I31","v":" Block 8 Player 3"},"vs",{"$f":"SEED!I29","v":" Block 8 Player 1"}]
[46,null,null,null,{"$f":"SEED!I32","v":" Block 8 Player 4"},"vs",{"$f":"SEED!I30","v":" Block 8 Player 2"}]
[47,null,null,null,{"$f":"SEED!I30","v":" Block 8 Player 2"},"vs",{"$f":"SEED!I29","v":" Block 8 Player 1"}]
[48,null,null,null,{"$f":"SEED!I31","v":" Block 8 Player 3"},"vs",{"$f":"SEED!I32","v":" Block 8 Player 4"}]
[]
[null,"TIME","DAY","COURT",{"$f":"SEED!D34","v":"BLOCK 9"},null,{"$f":"SEED!G4","v":"GROUP"}]
[49,null,null,null,{"$f":"SEED!D36","v":" Block 9 Player 1"},"vs",{"$f":"SEED!D39","v":" Block 9 Player 4"}]
[50,null,null,null,{"$f":"SEED!D37","v":" Block 9 Player 2"},"vs",{"$f":"SEED!D38","v":" Block 9 Player 3"}]
[51,null,null,null,{"$f":"SEED!D38","v":" Block 9 Player 3"},"vs",{"$f":"SEED!D36","v":" Block 9 Player 1"}]
[52,null,null,null,{"$f":"SEED!D39","v":" Block 9 Player 4"},"vs",{"$f":"SEED!D37","v":" Block 9 Player 2"}]
[53,null,null,null,{"$f":"SEED!D37","v":" Block 9 Player 2"},"vs",{"$f":"SEED!D36","v":" Block 9 Player 1"}]
[54,null,null,null,{"$f":"SEED!D38","v":" Block 9 Player 3"},"vs",{"$f":"SEED!D39","v":" Block 9 Player 4"}]

{"sheet":"RESULTS","index":5,"n_rows":145,"n_cols":9,"rows_kept":145,"cut":false,"hidden":true,"merged":[]}
[]
[]
[]
[]
[null,{"$f":"GAMES!$G$2","v":"GROUP"},null,{"$f":"GAMES!E2","v":"BLOCK 1"}]
[null,null,{"$f":"GAMES!E3","v":" Block 1 Player 1"},{"$f":"'RESULTS DATA'!D4","v":-1E-3},{"$f":"'RESULTS DATA'!E4","v":-1E-3},null,null,"Peel LU Table"]
[null,null,{"$f":"GAMES!G3","v":" Block 1 Player 4"},{"$f":"'RESULTS DATA'!D5","v":-1E-3},{"$f":"'RESULTS DATA'!E5","v":-1E-3},null,null,"tp"]
[null,null,{"$f":"GAMES!E4","v":" Block 1 Player 2"},{"$f":"'RESULTS DATA'!D6","v":-1E-3},{"$f":"'RESULTS DATA'!E6","v":-1E-3},null,null,"stp"]
[null,null,{"$f":"GAMES!G4","v":" Block 1 Player 3"},{"$f":"'RESULTS DATA'!D7","v":-1E-3},{"$f":"'RESULTS DATA'!E7","v":-1E-3},null,null,"stop"]
[null,null,{"$f":"GAMES!E5","v":" Block 1 Player 3"},{"$f":"'RESULTS DATA'!D8","v":-1E-3},{"$f":"'RESULTS DATA'!E8","v":-1E-3},null,null,"tpo"]
[null,null,{"$f":"GAMES!G5","v":" Block 1 Player 1"},{"$f":"'RESULTS DATA'!D9","v":-1E-3},{"$f":"'RESULTS DATA'!E9","v":-1E-3},null,null,"otp"]
[null,null,{"$f":"GAMES!E6","v":" Block 1 Player 4"},{"$f":"'RESULTS DATA'!D10","v":-1E-3},{"$f":"'RESULTS DATA'!E10","v":-1E-3},null,null,"oqp"]
[null,null,{"$f":"GAMES!G6","v":" Block 1 Player 2"},{"$f":"'RESULTS DATA'!D11","v":-1E-3},{"$f":"'RESULTS DATA'!E11","v":-1E-3},null,null,"qp"]
[null,null,{"$f":"GAMES!G7","v":" Block 1 Player 2"},{"$f":"'RESULTS DATA'!D12","v":-1E-3},{"$f":"'RESULTS DATA'!E12","v":-1E-3},null,null,"qpo"]
[null,null,{"$f":"GAMES!E7","v":" Block 1 Player 1"},{"$f":"'RESULTS DATA'!D13","v":-1E-3},{"$f":"'RESULTS DATA'!E13","v":-1E-3},null,null,"sqp"]
[null,null,{"$f":"GAMES!E8","v":" Block 1 Player 3"},{"$f":"'RESULTS DATA'!D14","v":-1E-3},{"$f":"'RESULTS DATA'!E14","v":-1E-3},null,null,"oqnp"]
[null,null,{"$f":"GAMES!G8","v":" Block 1 Player 4"},{"$f":"'RESULTS DATA'!D15","v":-1E-3},{"$f":"'RESULTS DATA'!E15","v":-1E-3},null,null,"qnp"]
[null,null,null,null,null,null,null,"qnpo"]
[null,null,null,null,null,null,null,"osxp"]
[null,null,null,null,null,null,null,"sxp"]
[null,{"$f":"GAMES!G10","v":"GROUP"},null,{"$f":"GAMES!E10","v":"BLOCK 2"},null,null,null,"ssxp"]
[null,null,{"$f":"GAMES!E11","v":" Block 2 Player 1"},{"$f":"'RESULTS DATA'!H4","v":-1E-3},{"$f":"'RESULTS DATA'!I4","v":-1E-3},null,null,"sxpo"]
[null,null,{"$f":"GAMES!G11","v":" Block 2 Player 4"},{"$f":"'RESULTS DATA'!H5","v":-1E-3},{"$f":"'RESULTS DATA'!I5","v":-1E-3},null,null,"spp"]
[null,null,{"$f":"GAMES!E12","v":" Block 2 Player 2"},{"$f":"'RESULTS DATA'!H6","v":-1E-3},{"$f":"'RESULTS DATA'!I6","v":-1E-3},null,null,"octp"]
[null,null,{"$f":"GAMES!G12","v":" Block 2 Player 3"},{"$f":"'RESULTS DATA'!H7","v":-1E-3},{"$f":"'RESULTS DATA'!I7","v":-1E-3},null,null,"nnp"]
[null,null,{"$f":"GAMES!E13","v":" Block 2 Player 3"},{"$f":"'RESULTS DATA'!H8","v":-1E-3},{"$f":"'RESULTS DATA'!I8","v":-1E-3},null,null,"dcp"]
[null,null,{"$f":"GAMES!G13","v":" Block 2 Player 1"},{"$f":"'RESULTS DATA'!H9","v":-1E-3},{"$f":"'RESULTS DATA'!I9","v":-1E-3}]
[null,null,{"$f":"GAMES!E14","v":" Block 2 Player 4"},{"$f":"'RESULTS DATA'!H10","v":-1E-3},{"$f":"'RESULTS DATA'!I10","v":-1E-3},null,"FirstTime","YES"]
[null,null,{"$f":"GAMES!G14","v":" Block 2 Player 2"},{"$f":"'RESULTS DATA'!H11","v":-1E-3},{"$f":"'RESULTS DATA'!I11","v":-1E-3},null,"NumberOfBlocks",9]
[null,null,{"$f":"GAMES!E15","v":" Block 2 Player 2"},{"$f":"'RESULTS DATA'!H12","v":-1E-3},{"$f":"'RESULTS DATA'!I12","v":-1E-3},null,"ThisFileName"]
[null,null,{"$f":"GAMES!G15","v":" Block 2 Player 1"},{"$f":"'RESULTS DATA'!H13","v":-1E-3},{"$f":"'RESULTS DATA'!I13","v":-1E-3}]
[null,null,{"$f":"GAMES!E16","v":" Block 2 Player 3"},{"$f":"'RESULTS DATA'!H14","v":-1E-3},{"$f":"'RESULTS DATA'!I14","v":-1E-3}]
[null,null,{"$f":"GAMES!G16","v":" Block 2 Player 4"},{"$f":"'RESULTS DATA'!H15","v":-1E-3},{"$f":"'RESULTS DATA'!I15","v":-1E-3}]
[]
[]
[]
[null,{"$f":"GAMES!G18","v":"GROUP"},null,{"$f":"GAMES!E18","v":"BLOCK 3"}]
[null,null,{"$f":"GAMES!E19","v":" Block 3 Player 1"},{"$f":"'RESULTS DATA'!L4","v":-1E-3},{"$f":"'RESULTS DATA'!M4","v":-1E-3},null,null,null,"`"]
[null,null,{"$f":"GAMES!G19","v":" Block 3 Player 4"},{"$f":"'RESULTS DATA'!L5","v":-1E-3},{"$f":"'RESULTS DATA'!M5","v":-1E-3}]
[null,null,{"$f":"GAMES!G22","v":" Block 3 Player 2"},{"$f":"'RESULTS DATA'!L6","v":-1E-3},{"$f":"'RESULTS DATA'!M6","v":-1E-3}]
[null,null,{"$f":"GAMES!G20","v":" Block 3 Player 3"},{"$f":"'RESULTS DATA'!L7","v":-1E-3},{"$f":"'RESULTS DATA'!M7","v":-1E-3}]
[null,null,{"$f":"GAMES!E21","v":" Block 3 Player 3"},{"$f":"'RESULTS DATA'!L8","v":-1E-3},{"$f":"'RESULTS DATA'!M8","v":-1E-3}]
[null,null,{"$f":"GAMES!G21","v":" Block 3 Player 1"},{"$f":"'RESULTS DATA'!L9","v":-1E-3},{"$f":"'RESULTS DATA'!M9","v":-1E-3}]
[null,null,{"$f":"GAMES!E22","v":" Block 3 Player 4"},{"$f":"'RESULTS DATA'!L10","v":-1E-3},{"$f":"'RESULTS DATA'!M10","v":-1E-3}]
[null,null,{"$f":"GAMES!G22","v":" Block 3 Player 2"},{"$f":"'RESULTS DATA'!L11","v":-1E-3},{"$f":"'RESULTS DATA'!M11","v":-1E-3}]
[null,null,{"$f":"GAMES!E23","v":" Block 3 Player 2"},{"$f":"'RESULTS DATA'!L12","v":-1E-3},{"$f":"'RESULTS DATA'!M12","v":-1E-3}]
[null,null,{"$f":"GAMES!G23","v":" Block 3 Player 1"},{"$f":"'RESULTS DATA'!L13","v":-1E-3},{"$f":"'RESULTS DATA'!M13","v":-1E-3}]
[null,null,{"$f":"GAMES!E24","v":" Block 3 Player 3"},{"$f":"'RESULTS DATA'!L14","v":-1E-3},{"$f":"'RESULTS DATA'!M14","v":-1E-3}]
[null,null,{"$f":"GAMES!G24","v":" Block 3 Player 4"},{"$f":"'RESULTS DATA'!L15","v":-1E-3},{"$f":"'RESULTS DATA'!M15","v":-1E-3}]
[]
[]
[]
[null,{"$f":"GAMES!G26","v":"GROUP"},null,{"$f":"GAMES!E26","v":"BLOCK 4"}]
[null,null,{"$f":"GAMES!E27","v":" Block 4 Player 1"},{"$f":"'RESULTS DATA'!P4","v":-1E-3},{"$f":"'RESULTS DATA'!Q4","v":-1E-3}]
[null,null,{"$f":"GAMES!G27","v":" Block 4 Player 4"},{"$f":"'RESULTS DATA'!P5","v":-1E-3},{"$f":"'RESULTS DATA'!Q5","v":-1E-3}]
[null,null,{"$f":"GAMES!E28","v":" Block 4 Player 2"},{"$f":"'RESULTS DATA'!P6","v":-1E-3},{"$f":"'RESULTS DATA'!Q6","v":-1E-3}]
[null,null,{"$f":"GAMES!G28","v":" Block 4 Player 3"},{"$f":"'RESULTS DATA'!P7","v":-1E-3},{"$f":"'RESULTS DATA'!Q7","v":-1E-3}]
[null,null,{"$f":"GAMES!E29","v":" Block 4 Player 3"},{"$f":"'RESULTS DATA'!P8","v":-1E-3},{"$f":"'RESULTS DATA'!Q8","v":-1E-3}]
[null,null,{"$f":"GAMES!G29","v":" Block 4 Player 1"},{"$f":"'RESULTS DATA'!P9","v":-1E-3},{"$f":"'RESULTS DATA'!Q9","v":-1E-3}]
[null,null,{"$f":"GAMES!E30","v":" Block 4 Player 4"},{"$f":"'RESULTS DATA'!P10","v":-1E-3},{"$f":"'RESULTS DATA'!Q10","v":-1E-3}]
[null,null,{"$f":"GAMES!G30","v":" Block 4 Player 2"},{"$f":"'RESULTS DATA'!P11","v":-1E-3},{"$f":"'RESULTS DATA'!Q11","v":-1E-3}]
[null,null,{"$f":"GAMES!E31","v":" Block 4 Player 2"},{"$f":"'RESULTS DATA'!P12","v":-1E-3},{"$f":"'RESULTS DATA'!Q12","v":-1E-3}]
[null,null,{"$f":"GAMES!G31","v":" Block 4 Player 1"},{"$f":"'RESULTS DATA'!P13","v":-1E-3},{"$f":"'RESULTS DATA'!Q13","v":-1E-3}]
[null,null,{"$f":"GAMES!E32","v":" Block 4 Player 3"},{"$f":"'RESULTS DATA'!P14","v":-1E-3},{"$f":"'RESULTS DATA'!Q14","v":-1E-3}]
[null,null,{"$f":"GAMES!G32","v":" Block 4 Player 4"},{"$f":"'RESULTS DATA'!P15","v":-1E-3},{"$f":"'RESULTS DATA'!Q15","v":-1E-3}]
[]
[]
[]
[null,{"$f":"GAMES!G34","v":"GROUP"},null,{"$f":"GAMES!E34","v":"BLOCK 5"}]
[null,null,{"$f":"GAMES!E35","v":" Block 5 Player 1"},{"$f":"'RESULTS DATA'!T4","v":-1E-3},{"$f":"'RESULTS DATA'!U4","v":-1E-3}]
[null,null,{"$f":"GAMES!G35","v":" Block 5 Player 4"},{"$f":"'RESULTS DATA'!T5","v":-1E-3},{"$f":"'RESULTS DATA'!U5","v":-1E-3}]
[null,null,{"$f":"GAMES!E36","v":" Block 5 Player 2"},{"$f":"'RESULTS DATA'!T6","v":-1E-3},{"$f":"'RESULTS DATA'!U6","v":-1E-3}]
[null,null,{"$f":"GAMES!G36","v":" Block 5 Player 3"},{"$f":"'RESULTS DATA'!T7","v":-1E-3},{"$f":"'RESULTS DATA'!U7","v":-1E-3}]
[null,null,{"$f":"GAMES!E37","v":" Block 5 Player 3"},{"$f":"'RESULTS DATA'!T8","v":-1E-3},{"$f":"'RESULTS DATA'!U8","v":-1E-3}]
[null,null,{"$f":"GAMES!G37","v":" Block 5 Player 1"},{"$f":"'RESULTS DATA'!T9","v":-1E-3},{"$f":"'RESULTS DATA'!U9","v":-1E-3}]
[null,null,{"$f":"GAMES!E38","v":" Block 5 Player 4"},{"$f":"'RESULTS DATA'!T10","v":-1E-3},{"$f":"'RESULTS DATA'!U10","v":-1E-3}]
[null,null,{"$f":"GAMES!G38","v":" Block 5 Player 2"},{"$f":"'RESULTS DATA'!T11","v":-1E-3},{"$f":"'RESULTS DATA'!U11","v":-1E-3}]
[null,null,{"$f":"GAMES!E39","v":" Block 5 Player 2"},{"$f":"'RESULTS DATA'!T12","v":-1E-3},{"$f":"'RESULTS DATA'!U12","v":-1E-3}]
[null,null,{"$f":"GAMES!G39","v":" Block 5 Player 1"},{"$f":"'RESULTS DATA'!T13","v":-1E-3},{"$f":"'RESULTS DATA'!U13","v":-1E-3}]
[null,null,{"$f":"GAMES!E40","v":" Block 5 Player 3"},{"$f":"'RESULTS DATA'!T14","v":-1E-3},{"$f":"'RESULTS DATA'!U14","v":-1E-3}]
[null,null,{"$f":"GAMES!G40","v":" Block 5 Player 4"},{"$f":"'RESULTS DATA'!T15","v":-1E-3},{"$f":"'RESULTS DATA'!U15","v":-1E-3}]
[]
[]
[]
[null,{"$f":"GAMES!G42","v":"GROUP"},null,{"$f":"GAMES!E42","v":"BLOCK 6"}]
[null,null,{"$f":"GAMES!E43","v":" Block 6 Player 1"},{"$f":"'RESULTS DATA'!X4","v":-1E-3},{"$f":"'RESULTS DATA'!Y4","v":-1E-3}]
[null,null,{"$f":"GAMES!G43","v":" Block 6 Player 4"},{"$f":"'RESULTS DATA'!X5","v":-1E-3},{"$f":"'RESULTS DATA'!Y5","v":-1E-3}]
[null,null,{"$f":"GAMES!E44","v":" Block 6 Player 2"},{"$f":"'RESULTS DATA'!X6","v":-1E-3},{"$f":"'RESULTS DATA'!Y6","v":-1E-3}]
[null,null,{"$f":"GAMES!G44","v":" Block 6 Player 3"},{"$f":"'RESULTS DATA'!X7","v":-1E-3},{"$f":"'RESULTS DATA'!Y7","v":-1E-3}]
[null,null,{"$f":"GAMES!E45","v":" Block 6 Player 3"},{"$f":"'RESULTS DATA'!X8","v":-1E-3},{"$f":"'RESULTS DATA'!Y8","v":-1E-3}]
[null,null,{"$f":"GAMES!G45","v":" Block 6 Player 1"},{"$f":"'RESULTS DATA'!X9","v":-1E-3},{"$f":"'RESULTS DATA'!Y9","v":-1E-3}]
[null,null,{"$f":"GAMES!E46","v":" Block 6 Player 4"},{"$f":"'RESULTS DATA'!X10","v":-1E-3},{"$f":"'RESULTS DATA'!Y10","v":-1E-3}]
[null,null,{"$f":"GAMES!G46","v":" Block 6 Player 2"},{"$f":"'RESULTS DATA'!X11","v":-1E-3},{"$f":"'RESULTS DATA'!Y11","v":-1E-3}]
[null,null,{"$f":"GAMES!E47","v":" Block 6 Player 2"},{"$f":"'RESULTS DATA'!X12","v":-1E-3},{"$f":"'RESULTS DATA'!Y12","v":-1E-3}]
[null,null,{"$f":"GAMES!G47","v":" Block 6 Player 1"},{"$f":"'RESULTS DATA'!X13","v":-1E-3},{"$f":"'RESULTS DATA'!Y13","v":-1E-3}]
[null,null,{"$f":"GAMES!E48","v":" Block 6 Player 3"},{"$f":"'RESULTS DATA'!X14","v":-1E-3},{"$f":"'RESULTS DATA'!Y14","v":-1E-3}]
[null,null,{"$f":"GAMES!G48","v":" Block 6 Player 4"},{"$f":"'RESULTS DATA'!X15","v":-1E-3},{"$f":"'RESULTS DATA'!Y15","v":-1E-3}]
[]
[]
[]
[null,{"$f":"GAMES!G50","v":"GROUP"},null,{"$f":"GAMES!E50","v":"BLOCK 7"}]
[null,null,{"$f":"GAMES!E51","v":" Block 7 Player 1"},{"$f":"'RESULTS DATA'!AB4","v":-1E-3},{"$f":"'RESULTS DATA'!AC4","v":-1E-3}]
[null,null,{"$f":"GAMES!G51","v":" Block 7 Player 4"},{"$f":"'RESULTS DATA'!AB5","v":-1E-3},{"$f":"'RESULTS DATA'!AC5","v":-1E-3}]
[null,null,{"$f":"GAMES!E52","v":" Block 7 Player 2"},{"$f":"'RESULTS DATA'!AB6","v":-1E-3},{"$f":"'RESULTS DATA'!AC6","v":-1E-3}]
[null,null,{"$f":"GAMES!G52","v":" Block 7 Player 3"},{"$f":"'RESULTS DATA'!AB7","v":-1E-3},{"$f":"'RESULTS DATA'!AC7","v":-1E-3}]
[null,null,{"$f":"GAMES!E53","v":" Block 7 Player 3"},{"$f":"'RESULTS DATA'!AB8","v":-1E-3},{"$f":"'RESULTS DATA'!AC8","v":-1E-3}]
[null,null,{"$f":"GAMES!G53","v":" Block 7 Player 1"},{"$f":"'RESULTS DATA'!AB9","v":-1E-3},{"$f":"'RESULTS DATA'!AC9","v":-1E-3}]
[null,null,{"$f":"GAMES!E54","v":" Block 7 Player 4"},{"$f":"'RESULTS DATA'!AB10","v":-1E-3},{"$f":"'RESULTS DATA'!AC10","v":-1E-3}]
[null,null,{"$f":"GAMES!G54","v":" Block 7 Player 2"},{"$f":"'RESULTS DATA'!AB11","v":-1E-3},{"$f":"'RESULTS DATA'!AC11","v":-1E-3}]
[null,null,{"$f":"GAMES!E55","v":" Block 7 Player 2"},{"$f":"'RESULTS DATA'!AB12","v":-1E-3},{"$f":"'RESULTS DATA'!AC12","v":-1E-3}]
[null,null,{"$f":"GAMES!G55","v":" Block 7 Player 1"},{"$f":"'RESULTS DATA'!AB13","v":-1E-3},{"$f":"'RESULTS DATA'!AC13","v":-1E-3}]
[null,null,{"$f":"GAMES!E56","v":" Block 7 Player 3"},{"$f":"'RESULTS DATA'!AB14","v":-1E-3},{"$f":"'RESULTS DATA'!AC14","v":-1E-3}]
[null,null,{"$f":"GAMES!G56","v":" Block 7 Player 4"},{"$f":"'RESULTS DATA'!AB15","v":-1E-3},{"$f":"'RESULTS DATA'!AC15","v":-1E-3}]
[]
[]
[]
[null,{"$f":"GAMES!G58","v":"GROUP"},null,{"$f":"GAMES!E58","v":"BLOCK 8"}]
[null,null,{"$f":"GAMES!E59","v":" Block 8 Player 1"},{"$f":"'RESULTS DATA'!AF4","v":-1E-3},{"$f":"'RESULTS DATA'!AG4","v":-1E-3}]
[null,null,{"$f":"GAMES!G59","v":" Block 8 Player 4"},{"$f":"'RESULTS DATA'!AF5","v":-1E-3},{"$f":"'RESULTS DATA'!AG5","v":-1E-3}]
[null,null,{"$f":"GAMES!E60","v":" Block 8 Player 2"},{"$f":"'RESULTS DATA'!AF6","v":-1E-3},{"$f":"'RESULTS DATA'!AG6","v":-1E-3}]
[null,null,{"$f":"GAMES!G60","v":" Block 8 Player 3"},{"$f":"'RESULTS DATA'!AF7","v":-1E-3},{"$f":"'RESULTS DATA'!AG7","v":-1E-3}]
[null,null,{"$f":"GAMES!E61","v":" Block 8 Player 3"},{"$f":"'RESULTS DATA'!AF8","v":-1E-3},{"$f":"'RESULTS DATA'!AG8","v":-1E-3}]
[null,null,{"$f":"GAMES!G61","v":" Block 8 Player 1"},{"$f":"'RESULTS DATA'!AF9","v":-1E-3},{"$f":"'RESULTS DATA'!AG9","v":-1E-3}]
[null,null,{"$f":"GAMES!E62","v":" Block 8 Player 4"},{"$f":"'RESULTS DATA'!AF10","v":-1E-3},{"$f":"'RESULTS DATA'!AG10","v":-1E-3}]
[null,null,{"$f":"GAMES!G62","v":" Block 8 Player 2"},{"$f":"'RESULTS DATA'!AF11","v":-1E-3},{"$f":"'RESULTS DATA'!AG11","v":-1E-3}]
[null,null,{"$f":"GAMES!E63","v":" Block 8 Player 2"},{"$f":"'RESULTS DATA'!AF12","v":-1E-3},{"$f":"'RESULTS DATA'!AG12","v":-1E-3}]
[null,null,{"$f":"GAMES!G63","v":" Block 8 Player 1"},{"$f":"'RESULTS DATA'!AF13","v":-1E-3},{"$f":"'RESULTS DATA'!AG13","v":-1E-3}]
[null,null,{"$f":"GAMES!E64","v":" Block 8 Player 3"},{"$f":"'RESULTS DATA'!AF14","v":-1E-3},{"$f":"'RESULTS DATA'!AG14","v":-1E-3}]
[null,null,{"$f":"GAMES!G64","v":" Block 8 Player 4"},{"$f":"'RESULTS DATA'!AF15","v":-1E-3},{"$f":"'RESULTS DATA'!AG15","v":-1E-3}]
[]
[]
[]
[null,{"$f":"GAMES!G66","v":"GROUP"},null,{"$f":"GAMES!E66","v":"BLOCK 9"}]
[null,null,{"$f":"GAMES!E67","v":" Block 9 Player 1"},{"$f":"'RESULTS DATA'!AJ4","v":-1E-3},{"$f":"'RESULTS DATA'!AK4","v":-1E-3}]
[null,null,{"$f":"GAMES!G67","v":" Block 9 Player 4"},{"$f":"'RESULTS DATA'!AJ5","v":-1E-3},{"$f":"'RESULTS DATA'!AK5","v":-1E-3}]
[null,null,{"$f":"GAMES!E68","v":" Block 9 Player 2"},{"$f":"'RESULTS DATA'!AJ6","v":-1E-3},{"$f":"'RESULTS DATA'!AK6","v":-1E-3}]
[null,null,{"$f":"GAMES!G68","v":" Block 9 Player 3"},{"$f":"'RESULTS DATA'!AJ7","v":-1E-3},{"$f":"'RESULTS DATA'!AK7","v":-1E-3}]
[null,null,{"$f":"GAMES!E69","v":" Block 9 Player 3"},{"$f":"'RESULTS DATA'!AJ8","v":-1E-3},{"$f":"'RESULTS DATA'!AK8","v":-1E-3}]
[null,null,{"$f":"GAMES!G69","v":" Block 9 Player 1"},{"$f":"'RESULTS DATA'!AJ9","v":-1E-3},{"$f":"'RESULTS DATA'!AK9","v":-1E-3}]
[null,null,{"$f":"GAMES!E70","v":" Block 9 Player 4"},{"$f":"'RESULTS DATA'!AJ10","v":-1E-3},{"$f":"'RESULTS DATA'!AK10","v":-1E-3}]
[null,null,{"$f":"GAMES!G70","v":" Block 9 Player 2"},{"$f":"'RESULTS DATA'!AJ11","v":-1E-3},{"$f":"'RESULTS DATA'!AK11","v":-1E-3}]
[null,null,{"$f":"GAMES!E71","v":" Block 9 Player 2"},{"$f":"'RESULTS DATA'!AJ12","v":-1E-3},{"$f":"'RESULTS DATA'!AK12","v":-1E-3}]
[null,null,{"$f":"GAMES!G71","v":" Block 9 Player 1"},{"$f":"'RESULTS DATA'!AJ13","v":-1E-3},{"$f":"'RESULTS DATA'!AK13","v":-1E-3}]
[null,null,{"$f":"GAMES!E72","v":" Block 9 Player 3"},{"$f":"'RESULTS DATA'!AJ14","v":-1E-3},{"$f":"'RESULTS DATA'!AK14","v":-1E-3}]
[null,null,{"$f":"GAMES!G72","v":" Block 9 Player 4"},{"$f":"'RESULTS DATA'!AJ15","v":-1E-3},{"$f":"'RESULTS DATA'!AK15","v":-1E-3}]

{"sheet":"RESULTS DATA","index":6,"n_rows":16,"n_cols":39,"rows_kept":16,"cut":false,"hidden":true,"merged":[[2,37,2,39]]}
[]
[]
[null,"BLOCK 1",null,null,null,"BLOCK 2",null,null,null,"BLOCK 3",null,null,null,"BLOCK 4",null,null,null,"BLOCK 5",null,null,null,"BLOCK 6",null,null,null,"BLOCK 7",null,null,null,"BLOCK 8",null,null,null,"BLOCK 9",null,null,null,"TEST SCORES"]
[null,{"$f":"SEED!D8","v":" Block 1 Player 1"},{"$f":"RESULTS!C6","v":" Block 1 Player 1"},-1E-3,-1E-3,{"$f":"SEED!I8","v":" Block 2 Player 1"},{"$f":"RESULTS!C22","v":" Block 2 Player 1"},-1E-3,-1E-3,{"$f":"SEED!D15","v":" Block 3 Player 1"},{"$f":"RESULTS!C38","v":" Block 3 Player 1"},-1E-3,-1E-3,{"$f":"SEED!I15","v":" Block 4 Player 1"},{"$f":"RESULTS!C54","v":" Block 4 Player 1"},-1E-3,-1E-3,{"$f":"SEED!D22","v":" Block 5 Player 1"},{"$f":"RESULTS!C70","v":" Block 5 Player 1"},-1E-3,-1E-3,{"$f":"SEED!I22","v":" Block 6 Player 1"},{"$f":"RESULTS!C86","v":" Block 6 Player 1"},-1E-3,-1E-3,{"$f":"SEED!D29","v":" Block 7 Player 1"},{"$f":"RESULTS!C102","v":" Block 7 Player 1"},-1E-3,-1E-3,{"$f":"SEED!I29","v":" Block 8 Player 1"},{"$f":"RESULTS!C118","v":" Block 8 Player 1"},-1E-3,-1E-3,{"$f":"SEED!D36","v":" Block 9 Player 1"},{"$f":"RESULTS!C134","v":" Block 9 Player 1"},-1E-3,-1E-3,null,1]
[null,{"$f":"SEED!D9","v":" Block 1 Player 2"},{"$f":"RESULTS!C7","v":" Block 1 Player 4"},-1E-3,-1E-3,{"$f":"SEED!I9","v":" Block 2 Player 2"},{"$f":"RESULTS!C23","v":" Block 2 Player 4"},-1E-3,-1E-3,{"$f":"SEED!D16","v":" Block 3 Player 2"},{"$f":"RESULTS!C39","v":" Block 3 Player 4"},-1E-3,-1E-3,{"$f":"SEED!I16","v":" Block 4 Player 2"},{"$f":"RESULTS!C55","v":" Block 4 Player 4"},-1E-3,-1E-3,{"$f":"SEED!D23","v":" Block 5 Player 2"},{"$f":"RESULTS!C71","v":" Block 5 Player 4"},-1E-3,-1E-3,{"$f":"SEED!I23","v":" Block 6 Player 2"},{"$f":"RESULTS!C87","v":" Block 6 Player 4"},-1E-3,-1E-3,{"$f":"SEED!D30","v":" Block 7 Player 2"},{"$f":"RESULTS!C103","v":" Block 7 Player 4"},-1E-3,-1E-3,{"$f":"SEED!I30","v":" Block 8 Player 2"},{"$f":"RESULTS!C119","v":" Block 8 Player 4"},-1E-3,-1E-3,{"$f":"SEED!D37","v":" Block 9 Player 2"},{"$f":"RESULTS!C135","v":" Block 9 Player 4"},-1E-3,-1E-3,null,4]
[null,{"$f":"SEED!D10","v":" Block 1 Player 3"},{"$f":"RESULTS!C8","v":" Block 1 Player 2"},-1E-3,-1E-3,{"$f":"SEED!I10","v":" Block 2 Player 3"},{"$f":"RESULTS!C24","v":" Block 2 Player 2"},-1E-3,-1E-3,{"$f":"SEED!D17","v":" Block 3 Player 3"},{"$f":"RESULTS!C40","v":" Block 3 Player 2"},-1E-3,-1E-3,{"$f":"SEED!I17","v":" Block 4 Player 3"},{"$f":"RESULTS!C56","v":" Block 4 Player 2"},-1E-3,-1E-3,{"$f":"SEED!D24","v":" Block 5 Player 3"},{"$f":"RESULTS!C72","v":" Block 5 Player 2"},-1E-3,-1E-3,{"$f":"SEED!I24","v":" Block 6 Player 3"},{"$f":"RESULTS!C88","v":" Block 6 Player 2"},-1E-3,-1E-3,{"$f":"SEED!D31","v":" Block 7 Player 3"},{"$f":"RESULTS!C104","v":" Block 7 Player 2"},-1E-3,-1E-3,{"$f":"SEED!I31","v":" Block 8 Player 3"},{"$f":"RESULTS!C120","v":" Block 8 Player 2"},-1E-3,-1E-3,{"$f":"SEED!D38","v":" Block 9 Player 3"},{"$f":"RESULTS!C136","v":" Block 9 Player 2"},-1E-3,-1E-3,null,2]
[null,{"$f":"SEED!D11","v":" Block 1 Player 4"},{"$f":"RESULTS!C9","v":" Block 1 Player 3"},-1E-3,-1E-3,{"$f":"SEED!I11","v":" Block 2 Player 4"},{"$f":"RESULTS!C25","v":" Block 2 Player 3"},-1E-3,-1E-3,{"$f":"SEED!D18","v":" Block 3 Player 4"},{"$f":"RESULTS!C41","v":" Block 3 Player 3"},-1E-3,-1E-3,{"$f":"SEED!I18","v":" Block 4 Player 4"},{"$f":"RESULTS!C57","v":" Block 4 Player 3"},-1E-3,-1E-3,{"$f":"SEED!D25","v":" Block 5 Player 4"},{"$f":"RESULTS!C73","v":" Block 5 Player 3"},-1E-3,-1E-3,{"$f":"SEED!I25","v":" Block 6 Player 4"},{"$f":"RESULTS!C89","v":" Block 6 Player 3"},-1E-3,-1E-3,{"$f":"SEED!D32","v":" Block 7 Player 4"},{"$f":"RESULTS!C105","v":" Block 7 Player 3"},-1E-3,-1E-3,{"$f":"SEED!I32","v":" Block 8 Player 4"},{"$f":"RESULTS!C121","v":" Block 8 Player 3"},-1E-3,-1E-3,{"$f":"SEED!D39","v":" Block 9 Player 4"},{"$f":"RESULTS!C137","v":" Block 9 Player 3"},-1E-3,-1E-3,null,3]
[null,null,{"$f":"RESULTS!C10","v":" Block 1 Player 3"},-1E-3,-1E-3,null,{"$f":"RESULTS!C26","v":" Block 2 Player 3"},-1E-3,-1E-3,null,{"$f":"RESULTS!C42","v":" Block 3 Player 3"},-1E-3,-1E-3,null,{"$f":"RESULTS!C58","v":" Block 4 Player 3"},-1E-3,-1E-3,null,{"$f":"RESULTS!C74","v":" Block 5 Player 3"},-1E-3,-1E-3,null,{"$f":"RESULTS!C90","v":" Block 6 Player 3"},-1E-3,-1E-3,null,{"$f":"RESULTS!C106","v":" Block 7 Player 3"},-1E-3,-1E-3,null,{"$f":"RESULTS!C122","v":" Block 8 Player 3"},-1E-3,-1E-3,null,{"$f":"RESULTS!C138","v":" Block 9 Player 3"},-1E-3,-1E-3,null,3]
[null,null,{"$f":"RESULTS!C11","v":" Block 1 Player 1"},-1E-3,-1E-3,null,{"$f":"RESULTS!C27","v":" Block 2 Player 1"},-1E-3,-1E-3,null,{"$f":"RESULTS!C43","v":" Block 3 Player 1"},-1E-3,-1E-3,null,{"$f":"RESULTS!C59","v":" Block 4 Player 1"},-1E-3,-1E-3,null,{"$f":"RESULTS!C75","v":" Block 5 Player 1"},-1E-3,-1E-3,null,{"$f":"RESULTS!C91","v":" Block 6 Player 1"},-1E-3,-1E-3,null,{"$f":"RESULTS!C107","v":" Block 7 Player 1"},-1E-3,-1E-3,null,{"$f":"RESULTS!C123","v":" Block 8 Player 1"},-1E-3,-1E-3,null,{"$f":"RESULTS!C139","v":" Block 9 Player 1"},-1E-3,-1E-3,null,1]
[null,null,{"$f":"RESULTS!C12","v":" Block 1 Player 4"},-1E-3,-1E-3,null,{"$f":"RESULTS!C28","v":" Block 2 Player 4"},-1E-3,-1E-3,null,{"$f":"RESULTS!C44","v":" Block 3 Player 4"},-1E-3,-1E-3,null,{"$f":"RESULTS!C60","v":" Block 4 Player 4"},-1E-3,-1E-3,null,{"$f":"RESULTS!C76","v":" Block 5 Player 4"},-1E-3,-1E-3,null,{"$f":"RESULTS!C92","v":" Block 6 Player 4"},-1E-3,-1E-3,null,{"$f":"RESULTS!C108","v":" Block 7 Player 4"},-1E-3,-1E-3,null,{"$f":"RESULTS!C124","v":" Block 8 Player 4"},-1E-3,-1E-3,null,{"$f":"RESULTS!C140","v":" Block 9 Player 4"},-1E-3,-1E-3,null,4]
[null,null,{"$f":"RESULTS!C13","v":" Block 1 Player 2"},-1E-3,-1E-3,null,{"$f":"RESULTS!C29","v":" Block 2 Player 2"},-1E-3,-1E-3,null,{"$f":"RESULTS!C45","v":" Block 3 Player 2"},-1E-3,-1E-3,null,{"$f":"RESULTS!C61","v":" Block 4 Player 2"},-1E-3,-1E-3,null,{"$f":"RESULTS!C77","v":" Block 5 Player 2"},-1E-3,-1E-3,null,{"$f":"RESULTS!C93","v":" Block 6 Player 2"},-1E-3,-1E-3,null,{"$f":"RESULTS!C109","v":" Block 7 Player 2"},-1E-3,-1E-3,null,{"$f":"RESULTS!C125","v":" Block 8 Player 2"},-1E-3,-1E-3,null,{"$f":"RESULTS!C141","v":" Block 9 Player 2"},-1E-3,-1E-3,null,2]
["NumberOfGames",6,{"$f":"RESULTS!C14","v":" Block 1 Player 2"},-1E-3,-1E-3,null,{"$f":"RESULTS!C30","v":" Block 2 Player 2"},-1E-3,-1E-3,null,{"$f":"RESULTS!C46","v":" Block 3 Player 2"},-1E-3,-1E-3,null,{"$f":"RESULTS!C62","v":" Block 4 Player 2"},-1E-3,-1E-3,null,{"$f":"RESULTS!C78","v":" Block 5 Player 2"},-1E-3,-1E-3,null,{"$f":"RESULTS!C94","v":" Block 6 Player 2"},-1E-3,-1E-3,null,{"$f":"RESULTS!C110","v":" Block 7 Player 2"},-1E-3,-1E-3,null,{"$f":"RESULTS!C126","v":" Block 8 Player 2"},-1E-3,-1E-3,null,{"$f":"RESULTS!C142","v":" Block 9 Player 2"},-1E-3,-1E-3,null,2]
["Block1Selection1",1,{"$f":"RESULTS!C15","v":" Block 1 Player 1"},-1E-3,-1E-3,2,{"$f":"RESULTS!C31","v":" Block 2 Player 1"},-1E-3,-1E-3,1,{"$f":"RESULTS!C47","v":" Block 3 Player 1"},-1E-3,-1E-3,1,{"$f":"RESULTS!C63","v":" Block 4 Player 1"},-1E-3,-1E-3,1,{"$f":"RESULTS!C79","v":" Block 5 Player 1"},-1E-3,-1E-3,1,{"$f":"RESULTS!C95","v":" Block 6 Player 1"},-1E-3,-1E-3,1,{"$f":"RESULTS!C111","v":" Block 7 Player 1"},-1E-3,-1E-3,2,{"$f":"RESULTS!C127","v":" Block 8 Player 1"},-1E-3,-1E-3,1,{"$f":"RESULTS!C143","v":" Block 9 Player 1"},-1E-3,-1E-3,null,1]
["Block1Selection2",4,{"$f":"RESULTS!C16","v":" Block 1 Player 3"},-1E-3,-1E-3,4,{"$f":"RESULTS!C32","v":" Block 2 Player 3"},-1E-3,-1E-3,4,{"$f":"RESULTS!C48","v":" Block 3 Player 3"},-1E-3,-1E-3,4,{"$f":"RESULTS!C64","v":" Block 4 Player 3"},-1E-3,-1E-3,4,{"$f":"RESULTS!C80","v":" Block 5 Player 3"},-1E-3,-1E-3,4,{"$f":"RESULTS!C96","v":" Block 6 Player 3"},-1E-3,-1E-3,4,{"$f":"RESULTS!C112","v":" Block 7 Player 3"},-1E-3,-1E-3,3,{"$f":"RESULTS!C128","v":" Block 8 Player 3"},-1E-3,-1E-3,4,{"$f":"RESULTS!C144","v":" Block 9 Player 3"},-1E-3,-1E-3,null,3]
["Block1Player1Name",{"$f":"INDEX(B4:B7,Block1Selection1)","v":" Block 1 Player 1"},{"$f":"RESULTS!C17","v":" Block 1 Player 4"},-1E-3,-1E-3,{"$f":"INDEX(F4:F7,Block2Selection1)","v":" Block 2 Player 2"},{"$f":"RESULTS!C33","v":" Block 2 Player 4"},-1E-3,-1E-3,{"$f":"INDEX(J4:J7,Block3Selection1)","v":" Block 3 Player 1"},{"$f":"RESULTS!C49","v":" Block 3 Player 4"},-1E-3,-1E-3,{"$f":"INDEX(N4:N7,Block4Selection1)","v":" Block 4 Player 1"},{"$f":"RESULTS!C65","v":" Block 4 Player 4"},-1E-3,-1E-3,{"$f":"INDEX(R4:R7,Block5Selection1)","v":" Block 5 Player 1"},{"$f":"RESULTS!C81","v":" Block 5 Player 4"},-1E-3,-1E-3,{"$f":"INDEX(V4:V7,Block6Selection1)","v":" Block 6 Player 1"},{"$f":"RESULTS!C97","v":" Block 6 Player 4"},-1E-3,-1E-3,{"$f":"INDEX(Z4:Z7,Block7Selection1)","v":" Block 7 Player 1"},{"$f":"RESULTS!C113","v":" Block 7 Player 4"},-1E-3,-1E-3,{"$f":"INDEX(AD4:AD7,Block8Selection1)","v":" Block 8 Player 2"},{"$f":"RESULTS!C129","v":" Block 8 Player 4"},-1E-3,-1E-3,{"$f":"INDEX(AH4:AH7,Block9Selection1)","v":" Block 9 Player 1"},{"$f":"RESULTS!C145","v":" Block 9 Player 4"},-1E-3,-1E-3,null,4]
["Block1Player2Name",{"$f":"INDEX(B4:B7,Block1Selection2)","v":" Block 1 Player 4"},null,null,null,{"$f":"INDEX(F4:F7,Block2Selection2)","v":" Block 2 Player 4"},null,null,null,{"$f":"INDEX(J4:J7,Block3Selection2)","v":" Block 3 Player 4"},null,null,null,{"$f":"INDEX(N4:N7,Block4Selection2)","v":" Block 4 Player 4"},null,null,null,{"$f":"INDEX(R4:R7,Block5Selection2)","v":" Block 5 Player 4"},null,null,null,{"$f":"INDEX(V4:V7,Block6Selection2)","v":" Block 6 Player 4"},null,null,null,{"$f":"INDEX(Z4:Z7,Block7Selection2)","v":" Block 7 Player 4"},null,null,null,{"$f":"INDEX(AD4:AD7,Block8Selection2)","v":" Block 8 Player 3"},null,null,null,{"$f":"INDEX(AH4:AH7,Block9Selection2)","v":" Block 9 Player 4"}]

{"sheet":"SCORES","index":7,"n_rows":127,"n_cols":12,"rows_kept":127,"cut":false,"hidden":false,"merged":[]}
[]
[]
[]
[null,{"$f":"RESULTS!D5&\"   COURT \"&GAMES!D3","v":"BLOCK 1   COURT "},null,"SCORES",null,{"$f":"RESULTS!D5&\"   COURT \"&GAMES!D6","v":"BLOCK 1   COURT "},null,"SCORES",null,{"$f":"RESULTS!D5&\"   COURT \"&GAMES!D5","v":"BLOCK 1   COURT "},null,"SCORES"]
[null,{"$f":"RESULTS!C6","v":" Block 1 Player 1"},null,{"$f":"RESULTS!D6","v":-1E-3},null,{"$f":"RESULTS!C12","v":" Block 1 Player 4"},null,{"$f":"RESULTS!D12","v":-1E-3},null,{"$f":"RESULTS!C10","v":" Block 1 Player 3"},null,{"$f":"RESULTS!D10","v":-1E-3}]
[null,{"$f":"GAMES!$C$3+GAMES!B3","v":"00:00:00"},null,null,null,{"$f":"GAMES!$C$6+GAMES!B6","v":"00:00:00"},null,null,null,{"$f":"GAMES!$C$5+GAMES!B5","v":"00:00:00"}]
[null,{"$f":"RESULTS!C7","v":" Block 1 Player 4"},null,{"$f":"RESULTS!D7","v":-1E-3},null,{"$f":"RESULTS!C13","v":" Block 1 Player 2"},null,{"$f":"RESULTS!D13","v":-1E-3},null,{"$f":"RESULTS!C11","v":" Block 1 Player 1"},null,{"$f":"RESULTS!D11","v":-1E-3}]
[null,"INITIALS",null,null,null,"INITIALS",null,null,null,"INITIALS"]
[]
[]
[null,{"$f":"RESULTS!D5&\"   COURT \"&GAMES!D4","v":"BLOCK 1   COURT "},null,"SCORES",null,{"$f":"RESULTS!D5&\"   COURT \"&GAMES!D7","v":"BLOCK 1   COURT "},null,"SCORES",null,{"$f":"RESULTS!D5&\"   COURT \"&GAMES!D8","v":"BLOCK 1   COURT "},null,"SCORES"]
[null,{"$f":"RESULTS!C8","v":" Block 1 Player 2"},null,{"$f":"RESULTS!D8","v":-1E-3},null,{"$f":"RESULTS!C14","v":" Block 1 Player 2"},null,{"$f":"RESULTS!D14","v":-1E-3},null,{"$f":"RESULTS!C16","v":" Block 1 Player 3"},null,{"$f":"RESULTS!D16","v":-1E-3}]
[null,{"$f":"GAMES!$C$4+GAMES!B4","v":"00:00:00"},null,null,null,{"$f":"GAMES!$C$7+GAMES!B7","v":"00:00:00"},null,null,null,{"$f":"GAMES!$C$8+GAMES!B8","v":"00:00:00"}]
[null,{"$f":"RESULTS!C9","v":" Block 1 Player 3"},null,{"$f":"RESULTS!D9","v":-1E-3},null,{"$f":"RESULTS!C15","v":" Block 1 Player 1"},null,{"$f":"RESULTS!D15","v":-1E-3},null,{"$f":"RESULTS!C17","v":" Block 1 Player 4"},null,{"$f":"RESULTS!D17","v":-1E-3}]
[null,"INITIALS",null,null,null,"INITIALS",null,null,null,"INITIALS"]
[]
[]
[null,{"$f":"RESULTS!D21&\"   COURT \"&GAMES!D11","v":"BLOCK 2   COURT "},null,"SCORES",null,{"$f":"RESULTS!D21&\"   COURT \"&GAMES!D14","v":"BLOCK 2   COURT "},null,"SCORES",null,{"$f":"RESULTS!D21&\"   COURT \"&GAMES!D13","v":"BLOCK 2   COURT "},null,"SCORES"]
[null,{"$f":"RESULTS!C22","v":" Block 2 Player 1"},null,{"$f":"RESULTS!D22","v":-1E-3},null,{"$f":"RESULTS!C28","v":" Block 2 Player 4"},null,{"$f":"RESULTS!D28","v":-1E-3},null,{"$f":"RESULTS!C26","v":" Block 2 Player 3"},null,{"$f":"RESULTS!D26","v":-1E-3}]
[null,{"$f":"GAMES!$C$11+GAMES!B11","v":"00:00:00"},null,null,null,{"$f":"GAMES!$C$14+GAMES!B14","v":"00:00:00"},null,null,null,{"$f":"GAMES!$C$13+GAMES!B13","v":"00:00:00"}]
[null,{"$f":"RESULTS!C23","v":" Block 2 Player 4"},null,{"$f":"RESULTS!D23","v":-1E-3},null,{"$f":"RESULTS!C29","v":" Block 2 Player 2"},null,{"$f":"RESULTS!D29","v":-1E-3},null,{"$f":"RESULTS!C27","v":" Block 2 Player 1"},null,{"$f":"RESULTS!D27","v":-1E-3}]
[null,"INITIALS",null,null,null,"INITIALS",null,null,null,"INITIALS"]
[]
[]
[null,{"$f":"RESULTS!D21&\"   COURT \"&GAMES!D12","v":"BLOCK 2   COURT "},null,"SCORES",null,{"$f":"RESULTS!D21&\"   COURT \"&GAMES!D15","v":"BLOCK 2   COURT "},null,"SCORES",null,{"$f":"RESULTS!D21&\"   COURT \"&GAMES!D16","v":"BLOCK 2   COURT "},null,"SCORES"]
[null,{"$f":"RESULTS!C24","v":" Block 2 Player 2"},null,{"$f":"RESULTS!D24","v":-1E-3},null,{"$f":"RESULTS!C30","v":" Block 2 Player 2"},null,{"$f":"RESULTS!D30","v":-1E-3},null,{"$f":"RESULTS!C32","v":" Block 2 Player 3"},null,{"$f":"RESULTS!D32","v":-1E-3}]
[null,{"$f":"GAMES!$C$12+GAMES!B12","v":"00:00:00"},null,null,null,{"$f":"GAMES!$C$15+GAMES!B15","v":"00:00:00"},null,null,null,{"$f":"GAMES!$C$16+GAMES!B16","v":"00:00:00"}]
[null,{"$f":"RESULTS!C25","v":" Block 2 Player 3"},null,{"$f":"RESULTS!D25","v":-1E-3},null,{"$f":"RESULTS!C31","v":" Block 2 Player 1"},null,{"$f":"RESULTS!D31","v":-1E-3},null,{"$f":"RESULTS!C33","v":" Block 2 Player 4"},null,{"$f":"RESULTS!D33","v":-1E-3}]
[null,"INITIALS",null,null,null,"INITIALS",null,null,null,"INITIALS"]
[]
[]
[null,{"$f":"RESULTS!D37&\"   COURT \"&GAMES!D19","v":"BLOCK 3   COURT "},null,"SCORES",null,{"$f":"RESULTS!D37&\"   COURT \"&GAMES!D22","v":"BLOCK 3   COURT "},null,"SCORES",null,{"$f":"RESULTS!D37&\"   COURT \"&GAMES!D21","v":"BLOCK 3   COURT "},null,"SCORES"]
[null,{"$f":"RESULTS!C38","v":" Block 3 Player 1"},null,{"$f":"RESULTS!D38","v":-1E-3},null,{"$f":"RESULTS!C44","v":" Block 3 Player 4"},null,{"$f":"RESULTS!D44","v":-1E-3},null,{"$f":"RESULTS!C42","v":" Block 3 Player 3"},null,{"$f":"RESULTS!D42","v":-1E-3}]
[null,{"$f":"GAMES!$C$19+GAMES!B19","v":"00:00:00"},null,null,null,{"$f":"GAMES!$C$22+GAMES!B22","v":"00:00:00"},null,null,null,{"$f":"GAMES!$C$21+GAMES!B21","v":"00:00:00"}]
[null,{"$f":"RESULTS!C39","v":" Block 3 Player 4"},null,{"$f":"RESULTS!D39","v":-1E-3},null,{"$f":"RESULTS!C45","v":" Block 3 Player 2"},null,{"$f":"RESULTS!D45","v":-1E-3},null,{"$f":"RESULTS!C43","v":" Block 3 Player 1"},null,{"$f":"RESULTS!D43","v":-1E-3}]
[null,"INITIALS",null,null,null,"INITIALS",null,null,null,"INITIALS"]
[]
[]
[null,{"$f":"RESULTS!D37&\"   COURT \"&GAMES!D20","v":"BLOCK 3   COURT "},null,"SCORES",null,{"$f":"RESULTS!D37&\"   COURT \"&GAMES!D23","v":"BLOCK 3   COURT "},null,"SCORES",null,{"$f":"RESULTS!D37&\"   COURT \"&GAMES!D24","v":"BLOCK 3   COURT "},null,"SCORES"]
[null,{"$f":"RESULTS!C40","v":" Block 3 Player 2"},null,{"$f":"RESULTS!D40","v":-1E-3},null,{"$f":"RESULTS!C46","v":" Block 3 Player 2"},null,{"$f":"RESULTS!D46","v":-1E-3},null,{"$f":"RESULTS!C48","v":" Block 3 Player 3"},null,{"$f":"RESULTS!D48","v":-1E-3}]
[null,{"$f":"GAMES!$C$20+GAMES!B20","v":"00:00:00"},null,null,null,{"$f":"GAMES!$C$23+GAMES!B23","v":"00:00:00"},null,null,null,{"$f":"GAMES!$C$24+GAMES!B24","v":"00:00:00"}]
[null,{"$f":"RESULTS!C41","v":" Block 3 Player 3"},null,{"$f":"RESULTS!D41","v":-1E-3},null,{"$f":"RESULTS!C47","v":" Block 3 Player 1"},null,{"$f":"RESULTS!D47","v":-1E-3},null,{"$f":"RESULTS!C49","v":" Block 3 Player 4"},null,{"$f":"RESULTS!D49","v":-1E-3}]
[null,"INITIALS",null,null,null,"INITIALS",null,null,null,"INITIALS"]
[]
[]
[null,{"$f":"RESULTS!D53&\"   COURT \"&GAMES!D27","v":"BLOCK 4   COURT "},null,"SCORES",null,{"$f":"RESULTS!D53&\"   COURT \"&GAMES!D30","v":"BLOCK 4   COURT "},null,"SCORES",null,{"$f":"RESULTS!D53&\"   COURT \"&GAMES!D29","v":"BLOCK 4   COURT "},null,"SCORES"]
[null,{"$f":"RESULTS!C54","v":" Block 4 Player 1"},null,{"$f":"RESULTS!D54","v":-1E-3},null,{"$f":"RESULTS!C60","v":" Block 4 Player 4"},null,{"$f":"RESULTS!D60","v":-1E-3},null,{"$f":"RESULTS!C58","v":" Block 4 Player 3"},null,{"$f":"RESULTS!D58","v":-1E-3}]
[null,{"$f":"GAMES!$C$27+GAMES!B27","v":"00:00:00"},null,null,null,{"$f":"GAMES!$C$30+GAMES!B30","v":"00:00:00"},null,null,null,{"$f":"GAMES!$C$29+GAMES!B29","v":"00:00:00"}]
[null,{"$f":"RESULTS!C55","v":" Block 4 Player 4"},null,{"$f":"RESULTS!D55","v":-1E-3},null,{"$f":"RESULTS!C61","v":" Block 4 Player 2"},null,{"$f":"RESULTS!D61","v":-1E-3},null,{"$f":"RESULTS!C59","v":" Block 4 Player 1"},null,{"$f":"RESULTS!D59","v":-1E-3}]
[null,"INITIALS",null,null,null,"INITIALS",null,null,null,"INITIALS"]
[]
[]
[null,{"$f":"RESULTS!D53&\"   COURT \"&GAMES!D28","v":"BLOCK 4   COURT "},null,"SCORES",null,{"$f":"RESULTS!D53&\"   COURT \"&GAMES!D31","v":"BLOCK 4   COURT "},null,"SCORES",null,{"$f":"RESULTS!D53&\"   COURT \"&GAMES!D32","v":"BLOCK 4   COURT "},null,"SCORES"]
[null,{"$f":"RESULTS!C56","v":" Block 4 Player 2"},null,{"$f":"RESULTS!D56","v":-1E-3},null,{"$f":"RESULTS!C62","v":" Block 4 Player 2"},null,{"$f":"RESULTS!D62","v":-1E-3},null,{"$f":"RESULTS!C64","v":" Block 4 Player 3"},null,{"$f":"RESULTS!D64","v":-1E-3}]
[null,{"$f":"GAMES!$C$28+GAMES!B28","v":"00:00:00"},null,null,null,{"$f":"GAMES!$C$31+GAMES!B31","v":"00:00:00"},null,null,null,{"$f":"GAMES!$C$32+GAMES!B32","v":"00:00:00"}]
[null,{"$f":"RESULTS!C57","v":" Block 4 Player 3"},null,{"$f":"RESULTS!D57","v":-1E-3},null,{"$f":"RESULTS!C63","v":" Block 4 Player 1"},null,{"$f":"RESULTS!D63","v":-1E-3},null,{"$f":"RESULTS!C65","v":" Block 4 Player 4"},null,{"$f":"RESULTS!D65","v":-1E-3}]
[null,"INITIALS",null,null,null,"INITIALS",null,null,null,"INITIALS"]
[]
[]
[null,{"$f":"RESULTS!D69&\"   COURT \"&GAMES!D35","v":"BLOCK 5   COURT "},null,"SCORES",null,{"$f":"RESULTS!D69&\"   COURT \"&GAMES!D38","v":"BLOCK 5   COURT "},null,"SCORES",null,{"$f":"RESULTS!D69&\"   COURT \"&GAMES!D37","v":"BLOCK 5   COURT "},null,"SCORES"]
[null,{"$f":"RESULTS!C70","v":" Block 5 Player 1"},null,{"$f":"RESULTS!D70","v":-1E-3},null,{"$f":"RESULTS!C76","v":" Block 5 Player 4"},null,{"$f":"RESULTS!D76","v":-1E-3},null,{"$f":"RESULTS!C74","v":" Block 5 Player 3"},null,{"$f":"RESULTS!D74","v":-1E-3}]
[null,{"$f":"GAMES!$C$35+GAMES!B35","v":"00:00:00"},null,null,null,{"$f":"GAMES!$C$38+GAMES!B38","v":"00:00:00"},null,null,null,{"$f":"GAMES!$C$37+GAMES!B37","v":"00:00:00"}]
[null,{"$f":"RESULTS!C71","v":" Block 5 Player 4"},null,{"$f":"RESULTS!D71","v":-1E-3},null,{"$f":"RESULTS!C77","v":" Block 5 Player 2"},null,{"$f":"RESULTS!D77","v":-1E-3},null,{"$f":"RESULTS!C75","v":" Block 5 Player 1"},null,{"$f":"RESULTS!D75","v":-1E-3}]
[null,"INITIALS",null,null,null,"INITIALS",null,null,null,"INITIALS"]
[]
[]
[null,{"$f":"RESULTS!D69&\"   COURT \"&GAMES!D36","v":"BLOCK 5   COURT "},null,"SCORES",null,{"$f":"RESULTS!D69&\"   COURT \"&GAMES!D39","v":"BLOCK 5   COURT "},null,"SCORES",null,{"$f":"RESULTS!D69&\"   COURT \"&GAMES!D40","v":"BLOCK 5   COURT "},null,"SCORES"]
[null,{"$f":"RESULTS!C72","v":" Block 5 Player 2"},null,{"$f":"RESULTS!D72","v":-1E-3},null,{"$f":"RESULTS!C78","v":" Block 5 Player 2"},null,{"$f":"RESULTS!D78","v":-1E-3},null,{"$f":"RESULTS!C80","v":" Block 5 Player 3"},null,{"$f":"RESULTS!D80","v":-1E-3}]
[null,{"$f":"GAMES!$C$36+GAMES!B36","v":"00:00:00"},null,null,null,{"$f":"GAMES!$C$39+GAMES!B39","v":"00:00:00"},null,null,null,{"$f":"GAMES!$C$40+GAMES!B40","v":"00:00:00"}]
[null,{"$f":"RESULTS!C73","v":" Block 5 Player 3"},null,{"$f":"RESULTS!D73","v":-1E-3},null,{"$f":"RESULTS!C79","v":" Block 5 Player 1"},null,{"$f":"RESULTS!D79","v":-1E-3},null,{"$f":"RESULTS!C81","v":" Block 5 Player 4"},null,{"$f":"RESULTS!D81","v":-1E-3}]
[null,"INITIALS",null,null,null,"INITIALS",null,null,null,"INITIALS"]
[]
[]
[null,{"$f":"RESULTS!D85&\"   COURT \"&GAMES!D43","v":"BLOCK 6   COURT "},null,"SCORES",null,{"$f":"RESULTS!D85&\"   COURT \"&GAMES!D46","v":"BLOCK 6   COURT "},null,"SCORES",null,{"$f":"RESULTS!D85&\"   COURT \"&GAMES!D45","v":"BLOCK 6   COURT "},null,"SCORES"]
[null,{"$f":"RESULTS!C86","v":" Block 6 Player 1"},null,{"$f":"RESULTS!D86","v":-1E-3},null,{"$f":"RESULTS!C92","v":" Block 6 Player 4"},null,{"$f":"RESULTS!D92","v":-1E-3},null,{"$f":"RESULTS!C90","v":" Block 6 Player 3"},null,{"$f":"RESULTS!D90","v":-1E-3}]
[null,{"$f":"GAMES!$C$43+GAMES!B43","v":"00:00:00"},null,null,null,{"$f":"GAMES!$C$46+GAMES!B46","v":"00:00:00"},null,null,null,{"$f":"GAMES!$C$45+GAMES!B45","v":"00:00:00"}]
[null,{"$f":"RESULTS!C87","v":" Block 6 Player 4"},null,{"$f":"RESULTS!D87","v":-1E-3},null,{"$f":"RESULTS!C93","v":" Block 6 Player 2"},null,{"$f":"RESULTS!D93","v":-1E-3},null,{"$f":"RESULTS!C91","v":" Block 6 Player 1"},null,{"$f":"RESULTS!D91","v":-1E-3}]
[null,"INITIALS",null,null,null,"INITIALS",null,null,null,"INITIALS"]
[]
[]
[null,{"$f":"RESULTS!D85&\"   COURT \"&GAMES!D44","v":"BLOCK 6   COURT "},null,"SCORES",null,{"$f":"RESULTS!D85&\"   COURT \"&GAMES!D47","v":"BLOCK 6   COURT "},null,"SCORES",null,{"$f":"RESULTS!D85&\"   COURT \"&GAMES!D48","v":"BLOCK 6   COURT "},null,"SCORES"]
[null,{"$f":"RESULTS!C88","v":" Block 6 Player 2"},null,{"$f":"RESULTS!D88","v":-1E-3},null,{"$f":"RESULTS!C94","v":" Block 6 Player 2"},null,{"$f":"RESULTS!D94","v":-1E-3},null,{"$f":"RESULTS!C96","v":" Block 6 Player 3"},null,{"$f":"RESULTS!D96","v":-1E-3}]
[null,{"$f":"GAMES!$C$44+GAMES!B44","v":"00:00:00"},null,null,null,{"$f":"GAMES!$C$47+GAMES!B47","v":"00:00:00"},null,null,null,{"$f":"GAMES!$C$48+GAMES!B48","v":"00:00:00"}]
[null,{"$f":"RESULTS!C89","v":" Block 6 Player 3"},null,{"$f":"RESULTS!D89","v":-1E-3},null,{"$f":"RESULTS!C95","v":" Block 6 Player 1"},null,{"$f":"RESULTS!D95","v":-1E-3},null,{"$f":"RESULTS!C97","v":" Block 6 Player 4"},null,{"$f":"RESULTS!D97","v":-1E-3}]
[null,"INITIALS",null,null,null,"INITIALS",null,null,null,"INITIALS"]
[]
[]
[null,{"$f":"RESULTS!D101&\"   COURT \"&GAMES!D51","v":"BLOCK 7   COURT "},null,"SCORES",null,{"$f":"RESULTS!D101&\"   COURT \"&GAMES!D54","v":"BLOCK 7   COURT "},null,"SCORES",null,{"$f":"RESULTS!D101&\"   COURT \"&GAMES!D53","v":"BLOCK 7   COURT "},null,"SCORES"]
[null,{"$f":"RESULTS!C102","v":" Block 7 Player 1"},null,{"$f":"RESULTS!D102","v":-1E-3},null,{"$f":"RESULTS!C108","v":" Block 7 Player 4"},null,{"$f":"RESULTS!D108","v":-1E-3},null,{"$f":"RESULTS!C106","v":" Block 7 Player 3"},null,{"$f":"RESULTS!D106","v":-1E-3}]
[null,{"$f":"GAMES!$C$51+GAMES!B51","v":"00:00:00"},null,null,null,{"$f":"GAMES!$C$54+GAMES!B54","v":"00:00:00"},null,null,null,{"$f":"GAMES!$C$53+GAMES!B53","v":"00:00:00"}]
[null,{"$f":"RESULTS!C103","v":" Block 7 Player 4"},null,{"$f":"RESULTS!D103","v":-1E-3},null,{"$f":"RESULTS!C109","v":" Block 7 Player 2"},null,{"$f":"RESULTS!D109","v":-1E-3},null,{"$f":"RESULTS!C107","v":" Block 7 Player 1"},null,{"$f":"RESULTS!D107","v":-1E-3}]
[null,"INITIALS",null,null,null,"INITIALS",null,null,null,"INITIALS"]
[]
[]
[null,{"$f":"RESULTS!D101&\"   COURT \"&GAMES!D52","v":"BLOCK 7   COURT "},null,"SCORES",null,{"$f":"RESULTS!D101&\"   COURT \"&GAMES!D55","v":"BLOCK 7   COURT "},null,"SCORES",null,{"$f":"RESULTS!D101&\"   COURT \"&GAMES!D56","v":"BLOCK 7   COURT "},null,"SCORES"]
[null,{"$f":"RESULTS!C104","v":" Block 7 Player 2"},null,{"$f":"RESULTS!D104","v":-1E-3},null,{"$f":"RESULTS!C110","v":" Block 7 Player 2"},null,{"$f":"RESULTS!D110","v":-1E-3},null,{"$f":"RESULTS!C112","v":" Block 7 Player 3"},null,{"$f":"RESULTS!D112","v":-1E-3}]
[null,{"$f":"GAMES!$C$52+GAMES!B52","v":"00:00:00"},null,null,null,{"$f":"GAMES!$C$55+GAMES!B55","v":"00:00:00"},null,null,null,{"$f":"GAMES!$C$56+GAMES!B56","v":"00:00:00"}]
[null,{"$f":"RESULTS!C105","v":" Block 7 Player 3"},null,{"$f":"RESULTS!D105","v":-1E-3},null,{"$f":"RESULTS!C111","v":" Block 7 Player 1"},null,{"$f":"RESULTS!D111","v":-1E-3},null,{"$f":"RESULTS!C113","v":" Block 7 Player 4"},null,{"$f":"RESULTS!D113","v":-1E-3}]
[null,"INITIALS",null,null,null,"INITIALS",null,null,null,"INITIALS"]
[]
[]
[null,{"$f":"RESULTS!D117&\"   COURT \"&GAMES!D59","v":"BLOCK 8   COURT "},null,"SCORES",null,{"$f":"RESULTS!D117&\"   COURT \"&GAMES!D62","v":"BLOCK 8   COURT "},null,"SCORES",null,{"$f":"RESULTS!D117&\"   COURT \"&GAMES!D61","v":"BLOCK 8   COURT "},null,"SCORES"]
[null,{"$f":"RESULTS!C118","v":" Block 8 Player 1"},null,{"$f":"RESULTS!D118","v":-1E-3},null,{"$f":"RESULTS!C124","v":" Block 8 Player 4"},null,{"$f":"RESULTS!D124","v":-1E-3},null,{"$f":"RESULTS!C122","v":" Block 8 Player 3"},null,{"$f":"RESULTS!D122","v":-1E-3}]
[null,{"$f":"GAMES!$C$59+GAMES!B59","v":"00:00:00"},null,null,null,{"$f":"GAMES!$C$62+GAMES!B62","v":"00:00:00"},null,null,null,{"$f":"GAMES!$C$61+GAMES!B61","v":"00:00:00"}]
[null,{"$f":"RESULTS!C119","v":" Block 8 Player 4"},null,{"$f":"RESULTS!D119","v":-1E-3},null,{"$f":"RESULTS!C125","v":" Block 8 Player 2"},null,{"$f":"RESULTS!D125","v":-1E-3},null,{"$f":"RESULTS!C123","v":" Block 8 Player 1"},null,{"$f":"RESULTS!D123","v":-1E-3}]
[null,"INITIALS",null,null,null,"INITIALS",null,null,null,"INITIALS"]
[]
[]
[null,{"$f":"RESULTS!D117&\"   COURT \"&GAMES!D60","v":"BLOCK 8   COURT "},null,"SCORES",null,{"$f":"RESULTS!D117&\"   COURT \"&GAMES!D63","v":"BLOCK 8   COURT "},null,"SCORES",null,{"$f":"RESULTS!D117&\"   COURT \"&GAMES!D64","v":"BLOCK 8   COURT "},null,"SCORES"]
[null,{"$f":"RESULTS!C120","v":" Block 8 Player 2"},null,{"$f":"RESULTS!D120","v":-1E-3},null,{"$f":"RESULTS!C126","v":" Block 8 Player 2"},null,{"$f":"RESULTS!D126","v":-1E-3},null,{"$f":"RESULTS!C128","v":" Block 8 Player 3"},null,{"$f":"RESULTS!D128","v":-1E-3}]
[null,{"$f":"GAMES!$C$60+GAMES!B60","v":"00:00:00"},null,null,null,{"$f":"GAMES!$C$63+GAMES!B63","v":"00:00:00"},null,null,null,{"$f":"GAMES!$C$64+GAMES!B64","v":"00:00:00"}]
[null,{"$f":"RESULTS!C121","v":" Block 8 Player 3"},null,{"$f":"RESULTS!D121","v":-1E-3},null,{"$f":"RESULTS!C127","v":" Block 8 Player 1"},null,{"$f":"RESULTS!D127","v":-1E-3},null,{"$f":"RESULTS!C129","v":" Block 8 Player 4"},null,{"$f":"RESULTS!D129","v":-1E-3}]
[null,"INITIALS",null,null,null,"INITIALS",null,null,null,"INITIALS"]
[]
[]
[null,{"$f":"RESULTS!D133&\"   COURT \"&GAMES!D67","v":"BLOCK 9   COURT "},null,"SCORES",null,{"$f":"RESULTS!D133&\"   COURT \"&GAMES!D70","v":"BLOCK 9   COURT "},null,"SCORES",null,{"$f":"RESULTS!D133&\"   COURT \"&GAMES!D69","v":"BLOCK 9   COURT "},null,"SCORES"]
[null,{"$f":"RESULTS!C134","v":" Block 9 Player 1"},null,{"$f":"RESULTS!D134","v":-1E-3},null,{"$f":"RESULTS!C140","v":" Block 9 Player 4"},null,{"$f":"RESULTS!D140","v":-1E-3},null,{"$f":"RESULTS!C138","v":" Block 9 Player 3"},null,{"$f":"RESULTS!D138","v":-1E-3}]
[null,{"$f":"GAMES!$C$67+GAMES!B67","v":"00:00:00"},null,null,null,{"$f":"GAMES!$C$70+GAMES!B70","v":"00:00:00"},null,null,null,{"$f":"GAMES!$C$69+GAMES!B69","v":"00:00:00"}]
[null,{"$f":"RESULTS!C135","v":" Block 9 Player 4"},null,{"$f":"RESULTS!D135","v":-1E-3},null,{"$f":"RESULTS!C141","v":" Block 9 Player 2"},null,{"$f":"RESULTS!D141","v":-1E-3},null,{"$f":"RESULTS!C139","v":" Block 9 Player 1"},null,{"$f":"RESULTS!D139","v":-1E-3}]
[null,"INITIALS",null,null,null,"INITIALS",null,null,null,"INITIALS"]
[]
[]
[null,{"$f":"RESULTS!D133&\"   COURT \"&GAMES!D68","v":"BLOCK 9   COURT "},null,"SCORES",null,{"$f":"RESULTS!D133&\"   COURT \"&GAMES!D71","v":"BLOCK 9   COURT "},null,"SCORES",null,{"$f":"RESULTS!D133&\"   COURT \"&GAMES!D72","v":"BLOCK 9   COURT "},null,"SCORES"]
[null,{"$f":"RESULTS!C136","v":" Block 9 Player 2"},null,{"$f":"RESULTS!D136","v":-1E-3},null,{"$f":"RESULTS!C142","v":" Block 9 Player 2"},null,{"$f":"RESULTS!D142","v":-1E-3},null,{"$f":"RESULTS!C144","v":" Block 9 Player 3"},null,{"$f":"RESULTS!D144","v":-1E-3}]
[null,{"$f":"GAMES!$C$68+GAMES!B68","v":"00:00:00"},null,null,null,{"$f":"GAMES!$C$71+GAMES!B71","v":"00:00:00"},null,null,null,{"$f":"GAMES!$C$72+GAMES!B72","v":"00:00:00"}]
[null,{"$f":"RESULTS!C137","v":" Block 9 Player 3"},null,{"$f":"RESULTS!D137","v":-1E-3},null,{"$f":"RESULTS!C143","v":" Block 9 Player 1"},null,{"$f":"RESULTS!D143","v":-1E-3},null,{"$f":"RESULTS!C145","v":" Block 9 Player 4"},null,{"$f":"RESULTS!D145","v":-1E-3}]
[null,"INITIALS",null,null,null,"INITIALS",null,null,null,"INITIALS"]

{"sheet":"BLOCK","index":8,"n_rows":173,"n_cols":28,"rows_kept":173,"cut":false,"hidden":false,"merged":[[80,6,80,12],[62,6,62,12],[77,11,77,13],[99,6,99,12],[81,6,81,12],[4,6,4,12],[23,6,23,12],[61,6,61,12],[42,6,42,12],[5,6,5,12],[24,6,24,12],[43,6,43,12],[20,11,20,13],[39,11,39,13],[58,11,58,13],[140,2,140,4],[140,5,140,7],[140,8,140,10],[140,11,140,13],[159,2,159,4],[159,5,159,7],[159,8,159,10],[159,11,159,13],[83,2,83,4],[83,5,83,7],[83,8,83,10],[83,11,83,13],[121,2,121,4],[102,2,102,4],[102,5,102,7],[102,8,102,10],[118,6,118,12],[121,5,121,7],[121,11,121,13],[121,8,121,10],[102,11,102,13],[100,6,100,12],[45,2,45,4],[45,5,45,7],[45,8,45,10],[45,11,45,13],[64,2,64,4],[64,5,64,7],[64,8,64,10],[64,11,64,13],[7,2,7,4],[7,5,7,7],[7,8,7,10],[7,11,7,13],[26,2,26,4],[26,5,26,7],[26,8,26,10],[26,11,26,13],[172,11,172,13],[96,11,96,13],[115,11,115,13],[134,11,134,13],[153,11,153,13],[157,6,157,12],[138,6,138,12],[119,6,119,12],[156,6,156,12],[137,6,137,12]]}
[]
[]
[]
[null,null,null,null,null,null,null,null,null,{"$f":"SEED!G2","v":"TOURNAMENT"}]
[null,null,null,null,null,null,{"$f":"NAMES!$C$10","v":"DATE"}]
[null,null,null,null,null,null,{"$f":"NAMES!$C$9","v":"GROUP"}]
[]
[null,{"$f":"SEED!D6","v":"BLOCK 1"},{"$f":"SEED!D8","v":" Block 1 Player 1"},null,null,{"$f":"SEED!D9","v":" Block 1 Player 2"},null,null,{"$f":"SEED!D10","v":" Block 1 Player 3"},null,null,{"$f":"SEED!D11","v":" Block 1 Player 4"},null,null,null," WINS"," POINTS FOR","POINTS AGAINST"," NET POINTS",null," PLACE",null,null,"NAME","WINS","NET","FOR"]
[null,{"$f":"NAMES!C12","v":"Block 1"},"PLYR1",null,null,null,{"$f":"IF(H9=1,\"W\",\"\")","v":""},{"$f":"IF(G11>0,1,0)","v":0},null,{"$f":"IF(K9=1,\"W\",\"\")","v":""},{"$f":"IF(J11>0,1,0)","v":0},null,{"$f":"IF(N9=1,\"W\",\"\")","v":""},{"$f":"IF(M11>0,1,0)","v":0},null,null,null,null,null,null,null,null,null,{"$f":"$C$18","v":"PLYR4"},{"$f":"$P$19","v":0},{"$f":"$S$19","v":0},{"$f":"$Q$19","v":-3.0000000000000001E-3},1]
[null,{"$f":"NAMES!C13","v":"Player 1"},null,null,null,{"$f":"SCORES!H14","v":-1E-3},{"$f":"RESULTS!$E$15","v":-1E-3},{"$f":"SCORES!H12","v":-1E-3},{"$f":"SCORES!L7","v":-1E-3},{"$f":"RESULTS!$E$11","v":-1E-3},{"$f":"SCORES!L5","v":-1E-3},{"$f":"SCORES!D5","v":-1E-3},{"$f":"RESULTS!$E$6","v":-1E-3},{"$f":"SCORES!D7","v":-1E-3},null,{"$f":"SUM(C9:O9)","v":0},{"$f":"SUM(C10,F10,I10,L10,O10)","v":-3.0000000000000001E-3},{"$f":"SUM(E10,H10,K10,N10)","v":-3.0000000000000001E-3},{"$f":"SUM(C11:O11)","v":0},null,{"$f":"VLOOKUP(C9,PLACE1,5,FALSE)","v":4},null,null,{"$f":"$C$15","v":"PLYR3"},{"$f":"$P$16","v":0},{"$f":"$S$16","v":0},{"$f":"$Q$16","v":-3.0000000000000001E-3},2]
[null,{"$f":"SEED!E8","v":0},null,null,null,null,{"$f":"F10-H10","v":0},null,null,{"$f":"I10-K10","v":0},null,null,{"$f":"L10-N10","v":0},null,null,null,null,null,null,null,null,null,null,{"$f":"$C$12","v":"PLYR2"},{"$f":"$P$13","v":0},{"$f":"$S$13","v":0},{"$f":"$Q$13","v":-3.0000000000000001E-3},3]
[null,{"$f":"NAMES!C17","v":"Block 1"},"PLYR2",{"$f":"IF(E12=1,\"W\",\"\")","v":""},{"$f":"IF(D14>0,1,0)","v":0},null,null,null,null,{"$f":"IF(K12=1,\"W\",\"\")","v":""},{"$f":"IF(J14>0,1,0)","v":0},null,{"$f":"IF(N12=1,\"W\",\"\")","v":""},{"$f":"IF(M14>0,1,0)","v":0},null,null,null,null,null,null,null,null,null,{"$f":"$C$9","v":"PLYR1"},{"$f":"$P$10","v":0},{"$f":"$S$10","v":0},{"$f":"$Q$10","v":-3.0000000000000001E-3},4]
[null,{"$f":"NAMES!C18","v":"Player 2"},{"$f":"H10","v":-1E-3},{"$f":"RESULTS!$E$14","v":-1E-3},{"$f":"F10","v":-1E-3},null,null,null,{"$f":"SCORES!D12","v":-1E-3},{"$f":"RESULTS!$E$8","v":-1E-3},{"$f":"SCORES!D14","v":-1E-3},{"$f":"SCORES!H7","v":-1E-3},{"$f":"RESULTS!$E$13","v":-1E-3},{"$f":"SCORES!H5","v":-1E-3},null,{"$f":"SUM(C12:O12)","v":0},{"$f":"SUM(C13,F13,I13,L13,O13)","v":-3.0000000000000001E-3},{"$f":"SUM(E13,H13,K13,N13)","v":-3.0000000000000001E-3},{"$f":"SUM(C14:O14)","v":0},null,{"$f":"VLOOKUP(C12,PLACE1,5,FALSE)","v":3}]
[null,{"$f":"SEED!E9","v":0},null,{"$f":"C13-E13","v":0},null,null,null,null,null,{"$f":"I13-K13","v":0},null,null,{"$f":"L13-N13","v":0}]
[null,{"$f":"NAMES!C22","v":"Block 1"},"PLYR3",{"$f":"IF(E15=1,\"W\",\"\")","v":""},{"$f":"IF(D17>0,1,0)","v":0},null,{"$f":"IF(H15=1,\"W\",\"\")","v":""},{"$f":"IF(G17>0,1,0)","v":0},null,null,null,null,{"$f":"IF(N15=1,\"W\",\"\")","v":""},{"$f":"IF(M17>0,1,0)","v":0}]
[null,{"$f":"NAMES!C23","v":"Player 3"},{"$f":"K10","v":-1E-3},{"$f":"RESULTS!$E$10","v":-1E-3},{"$f":"I10","v":-1E-3},{"$f":"K13","v":-1E-3},{"$f":"RESULTS!$E$9","v":-1E-3},{"$f":"I13","v":-1E-3},null,null,null,{"$f":"SCORES!L12","v":-1E-3},{"$f":"RESULTS!$E$16","v":-1E-3},{"$f":"SCORES!L14","v":-1E-3},null,{"$f":"SUM(C15:O15)","v":0},{"$f":"SUM(C16,F16,I16,L16,O16)","v":-3.0000000000000001E-3},{"$f":"SUM(E16,H16,K16,N16)","v":-3.0000000000000001E-3},{"$f":"SUM(C17:O17)","v":0},null,{"$f":"VLOOKUP(C15,PLACE1,5,FALSE)","v":2}]
[null,{"$f":"SEED!E10","v":0},null,{"$f":"C16-E16","v":0},null,null,{"$f":"F16-H16","v":0},null,null,null,null,null,{"$f":"L16-N16","v":0}]
[null,{"$f":"NAMES!C27","v":"Block 1"},"PLYR4",{"$f":"IF(E18=1,\"W\",\"\")","v":""},{"$f":"IF(D20>0,1,0)","v":0},null,{"$f":"IF(H18=1,\"W\",\"\")","v":""},{"$f":"IF(G20>0,1,0)","v":0},null,{"$f":"IF(K18=1,\"W\",\"\")","v":""},{"$f":"IF(J20>0,1,0)","v":0}]
[null,{"$f":"NAMES!C28","v":"Player 4"},{"$f":"N10","v":-1E-3},{"$f":"RESULTS!$E$7","v":-1E-3},{"$f":"L10","v":-1E-3},{"$f":"N13","v":-1E-3},{"$f":"RESULTS!$E$12","v":-1E-3},{"$f":"L13","v":-1E-3},{"$f":"N16","v":-1E-3},{"$f":"RESULTS!$E$17","v":-1E-3},{"$f":"L16","v":-1E-3},null,null,null,null,{"$f":"SUM(C18:O18)","v":0},{"$f":"SUM(C19,F19,I19,L19,O19)","v":-3.0000000000000001E-3},{"$f":"SUM(E19,H19,K19,N19)","v":-3.0000000000000001E-3},{"$f":"SUM(C20:O20)","v":0},null,{"$f":"VLOOKUP(C18,PLACE1,5,FALSE)","v":1}]
[null,{"$f":"SEED!E11","v":0},null,{"$f":"C19-E19","v":0},null,null,{"$f":"F19-H19","v":0},null,null,{"$f":"I19-K19","v":0}]
[null,null,null,null,null,null,null,null,null,null,null,"CHECKSUMS",null,null,null,{"$f":"SUM(P10,P13,P16,P19,)","v":0},{"$f":"SUM(Q10,Q13,Q16,Q19,)","v":-1.2E-2},{"$f":"SUM(R10,R13,R16,R19,)","v":-1.2E-2},{"$f":"SUM(S10,S13,S16,S19,)","v":0}]
[]
[null,null,null,null,null,null,null,null,null,{"$f":"J4","v":"TOURNAMENT"}]
[null,null,null,null,null,null,{"$f":"G5","v":"DATE"}]
[null,null,null,null,null,null,{"$f":"NAMES!$C$9","v":"GROUP"}]
[]
[null,{"$f":"SEED!I6","v":"BLOCK 2"},{"$f":"SEED!I8","v":" Block 2 Player 1"},null,null,{"$f":"SEED!I9","v":" Block 2 Player 2"},null,null,{"$f":"SEED!I10","v":" Block 2 Player 3"},null,null,{"$f":"SEED!I11","v":" Block 2 Player 4"},null,null,null,"WINS","POINTS FOR","POINTS AGAINST","NET   POINTS",null,"PLACE",null,null,"NAME","WINS","NET","FOR"]
[null,{"$f":"NAMES!C33","v":"Block 2"},"PLYR1",null,null,null,{"$f":"IF(H28=1,\"W\",\"\")","v":""},{"$f":"IF(G30>0,1,0)","v":0},null,{"$f":"IF(K28=1,\"W\",\"\")","v":""},{"$f":"IF(J30>0,1,0)","v":0},null,{"$f":"IF(N28=1,\"W\",\"\")","v":""},{"$f":"IF(M30>0,1,0)","v":0},null,null,null,null,null,null,null,null,null,{"$f":"$C$37","v":"PLYR4"},{"$f":"$P$38","v":0},{"$f":"$S$38","v":0},{"$f":"$Q$38","v":-3.0000000000000001E-3},1]
[null,{"$f":"NAMES!C34","v":"Player 1"},null,null,null,{"$f":"SCORES!H28","v":-1E-3},{"$f":"RESULTS!$E$31","v":-1E-3},{"$f":"SCORES!H26","v":-1E-3},{"$f":"SCORES!L21","v":-1E-3},{"$f":"RESULTS!$E$27","v":-1E-3},{"$f":"SCORES!L19","v":-1E-3},{"$f":"SCORES!D19","v":-1E-3},{"$f":"RESULTS!$E$22","v":-1E-3},{"$f":"SCORES!D21","v":-1E-3},null,{"$f":"SUM(C28:O28)","v":0},{"$f":"SUM(C29,F29,I29,L29,O29)","v":-3.0000000000000001E-3},{"$f":"SUM(E29,H29,K29,N29)","v":-3.0000000000000001E-3},{"$f":"SUM(C30:O30)","v":0},null,{"$f":"VLOOKUP(C28,PLACE2,5,FALSE)","v":4},null,null,{"$f":"$C$34","v":"PLYR3"},{"$f":"$P$35","v":0},{"$f":"$S$35","v":0},{"$f":"$Q$35","v":-3.0000000000000001E-3},2]
[null,{"$f":"SEED!J8","v":0},null,null,null,null,{"$f":"F29-H29","v":0},null,null,{"$f":"I29-K29","v":0},null,null,{"$f":"L29-N29","v":0},null,null,null,null,null,null,null,null,null,null,{"$f":"$C$31","v":"PLYR2"},{"$f":"$P$32","v":0},{"$f":"$S$32","v":0},{"$f":"$Q$32","v":-3.0000000000000001E-3},3]
[null,{"$f":"NAMES!C38","v":"Block 2"},"PLYR2",{"$f":"IF(E31=1,\"W\",\"\")","v":""},{"$f":"IF(D33>0,1,0)","v":0},null,null,null,null,{"$f":"IF(K31=1,\"W\",\"\")","v":""},{"$f":"IF(J33>0,1,0)","v":0},null,{"$f":"IF(N31=1,\"W\",\"\")","v":""},{"$f":"IF(M33>0,1,0)","v":0},null,null,null,null,null,null,null,null,null,{"$f":"$C$28","v":"PLYR1"},{"$f":"$P$29","v":0},{"$f":"$S$29","v":0},{"$f":"$Q$29","v":-3.0000000000000001E-3},4]
[null,{"$f":"NAMES!C39","v":"Player 2"},{"$f":"H29","v":-1E-3},{"$f":"RESULTS!$E$30","v":-1E-3},{"$f":"F29","v":-1E-3},null,null,null,{"$f":"SCORES!D26","v":-1E-3},{"$f":"RESULTS!$E$24","v":-1E-3},{"$f":"SCORES!D28","v":-1E-3},{"$f":"SCORES!H21","v":-1E-3},{"$f":"RESULTS!$E$29","v":-1E-3},{"$f":"SCORES!H19","v":-1E-3},null,{"$f":"SUM(C31:O31)","v":0},{"$f":"SUM(C32,F32,I32,L32,O32)","v":-3.0000000000000001E-3},{"$f":"SUM(E32,H32,K32,N32)","v":-3.0000000000000001E-3},{"$f":"SUM(C33:O33)","v":0},null,{"$f":"VLOOKUP(C31,PLACE2,5,FALSE)","v":3}]
[null,{"$f":"SEED!J9","v":0},null,{"$f":"C32-E32","v":0},null,null,null,null,null,{"$f":"I32-K32","v":0},null,null,{"$f":"L32-N32","v":0}]
[null,{"$f":"NAMES!C43","v":"Block 2"},"PLYR3",{"$f":"IF(E34=1,\"W\",\"\")","v":""},{"$f":"IF(D36>0,1,0)","v":0},null,{"$f":"IF(H34=1,\"W\",\"\")","v":""},{"$f":"IF(G36>0,1,0)","v":0},null,null,null,null,{"$f":"IF(N34=1,\"W\",\"\")","v":""},{"$f":"IF(M36>0,1,0)","v":0}]
[null,{"$f":"NAMES!C44","v":"Player 3"},{"$f":"K29","v":-1E-3},{"$f":"RESULTS!$E$26","v":-1E-3},{"$f":"I29","v":-1E-3},{"$f":"K32","v":-1E-3},{"$f":"RESULTS!$E$25","v":-1E-3},{"$f":"I32","v":-1E-3},null,null,null,{"$f":"SCORES!L26","v":-1E-3},{"$f":"RESULTS!$E$32","v":-1E-3},{"$f":"SCORES!L28","v":-1E-3},null,{"$f":"SUM(C34:O34)","v":0},{"$f":"SUM(C35,F35,I35,L35,O35)","v":-3.0000000000000001E-3},{"$f":"SUM(E35,H35,K35,N35)","v":-3.0000000000000001E-3},{"$f":"SUM(C36:O36)","v":0},null,{"$f":"VLOOKUP(C34,PLACE2,5,FALSE)","v":2}]
[null,{"$f":"SEED!J10","v":0},null,{"$f":"C35-E35","v":0},null,null,{"$f":"F35-H35","v":0},null,null,null,null,null,{"$f":"L35-N35","v":0}]
[null,{"$f":"NAMES!C48","v":"Block 2"},"PLYR4",{"$f":"IF(E37=1,\"W\",\"\")","v":""},{"$f":"IF(D39>0,1,0)","v":0},null,{"$f":"IF(H37=1,\"W\",\"\")","v":""},{"$f":"IF(G39>0,1,0)","v":0},null,{"$f":"IF(K37=1,\"W\",\"\")","v":""},{"$f":"IF(J39>0,1,0)","v":0}]
[null,{"$f":"NAMES!C49","v":"Player 4"},{"$f":"N29","v":-1E-3},{"$f":"RESULTS!$E$23","v":-1E-3},{"$f":"L29","v":-1E-3},{"$f":"N32","v":-1E-3},{"$f":"RESULTS!$E$28","v":-1E-3},{"$f":"L32","v":-1E-3},{"$f":"N35","v":-1E-3},{"$f":"RESULTS!$E$33","v":-1E-3},{"$f":"L35","v":-1E-3},null,null,null,null,{"$f":"SUM(C37:O37)","v":0},{"$f":"SUM(C38,F38,I38,L38,O38)","v":-3.0000000000000001E-3},{"$f":"SUM(E38,H38,K38,N38)","v":-3.0000000000000001E-3},{"$f":"SUM(C39:O39)","v":0},null,{"$f":"VLOOKUP(C37,PLACE2,5,FALSE)","v":1}]
[null,{"$f":"SEED!J11","v":0},null,{"$f":"C38-E38","v":0},null,null,{"$f":"F38-H38","v":0},null,null,{"$f":"I38-K38","v":0}]
[null,null,null,null,null,null,null,null,null,null,null,"CHECKSUMS",null,null,null,{"$f":"SUM(P29,P32,P35,P38,)","v":0},{"$f":"SUM(Q29,Q32,Q35,Q38,)","v":-1.2E-2},{"$f":"SUM(R29,R32,R35,R38,)","v":-1.2E-2},{"$f":"SUM(S29,S32,S35,S38,)","v":0}]
[]
[null,null,null,null,null,null,null,null,null,{"$f":"J4","v":"TOURNAMENT"}]
[null,null,null,null,null,null,{"$f":"G5","v":"DATE"}]
[null,null,null,null,null,null,{"$f":"NAMES!$C$9","v":"GROUP"}]
[]
[null,{"$f":"SEED!D13","v":"BLOCK 3"},{"$f":"SEED!D15","v":" Block 3 Player 1"},null,null,{"$f":"SEED!D16","v":" Block 3 Player 2"},null,null,{"$f":"SEED!D17","v":" Block 3 Player 3"},null,null,{"$f":"SEED!D18","v":" Block 3 Player 4"},null,null,null,"WINS","POINTS FOR","POINTS AGAINST","NET   POINTS",null,"PLACE",null,null,"NAME","WINS","NET","FOR"]
[null,{"$f":"NAMES!C54","v":"Block 3"},"PLYR1",null,null,null,{"$f":"IF(H47=1,\"W\",\"\")","v":""},{"$f":"IF(G49>0,1,0)","v":0},null,{"$f":"IF(K47=1,\"W\",\"\")","v":""},{"$f":"IF(J49>0,1,0)","v":0},null,{"$f":"IF(N47=1,\"W\",\"\")","v":""},{"$f":"IF(M49>0,1,0)","v":0},null,null,null,null,null,null,null,null,null,{"$f":"$C$56","v":"PLYR4"},{"$f":"$P$57","v":0},{"$f":"$S$57","v":0},{"$f":"$Q$57","v":-3.0000000000000001E-3},1]
[null,{"$f":"NAMES!C55","v":"Player 1"},null,null,null,{"$f":"SCORES!H42","v":-1E-3},{"$f":"RESULTS!$E$47","v":-1E-3},{"$f":"SCORES!H40","v":-1E-3},{"$f":"SCORES!L35","v":-1E-3},{"$f":"RESULTS!$E$43","v":-1E-3},{"$f":"SCORES!L33","v":-1E-3},{"$f":"SCORES!D33","v":-1E-3},{"$f":"RESULTS!$E$38","v":-1E-3},{"$f":"SCORES!D35","v":-1E-3},null,{"$f":"SUM(C47:O47)","v":0},{"$f":"SUM(C48,F48,I48,L48,O48)","v":-3.0000000000000001E-3},{"$f":"SUM(E48,H48,K48,N48)","v":-3.0000000000000001E-3},{"$f":"SUM(C49:O49)","v":0},null,{"$f":"VLOOKUP(C47,PLACE3,5,FALSE)","v":4},null,null,{"$f":"$C$53","v":"PLYR3"},{"$f":"$P$54","v":0},{"$f":"$S$54","v":0},{"$f":"$Q$54","v":-3.0000000000000001E-3},2]
[null,{"$f":"SEED!E15","v":0},null,null,null,null,{"$f":"F48-H48","v":0},null,null,{"$f":"I48-K48","v":0},null,null,{"$f":"L48-N48","v":0},null,null,null,null,null,null,null,null,null,null,{"$f":"$C$50","v":"PLYR2"},{"$f":"$P$51","v":0},{"$f":"$S$51","v":0},{"$f":"$Q$51","v":-3.0000000000000001E-3},3]
[null,{"$f":"NAMES!C59","v":"Block 3"},"PLYR2",{"$f":"IF(E50=1,\"W\",\"\")","v":""},{"$f":"IF(D52>0,1,0)","v":0},null,null,null,null,{"$f":"IF(K50=1,\"W\",\"\")","v":""},{"$f":"IF(J52>0,1,0)","v":0},null,{"$f":"IF(N50=1,\"W\",\"\")","v":""},{"$f":"IF(M52>0,1,0)","v":0},null,null,null,null,null,null,null,null,null,{"$f":"$C$47","v":"PLYR1"},{"$f":"$P$48","v":0},{"$f":"$S$48","v":0},{"$f":"$Q$48","v":-3.0000000000000001E-3},4]
[null,{"$f":"NAMES!C60","v":"Player 2"},{"$f":"H48","v":-1E-3},{"$f":"RESULTS!$E$46","v":-1E-3},{"$f":"F48","v":-1E-3},null,null,null,{"$f":"SCORES!D40","v":-1E-3},null,{"$f":"SCORES!D42","v":-1E-3},{"$f":"SCORES!H35","v":-1E-3},{"$f":"RESULTS!$E$45","v":-1E-3},{"$f":"SCORES!H33","v":-1E-3},null,{"$f":"SUM(C50:O50)","v":0},{"$f":"SUM(C51,F51,I51,L51,O51)","v":-3.0000000000000001E-3},{"$f":"SUM(E51,H51,K51,N51)","v":-3.0000000000000001E-3},{"$f":"SUM(C52:O52)","v":0},null,{"$f":"VLOOKUP(C50,PLACE3,5,FALSE)","v":3}]
[null,{"$f":"SEED!E16","v":0},null,{"$f":"C51-E51","v":0},null,null,null,null,null,{"$f":"I51-K51","v":0},null,null,{"$f":"L51-N51","v":0}]
[null,{"$f":"NAMES!C64","v":"Block 3"},"PLYR3",{"$f":"IF(E53=1,\"W\",\"\")","v":""},{"$f":"IF(D55>0,1,0)","v":0},null,{"$f":"IF(H53=1,\"W\",\"\")","v":""},{"$f":"IF(G55>0,1,0)","v":0},null,null,null,null,{"$f":"IF(N53=1,\"W\",\"\")","v":""},{"$f":"IF(M55>0,1,0)","v":0}]
[null,{"$f":"NAMES!C65","v":"Player 3"},{"$f":"K48","v":-1E-3},{"$f":"RESULTS!$E$42","v":-1E-3},{"$f":"I48","v":-1E-3},{"$f":"K51","v":-1E-3},{"$f":"RESULTS!$E$41","v":-1E-3},{"$f":"I51","v":-1E-3},null,null,null,{"$f":"SCORES!L40","v":-1E-3},{"$f":"RESULTS!$E$48","v":-1E-3},{"$f":"SCORES!L42","v":-1E-3},null,{"$f":"SUM(C53:O53)","v":0},{"$f":"SUM(C54,F54,I54,L54,O54)","v":-3.0000000000000001E-3},{"$f":"SUM(E54,H54,K54,N54)","v":-3.0000000000000001E-3},{"$f":"SUM(C55:O55)","v":0},null,{"$f":"VLOOKUP(C53,PLACE3,5,FALSE)","v":2}]
[null,{"$f":"SEED!E17","v":0},null,{"$f":"C54-E54","v":0},null,null,{"$f":"F54-H54","v":0},null,null,null,null,null,{"$f":"L54-N54","v":0}]
[null,{"$f":"NAMES!C69","v":"Block 3"},"PLYR4",{"$f":"IF(E56=1,\"W\",\"\")","v":""},{"$f":"IF(D58>0,1,0)","v":0},null,{"$f":"IF(H56=1,\"W\",\"\")","v":""},{"$f":"IF(G58>0,1,0)","v":0},null,{"$f":"IF(K56=1,\"W\",\"\")","v":""},{"$f":"IF(J58>0,1,0)","v":0}]
[null,{"$f":"NAMES!C70","v":"Player 4"},{"$f":"N48","v":-1E-3},{"$f":"RESULTS!$E$39","v":-1E-3},{"$f":"L48","v":-1E-3},{"$f":"N51","v":-1E-3},{"$f":"RESULTS!$E$44","v":-1E-3},{"$f":"L51","v":-1E-3},{"$f":"N54","v":-1E-3},{"$f":"RESULTS!$E$49","v":-1E-3},{"$f":"L54","v":-1E-3},null,null,null,null,{"$f":"SUM(C56:O56)","v":0},{"$f":"SUM(C57,F57,I57,L57,O57)","v":-3.0000000000000001E-3},{"$f":"SUM(E57,H57,K57,N57)","v":-3.0000000000000001E-3},{"$f":"SUM(C58:O58)","v":0},null,{"$f":"VLOOKUP(C56,PLACE3,5,FALSE)","v":1}]
[null,{"$f":"SEED!E18","v":0},null,{"$f":"C57-E57","v":0},null,null,{"$f":"F57-H57","v":0},null,null,{"$f":"I57-K57","v":0}]
[null,null,null,null,null,null,null,null,null,null,null,"CHECKSUMS",null,null,null,{"$f":"SUM(P48,P51,P54,P57,)","v":0},{"$f":"SUM(Q48,Q51,Q54,Q57,)","v":-1.2E-2},{"$f":"SUM(R48,R51,R54,R57,)","v":-1.2E-2},{"$f":"SUM(S48,S51,S54,S57,)","v":0}]
[]
[null,null,null,null,null,null,null,null,null,{"$f":"J4","v":"TOURNAMENT"}]
[null,null,null,null,null,null,{"$f":"G5","v":"DATE"}]
[null,null,null,null,null,null,{"$f":"NAMES!$C$9","v":"GROUP"}]
[]
[null,{"$f":"SEED!I13","v":"BLOCK 4"},{"$f":"SEED!I15","v":" Block 4 Player 1"},null,null,{"$f":"SEED!I16","v":" Block 4 Player 2"},null,null,{"$f":"SEED!I17","v":" Block 4 Player 3"},null,null,{"$f":"SEED!I18","v":" Block 4 Player 4"},null,null,null,"WINS","POINTS FOR","POINTS AGAINST","NET   POINTS",null,"PLACE",null,null,"NAME","WINS","NET","FOR"]
[null,{"$f":"NAMES!C75","v":"Block 4"},"PLYR1",null,null,null,{"$f":"IF(H66=1,\"W\",\"\")","v":""},{"$f":"IF(G68>0,1,0)","v":0},null,{"$f":"IF(K66=1,\"W\",\"\")","v":""},{"$f":"IF(J68>0,1,0)","v":0},null,{"$f":"IF(N66=1,\"W\",\"\")","v":""},{"$f":"IF(M68>0,1,0)","v":0},null,null,null,null,null,null,null,null,null,{"$f":"$C$75","v":"PLYR4"},{"$f":"$P$76","v":0},{"$f":"$S$76","v":0},{"$f":"$Q$76","v":-3.0000000000000001E-3},1]
[null,{"$f":"NAMES!C76","v":"Player 1"},null,null,null,{"$f":"SCORES!H56","v":-1E-3},{"$f":"RESULTS!$E$63","v":-1E-3},{"$f":"SCORES!H54","v":-1E-3},{"$f":"SCORES!L49","v":-1E-3},{"$f":"RESULTS!$E$59","v":-1E-3},{"$f":"SCORES!L47","v":-1E-3},{"$f":"SCORES!D47","v":-1E-3},{"$f":"RESULTS!$E$54","v":-1E-3},{"$f":"SCORES!D49","v":-1E-3},null,{"$f":"SUM(C66:O66)","v":0},{"$f":"SUM(C67,F67,I67,L67,O67)","v":-3.0000000000000001E-3},{"$f":"SUM(E67,H67,K67,N67)","v":-3.0000000000000001E-3},{"$f":"SUM(C68:O68)","v":0},null,{"$f":"VLOOKUP(C66,PLACE4,5,FALSE)","v":4},null,null,{"$f":"$C$72","v":"PLYR3"},{"$f":"$P$73","v":0},{"$f":"$S$73","v":0},{"$f":"$Q$73","v":-3.0000000000000001E-3},2]
[null,{"$f":"SEED!J15","v":0},null,null,null,null,{"$f":"F67-H67","v":0},null,null,{"$f":"I67-K67","v":0},null,null,{"$f":"L67-N67","v":0},null,null,null,null,null,null,null,null,null,null,{"$f":"$C$69","v":"PLYR2"},{"$f":"$P$70","v":0},{"$f":"$S$70","v":0},{"$f":"$Q$70","v":-3.0000000000000001E-3},3]
[null,{"$f":"NAMES!C80","v":"Block 4"},"PLYR2",{"$f":"IF(E69=1,\"W\",\"\")","v":""},{"$f":"IF(D71>0,1,0)","v":0},null,null,null,null,{"$f":"IF(K69=1,\"W\",\"\")","v":""},{"$f":"IF(J71>0,1,0)","v":0},null,{"$f":"IF(N69=1,\"W\",\"\")","v":""},{"$f":"IF(M71>0,1,0)","v":0},null,null,null,null,null,null,null,null,null,{"$f":"$C$66","v":"PLYR1"},{"$f":"$P$67","v":0},{"$f":"$S$67","v":0},{"$f":"$Q$67","v":-3.0000000000000001E-3},4]
[null,{"$f":"NAMES!C81","v":"Player 2"},{"$f":"H67","v":-1E-3},{"$f":"RESULTS!$E$62","v":-1E-3},{"$f":"F67","v":-1E-3},null,null,null,{"$f":"SCORES!D54","v":-1E-3},{"$f":"RESULTS!$E$56","v":-1E-3},{"$f":"SCORES!D56","v":-1E-3},{"$f":"SCORES!H49","v":-1E-3},{"$f":"RESULTS!$E$61","v":-1E-3},{"$f":"SCORES!H47","v":-1E-3},null,{"$f":"SUM(C69:O69)","v":0},{"$f":"SUM(C70,F70,I70,L70,O70)","v":-3.0000000000000001E-3},{"$f":"SUM(E70,H70,K70,N70)","v":-3.0000000000000001E-3},{"$f":"SUM(C71:O71)","v":0},null,{"$f":"VLOOKUP(C69,PLACE4,5,FALSE)","v":3}]
[null,{"$f":"SEED!J16","v":0},null,{"$f":"C70-E70","v":0},null,null,null,null,null,{"$f":"I70-K70","v":0},null,null,{"$f":"L70-N70","v":0}]
[null,{"$f":"NAMES!C85","v":"Block 4"},"PLYR3",{"$f":"IF(E72=1,\"W\",\"\")","v":""},{"$f":"IF(D74>0,1,0)","v":0},null,{"$f":"IF(H72=1,\"W\",\"\")","v":""},{"$f":"IF(G74>0,1,0)","v":0},null,null,null,null,{"$f":"IF(N72=1,\"W\",\"\")","v":""},{"$f":"IF(M74>0,1,0)","v":0}]
[null,{"$f":"NAMES!C86","v":"Player 3"},{"$f":"K67","v":-1E-3},{"$f":"RESULTS!$E$58","v":-1E-3},{"$f":"I67","v":-1E-3},{"$f":"K70","v":-1E-3},{"$f":"RESULTS!$E$57","v":-1E-3},{"$f":"I70","v":-1E-3},null,null,null,{"$f":"SCORES!L54","v":-1E-3},{"$f":"RESULTS!$E$64","v":-1E-3},{"$f":"SCORES!L56","v":-1E-3},null,{"$f":"SUM(C72:O72)","v":0},{"$f":"SUM(C73,F73,I73,L73,O73)","v":-3.0000000000000001E-3},{"$f":"SUM(E73,H73,K73,N73)","v":-3.0000000000000001E-3},{"$f":"SUM(C74:O74)","v":0},null,{"$f":"VLOOKUP(C72,PLACE4,5,FALSE)","v":2}]
[null,{"$f":"SEED!J17","v":0},null,{"$f":"C73-E73","v":0},null,null,{"$f":"F73-H73","v":0},null,null,null,null,null,{"$f":"L73-N73","v":0}]
[null,{"$f":"NAMES!C90","v":"Block 4"},"PLYR4",{"$f":"IF(E75=1,\"W\",\"\")","v":""},{"$f":"IF(D77>0,1,0)","v":0},null,{"$f":"IF(H75=1,\"W\",\"\")","v":""},{"$f":"IF(G77>0,1,0)","v":0},null,{"$f":"IF(K75=1,\"W\",\"\")","v":""},{"$f":"IF(J77>0,1,0)","v":0}]
[null,{"$f":"NAMES!C91","v":"Player 4"},{"$f":"N67","v":-1E-3},{"$f":"RESULTS!$E$55","v":-1E-3},{"$f":"L67","v":-1E-3},{"$f":"N70","v":-1E-3},{"$f":"RESULTS!$E$60","v":-1E-3},{"$f":"L70","v":-1E-3},{"$f":"N73","v":-1E-3},{"$f":"RESULTS!$E$65","v":-1E-3},{"$f":"L73","v":-1E-3},null,null,null,null,{"$f":"SUM(C75:O75)","v":0},{"$f":"SUM(C76,F76,I76,L76,O76)","v":-3.0000000000000001E-3},{"$f":"SUM(E76,H76,K76,N76)","v":-3.0000000000000001E-3},{"$f":"SUM(C77:O77)","v":0},null,{"$f":"VLOOKUP(C75,PLACE4,5,FALSE)","v":1}]
[null,{"$f":"SEED!J18","v":0},null,{"$f":"C76-E76","v":0},null,null,{"$f":"F76-H76","v":0},null,null,{"$f":"I76-K76","v":0}]
[null,null,null,null,null,null,null,null,null,null,null,"CHECKSUMS",null,null,null,{"$f":"SUM(P67,P70,P73,P76,)","v":0},{"$f":"SUM(Q67,Q70,Q73,Q76,)","v":-1.2E-2},{"$f":"SUM(R67,R70,R73,R76,)","v":-1.2E-2},{"$f":"SUM(S67,S70,S73,S76,)","v":0}]
[]
[null,null,null,null,null,null,null,null,null,{"$f":"J4","v":"TOURNAMENT"}]
[null,null,null,null,null,null,{"$f":"G5","v":"DATE"}]
[null,null,null,null,null,null,{"$f":"NAMES!$C$9","v":"GROUP"}]
[]
[null,{"$f":"SEED!D20","v":"BLOCK 5"},{"$f":"SEED!D22","v":" Block 5 Player 1"},null,null,{"$f":"SEED!D23","v":" Block 5 Player 2"},null,null,{"$f":"SEED!D24","v":" Block 5 Player 3"},null,null,{"$f":"SEED!D25","v":" Block 5 Player 4"},null,null,null,"WINS","POINTS FOR","POINTS AGAINST","NET   POINTS",null,"PLACE",null,null,"NAME","WINS","NET","FOR"]
[null,{"$f":"NAMES!C96","v":"Block 5"},"PLYR1",null,null,null,{"$f":"IF(H85=1,\"W\",\"\")","v":""},{"$f":"IF(G87>0,1,0)","v":0},null,{"$f":"IF(K85=1,\"W\",\"\")","v":""},{"$f":"IF(J87>0,1,0)","v":0},null,{"$f":"IF(N85=1,\"W\",\"\")","v":""},{"$f":"IF(M87>0,1,0)","v":0},null,null,null,null,null,null,null,null,null,{"$f":"$C$94","v":"PLYR4"},{"$f":"$P$95","v":0},{"$f":"$S$95","v":0},{"$f":"$Q$95","v":-3.0000000000000001E-3},1]
[null,{"$f":"NAMES!C97","v":"Player 1"},null,null,null,{"$f":"SCORES!H70","v":-1E-3},{"$f":"RESULTS!$E$79","v":-1E-3},{"$f":"SCORES!H68","v":-1E-3},{"$f":"SCORES!L63","v":-1E-3},{"$f":"RESULTS!$E$75","v":-1E-3},{"$f":"SCORES!L61","v":-1E-3},{"$f":"SCORES!D61","v":-1E-3},{"$f":"RESULTS!$E$70","v":-1E-3},{"$f":"SCORES!D63","v":-1E-3},null,{"$f":"SUM(C85:O85)","v":0},{"$f":"SUM(C86,F86,I86,L86,O86)","v":-3.0000000000000001E-3},{"$f":"SUM(E86,H86,K86,N86)","v":-3.0000000000000001E-3},{"$f":"SUM(C87:O87)","v":0},null,{"$f":"VLOOKUP(C85,PLACE5,5,FALSE)","v":4},null,null,{"$f":"$C$91","v":"PLYR3"},{"$f":"$P$92","v":0},{"$f":"$S$92","v":0},{"$f":"$Q$92","v":-3.0000000000000001E-3},2]
[null,{"$f":"SEED!E22","v":0},null,null,null,null,{"$f":"F86-H86","v":0},null,null,{"$f":"I86-K86","v":0},null,null,{"$f":"L86-N86","v":0},null,null,null,null,null,null,null,null,null,null,{"$f":"$C$88","v":"PLYR2"},{"$f":"$P$89","v":0},{"$f":"$S$89","v":0},{"$f":"$Q$89","v":-3.0000000000000001E-3},3]
[null,{"$f":"NAMES!C101","v":"Block 5"},"PLYR2",{"$f":"IF(E88=1,\"W\",\"\")","v":""},{"$f":"IF(D90>0,1,0)","v":0},null,null,null,null,{"$f":"IF(K88=1,\"W\",\"\")","v":""},{"$f":"IF(J90>0,1,0)","v":0},null,{"$f":"IF(N88=1,\"W\",\"\")","v":""},{"$f":"IF(M90>0,1,0)","v":0},null,null,null,null,null,null,null,null,null,{"$f":"$C$85","v":"PLYR1"},{"$f":"$P$86","v":0},{"$f":"$S$86","v":0},{"$f":"$Q$86","v":-3.0000000000000001E-3},4]
[null,{"$f":"NAMES!C102","v":"Player 2"},{"$f":"H86","v":-1E-3},{"$f":"RESULTS!$E$78","v":-1E-3},{"$f":"F86","v":-1E-3},null,null,null,{"$f":"SCORES!D68","v":-1E-3},{"$f":"RESULTS!$E$72","v":-1E-3},{"$f":"SCORES!D70","v":-1E-3},{"$f":"SCORES!H63","v":-1E-3},{"$f":"RESULTS!$E$77","v":-1E-3},{"$f":"SCORES!H61","v":-1E-3},null,{"$f":"SUM(C88:O88)","v":0},{"$f":"SUM(C89,F89,I89,L89,O89)","v":-3.0000000000000001E-3},{"$f":"SUM(E89,H89,K89,N89)","v":-3.0000000000000001E-3},{"$f":"SUM(C90:O90)","v":0},null,{"$f":"VLOOKUP(C88,PLACE5,5,FALSE)","v":3}]
[null,{"$f":"SEED!E23","v":0},null,{"$f":"C89-E89","v":0},null,null,null,null,null,{"$f":"I89-K89","v":0},null,null,{"$f":"L89-N89","v":0}]
[null,{"$f":"NAMES!C106","v":"Block 5"},"PLYR3",{"$f":"IF(E91=1,\"W\",\"\")","v":""},{"$f":"IF(D93>0,1,0)","v":0},null,{"$f":"IF(H91=1,\"W\",\"\")","v":""},{"$f":"IF(G93>0,1,0)","v":0},null,null,null,null,{"$f":"IF(N91=1,\"W\",\"\")","v":""},{"$f":"IF(M93>0,1,0)","v":0}]
[null,{"$f":"NAMES!C107","v":"Player 3"},{"$f":"K86","v":-1E-3},{"$f":"RESULTS!$E$74","v":-1E-3},{"$f":"I86","v":-1E-3},{"$f":"K89","v":-1E-3},{"$f":"RESULTS!$E$73","v":-1E-3},{"$f":"I89","v":-1E-3},null,null,null,{"$f":"SCORES!L68","v":-1E-3},{"$f":"RESULTS!$E$80","v":-1E-3},{"$f":"SCORES!L70","v":-1E-3},null,{"$f":"SUM(C91:O91)","v":0},{"$f":"SUM(C92,F92,I92,L92,O92)","v":-3.0000000000000001E-3},{"$f":"SUM(E92,H92,K92,N92)","v":-3.0000000000000001E-3},{"$f":"SUM(C93:O93)","v":0},null,{"$f":"VLOOKUP(C91,PLACE5,5,FALSE)","v":2}]
[null,{"$f":"SEED!E24","v":0},null,{"$f":"C92-E92","v":0},null,null,{"$f":"F92-H92","v":0},null,null,null,null,null,{"$f":"L92-N92","v":0}]
[null,{"$f":"NAMES!C111","v":"Block 5"},"PLYR4",{"$f":"IF(E94=1,\"W\",\"\")","v":""},{"$f":"IF(D96>0,1,0)","v":0},null,{"$f":"IF(H94=1,\"W\",\"\")","v":""},{"$f":"IF(G96>0,1,0)","v":0},null,{"$f":"IF(K94=1,\"W\",\"\")","v":""},{"$f":"IF(J96>0,1,0)","v":0}]
[null,{"$f":"NAMES!C112","v":"Player 4"},{"$f":"N86","v":-1E-3},{"$f":"RESULTS!$E$71","v":-1E-3},{"$f":"L86","v":-1E-3},{"$f":"N89","v":-1E-3},{"$f":"RESULTS!$E$76","v":-1E-3},{"$f":"L89","v":-1E-3},{"$f":"N92","v":-1E-3},{"$f":"RESULTS!$E$81","v":-1E-3},{"$f":"L92","v":-1E-3},null,null,null,null,{"$f":"SUM(C94:O94)","v":0},{"$f":"SUM(C95,F95,I95,L95,O95)","v":-3.0000000000000001E-3},{"$f":"SUM(E95,H95,K95,N95)","v":-3.0000000000000001E-3},{"$f":"SUM(C96:O96)","v":0},null,{"$f":"VLOOKUP(C94,PLACE5,5,FALSE)","v":1}]
[null,{"$f":"SEED!E25","v":0},null,{"$f":"C95-E95","v":0},null,null,{"$f":"F95-H95","v":0},null,null,{"$f":"I95-K95","v":0}]
[null,null,null,null,null,null,null,null,null,null,null,"CHECKSUMS",null,null,null,{"$f":"SUM(P86,P89,P92,P95,)","v":0},{"$f":"SUM(Q86,Q89,Q92,Q95,)","v":-1.2E-2},{"$f":"SUM(R86,R89,R92,R95,)","v":-1.2E-2},{"$f":"SUM(S86,S89,S92,S95,)","v":0}]
[]
[null,null,null,null,null,null,null,null,null,{"$f":"J4","v":"TOURNAMENT"}]
[null,null,null,null,null,null,{"$f":"G5","v":"DATE"}]
[null,null,null,null,null,null,{"$f":"NAMES!$C$9","v":"GROUP"}]
[]
[null,{"$f":"SEED!I20","v":"BLOCK 6"},{"$f":"SEED!I22","v":" Block 6 Player 1"},null,null,{"$f":"SEED!I23","v":" Block 6 Player 2"},null,null,{"$f":"SEED!I24","v":" Block 6 Player 3"},null,null,{"$f":"SEED!I25","v":" Block 6 Player 4"},null,null,null,"WINS","POINTS FOR","POINTS AGAINST","NET   POINTS",null,"PLACE",null,null,"NAME","WINS","NET","FOR"]
[null,{"$f":"NAMES!C117","v":"Block 6"},"PLYR1",null,null,null,{"$f":"IF(H104=1,\"W\",\"\")","v":""},{"$f":"IF(G106>0,1,0)","v":0},null,{"$f":"IF(K104=1,\"W\",\"\")","v":""},{"$f":"IF(J106>0,1,0)","v":0},null,{"$f":"IF(N104=1,\"W\",\"\")","v":""},{"$f":"IF(M106>0,1,0)","v":0},null,null,null,null,null,null,null,null,null,{"$f":"$C$113","v":"PLYR4"},{"$f":"$P$114","v":0},{"$f":"$S$114","v":0},{"$f":"$Q$114","v":-3.0000000000000001E-3},1]
[null,{"$f":"NAMES!C118","v":"Player 1"},null,null,null,{"$f":"SCORES!H84","v":-1E-3},{"$f":"RESULTS!$E$95","v":-1E-3},{"$f":"SCORES!H82","v":-1E-3},{"$f":"SCORES!L77","v":-1E-3},{"$f":"RESULTS!$E$91","v":-1E-3},{"$f":"SCORES!L75","v":-1E-3},{"$f":"SCORES!D75","v":-1E-3},{"$f":"RESULTS!$E$86","v":-1E-3},{"$f":"SCORES!D77","v":-1E-3},null,{"$f":"SUM(C104:O104)","v":0},{"$f":"SUM(C105,F105,I105,L105,O105)","v":-3.0000000000000001E-3},{"$f":"SUM(E105,H105,K105,N105)","v":-3.0000000000000001E-3},{"$f":"SUM(C106:O106)","v":0},null,{"$f":"VLOOKUP(C104,PLACE6,5,FALSE)","v":4},null,null,{"$f":"$C$110","v":"PLYR3"},{"$f":"$P$111","v":0},{"$f":"$S$111","v":0},{"$f":"$Q$111","v":-3.0000000000000001E-3},2]
[null,{"$f":"SEED!J22","v":0},null,null,null,null,{"$f":"F105-H105","v":0},null,null,{"$f":"I105-K105","v":0},null,null,{"$f":"L105-N105","v":0},null,null,null,null,null,null,null,null,null,null,{"$f":"$C$107","v":"PLYR2"},{"$f":"$P$108","v":0},{"$f":"$S$108","v":0},{"$f":"$Q$108","v":-3.0000000000000001E-3},3]
[null,{"$f":"NAMES!C122","v":"Block 6"},"PLYR2",{"$f":"IF(E107=1,\"W\",\"\")","v":""},{"$f":"IF(D109>0,1,0)","v":0},null,null,null,null,{"$f":"IF(K107=1,\"W\",\"\")","v":""},{"$f":"IF(K109>0,1,0)","v":0},null,{"$f":"IF(N107=1,\"W\",\"\")","v":""},{"$f":"IF(M109>0,1,0)","v":0},null,null,null,null,null,null,null,null,null,{"$f":"$C$104","v":"PLYR1"},{"$f":"$P$105","v":0},{"$f":"$S$105","v":0},{"$f":"$Q$105","v":-3.0000000000000001E-3},4]
[null,{"$f":"NAMES!C123","v":"Player 2"},{"$f":"H105","v":-1E-3},{"$f":"RESULTS!$E$94","v":-1E-3},{"$f":"F105","v":-1E-3},null,null,null,{"$f":"SCORES!D82","v":-1E-3},{"$f":"RESULTS!$E$88","v":-1E-3},{"$f":"SCORES!D84","v":-1E-3},{"$f":"SCORES!H77","v":-1E-3},{"$f":"RESULTS!$E$93","v":-1E-3},{"$f":"SCORES!H75","v":-1E-3},null,{"$f":"SUM(C107:O107)","v":0},{"$f":"SUM(C108,F108,I108,L108,O108)","v":-3.0000000000000001E-3},{"$f":"SUM(E108,H108,K108,N108)","v":-3.0000000000000001E-3},{"$f":"SUM(C109:O109)","v":0},null,{"$f":"VLOOKUP(C107,PLACE6,5,FALSE)","v":3}]
[null,{"$f":"SEED!J23","v":0},null,{"$f":"C108-E108","v":0},null,null,null,null,null,{"$f":"I108-K108","v":0},null,null,{"$f":"L108-N108","v":0}]
[null,{"$f":"NAMES!C127","v":"Block 6"},"PLYR3",{"$f":"IF(E110=1,\"W\",\"\")","v":""},{"$f":"IF(D112>0,1,0)","v":0},null,{"$f":"IF(H110=1,\"W\",\"\")","v":""},{"$f":"IF(G112>0,1,0)","v":0},null,null,null,null,{"$f":"IF(N110=1,\"W\",\"\")","v":""},{"$f":"IF(M112>0,1,0)","v":0}]
[null,{"$f":"NAMES!C128","v":"Player 3"},{"$f":"K105","v":-1E-3},{"$f":"RESULTS!$E$90","v":-1E-3},{"$f":"I105","v":-1E-3},{"$f":"K108","v":-1E-3},{"$f":"RESULTS!$E$89","v":-1E-3},{"$f":"I108","v":-1E-3},null,null,null,{"$f":"SCORES!L82","v":-1E-3},{"$f":"RESULTS!$E$96","v":-1E-3},{"$f":"SCORES!L84","v":-1E-3},null,{"$f":"SUM(C110:O110)","v":0},{"$f":"SUM(C111,F111,I111,L111,O111)","v":-3.0000000000000001E-3},{"$f":"SUM(E111,H111,K111,N111)","v":-3.0000000000000001E-3},{"$f":"SUM(C112:O112)","v":0},null,{"$f":"VLOOKUP(C110,PLACE6,5,FALSE)","v":2}]
[null,{"$f":"SEED!J24","v":0},null,{"$f":"C111-E111","v":0},null,null,{"$f":"F111-H111","v":0},null,null,null,null,null,{"$f":"L111-N111","v":0}]
[null,{"$f":"NAMES!C132","v":"Block 6"},"PLYR4",{"$f":"IF(E113=1,\"W\",\"\")","v":""},{"$f":"IF(D115>0,1,0)","v":0},null,{"$f":"IF(H113=1,\"W\",\"\")","v":""},{"$f":"IF(G115>0,1,0)","v":0},null,{"$f":"IF(K113=1,\"W\",\"\")","v":""},{"$f":"IF(J115>0,1,0)","v":0}]
[null,{"$f":"NAMES!C133","v":"Player 4"},{"$f":"N105","v":-1E-3},{"$f":"RESULTS!$E$87","v":-1E-3},{"$f":"L105","v":-1E-3},{"$f":"N108","v":-1E-3},{"$f":"RESULTS!$E$92","v":-1E-3},{"$f":"L108","v":-1E-3},{"$f":"N111","v":-1E-3},{"$f":"RESULTS!$E$97","v":-1E-3},{"$f":"L111","v":-1E-3},null,null,null,null,{"$f":"SUM(C113:O113)","v":0},{"$f":"SUM(C114,F114,I114,L114,O114)","v":-3.0000000000000001E-3},{"$f":"SUM(E114,H114,K114,N114)","v":-3.0000000000000001E-3},{"$f":"SUM(C115:O115)","v":0},null,{"$f":"VLOOKUP(C113,PLACE6,5,FALSE)","v":1}]
[null,{"$f":"SEED!J25","v":0},null,{"$f":"C114-E114","v":0},null,null,{"$f":"F114-H114","v":0},null,null,{"$f":"I114-K114","v":0}]
[null,null,null,null,null,null,null,null,null,null,null,"CHECKSUMS",null,null,null,{"$f":"SUM(P105,P108,P111,P114,)","v":0},{"$f":"SUM(Q105,Q108,Q111,Q114,)","v":-1.2E-2},{"$f":"SUM(R105,R108,R111,R114,)","v":-1.2E-2},{"$f":"SUM(S105,S108,S111,S114,)","v":0}]
[]
[null,null,null,null,null,null,null,null,null,{"$f":"J4","v":"TOURNAMENT"}]
[null,null,null,null,null,null,{"$f":"G5","v":"DATE"}]
[null,null,null,null,null,null,{"$f":"NAMES!$C$9","v":"GROUP"}]
[]
[null,{"$f":"SEED!D27","v":"BLOCK 7"},{"$f":"SEED!D29","v":" Block 7 Player 1"},null,null,{"$f":"SEED!D30","v":" Block 7 Player 2"},null,null,{"$f":"SEED!D31","v":" Block 7 Player 3"},null,null,{"$f":"SEED!D32","v":" Block 7 Player 4"},null,null,null,"WINS","POINTS FOR","POINTS AGAINST","NET   POINTS",null,"PLACE",null,null,"NAME","WINS","NET","FOR"]
[null,{"$f":"NAMES!C138","v":"Block 7"},"PLYR1",null,null,null,{"$f":"IF(H123=1,\"W\",\"\")","v":""},{"$f":"IF(G125>0,1,0)","v":0},null,{"$f":"IF(K123=1,\"W\",\"\")","v":""},{"$f":"IF(J125>0,1,0)","v":0},null,{"$f":"IF(N123=1,\"W\",\"\")","v":""},{"$f":"IF(M125>0,1,0)","v":0},null,null,null,null,null,null,null,null,null,{"$f":"$C$132","v":"PLYR4"},{"$f":"$P$133","v":0},{"$f":"$S$133","v":0},{"$f":"$Q$133","v":-3.0000000000000001E-3},1]
[null,{"$f":"NAMES!C139","v":"Player 1"},null,null,null,{"$f":"SCORES!H98","v":-1E-3},{"$f":"RESULTS!$E$111","v":-1E-3},{"$f":"SCORES!H96","v":-1E-3},{"$f":"SCORES!L91","v":-1E-3},{"$f":"RESULTS!$E$107","v":-1E-3},{"$f":"SCORES!L89","v":-1E-3},{"$f":"SCORES!D89","v":-1E-3},{"$f":"RESULTS!$E$102","v":-1E-3},{"$f":"SCORES!D91","v":-1E-3},null,{"$f":"SUM(C123:O123)","v":0},{"$f":"SUM(C124,F124,I124,L124,O124)","v":-3.0000000000000001E-3},{"$f":"SUM(E124,H124,K124,N124)","v":-3.0000000000000001E-3},{"$f":"SUM(C125:O125)","v":0},null,{"$f":"VLOOKUP(C123,PLACE7,5,FALSE)","v":4},null,null,{"$f":"$C$129","v":"PLYR3"},{"$f":"$P$130","v":0},{"$f":"$S$130","v":0},{"$f":"$Q$130","v":-3.0000000000000001E-3},2]
[null,{"$f":"SEED!E29","v":0},null,null,null,null,{"$f":"F124-H124","v":0},null,null,{"$f":"I124-K124","v":0},null,null,{"$f":"L124-N124","v":0},null,null,null,null,null,null,null,null,null,null,{"$f":"$C$126","v":"PLYR2"},{"$f":"$P$127","v":0},{"$f":"$S$127","v":0},{"$f":"$Q$127","v":-3.0000000000000001E-3},3]
[null,{"$f":"NAMES!C143","v":"Block 7"},"PLYR2",{"$f":"IF(E126=1,\"W\",\"\")","v":""},{"$f":"IF(D128>0,1,0)","v":0},null,null,null,null,{"$f":"IF(K126=1,\"W\",\"\")","v":""},{"$f":"IF(J128>0,1,0)","v":0},null,{"$f":"IF(N126=1,\"W\",\"\")","v":""},{"$f":"IF(M128>0,1,0)","v":0},null,null,null,null,null,null,null,null,null,{"$f":"$C$123","v":"PLYR1"},{"$f":"$P$124","v":0},{"$f":"$S$124","v":0},{"$f":"$Q$124","v":-3.0000000000000001E-3},4]
[null,{"$f":"NAMES!C144","v":"Player 2"},{"$f":"H124","v":-1E-3},{"$f":"RESULTS!$E$110","v":-1E-3},{"$f":"F124","v":-1E-3},null,null,null,{"$f":"SCORES!D96","v":-1E-3},{"$f":"RESULTS!$E$104","v":-1E-3},{"$f":"SCORES!D98","v":-1E-3},{"$f":"SCORES!H91","v":-1E-3},{"$f":"RESULTS!$E$109","v":-1E-3},{"$f":"SCORES!H89","v":-1E-3},null,{"$f":"SUM(C126:O126)","v":0},{"$f":"SUM(C127,F127,I127,L127,O127)","v":-3.0000000000000001E-3},{"$f":"SUM(E127,H127,K127,N127)","v":-3.0000000000000001E-3},{"$f":"SUM(C128:O128)","v":0},null,{"$f":"VLOOKUP(C126,PLACE7,5,FALSE)","v":3}]
[null,{"$f":"SEED!E30","v":0},null,{"$f":"C127-E127","v":0},null,null,null,null,null,{"$f":"I127-K127","v":0},null,null,{"$f":"L127-N127","v":0}]
[null,{"$f":"NAMES!C148","v":"Block 7"},"PLYR3",{"$f":"IF(E129=1,\"W\",\"\")","v":""},{"$f":"IF(D131>0,1,0)","v":0},null,{"$f":"IF(H129=1,\"W\",\"\")","v":""},{"$f":"IF(G131>0,1,0)","v":0},null,null,null,null,{"$f":"IF(N129=1,\"W\",\"\")","v":""},{"$f":"IF(M131>0,1,0)","v":0}]
[null,{"$f":"NAMES!C149","v":"Player 3"},{"$f":"K124","v":-1E-3},{"$f":"RESULTS!$E$106","v":-1E-3},{"$f":"I124","v":-1E-3},{"$f":"K127","v":-1E-3},{"$f":"RESULTS!$E$105","v":-1E-3},{"$f":"I127","v":-1E-3},null,null,null,{"$f":"SCORES!L96","v":-1E-3},{"$f":"RESULTS!$E$112","v":-1E-3},{"$f":"SCORES!L98","v":-1E-3},null,{"$f":"SUM(C129:O129)","v":0},{"$f":"SUM(C130,F130,I130,L130,O130)","v":-3.0000000000000001E-3},{"$f":"SUM(E130,H130,K130,N130)","v":-3.0000000000000001E-3},{"$f":"SUM(C131:O131)","v":0},null,{"$f":"VLOOKUP(C129,PLACE7,5,FALSE)","v":2}]
[null,{"$f":"SEED!E31","v":0},null,{"$f":"C130-E130","v":0},null,null,{"$f":"F130-H130","v":0},null,null,null,null,null,{"$f":"L130-N130","v":0}]
[null,{"$f":"NAMES!C153","v":"Block 7"},"PLYR4",{"$f":"IF(E132=1,\"W\",\"\")","v":""},{"$f":"IF(D134>0,1,0)","v":0},null,{"$f":"IF(H132=1,\"W\",\"\")","v":""},{"$f":"IF(G134>0,1,0)","v":0},null,{"$f":"IF(K132=1,\"W\",\"\")","v":""},{"$f":"IF(J134>0,1,0)","v":0}]
[null,{"$f":"NAMES!C154","v":"Player 4"},{"$f":"N124","v":-1E-3},{"$f":"RESULTS!$E$103","v":-1E-3},{"$f":"L124","v":-1E-3},{"$f":"N127","v":-1E-3},{"$f":"RESULTS!$E$108","v":-1E-3},{"$f":"L127","v":-1E-3},{"$f":"N130","v":-1E-3},{"$f":"RESULTS!$E$113","v":-1E-3},{"$f":"L130","v":-1E-3},null,null,null,null,{"$f":"SUM(C132:O132)","v":0},{"$f":"SUM(C133,F133,I133,L133,O133)","v":-3.0000000000000001E-3},{"$f":"SUM(E133,H133,K133,N133)","v":-3.0000000000000001E-3},{"$f":"SUM(C134:O134)","v":0},null,{"$f":"VLOOKUP(C132,PLACE7,5,FALSE)","v":1}]
[null,{"$f":"SEED!E32","v":0},null,{"$f":"C133-E133","v":0},null,null,{"$f":"F133-H133","v":0},null,null,{"$f":"I133-K133","v":0}]
[null,null,null,null,null,null,null,null,null,null,null,"CHECKSUMS",null,null,null,{"$f":"SUM(P124,P127,P130,P133,)","v":0},{"$f":"SUM(Q124,Q127,Q130,Q133,)","v":-1.2E-2},{"$f":"SUM(R124,R127,R130,R133,)","v":-1.2E-2},{"$f":"SUM(S124,S127,S130,S133,)","v":0}]
[]
[null,null,null,null,null,null,null,null,null,{"$f":"J4","v":"TOURNAMENT"}]
[null,null,null,null,null,null,{"$f":"G5","v":"DATE"}]
[null,null,null,null,null,null,{"$f":"NAMES!$C$9","v":"GROUP"}]
[]
[null,{"$f":"SEED!I27","v":"BLOCK 8"},{"$f":"SEED!I29","v":" Block 8 Player 1"},null,null,{"$f":"SEED!I30","v":" Block 8 Player 2"},null,null,{"$f":"SEED!I31","v":" Block 8 Player 3"},null,null,{"$f":"SEED!I32","v":" Block 8 Player 4"},null,null,null,"WINS","POINTS FOR","POINTS AGAINST","NET   POINTS",null,"PLACE",null,null,"NAME","WINS","NET","FOR"]
[null,{"$f":"NAMES!C159","v":"Block 8"},"PLYR1",null,null,null,{"$f":"IF(H142=1,\"W\",\"\")","v":""},{"$f":"IF(G144>0,1,0)","v":0},null,{"$f":"IF(K142=1,\"W\",\"\")","v":""},{"$f":"IF(J144>0,1,0)","v":0},null,{"$f":"IF(N142=1,\"W\",\"\")","v":""},{"$f":"IF(M144>0,1,0)","v":0},null,null,null,null,null,null,null,null,null,{"$f":"$C$151","v":"PLYR4"},{"$f":"$P$152","v":0},{"$f":"$S$152","v":0},{"$f":"$Q$152","v":-3.0000000000000001E-3},1]
[null,{"$f":"NAMES!C160","v":"Player 1"},null,null,null,{"$f":"SCORES!H112","v":-1E-3},{"$f":"RESULTS!$E$127","v":-1E-3},{"$f":"SCORES!H110","v":-1E-3},{"$f":"SCORES!L105","v":-1E-3},{"$f":"RESULTS!$E$123","v":-1E-3},{"$f":"SCORES!L103","v":-1E-3},{"$f":"SCORES!D103","v":-1E-3},{"$f":"RESULTS!$E$118","v":-1E-3},{"$f":"SCORES!D105","v":-1E-3},null,{"$f":"SUM(C142:O142)","v":0},{"$f":"SUM(C143,F143,I143,L143,O143)","v":-3.0000000000000001E-3},{"$f":"SUM(E143,H143,K143,N143)","v":-3.0000000000000001E-3},{"$f":"SUM(C144:O144)","v":0},null,{"$f":"VLOOKUP(C142,PLACE8,5,FALSE)","v":4},null,null,{"$f":"$C$148","v":"PLYR3"},{"$f":"$P$149","v":0},{"$f":"$S$149","v":0},{"$f":"$Q$149","v":-3.0000000000000001E-3},2]
[null,{"$f":"SEED!J29","v":0},null,null,null,null,{"$f":"F143-H143","v":0},null,null,{"$f":"I143-K143","v":0},null,null,{"$f":"L143-N143","v":0},null,null,null,null,null,null,null,null,null,null,{"$f":"$C$145","v":"PLYR2"},{"$f":"$P$146","v":0},{"$f":"$S$146","v":0},{"$f":"$Q$146","v":-3.0000000000000001E-3},3]
[null,{"$f":"NAMES!C164","v":"Block 8"},"PLYR2",{"$f":"IF(E145=1,\"W\",\"\")","v":""},{"$f":"IF(D147>0,1,0)","v":0},null,null,null,null,{"$f":"IF(K145=1,\"W\",\"\")","v":""},{"$f":"IF(J147>0,1,0)","v":0},null,{"$f":"IF(N145=1,\"W\",\"\")","v":""},{"$f":"IF(M147>0,1,0)","v":0},null,null,null,null,null,null,null,null,null,{"$f":"$C$142","v":"PLYR1"},{"$f":"$P$143","v":0},{"$f":"$S$143","v":0},{"$f":"$Q$143","v":-3.0000000000000001E-3},4]
[null,{"$f":"NAMES!C165","v":"Player 2"},{"$f":"H143","v":-1E-3},{"$f":"RESULTS!$E$126","v":-1E-3},{"$f":"F143","v":-1E-3},null,null,null,{"$f":"SCORES!D110","v":-1E-3},{"$f":"RESULTS!$E$120","v":-1E-3},{"$f":"SCORES!D112","v":-1E-3},{"$f":"SCORES!H105","v":-1E-3},{"$f":"RESULTS!$E$125","v":-1E-3},{"$f":"SCORES!H103","v":-1E-3},null,{"$f":"SUM(C145:O145)","v":0},{"$f":"SUM(C146,F146,I146,L146,O146)","v":-3.0000000000000001E-3},{"$f":"SUM(E146,H146,K146,N146)","v":-3.0000000000000001E-3},{"$f":"SUM(C147:O147)","v":0},null,{"$f":"VLOOKUP(C145,PLACE8,5,FALSE)","v":3}]
[null,{"$f":"SEED!J30","v":0},null,{"$f":"C146-E146","v":0},null,null,null,null,null,{"$f":"I146-K146","v":0},null,null,{"$f":"L146-N146","v":0}]
[null,{"$f":"NAMES!C169","v":"Block 8"},"PLYR3",{"$f":"IF(E148=1,\"W\",\"\")","v":""},{"$f":"IF(D150>0,1,0)","v":0},null,{"$f":"IF(H148=1,\"W\",\"\")","v":""},{"$f":"IF(G150>0,1,0)","v":0},null,null,null,null,{"$f":"IF(N148=1,\"W\",\"\")","v":""},{"$f":"IF(M150>0,1,0)","v":0}]
[null,{"$f":"NAMES!C170","v":"Player 3"},{"$f":"K143","v":-1E-3},{"$f":"RESULTS!$E$122","v":-1E-3},{"$f":"I143","v":-1E-3},{"$f":"K146","v":-1E-3},{"$f":"RESULTS!$E$121","v":-1E-3},{"$f":"I146","v":-1E-3},null,null,null,{"$f":"SCORES!L110","v":-1E-3},{"$f":"RESULTS!$E$128","v":-1E-3},{"$f":"SCORES!L112","v":-1E-3},null,{"$f":"SUM(C148:O148)","v":0},{"$f":"SUM(C149,F149,I149,L149,O149)","v":-3.0000000000000001E-3},{"$f":"SUM(E149,H149,K149,N149)","v":-3.0000000000000001E-3},{"$f":"SUM(C150:O150)","v":0},null,{"$f":"VLOOKUP(C148,PLACE8,5,FALSE)","v":2}]
[null,{"$f":"SEED!J31","v":0},null,{"$f":"C149-E149","v":0},null,null,{"$f":"F149-H149","v":0},null,null,null,null,null,{"$f":"L149-N149","v":0}]
[null,{"$f":"NAMES!C174","v":"Block 8"},"PLYR4",{"$f":"IF(E151=1,\"W\",\"\")","v":""},{"$f":"IF(D153>0,1,0)","v":0},null,{"$f":"IF(H151=1,\"W\",\"\")","v":""},{"$f":"IF(G153>0,1,0)","v":0},null,{"$f":"IF(K151=1,\"W\",\"\")","v":""},{"$f":"IF(J153>0,1,0)","v":0}]
[null,{"$f":"NAMES!C175","v":"Player 4"},{"$f":"N143","v":-1E-3},{"$f":"RESULTS!$E$119","v":-1E-3},{"$f":"L143","v":-1E-3},{"$f":"N146","v":-1E-3},{"$f":"RESULTS!$E$124","v":-1E-3},{"$f":"L146","v":-1E-3},{"$f":"N149","v":-1E-3},{"$f":"RESULTS!$E$129","v":-1E-3},{"$f":"L149","v":-1E-3},null,null,null,null,{"$f":"SUM(C151:O151)","v":0},{"$f":"SUM(C152,F152,I152,L152,O152)","v":-3.0000000000000001E-3},{"$f":"SUM(E152,H152,K152,N152)","v":-3.0000000000000001E-3},{"$f":"SUM(C153:O153)","v":0},null,{"$f":"VLOOKUP(C151,PLACE8,5,FALSE)","v":1}]
[null,{"$f":"SEED!J32","v":0},null,{"$f":"C152-E152","v":0},null,null,{"$f":"F152-H152","v":0},null,null,{"$f":"I152-K152","v":0}]
[null,null,null,null,null,null,null,null,null,null,null,"CHECKSUMS",null,null,null,{"$f":"SUM(P143,P146,P149,P152,)","v":0},{"$f":"SUM(Q143,Q146,Q149,Q152,)","v":-1.2E-2},{"$f":"SUM(R143,R146,R149,R152,)","v":-1.2E-2},{"$f":"SUM(S143,S146,S149,S152,)","v":0}]
[]
[null,null,null,null,null,null,null,null,null,{"$f":"J4","v":"TOURNAMENT"}]
[null,null,null,null,null,null,{"$f":"G5","v":"DATE"}]
[null,null,null,null,null,null,{"$f":"NAMES!$C$9","v":"GROUP"}]
[]
[null,{"$f":"SEED!D34","v":"BLOCK 9"},{"$f":"SEED!D36","v":" Block 9 Player 1"},null,null,{"$f":"SEED!D37","v":" Block 9 Player 2"},null,null,{"$f":"SEED!D38","v":" Block 9 Player 3"},null,null,{"$f":"SEED!D39","v":" Block 9 Player 4"},null,null,null,"WINS","POINTS FOR","POINTS AGAINST","NET   POINTS",null,"PLACE",null,null,"NAME","WINS","NET","FOR"]
[null,{"$f":"NAMES!C180","v":"Block 9"},"PLYR1",null,null,null,{"$f":"IF(H161=1,\"W\",\"\")","v":""},{"$f":"IF(G163>0,1,0)","v":0},null,{"$f":"IF(K161=1,\"W\",\"\")","v":""},{"$f":"IF(J163>0,1,0)","v":0},null,{"$f":"IF(N161=1,\"W\",\"\")","v":""},{"$f":"IF(M163>0,1,0)","v":0},null,null,null,null,null,null,null,null,null,{"$f":"$C$170","v":"PLYR4"},{"$f":"$P$171","v":0},{"$f":"$S$171","v":0},{"$f":"$Q$171","v":-3.0000000000000001E-3},1]
[null,{"$f":"NAMES!C181","v":"Player 1"},null,null,null,{"$f":"SCORES!H126","v":-1E-3},{"$f":"RESULTS!$E$143","v":-1E-3},{"$f":"SCORES!H124","v":-1E-3},{"$f":"SCORES!L119","v":-1E-3},{"$f":"RESULTS!$E$139","v":-1E-3},{"$f":"SCORES!L117","v":-1E-3},{"$f":"SCORES!D117","v":-1E-3},{"$f":"RESULTS!$E$134","v":-1E-3},{"$f":"SCORES!D119","v":-1E-3},null,{"$f":"SUM(C161:O161)","v":0},{"$f":"SUM(C162,F162,I162,L162,O162)","v":-3.0000000000000001E-3},{"$f":"SUM(E162,H162,K162,N162)","v":-3.0000000000000001E-3},{"$f":"SUM(C163:O163)","v":0},null,{"$f":"VLOOKUP(C161,PLACE9,5,FALSE)","v":4},null,null,{"$f":"$C$167","v":"PLYR3"},{"$f":"$P$168","v":0},{"$f":"$S$168","v":0},{"$f":"$Q$168","v":-3.0000000000000001E-3},2]
[null,{"$f":"SEED!E36","v":0},null,null,null,null,{"$f":"F162-H162","v":0},null,null,{"$f":"I162-K162","v":0},null,null,{"$f":"L162-N162","v":0},null,null,null,null,null,null,null,null,null,null,{"$f":"$C$164","v":"PLYR2"},{"$f":"$P$165","v":0},{"$f":"$S$165","v":0},{"$f":"$Q$165","v":-3.0000000000000001E-3},3]
[null,{"$f":"NAMES!C185","v":"Block 9"},"PLYR2",{"$f":"IF(E164=1,\"W\",\"\")","v":""},{"$f":"IF(D166>0,1,0)","v":0},null,null,null,null,{"$f":"IF(K164=1,\"W\",\"\")","v":""},{"$f":"IF(J166>0,1,0)","v":0},null,{"$f":"IF(N164=1,\"W\",\"\")","v":""},{"$f":"IF(M166>0,1,0)","v":0},null,null,null,null,null,null,null,null,null,{"$f":"$C$161","v":"PLYR1"},{"$f":"$P$162","v":0},{"$f":"$S$162","v":0},{"$f":"$Q$162","v":-3.0000000000000001E-3},4]
[null,{"$f":"NAMES!C186","v":"Player 2"},{"$f":"H162","v":-1E-3},{"$f":"RESULTS!$E$142","v":-1E-3},{"$f":"F162","v":-1E-3},null,null,null,{"$f":"SCORES!D124","v":-1E-3},{"$f":"RESULTS!$E$136","v":-1E-3},{"$f":"SCORES!D126","v":-1E-3},{"$f":"SCORES!H119","v":-1E-3},{"$f":"RESULTS!$E$141","v":-1E-3},{"$f":"SCORES!H117","v":-1E-3},null,{"$f":"SUM(C164:O164)","v":0},{"$f":"SUM(C165,F165,I165,L165,O165)","v":-3.0000000000000001E-3},{"$f":"SUM(E165,H165,K165,N165)","v":-3.0000000000000001E-3},{"$f":"SUM(C166:O166)","v":0},null,{"$f":"VLOOKUP(C164,PLACE9,5,FALSE)","v":3}]
[null,{"$f":"SEED!E37","v":0},null,{"$f":"C165-E165","v":0},null,null,null,null,null,{"$f":"I165-K165","v":0},null,null,{"$f":"L165-N165","v":0}]
[null,{"$f":"NAMES!C190","v":"Block 9"},"PLYR3",{"$f":"IF(E167=1,\"W\",\"\")","v":""},{"$f":"IF(D169>0,1,0)","v":0},null,{"$f":"IF(H167=1,\"W\",\"\")","v":""},{"$f":"IF(G169>0,1,0)","v":0},null,null,null,null,{"$f":"IF(N167=1,\"W\",\"\")","v":""},{"$f":"IF(M169>0,1,0)","v":0}]
[null,{"$f":"NAMES!C191","v":"Player 3"},{"$f":"K162","v":-1E-3},{"$f":"RESULTS!$E$138","v":-1E-3},{"$f":"I162","v":-1E-3},{"$f":"K165","v":-1E-3},{"$f":"RESULTS!$E$137","v":-1E-3},{"$f":"I165","v":-1E-3},null,null,null,{"$f":"SCORES!L124","v":-1E-3},{"$f":"RESULTS!$E$144","v":-1E-3},{"$f":"SCORES!L126","v":-1E-3},null,{"$f":"SUM(C167:O167)","v":0},{"$f":"SUM(C168,F168,I168,L168,O168)","v":-3.0000000000000001E-3},{"$f":"SUM(E168,H168,K168,N168)","v":-3.0000000000000001E-3},{"$f":"SUM(C169:O169)","v":0},null,{"$f":"VLOOKUP(C167,PLACE9,5,FALSE)","v":2}]
[null,{"$f":"SEED!E38","v":0},null,{"$f":"C168-E168","v":0},null,null,{"$f":"F168-H168","v":0},null,null,null,null,null,{"$f":"L168-N168","v":0}]
[null,{"$f":"NAMES!C195","v":"Block 9"},"PLYR4",{"$f":"IF(E170=1,\"W\",\"\")","v":""},{"$f":"IF(D172>0,1,0)","v":0},null,{"$f":"IF(H170=1,\"W\",\"\")","v":""},{"$f":"IF(G172>0,1,0)","v":0},null,{"$f":"IF(K170=1,\"W\",\"\")","v":""},{"$f":"IF(J172>0,1,0)","v":0}]
[null,{"$f":"NAMES!C196","v":"Player 4"},{"$f":"N162","v":-1E-3},{"$f":"RESULTS!$E$135","v":-1E-3},{"$f":"L162","v":-1E-3},{"$f":"N165","v":-1E-3},{"$f":"RESULTS!$E$140","v":-1E-3},{"$f":"L165","v":-1E-3},{"$f":"N168","v":-1E-3},{"$f":"RESULTS!$E$145","v":-1E-3},{"$f":"L168","v":-1E-3},null,null,null,null,{"$f":"SUM(C170:O170)","v":0},{"$f":"SUM(C171,F171,I171,L171,O171)","v":-3.0000000000000001E-3},{"$f":"SUM(E171,H171,K171,N171)","v":-3.0000000000000001E-3},{"$f":"SUM(C172:O172)","v":0},null,{"$f":"VLOOKUP(C170,PLACE9,5,FALSE)","v":1}]
[null,{"$f":"NAMES!C198","v":0},null,{"$f":"C171-E171","v":0},null,null,{"$f":"F171-H171","v":0},null,null,{"$f":"I171-K171","v":0}]
[null,null,null,null,null,null,null,null,null,null,null,"CHECKSUMS",null,null,null,{"$f":"SUM(P162,P165,P168,P171,)","v":0},{"$f":"SUM(Q162,Q165,Q168,Q171,)","v":-1.2E-2},{"$f":"SUM(R162,R165,R168,R171,)","v":-1.2E-2},{"$f":"SUM(S162,S165,S168,S171,)","v":0}]

{"sheet":"SCORECARD","index":9,"n_rows":773,"n_cols":10,"rows_kept":773,"cut":false,"hidden":true,"merged":[]}
[]
[null,null,null,null,null,"TOURNAMENT SCORE CARD"]
[null,null,null,null,null,{"$f":"BLOCK!$J$4","v":"TOURNAMENT"}]
[null,null,null,null,null,{"$f":"BLOCK!$G$5","v":"DATE"}]
[null,null,null,null,null,{"$f":"BLOCK!$B$8","v":"BLOCK 1"}]
[null,null,"PLAYER:",{"$f":"BLOCK!C8","v":" Block 1 Player 1"},null,null,null,"HANDICAP",{"$f":"BLOCK!B11","v":0}]
[null,null,null,null,null,"OPP.","PLAYER","OPP.","NET"]
[null,null,null,"OPPONENT",null,"HCP","SCORE","SCORE","PTS"]
[null,null,{"$f":"BLOCK!F8","v":" Block 1 Player 2"},null,null,{"$f":"BLOCK!B14","v":0},{"$f":"BLOCK!F10","v":-1E-3},{"$f":"BLOCK!H10","v":-1E-3},{"$f":"G9-H9","v":0},"BLOCK"]
[null,null,{"$f":"BLOCK!I8","v":" Block 1 Player 3"},null,null,{"$f":"BLOCK!B17","v":0},{"$f":"BLOCK!I10","v":-1E-3},{"$f":"BLOCK!K10","v":-1E-3},{"$f":"G10-H10","v":0},"NET"]
[null,null,{"$f":"BLOCK!L8","v":" Block 1 Player 4"},null,null,{"$f":"BLOCK!B20","v":0},{"$f":"BLOCK!L10","v":-1E-3},{"$f":"BLOCK!N10","v":-1E-3},{"$f":"G11-H11","v":0},{"$f":"SUM(I9:I11)","v":0}]
[null,null," ",null,null," ",null,null,{"$f":"G12-H12","v":0}]
[null,null," ",null,null," ",null,null,0]
[null,null," ",null,null," ",null,null,0]
[null,null," ",null,null," ",null,null,0]
[null,null," ",null,null," ",null,null,0]
[null,null," ",null,null," ",null,null,0]
[null,null," ",null,null," ",null,null,0,"TOURN"]
[null,null," ",null,null," ",null,null,0,"NET"]
[null,null," ",null,null," ",null,null,0,{"$f":"SUM(I9:I23)","v":0}]
[null,null," ",null,null," ",null,null,0]
[null,null," ",null,null," ",null,null,0]
[null,null," ",null,null," ",null,null,{"$f":"G23-H23","v":0}]
[]
[null,null,"PLAYER:",{"$f":"C9","v":" Block 1 Player 2"},null,null,null,"HANDICAP",{"$f":"F9","v":0}]
[null,null,null,null,null,"OPP.","PLAYER","OPP.","NET"]
[null,null,null,"OPPONENT",null,"HCP","SCORE","SCORE","PTS"]
[null,null,{"$f":"D6","v":" Block 1 Player 1"},null,null,{"$f":"I6","v":0},{"$f":"BLOCK!C13","v":-1E-3},{"$f":"BLOCK!E13","v":-1E-3},{"$f":"G28-H28","v":0},"BLOCK"]
[null,null,{"$f":"C10","v":" Block 1 Player 3"},null,null,{"$f":"F10","v":0},{"$f":"BLOCK!I13","v":-1E-3},{"$f":"BLOCK!K13","v":-1E-3},0,"NET"]
[null,null,{"$f":"C11","v":" Block 1 Player 4"},null,null,{"$f":"F11","v":0},{"$f":"BLOCK!L13","v":-1E-3},{"$f":"BLOCK!N13","v":-1E-3},0,{"$f":"SUM(I28:I30)","v":0}]
[null,null," ",null,null," ",null,null,0]
[null,null," ",null,null," ",null,null,0]
[null,null," ",null,null," ",null,null,0]
[null,null," ",null,null," ",null,null,0]
[null,null," ",null,null," ",null,null,0]
[null,null," ",null,null," ",null,null,0]
[null,null," ",null,null," ",null,null,0,"TOURN"]
[null,null," ",null,null," ",null,null,0,"NET"]
[null,null," ",null,null," ",null,null,0,{"$f":"SUM(I28:I42)","v":0}]
[null,null," ",null,null," ",null,null,0]
[null,null," ",null,null," ",null,null,0]
[null,null," ",null,null," ",null,null,{"$f":"G42-H42","v":0}]
[]
[]
[null,null,null,null,null,"TOURNAMENT SCORE CARD"]
[null,null,null,null,null,{"$f":"BLOCK!$J$4","v":"TOURNAMENT"}]
[null,null,null,null,null,{"$f":"BLOCK!$G$5","v":"DATE"}]
[null,null,null,null,null,{"$f":"BLOCK!$B$8","v":"BLOCK 1"}]
[null,null,"PLAYER:",{"$f":"C10","v":" Block 1 Player 3"},null,null,null,"HANDICAP",{"$f":"F10","v":0}]
[null,null,null,null,null,"OPP.","PLAYER","OPP.","NET"]
[null,null,null,"OPPONENT",null,"HCP","SCORE","SCORE","PTS"]
[null,null,{"$f":"D6","v":" Block 1 Player 1"},null,null,{"$f":"I6","v":0},{"$f":"BLOCK!C16","v":-1E-3},{"$f":"BLOCK!E16","v":-1E-3},{"$f":"G52-H52","v":0},"BLOCK"]
[null,null,{"$f":"C9","v":" Block 1 Player 2"},null,null,{"$f":"F9","v":0},{"$f":"BLOCK!F16","v":-1E-3},{"$f":"BLOCK!H16","v":-1E-3},0,"NET"]
[null,null,{"$f":"C11","v":" Block 1 Player 4"},null,null,{"$f":"F11","v":0},{"$f":"BLOCK!L16","v":-1E-3},{"$f":"BLOCK!N16","v":-1E-3},0,{"$f":"SUM(I52:I54)","v":0}]
[null,null," ",null,null," ",null,null,0]
[null,null," ",null,null," ",null,null,0]
[null,null," ",null,null," ",null,null,0]
[null,null," ",null,null," ",null,null,0]
[null,null," ",null,null," ",null,null,0]
[null,null," ",null,null," ",null,null,0]
[null,null," ",null,null," ",null,null,0,"TOURN"]
[null,null," ",null,null," ",null,null,0,"NET"]
[null,null," ",null,null," ",null,null,0,{"$f":"SUM(I52:I66)","v":0}]
[null,null," ",null,null," ",null,null,0]
[null,null," ",null,null," ",null,null,0]
[null,null," ",null,null," ",null,null,{"$f":"G66-H66","v":0}]
[null,null,null,null,null," "]
[null,null,"PLAYER:",{"$f":"C11","v":" Block 1 Player 4"},null,null,null,"HANDICAP",{"$f":"F11","v":0}]
[null,null,null,null,null,"OPP.","PLAYER","OPP.","NET"]
[null,null,null,"OPPONENT",null,"HCP","SCORE","SCORE","PTS"]
[null,null,{"$f":"D6","v":" Block 1 Player 1"},null,null,{"$f":"I6","v":0},{"$f":"BLOCK!C19","v":-1E-3},{"$f":"BLOCK!E19","v":-1E-3},{"$f":"G71-H71","v":0},"BLOCK"]
[null,null,{"$f":"C9","v":" Block 1 Player 2"},null,null,{"$f":"F9","v":0},{"$f":"BLOCK!F19","v":-1E-3},{"$f":"BLOCK!H19","v":-1E-3},0,"NET"]
[null,null,{"$f":"C10","v":" Block 1 Player 3"},null,null,{"$f":"F10","v":0},{"$f":"BLOCK!I19","v":-1E-3},{"$f":"BLOCK!K19","v":-1E-3},0,{"$f":"SUM(I71:I73)","v":0}]
[null,null," ",null,null," ",null,null,0]
[null,null," ",null,null," ",null,null,0]
[null,null," ",null,null," ",null,null,0]
[null,null," ",null,null," ",null,null,0]
[null,null," ",null,null," ",null,null,0]
[null,null," ",null,null," ",null,null,0]
[null,null," ",null,null," ",null,null,0,"TOURN"]
[null,null," ",null,null," ",null,null,0,"NET"]
[null,null," ",null,null," ",null,null,0,{"$f":"SUM(I71:I85)","v":0}]
[null,null," ",null,null," ",null,null,0]
[null,null," ",null,null," ",null,null,0]
[null,null," ",null,null," ",null,null,{"$f":"G85-H85","v":0}]
[]
[]
[null,null,null,null,null,"TOURNAMENT SCORE CARD"]
[null,null,null,null,null,{"$f":"BLOCK!$J$23","v":"TOURNAMENT"}]
[null,null,null,null,null,{"$f":"BLOCK!$G$24","v":"DATE"}]
[null,null,null,null,null,{"$f":"BLOCK!$B$27","v":"BLOCK 2"}]
[null,null,"PLAYER:",{"$f":"BLOCK!C27","v":" Block 2 Player 1"},null,null,null,"HANDICAP",{"$f":"BLOCK!B30","v":0}]
[null,null,null,null,null,"OPP.","PLAYER","OPP.","NET"]
[null,null,null,"OPPONENT",null,"HCP","SCORE","SCORE","PTS"]
[null,null,{"$f":"BLOCK!F27","v":" Block 2 Player 2"},null,null,{"$f":"BLOCK!B33","v":0},{"$f":"BLOCK!F29","v":-1E-3},{"$f":"BLOCK!H29","v":-1E-3},{"$f":"G95-H95","v":0},"BLOCK"]
[null,null,{"$f":"BLOCK!I27","v":" Block 2 Player 3"},null,null,{"$f":"BLOCK!B36","v":0},{"$f":"BLOCK!I29","v":-1E-3},{"$f":"BLOCK!K29","v":-1E-3},0,"NET"]
[null,null,{"$f":"BLOCK!L27","v":" Block 2 Player 4"},null,null,{"$f":"BLOCK!B39","v":0},{"$f":"BLOCK!L29","v":-1E-3},{"$f":"BLOCK!N29","v":-1E-3},0,{"$f":"SUM(I95:I97)","v":0}]
[null,null," ",null,null," ",null,null,0]
[null,null," ",null,null," ",null,null,0]
[null,null," ",null,null," ",null,null,0]
[null,null," ",null,null," ",null,null,0]
[null,null," ",null,null," ",null,null,0]
[null,null," ",null,null," ",null,null,0]
[null,null," ",null,null," ",null,null,0,"TOURN"]
[null,null," ",null,null," ",null,null,0,"NET"]
[null,null," ",null,null," ",null,null,0,{"$f":"SUM(I95:I109)","v":0}]
[null,null," ",null,null," ",null,null,0]
[null,null," ",null,null," ",null,null,0]
[null,null," ",null,null," ",null,null,0]
[]
[null,null,"PLAYER:",{"$f":"C95","v":" Block 2 Player 2"},null,null,null,"HANDICAP",{"$f":"F95","v":0}]
[null,null,null,null,null,"OPP.","PLAYER","OPP.","NET"]
[null,null,null,"OPPONENT",null,"HCP","SCORE","SCORE","PTS"]
[null,null,{"$f":"D92","v":" Block 2 Player 1"},null,null,{"$f":"I92","v":0},{"$f":"BLOCK!C32","v":-1E-3},{"$f":"BLOCK!E32","v":-1E-3},{"$f":"G114-H114","v":0},"BLOCK"]
[null,null,{"$f":"C96","v":" Block 2 Player 3"},null,null,{"$f":"F96","v":0},{"$f":"BLOCK!I32","v":-1E-3},{"$f":"BLOCK!K32","v":-1E-3},0,"NET"]
[null,null,{"$f":"C97","v":" Block 2 Player 4"},null,null,{"$f":"F97","v":0},{"$f":"BLOCK!L32","v":-1E-3},{"$f":"BLOCK!N32","v":-1E-3},0,{"$f":"SUM(I114:I116)","v":0}]
[null,null," ",null,null," ",null,null,0]
[null,null," ",null,null," ",null,null,0]
[null,null," ",null,null," ",null,null,0]
[null,null," ",null,null," ",null,null,0]
[null,null," ",null,null," ",null,null,0]
[null,null," ",null,null," ",null,null,0]
[null,null," ",null,null," ",null,null,0,"TOURN"]
[null,null," ",null,null," ",null,null,0,"NET"]
[null,null," ",null,null," ",null,null,0,{"$f":"SUM(I114:I128)","v":0}]
[null,null," ",null,null," ",null,null,0]
[null,null," ",null,null," ",null,null,0]
[null,null," ",null,null," ",null,null,0]
[]
[]
[null,null,null,null,null,"TOURNAMENT SCORE CARD"]
[null,null,null,null,null,{"$f":"BLOCK!$J$23","v":"TOURNAMENT"}]
[null,null,null,null,null,{"$f":"BLOCK!$G$24","v":"DATE"}]
[null,null,null,null,null,{"$f":"BLOCK!$B$27","v":"BLOCK 2"}]
[null,null,"PLAYER:",{"$f":"C96","v":" Block 2 Player 3"},null,null,null,"HANDICAP",{"$f":"F96","v":0}]
[null,null,null,null,null,"OPP.","PLAYER","OPP.","NET"]
[null,null,null,"OPPONENT",null,"HCP","SCORE","SCORE","PTS"]
[null,null,{"$f":"D92","v":" Block 2 Player 1"},null,null,{"$f":"I92","v":0},{"$f":"BLOCK!C35","v":-1E-3},{"$f":"BLOCK!E35","v":-1E-3},{"$f":"G138-H138","v":0},"BLOCK"]
[null,null,{"$f":"C95","v":" Block 2 Player 2"},null,null,{"$f":"F95","v":0},{"$f":"BLOCK!F35","v":-1E-3},{"$f":"BLOCK!H35","v":-1E-3},0,"NET"]
[null,null,{"$f":"C97","v":" Block 2 Player 4"},null,null,{"$f":"F97","v":0},{"$f":"BLOCK!L35","v":-1E-3},{"$f":"BLOCK!N35","v":-1E-3},0,{"$f":"SUM(I138:I140)","v":0}]
[null,null," ",null,null," ",null,null,0]
[null,null," ",null,null," ",null,null,0]
[null,null," ",null,null," ",null,null,0]
[null,null," ",null,null," ",null,null,0]
[null,null," ",null,null," ",null,null,0]
[null,null," ",null,null," ",null,null,0]
[null,null," ",null,null," ",null,null,0,"TOURN"]
[null,null," ",null,null," ",null,null,0,"NET"]
[null,null," ",null,null," ",null,null,0,{"$f":"SUM(I138:I152)","v":0}]
[null,null," ",null,null," ",null,null,0]
[null,null," ",null,null," ",null,null,0]
[null,null," ",null,null," ",null,null,0]
[]
[null,null,"PLAYER:",{"$f":"C97","v":" Block 2 Player 4"},null,null,null,"HANDICAP",{"$f":"F97","v":0}]
[null,null,null,null,null,"OPP.","PLAYER","OPP.","NET"]
[null,null,null,"OPPONENT",null,"HCP","SCORE","SCORE","PTS"]
[null,null,{"$f":"D92","v":" Block 2 Player 1"},null,null,{"$f":"I92","v":0},{"$f":"BLOCK!C38","v":-1E-3},{"$f":"BLOCK!E38","v":-1E-3},{"$f":"G157-H157","v":0},"BLOCK"]
[null,null,{"$f":"C95","v":" Block 2 Player 2"},null,null,{"$f":"F95","v":0},{"$f":"BLOCK!F38","v":-1E-3},{"$f":"BLOCK!H38","v":-1E-3},0,"NET"]
[null,null,{"$f":"C96","v":" Block 2 Player 3"},null,null,{"$f":"F96","v":0},{"$f":"BLOCK!I38","v":-1E-3},{"$f":"BLOCK!K38","v":-1E-3},0,{"$f":"SUM(I157:I159)","v":0}]
[null,null," ",null,null," ",null,null,0]
[null,null," ",null,null," ",null,null,0]
[null,null," ",null,null," ",null,null,0]
[null,null," ",null,null," ",null,null,0]
[null,null," ",null,null," ",null,null,0]
[null,null," ",null,null," ",null,null,0]
[null,null," ",null,null," ",null,null,0,"TOURN"]
[null,null," ",null,null," ",null,null,0,"NET"]
[null,null," ",null,null," ",null,null,0,{"$f":"SUM(I157:I171)","v":0}]
[null,null," ",null,null," ",null,null,0]
[null,null," ",null,null," ",null,null,0]
[null,null," ",null,null," ",null,null,0]
[]
[]
[null,null,null,null,null,"TOURNAMENT SCORE CARD"]
[null,null,null,null,null,{"$f":"BLOCK!J42","v":"TOURNAMENT"}]
[null,null,null,null,null,{"$f":"BLOCK!G43","v":"DATE"}]
[null,null,null,null,null,{"$f":"BLOCK!B46","v":"BLOCK 3"}]
[null,null,"PLAYER:",{"$f":"BLOCK!C46","v":" Block 3 Player 1"},null,null,null,"HANDICAP",{"$f":"BLOCK!B49","v":0}]
[null,null,null,null,null,"OPP.","PLAYER","OPP.","NET"]
[null,null,null,"OPPONENT",null,"HCP","SCORE","SCORE","PTS"]
[null,null,{"$f":"BLOCK!F46","v":" Block 3 Player 2"},null,null,{"$f":"BLOCK!B52","v":0},{"$f":"BLOCK!F48","v":-1E-3},{"$f":"BLOCK!H48","v":-1E-3},{"$f":"G181-H181","v":0},"BLOCK"]
[null,null,{"$f":"BLOCK!I46","v":" Block 3 Player 3"},null,null,{"$f":"BLOCK!B55","v":0},{"$f":"BLOCK!I48","v":-1E-3},{"$f":"BLOCK!K48","v":-1E-3},0,"NET"]
[null,null,{"$f":"BLOCK!L46","v":" Block 3 Player 4"},null,null,{"$f":"BLOCK!B58","v":0},{"$f":"BLOCK!L48","v":-1E-3},{"$f":"BLOCK!N48","v":-1E-3},0,{"$f":"SUM(I181:I183)","v":0}]
[null,null," ",null,null," ",null,null,0]
[null,null," ",null,null," ",null,null,0]
[null,null," ",null,null," ",null,null,0]
[null,null," ",null,null," ",null,null,0]
[null,null," ",null,null," ",null,null,0]
[null,null," ",null,null," ",null,null,0]
[null,null," ",null,null," ",null,null,0,"TOURN"]
[null,null," ",null,null," ",null,null,0,"NET"]
[null,null," ",null,null," ",null,null,0,{"$f":"SUM(I181:I195)","v":0}]
[null,null," ",null,null," ",null,null,0]
[null,null," ",null,null," ",null,null,0]
[null,null," ",null,null," ",null,null,0]
[]
[null,null,"PLAYER:",{"$f":"C181","v":" Block 3 Player 2"},null,null,null,"HANDICAP",{"$f":"F181","v":0}]
[null,null,null,null,null,"OPP.","PLAYER","OPP.","NET"]
[null,null,null,"OPPONENT",null,"HCP","SCORE","SCORE","PTS"]
[null,null,{"$f":"D178","v":" Block 3 Player 1"},null,null,{"$f":"I178","v":0},{"$f":"BLOCK!C51","v":-1E-3},{"$f":"BLOCK!E51","v":-1E-3},{"$f":"G200-H200","v":0},"BLOCK"]
[null,null,{"$f":"C182","v":" Block 3 Player 3"},null,null,{"$f":"F182","v":0},{"$f":"BLOCK!I51","v":-1E-3},{"$f":"BLOCK!K51","v":-1E-3},0,"NET"]
[null,null,{"$f":"C183","v":" Block 3 Player 4"},null,null,{"$f":"F183","v":0},{"$f":"BLOCK!L51","v":-1E-3},{"$f":"BLOCK!N51","v":-1E-3},0,{"$f":"SUM(I200:I202)","v":0}]
[null,null," ",null,null," ",null,null,0]
[null,null," ",null,null," ",null,null,0]
[null,null," ",null,null," ",null,null,0]
[null,null," ",null,null," ",null,null,0]
[null,null," ",null,null," ",null,null,0]
[null,null," ",null,null," ",null,null,0]
[null,null," ",null,null," ",null,null,0,"TOURN"]
[null,null," ",null,null," ",null,null,0,"NET"]
[null,null," ",null,null," ",null,null,0,{"$f":"SUM(I200:I214)","v":0}]
[null,null," ",null,null," ",null,null,0]
[null,null," ",null,null," ",null,null,0]
[null,null," ",null,null," ",null,null,0]
[]
[]
[null,null,null,null,null,"TOURNAMENT SCORE CARD"]
[null,null,null,null,null,{"$f":"BLOCK!J42","v":"TOURNAMENT"}]
[null,null,null,null,null,{"$f":"BLOCK!G43","v":"DATE"}]
[null,null,null,null,null,{"$f":"BLOCK!B46","v":"BLOCK 3"}]
[null,null,"PLAYER:",{"$f":"C182","v":" Block 3 Player 3"},null,null,null,"HANDICAP",{"$f":"F182","v":0}]
[null,null,null,null,null,"OPP.","PLAYER","OPP.","NET"]
[null,null,null,"OPPONENT",null,"HCP","SCORE","SCORE","PTS"]
[null,null,{"$f":"D178","v":" Block 3 Player 1"},null,null,{"$f":"I178","v":0},{"$f":"BLOCK!C54","v":-1E-3},{"$f":"BLOCK!E54","v":-1E-3},{"$f":"G224-H224","v":0},"BLOCK"]
[null,null,{"$f":"C181","v":" Block 3 Player 2"},null,null,{"$f":"F181","v":0},{"$f":"BLOCK!F54","v":-1E-3},{"$f":"BLOCK!H54","v":-1E-3},0,"NET"]
[null,null,{"$f":"C183","v":" Block 3 Player 4"},null,null,{"$f":"F183","v":0},{"$f":"BLOCK!L54","v":-1E-3},{"$f":"BLOCK!N54","v":-1E-3},0,{"$f":"SUM(I224:I226)","v":0}]
[null,null," ",null,null," ",null,null,0]
[null,null," ",null,null," ",null,null,0]
[null,null," ",null,null," ",null,null,0]
[null,null," ",null,null," ",null,null,0]
[null,null," ",null,null," ",null,null,0]
[null,null," ",null,null," ",null,null,0]
[null,null," ",null,null," ",null,null,0,"TOURN"]
[null,null," ",null,null," ",null,null,0,"NET"]
[null,null," ",null,null," ",null,null,0,{"$f":"SUM(I224:I238)","v":0}]
[null,null," ",null,null," ",null,null,0]
[null,null," ",null,null," ",null,null,0]
[null,null," ",null,null," ",null,null,0]
[]
[null,null,"PLAYER:",{"$f":"C183","v":" Block 3 Player 4"},null,null,null,"HANDICAP",{"$f":"F183","v":0}]
[null,null,null,null,null,"OPP.","PLAYER","OPP.","NET"]
[null,null,null,"OPPONENT",null,"HCP","SCORE","SCORE","PTS"]
[null,null,{"$f":"D178","v":" Block 3 Player 1"},null,null,{"$f":"I178","v":0},{"$f":"BLOCK!C57","v":-1E-3},{"$f":"BLOCK!E57","v":-1E-3},{"$f":"G243-H243","v":0},"BLOCK"]
[null,null,{"$f":"C181","v":" Block 3 Player 2"},null,null,{"$f":"F181","v":0},{"$f":"BLOCK!F57","v":-1E-3},{"$f":"BLOCK!H57","v":-1E-3},0,"NET"]
[null,null,{"$f":"C182","v":" Block 3 Player 3"},null,null,{"$f":"F182","v":0},{"$f":"BLOCK!I57","v":-1E-3},{"$f":"BLOCK!K57","v":-1E-3},0,{"$f":"SUM(I243:I245)","v":0}]
[null,null," ",null,null," ",null,null,0]
[null,null," ",null,null," ",null,null,0]
[null,null," ",null,null," ",null,null,0]
[null,null," ",null,null," ",null,null,0]
[null,null," ",null,null," ",null,null,0]
[null,null," ",null,null," ",null,null,0]
[null,null," ",null,null," ",null,null,0,"TOURN"]
[null,null," ",null,null," ",null,null,0,"NET"]
[null,null," ",null,null," ",null,null,0,{"$f":"SUM(I243:I257)","v":0}]
[null,null," ",null,null," ",null,null,0]
[null,null," ",null,null," ",null,null,0]
[null,null," ",null,null," ",null,null,0]
[]
[]
[null,null,null,null,null,"TOURNAMENT SCORE CARD"]
[null,null,null,null,null,{"$f":"BLOCK!J61","v":"TOURNAMENT"}]
[null,null,null,null,null,{"$f":"BLOCK!G62","v":"DATE"}]
[null,null,null,null,null,{"$f":"BLOCK!B65","v":"BLOCK 4"}]
[null,null,"PLAYER:",{"$f":"BLOCK!C65","v":" Block 4 Player 1"},null,null,null,"HANDICAP",{"$f":"BLOCK!B68","v":0}]
[null,null,null,null,null,"OPP.","PLAYER","OPP.","NET"]
[null,null,null,"OPPONENT",null,"HCP","SCORE","SCORE","PTS"]
[null,null,{"$f":"BLOCK!F65","v":" Block 4 Player 2"},null,null,{"$f":"BLOCK!B71","v":0},{"$f":"BLOCK!F67","v":-1E-3},{"$f":"BLOCK!H67","v":-1E-3},{"$f":"G267-H267","v":0},"BLOCK"]
[null,null,{"$f":"BLOCK!I65","v":" Block 4 Player 3"},null,null,{"$f":"BLOCK!B74","v":0},{"$f":"BLOCK!I67","v":-1E-3},{"$f":"BLOCK!K67","v":-1E-3},0,"NET"]
[null,null,{"$f":"BLOCK!L65","v":" Block 4 Player 4"},null,null,{"$f":"BLOCK!B77","v":0},{"$f":"BLOCK!L67","v":-1E-3},{"$f":"BLOCK!N67","v":-1E-3},0,{"$f":"SUM(I267:I269)","v":0}]
[null,null," ",null,null," ",null,null,0]
[null,null," ",null,null," ",null,null,0]
[null,null," ",null,null," ",null,null,0]
[null,null," ",null,null," ",null,null,0]
[null,null," ",null,null," ",null,null,0]
[null,null," ",null,null," ",null,null,0]
[null,null," ",null,null," ",null,null,0,"TOURN"]
[null,null," ",null,null," ",null,null,0,"NET"]
[null,null," ",null,null," ",null,null,0,{"$f":"SUM(I267:I281)","v":0}]
[null,null," ",null,null," ",null,null,0]
[null,null," ",null,null," ",null,null,0]
[null,null," ",null,null," ",null,null,0]
[]
[null,null,"PLAYER:",{"$f":"C267","v":" Block 4 Player 2"},null,null,null,"HANDICAP",{"$f":"F267","v":0}]
[null,null,null,null,null,"OPP.","PLAYER","OPP.","NET"]
[null,null,null,"OPPONENT",null,"HCP","SCORE","SCORE","PTS"]
[null,null,{"$f":"D264","v":" Block 4 Player 1"},null,null,{"$f":"I264","v":0},{"$f":"BLOCK!C70","v":-1E-3},{"$f":"BLOCK!E70","v":-1E-3},{"$f":"G286-H286","v":0},"BLOCK"]
[null,null,{"$f":"C268","v":" Block 4 Player 3"},null,null,{"$f":"F268","v":0},{"$f":"BLOCK!I70","v":-1E-3},{"$f":"BLOCK!K70","v":-1E-3},0,"NET"]
[null,null,{"$f":"C269","v":" Block 4 Player 4"},null,null,{"$f":"F269","v":0},{"$f":"BLOCK!L70","v":-1E-3},{"$f":"BLOCK!N70","v":-1E-3},0,{"$f":"SUM(I286:I288)","v":0}]
[null,null," ",null,null," ",null,null,0]
[null,null," ",null,null," ",null,null,0]
[null,null," ",null,null," ",null,null,0]
[null,null," ",null,null," ",null,null,0]
[null,null," ",null,null," ",null,null,0]
[null,null," ",null,null," ",null,null,0]
[null,null," ",null,null," ",null,null,0,"TOURN"]
[null,null," ",null,null," ",null,null,0,"NET"]
[null,null," ",null,null," ",null,null,0,{"$f":"SUM(I286:I300)","v":0}]
[null,null," ",null,null," ",null,null,0]
[null,null," ",null,null," ",null,null,0]
[null,null," ",null,null," ",null,null,0]
[]
[]
[null,null,null,null,null,"TOURNAMENT SCORE CARD"]
[null,null,null,null,null,{"$f":"BLOCK!J61","v":"TOURNAMENT"}]
[null,null,null,null,null,{"$f":"BLOCK!G62","v":"DATE"}]
[null,null,null,null,null,{"$f":"BLOCK!B65","v":"BLOCK 4"}]
[null,null,"PLAYER:",{"$f":"C268","v":" Block 4 Player 3"},null,null,null,"HANDICAP",{"$f":"F268","v":0}]
[null,null,null,null,null,"OPP.","PLAYER","OPP.","NET"]
[null,null,null,"OPPONENT",null,"HCP","SCORE","SCORE","PTS"]
[null,null,{"$f":"D264","v":" Block 4 Player 1"},null,null,{"$f":"I264","v":0},{"$f":"BLOCK!C73","v":-1E-3},{"$f":"BLOCK!E73","v":-1E-3},{"$f":"G310-H310","v":0},"BLOCK"]
[null,null,{"$f":"C267","v":" Block 4 Player 2"},null,null,{"$f":"F267","v":0},{"$f":"BLOCK!F73","v":-1E-3},{"$f":"BLOCK!H73","v":-1E-3},0,"NET"]
[null,null,{"$f":"C269","v":" Block 4 Player 4"},null,null,{"$f":"F269","v":0},{"$f":"BLOCK!L73","v":-1E-3},{"$f":"BLOCK!N73","v":-1E-3},0,{"$f":"SUM(I310:I312)","v":0}]
[null,null," ",null,null," ",null,null,0]
[null,null," ",null,null," ",null,null,0]
[null,null," ",null,null," ",null,null,0]
[null,null," ",null,null," ",null,null,0]
[null,null," ",null,null," ",null,null,0]
[null,null," ",null,null," ",null,null,0]
[null,null," ",null,null," ",null,null,0,"TOURN"]
[null,null," ",null,null," ",null,null,0,"NET"]
[null,null," ",null,null," ",null,null,0,{"$f":"SUM(I310:I324)","v":0}]
[null,null," ",null,null," ",null,null,0]
[null,null," ",null,null," ",null,null,0]
[null,null," ",null,null," ",null,null,0]
[]
[null,null,"PLAYER:",{"$f":"C269","v":" Block 4 Player 4"},null,null,null,"HANDICAP",{"$f":"F269","v":0}]
[null,null,null,null,null,"OPP.","PLAYER","OPP.","NET"]
[null,null,null,"OPPONENT",null,"HCP","SCORE","SCORE","PTS"]
[null,null,{"$f":"D264","v":" Block 4 Player 1"},null,null,{"$f":"I264","v":0},{"$f":"BLOCK!C76","v":-1E-3},{"$f":"BLOCK!E76","v":-1E-3},{"$f":"G329-H329","v":0},"BLOCK"]
[null,null,{"$f":"C267","v":" Block 4 Player 2"},null,null,{"$f":"F267","v":0},{"$f":"BLOCK!F76","v":-1E-3},{"$f":"BLOCK!H76","v":-1E-3},0,"NET"]
[null,null,{"$f":"C268","v":" Block 4 Player 3"},null,null,{"$f":"F268","v":0},{"$f":"BLOCK!I76","v":-1E-3},{"$f":"BLOCK!K76","v":-1E-3},0,{"$f":"SUM(I329:I331)","v":0}]
[null,null," ",null,null," ",null,null,0]
[null,null," ",null,null," ",null,null,0]
[null,null," ",null,null," ",null,null,0]
[null,null," ",null,null," ",null,null,0]
[null,null," ",null,null," ",null,null,0]
[null,null," ",null,null," ",null,null,0]
[null,null," ",null,null," ",null,null,0,"TOURN"]
[null,null," ",null,null," ",null,null,0,"NET"]
[null,null," ",null,null," ",null,null,0,{"$f":"SUM(I329:I343)","v":0}]
[null,null," ",null,null," ",null,null,0]
[null,null," ",null,null," ",null,null,0]
[null,null," ",null,null," ",null,null,0]
[]
[]
[null,null,null,null,null,"TOURNAMENT SCORE CARD"]
[null,null,null,null,null,{"$f":"BLOCK!J80","v":"TOURNAMENT"}]
[null,null,null,null,null,{"$f":"BLOCK!G81","v":"DATE"}]
[null,null,null,null,null,{"$f":"BLOCK!B84","v":"BLOCK 5"}]
[null,null,"PLAYER:",{"$f":"BLOCK!C84","v":" Block 5 Player 1"},null,null,null,"HANDICAP",{"$f":"BLOCK!B87","v":0}]
[null,null,null,null,null,"OPP.","PLAYER","OPP.","NET"]
[null,null,null,"OPPONENT",null,"HCP","SCORE","SCORE","PTS"]
[null,null,{"$f":"BLOCK!F84","v":" Block 5 Player 2"},null,null,{"$f":"BLOCK!B90","v":0},{"$f":"BLOCK!F86","v":-1E-3},{"$f":"BLOCK!H86","v":-1E-3},{"$f":"G353-H353","v":0},"BLOCK"]
[null,null,{"$f":"BLOCK!I84","v":" Block 5 Player 3"},null,null,{"$f":"BLOCK!B93","v":0},{"$f":"BLOCK!I86","v":-1E-3},{"$f":"BLOCK!K86","v":-1E-3},0,"NET"]
[null,null,{"$f":"BLOCK!L84","v":" Block 5 Player 4"},null,null,{"$f":"BLOCK!B96","v":0},{"$f":"BLOCK!L86","v":-1E-3},{"$f":"BLOCK!N86","v":-1E-3},0,{"$f":"SUM(I353:I355)","v":0}]
[null,null," ",null,null," ",null,null,0]
[null,null," ",null,null," ",null,null,0]
[null,null," ",null,null," ",null,null,0]
[null,null," ",null,null," ",null,null,0]
[null,null," ",null,null," ",null,null,0]
[null,null," ",null,null," ",null,null,0]
[null,null," ",null,null," ",null,null,0,"TOURN"]
[null,null," ",null,null," ",null,null,0,"NET"]
[null,null," ",null,null," ",null,null,0,{"$f":"SUM(I353:I367)","v":0}]
[null,null," ",null,null," ",null,null,0]
[null,null," ",null,null," ",null,null,0]
[null,null," ",null,null," ",null,null,0]
[]
[null,null,"PLAYER:",{"$f":"C353","v":" Block 5 Player 2"},null,null,null,"HANDICAP",{"$f":"F353","v":0}]
[null,null,null,null,null,"OPP.","PLAYER","OPP.","NET"]
[null,null,null,"OPPONENT",null,"HCP","SCORE","SCORE","PTS"]
[null,null,{"$f":"D350","v":" Block 5 Player 1"},null,null,{"$f":"I350","v":0},{"$f":"BLOCK!C89","v":-1E-3},{"$f":"BLOCK!E89","v":-1E-3},{"$f":"G372-H372","v":0},"BLOCK"]
[null,null,{"$f":"C354","v":" Block 5 Player 3"},null,null,{"$f":"F354","v":0},{"$f":"BLOCK!I89","v":-1E-3},{"$f":"BLOCK!K89","v":-1E-3},0,"NET"]
[null,null,{"$f":"C355","v":" Block 5 Player 4"},null,null,{"$f":"F355","v":0},{"$f":"BLOCK!L89","v":-1E-3},{"$f":"BLOCK!N89","v":-1E-3},0,{"$f":"SUM(I372:I374)","v":0}]
[null,null," ",null,null," ",null,null,0]
[null,null," ",null,null," ",null,null,0]
[null,null," ",null,null," ",null,null,0]
[null,null," ",null,null," ",null,null,0]
[null,null," ",null,null," ",null,null,0]
[null,null," ",null,null," ",null,null,0]
[null,null," ",null,null," ",null,null,0,"TOURN"]
[null,null," ",null,null," ",null,null,0,"NET"]
[null,null," ",null,null," ",null,null,0,{"$f":"SUM(I372:I386)","v":0}]
[null,null," ",null,null," ",null,null,0]
[null,null," ",null,null," ",null,null,0]
[null,null," ",null,null," ",null,null,0]
[]
[]
[null,null,null,null,null,"TOURNAMENT SCORE CARD"]
[null,null,null,null,null,{"$f":"F347","v":"TOURNAMENT"}]
[null,null,null,null,null,{"$f":"F348","v":"DATE"}]
[null,null,null,null,null,{"$f":"F349","v":"BLOCK 5"}]
[null,null,"PLAYER:",{"$f":"C354","v":" Block 5 Player 3"},null,null,null,"HANDICAP",{"$f":"F354","v":0}]
[null,null,null,null,null,"OPP.","PLAYER","OPP.","NET"]
[null,null,null,"OPPONENT",null,"HCP","SCORE","SCORE","PTS"]
[null,null,{"$f":"D350","v":" Block 5 Player 1"},null,null,{"$f":"I350","v":0},{"$f":"BLOCK!C92","v":-1E-3},{"$f":"BLOCK!E92","v":-1E-3},{"$f":"G396-H396","v":0},"BLOCK"]
[null,null,{"$f":"C353","v":" Block 5 Player 2"},null,null,{"$f":"F353","v":0},{"$f":"BLOCK!F92","v":-1E-3},{"$f":"BLOCK!H92","v":-1E-3},0,"NET"]
[null,null,{"$f":"C355","v":" Block 5 Player 4"},null,null,{"$f":"F355","v":0},{"$f":"BLOCK!L92","v":-1E-3},{"$f":"BLOCK!N92","v":-1E-3},0,{"$f":"SUM(I396:I398)","v":0}]
[null,null," ",null,null," ",null,null,0]
[null,null," ",null,null," ",null,null,0]
[null,null," ",null,null," ",null,null,0]
[null,null," ",null,null," ",null,null,0]
[null,null," ",null,null," ",null,null,0]
[null,null," ",null,null," ",null,null,0]
[null,null," ",null,null," ",null,null,0,"TOURN"]
[null,null," ",null,null," ",null,null,0,"NET"]
[null,null," ",null,null," ",null,null,0,{"$f":"SUM(I396:I410)","v":0}]
[null,null," ",null,null," ",null,null,0]
[null,null," ",null,null," ",null,null,0]
[null,null," ",null,null," ",null,null,0]
[]
[null,null,"PLAYER:",{"$f":"C355","v":" Block 5 Player 4"},null,null,null,"HANDICAP",{"$f":"F355","v":0}]
[null,null,null,null,null,"OPP.","PLAYER","OPP.","NET"]
[null,null,null,"OPPONENT",null,"HCP","SCORE","SCORE","PTS"]
[null,null,{"$f":"D350","v":" Block 5 Player 1"},null,null,{"$f":"I350","v":0},{"$f":"BLOCK!C95","v":-1E-3},{"$f":"BLOCK!E95","v":-1E-3},{"$f":"G415-H415","v":0},"BLOCK"]
[null,null,{"$f":"C353","v":" Block 5 Player 2"},null,null,{"$f":"F353","v":0},{"$f":"BLOCK!F95","v":-1E-3},{"$f":"BLOCK!H95","v":-1E-3},0,"NET"]
[null,null,{"$f":"C354","v":" Block 5 Player 3"},null,null,{"$f":"F354","v":0},{"$f":"BLOCK!I95","v":-1E-3},{"$f":"BLOCK!K95","v":-1E-3},0,{"$f":"SUM(I415:I417)","v":0}]
[null,null," ",null,null," ",null,null,0]
[null,null," ",null,null," ",null,null,0]
[null,null," ",null,null," ",null,null,0]
[null,null," ",null,null," ",null,null,0]
[null,null," ",null,null," ",null,null,0]
[null,null," ",null,null," ",null,null,0]
[null,null," ",null,null," ",null,null,0,"TOURN"]
[null,null," ",null,null," ",null,null,0,"NET"]
[null,null," ",null,null," ",null,null,0,{"$f":"SUM(I415:I429)","v":0}]
[null,null," ",null,null," ",null,null,0]
[null,null," ",null,null," ",null,null,0]
[null,null," ",null,null," ",null,null,0]
[]
[]
[null,null,null,null,null,"TOURNAMENT SCORE CARD"]
[null,null,null,null,null,{"$f":"BLOCK!J99","v":"TOURNAMENT"}]
[null,null,null,null,null,{"$f":"BLOCK!G100","v":"DATE"}]
[null,null,null,null,null,{"$f":"BLOCK!B103","v":"BLOCK 6"}]
[null,null,"PLAYER:",{"$f":"BLOCK!C103","v":" Block 6 Player 1"},null,null,null,"HANDICAP",{"$f":"BLOCK!B106","v":0}]
[null,null,null,null,null,"OPP.","PLAYER","OPP.","NET"]
[null,null,null,"OPPONENT",null,"HCP","SCORE","SCORE","PTS"]
[null,null,{"$f":"BLOCK!F103","v":" Block 6 Player 2"},null,null,{"$f":"BLOCK!B109","v":0},{"$f":"BLOCK!F105","v":-1E-3},{"$f":"BLOCK!H105","v":-1E-3},{"$f":"G439-H439","v":0},"BLOCK"]
[null,null,{"$f":"BLOCK!I103","v":" Block 6 Player 3"},null,null,{"$f":"BLOCK!B112","v":0},{"$f":"BLOCK!I105","v":-1E-3},{"$f":"BLOCK!K105","v":-1E-3},0,"NET"]
[null,null,{"$f":"BLOCK!L103","v":" Block 6 Player 4"},null,null,{"$f":"BLOCK!B115","v":0},{"$f":"BLOCK!L105","v":-1E-3},{"$f":"BLOCK!N105","v":-1E-3},0,{"$f":"SUM(I439:I441)","v":0}]
[null,null," ",null,null," ",null,null,0]
[null,null," ",null,null," ",null,null,0]
[null,null," ",null,null," ",null,null,0]
[null,null," ",null,null," ",null,null,0]
[null,null," ",null,null," ",null,null,0]
[null,null," ",null,null," ",null,null,0]
[null,null," ",null,null," ",null,null,0,"TOURN"]
[null,null," ",null,null," ",null,null,0,"NET"]
[null,null," ",null,null," ",null,null,0,{"$f":"SUM(I439:I453)","v":0}]
[null,null," ",null,null," ",null,null,0]
[null,null," ",null,null," ",null,null,0]
[null,null," ",null,null," ",null,null,0]
[]
[null,null,"PLAYER:",{"$f":"C439","v":" Block 6 Player 2"},null,null,null,"HANDICAP",{"$f":"F439","v":0}]
[null,null,null,null,null,"OPP.","PLAYER","OPP.","NET"]
[null,null,null,"OPPONENT",null,"HCP","SCORE","SCORE","PTS"]
[null,null,{"$f":"D436","v":" Block 6 Player 1"},null,null,{"$f":"I436","v":0},{"$f":"BLOCK!C108","v":-1E-3},{"$f":"BLOCK!E108","v":-1E-3},{"$f":"G458-H458","v":0},"BLOCK"]
[null,null,{"$f":"C440","v":" Block 6 Player 3"},null,null,{"$f":"F440","v":0},{"$f":"BLOCK!I108","v":-1E-3},{"$f":"BLOCK!K108","v":-1E-3},0,"NET"]
[null,null,{"$f":"C441","v":" Block 6 Player 4"},null,null,{"$f":"F441","v":0},{"$f":"BLOCK!L108","v":-1E-3},{"$f":"BLOCK!N108","v":-1E-3},0,{"$f":"SUM(I458:I460)","v":0}]
[null,null," ",null,null," ",null,null,0]
[null,null," ",null,null," ",null,null,0]
[null,null," ",null,null," ",null,null,0]
[null,null," ",null,null," ",null,null,0]
[null,null," ",null,null," ",null,null,0]
[null,null," ",null,null," ",null,null,0]
[null,null," ",null,null," ",null,null,0,"TOURN"]
[null,null," ",null,null," ",null,null,0,"NET"]
[null,null," ",null,null," ",null,null,0,{"$f":"SUM(I458:I472)","v":0}]
[null,null," ",null,null," ",null,null,0]
[null,null," ",null,null," ",null,null,0]
[null,null," ",null,null," ",null,null,0]
[]
[]
[null,null,null,null,null,"TOURNAMENT SCORE CARD"]
[null,null,null,null,null,{"$f":"F433","v":"TOURNAMENT"}]
[null,null,null,null,null,{"$f":"F434","v":"DATE"}]
[null,null,null,null,null,{"$f":"F435","v":"BLOCK 6"}]
[null,null,"PLAYER:",{"$f":"C440","v":" Block 6 Player 3"},null,null,null,"HANDICAP",{"$f":"F440","v":0}]
[null,null,null,null,null,"OPP.","PLAYER","OPP.","NET"]
[null,null,null,"OPPONENT",null,"HCP","SCORE","SCORE","PTS"]
[null,null,{"$f":"D436","v":" Block 6 Player 1"},null,null,{"$f":"I436","v":0},{"$f":"BLOCK!C111","v":-1E-3},{"$f":"BLOCK!E111","v":-1E-3},{"$f":"G482-H482","v":0},"BLOCK"]
[null,null,{"$f":"C439","v":" Block 6 Player 2"},null,null,{"$f":"F439","v":0},{"$f":"BLOCK!F111","v":-1E-3},{"$f":"BLOCK!H111","v":-1E-3},0,"NET"]
[null,null,{"$f":"C441","v":" Block 6 Player 4"},null,null,{"$f":"F441","v":0},{"$f":"BLOCK!L111","v":-1E-3},{"$f":"BLOCK!N111","v":-1E-3},0,{"$f":"SUM(I482:I484)","v":0}]
[null,null," ",null,null," ",null,null,0]
[null,null," ",null,null," ",null,null,0]
[null,null," ",null,null," ",null,null,0]
[null,null," ",null,null," ",null,null,0]
[null,null," ",null,null," ",null,null,0]
[null,null," ",null,null," ",null,null,0]
[null,null," ",null,null," ",null,null,0,"TOURN"]
[null,null," ",null,null," ",null,null,0,"NET"]
[null,null," ",null,null," ",null,null,0,{"$f":"SUM(I482:I496)","v":0}]
[null,null," ",null,null," ",null,null,0]
[null,null," ",null,null," ",null,null,0]
[null,null," ",null,null," ",null,null,0]
[]
[null,null,"PLAYER:",{"$f":"C441","v":" Block 6 Player 4"},null,null,null,"HANDICAP",{"$f":"F441","v":0}]
[null,null,null,null,null,"OPP.","PLAYER","OPP.","NET"]
[null,null,null,"OPPONENT",null,"HCP","SCORE","SCORE","PTS"]
[null,null,{"$f":"D436","v":" Block 6 Player 1"},null,null,{"$f":"I436","v":0},{"$f":"BLOCK!C114","v":-1E-3},{"$f":"BLOCK!E114","v":-1E-3},{"$f":"G501-H501","v":0},"BLOCK"]
[null,null,{"$f":"C439","v":" Block 6 Player 2"},null,null,{"$f":"F439","v":0},{"$f":"BLOCK!F114","v":-1E-3},{"$f":"BLOCK!H114","v":-1E-3},0,"NET"]
[null,null,{"$f":"C440","v":" Block 6 Player 3"},null,null,{"$f":"F440","v":0},{"$f":"BLOCK!I114","v":-1E-3},{"$f":"BLOCK!K114","v":-1E-3},0,{"$f":"SUM(I501:I503)","v":0}]
[null,null," ",null,null," ",null,null,0]
[null,null," ",null,null," ",null,null,0]
[null,null," ",null,null," ",null,null,0]
[null,null," ",null,null," ",null,null,0]
[null,null," ",null,null," ",null,null,0]
[null,null," ",null,null," ",null,null,0]
[null,null," ",null,null," ",null,null,0,"TOURN"]
[null,null," ",null,null," ",null,null,0,"NET"]
[null,null," ",null,null," ",null,null,0,{"$f":"SUM(I501:I515)","v":0}]
[null,null," ",null,null," ",null,null,0]
[null,null," ",null,null," ",null,null,0]
[null,null," ",null,null," ",null,null,0]
[]
[]
[null,null,null,null,null,"TOURNAMENT SCORE CARD"]
[null,null,null,null,null,{"$f":"BLOCK!J118","v":"TOURNAMENT"}]
[null,null,null,null,null,{"$f":"BLOCK!G119","v":"DATE"}]
[null,null,null,null,null,{"$f":"BLOCK!B122","v":"BLOCK 7"}]
[null,null,"PLAYER:",{"$f":"BLOCK!C122","v":" Block 7 Player 1"},null,null,null,"HANDICAP",{"$f":"BLOCK!B125","v":0}]
[null,null,null,null,null,"OPP.","PLAYER","OPP.","NET"]
[null,null,null,"OPPONENT",null,"HCP","SCORE","SCORE","PTS"]
[null,null,{"$f":"BLOCK!F122","v":" Block 7 Player 2"},null,null,{"$f":"BLOCK!B128","v":0},{"$f":"BLOCK!F124","v":-1E-3},{"$f":"BLOCK!H124","v":-1E-3},{"$f":"G525-H525","v":0},"BLOCK"]
[null,null,{"$f":"BLOCK!I122","v":" Block 7 Player 3"},null,null,{"$f":"BLOCK!B131","v":0},{"$f":"BLOCK!I124","v":-1E-3},{"$f":"BLOCK!K124","v":-1E-3},0,"NET"]
[null,null,{"$f":"BLOCK!L122","v":" Block 7 Player 4"},null,null,{"$f":"BLOCK!B134","v":0},{"$f":"BLOCK!L124","v":-1E-3},{"$f":"BLOCK!N124","v":-1E-3},0,{"$f":"SUM(I525:I527)","v":0}]
[null,null," ",null,null," ",null,null,0]
[null,null," ",null,null," ",null,null,0]
[null,null," ",null,null," ",null,null,0]
[null,null," ",null,null," ",null,null,0]
[null,null," ",null,null," ",null,null,0]
[null,null," ",null,null," ",null,null,0]
[null,null," ",null,null," ",null,null,0,"TOURN"]
[null,null," ",null,null," ",null,null,0,"NET"]
[null,null," ",null,null," ",null,null,0,{"$f":"SUM(I525:I539)","v":0}]
[null,null," ",null,null," ",null,null,0]
[null,null," ",null,null," ",null,null,0]
[null,null," ",null,null," ",null,null,0]
[]
[null,null,"PLAYER:",{"$f":"C525","v":" Block 7 Player 2"},null,null,null,"HANDICAP",{"$f":"F525","v":0}]
[null,null,null,null,null,"OPP.","PLAYER","OPP.","NET"]
[null,null,null,"OPPONENT",null,"HCP","SCORE","SCORE","PTS"]
[null,null,{"$f":"D522","v":" Block 7 Player 1"},null,null,{"$f":"I522","v":0},{"$f":"BLOCK!C127","v":-1E-3},{"$f":"BLOCK!E127","v":-1E-3},{"$f":"G544-H544","v":0},"BLOCK"]
[null,null,{"$f":"C526","v":" Block 7 Player 3"},null,null,{"$f":"F526","v":0},{"$f":"BLOCK!I127","v":-1E-3},{"$f":"BLOCK!K127","v":-1E-3},0,"NET"]
[null,null,{"$f":"C527","v":" Block 7 Player 4"},null,null,{"$f":"F527","v":0},{"$f":"BLOCK!L127","v":-1E-3},{"$f":"BLOCK!N127","v":-1E-3},0,{"$f":"SUM(I544:I546)","v":0}]
[null,null," ",null,null," ",null,null,0]
[null,null," ",null,null," ",null,null,0]
[null,null," ",null,null," ",null,null,0]
[null,null," ",null,null," ",null,null,0]
[null,null," ",null,null," ",null,null,0]
[null,null," ",null,null," ",null,null,0]
[null,null," ",null,null," ",null,null,0,"TOURN"]
[null,null," ",null,null," ",null,null,0,"NET"]
[null,null," ",null,null," ",null,null,0,{"$f":"SUM(I544:I558)","v":0}]
[null,null," ",null,null," ",null,null,0]
[null,null," ",null,null," ",null,null,0]
[null,null," ",null,null," ",null,null,0]
[]
[]
[null,null,null,null,null,"TOURNAMENT SCORE CARD"]
[null,null,null,null,null,{"$f":"F519","v":"TOURNAMENT"}]
[null,null,null,null,null,{"$f":"F520","v":"DATE"}]
[null,null,null,null,null,{"$f":"F521","v":"BLOCK 7"}]
[null,null,"PLAYER:",{"$f":"C526","v":" Block 7 Player 3"},null,null,null,"HANDICAP",{"$f":"F526","v":0}]
[null,null,null,null,null,"OPP.","PLAYER","OPP.","NET"]
[null,null,null,"OPPONENT",null,"HCP","SCORE","SCORE","PTS"]
[null,null,{"$f":"D522","v":" Block 7 Player 1"},null,null,{"$f":"I522","v":0},{"$f":"BLOCK!C130","v":-1E-3},{"$f":"BLOCK!E130","v":-1E-3},{"$f":"G568-H568","v":0},"BLOCK"]
[null,null,{"$f":"C525","v":" Block 7 Player 2"},null,null,{"$f":"F525","v":0},{"$f":"BLOCK!F130","v":-1E-3},{"$f":"BLOCK!H130","v":-1E-3},0,"NET"]
[null,null,{"$f":"C527","v":" Block 7 Player 4"},null,null,{"$f":"F527","v":0},{"$f":"BLOCK!L130","v":-1E-3},{"$f":"BLOCK!N130","v":-1E-3},0,{"$f":"SUM(I568:I570)","v":0}]
[null,null," ",null,null," ",null,null,0]
[null,null," ",null,null," ",null,null,0]
[null,null," ",null,null," ",null,null,0]
[null,null," ",null,null," ",null,null,0]
[null,null," ",null,null," ",null,null,0]
[null,null," ",null,null," ",null,null,0]
[null,null," ",null,null," ",null,null,0,"TOURN"]
[null,null," ",null,null," ",null,null,0,"NET"]
[null,null," ",null,null," ",null,null,0,{"$f":"SUM(I568:I582)","v":0}]
[null,null," ",null,null," ",null,null,0]
[null,null," ",null,null," ",null,null,0]
[null,null," ",null,null," ",null,null,0]
[]
[null,null,"PLAYER:",{"$f":"C527","v":" Block 7 Player 4"},null,null,null,"HANDICAP",{"$f":"F527","v":0}]
[null,null,null,null,null,"OPP.","PLAYER","OPP.","NET"]
[null,null,null,"OPPONENT",null,"HCP","SCORE","SCORE","PTS"]
[null,null,{"$f":"D522","v":" Block 7 Player 1"},null,null,{"$f":"I522","v":0},{"$f":"BLOCK!C133","v":-1E-3},{"$f":"BLOCK!E133","v":-1E-3},{"$f":"G587-H587","v":0},"BLOCK"]
[null,null,{"$f":"C525","v":" Block 7 Player 2"},null,null,{"$f":"F525","v":0},{"$f":"BLOCK!F133","v":-1E-3},{"$f":"BLOCK!H133","v":-1E-3},0,"NET"]
[null,null,{"$f":"C526","v":" Block 7 Player 3"},null,null,{"$f":"F526","v":0},{"$f":"BLOCK!I133","v":-1E-3},{"$f":"BLOCK!K133","v":-1E-3},0,{"$f":"SUM(I587:I589)","v":0}]
[null,null," ",null,null," ",null,null,0]
[null,null," ",null,null," ",null,null,0]
[null,null," ",null,null," ",null,null,0]
[null,null," ",null,null," ",null,null,0]
[null,null," ",null,null," ",null,null,0]
[null,null," ",null,null," ",null,null,0]
[null,null," ",null,null," ",null,null,0,"TOURN"]
[null,null," ",null,null," ",null,null,0,"NET"]
[null,null," ",null,null," ",null,null,0,{"$f":"SUM(I587:I601)","v":0}]
[null,null," ",null,null," ",null,null,0]
[null,null," ",null,null," ",null,null,0]
[null,null," ",null,null," ",null,null,0]
[]
[]
[null,null,null,null,null,"TOURNAMENT SCORE CARD"]
[null,null,null,null,null,{"$f":"BLOCK!J137","v":"TOURNAMENT"}]
[null,null,null,null,null,{"$f":"BLOCK!G138","v":"DATE"}]
[null,null,null,null,null,{"$f":"BLOCK!B141","v":"BLOCK 8"}]
[null,null,"PLAYER:",{"$f":"BLOCK!C141","v":" Block 8 Player 1"},null,null,null,"HANDICAP",{"$f":"BLOCK!B144","v":0}]
[null,null,null,null,null,"OPP.","PLAYER","OPP.","NET"]
[null,null,null,"OPPONENT",null,"HCP","SCORE","SCORE","PTS"]
[null,null,{"$f":"BLOCK!F141","v":" Block 8 Player 2"},null,null,{"$f":"BLOCK!B147","v":0},{"$f":"BLOCK!F143","v":-1E-3},{"$f":"BLOCK!H143","v":-1E-3},{"$f":"G611-H611","v":0},"BLOCK"]
[null,null,{"$f":"BLOCK!I141","v":" Block 8 Player 3"},null,null,{"$f":"BLOCK!B150","v":0},{"$f":"BLOCK!I143","v":-1E-3},{"$f":"BLOCK!K143","v":-1E-3},0,"NET"]
[null,null,{"$f":"BLOCK!L141","v":" Block 8 Player 4"},null,null,{"$f":"BLOCK!B153","v":0},{"$f":"BLOCK!L143","v":-1E-3},{"$f":"BLOCK!N143","v":-1E-3},0,{"$f":"SUM(I611:I613)","v":0}]
[null,null," ",null,null," ",null,null,0]
[null,null," ",null,null," ",null,null,0]
[null,null," ",null,null," ",null,null,0]
[null,null," ",null,null," ",null,null,0]
[null,null," ",null,null," ",null,null,0]
[null,null," ",null,null," ",null,null,0]
[null,null," ",null,null," ",null,null,0,"TOURN"]
[null,null," ",null,null," ",null,null,0,"NET"]
[null,null," ",null,null," ",null,null,0,{"$f":"SUM(I611:I625)","v":0}]
[null,null," ",null,null," ",null,null,0]
[null,null," ",null,null,"  ",null,null,0]
[null,null," ",null,null," ",null,null,0]
[]
[null,null,"PLAYER:",{"$f":"C611","v":" Block 8 Player 2"},null,null,null,"HANDICAP",{"$f":"F611","v":0}]
[null,null,null,null,null,"OPP.","PLAYER","OPP.","NET"]
[null,null,null,"OPPONENT",null,"HCP","SCORE","SCORE","PTS"]
[null,null,{"$f":"D608","v":" Block 8 Player 1"},null,null,{"$f":"I608","v":0},{"$f":"BLOCK!C146","v":-1E-3},{"$f":"BLOCK!E146","v":-1E-3},{"$f":"G630-H630","v":0},"BLOCK"]
[null,null,{"$f":"C612","v":" Block 8 Player 3"},null,null,{"$f":"F612","v":0},{"$f":"BLOCK!I146","v":-1E-3},{"$f":"BLOCK!K146","v":-1E-3},0,"NET"]
[null,null,{"$f":"C613","v":" Block 8 Player 4"},null,null,{"$f":"F613","v":0},{"$f":"BLOCK!L146","v":-1E-3},{"$f":"BLOCK!N146","v":-1E-3},0,{"$f":"SUM(I630:I632)","v":0}]
[null,null," ",null,null," ",null,null,0]
[null,null," ",null,null," ",null,null,0]
[null,null," ",null,null," ",null,null,0]
[null,null," ",null,null," ",null,null,0]
[null,null," ",null,null," ",null,null,0]
[null,null," ",null,null," ",null,null,0]
[null,null," ",null,null," ",null,null,0,"TOURN"]
[null,null," ",null,null," ",null,null,0,"NET"]
[null,null," ",null,null," ",null,null,0,{"$f":"SUM(I630:I644)","v":0}]
[null,null," ",null,null," ",null,null,0]
[null,null," ",null,null," ",null,null,0]
[null,null," ",null,null," ",null,null,0]
[null,null,null,null,null," "]
[]
[null,null,null,null,null,"TOURNAMENT SCORE CARD"]
[null,null,null,null,null,{"$f":"F605","v":"TOURNAMENT"}]
[null,null,null,null,null,{"$f":"F606","v":"DATE"}]
[null,null,null,null,null,{"$f":"F607","v":"BLOCK 8"}]
[null,null,"PLAYER:",{"$f":"C612","v":" Block 8 Player 3"},null,null,null,"HANDICAP",{"$f":"F612","v":0}]
[null,null,null,null,null,"OPP.","PLAYER","OPP.","NET"]
[null,null,null,"OPPONENT",null,"HCP","SCORE","SCORE","PTS"]
[null,null,{"$f":"D608","v":" Block 8 Player 1"},null,null,{"$f":"I608","v":0},{"$f":"BLOCK!C149","v":-1E-3},{"$f":"BLOCK!E149","v":-1E-3},{"$f":"G654-H654","v":0},"BLOCK"]
[null,null,{"$f":"C611","v":" Block 8 Player 2"},null,null,{"$f":"F611","v":0},{"$f":"BLOCK!F149","v":-1E-3},{"$f":"BLOCK!H149","v":-1E-3},0,"NET"]
[null,null,{"$f":"C613","v":" Block 8 Player 4"},null,null,{"$f":"F613","v":0},{"$f":"BLOCK!L149","v":-1E-3},{"$f":"BLOCK!N149","v":-1E-3},0,{"$f":"SUM(I654:I656)","v":0}]
[null,null," ",null,null," ",null,null,0]
[null,null," ",null,null," ",null,null,0]
[null,null," ",null,null," ",null,null,0]
[null,null," ",null,null," ",null,null,0]
[null,null," ",null,null," ",null,null,0]
[null,null," ",null,null," ",null,null,0]
[null,null," ",null,null," ",null,null,0,"TOURN"]
[null,null," ",null,null," ",null,null,0,"NET"]
[null,null," ",null,null," ",null,null,0,{"$f":"SUM(I654:I668)","v":0}]
[null,null," ",null,null," ",null,null,0]
[null,null," ",null,null," ",null,null,0]
[null,null," ",null,null," ",null,null,0]
[]
[null,null,"PLAYER:",{"$f":"C613","v":" Block 8 Player 4"},null,null,null,"HANDICAP",{"$f":"F613","v":0}]
[null,null,null,null,null,"OPP.","PLAYER","OPP.","NET"]
[null,null,null,"OPPONENT",null,"HCP","SCORE","SCORE","PTS"]
[null,null,{"$f":"D608","v":" Block 8 Player 1"},null,null,{"$f":"I608","v":0},{"$f":"BLOCK!C152","v":-1E-3},{"$f":"BLOCK!E152","v":-1E-3},{"$f":"G673-H673","v":0},"BLOCK"]
[null,null,{"$f":"C611","v":" Block 8 Player 2"},null,null,{"$f":"F611","v":0},{"$f":"BLOCK!F152","v":-1E-3},{"$f":"BLOCK!H152","v":-1E-3},0,"NET"]
[null,null,{"$f":"C612","v":" Block 8 Player 3"},null,null,{"$f":"F612","v":0},{"$f":"BLOCK!I152","v":-1E-3},{"$f":"BLOCK!K152","v":-1E-3},0,{"$f":"SUM(I673:I675)","v":0}]
[null,null," ",null,null," ",null,null,0]
[null,null," ",null,null," ",null,null,0]
[null,null," ",null,null," ",null,null,0]
[null,null," ",null,null," ",null,null,0]
[null,null," ",null,null," ",null,null,0]
[null,null," ",null,null," ",null,null,0]
[null,null," ",null,null," ",null,null,0,"TOURN"]
[null,null," ",null,null," ",null,null,0,"NET"]
[null,null," ",null,null," ",null,null,0,{"$f":"SUM(I673:I687)","v":0}]
[null,null," ",null,null," ",null,null,0]
[null,null," ",null,null," ",null,null,0]
[null,null," ",null,null," ",null,null,0]
[]
[]
[null,null,null,null,null,"TOURNAMENT SCORE CARD"]
[null,null,null,null,null,{"$f":"BLOCK!J156","v":"TOURNAMENT"}]
[null,null,null,null,null,{"$f":"BLOCK!G157","v":"DATE"}]
[null,null,null,null,null,{"$f":"BLOCK!B160","v":"BLOCK 9"}]
[null,null,"PLAYER:",{"$f":"BLOCK!C160","v":" Block 9 Player 1"},null,null,null,"HANDICAP",{"$f":"BLOCK!B163","v":0}]
[null,null,null,null,null,"OPP.","PLAYER","OPP.","NET"]
[null,null,null,"OPPONENT",null,"HCP","SCORE","SCORE","PTS"]
[null,null,{"$f":"BLOCK!F160","v":" Block 9 Player 2"},null,null,{"$f":"BLOCK!B166","v":0},{"$f":"BLOCK!F162","v":-1E-3},{"$f":"BLOCK!H162","v":-1E-3},{"$f":"G697-H697","v":0},"BLOCK"]
[null,null,{"$f":"BLOCK!I160","v":" Block 9 Player 3"},null,null,{"$f":"BLOCK!B169","v":0},{"$f":"BLOCK!I162","v":-1E-3},{"$f":"BLOCK!K162","v":-1E-3},0,"NET"]
[null,null,{"$f":"BLOCK!L160","v":" Block 9 Player 4"},null,null,{"$f":"BLOCK!B172","v":0},{"$f":"BLOCK!L162","v":-1E-3},{"$f":"BLOCK!N162","v":-1E-3},0,{"$f":"SUM(I697:I699)","v":0}]
[null,null," ",null,null," ",null,null,0]
[null,null," ",null,null," ",null,null,0]
[null,null," ",null,null," ",null,null,0]
[null,null," ",null,null," ",null,null,0]
[null,null," ",null,null," ",null,null,0]
[null,null," ",null,null," ",null,null,0]
[null,null," ",null,null," ",null,null,0,"TOURN"]
[null,null," ",null,null," ",null,null,0,"NET"]
[null,null," ",null,null," ",null,null,0,{"$f":"SUM(I697:I711)","v":0}]
[null,null," ",null,null," ",null,null,0]
[null,null," ",null,null," ",null,null,0]
[null,null," ",null,null," ",null,null,0]
[]
[null,null,"PLAYER:",{"$f":"C697","v":" Block 9 Player 2"},null,null,null,"HANDICAP",{"$f":"F697","v":0}]
[null,null,null,null,null,"OPP.","PLAYER","OPP.","NET"]
[null,null,null,"OPPONENT",null,"HCP","SCORE","SCORE","PTS"]
[null,null,{"$f":"D694","v":" Block 9 Player 1"},null,null,{"$f":"I694","v":0},{"$f":"BLOCK!C165","v":-1E-3},{"$f":"BLOCK!E165","v":-1E-3},{"$f":"G716-H716","v":0},"BLOCK"]
[null,null,{"$f":"C698","v":" Block 9 Player 3"},null,null,{"$f":"F698","v":0},{"$f":"BLOCK!I165","v":-1E-3},{"$f":"BLOCK!K165","v":-1E-3},0,"NET"]
[null,null,{"$f":"C699","v":" Block 9 Player 4"},null,null,{"$f":"F699","v":0},{"$f":"BLOCK!L165","v":-1E-3},{"$f":"BLOCK!N165","v":-1E-3},0,{"$f":"SUM(I716:I718)","v":0}]
[null,null," ",null,null," ",null,null,0]
[null,null," ",null,null," ",null,null,0]
[null,null," ",null,null," ",null,null,0]
[null,null," ",null,null," ",null,null,0]
[null,null," ",null,null," ",null,null,0]
[null,null," ",null,null," ",null,null,0]
[null,null," ",null,null," ",null,null,0,"TOURN"]
[null,null," ",null,null," ",null,null,0,"NET"]
[null,null," ",null,null," ",null,null,0,{"$f":"SUM(I716:I730)","v":0}]
[null,null," ",null,null," ",null,null,0]
[null,null," ",null,null," ",null,null,0]
[null,null," ",null,null," ",null,null,0]
[]
[]
[null,null,null,null,null,"TOURNAMENT SCORE CARD"]
[null,null,null,null,null,{"$f":"F691","v":"TOURNAMENT"}]
[null,null,null,null,null,{"$f":"F692","v":"DATE"}]
[null,null,null,null,null,{"$f":"F693","v":"BLOCK 9"}]
[null,null,"PLAYER:",{"$f":"C698","v":" Block 9 Player 3"},null,null,null,"HANDICAP",{"$f":"F698","v":0}]
[null,null,null,null,null,"OPP.","PLAYER","OPP.","NET"]
[null,null,null,"OPPONENT",null,"HCP","SCORE","SCORE","PTS"]
[null,null,{"$f":"D694","v":" Block 9 Player 1"},null,null,{"$f":"I694","v":0},{"$f":"BLOCK!C168","v":-1E-3},{"$f":"BLOCK!E168","v":-1E-3},{"$f":"G740-H740","v":0},"BLOCK"]
[null,null,{"$f":"C697","v":" Block 9 Player 2"},null,null,{"$f":"F697","v":0},{"$f":"BLOCK!F168","v":-1E-3},{"$f":"BLOCK!H168","v":-1E-3},0,"NET"]
[null,null,{"$f":"C699","v":" Block 9 Player 4"},null,null,{"$f":"F699","v":0},{"$f":"BLOCK!L168","v":-1E-3},{"$f":"BLOCK!N168","v":-1E-3},0,{"$f":"SUM(I740:I742)","v":0}]
[null,null," ",null,null," ",null,null,0]
[null,null," ",null,null," ",null,null,0]
[null,null," ",null,null," ",null,null,0]
[null,null," ",null,null," ",null,null,0]
[null,null," ",null,null," ",null,null,0]
[null,null," ",null,null," ",null,null,0]
[null,null," ",null,null," ",null,null,0,"TOURN"]
[null,null," ",null,null," ",null,null,0,"NET"]
[null,null," ",null,null," ",null,null,0,{"$f":"SUM(I740:I754)","v":0}]
[null,null," ",null,null," ",null,null,0]
[null,null," ",null,null," ",null,null,0]
[null,null," ",null,null," ",null,null,0]
[]
[null,null,"PLAYER:",{"$f":"C699","v":" Block 9 Player 4"},null,null,null,"HANDICAP",{"$f":"F699","v":0}]
[null,null,null,null,null,"OPP.","PLAYER","OPP.","NET"]
[null,null,null,"OPPONENT",null,"HCP","SCORE","SCORE","PTS"]
[null,null,{"$f":"D694","v":" Block 9 Player 1"},null,null,{"$f":"I694","v":0},{"$f":"BLOCK!C171","v":-1E-3},{"$f":"BLOCK!E171","v":-1E-3},{"$f":"G759-H759","v":0},"BLOCK"]
[null,null,{"$f":"C697","v":" Block 9 Player 2"},null,null,{"$f":"F697","v":0},{"$f":"BLOCK!F171","v":-1E-3},{"$f":"BLOCK!H171","v":-1E-3},0,"NET"]
[null,null,{"$f":"C698","v":" Block 9 Player 3"},null,null,{"$f":"F698","v":0},{"$f":"BLOCK!I171","v":-1E-3},{"$f":"BLOCK!K171","v":-1E-3},0,{"$f":"SUM(I759:I761)","v":0}]
[null,null," ",null,null," ",null,null,0]
[null,null," ",null,null," ",null,null,0]
[null,null," ",null,null," ",null,null,0]
[null,null," ",null,null," ",null,null,0]
[null,null," ",null,null," ",null,null,0]
[null,null," ",null,null," ",null,null,0]
[null,null," ",null,null," ",null,null,0,"TOURN"]
[null,null," ",null,null," ",null,null,0,"NET"]
[null,null," ",null,null," ",null,null,0,{"$f":"SUM(I759:I773)","v":0}]
[null,null," ",null,null," ",null,null,0]
[null,null," ",null,null," ",null,null,0]
[null,null," ",null,null," ",null,null,0]

{"sheet":"PLAYER","index":10,"n_rows":1729,"n_cols":10,"rows_kept":1729,"cut":false,"hidden":false,"merged":[[1687,5,1687,6],[1159,5,1159,6],[1207,5,1207,6],[1255,5,1255,6],[1303,5,1303,6],[1351,5,1351,6],[1399,5,1399,6],[1447,5,1447,6],[1495,5,1495,6],[1543,5,1543,6],[1591,5,1591,6],[1639,5,1639,6],[1111,5,1111,6],[583,5,583,6],[631,5,631,6],[679,5,679,6],[727,5,727,6],[775,5,775,6],[823,5,823,6],[871,5,871,6],[919,5,919,6],[967,5,967,6],[1015,5,1015,6],[1063,5,1063,6],[535,5,535,6],[7,5,7,6],[55,5,55,6],[103,5,103,6],[151,5,151,6],[199,5,199,6],[247,5,247,6],[295,5,295,6],[343,5,343,6],[391,5,391,6],[439,5,439,6],[487,5,487,6]]}
[]
[null,null,null,null,{"$f":"BLOCK!C8","v":" Block 1 Player 1"}]
[null,null,null,null,{"$f":"BLOCK!J4","v":"TOURNAMENT"}]
[null,null,null,null,{"$f":"BLOCK!G5","v":"DATE"}]
[null,null,null,null,{"$f":"BLOCK!B8","v":"BLOCK 1"}]
[]
[null,null,null,null,"BLOCK PLAY SCHEDULE"]
[null,"DAY","TIME",null,"COURT","OPPONENT",null,"HANDICAP","PS","OS"]
[null,{"$f":"GAMES!C3","v":"00:00:00"},{"$f":"GAMES!B3","v":"00:00:00"},null,{"$f":"GAMES!D3","v":0},{"$f":"GAMES!G3","v":" Block 1 Player 4"},null,{"$f":"$E$20","v":0},{"$f":"$F$20","v":-1E-3},{"$f":"$G$20","v":-1E-3}]
[null,{"$f":"GAMES!C5","v":"00:00:00"},{"$f":"GAMES!B5","v":"00:00:00"},null,{"$f":"GAMES!D5","v":0},{"$f":"GAMES!E5","v":" Block 1 Player 3"},null,{"$f":"$E$19","v":0},{"$f":"$F$19","v":-1E-3},{"$f":"$G$19","v":-1E-3}]
[null,{"$f":"GAMES!C7","v":"00:00:00"},{"$f":"GAMES!B7","v":"00:00:00"},null,{"$f":"GAMES!D7","v":0},{"$f":"GAMES!G7","v":" Block 1 Player 2"},null,{"$f":"$E$18","v":0},{"$f":"$F$18","v":-1E-3},{"$f":"$G$18","v":-1E-3}]
[]
[]
[]
[null,"PLAYER:",{"$f":"BLOCK!C8","v":" Block 1 Player 1"},null,null,null,"HANDICAP",{"$f":"BLOCK!B11","v":0}]
[null,null,null,null,"OPP","PLAYER","OPP","H/CAP"]
[null,null,"OPPONENT",null,"HCP","SCORE","SCORE","POINTS"]
[null,{"$f":"SCORECARD!C9","v":" Block 1 Player 2"},null,null,{"$f":"SCORECARD!F9","v":0},{"$f":"SCORECARD!G9","v":-1E-3},{"$f":"SCORECARD!H9","v":-1E-3},{"$f":"IF(NOT(OR(F18>0,G18>0)),\"\",IF(HandicapPlay=\"x\",IF(F18>G18,10,-10),(IF((F18-G18>0),(VLOOKUP(OFFSET(H18,-3,0),(TABLE!WIN),(MATCH(E18,WINCOL,0)+1))),(VLOOKUP(OFFSET(H18,-3,0),(TABLE!LOSE),(MATCH(E18,LOSECOL,0)+1)))))))","v":""}]
[null,{"$f":"SCORECARD!C10","v":" Block 1 Player 3"},null,null,{"$f":"SCORECARD!F10","v":0},{"$f":"SCORECARD!G10","v":-1E-3},{"$f":"SCORECARD!H10","v":-1E-3},{"$f":"IF(NOT(OR(F19>0,G19>0)),\"\",IF(HandicapPlay=\"x\",IF(F19>G19,10,-10),(IF((F19-G19>0),(VLOOKUP(OFFSET(H19,-4,0),(TABLE!WIN),(MATCH(E19,WINCOL,0)+1))),(VLOOKUP(OFFSET(H19,-4,0),(TABLE!LOSE),(MATCH(E19,LOSECOL,0)+1)))))))","v":""}]
[null,{"$f":"SCORECARD!C11","v":" Block 1 Player 4"},null,null,{"$f":"SCORECARD!F11","v":0},{"$f":"SCORECARD!G11","v":-1E-3},{"$f":"SCORECARD!H11","v":-1E-3},{"$f":"IF(NOT(OR(F20>0,G20>0)),\"\",IF(HandicapPlay=\"x\",IF(F20>G20,10,-10),(IF((F20-G20>0),(VLOOKUP(OFFSET(H20,-5,0),(TABLE!WIN),(MATCH(E20,WINCOL,0)+1))),(VLOOKUP(OFFSET(H20,-5,0),(TABLE!LOSE),(MATCH(E20,LOSECOL,0)+1)))))))","v":""}]
[null,{"$f":"SCORECARD!C12","v":" "},null,null,{"$f":"SCORECARD!F12","v":" "},{"$f":"SCORECARD!G12","v":0},{"$f":"SCORECARD!H12","v":0},{"$f":"IF(NOT(OR(F21>0,G21>0)),\"\",(IF((F21-G21>0),(VLOOKUP(H15,(TABLE!WIN),((E21+5)*2+2))),(VLOOKUP(H15,(TABLE!LOSE),((E21+5)*2+2))))))","v":""}]
[null,{"$f":"SCORECARD!C13","v":" "},null,null,{"$f":"SCORECARD!F13","v":" "},{"$f":"SCORECARD!G13","v":0},{"$f":"SCORECARD!H13","v":0},{"$f":"IF(NOT(OR(F22>0,G22>0)),\"\",(IF((F22-G22>0),(VLOOKUP(H15,(TABLE!WIN),((E22+5)*2+2))),(VLOOKUP(H15,(TABLE!LOSE),((E22+5)*2+2))))))","v":""}]
[null,{"$f":"SCORECARD!C14","v":" "},null,null,{"$f":"SCORECARD!F14","v":" "},{"$f":"SCORECARD!G14","v":0},{"$f":"SCORECARD!H14","v":0},{"$f":"IF(NOT(OR(F23>0,G23>0)),\"\",(IF((F23-G23>0),(VLOOKUP(H15,(TABLE!WIN),((E23+5)*2+2))),(VLOOKUP(H15,(TABLE!LOSE),((E23+5)*2+2))))))","v":""}]
[null,{"$f":"SCORECARD!C15","v":" "},null,null,{"$f":"SCORECARD!F15","v":" "},{"$f":"SCORECARD!G15","v":0},{"$f":"SCORECARD!H15","v":0},{"$f":"IF(NOT(OR(F24>0,G24>0)),\"\",(IF((F24-G24>0),(VLOOKUP(H15,(TABLE!WIN),((E24+5)*2+2))),(VLOOKUP(H15,(TABLE!LOSE),((E24+5)*2+2))))))","v":""}]
[null,{"$f":"SCORECARD!C16","v":" "},null,null,{"$f":"SCORECARD!F16","v":" "},{"$f":"SCORECARD!G16","v":0},{"$f":"SCORECARD!H16","v":0},{"$f":"IF(NOT(OR(F25>0,G25>0)),\"\",(IF((F25-G25>0),(VLOOKUP(H15,(TABLE!WIN),((E25+5)*2+2))),(VLOOKUP(H15,(TABLE!LOSE),((E25+5)*2+2))))))","v":""}]
[null,{"$f":"SCORECARD!C17","v":" "},null,null,{"$f":"SCORECARD!F17","v":" "},{"$f":"SCORECARD!G17","v":0},{"$f":"SCORECARD!H17","v":0},{"$f":"IF(NOT(OR(F26>0,G26>0)),\"\",(IF((F26-G26>0),(VLOOKUP(H15,(TABLE!WIN),((E26+5)*2+2))),(VLOOKUP(H15,(TABLE!LOSE),((E26+5)*2+2))))))","v":""}]
[null,{"$f":"SCORECARD!C18","v":" "},null,null,{"$f":"SCORECARD!F18","v":" "},{"$f":"SCORECARD!G18","v":0},{"$f":"SCORECARD!H18","v":0},{"$f":"IF(NOT(OR(F27>0,G27>0)),\"\",(IF((F27-G27>0),(VLOOKUP(H15,(TABLE!WIN),((E27+5)*2+2))),(VLOOKUP(H15,(TABLE!LOSE),((E27+5)*2+2))))))","v":""}]
[null,{"$f":"SCORECARD!C19","v":" "},null,null,{"$f":"SCORECARD!F19","v":" "},{"$f":"SCORECARD!G19","v":0},{"$f":"SCORECARD!H19","v":0},{"$f":"IF(NOT(OR(F28>0,G28>0)),\"\",(IF((F28-G28>0),(VLOOKUP(H15,(TABLE!WIN),((E28+5)*2+2))),(VLOOKUP(H15,(TABLE!LOSE),((E28+5)*2+2))))))","v":""}]
[null,{"$f":"SCORECARD!C20","v":" "},null,null,{"$f":"SCORECARD!F20","v":" "},{"$f":"SCORECARD!G20","v":0},{"$f":"SCORECARD!H20","v":0},{"$f":"IF(NOT(OR(F29>0,G29>0)),\"\",(IF((F29-G29>0),(VLOOKUP(H15,(TABLE!WIN),((E29+5)*2+2))),(VLOOKUP(H15,(TABLE!LOSE),((E29+5)*2+2))))))","v":""}]
[null,{"$f":"SCORECARD!C21","v":" "},null,null,{"$f":"SCORECARD!F21","v":" "},{"$f":"SCORECARD!G21","v":0},{"$f":"SCORECARD!H21","v":0},{"$f":"IF(NOT(OR(F30>0,G30>0)),\"\",(IF((F30-G30>0),(VLOOKUP(H15,(TABLE!WIN),((E30+5)*2+2))),(VLOOKUP(H15,(TABLE!LOSE),((E30+5)*2+2))))))","v":""}]
[null,{"$f":"SCORECARD!C22","v":" "},null,null,{"$f":"SCORECARD!F22","v":" "},{"$f":"SCORECARD!G22","v":0},{"$f":"SCORECARD!H22","v":0},{"$f":"IF(NOT(OR(F31>0,G31>0)),\"\",(IF((F31-G31>0),(VLOOKUP(H15,(TABLE!WIN),((E31+5)*2+2))),(VLOOKUP(H15,(TABLE!LOSE),((E31+5)*2+2))))))","v":""}]
[]
[null,null,null,null,null,null,null,{"$f":"SUM(H18:H31)","v":0}]
[]
[]
[]
[]
[]
[]
[]
[]
[]
[]
[]
[]
[{"$f":"note1","v":"Time limit 2.5 hours, Turn After Bell (61.1.6). Quadway hoops (3 11/16\"), Dawson International balls"}]
[{"$f":"note2","v":"Games may start early. Please be at the venue at least 30 minutes earlier than the scheduled start time."}]
[{"$f":"note3","v":"Entry Fee $40 will be invoiced by email. Please pay by EFT using the invoice No. as reference."}]
[{"$f":"note4","v":"Players please assist with setting and clearing courts."}]
[null,null,null,null,{"$f":"BLOCK!F8","v":" Block 1 Player 2"}]
[null,null,null,null,{"$f":"BLOCK!J4","v":"TOURNAMENT"}]
[null,null,null,null,{"$f":"BLOCK!G5","v":"DATE"}]
[null,null,null,null,{"$f":"BLOCK!B8","v":"BLOCK 1"}]
[]
[null,null,null,null,"BLOCK PLAY SCHEDULE"]
[null,"DAY","TIME",null,"COURT","OPPONENT",null,"HANDICAP","PS","OS"]
[null,{"$f":"GAMES!C4","v":"00:00:00"},{"$f":"GAMES!B4","v":"00:00:00"},null,{"$f":"GAMES!D4","v":0},{"$f":"GAMES!G4","v":" Block 1 Player 3"},null,{"$f":"$E$67","v":0},{"$f":"$F$67","v":-1E-3},{"$f":"$G$67","v":-1E-3}]
[null,{"$f":"GAMES!C6","v":"00:00:00"},{"$f":"GAMES!B6","v":"00:00:00"},null,{"$f":"GAMES!D6","v":0},{"$f":"GAMES!E6","v":" Block 1 Player 4"},null,{"$f":"$E$68","v":0},{"$f":"$F$68","v":-1E-3},{"$f":"$G$68","v":-1E-3}]
[null,{"$f":"GAMES!C7","v":"00:00:00"},{"$f":"GAMES!B7","v":"00:00:00"},null,{"$f":"GAMES!D7","v":0},{"$f":"GAMES!E7","v":" Block 1 Player 1"},null,{"$f":"$E$66","v":0},{"$f":"$F$66","v":-1E-3},{"$f":"$G$66","v":-1E-3}]
[]
[]
[]
[null,"PLAYER:",{"$f":"BLOCK!F8","v":" Block 1 Player 2"},null,null,null,"HANDICAP",{"$f":"BLOCK!B14","v":0}]
[null,null,null,null,"OPP","PLAYER","OPP","H/CAP"]
[null,null,"OPPONENT",null,"HCP","SCORE","SCORE","POINTS"]
[null,{"$f":"SCORECARD!C28","v":" Block 1 Player 1"},null,null,{"$f":"SCORECARD!F28","v":0},{"$f":"SCORECARD!G28","v":-1E-3},{"$f":"SCORECARD!H28","v":-1E-3},{"$f":"IF(NOT(OR(F66>0,G66>0)),\"\",IF(HandicapPlay=\"x\",IF(F66>G66,10,-10),(IF((F66-G66>0),(VLOOKUP(OFFSET(H66,-3,0),(TABLE!WIN),(MATCH(E66,WINCOL,0)+1))),(VLOOKUP(OFFSET(H66,-3,0),(TABLE!LOSE),(MATCH(E66,LOSECOL,0)+1)))))))","v":""}]
[null,{"$f":"SCORECARD!C29","v":" Block 1 Player 3"},null,null,{"$f":"SCORECARD!F29","v":0},{"$f":"SCORECARD!G29","v":-1E-3},{"$f":"SCORECARD!H29","v":-1E-3},{"$f":"IF(NOT(OR(F67>0,G67>0)),\"\",IF(HandicapPlay=\"x\",IF(F67>G67,10,-10),(IF((F67-G67>0),(VLOOKUP(OFFSET(H67,-4,0),(TABLE!WIN),(MATCH(E67,WINCOL,0)+1))),(VLOOKUP(OFFSET(H67,-4,0),(TABLE!LOSE),(MATCH(E67,LOSECOL,0)+1)))))))","v":""}]
[null,{"$f":"SCORECARD!C30","v":" Block 1 Player 4"},null,null,{"$f":"SCORECARD!F30","v":0},{"$f":"SCORECARD!G30","v":-1E-3},{"$f":"SCORECARD!H30","v":-1E-3},{"$f":"IF(NOT(OR(F68>0,G68>0)),\"\",IF(HandicapPlay=\"x\",IF(F68>G68,10,-10),(IF((F68-G68>0),(VLOOKUP(OFFSET(H68,-5,0),(TABLE!WIN),(MATCH(E68,WINCOL,0)+1))),(VLOOKUP(OFFSET(H68,-5,0),(TABLE!LOSE),(MATCH(E68,LOSECOL,0)+1)))))))","v":""}]
[null,{"$f":"SCORECARD!C31","v":" "},null,null,{"$f":"SCORECARD!F31","v":" "},{"$f":"SCORECARD!G31","v":0},{"$f":"SCORECARD!H31","v":0},{"$f":"IF(NOT(OR(F69>0,G69>0)),\"\",(IF((F69-G69>0),(VLOOKUP(H63,(TABLE!WIN),((E69+5)*2+2))),(VLOOKUP(H63,(TABLE!LOSE),((E69+5)*2+2))))))","v":""}]
[null,{"$f":"SCORECARD!C32","v":" "},null,null,{"$f":"SCORECARD!F32","v":" "},{"$f":"SCORECARD!G32","v":0},{"$f":"SCORECARD!H32","v":0},{"$f":"IF(NOT(OR(F70>0,G70>0)),\"\",(IF((F70-G70>0),(VLOOKUP(H63,(TABLE!WIN),((E70+5)*2+2))),(VLOOKUP(H63,(TABLE!LOSE),((E70+5)*2+2))))))","v":""}]
[null,{"$f":"SCORECARD!C33","v":" "},null,null,{"$f":"SCORECARD!F33","v":" "},{"$f":"SCORECARD!G33","v":0},{"$f":"SCORECARD!H33","v":0},{"$f":"IF(NOT(OR(F71>0,G71>0)),\"\",(IF((F71-G71>0),(VLOOKUP(H63,(TABLE!WIN),((E71+5)*2+2))),(VLOOKUP(H63,(TABLE!LOSE),((E71+5)*2+2))))))","v":""}]
[null,{"$f":"SCORECARD!C34","v":" "},null,null,{"$f":"SCORECARD!F34","v":" "},{"$f":"SCORECARD!G34","v":0},{"$f":"SCORECARD!H34","v":0},{"$f":"IF(NOT(OR(F72>0,G72>0)),\"\",(IF((F72-G72>0),(VLOOKUP(H63,(TABLE!WIN),((E72+5)*2+2))),(VLOOKUP(H63,(TABLE!LOSE),((E72+5)*2+2))))))","v":""}]
[null,{"$f":"SCORECARD!C35","v":" "},null,null,{"$f":"SCORECARD!F35","v":" "},{"$f":"SCORECARD!G35","v":0},{"$f":"SCORECARD!H35","v":0}]
[null,{"$f":"SCORECARD!C36","v":" "},null,null,{"$f":"SCORECARD!F36","v":" "},{"$f":"SCORECARD!G36","v":0},{"$f":"SCORECARD!H36","v":0},{"$f":"IF(NOT(OR(F74>0,G74>0)),\"\",(IF((F74-G74>0),(VLOOKUP(H63,(TABLE!WIN),((E74+5)*2+2))),(VLOOKUP(H63,(TABLE!LOSE),((E74+5)*2+2))))))","v":""}]
[null,{"$f":"SCORECARD!C37","v":" "},null,null,{"$f":"SCORECARD!F37","v":" "},{"$f":"SCORECARD!G37","v":0},{"$f":"SCORECARD!H37","v":0},{"$f":"IF(NOT(OR(F75>0,G75>0)),\"\",(IF((F75-G75>0),(VLOOKUP(H63,(TABLE!WIN),((E75+5)*2+2))),(VLOOKUP(H63,(TABLE!LOSE),((E75+5)*2+2))))))","v":""}]
[null,{"$f":"SCORECARD!C38","v":" "},null,null,{"$f":"SCORECARD!F38","v":" "},{"$f":"SCORECARD!G38","v":0},{"$f":"SCORECARD!H38","v":0},{"$f":"IF(NOT(OR(F76>0,G76>0)),\"\",(IF((F76-G76>0),(VLOOKUP(H63,(TABLE!WIN),((E76+5)*2+2))),(VLOOKUP(H63,(TABLE!LOSE),((E76+5)*2+2))))))","v":""}]
[null,{"$f":"SCORECARD!C39","v":" "},null,null,{"$f":"SCORECARD!F39","v":" "},{"$f":"SCORECARD!G39","v":0},{"$f":"SCORECARD!H39","v":0},{"$f":"IF(NOT(OR(F77>0,G77>0)),\"\",(IF((F77-G77>0),(VLOOKUP(H63,(TABLE!WIN),((E77+5)*2+2))),(VLOOKUP(H63,(TABLE!LOSE),((E77+5)*2+2))))))","v":""}]
[null,{"$f":"SCORECARD!C40","v":" "},null,null,{"$f":"SCORECARD!F40","v":" "},{"$f":"SCORECARD!G40","v":0},{"$f":"SCORECARD!H40","v":0},{"$f":"IF(NOT(OR(F78>0,G78>0)),\"\",(IF((F78-G78>0),(VLOOKUP(H63,(TABLE!WIN),((E78+5)*2+2))),(VLOOKUP(H63,(TABLE!LOSE),((E78+5)*2+2))))))","v":""}]
[null,{"$f":"SCORECARD!C41","v":" "},null,null,{"$f":"SCORECARD!F41","v":" "},{"$f":"SCORECARD!G41","v":0},{"$f":"SCORECARD!H41","v":0},{"$f":"IF(NOT(OR(F79>0,G79>0)),\"\",(IF((F79-G79>0),(VLOOKUP(H63,(TABLE!WIN),((E79+5)*2+2))),(VLOOKUP(H63,(TABLE!LOSE),((E79+5)*2+2))))))","v":""}]
[]
[null,null,null,null,null,null,"Handicap adjustment points total   ",{"$f":"SUM(H66:H79)","v":0}]
[]
[]
[]
[]
[]
[]
[]
[]
[]
[]
[]
[]
[{"$f":"note1","v":"Time limit 2.5 hours, Turn After Bell (61.1.6). Quadway hoops (3 11/16\"), Dawson International balls"}]
[{"$f":"note2","v":"Games may start early. Please be at the venue at least 30 minutes earlier than the scheduled start time."}]
[{"$f":"note3","v":"Entry Fee $40 will be invoiced by email. Please pay by EFT using the invoice No. as reference."}]
[{"$f":"note4","v":"Players please assist with setting and clearing courts."}]
[null,null,null,null,{"$f":"BLOCK!I8","v":" Block 1 Player 3"}]
[null,null,null,null,{"$f":"BLOCK!J4","v":"TOURNAMENT"}]
[null,null,null,null,{"$f":"BLOCK!G5","v":"DATE"}]
[null,null,null,null,{"$f":"BLOCK!B8","v":"BLOCK 1"}]
[]
[null,null,null,null,"BLOCK PLAY SCHEDULE"]
[null,"DAY","TIME",null,"COURT","OPPONENT",null,"HANDICAP","PS","OS"]
[null,{"$f":"GAMES!C4","v":"00:00:00"},{"$f":"GAMES!B4","v":"00:00:00"},null,{"$f":"GAMES!D4","v":0},{"$f":"GAMES!E4","v":" Block 1 Player 2"},null,{"$f":"$E$115","v":0},{"$f":"$F$115","v":-1E-3},{"$f":"$G$115","v":-1E-3}]
[null,{"$f":"GAMES!C5","v":"00:00:00"},{"$f":"GAMES!B5","v":"00:00:00"},null,{"$f":"GAMES!D5","v":0},{"$f":"GAMES!G5","v":" Block 1 Player 1"},null,{"$f":"$E$114","v":0},{"$f":"$F$114","v":-1E-3},{"$f":"$G$114","v":-1E-3}]
[null,{"$f":"GAMES!C8","v":"00:00:00"},{"$f":"GAMES!B8","v":"00:00:00"},null,{"$f":"GAMES!D8","v":0},{"$f":"GAMES!G8","v":" Block 1 Player 4"},null,{"$f":"$E$116","v":0},{"$f":"$F$116","v":-1E-3},{"$f":"$G$116","v":-1E-3}]
[]
[]
[]
[null,"PLAYER:",{"$f":"BLOCK!I8","v":" Block 1 Player 3"},null,null,null,"HANDICAP",{"$f":"BLOCK!B17","v":0}]
[null,null,"OPPONENT",null,"OPP","PLAYER","OPP","H/CAP"]
[null,null,null,null,"HCP","SCORE","SCORE","POINTS"]
[null,{"$f":"SCORECARD!C52","v":" Block 1 Player 1"},null,null,{"$f":"SCORECARD!F52","v":0},{"$f":"SCORECARD!G52","v":-1E-3},{"$f":"SCORECARD!H52","v":-1E-3},{"$f":"IF(NOT(OR(F114>0,G114>0)),\"\",IF(HandicapPlay=\"x\",IF(F114>G114,10,-10),(IF((F114-G114>0),(VLOOKUP(OFFSET(H114,-3,0),(TABLE!WIN),(MATCH(E114,WINCOL,0)+1))),(VLOOKUP(OFFSET(H114,-3,0),(TABLE!LOSE),(MATCH(E114,LOSECOL,0)+1)))))))","v":""}]
[null,{"$f":"SCORECARD!C53","v":" Block 1 Player 2"},null,null,{"$f":"SCORECARD!F53","v":0},{"$f":"SCORECARD!G53","v":-1E-3},{"$f":"SCORECARD!H53","v":-1E-3},{"$f":"IF(NOT(OR(F115>0,G115>0)),\"\",IF(HandicapPlay=\"x\",IF(F115>G115,10,-10),(IF((F115-G115>0),(VLOOKUP(OFFSET(H115,-4,0),(TABLE!WIN),(MATCH(E115,WINCOL,0)+1))),(VLOOKUP(OFFSET(H115,-4,0),(TABLE!LOSE),(MATCH(E115,LOSECOL,0)+1)))))))","v":""}]
[null,{"$f":"SCORECARD!C54","v":" Block 1 Player 4"},null,null,{"$f":"SCORECARD!F54","v":0},{"$f":"SCORECARD!G54","v":-1E-3},{"$f":"SCORECARD!H54","v":-1E-3},{"$f":"IF(NOT(OR(F116>0,G116>0)),\"\",IF(HandicapPlay=\"x\",IF(F116>G116,10,-10),(IF((F116-G116>0),(VLOOKUP(OFFSET(H116,-5,0),(TABLE!WIN),(MATCH(E116,WINCOL,0)+1))),(VLOOKUP(OFFSET(H116,-5,0),(TABLE!LOSE),(MATCH(E116,LOSECOL,0)+1)))))))","v":""}]
[null,{"$f":"SCORECARD!C55","v":" "},null,null,{"$f":"SCORECARD!F55","v":" "},{"$f":"SCORECARD!G55","v":0},{"$f":"SCORECARD!H55","v":0},{"$f":"IF(NOT(OR(F117>0,G117>0)),\"\",(IF((F117-G117>0),(VLOOKUP(H111,(TABLE!WIN),((E117+5)*2+2))),(VLOOKUP(H111,(TABLE!LOSE),((E117+5)*2+2))))))","v":""}]
[null,{"$f":"SCORECARD!C56","v":" "},null,null,{"$f":"SCORECARD!F56","v":" "},{"$f":"SCORECARD!G56","v":0},{"$f":"SCORECARD!H56","v":0},{"$f":"IF(NOT(OR(F118>0,G118>0)),\"\",(IF((F118-G118>0),(VLOOKUP(H111,(TABLE!WIN),((E118+5)*2+2))),(VLOOKUP(H111,(TABLE!LOSE),((E118+5)*2+2))))))","v":""}]
[null,{"$f":"SCORECARD!C57","v":" "},null,null,{"$f":"SCORECARD!F57","v":" "},{"$f":"SCORECARD!G57","v":0},{"$f":"SCORECARD!H57","v":0},{"$f":"IF(NOT(OR(F119>0,G119>0)),\"\",(IF((F119-G119>0),(VLOOKUP(H111,(TABLE!WIN),((E119+5)*2+2))),(VLOOKUP(H111,(TABLE!LOSE),((E119+5)*2+2))))))","v":""}]
[null,{"$f":"SCORECARD!C58","v":" "},null,null,{"$f":"SCORECARD!F58","v":" "},{"$f":"SCORECARD!G58","v":0},{"$f":"SCORECARD!H58","v":0},{"$f":"IF(NOT(OR(F120>0,G120>0)),\"\",(IF((F120-G120>0),(VLOOKUP(H111,(TABLE!WIN),((E120+5)*2+2))),(VLOOKUP(H111,(TABLE!LOSE),((E120+5)*2+2))))))","v":""}]
[null,{"$f":"SCORECARD!C59","v":" "},null,null,{"$f":"SCORECARD!F59","v":" "},{"$f":"SCORECARD!G59","v":0},{"$f":"SCORECARD!H59","v":0},{"$f":"IF(NOT(OR(F121>0,G121>0)),\"\",(IF((F121-G121>0),(VLOOKUP(H111,(TABLE!WIN),((E121+5)*2+2))),(VLOOKUP(H111,(TABLE!LOSE),((E121+5)*2+2))))))","v":""}]
[null,{"$f":"SCORECARD!C60","v":" "},null,null,{"$f":"SCORECARD!F60","v":" "},{"$f":"SCORECARD!G60","v":0},{"$f":"SCORECARD!H60","v":0},{"$f":"IF(NOT(OR(F122>0,G122>0)),\"\",(IF((F122-G122>0),(VLOOKUP(H111,(TABLE!WIN),((E122+5)*2+2))),(VLOOKUP(H111,(TABLE!LOSE),((E122+5)*2+2))))))","v":""}]
[null,{"$f":"SCORECARD!C61","v":" "},null,null,{"$f":"SCORECARD!F61","v":" "},{"$f":"SCORECARD!G61","v":0},{"$f":"SCORECARD!H61","v":0},{"$f":"IF(NOT(OR(F123>0,G123>0)),\"\",(IF((F123-G123>0),(VLOOKUP(H111,(TABLE!WIN),((E123+5)*2+2))),(VLOOKUP(H111,(TABLE!LOSE),((E123+5)*2+2))))))","v":""}]
[null,{"$f":"SCORECARD!C62","v":" "},null,null,{"$f":"SCORECARD!F62","v":" "},{"$f":"SCORECARD!G62","v":0},{"$f":"SCORECARD!H62","v":0},{"$f":"IF(NOT(OR(F124>0,G124>0)),\"\",(IF((F124-G124>0),(VLOOKUP(H111,(TABLE!WIN),((E124+5)*2+2))),(VLOOKUP(H111,(TABLE!LOSE),((E124+5)*2+2))))))","v":""}]
[null,{"$f":"SCORECARD!C63","v":" "},null,null,{"$f":"SCORECARD!F63","v":" "},{"$f":"SCORECARD!G63","v":0},{"$f":"SCORECARD!H63","v":0},{"$f":"IF(NOT(OR(F125>0,G125>0)),\"\",(IF((F125-G125>0),(VLOOKUP(H111,(TABLE!WIN),((E125+5)*2+2))),(VLOOKUP(H111,(TABLE!LOSE),((E125+5)*2+2))))))","v":""}]
[null,{"$f":"SCORECARD!C64","v":" "},null,null,{"$f":"SCORECARD!F64","v":" "},{"$f":"SCORECARD!G64","v":0},{"$f":"SCORECARD!H64","v":0},{"$f":"IF(NOT(OR(F126>0,G126>0)),\"\",(IF((F126-G126>0),(VLOOKUP(H111,(TABLE!WIN),((E126+5)*2+2))),(VLOOKUP(H111,(TABLE!LOSE),((E126+5)*2+2))))))","v":""}]
[null,{"$f":"SCORECARD!C65","v":" "},null,null,{"$f":"SCORECARD!F65","v":" "},{"$f":"SCORECARD!G65","v":0},{"$f":"SCORECARD!H65","v":0},{"$f":"IF(NOT(OR(F127>0,G127>0)),\"\",(IF((F127-G127>0),(VLOOKUP(H111,(TABLE!WIN),((E127+5)*2+2))),(VLOOKUP(H111,(TABLE!LOSE),((E127+5)*2+2))))))","v":""}]
[]
[null,null,null,null,null,null,"Handicap adjustment points total   ",{"$f":"SUM(H114:H127)","v":0}]
[]
[]
[]
[]
[]
[]
[]
[]
[]
[]
[]
[]
[{"$f":"note1","v":"Time limit 2.5 hours, Turn After Bell (61.1.6). Quadway hoops (3 11/16\"), Dawson International balls"}]
[{"$f":"note2","v":"Games may start early. Please be at the venue at least 30 minutes earlier than the scheduled start time."}]
[{"$f":"note3","v":"Entry Fee $40 will be invoiced by email. Please pay by EFT using the invoice No. as reference."}]
[{"$f":"note4","v":"Players please assist with setting and clearing courts."}]
[null,null,null,null,{"$f":"BLOCK!L8","v":" Block 1 Player 4"}]
[null,null,null,null,{"$f":"BLOCK!J4","v":"TOURNAMENT"}]
[null,null,null,null,{"$f":"BLOCK!G5","v":"DATE"}]
[null,null,null,null,{"$f":"BLOCK!B8","v":"BLOCK 1"}]
[]
[null,null,null,null,"BLOCK PLAY SCHEDULE"]
[null,"DAY","TIME",null,"COURT","OPPONENT",null,"HANDICAP","PS","OS"]
[null,{"$f":"GAMES!C3","v":"00:00:00"},{"$f":"GAMES!B3","v":"00:00:00"},null,{"$f":"GAMES!D3","v":0},{"$f":"GAMES!E3","v":" Block 1 Player 1"},null,{"$f":"$E$162","v":0},{"$f":"$F$162","v":-1E-3},{"$f":"$G$162","v":-1E-3}]
[null,{"$f":"GAMES!C6","v":"00:00:00"},{"$f":"GAMES!B6","v":"00:00:00"},null,{"$f":"GAMES!D6","v":0},{"$f":"GAMES!G6","v":" Block 1 Player 2"},null,{"$f":"$E$163","v":0},{"$f":"$F$163","v":-1E-3},{"$f":"$G$163","v":-1E-3}]
[null,{"$f":"GAMES!C8","v":"00:00:00"},{"$f":"GAMES!B8","v":"00:00:00"},null,{"$f":"GAMES!D8","v":0},{"$f":"GAMES!E8","v":" Block 1 Player 3"},null,{"$f":"$E$164","v":0},{"$f":"$F$164","v":-1E-3},{"$f":"$G$164","v":-1E-3}]
[]
[]
[]
[null,"PLAYER:",{"$f":"BLOCK!L8","v":" Block 1 Player 4"},null,null,null,"HANDICAP",{"$f":"BLOCK!B20","v":0}]
[null,null,null,null,"OPP","PLAYER","OPP","H/CAP"]
[null,null,"OPPONENT",null,"HCP","SCORE","SCORE","POINTS"]
[null,{"$f":"SCORECARD!C71","v":" Block 1 Player 1"},null,null,{"$f":"SCORECARD!F71","v":0},{"$f":"SCORECARD!G71","v":-1E-3},{"$f":"SCORECARD!H71","v":-1E-3},{"$f":"IF(NOT(OR(F162>0,G162>0)),\"\",IF(HandicapPlay=\"x\",IF(F162>G162,10,-10),(IF((F162-G162>0),(VLOOKUP(OFFSET(H162,-3,0),(TABLE!WIN),(MATCH(E162,WINCOL,0)+1))),(VLOOKUP(OFFSET(H162,-3,0),(TABLE!LOSE),(MATCH(E162,LOSECOL,0)+1)))))))","v":""}]
[null,{"$f":"SCORECARD!C72","v":" Block 1 Player 2"},null,null,{"$f":"SCORECARD!F72","v":0},{"$f":"SCORECARD!G72","v":-1E-3},{"$f":"SCORECARD!H72","v":-1E-3},{"$f":"IF(NOT(OR(F163>0,G163>0)),\"\",IF(HandicapPlay=\"x\",IF(F163>G163,10,-10),(IF((F163-G163>0),(VLOOKUP(OFFSET(H163,-4,0),(TABLE!WIN),(MATCH(E163,WINCOL,0)+1))),(VLOOKUP(OFFSET(H163,-4,0),(TABLE!LOSE),(MATCH(E163,LOSECOL,0)+1)))))))","v":""}]
[null,{"$f":"SCORECARD!C73","v":" Block 1 Player 3"},null,null,{"$f":"SCORECARD!F73","v":0},{"$f":"SCORECARD!G73","v":-1E-3},{"$f":"SCORECARD!H73","v":-1E-3},{"$f":"IF(NOT(OR(F164>0,G164>0)),\"\",IF(HandicapPlay=\"x\",IF(F164>G164,10,-10),(IF((F164-G164>0),(VLOOKUP(OFFSET(H164,-5,0),(TABLE!WIN),(MATCH(E164,WINCOL,0)+1))),(VLOOKUP(OFFSET(H164,-5,0),(TABLE!LOSE),(MATCH(E164,LOSECOL,0)+1)))))))","v":""}]
[null,{"$f":"SCORECARD!C74","v":" "},null,null,{"$f":"SCORECARD!F74","v":" "},{"$f":"SCORECARD!G74","v":0},{"$f":"SCORECARD!H74","v":0},{"$f":"IF(NOT(OR(F165>0,G165>0)),\"\",(IF((F165-G165>0),(VLOOKUP(H159,(TABLE!WIN),((E165+5)*2+2))),(VLOOKUP(H159,(TABLE!LOSE),((E165+5)*2+2))))))","v":""}]
[null,{"$f":"SCORECARD!C75","v":" "},null,null,{"$f":"SCORECARD!F75","v":" "},{"$f":"SCORECARD!G75","v":0},{"$f":"SCORECARD!H75","v":0},{"$f":"IF(NOT(OR(F166>0,G166>0)),\"\",(IF((F166-G166>0),(VLOOKUP(H159,(TABLE!WIN),((E166+5)*2+2))),(VLOOKUP(H159,(TABLE!LOSE),((E166+5)*2+2))))))","v":""}]
[null,{"$f":"SCORECARD!C76","v":" "},null,null,{"$f":"SCORECARD!F76","v":" "},{"$f":"SCORECARD!G76","v":0},{"$f":"SCORECARD!H76","v":0},{"$f":"IF(NOT(OR(F167>0,G167>0)),\"\",(IF((F167-G167>0),(VLOOKUP(H159,(TABLE!WIN),((E167+5)*2+2))),(VLOOKUP(H159,(TABLE!LOSE),((E167+5)*2+2))))))","v":""}]
[null,{"$f":"SCORECARD!C77","v":" "},null,null,{"$f":"SCORECARD!F77","v":" "},{"$f":"SCORECARD!G77","v":0},{"$f":"SCORECARD!H77","v":0},{"$f":"IF(NOT(OR(F168>0,G168>0)),\"\",(IF((F168-G168>0),(VLOOKUP(H159,(TABLE!WIN),((E168+5)*2+2))),(VLOOKUP(H159,(TABLE!LOSE),((E168+5)*2+2))))))","v":""}]
[null,{"$f":"SCORECARD!C78","v":" "},null,null,{"$f":"SCORECARD!F78","v":" "},{"$f":"SCORECARD!G78","v":0},{"$f":"SCORECARD!H78","v":0},{"$f":"IF(NOT(OR(F169>0,G169>0)),\"\",(IF((F169-G169>0),(VLOOKUP(H159,(TABLE!WIN),((E169+5)*2+2))),(VLOOKUP(H159,(TABLE!LOSE),((E169+5)*2+2))))))","v":""}]
[null,{"$f":"SCORECARD!C79","v":" "},null,null,{"$f":"SCORECARD!F79","v":" "},{"$f":"SCORECARD!G79","v":0},{"$f":"SCORECARD!H79","v":0},{"$f":"IF(NOT(OR(F170>0,G170>0)),\"\",(IF((F170-G170>0),(VLOOKUP(H159,(TABLE!WIN),((E170+5)*2+2))),(VLOOKUP(H159,(TABLE!LOSE),((E170+5)*2+2))))))","v":""}]
[null,{"$f":"SCORECARD!C80","v":" "},null,null,{"$f":"SCORECARD!F80","v":" "},{"$f":"SCORECARD!G80","v":0},{"$f":"SCORECARD!H80","v":0},{"$f":"IF(NOT(OR(F171>0,G171>0)),\"\",(IF((F171-G171>0),(VLOOKUP(H159,(TABLE!WIN),((E171+5)*2+2))),(VLOOKUP(H159,(TABLE!LOSE),((E171+5)*2+2))))))","v":""}]
[null,{"$f":"SCORECARD!C81","v":" "},null,null,{"$f":"SCORECARD!F81","v":" "},{"$f":"SCORECARD!G81","v":0},{"$f":"SCORECARD!H81","v":0},{"$f":"IF(NOT(OR(F172>0,G172>0)),\"\",(IF((F172-G172>0),(VLOOKUP(H159,(TABLE!WIN),((E172+5)*2+2))),(VLOOKUP(H159,(TABLE!LOSE),((E172+5)*2+2))))))","v":""}]
[null,{"$f":"SCORECARD!C82","v":" "},null,null,{"$f":"SCORECARD!F82","v":" "},{"$f":"SCORECARD!G82","v":0},{"$f":"SCORECARD!H82","v":0},{"$f":"IF(NOT(OR(F173>0,G173>0)),\"\",(IF((F173-G173>0),(VLOOKUP(H159,(TABLE!WIN),((E173+5)*2+2))),(VLOOKUP(H159,(TABLE!LOSE),((E173+5)*2+2))))))","v":""}]
[null,{"$f":"SCORECARD!C83","v":" "},null,null,{"$f":"SCORECARD!F83","v":" "},{"$f":"SCORECARD!G83","v":0},{"$f":"SCORECARD!H83","v":0},{"$f":"IF(NOT(OR(F174>0,G174>0)),\"\",(IF((F174-G174>0),(VLOOKUP(H159,(TABLE!WIN),((E174+5)*2+2))),(VLOOKUP(H159,(TABLE!LOSE),((E174+5)*2+2))))))","v":""}]
[null,{"$f":"SCORECARD!C84","v":" "},null,null,{"$f":"SCORECARD!F84","v":" "},{"$f":"SCORECARD!G84","v":0},{"$f":"SCORECARD!H84","v":0},{"$f":"IF(NOT(OR(F175>0,G175>0)),\"\",(IF((F175-G175>0),(VLOOKUP(H159,(TABLE!WIN),((E175+5)*2+2))),(VLOOKUP(H159,(TABLE!LOSE),((E175+5)*2+2))))))","v":""}]
[]
[null,null,null,null,null,null,"Handicap adjustment points total   ",{"$f":"SUM(H162:H175)","v":0}]
[]
[]
[]
[]
[]
[]
[]
[]
[]
[]
[]
[]
[{"$f":"note1","v":"Time limit 2.5 hours, Turn After Bell (61.1.6). Quadway hoops (3 11/16\"), Dawson International balls"}]
[{"$f":"note2","v":"Games may start early. Please be at the venue at least 30 minutes earlier than the scheduled start time."}]
[{"$f":"note3","v":"Entry Fee $40 will be invoiced by email. Please pay by EFT using the invoice No. as reference."}]
[{"$f":"note4","v":"Players please assist with setting and clearing courts."}]
[null,null,null,null,{"$f":"BLOCK!C27","v":" Block 2 Player 1"}]
[null,null,null,null,{"$f":"BLOCK!J23","v":"TOURNAMENT"}]
[null,null,null,null,{"$f":"BLOCK!G24","v":"DATE"}]
[null,null,null,null,{"$f":"BLOCK!B27","v":"BLOCK 2"}]
[]
[null,null,null,null,"BLOCK PLAY SCHEDULE"]
[null,"DAY","TIME",null,"COURT","OPPONENT",null,"HANDICAP","PS","OS"]
[null,{"$f":"GAMES!C11","v":"00:00:00"},{"$f":"GAMES!B11","v":"00:00:00"},null,{"$f":"GAMES!D11","v":0},{"$f":"GAMES!G11","v":" Block 2 Player 4"},null,{"$f":"$E$212","v":0},{"$f":"$F$212","v":-1E-3},{"$f":"$G$212","v":-1E-3}]
[null,{"$f":"GAMES!C13","v":"00:00:00"},{"$f":"GAMES!B13","v":"00:00:00"},null,{"$f":"GAMES!D13","v":0},{"$f":"GAMES!E13","v":" Block 2 Player 3"},null,{"$f":"$E$211","v":0},{"$f":"$F$211","v":-1E-3},{"$f":"$G$211","v":-1E-3}]
[null,{"$f":"GAMES!C15","v":"00:00:00"},{"$f":"GAMES!B15","v":"00:00:00"},null,{"$f":"GAMES!D15","v":0},{"$f":"GAMES!E15","v":" Block 2 Player 2"},null,{"$f":"$E$210","v":0},{"$f":"$F$210","v":-1E-3},{"$f":"$G$210","v":-1E-3}]
[]
[]
[]
[null,"PLAYER:",{"$f":"BLOCK!C27","v":" Block 2 Player 1"},null,null,null,"HANDICAP",{"$f":"BLOCK!B30","v":0}]
[null,null,null,null,"OPP","PLAYER","OPP","H/CAP"]
[null,null,"OPPONENT",null,"HCP","SCORE","SCORE","POINTS"]
[null,{"$f":"SCORECARD!C95","v":" Block 2 Player 2"},null,null,{"$f":"SCORECARD!F95","v":0},{"$f":"SCORECARD!G95","v":-1E-3},{"$f":"SCORECARD!H95","v":-1E-3},{"$f":"IF(NOT(OR(F210>0,G210>0)),\"\",IF(HandicapPlay=\"x\",IF(F210>G210,10,-10),(IF((F210-G210>0),(VLOOKUP(OFFSET(H210,-3,0),(TABLE!WIN),(MATCH(E210,WINCOL,0)+1))),(VLOOKUP(OFFSET(H210,-3,0),(TABLE!LOSE),(MATCH(E210,LOSECOL,0)+1)))))))","v":""}]
[null,{"$f":"SCORECARD!C96","v":" Block 2 Player 3"},null,null,{"$f":"SCORECARD!F96","v":0},{"$f":"SCORECARD!G96","v":-1E-3},{"$f":"SCORECARD!H96","v":-1E-3},{"$f":"IF(NOT(OR(F211>0,G211>0)),\"\",IF(HandicapPlay=\"x\",IF(F211>G211,10,-10),(IF((F211-G211>0),(VLOOKUP(OFFSET(H211,-4,0),(TABLE!WIN),(MATCH(E211,WINCOL,0)+1))),(VLOOKUP(OFFSET(H211,-4,0),(TABLE!LOSE),(MATCH(E211,LOSECOL,0)+1)))))))","v":""}]
[null,{"$f":"SCORECARD!C97","v":" Block 2 Player 4"},null,null,{"$f":"SCORECARD!F97","v":0},{"$f":"SCORECARD!G97","v":-1E-3},{"$f":"SCORECARD!H97","v":-1E-3},{"$f":"IF(NOT(OR(F212>0,G212>0)),\"\",IF(HandicapPlay=\"x\",IF(F212>G212,10,-10),(IF((F212-G212>0),(VLOOKUP(OFFSET(H212,-5,0),(TABLE!WIN),(MATCH(E212,WINCOL,0)+1))),(VLOOKUP(OFFSET(H212,-5,0),(TABLE!LOSE),(MATCH(E212,LOSECOL,0)+1)))))))","v":""}]
[null,{"$f":"SCORECARD!C98","v":" "},null,null,{"$f":"SCORECARD!F98","v":" "},{"$f":"SCORECARD!G98","v":0},{"$f":"SCORECARD!H98","v":0},{"$f":"IF(NOT(OR(F213>0,G213>0)),\"\",(IF((F213-G213>0),(VLOOKUP(H207,(TABLE!WIN),((E213+5)*2+2))),(VLOOKUP(H207,(TABLE!LOSE),((E213+5)*2+2))))))","v":""}]
[null,{"$f":"SCORECARD!C99","v":" "},null,null,{"$f":"SCORECARD!F99","v":" "},{"$f":"SCORECARD!G99","v":0},{"$f":"SCORECARD!H99","v":0},{"$f":"IF(NOT(OR(F214>0,G214>0)),\"\",(IF((F214-G214>0),(VLOOKUP(H207,(TABLE!WIN),((E214+5)*2+2))),(VLOOKUP(H207,(TABLE!LOSE),((E214+5)*2+2))))))","v":""}]
[null,{"$f":"SCORECARD!C100","v":" "},null,null,{"$f":"SCORECARD!F100","v":" "},{"$f":"SCORECARD!G100","v":0},{"$f":"SCORECARD!H100","v":0},{"$f":"IF(NOT(OR(F215>0,G215>0)),\"\",(IF((F215-G215>0),(VLOOKUP(H207,(TABLE!WIN),((E215+5)*2+2))),(VLOOKUP(H207,(TABLE!LOSE),((E215+5)*2+2))))))","v":""}]
[null,{"$f":"SCORECARD!C101","v":" "},null,null,{"$f":"SCORECARD!F101","v":" "},{"$f":"SCORECARD!G101","v":0},{"$f":"SCORECARD!H101","v":0},{"$f":"IF(NOT(OR(F216>0,G216>0)),\"\",(IF((F216-G216>0),(VLOOKUP(H207,(TABLE!WIN),((E216+5)*2+2))),(VLOOKUP(H207,(TABLE!LOSE),((E216+5)*2+2))))))","v":""}]
[null,{"$f":"SCORECARD!C102","v":" "},null,null,{"$f":"SCORECARD!F102","v":" "},{"$f":"SCORECARD!G102","v":0},{"$f":"SCORECARD!H102","v":0},{"$f":"IF(NOT(OR(F217>0,G217>0)),\"\",(IF((F217-G217>0),(VLOOKUP(H207,(TABLE!WIN),((E217+5)*2+2))),(VLOOKUP(H207,(TABLE!LOSE),((E217+5)*2+2))))))","v":""}]
[null,{"$f":"SCORECARD!C103","v":" "},null,null,{"$f":"SCORECARD!F103","v":" "},{"$f":"SCORECARD!G103","v":0},{"$f":"SCORECARD!H103","v":0},{"$f":"IF(NOT(OR(F218>0,G218>0)),\"\",(IF((F218-G218>0),(VLOOKUP(H207,(TABLE!WIN),((E218+5)*2+2))),(VLOOKUP(H207,(TABLE!LOSE),((E218+5)*2+2))))))","v":""}]
[null,{"$f":"SCORECARD!C104","v":" "},null,null,{"$f":"SCORECARD!F104","v":" "},{"$f":"SCORECARD!G104","v":0},{"$f":"SCORECARD!H104","v":0},{"$f":"IF(NOT(OR(F219>0,G219>0)),\"\",(IF((F219-G219>0),(VLOOKUP(H207,(TABLE!WIN),((E219+5)*2+2))),(VLOOKUP(H207,(TABLE!LOSE),((E219+5)*2+2))))))","v":""}]
[null,{"$f":"SCORECARD!C105","v":" "},null,null,{"$f":"SCORECARD!F105","v":" "},{"$f":"SCORECARD!G105","v":0},{"$f":"SCORECARD!H105","v":0},{"$f":"IF(NOT(OR(F220>0,G220>0)),\"\",(IF((F220-G220>0),(VLOOKUP(H207,(TABLE!WIN),((E220+5)*2+2))),(VLOOKUP(H207,(TABLE!LOSE),((E220+5)*2+2))))))","v":""}]
[null,{"$f":"SCORECARD!C106","v":" "},null,null,{"$f":"SCORECARD!F106","v":" "},{"$f":"SCORECARD!G106","v":0},{"$f":"SCORECARD!H106","v":0},{"$f":"IF(NOT(OR(F221>0,G221>0)),\"\",(IF((F221-G221>0),(VLOOKUP(H207,(TABLE!WIN),((E221+5)*2+2))),(VLOOKUP(H207,(TABLE!LOSE),((E221+5)*2+2))))))","v":""}]
[null,{"$f":"SCORECARD!C107","v":" "},null,null,{"$f":"SCORECARD!F107","v":" "},{"$f":"SCORECARD!G107","v":0},{"$f":"SCORECARD!H107","v":0},{"$f":"IF(NOT(OR(F222>0,G222>0)),\"\",(IF((F222-G222>0),(VLOOKUP(H207,(TABLE!WIN),((E222+5)*2+2))),(VLOOKUP(H207,(TABLE!LOSE),((E222+5)*2+2))))))","v":""}]
[null,{"$f":"SCORECARD!C108","v":" "},null,null,{"$f":"SCORECARD!F108","v":" "},{"$f":"SCORECARD!G108","v":0},{"$f":"SCORECARD!H108","v":0},{"$f":"IF(NOT(OR(F223>0,G223>0)),\"\",(IF((F223-G223>0),(VLOOKUP(H207,(TABLE!WIN),((E223+5)*2+2))),(VLOOKUP(H207,(TABLE!LOSE),((E223+5)*2+2))))))","v":""}]
[]
[null,null,null,null,null,null,"Handicap adjustment points total   ",{"$f":"SUM(H210:H223)","v":0}]
[]
[]
[]
[]
[]
[]
[]
[]
[]
[]
[]
[]
[{"$f":"note1","v":"Time limit 2.5 hours, Turn After Bell (61.1.6). Quadway hoops (3 11/16\"), Dawson International balls"}]
[{"$f":"note2","v":"Games may start early. Please be at the venue at least 30 minutes earlier than the scheduled start time."}]
[{"$f":"note3","v":"Entry Fee $40 will be invoiced by email. Please pay by EFT using the invoice No. as reference."}]
[{"$f":"note4","v":"Players please assist with setting and clearing courts."}]
[null,null,null,null,{"$f":"BLOCK!F27","v":" Block 2 Player 2"}]
[null,null,null,null,{"$f":"BLOCK!J23","v":"TOURNAMENT"}]
[null,null,null,null,{"$f":"BLOCK!G24","v":"DATE"}]
[null,null,null,null,{"$f":"BLOCK!B27","v":"BLOCK 2"}]
[]
[null,null,null,null,"BLOCK PLAY SCHEDULE"]
[null,"DAY","TIME",null,"COURT","OPPONENT",null,"HANDICAP","PS","OS"]
[null,{"$f":"GAMES!C12","v":"00:00:00"},{"$f":"GAMES!B12","v":"00:00:00"},null,{"$f":"GAMES!D12","v":0},{"$f":"GAMES!G12","v":" Block 2 Player 3"},null,{"$f":"$E$259","v":0},{"$f":"$F$259","v":-1E-3},{"$f":"$G$259","v":-1E-3}]
[null,{"$f":"GAMES!C14","v":"00:00:00"},{"$f":"GAMES!B14","v":"00:00:00"},null,{"$f":"GAMES!D14","v":0},{"$f":"GAMES!E14","v":" Block 2 Player 4"},null,{"$f":"$E$260","v":0},{"$f":"$F$260","v":-1E-3},{"$f":"$G$260","v":-1E-3}]
[null,{"$f":"GAMES!C15","v":"00:00:00"},{"$f":"GAMES!B15","v":"00:00:00"},null,{"$f":"GAMES!D15","v":0},{"$f":"GAMES!G15","v":" Block 2 Player 1"},null,{"$f":"$E$258","v":0},{"$f":"$F$258","v":-1E-3},{"$f":"$G$258","v":-1E-3}]
[]
[]
[]
[null,"PLAYER:",{"$f":"BLOCK!F27","v":" Block 2 Player 2"},null,null,null,"HANDICAP",{"$f":"BLOCK!B33","v":0}]
[null,null,null,null,"OPP","PLAYER","OPP","H/CAP"]
[null,null,"OPPONENT",null,"HCP","SCORE","SCORE","POINTS"]
[null,{"$f":"SCORECARD!C114","v":" Block 2 Player 1"},null,null,{"$f":"SCORECARD!F114","v":0},{"$f":"SCORECARD!G114","v":-1E-3},{"$f":"SCORECARD!H114","v":-1E-3},{"$f":"IF(NOT(OR(F258>0,G258>0)),\"\",IF(HandicapPlay=\"x\",IF(F258>G258,10,-10),(IF((F258-G258>0),(VLOOKUP(OFFSET(H258,-3,0),(TABLE!WIN),(MATCH(E258,WINCOL,0)+1))),(VLOOKUP(OFFSET(H258,-3,0),(TABLE!LOSE),(MATCH(E258,LOSECOL,0)+1)))))))","v":""}]
[null,{"$f":"SCORECARD!C115","v":" Block 2 Player 3"},null,null,{"$f":"SCORECARD!F115","v":0},{"$f":"SCORECARD!G115","v":-1E-3},{"$f":"SCORECARD!H115","v":-1E-3},{"$f":"IF(NOT(OR(F259>0,G259>0)),\"\",IF(HandicapPlay=\"x\",IF(F259>G259,10,-10),(IF((F259-G259>0),(VLOOKUP(OFFSET(H259,-4,0),(TABLE!WIN),(MATCH(E259,WINCOL,0)+1))),(VLOOKUP(OFFSET(H259,-4,0),(TABLE!LOSE),(MATCH(E259,LOSECOL,0)+1)))))))","v":""}]
[null,{"$f":"SCORECARD!C116","v":" Block 2 Player 4"},null,null,{"$f":"SCORECARD!F116","v":0},{"$f":"SCORECARD!G116","v":-1E-3},{"$f":"SCORECARD!H116","v":-1E-3},{"$f":"IF(NOT(OR(F260>0,G260>0)),\"\",IF(HandicapPlay=\"x\",IF(F260>G260,10,-10),(IF((F260-G260>0),(VLOOKUP(OFFSET(H260,-5,0),(TABLE!WIN),(MATCH(E260,WINCOL,0)+1))),(VLOOKUP(OFFSET(H260,-5,0),(TABLE!LOSE),(MATCH(E260,LOSECOL,0)+1)))))))","v":""}]
[null,{"$f":"SCORECARD!C117","v":" "},null,null,{"$f":"SCORECARD!F117","v":" "},{"$f":"SCORECARD!G117","v":0},{"$f":"SCORECARD!H117","v":0},{"$f":"IF(NOT(OR(F261>0,G261>0)),\"\",(IF((F261-G261>0),(VLOOKUP(H255,(TABLE!WIN),((E261+5)*2+2))),(VLOOKUP(H255,(TABLE!LOSE),((E261+5)*2+2))))))","v":""}]
[null,{"$f":"SCORECARD!C118","v":" "},null,null,{"$f":"SCORECARD!F118","v":" "},{"$f":"SCORECARD!G118","v":0},{"$f":"SCORECARD!H118","v":0},{"$f":"IF(NOT(OR(F262>0,G262>0)),\"\",(IF((F262-G262>0),(VLOOKUP(H255,(TABLE!WIN),((E262+5)*2+2))),(VLOOKUP(H255,(TABLE!LOSE),((E262+5)*2+2))))))","v":""}]
[null,{"$f":"SCORECARD!C119","v":" "},null,null,{"$f":"SCORECARD!F119","v":" "},{"$f":"SCORECARD!G119","v":0},{"$f":"SCORECARD!H119","v":0},{"$f":"IF(NOT(OR(F263>0,G263>0)),\"\",(IF((F263-G263>0),(VLOOKUP(H255,(TABLE!WIN),((E263+5)*2+2))),(VLOOKUP(H255,(TABLE!LOSE),((E263+5)*2+2))))))","v":""}]
[null,{"$f":"SCORECARD!C120","v":" "},null,null,{"$f":"SCORECARD!F120","v":" "},{"$f":"SCORECARD!G120","v":0},{"$f":"SCORECARD!H120","v":0},{"$f":"IF(NOT(OR(F264>0,G264>0)),\"\",(IF((F264-G264>0),(VLOOKUP(H255,(TABLE!WIN),((E264+5)*2+2))),(VLOOKUP(H255,(TABLE!LOSE),((E264+5)*2+2))))))","v":""}]
[null,{"$f":"SCORECARD!C121","v":" "},null,null,{"$f":"SCORECARD!F121","v":" "},{"$f":"SCORECARD!G121","v":0},{"$f":"SCORECARD!H121","v":0},{"$f":"IF(NOT(OR(F265>0,G265>0)),\"\",(IF((F265-G265>0),(VLOOKUP(H255,(TABLE!WIN),((E265+5)*2+2))),(VLOOKUP(H255,(TABLE!LOSE),((E265+5)*2+2))))))","v":""}]
[null,{"$f":"SCORECARD!C122","v":" "},null,null,{"$f":"SCORECARD!F122","v":" "},{"$f":"SCORECARD!G122","v":0},{"$f":"SCORECARD!H122","v":0},{"$f":"IF(NOT(OR(F266>0,G266>0)),\"\",(IF((F266-G266>0),(VLOOKUP(H255,(TABLE!WIN),((E266+5)*2+2))),(VLOOKUP(H255,(TABLE!LOSE),((E266+5)*2+2))))))","v":""}]
[null,{"$f":"SCORECARD!C123","v":" "},null,null,{"$f":"SCORECARD!F123","v":" "},{"$f":"SCORECARD!G123","v":0},{"$f":"SCORECARD!H123","v":0},{"$f":"IF(NOT(OR(F267>0,G267>0)),\"\",(IF((F267-G267>0),(VLOOKUP(H255,(TABLE!WIN),((E267+5)*2+2))),(VLOOKUP(H255,(TABLE!LOSE),((E267+5)*2+2))))))","v":""}]
[null,{"$f":"SCORECARD!C124","v":" "},null,null,{"$f":"SCORECARD!F124","v":" "},{"$f":"SCORECARD!G124","v":0},{"$f":"SCORECARD!H124","v":0},{"$f":"IF(NOT(OR(F268>0,G268>0)),\"\",(IF((F268-G268>0),(VLOOKUP(H255,(TABLE!WIN),((E268+5)*2+2))),(VLOOKUP(H255,(TABLE!LOSE),((E268+5)*2+2))))))","v":""}]
[null,{"$f":"SCORECARD!C125","v":" "},null,null,{"$f":"SCORECARD!F125","v":" "},{"$f":"SCORECARD!G125","v":0},{"$f":"SCORECARD!H125","v":0},{"$f":"IF(NOT(OR(F269>0,G269>0)),\"\",(IF((F269-G269>0),(VLOOKUP(H255,(TABLE!WIN),((E269+5)*2+2))),(VLOOKUP(H255,(TABLE!LOSE),((E269+5)*2+2))))))","v":""}]
[null,{"$f":"SCORECARD!C126","v":" "},null,null,{"$f":"SCORECARD!F126","v":" "},{"$f":"SCORECARD!G126","v":0},{"$f":"SCORECARD!H126","v":0},{"$f":"IF(NOT(OR(F270>0,G270>0)),\"\",(IF((F270-G270>0),(VLOOKUP(H255,(TABLE!WIN),((E270+5)*2+2))),(VLOOKUP(H255,(TABLE!LOSE),((E270+5)*2+2))))))","v":""}]
[null,{"$f":"SCORECARD!C127","v":" "},null,null,{"$f":"SCORECARD!F127","v":" "},{"$f":"SCORECARD!G127","v":0},{"$f":"SCORECARD!H127","v":0},{"$f":"IF(NOT(OR(F271>0,G271>0)),\"\",(IF((F271-G271>0),(VLOOKUP(H255,(TABLE!WIN),((E271+5)*2+2))),(VLOOKUP(H255,(TABLE!LOSE),((E271+5)*2+2))))))","v":""}]
[]
[null,null,null,null,null,null,"Handicap adjustment points total   ",{"$f":"SUM(H258:H271)","v":0}]
[]
[]
[]
[]
[]
[]
[]
[]
[]
[]
[]
[]
[{"$f":"note1","v":"Time limit 2.5 hours, Turn After Bell (61.1.6). Quadway hoops (3 11/16\"), Dawson International balls"}]
[{"$f":"note2","v":"Games may start early. Please be at the venue at least 30 minutes earlier than the scheduled start time."}]
[{"$f":"note3","v":"Entry Fee $40 will be invoiced by email. Please pay by EFT using the invoice No. as reference."}]
[{"$f":"note4","v":"Players please assist with setting and clearing courts."}]
[null,null,null,null,{"$f":"BLOCK!I27","v":" Block 2 Player 3"}]
[null,null,null,null,{"$f":"BLOCK!J23","v":"TOURNAMENT"}]
[null,null,null,null,{"$f":"BLOCK!G24","v":"DATE"}]
[null,null,null,null,{"$f":"BLOCK!B27","v":"BLOCK 2"}]
[]
[null,null,null,null,"BLOCK PLAY SCHEDULE"]
[null,"DAY","TIME",null,"COURT","OPPONENT",null,"HANDICAP","PS","OS"]
[null,{"$f":"GAMES!C12","v":"00:00:00"},{"$f":"GAMES!B12","v":"00:00:00"},null,{"$f":"GAMES!D12","v":0},{"$f":"GAMES!E12","v":" Block 2 Player 2"},null,{"$f":"$E$307","v":0},{"$f":"$F$307","v":-1E-3},{"$f":"$G$307","v":-1E-3}]
[null,{"$f":"GAMES!C13","v":"00:00:00"},{"$f":"GAMES!B13","v":"00:00:00"},null,{"$f":"GAMES!D13","v":0},{"$f":"GAMES!G13","v":" Block 2 Player 1"},null,{"$f":"$E$306","v":0},{"$f":"$F$306","v":-1E-3},{"$f":"$G$306","v":-1E-3}]
[null,{"$f":"GAMES!C16","v":"00:00:00"},{"$f":"GAMES!B16","v":"00:00:00"},null,{"$f":"GAMES!D16","v":0},{"$f":"GAMES!G16","v":" Block 2 Player 4"},null,{"$f":"$E$308","v":0},{"$f":"$F$308","v":-1E-3},{"$f":"$G$308","v":-1E-3}]
[]
[]
[]
[null,"PLAYER:",{"$f":"BLOCK!I27","v":" Block 2 Player 3"},null,null,null,"HANDICAP",{"$f":"BLOCK!B36","v":0}]
[null,null,null,null,"OPP","PLAYER","OPP","H/CAP"]
[null,null,"OPPONENT",null,"HCP","SCORE","SCORE","POINTS"]
[null,{"$f":"SCORECARD!C138","v":" Block 2 Player 1"},null,null,{"$f":"SCORECARD!F138","v":0},{"$f":"SCORECARD!G138","v":-1E-3},{"$f":"SCORECARD!H138","v":-1E-3},{"$f":"IF(NOT(OR(F306>0,G306>0)),\"\",IF(HandicapPlay=\"x\",IF(F306>G306,10,-10),(IF((F306-G306>0),(VLOOKUP(OFFSET(H306,-3,0),(TABLE!WIN),(MATCH(E306,WINCOL,0)+1))),(VLOOKUP(OFFSET(H306,-3,0),(TABLE!LOSE),(MATCH(E306,LOSECOL,0)+1)))))))","v":""}]
[null,{"$f":"SCORECARD!C139","v":" Block 2 Player 2"},null,null,{"$f":"SCORECARD!F139","v":0},{"$f":"SCORECARD!G139","v":-1E-3},{"$f":"SCORECARD!H139","v":-1E-3},{"$f":"IF(NOT(OR(F307>0,G307>0)),\"\",IF(HandicapPlay=\"x\",IF(F307>G307,10,-10),(IF((F307-G307>0),(VLOOKUP(OFFSET(H307,-4,0),(TABLE!WIN),(MATCH(E307,WINCOL,0)+1))),(VLOOKUP(OFFSET(H307,-4,0),(TABLE!LOSE),(MATCH(E307,LOSECOL,0)+1)))))))","v":""}]
[null,{"$f":"SCORECARD!C140","v":" Block 2 Player 4"},null,null,{"$f":"SCORECARD!F140","v":0},{"$f":"SCORECARD!G140","v":-1E-3},{"$f":"SCORECARD!H140","v":-1E-3},{"$f":"IF(NOT(OR(F308>0,G308>0)),\"\",IF(HandicapPlay=\"x\",IF(F308>G308,10,-10),(IF((F308-G308>0),(VLOOKUP(OFFSET(H308,-5,0),(TABLE!WIN),(MATCH(E308,WINCOL,0)+1))),(VLOOKUP(OFFSET(H308,-5,0),(TABLE!LOSE),(MATCH(E308,LOSECOL,0)+1)))))))","v":""}]
[null,{"$f":"SCORECARD!C141","v":" "},null,null,{"$f":"SCORECARD!F141","v":" "},{"$f":"SCORECARD!G141","v":0},{"$f":"SCORECARD!H141","v":0},{"$f":"IF(NOT(OR(F309>0,G309>0)),\"\",(IF((F309-G309>0),(VLOOKUP(H303,(TABLE!WIN),((E309+5)*2+2))),(VLOOKUP(H303,(TABLE!LOSE),((E309+5)*2+2))))))","v":""}]
[null,{"$f":"SCORECARD!C142","v":" "},null,null,{"$f":"SCORECARD!F142","v":" "},{"$f":"SCORECARD!G142","v":0},{"$f":"SCORECARD!H142","v":0},{"$f":"IF(NOT(OR(F310>0,G310>0)),\"\",(IF((F310-G310>0),(VLOOKUP(H303,(TABLE!WIN),((E310+5)*2+2))),(VLOOKUP(H303,(TABLE!LOSE),((E310+5)*2+2))))))","v":""}]
[null,{"$f":"SCORECARD!C143","v":" "},null,null,{"$f":"SCORECARD!F143","v":" "},{"$f":"SCORECARD!G143","v":0},{"$f":"SCORECARD!H143","v":0},{"$f":"IF(NOT(OR(F311>0,G311>0)),\"\",(IF((F311-G311>0),(VLOOKUP(H303,(TABLE!WIN),((E311+5)*2+2))),(VLOOKUP(H303,(TABLE!LOSE),((E311+5)*2+2))))))","v":""}]
[null,{"$f":"SCORECARD!C144","v":" "},null,null,{"$f":"SCORECARD!F144","v":" "},{"$f":"SCORECARD!G144","v":0},{"$f":"SCORECARD!H144","v":0},{"$f":"IF(NOT(OR(F312>0,G312>0)),\"\",(IF((F312-G312>0),(VLOOKUP(H303,(TABLE!WIN),((E312+5)*2+2))),(VLOOKUP(H303,(TABLE!LOSE),((E312+5)*2+2))))))","v":""}]
[null,{"$f":"SCORECARD!C145","v":" "},null,null,{"$f":"SCORECARD!F145","v":" "},{"$f":"SCORECARD!G145","v":0},{"$f":"SCORECARD!H145","v":0},{"$f":"IF(NOT(OR(F313>0,G313>0)),\"\",(IF((F313-G313>0),(VLOOKUP(H303,(TABLE!WIN),((E313+5)*2+2))),(VLOOKUP(H303,(TABLE!LOSE),((E313+5)*2+2))))))","v":""}]
[null,{"$f":"SCORECARD!C146","v":" "},null,null,{"$f":"SCORECARD!F146","v":" "},{"$f":"SCORECARD!G146","v":0},{"$f":"SCORECARD!H146","v":0},{"$f":"IF(NOT(OR(F314>0,G314>0)),\"\",(IF((F314-G314>0),(VLOOKUP(H303,(TABLE!WIN),((E314+5)*2+2))),(VLOOKUP(H303,(TABLE!LOSE),((E314+5)*2+2))))))","v":""}]
[null,{"$f":"SCORECARD!C147","v":" "},null,null,{"$f":"SCORECARD!F147","v":" "},{"$f":"SCORECARD!G147","v":0},{"$f":"SCORECARD!H147","v":0},{"$f":"IF(NOT(OR(F315>0,G315>0)),\"\",(IF((F315-G315>0),(VLOOKUP(H303,(TABLE!WIN),((E315+5)*2+2))),(VLOOKUP(H303,(TABLE!LOSE),((E315+5)*2+2))))))","v":""}]
[null,{"$f":"SCORECARD!C148","v":" "},null,null,{"$f":"SCORECARD!F148","v":" "},{"$f":"SCORECARD!G148","v":0},{"$f":"SCORECARD!H148","v":0},{"$f":"IF(NOT(OR(F316>0,G316>0)),\"\",(IF((F316-G316>0),(VLOOKUP(H303,(TABLE!WIN),((E316+5)*2+2))),(VLOOKUP(H303,(TABLE!LOSE),((E316+5)*2+2))))))","v":""}]
[null,{"$f":"SCORECARD!C149","v":" "},null,null,{"$f":"SCORECARD!F149","v":" "},{"$f":"SCORECARD!G149","v":0},{"$f":"SCORECARD!H149","v":0},{"$f":"IF(NOT(OR(F317>0,G317>0)),\"\",(IF((F317-G317>0),(VLOOKUP(H303,(TABLE!WIN),((E317+5)*2+2))),(VLOOKUP(H303,(TABLE!LOSE),((E317+5)*2+2))))))","v":""}]
[null,{"$f":"SCORECARD!C150","v":" "},null,null,{"$f":"SCORECARD!F150","v":" "},{"$f":"SCORECARD!G150","v":0},{"$f":"SCORECARD!H150","v":0},{"$f":"IF(NOT(OR(F318>0,G318>0)),\"\",(IF((F318-G318>0),(VLOOKUP(H303,(TABLE!WIN),((E318+5)*2+2))),(VLOOKUP(H303,(TABLE!LOSE),((E318+5)*2+2))))))","v":""}]
[null,{"$f":"SCORECARD!C151","v":" "},null,null,{"$f":"SCORECARD!F151","v":" "},{"$f":"SCORECARD!G151","v":0},{"$f":"SCORECARD!H151","v":0},{"$f":"IF(NOT(OR(F319>0,G319>0)),\"\",(IF((F319-G319>0),(VLOOKUP(H303,(TABLE!WIN),((E319+5)*2+2))),(VLOOKUP(H303,(TABLE!LOSE),((E319+5)*2+2))))))","v":""}]
[]
[null,null,null,null,null,null,"Handicap adjustment points total   ",{"$f":"SUM(H306:H319)","v":0}]
[]
[]
[]
[]
[]
[]
[]
[]
[]
[]
[]
[]
[{"$f":"note1","v":"Time limit 2.5 hours, Turn After Bell (61.1.6). Quadway hoops (3 11/16\"), Dawson International balls"}]
[{"$f":"note2","v":"Games may start early. Please be at the venue at least 30 minutes earlier than the scheduled start time."}]
[{"$f":"note3","v":"Entry Fee $40 will be invoiced by email. Please pay by EFT using the invoice No. as reference."}]
[{"$f":"note4","v":"Players please assist with setting and clearing courts."}]
[null,null,null,null,{"$f":"BLOCK!L27","v":" Block 2 Player 4"}]
[null,null,null,null,{"$f":"BLOCK!J23","v":"TOURNAMENT"}]
[null,null,null,null,{"$f":"BLOCK!G24","v":"DATE"}]
[null,null,null,null,{"$f":"BLOCK!B27","v":"BLOCK 2"}]
[]
[null,null,null,null,"BLOCK PLAY SCHEDULE"]
[null,"DAY","TIME",null,"COURT","OPPONENT",null,"HANDICAP","PS","OS"]
[null,{"$f":"GAMES!C11","v":"00:00:00"},{"$f":"GAMES!B11","v":"00:00:00"},null,{"$f":"GAMES!D11","v":0},{"$f":"GAMES!E11","v":" Block 2 Player 1"},null,{"$f":"$E$354","v":0},{"$f":"$F$354","v":-1E-3},{"$f":"$G$354","v":-1E-3}]
[null,{"$f":"GAMES!C14","v":"00:00:00"},{"$f":"GAMES!B14","v":"00:00:00"},null,{"$f":"GAMES!D14","v":0},{"$f":"GAMES!G14","v":" Block 2 Player 2"},null,{"$f":"$E$355","v":0},{"$f":"$F$355","v":-1E-3},{"$f":"$G$355","v":-1E-3}]
[null,{"$f":"GAMES!C16","v":"00:00:00"},{"$f":"GAMES!B16","v":"00:00:00"},null,{"$f":"GAMES!D16","v":0},{"$f":"GAMES!E16","v":" Block 2 Player 3"},null,{"$f":"$E$356","v":0},{"$f":"$F$356","v":-1E-3},{"$f":"$G$356","v":-1E-3}]
[]
[]
[]
[null,"PLAYER:",{"$f":"BLOCK!L27","v":" Block 2 Player 4"},null,null,null,"HANDICAP",{"$f":"BLOCK!B39","v":0}]
[null,null,null,null,"OPP","PLAYER","OPP","H/CAP"]
[null,null,"OPPONENT",null,"HCP","SCORE","SCORE","POINTS"]
[null,{"$f":"SCORECARD!C157","v":" Block 2 Player 1"},null,null,{"$f":"SCORECARD!F157","v":0},{"$f":"SCORECARD!G157","v":-1E-3},{"$f":"SCORECARD!H157","v":-1E-3},{"$f":"IF(NOT(OR(F354>0,G354>0)),\"\",IF(HandicapPlay=\"x\",IF(F354>G354,10,-10),(IF((F354-G354>0),(VLOOKUP(OFFSET(H354,-3,0),(TABLE!WIN),(MATCH(E354,WINCOL,0)+1))),(VLOOKUP(OFFSET(H354,-3,0),(TABLE!LOSE),(MATCH(E354,LOSECOL,0)+1)))))))","v":""}]
[null,{"$f":"SCORECARD!C158","v":" Block 2 Player 2"},null,null,{"$f":"SCORECARD!F158","v":0},{"$f":"SCORECARD!G158","v":-1E-3},{"$f":"SCORECARD!H158","v":-1E-3},{"$f":"IF(NOT(OR(F355>0,G355>0)),\"\",IF(HandicapPlay=\"x\",IF(F355>G355,10,-10),(IF((F355-G355>0),(VLOOKUP(OFFSET(H355,-4,0),(TABLE!WIN),(MATCH(E355,WINCOL,0)+1))),(VLOOKUP(OFFSET(H355,-4,0),(TABLE!LOSE),(MATCH(E355,LOSECOL,0)+1)))))))","v":""}]
[null,{"$f":"SCORECARD!C159","v":" Block 2 Player 3"},null,null,{"$f":"SCORECARD!F159","v":0},{"$f":"SCORECARD!G159","v":-1E-3},{"$f":"SCORECARD!H159","v":-1E-3},{"$f":"IF(NOT(OR(F356>0,G356>0)),\"\",IF(HandicapPlay=\"x\",IF(F356>G356,10,-10),(IF((F356-G356>0),(VLOOKUP(OFFSET(H356,-5,0),(TABLE!WIN),(MATCH(E356,WINCOL,0)+1))),(VLOOKUP(OFFSET(H356,-5,0),(TABLE!LOSE),(MATCH(E356,LOSECOL,0)+1)))))))","v":""}]
[null,{"$f":"SCORECARD!C160","v":" "},null,null,{"$f":"SCORECARD!F160","v":" "},{"$f":"SCORECARD!G160","v":0},{"$f":"SCORECARD!H160","v":0},{"$f":"IF(NOT(OR(F357>0,G357>0)),\"\",(IF((F357-G357>0),(VLOOKUP(H351,(TABLE!WIN),((E357+5)*2+2))),(VLOOKUP(H351,(TABLE!LOSE),((E357+5)*2+2))))))","v":""}]
[null,{"$f":"SCORECARD!C161","v":" "},null,null,{"$f":"SCORECARD!F161","v":" "},{"$f":"SCORECARD!G161","v":0},{"$f":"SCORECARD!H161","v":0},{"$f":"IF(NOT(OR(F358>0,G358>0)),\"\",(IF((F358-G358>0),(VLOOKUP(H351,(TABLE!WIN),((E358+5)*2+2))),(VLOOKUP(H351,(TABLE!LOSE),((E358+5)*2+2))))))","v":""}]
[null,{"$f":"SCORECARD!C162","v":" "},null,null,{"$f":"SCORECARD!F162","v":" "},{"$f":"SCORECARD!G162","v":0},{"$f":"SCORECARD!H162","v":0},{"$f":"IF(NOT(OR(F359>0,G359>0)),\"\",(IF((F359-G359>0),(VLOOKUP(H351,(TABLE!WIN),((E359+5)*2+2))),(VLOOKUP(H351,(TABLE!LOSE),((E359+5)*2+2))))))","v":""}]
[null,{"$f":"SCORECARD!C163","v":" "},null,null,{"$f":"SCORECARD!F163","v":" "},{"$f":"SCORECARD!G163","v":0},{"$f":"SCORECARD!H163","v":0},{"$f":"IF(NOT(OR(F360>0,G360>0)),\"\",(IF((F360-G360>0),(VLOOKUP(H351,(TABLE!WIN),((E360+5)*2+2))),(VLOOKUP(H351,(TABLE!LOSE),((E360+5)*2+2))))))","v":""}]
[null,{"$f":"SCORECARD!C164","v":" "},null,null,{"$f":"SCORECARD!F164","v":" "},{"$f":"SCORECARD!G164","v":0},{"$f":"SCORECARD!H164","v":0},{"$f":"IF(NOT(OR(F361>0,G361>0)),\"\",(IF((F361-G361>0),(VLOOKUP(H351,(TABLE!WIN),((E361+5)*2+2))),(VLOOKUP(H351,(TABLE!LOSE),((E361+5)*2+2))))))","v":""}]
[null,{"$f":"SCORECARD!C165","v":" "},null,null,{"$f":"SCORECARD!F165","v":" "},{"$f":"SCORECARD!G165","v":0},{"$f":"SCORECARD!H165","v":0},{"$f":"IF(NOT(OR(F362>0,G362>0)),\"\",(IF((F362-G362>0),(VLOOKUP(H351,(TABLE!WIN),((E362+5)*2+2))),(VLOOKUP(H351,(TABLE!LOSE),((E362+5)*2+2))))))","v":""}]
[null,{"$f":"SCORECARD!C166","v":" "},null,null,{"$f":"SCORECARD!F166","v":" "},{"$f":"SCORECARD!G166","v":0},{"$f":"SCORECARD!H166","v":0},{"$f":"IF(NOT(OR(F363>0,G363>0)),\"\",(IF((F363-G363>0),(VLOOKUP(H351,(TABLE!WIN),((E363+5)*2+2))),(VLOOKUP(H351,(TABLE!LOSE),((E363+5)*2+2))))))","v":""}]
[null,{"$f":"SCORECARD!C167","v":" "},null,null,{"$f":"SCORECARD!F167","v":" "},{"$f":"SCORECARD!G167","v":0},{"$f":"SCORECARD!H167","v":0},{"$f":"IF(NOT(OR(F364>0,G364>0)),\"\",(IF((F364-G364>0),(VLOOKUP(H351,(TABLE!WIN),((E364+5)*2+2))),(VLOOKUP(H351,(TABLE!LOSE),((E364+5)*2+2))))))","v":""}]
[null,{"$f":"SCORECARD!C168","v":" "},null,null,{"$f":"SCORECARD!F168","v":" "},{"$f":"SCORECARD!G168","v":0},{"$f":"SCORECARD!H168","v":0},{"$f":"IF(NOT(OR(F365>0,G365>0)),\"\",(IF((F365-G365>0),(VLOOKUP(H351,(TABLE!WIN),((E365+5)*2+2))),(VLOOKUP(H351,(TABLE!LOSE),((E365+5)*2+2))))))","v":""}]
[null,{"$f":"SCORECARD!C169","v":" "},null,null,{"$f":"SCORECARD!F169","v":" "},{"$f":"SCORECARD!G169","v":0},{"$f":"SCORECARD!H169","v":0},{"$f":"IF(NOT(OR(F366>0,G366>0)),\"\",(IF((F366-G366>0),(VLOOKUP(H351,(TABLE!WIN),((E366+5)*2+2))),(VLOOKUP(H351,(TABLE!LOSE),((E366+5)*2+2))))))","v":""}]
[null,{"$f":"SCORECARD!C170","v":" "},null,null,{"$f":"SCORECARD!F170","v":" "},{"$f":"SCORECARD!G170","v":0},{"$f":"SCORECARD!H170","v":0},{"$f":"IF(NOT(OR(F367>0,G367>0)),\"\",(IF((F367-G367>0),(VLOOKUP(H351,(TABLE!WIN),((E367+5)*2+2))),(VLOOKUP(H351,(TABLE!LOSE),((E367+5)*2+2))))))","v":""}]
[]
[null,null,null,null,null,null,"Handicap adjustment points total   ",{"$f":"SUM(H354:H367)","v":0}]
[]
[]
[]
[]
[]
[]
[]
[]
[]
[]
[]
[]
[{"$f":"note1","v":"Time limit 2.5 hours, Turn After Bell (61.1.6). Quadway hoops (3 11/16\"), Dawson International balls"}]
[{"$f":"note2","v":"Games may start early. Please be at the venue at least 30 minutes earlier than the scheduled start time."}]
[{"$f":"note3","v":"Entry Fee $40 will be invoiced by email. Please pay by EFT using the invoice No. as reference."}]
[{"$f":"note4","v":"Players please assist with setting and clearing courts."}]
[null,null,null,null,{"$f":"BLOCK!C46","v":" Block 3 Player 1"}]
[null,null,null,null,{"$f":"BLOCK!J42","v":"TOURNAMENT"}]
[null,null,null,null,{"$f":"BLOCK!G43","v":"DATE"}]
[null,null,null,null,{"$f":"BLOCK!B46","v":"BLOCK 3"}]
[]
[null,null,null,null,"BLOCK PLAY SCHEDULE"]
[null,"DAY","TIME",null,"COURT","OPPONENT",null,"HANDICAP","PS","OS"]
[null,{"$f":"GAMES!C19","v":"00:00:00"},{"$f":"GAMES!B19","v":"00:00:00"},null,{"$f":"GAMES!D19","v":0},{"$f":"GAMES!G19","v":" Block 3 Player 4"},null,{"$f":"$E$404","v":0},{"$f":"$F$404","v":-1E-3},{"$f":"$G$404","v":-1E-3}]
[null,{"$f":"GAMES!C21","v":"00:00:00"},{"$f":"GAMES!B21","v":"00:00:00"},null,{"$f":"GAMES!D21","v":0},{"$f":"GAMES!E21","v":" Block 3 Player 3"},null,{"$f":"$E$403","v":0},{"$f":"$F$403","v":-1E-3},{"$f":"$G$403","v":-1E-3}]
[null,{"$f":"GAMES!C23","v":"00:00:00"},{"$f":"GAMES!B23","v":"00:00:00"},null,{"$f":"GAMES!D23","v":0},{"$f":"GAMES!E23","v":" Block 3 Player 2"},null,{"$f":"$E$402","v":0},{"$f":"$F$402","v":-1E-3},{"$f":"$G$402","v":-1E-3}]
[]
[]
[]
[null,"PLAYER:",{"$f":"BLOCK!C46","v":" Block 3 Player 1"},null,null,null,"HANDICAP",{"$f":"BLOCK!B49","v":0}]
[null,null,null,null,"OPP","PLAYER","OPP","H/CAP"]
[null,null,"OPPONENT",null,"HCP","SCORE","SCORE","POINTS"]
[null,{"$f":"SCORECARD!C181","v":" Block 3 Player 2"},null,null,{"$f":"SCORECARD!F181","v":0},{"$f":"SCORECARD!G181","v":-1E-3},{"$f":"SCORECARD!H181","v":-1E-3},{"$f":"IF(NOT(OR(F402>0,G402>0)),\"\",IF(HandicapPlay=\"x\",IF(F402>G402,10,-10),(IF((F402-G402>0),(VLOOKUP(OFFSET(H402,-3,0),(TABLE!WIN),(MATCH(E402,WINCOL,0)+1))),(VLOOKUP(OFFSET(H402,-3,0),(TABLE!LOSE),(MATCH(E402,LOSECOL,0)+1)))))))","v":""}]
[null,{"$f":"SCORECARD!C182","v":" Block 3 Player 3"},null,null,{"$f":"SCORECARD!F182","v":0},{"$f":"SCORECARD!G182","v":-1E-3},{"$f":"SCORECARD!H182","v":-1E-3},{"$f":"IF(NOT(OR(F403>0,G403>0)),\"\",IF(HandicapPlay=\"x\",IF(F403>G403,10,-10),(IF((F403-G403>0),(VLOOKUP(OFFSET(H403,-4,0),(TABLE!WIN),(MATCH(E403,WINCOL,0)+1))),(VLOOKUP(OFFSET(H403,-4,0),(TABLE!LOSE),(MATCH(E403,LOSECOL,0)+1)))))))","v":""}]
[null,{"$f":"SCORECARD!C183","v":" Block 3 Player 4"},null,null,{"$f":"SCORECARD!F183","v":0},{"$f":"SCORECARD!G183","v":-1E-3},{"$f":"SCORECARD!H183","v":-1E-3},{"$f":"IF(NOT(OR(F404>0,G404>0)),\"\",IF(HandicapPlay=\"x\",IF(F404>G404,10,-10),(IF((F404-G404>0),(VLOOKUP(OFFSET(H404,-5,0),(TABLE!WIN),(MATCH(E404,WINCOL,0)+1))),(VLOOKUP(OFFSET(H404,-5,0),(TABLE!LOSE),(MATCH(E404,LOSECOL,0)+1)))))))","v":""}]
[null,{"$f":"SCORECARD!C184","v":" "},null,null,{"$f":"SCORECARD!F184","v":" "},{"$f":"SCORECARD!G184","v":0},{"$f":"SCORECARD!H184","v":0},{"$f":"IF(NOT(OR(F405>0,G405>0)),\"\",(IF((F405-G405>0),(VLOOKUP(H399,(TABLE!WIN),((E405+5)*2+2))),(VLOOKUP(H399,(TABLE!LOSE),((E405+5)*2+2))))))","v":""}]
[null,{"$f":"SCORECARD!C185","v":" "},null,null,{"$f":"SCORECARD!F185","v":" "},{"$f":"SCORECARD!G185","v":0},{"$f":"SCORECARD!H185","v":0},{"$f":"IF(NOT(OR(F406>0,G406>0)),\"\",(IF((F406-G406>0),(VLOOKUP(H399,(TABLE!WIN),((E406+5)*2+2))),(VLOOKUP(H399,(TABLE!LOSE),((E406+5)*2+2))))))","v":""}]
[null,{"$f":"SCORECARD!C186","v":" "},null,null,{"$f":"SCORECARD!F186","v":" "},{"$f":"SCORECARD!G186","v":0},{"$f":"SCORECARD!H186","v":0},{"$f":"IF(NOT(OR(F407>0,G407>0)),\"\",(IF((F407-G407>0),(VLOOKUP(H399,(TABLE!WIN),((E407+5)*2+2))),(VLOOKUP(H399,(TABLE!LOSE),((E407+5)*2+2))))))","v":""}]
[null,{"$f":"SCORECARD!C187","v":" "},null,null,{"$f":"SCORECARD!F187","v":" "},{"$f":"SCORECARD!G187","v":0},{"$f":"SCORECARD!H187","v":0},{"$f":"IF(NOT(OR(F408>0,G408>0)),\"\",(IF((F408-G408>0),(VLOOKUP(H399,(TABLE!WIN),((E408+5)*2+2))),(VLOOKUP(H399,(TABLE!LOSE),((E408+5)*2+2))))))","v":""}]
[null,{"$f":"SCORECARD!C188","v":" "},null,null,{"$f":"SCORECARD!F188","v":" "},{"$f":"SCORECARD!G188","v":0},{"$f":"SCORECARD!H188","v":0},{"$f":"IF(NOT(OR(F409>0,G409>0)),\"\",(IF((F409-G409>0),(VLOOKUP(H399,(TABLE!WIN),((E409+5)*2+2))),(VLOOKUP(H399,(TABLE!LOSE),((E409+5)*2+2))))))","v":""}]
[null,{"$f":"SCORECARD!C189","v":" "},null,null,{"$f":"SCORECARD!F189","v":" "},{"$f":"SCORECARD!G189","v":0},{"$f":"SCORECARD!H189","v":0},{"$f":"IF(NOT(OR(F410>0,G410>0)),\"\",(IF((F410-G410>0),(VLOOKUP(H399,(TABLE!WIN),((E410+5)*2+2))),(VLOOKUP(H399,(TABLE!LOSE),((E410+5)*2+2))))))","v":""}]
[null,{"$f":"SCORECARD!C190","v":" "},null,null,{"$f":"SCORECARD!F190","v":" "},{"$f":"SCORECARD!G190","v":0},{"$f":"SCORECARD!H190","v":0},{"$f":"IF(NOT(OR(F411>0,G411>0)),\"\",(IF((F411-G411>0),(VLOOKUP(H399,(TABLE!WIN),((E411+5)*2+2))),(VLOOKUP(H399,(TABLE!LOSE),((E411+5)*2+2))))))","v":""}]
[null,{"$f":"SCORECARD!C191","v":" "},null,null,{"$f":"SCORECARD!F191","v":" "},{"$f":"SCORECARD!G191","v":0},{"$f":"SCORECARD!H191","v":0},{"$f":"IF(NOT(OR(F412>0,G412>0)),\"\",(IF((F412-G412>0),(VLOOKUP(H399,(TABLE!WIN),((E412+5)*2+2))),(VLOOKUP(H399,(TABLE!LOSE),((E412+5)*2+2))))))","v":""}]
[null,{"$f":"SCORECARD!C192","v":" "},null,null,{"$f":"SCORECARD!F192","v":" "},{"$f":"SCORECARD!G192","v":0},{"$f":"SCORECARD!H192","v":0},{"$f":"IF(NOT(OR(F413>0,G413>0)),\"\",(IF((F413-G413>0),(VLOOKUP(H399,(TABLE!WIN),((E413+5)*2+2))),(VLOOKUP(H399,(TABLE!LOSE),((E413+5)*2+2))))))","v":""}]
[null,{"$f":"SCORECARD!C193","v":" "},null,null,{"$f":"SCORECARD!F193","v":" "},{"$f":"SCORECARD!G193","v":0},{"$f":"SCORECARD!H193","v":0},{"$f":"IF(NOT(OR(F414>0,G414>0)),\"\",(IF((F414-G414>0),(VLOOKUP(H399,(TABLE!WIN),((E414+5)*2+2))),(VLOOKUP(H399,(TABLE!LOSE),((E414+5)*2+2))))))","v":""}]
[null,{"$f":"SCORECARD!C194","v":" "},null,null,{"$f":"SCORECARD!F194","v":" "},{"$f":"SCORECARD!G194","v":0},{"$f":"SCORECARD!H194","v":0},{"$f":"IF(NOT(OR(F415>0,G415>0)),\"\",(IF((F415-G415>0),(VLOOKUP(H399,(TABLE!WIN),((E415+5)*2+2))),(VLOOKUP(H399,(TABLE!LOSE),((E415+5)*2+2))))))","v":""}]
[]
[null,null,null,null,null,null,"Handicap adjustment points total   ",{"$f":"SUM(H402:H415)","v":0}]
[]
[]
[]
[]
[]
[]
[]
[]
[]
[]
[]
[]
[{"$f":"note1","v":"Time limit 2.5 hours, Turn After Bell (61.1.6). Quadway hoops (3 11/16\"), Dawson International balls"}]
[{"$f":"note2","v":"Games may start early. Please be at the venue at least 30 minutes earlier than the scheduled start time."}]
[{"$f":"note3","v":"Entry Fee $40 will be invoiced by email. Please pay by EFT using the invoice No. as reference."}]
[{"$f":"note4","v":"Players please assist with setting and clearing courts."}]
[null,null,null,null,{"$f":"BLOCK!F46","v":" Block 3 Player 2"}]
[null,null,null,null,{"$f":"BLOCK!J42","v":"TOURNAMENT"}]
[null,null,null,null,{"$f":"BLOCK!G43","v":"DATE"}]
[null,null,null,null,{"$f":"BLOCK!B46","v":"BLOCK 3"}]
[]
[null,null,null,null,"BLOCK PLAY SCHEDULE"]
[null,"DAY","TIME",null,"COURT","OPPONENT",null,"HANDICAP","PS","OS"]
[null,{"$f":"GAMES!C20","v":"00:00:00"},{"$f":"GAMES!B20","v":"00:00:00"},null,{"$f":"GAMES!D20","v":0},{"$f":"GAMES!G20","v":" Block 3 Player 3"},null,{"$f":"$E$451","v":0},{"$f":"$F$451","v":-1E-3},{"$f":"$G$451","v":-1E-3}]
[null,{"$f":"GAMES!C22","v":"00:00:00"},{"$f":"GAMES!B22","v":"00:00:00"},null,{"$f":"GAMES!D22","v":0},{"$f":"GAMES!E22","v":" Block 3 Player 4"},null,{"$f":"$E$452","v":0},{"$f":"$F$452","v":-1E-3},{"$f":"$G$452","v":-1E-3}]
[null,{"$f":"GAMES!C23","v":"00:00:00"},{"$f":"GAMES!B23","v":"00:00:00"},null,{"$f":"GAMES!D23","v":0},{"$f":"GAMES!G23","v":" Block 3 Player 1"},null,{"$f":"$E$450","v":0},{"$f":"$F$450","v":-1E-3},{"$f":"$G$450","v":-1E-3}]
[]
[]
[]
[null,"PLAYER:",{"$f":"BLOCK!F46","v":" Block 3 Player 2"},null,null,null,"HANDICAP",{"$f":"BLOCK!B52","v":0}]
[null,null,null,null,"OPP","PLAYER","OPP","H/CAP"]
[null,null,"OPPONENT",null,"HCP","SCORE","SCORE","POINTS"]
[null,{"$f":"SCORECARD!C200","v":" Block 3 Player 1"},null,null,{"$f":"SCORECARD!F200","v":0},{"$f":"SCORECARD!G200","v":-1E-3},{"$f":"SCORECARD!H200","v":-1E-3},{"$f":"IF(NOT(OR(F450>0,G450>0)),\"\",IF(HandicapPlay=\"x\",IF(F450>G450,10,-10),(IF((F450-G450>0),(VLOOKUP(OFFSET(H450,-3,0),(TABLE!WIN),(MATCH(E450,WINCOL,0)+1))),(VLOOKUP(OFFSET(H450,-3,0),(TABLE!LOSE),(MATCH(E450,LOSECOL,0)+1)))))))","v":""}]
[null,{"$f":"SCORECARD!C201","v":" Block 3 Player 3"},null,null,{"$f":"SCORECARD!F201","v":0},{"$f":"SCORECARD!G201","v":-1E-3},{"$f":"SCORECARD!H201","v":-1E-3},{"$f":"IF(NOT(OR(F451>0,G451>0)),\"\",IF(HandicapPlay=\"x\",IF(F451>G451,10,-10),(IF((F451-G451>0),(VLOOKUP(OFFSET(H451,-4,0),(TABLE!WIN),(MATCH(E451,WINCOL,0)+1))),(VLOOKUP(OFFSET(H451,-4,0),(TABLE!LOSE),(MATCH(E451,LOSECOL,0)+1)))))))","v":""}]
[null,{"$f":"SCORECARD!C202","v":" Block 3 Player 4"},null,null,{"$f":"SCORECARD!F202","v":0},{"$f":"SCORECARD!G202","v":-1E-3},{"$f":"SCORECARD!H202","v":-1E-3},{"$f":"IF(NOT(OR(F452>0,G452>0)),\"\",IF(HandicapPlay=\"x\",IF(F452>G452,10,-10),(IF((F452-G452>0),(VLOOKUP(OFFSET(H452,-5,0),(TABLE!WIN),(MATCH(E452,WINCOL,0)+1))),(VLOOKUP(OFFSET(H452,-5,0),(TABLE!LOSE),(MATCH(E452,LOSECOL,0)+1)))))))","v":""}]
[null,{"$f":"SCORECARD!C203","v":" "},null,null,{"$f":"SCORECARD!F203","v":" "},{"$f":"SCORECARD!G203","v":0},{"$f":"SCORECARD!H203","v":0},{"$f":"IF(NOT(OR(F453>0,G453>0)),\"\",(IF((F453-G453>0),(VLOOKUP(H447,(TABLE!WIN),((E453+5)*2+2))),(VLOOKUP(H447,(TABLE!LOSE),((E453+5)*2+2))))))","v":""}]
[null,{"$f":"SCORECARD!C204","v":" "},null,null,{"$f":"SCORECARD!F204","v":" "},{"$f":"SCORECARD!G204","v":0},{"$f":"SCORECARD!H204","v":0},{"$f":"IF(NOT(OR(F454>0,G454>0)),\"\",(IF((F454-G454>0),(VLOOKUP(H447,(TABLE!WIN),((E454+5)*2+2))),(VLOOKUP(H447,(TABLE!LOSE),((E454+5)*2+2))))))","v":""}]
[null,{"$f":"SCORECARD!C205","v":" "},null,null,{"$f":"SCORECARD!F205","v":" "},{"$f":"SCORECARD!G205","v":0},{"$f":"SCORECARD!H205","v":0},{"$f":"IF(NOT(OR(F455>0,G455>0)),\"\",(IF((F455-G455>0),(VLOOKUP(H447,(TABLE!WIN),((E455+5)*2+2))),(VLOOKUP(H447,(TABLE!LOSE),((E455+5)*2+2))))))","v":""}]
[null,{"$f":"SCORECARD!C206","v":" "},null,null,{"$f":"SCORECARD!F206","v":" "},{"$f":"SCORECARD!G206","v":0},{"$f":"SCORECARD!H206","v":0},{"$f":"IF(NOT(OR(F456>0,G456>0)),\"\",(IF((F456-G456>0),(VLOOKUP(H447,(TABLE!WIN),((E456+5)*2+2))),(VLOOKUP(H447,(TABLE!LOSE),((E456+5)*2+2))))))","v":""}]
[null,{"$f":"SCORECARD!C207","v":" "},null,null,{"$f":"SCORECARD!F207","v":" "},{"$f":"SCORECARD!G207","v":0},{"$f":"SCORECARD!H207","v":0},{"$f":"IF(NOT(OR(F457>0,G457>0)),\"\",(IF((F457-G457>0),(VLOOKUP(H447,(TABLE!WIN),((E457+5)*2+2))),(VLOOKUP(H447,(TABLE!LOSE),((E457+5)*2+2))))))","v":""}]
[null,{"$f":"SCORECARD!C208","v":" "},null,null,{"$f":"SCORECARD!F208","v":" "},{"$f":"SCORECARD!G208","v":0},{"$f":"SCORECARD!H208","v":0},{"$f":"IF(NOT(OR(F458>0,G458>0)),\"\",(IF((F458-G458>0),(VLOOKUP(H447,(TABLE!WIN),((E458+5)*2+2))),(VLOOKUP(H447,(TABLE!LOSE),((E458+5)*2+2))))))","v":""}]
[null,{"$f":"SCORECARD!C209","v":" "},null,null,{"$f":"SCORECARD!F209","v":" "},{"$f":"SCORECARD!G209","v":0},{"$f":"SCORECARD!H209","v":0},{"$f":"IF(NOT(OR(F459>0,G459>0)),\"\",(IF((F459-G459>0),(VLOOKUP(H447,(TABLE!WIN),((E459+5)*2+2))),(VLOOKUP(H447,(TABLE!LOSE),((E459+5)*2+2))))))","v":""}]
[null,{"$f":"SCORECARD!C210","v":" "},null,null,{"$f":"SCORECARD!F210","v":" "},{"$f":"SCORECARD!G210","v":0},{"$f":"SCORECARD!H210","v":0},{"$f":"IF(NOT(OR(F460>0,G460>0)),\"\",(IF((F460-G460>0),(VLOOKUP(H447,(TABLE!WIN),((E460+5)*2+2))),(VLOOKUP(H447,(TABLE!LOSE),((E460+5)*2+2))))))","v":""}]
[null,{"$f":"SCORECARD!C211","v":" "},null,null,{"$f":"SCORECARD!F211","v":" "},{"$f":"SCORECARD!G211","v":0},{"$f":"SCORECARD!H211","v":0},{"$f":"IF(NOT(OR(F461>0,G461>0)),\"\",(IF((F461-G461>0),(VLOOKUP(H447,(TABLE!WIN),((E461+5)*2+2))),(VLOOKUP(H447,(TABLE!LOSE),((E461+5)*2+2))))))","v":""}]
[null,{"$f":"SCORECARD!C212","v":" "},null,null,{"$f":"SCORECARD!F212","v":" "},{"$f":"SCORECARD!G212","v":0},{"$f":"SCORECARD!H212","v":0},{"$f":"IF(NOT(OR(F462>0,G462>0)),\"\",(IF((F462-G462>0),(VLOOKUP(H447,(TABLE!WIN),((E462+5)*2+2))),(VLOOKUP(H447,(TABLE!LOSE),((E462+5)*2+2))))))","v":""}]
[null,{"$f":"SCORECARD!C213","v":" "},null,null,{"$f":"SCORECARD!F213","v":" "},{"$f":"SCORECARD!G213","v":0},{"$f":"SCORECARD!H213","v":0},{"$f":"IF(NOT(OR(F463>0,G463>0)),\"\",(IF((F463-G463>0),(VLOOKUP(H447,(TABLE!WIN),((E463+5)*2+2))),(VLOOKUP(H447,(TABLE!LOSE),((E463+5)*2+2))))))","v":""}]
[]
[null,null,null,null,null,null,"Handicap adjustment points total   ",{"$f":"SUM(H450:H463)","v":0}]
[]
[]
[]
[]
[]
[]
[]
[]
[]
[]
[]
[]
[{"$f":"note1","v":"Time limit 2.5 hours, Turn After Bell (61.1.6). Quadway hoops (3 11/16\"), Dawson International balls"}]
[{"$f":"note2","v":"Games may start early. Please be at the venue at least 30 minutes earlier than the scheduled start time."}]
[{"$f":"note3","v":"Entry Fee $40 will be invoiced by email. Please pay by EFT using the invoice No. as reference."}]
[{"$f":"note4","v":"Players please assist with setting and clearing courts."}]
[null,null,null,null,{"$f":"BLOCK!I46","v":" Block 3 Player 3"}]
[null,null,null,null,{"$f":"BLOCK!J42","v":"TOURNAMENT"}]
[null,null,null,null,{"$f":"BLOCK!G43","v":"DATE"}]
[null,null,null,null,{"$f":"BLOCK!B46","v":"BLOCK 3"}]
[]
[null,null,null,null,"BLOCK PLAY SCHEDULE"]
[null,"DAY","TIME",null,"COURT","OPPONENT",null,"HANDICAP","PS","OS"]
[null,{"$f":"GAMES!C20","v":"00:00:00"},{"$f":"GAMES!B20","v":"00:00:00"},null,{"$f":"GAMES!D20","v":0},{"$f":"GAMES!E20","v":" Block 3 Player 2"},null,{"$f":"$E$499","v":0},{"$f":"$F$499","v":-1E-3},{"$f":"$G$499","v":-1E-3}]
[null,{"$f":"GAMES!C21","v":"00:00:00"},{"$f":"GAMES!B21","v":"00:00:00"},null,{"$f":"GAMES!D21","v":0},{"$f":"GAMES!G21","v":" Block 3 Player 1"},null,{"$f":"$E$498","v":0},{"$f":"$F$498","v":-1E-3},{"$f":"$G$498","v":-1E-3}]
[null,{"$f":"GAMES!C24","v":"00:00:00"},{"$f":"GAMES!B24","v":"00:00:00"},null,{"$f":"GAMES!D24","v":0},{"$f":"GAMES!G24","v":" Block 3 Player 4"},null,{"$f":"$E$500","v":0},{"$f":"$F$500","v":-1E-3},{"$f":"$G$500","v":-1E-3}]
[]
[]
[]
[null,"PLAYER:",{"$f":"BLOCK!I46","v":" Block 3 Player 3"},null,null,null,"HANDICAP",{"$f":"BLOCK!B55","v":0}]
[null,null,null,null,"OPP","PLAYER","OPP","H/CAP"]
[null,null,"OPPONENT",null,"HCP","SCORE","SCORE","POINTS"]
[null,{"$f":"SCORECARD!C224","v":" Block 3 Player 1"},null,null,{"$f":"SCORECARD!F224","v":0},{"$f":"SCORECARD!G224","v":-1E-3},{"$f":"SCORECARD!H224","v":-1E-3},{"$f":"IF(NOT(OR(F498>0,G498>0)),\"\",IF(HandicapPlay=\"x\",IF(F498>G498,10,-10),(IF((F498-G498>0),(VLOOKUP(OFFSET(H498,-3,0),(TABLE!WIN),(MATCH(E498,WINCOL,0)+1))),(VLOOKUP(OFFSET(H498,-3,0),(TABLE!LOSE),(MATCH(E498,LOSECOL,0)+1)))))))","v":""}]
[null,{"$f":"SCORECARD!C225","v":" Block 3 Player 2"},null,null,{"$f":"SCORECARD!F225","v":0},{"$f":"SCORECARD!G225","v":-1E-3},{"$f":"SCORECARD!H225","v":-1E-3},{"$f":"IF(NOT(OR(F499>0,G499>0)),\"\",IF(HandicapPlay=\"x\",IF(F499>G499,10,-10),(IF((F499-G499>0),(VLOOKUP(OFFSET(H499,-4,0),(TABLE!WIN),(MATCH(E499,WINCOL,0)+1))),(VLOOKUP(OFFSET(H499,-4,0),(TABLE!LOSE),(MATCH(E499,LOSECOL,0)+1)))))))","v":""}]
[null,{"$f":"SCORECARD!C226","v":" Block 3 Player 4"},null,null,{"$f":"SCORECARD!F226","v":0},{"$f":"SCORECARD!G226","v":-1E-3},{"$f":"SCORECARD!H226","v":-1E-3},{"$f":"IF(NOT(OR(F500>0,G500>0)),\"\",IF(HandicapPlay=\"x\",IF(F500>G500,10,-10),(IF((F500-G500>0),(VLOOKUP(OFFSET(H500,-5,0),(TABLE!WIN),(MATCH(E500,WINCOL,0)+1))),(VLOOKUP(OFFSET(H500,-5,0),(TABLE!LOSE),(MATCH(E500,LOSECOL,0)+1)))))))","v":""}]
[null,{"$f":"SCORECARD!C227","v":" "},null,null,{"$f":"SCORECARD!F227","v":" "},{"$f":"SCORECARD!G227","v":0},{"$f":"SCORECARD!H227","v":0},{"$f":"IF(NOT(OR(F501>0,G501>0)),\"\",(IF((F501-G501>0),(VLOOKUP(H495,(TABLE!WIN),((E501+5)*2+2))),(VLOOKUP(H495,(TABLE!LOSE),((E501+5)*2+2))))))","v":""}]
[null,{"$f":"SCORECARD!C228","v":" "},null,null,{"$f":"SCORECARD!F228","v":" "},{"$f":"SCORECARD!G228","v":0},{"$f":"SCORECARD!H228","v":0},{"$f":"IF(NOT(OR(F502>0,G502>0)),\"\",(IF((F502-G502>0),(VLOOKUP(H495,(TABLE!WIN),((E502+5)*2+2))),(VLOOKUP(H495,(TABLE!LOSE),((E502+5)*2+2))))))","v":""}]
[null,{"$f":"SCORECARD!C229","v":" "},null,null,{"$f":"SCORECARD!F229","v":" "},{"$f":"SCORECARD!G229","v":0},{"$f":"SCORECARD!H229","v":0},{"$f":"IF(NOT(OR(F503>0,G503>0)),\"\",(IF((F503-G503>0),(VLOOKUP(H495,(TABLE!WIN),((E503+5)*2+2))),(VLOOKUP(H495,(TABLE!LOSE),((E503+5)*2+2))))))","v":""}]
[null,{"$f":"SCORECARD!C230","v":" "},null,null,{"$f":"SCORECARD!F230","v":" "},{"$f":"SCORECARD!G230","v":0},{"$f":"SCORECARD!H230","v":0},{"$f":"IF(NOT(OR(F504>0,G504>0)),\"\",(IF((F504-G504>0),(VLOOKUP(H495,(TABLE!WIN),((E504+5)*2+2))),(VLOOKUP(H495,(TABLE!LOSE),((E504+5)*2+2))))))","v":""}]
[null,{"$f":"SCORECARD!C231","v":" "},null,null,{"$f":"SCORECARD!F231","v":" "},{"$f":"SCORECARD!G231","v":0},{"$f":"SCORECARD!H231","v":0},{"$f":"IF(NOT(OR(F505>0,G505>0)),\"\",(IF((F505-G505>0),(VLOOKUP(H495,(TABLE!WIN),((E505+5)*2+2))),(VLOOKUP(H495,(TABLE!LOSE),((E505+5)*2+2))))))","v":""}]
[null,{"$f":"SCORECARD!C232","v":" "},null,null,{"$f":"SCORECARD!F232","v":" "},{"$f":"SCORECARD!G232","v":0},{"$f":"SCORECARD!H232","v":0},{"$f":"IF(NOT(OR(F506>0,G506>0)),\"\",(IF((F506-G506>0),(VLOOKUP(H495,(TABLE!WIN),((E506+5)*2+2))),(VLOOKUP(H495,(TABLE!LOSE),((E506+5)*2+2))))))","v":""}]
[null,{"$f":"SCORECARD!C233","v":" "},null,null,{"$f":"SCORECARD!F233","v":" "},{"$f":"SCORECARD!G233","v":0},{"$f":"SCORECARD!H233","v":0},{"$f":"IF(NOT(OR(F507>0,G507>0)),\"\",(IF((F507-G507>0),(VLOOKUP(H495,(TABLE!WIN),((E507+5)*2+2))),(VLOOKUP(H495,(TABLE!LOSE),((E507+5)*2+2))))))","v":""}]
[null,{"$f":"SCORECARD!C234","v":" "},null,null,{"$f":"SCORECARD!F234","v":" "},{"$f":"SCORECARD!G234","v":0},{"$f":"SCORECARD!H234","v":0},{"$f":"IF(NOT(OR(F508>0,G508>0)),\"\",(IF((F508-G508>0),(VLOOKUP(H495,(TABLE!WIN),((E508+5)*2+2))),(VLOOKUP(H495,(TABLE!LOSE),((E508+5)*2+2))))))","v":""}]
[null,{"$f":"SCORECARD!C235","v":" "},null,null,{"$f":"SCORECARD!F235","v":" "},{"$f":"SCORECARD!G235","v":0},{"$f":"SCORECARD!H235","v":0},{"$f":"IF(NOT(OR(F509>0,G509>0)),\"\",(IF((F509-G509>0),(VLOOKUP(H495,(TABLE!WIN),((E509+5)*2+2))),(VLOOKUP(H495,(TABLE!LOSE),((E509+5)*2+2))))))","v":""}]
[null,{"$f":"SCORECARD!C236","v":" "},null,null,{"$f":"SCORECARD!F236","v":" "},{"$f":"SCORECARD!G236","v":0},{"$f":"SCORECARD!H236","v":0},{"$f":"IF(NOT(OR(F510>0,G510>0)),\"\",(IF((F510-G510>0),(VLOOKUP(H495,(TABLE!WIN),((E510+5)*2+2))),(VLOOKUP(H495,(TABLE!LOSE),((E510+5)*2+2))))))","v":""}]
[null,{"$f":"SCORECARD!C237","v":" "},null,null,{"$f":"SCORECARD!F237","v":" "},{"$f":"SCORECARD!G237","v":0},{"$f":"SCORECARD!H237","v":0},{"$f":"IF(NOT(OR(F511>0,G511>0)),\"\",(IF((F511-G511>0),(VLOOKUP(H495,(TABLE!WIN),((E511+5)*2+2))),(VLOOKUP(H495,(TABLE!LOSE),((E511+5)*2+2))))))","v":""}]
[]
[null,null,null,null,null,null,"Handicap adjustment points total   ",{"$f":"SUM(H498:H511)","v":0}]
[]
[]
[]
[]
[]
[]
[]
[]
[]
[]
[]
[]
[{"$f":"note1","v":"Time limit 2.5 hours, Turn After Bell (61.1.6). Quadway hoops (3 11/16\"), Dawson International balls"}]
[{"$f":"note2","v":"Games may start early. Please be at the venue at least 30 minutes earlier than the scheduled start time."}]
[{"$f":"note3","v":"Entry Fee $40 will be invoiced by email. Please pay by EFT using the invoice No. as reference."}]
[{"$f":"note4","v":"Players please assist with setting and clearing courts."}]
[null,null,null,null,{"$f":"BLOCK!L46","v":" Block 3 Player 4"}]
[null,null,null,null,{"$f":"BLOCK!J42","v":"TOURNAMENT"}]
[null,null,null,null,{"$f":"BLOCK!G43","v":"DATE"}]
[null,null,null,null,{"$f":"BLOCK!B46","v":"BLOCK 3"}]
[]
[null,null,null,null,"BLOCK PLAY SCHEDULE"]
[null,"DAY","TIME",null,"COURT","OPPONENT",null,"HANDICAP","PS","OS"]
[null,{"$f":"GAMES!C19","v":"00:00:00"},{"$f":"GAMES!B19","v":"00:00:00"},null,{"$f":"GAMES!D19","v":0},{"$f":"GAMES!E19","v":" Block 3 Player 1"},null,{"$f":"$E$546","v":0},{"$f":"$F$546","v":-1E-3},{"$f":"$G$546","v":-1E-3}]
[null,{"$f":"GAMES!C22","v":"00:00:00"},{"$f":"GAMES!B22","v":"00:00:00"},null,{"$f":"GAMES!D22","v":0},{"$f":"GAMES!G22","v":" Block 3 Player 2"},null,{"$f":"$E$547","v":0},{"$f":"$F$547","v":-1E-3},{"$f":"$G$547","v":-1E-3}]
[null,{"$f":"GAMES!C24","v":"00:00:00"},{"$f":"GAMES!B24","v":"00:00:00"},null,{"$f":"GAMES!D24","v":0},{"$f":"GAMES!E24","v":" Block 3 Player 3"},null,{"$f":"$E$548","v":0},{"$f":"$F$548","v":-1E-3},{"$f":"$G$548","v":-1E-3}]
[]
[]
[]
[null,"PLAYER:",{"$f":"BLOCK!L46","v":" Block 3 Player 4"},null,null,null,"HANDICAP",{"$f":"BLOCK!B58","v":0}]
[null,null,null,null,"OPP","PLAYER","OPP","H/CAP"]
[null,null,"OPPONENT",null,"HCP","SCORE","SCORE","POINTS"]
[null,{"$f":"SCORECARD!C243","v":" Block 3 Player 1"},null,null,{"$f":"SCORECARD!F243","v":0},{"$f":"SCORECARD!G243","v":-1E-3},{"$f":"SCORECARD!H243","v":-1E-3},{"$f":"IF(NOT(OR(F546>0,G546>0)),\"\",IF(HandicapPlay=\"x\",IF(F546>G546,10,-10),(IF((F546-G546>0),(VLOOKUP(OFFSET(H546,-3,0),(TABLE!WIN),(MATCH(E546,WINCOL,0)+1))),(VLOOKUP(OFFSET(H546,-3,0),(TABLE!LOSE),(MATCH(E546,LOSECOL,0)+1)))))))","v":""}]
[null,{"$f":"SCORECARD!C244","v":" Block 3 Player 2"},null,null,{"$f":"SCORECARD!F244","v":0},{"$f":"SCORECARD!G244","v":-1E-3},{"$f":"SCORECARD!H244","v":-1E-3},{"$f":"IF(NOT(OR(F547>0,G547>0)),\"\",IF(HandicapPlay=\"x\",IF(F547>G547,10,-10),(IF((F547-G547>0),(VLOOKUP(OFFSET(H547,-4,0),(TABLE!WIN),(MATCH(E547,WINCOL,0)+1))),(VLOOKUP(OFFSET(H547,-4,0),(TABLE!LOSE),(MATCH(E547,LOSECOL,0)+1)))))))","v":""}]
[null,{"$f":"SCORECARD!C245","v":" Block 3 Player 3"},null,null,{"$f":"SCORECARD!F245","v":0},{"$f":"SCORECARD!G245","v":-1E-3},{"$f":"SCORECARD!H245","v":-1E-3},{"$f":"IF(NOT(OR(F548>0,G548>0)),\"\",IF(HandicapPlay=\"x\",IF(F548>G548,10,-10),(IF((F548-G548>0),(VLOOKUP(OFFSET(H548,-5,0),(TABLE!WIN),(MATCH(E548,WINCOL,0)+1))),(VLOOKUP(OFFSET(H548,-5,0),(TABLE!LOSE),(MATCH(E548,LOSECOL,0)+1)))))))","v":""}]
[null,{"$f":"SCORECARD!C246","v":" "},null,null,{"$f":"SCORECARD!F246","v":" "},{"$f":"SCORECARD!G246","v":0},{"$f":"SCORECARD!H246","v":0},{"$f":"IF(NOT(OR(F549>0,G549>0)),\"\",(IF((F549-G549>0),(VLOOKUP(H543,(TABLE!WIN),((E549+5)*2+2))),(VLOOKUP(H543,(TABLE!LOSE),((E549+5)*2+2))))))","v":""}]
[null,{"$f":"SCORECARD!C247","v":" "},null,null,{"$f":"SCORECARD!F247","v":" "},{"$f":"SCORECARD!G247","v":0},{"$f":"SCORECARD!H247","v":0},{"$f":"IF(NOT(OR(F550>0,G550>0)),\"\",(IF((F550-G550>0),(VLOOKUP(H543,(TABLE!WIN),((E550+5)*2+2))),(VLOOKUP(H543,(TABLE!LOSE),((E550+5)*2+2))))))","v":""}]
[null,{"$f":"SCORECARD!C248","v":" "},null,null,{"$f":"SCORECARD!F248","v":" "},{"$f":"SCORECARD!G248","v":0},{"$f":"SCORECARD!H248","v":0},{"$f":"IF(NOT(OR(F551>0,G551>0)),\"\",(IF((F551-G551>0),(VLOOKUP(H543,(TABLE!WIN),((E551+5)*2+2))),(VLOOKUP(H543,(TABLE!LOSE),((E551+5)*2+2))))))","v":""}]
[null,{"$f":"SCORECARD!C249","v":" "},null,null,{"$f":"SCORECARD!F249","v":" "},{"$f":"SCORECARD!G249","v":0},{"$f":"SCORECARD!H249","v":0},{"$f":"IF(NOT(OR(F552>0,G552>0)),\"\",(IF((F552-G552>0),(VLOOKUP(H543,(TABLE!WIN),((E552+5)*2+2))),(VLOOKUP(H543,(TABLE!LOSE),((E552+5)*2+2))))))","v":""}]
[null,{"$f":"SCORECARD!C250","v":" "},null,null,{"$f":"SCORECARD!F250","v":" "},{"$f":"SCORECARD!G250","v":0},{"$f":"SCORECARD!H250","v":0},{"$f":"IF(NOT(OR(F553>0,G553>0)),\"\",(IF((F553-G553>0),(VLOOKUP(H543,(TABLE!WIN),((E553+5)*2+2))),(VLOOKUP(H543,(TABLE!LOSE),((E553+5)*2+2))))))","v":""}]
[null,{"$f":"SCORECARD!C251","v":" "},null,null,{"$f":"SCORECARD!F251","v":" "},{"$f":"SCORECARD!G251","v":0},{"$f":"SCORECARD!H251","v":0},{"$f":"IF(NOT(OR(F554>0,G554>0)),\"\",(IF((F554-G554>0),(VLOOKUP(H543,(TABLE!WIN),((E554+5)*2+2))),(VLOOKUP(H543,(TABLE!LOSE),((E554+5)*2+2))))))","v":""}]
[null,{"$f":"SCORECARD!C252","v":" "},null,null,{"$f":"SCORECARD!F252","v":" "},{"$f":"SCORECARD!G252","v":0},{"$f":"SCORECARD!H252","v":0},{"$f":"IF(NOT(OR(F555>0,G555>0)),\"\",(IF((F555-G555>0),(VLOOKUP(H543,(TABLE!WIN),((E555+5)*2+2))),(VLOOKUP(H543,(TABLE!LOSE),((E555+5)*2+2))))))","v":""}]
[null,{"$f":"SCORECARD!C253","v":" "},null,null,{"$f":"SCORECARD!F253","v":" "},{"$f":"SCORECARD!G253","v":0},{"$f":"SCORECARD!H253","v":0},{"$f":"IF(NOT(OR(F556>0,G556>0)),\"\",(IF((F556-G556>0),(VLOOKUP(H543,(TABLE!WIN),((E556+5)*2+2))),(VLOOKUP(H543,(TABLE!LOSE),((E556+5)*2+2))))))","v":""}]
[null,{"$f":"SCORECARD!C254","v":" "},null,null,{"$f":"SCORECARD!F254","v":" "},{"$f":"SCORECARD!G254","v":0},{"$f":"SCORECARD!H254","v":0},{"$f":"IF(NOT(OR(F557>0,G557>0)),\"\",(IF((F557-G557>0),(VLOOKUP(H543,(TABLE!WIN),((E557+5)*2+2))),(VLOOKUP(H543,(TABLE!LOSE),((E557+5)*2+2))))))","v":""}]
[null,{"$f":"SCORECARD!C255","v":" "},null,null,{"$f":"SCORECARD!F255","v":" "},{"$f":"SCORECARD!G255","v":0},{"$f":"SCORECARD!H255","v":0},{"$f":"IF(NOT(OR(F558>0,G558>0)),\"\",(IF((F558-G558>0),(VLOOKUP(H543,(TABLE!WIN),((E558+5)*2+2))),(VLOOKUP(H543,(TABLE!LOSE),((E558+5)*2+2))))))","v":""}]
[null,{"$f":"SCORECARD!C256","v":" "},null,null,{"$f":"SCORECARD!F256","v":" "},{"$f":"SCORECARD!G256","v":0},{"$f":"SCORECARD!H256","v":0},{"$f":"IF(NOT(OR(F559>0,G559>0)),\"\",(IF((F559-G559>0),(VLOOKUP(H543,(TABLE!WIN),((E559+5)*2+2))),(VLOOKUP(H543,(TABLE!LOSE),((E559+5)*2+2))))))","v":""}]
[]
[null,null,null,null,null,null,"Handicap adjustment points total   ",{"$f":"SUM(H546:H559)","v":0}]
[]
[]
[]
[]
[]
[]
[]
[]
[]
[]
[]
[]
[{"$f":"note1","v":"Time limit 2.5 hours, Turn After Bell (61.1.6). Quadway hoops (3 11/16\"), Dawson International balls"}]
[{"$f":"note2","v":"Games may start early. Please be at the venue at least 30 minutes earlier than the scheduled start time."}]
[{"$f":"note3","v":"Entry Fee $40 will be invoiced by email. Please pay by EFT using the invoice No. as reference."}]
[{"$f":"note4","v":"Players please assist with setting and clearing courts."}]
[null,null,null,null,{"$f":"BLOCK!C65","v":" Block 4 Player 1"}]
[null,null,null,null,{"$f":"BLOCK!J61","v":"TOURNAMENT"}]
[null,null,null,null,{"$f":"BLOCK!G62","v":"DATE"}]
[null,null,null,null,{"$f":"BLOCK!B65","v":"BLOCK 4"}]
[]
[null,null,null,null,"BLOCK PLAY SCHEDULE"]
[null,"DAY","TIME",null,"COURT","OPPONENT",null,"HANDICAP","PS","OS"]
[null,{"$f":"GAMES!C27","v":"00:00:00"},{"$f":"GAMES!B27","v":"00:00:00"},null,{"$f":"GAMES!D27","v":0},{"$f":"GAMES!G27","v":" Block 4 Player 4"},null,{"$f":"$E$596","v":0},{"$f":"$F$596","v":-1E-3},{"$f":"$G$596","v":-1E-3}]
[null,{"$f":"GAMES!C29","v":"00:00:00"},{"$f":"GAMES!B29","v":"00:00:00"},null,{"$f":"GAMES!D29","v":0},{"$f":"GAMES!E29","v":" Block 4 Player 3"},null,{"$f":"$E$595","v":0},{"$f":"$F$595","v":-1E-3},{"$f":"$G$595","v":-1E-3}]
[null,{"$f":"GAMES!C31","v":"00:00:00"},{"$f":"GAMES!B31","v":"00:00:00"},null,{"$f":"GAMES!D31","v":0},{"$f":"GAMES!E31","v":" Block 4 Player 2"},null,{"$f":"$E$594","v":0},{"$f":"$F$594","v":-1E-3},{"$f":"$G$594","v":-1E-3}]
[]
[]
[]
[null,"PLAYER:",{"$f":"BLOCK!C65","v":" Block 4 Player 1"},null,null,null,"HANDICAP",{"$f":"BLOCK!B68","v":0}]
[null,null,null,null,"OPP","PLAYER","OPP","H/CAP"]
[null,null,"OPPONENT",null,"HCP","SCORE","SCORE","POINTS"]
[null,{"$f":"SCORECARD!C267","v":" Block 4 Player 2"},null,null,{"$f":"SCORECARD!F267","v":0},{"$f":"SCORECARD!G267","v":-1E-3},{"$f":"SCORECARD!H267","v":-1E-3},{"$f":"IF(NOT(OR(F594>0,G594>0)),\"\",IF(HandicapPlay=\"x\",IF(F594>G594,10,-10),(IF((F594-G594>0),(VLOOKUP(OFFSET(H594,-3,0),(TABLE!WIN),(MATCH(E594,WINCOL,0)+1))),(VLOOKUP(OFFSET(H594,-3,0),(TABLE!LOSE),(MATCH(E594,LOSECOL,0)+1)))))))","v":""}]
[null,{"$f":"SCORECARD!C268","v":" Block 4 Player 3"},null,null,{"$f":"SCORECARD!F268","v":0},{"$f":"SCORECARD!G268","v":-1E-3},{"$f":"SCORECARD!H268","v":-1E-3},{"$f":"IF(NOT(OR(F595>0,G595>0)),\"\",IF(HandicapPlay=\"x\",IF(F595>G595,10,-10),(IF((F595-G595>0),(VLOOKUP(OFFSET(H595,-4,0),(TABLE!WIN),(MATCH(E595,WINCOL,0)+1))),(VLOOKUP(OFFSET(H595,-4,0),(TABLE!LOSE),(MATCH(E595,LOSECOL,0)+1)))))))","v":""}]
[null,{"$f":"SCORECARD!C269","v":" Block 4 Player 4"},null,null,{"$f":"SCORECARD!F269","v":0},{"$f":"SCORECARD!G269","v":-1E-3},{"$f":"SCORECARD!H269","v":-1E-3},{"$f":"IF(NOT(OR(F596>0,G596>0)),\"\",IF(HandicapPlay=\"x\",IF(F596>G596,10,-10),(IF((F596-G596>0),(VLOOKUP(OFFSET(H596,-5,0),(TABLE!WIN),(MATCH(E596,WINCOL,0)+1))),(VLOOKUP(OFFSET(H596,-5,0),(TABLE!LOSE),(MATCH(E596,LOSECOL,0)+1)))))))","v":""}]
[null,{"$f":"SCORECARD!C270","v":" "},null,null,{"$f":"SCORECARD!F270","v":" "},{"$f":"SCORECARD!G270","v":0},{"$f":"SCORECARD!H270","v":0},{"$f":"IF(NOT(OR(F597>0,G597>0)),\"\",(IF((F597-G597>0),(VLOOKUP(H591,(TABLE!WIN),((E597+5)*2+2))),(VLOOKUP(H591,(TABLE!LOSE),((E597+5)*2+2))))))","v":""}]
[null,{"$f":"SCORECARD!C271","v":" "},null,null,{"$f":"SCORECARD!F271","v":" "},{"$f":"SCORECARD!G271","v":0},{"$f":"SCORECARD!H271","v":0},{"$f":"IF(NOT(OR(F598>0,G598>0)),\"\",(IF((F598-G598>0),(VLOOKUP(H591,(TABLE!WIN),((E598+5)*2+2))),(VLOOKUP(H591,(TABLE!LOSE),((E598+5)*2+2))))))","v":""}]
[null,{"$f":"SCORECARD!C272","v":" "},null,null,{"$f":"SCORECARD!F272","v":" "},{"$f":"SCORECARD!G272","v":0},{"$f":"SCORECARD!H272","v":0},{"$f":"IF(NOT(OR(F599>0,G599>0)),\"\",(IF((F599-G599>0),(VLOOKUP(H591,(TABLE!WIN),((E599+5)*2+2))),(VLOOKUP(H591,(TABLE!LOSE),((E599+5)*2+2))))))","v":""}]
[null,{"$f":"SCORECARD!C273","v":" "},null,null,{"$f":"SCORECARD!F273","v":" "},{"$f":"SCORECARD!G273","v":0},{"$f":"SCORECARD!H273","v":0},{"$f":"IF(NOT(OR(F600>0,G600>0)),\"\",(IF((F600-G600>0),(VLOOKUP(H591,(TABLE!WIN),((E600+5)*2+2))),(VLOOKUP(H591,(TABLE!LOSE),((E600+5)*2+2))))))","v":""}]
[null,{"$f":"SCORECARD!C274","v":" "},null,null,{"$f":"SCORECARD!F274","v":" "},{"$f":"SCORECARD!G274","v":0},{"$f":"SCORECARD!H274","v":0},{"$f":"IF(NOT(OR(F601>0,G601>0)),\"\",(IF((F601-G601>0),(VLOOKUP(H591,(TABLE!WIN),((E601+5)*2+2))),(VLOOKUP(H591,(TABLE!LOSE),((E601+5)*2+2))))))","v":""}]
[null,{"$f":"SCORECARD!C275","v":" "},null,null,{"$f":"SCORECARD!F275","v":" "},{"$f":"SCORECARD!G275","v":0},{"$f":"SCORECARD!H275","v":0},{"$f":"IF(NOT(OR(F602>0,G602>0)),\"\",(IF((F602-G602>0),(VLOOKUP(H591,(TABLE!WIN),((E602+5)*2+2))),(VLOOKUP(H591,(TABLE!LOSE),((E602+5)*2+2))))))","v":""}]
[null,{"$f":"SCORECARD!C276","v":" "},null,null,{"$f":"SCORECARD!F276","v":" "},{"$f":"SCORECARD!G276","v":0},{"$f":"SCORECARD!H276","v":0},{"$f":"IF(NOT(OR(F603>0,G603>0)),\"\",(IF((F603-G603>0),(VLOOKUP(H591,(TABLE!WIN),((E603+5)*2+2))),(VLOOKUP(H591,(TABLE!LOSE),((E603+5)*2+2))))))","v":""}]
[null,{"$f":"SCORECARD!C277","v":" "},null,null,{"$f":"SCORECARD!F277","v":" "},{"$f":"SCORECARD!G277","v":0},{"$f":"SCORECARD!H277","v":0},{"$f":"IF(NOT(OR(F604>0,G604>0)),\"\",(IF((F604-G604>0),(VLOOKUP(H591,(TABLE!WIN),((E604+5)*2+2))),(VLOOKUP(H591,(TABLE!LOSE),((E604+5)*2+2))))))","v":""}]
[null,{"$f":"SCORECARD!C278","v":" "},null,null,{"$f":"SCORECARD!F278","v":" "},{"$f":"SCORECARD!G278","v":0},{"$f":"SCORECARD!H278","v":0},{"$f":"IF(NOT(OR(F605>0,G605>0)),\"\",(IF((F605-G605>0),(VLOOKUP(H591,(TABLE!WIN),((E605+5)*2+2))),(VLOOKUP(H591,(TABLE!LOSE),((E605+5)*2+2))))))","v":""}]
[null,{"$f":"SCORECARD!C279","v":" "},null,null,{"$f":"SCORECARD!F279","v":" "},{"$f":"SCORECARD!G279","v":0},{"$f":"SCORECARD!H279","v":0},{"$f":"IF(NOT(OR(F606>0,G606>0)),\"\",(IF((F606-G606>0),(VLOOKUP(H591,(TABLE!WIN),((E606+5)*2+2))),(VLOOKUP(H591,(TABLE!LOSE),((E606+5)*2+2))))))","v":""}]
[null,{"$f":"SCORECARD!C280","v":" "},null,null,{"$f":"SCORECARD!F280","v":" "},{"$f":"SCORECARD!G280","v":0},{"$f":"SCORECARD!H280","v":0},{"$f":"IF(NOT(OR(F607>0,G607>0)),\"\",(IF((F607-G607>0),(VLOOKUP(H591,(TABLE!WIN),((E607+5)*2+2))),(VLOOKUP(H591,(TABLE!LOSE),((E607+5)*2+2))))))","v":""}]
[]
[null,null,null,null,null,null,"Handicap adjustment points total   ",{"$f":"SUM(H594:H607)","v":0}]
[]
[]
[]
[]
[]
[]
[]
[]
[]
[]
[]
[]
[{"$f":"note1","v":"Time limit 2.5 hours, Turn After Bell (61.1.6). Quadway hoops (3 11/16\"), Dawson International balls"}]
[{"$f":"note2","v":"Games may start early. Please be at the venue at least 30 minutes earlier than the scheduled start time."}]
[{"$f":"note3","v":"Entry Fee $40 will be invoiced by email. Please pay by EFT using the invoice No. as reference."}]
[{"$f":"note4","v":"Players please assist with setting and clearing courts."}]
[null,null,null,null,{"$f":"BLOCK!F65","v":" Block 4 Player 2"}]
[null,null,null,null,{"$f":"BLOCK!J61","v":"TOURNAMENT"}]
[null,null,null,null,{"$f":"BLOCK!G62","v":"DATE"}]
[null,null,null,null,{"$f":"BLOCK!B65","v":"BLOCK 4"}]
[]
[null,null,null,null,"BLOCK PLAY SCHEDULE"]
[null,"DAY","TIME",null,"COURT","OPPONENT",null,"HANDICAP","PS","OS"]
[null,{"$f":"GAMES!C28","v":"00:00:00"},{"$f":"GAMES!B28","v":"00:00:00"},null,{"$f":"GAMES!D28","v":0},{"$f":"GAMES!G28","v":" Block 4 Player 3"},null,{"$f":"$E$643","v":0},{"$f":"$F$643","v":-1E-3},{"$f":"$G$643","v":-1E-3}]
[null,{"$f":"GAMES!C30","v":"00:00:00"},{"$f":"GAMES!B30","v":"00:00:00"},null,{"$f":"GAMES!D30","v":0},{"$f":"GAMES!E30","v":" Block 4 Player 4"},null,{"$f":"$E$644","v":0},{"$f":"$F$644","v":-1E-3},{"$f":"$G$644","v":-1E-3}]
[null,{"$f":"GAMES!C31","v":"00:00:00"},{"$f":"GAMES!B31","v":"00:00:00"},null,{"$f":"GAMES!D31","v":0},{"$f":"GAMES!G31","v":" Block 4 Player 1"},null,{"$f":"$E$642","v":0},{"$f":"$F$642","v":-1E-3},{"$f":"$G$642","v":-1E-3}]
[]
[]
[]
[null,"PLAYER:",{"$f":"BLOCK!F65","v":" Block 4 Player 2"},null,null,null,"HANDICAP",{"$f":"BLOCK!B71","v":0}]
[null,null,null,null,"OPP","PLAYER","OPP","H/CAP"]
[null,null,"OPPONENT",null,"HCP","SCORE","SCORE","POINTS"]
[null,{"$f":"SCORECARD!C286","v":" Block 4 Player 1"},null,null,{"$f":"SCORECARD!F286","v":0},{"$f":"SCORECARD!G286","v":-1E-3},{"$f":"SCORECARD!H286","v":-1E-3},{"$f":"IF(NOT(OR(F642>0,G642>0)),\"\",IF(HandicapPlay=\"x\",IF(F642>G642,10,-10),(IF((F642-G642>0),(VLOOKUP(OFFSET(H642,-3,0),(TABLE!WIN),(MATCH(E642,WINCOL,0)+1))),(VLOOKUP(OFFSET(H642,-3,0),(TABLE!LOSE),(MATCH(E642,LOSECOL,0)+1)))))))","v":""}]
[null,{"$f":"SCORECARD!C287","v":" Block 4 Player 3"},null,null,{"$f":"SCORECARD!F287","v":0},{"$f":"SCORECARD!G287","v":-1E-3},{"$f":"SCORECARD!H287","v":-1E-3},{"$f":"IF(NOT(OR(F643>0,G643>0)),\"\",IF(HandicapPlay=\"x\",IF(F643>G643,10,-10),(IF((F643-G643>0),(VLOOKUP(OFFSET(H643,-4,0),(TABLE!WIN),(MATCH(E643,WINCOL,0)+1))),(VLOOKUP(OFFSET(H643,-4,0),(TABLE!LOSE),(MATCH(E643,LOSECOL,0)+1)))))))","v":""}]
[null,{"$f":"SCORECARD!C288","v":" Block 4 Player 4"},null,null,{"$f":"SCORECARD!F288","v":0},{"$f":"SCORECARD!G288","v":-1E-3},{"$f":"SCORECARD!H288","v":-1E-3},{"$f":"IF(NOT(OR(F644>0,G644>0)),\"\",IF(HandicapPlay=\"x\",IF(F644>G644,10,-10),(IF((F644-G644>0),(VLOOKUP(OFFSET(H644,-5,0),(TABLE!WIN),(MATCH(E644,WINCOL,0)+1))),(VLOOKUP(OFFSET(H644,-5,0),(TABLE!LOSE),(MATCH(E644,LOSECOL,0)+1)))))))","v":""}]
[null,{"$f":"SCORECARD!C289","v":" "},null,null,{"$f":"SCORECARD!F289","v":" "},{"$f":"SCORECARD!G289","v":0},{"$f":"SCORECARD!H289","v":0},{"$f":"IF(NOT(OR(F645>0,G645>0)),\"\",(IF((F645-G645>0),(VLOOKUP(H639,(TABLE!WIN),((E645+5)*2+2))),(VLOOKUP(H639,(TABLE!LOSE),((E645+5)*2+2))))))","v":""}]
[null,{"$f":"SCORECARD!C290","v":" "},null,null,{"$f":"SCORECARD!F290","v":" "},{"$f":"SCORECARD!G290","v":0},{"$f":"SCORECARD!H290","v":0},{"$f":"IF(NOT(OR(F646>0,G646>0)),\"\",(IF((F646-G646>0),(VLOOKUP(H639,(TABLE!WIN),((E646+5)*2+2))),(VLOOKUP(H639,(TABLE!LOSE),((E646+5)*2+2))))))","v":""}]
[null,{"$f":"SCORECARD!C291","v":" "},null,null,{"$f":"SCORECARD!F291","v":" "},{"$f":"SCORECARD!G291","v":0},{"$f":"SCORECARD!H291","v":0},{"$f":"IF(NOT(OR(F647>0,G647>0)),\"\",(IF((F647-G647>0),(VLOOKUP(H639,(TABLE!WIN),((E647+5)*2+2))),(VLOOKUP(H639,(TABLE!LOSE),((E647+5)*2+2))))))","v":""}]
[null,{"$f":"SCORECARD!C292","v":" "},null,null,{"$f":"SCORECARD!F292","v":" "},{"$f":"SCORECARD!G292","v":0},{"$f":"SCORECARD!H292","v":0},{"$f":"IF(NOT(OR(F648>0,G648>0)),\"\",(IF((F648-G648>0),(VLOOKUP(H639,(TABLE!WIN),((E648+5)*2+2))),(VLOOKUP(H639,(TABLE!LOSE),((E648+5)*2+2))))))","v":""}]
[null,{"$f":"SCORECARD!C293","v":" "},null,null,{"$f":"SCORECARD!F293","v":" "},{"$f":"SCORECARD!G293","v":0},{"$f":"SCORECARD!H293","v":0},{"$f":"IF(NOT(OR(F649>0,G649>0)),\"\",(IF((F649-G649>0),(VLOOKUP(H639,(TABLE!WIN),((E649+5)*2+2))),(VLOOKUP(H639,(TABLE!LOSE),((E649+5)*2+2))))))","v":""}]
[null,{"$f":"SCORECARD!C294","v":" "},null,null,{"$f":"SCORECARD!F294","v":" "},{"$f":"SCORECARD!G294","v":0},{"$f":"SCORECARD!H294","v":0},{"$f":"IF(NOT(OR(F650>0,G650>0)),\"\",(IF((F650-G650>0),(VLOOKUP(H639,(TABLE!WIN),((E650+5)*2+2))),(VLOOKUP(H639,(TABLE!LOSE),((E650+5)*2+2))))))","v":""}]
[null,{"$f":"SCORECARD!C295","v":" "},null,null,{"$f":"SCORECARD!F295","v":" "},{"$f":"SCORECARD!G295","v":0},{"$f":"SCORECARD!H295","v":0},{"$f":"IF(NOT(OR(F651>0,G651>0)),\"\",(IF((F651-G651>0),(VLOOKUP(H639,(TABLE!WIN),((E651+5)*2+2))),(VLOOKUP(H639,(TABLE!LOSE),((E651+5)*2+2))))))","v":""}]
[null,{"$f":"SCORECARD!C296","v":" "},null,null,{"$f":"SCORECARD!F296","v":" "},{"$f":"SCORECARD!G296","v":0},{"$f":"SCORECARD!H296","v":0},{"$f":"IF(NOT(OR(F652>0,G652>0)),\"\",(IF((F652-G652>0),(VLOOKUP(H639,(TABLE!WIN),((E652+5)*2+2))),(VLOOKUP(H639,(TABLE!LOSE),((E652+5)*2+2))))))","v":""}]
[null,{"$f":"SCORECARD!C297","v":" "},null,null,{"$f":"SCORECARD!F297","v":" "},{"$f":"SCORECARD!G297","v":0},{"$f":"SCORECARD!H297","v":0},{"$f":"IF(NOT(OR(F653>0,G653>0)),\"\",(IF((F653-G653>0),(VLOOKUP(H639,(TABLE!WIN),((E653+5)*2+2))),(VLOOKUP(H639,(TABLE!LOSE),((E653+5)*2+2))))))","v":""}]
[null,{"$f":"SCORECARD!C298","v":" "},null,null,{"$f":"SCORECARD!F298","v":" "},{"$f":"SCORECARD!G298","v":0},{"$f":"SCORECARD!H298","v":0},{"$f":"IF(NOT(OR(F654>0,G654>0)),\"\",(IF((F654-G654>0),(VLOOKUP(H639,(TABLE!WIN),((E654+5)*2+2))),(VLOOKUP(H639,(TABLE!LOSE),((E654+5)*2+2))))))","v":""}]
[null,{"$f":"SCORECARD!C299","v":" "},null,null,{"$f":"SCORECARD!F299","v":" "},{"$f":"SCORECARD!G299","v":0},{"$f":"SCORECARD!H299","v":0},{"$f":"IF(NOT(OR(F655>0,G655>0)),\"\",(IF((F655-G655>0),(VLOOKUP(H639,(TABLE!WIN),((E655+5)*2+2))),(VLOOKUP(H639,(TABLE!LOSE),((E655+5)*2+2))))))","v":""}]
[]
[null,null,null,null,null,null,"Handicap adjustment points total   ",{"$f":"SUM(H642:H655)","v":0}]
[]
[]
[]
[]
[]
[]
[]
[]
[]
[]
[]
[]
[{"$f":"note1","v":"Time limit 2.5 hours, Turn After Bell (61.1.6). Quadway hoops (3 11/16\"), Dawson International balls"}]
[{"$f":"note2","v":"Games may start early. Please be at the venue at least 30 minutes earlier than the scheduled start time."}]
[{"$f":"note3","v":"Entry Fee $40 will be invoiced by email. Please pay by EFT using the invoice No. as reference."}]
[{"$f":"note4","v":"Players please assist with setting and clearing courts."}]
[null,null,null,null,{"$f":"BLOCK!I65","v":" Block 4 Player 3"}]
[null,null,null,null,{"$f":"BLOCK!J61","v":"TOURNAMENT"}]
[null,null,null,null,{"$f":"BLOCK!G62","v":"DATE"}]
[null,null,null,null,{"$f":"BLOCK!B65","v":"BLOCK 4"}]
[]
[null,null,null,null,"BLOCK PLAY SCHEDULE"]
[null,"DAY","TIME",null,"COURT","OPPONENT",null,"HANDICAP","PS","OS"]
[null,{"$f":"GAMES!C28","v":"00:00:00"},{"$f":"GAMES!B28","v":"00:00:00"},null,{"$f":"GAMES!D28","v":0},{"$f":"GAMES!E28","v":" Block 4 Player 2"},null,{"$f":"$E$691","v":0},{"$f":"$F$691","v":-1E-3},{"$f":"$G$691","v":-1E-3}]
[null,{"$f":"GAMES!C29","v":"00:00:00"},{"$f":"GAMES!B29","v":"00:00:00"},null,{"$f":"GAMES!D29","v":0},{"$f":"GAMES!G29","v":" Block 4 Player 1"},null,{"$f":"$E$690","v":0},{"$f":"$F$690","v":-1E-3},{"$f":"$G$690","v":-1E-3}]
[null,{"$f":"GAMES!C32","v":"00:00:00"},{"$f":"GAMES!B32","v":"00:00:00"},null,{"$f":"GAMES!D32","v":0},{"$f":"GAMES!G32","v":" Block 4 Player 4"},null,{"$f":"$E$692","v":0},{"$f":"$F$692","v":-1E-3},{"$f":"$G$692","v":-1E-3}]
[]
[]
[]
[null,"PLAYER:",{"$f":"BLOCK!I65","v":" Block 4 Player 3"},null,null,null,"HANDICAP",{"$f":"BLOCK!B74","v":0}]
[null,null,null,null,"OPP","PLAYER","OPP","H/CAP"]
[null,null,"OPPONENT",null,"HCP","SCORE","SCORE","POINTS"]
[null,{"$f":"SCORECARD!C310","v":" Block 4 Player 1"},null,null,{"$f":"SCORECARD!F310","v":0},{"$f":"SCORECARD!G310","v":-1E-3},{"$f":"SCORECARD!H310","v":-1E-3},{"$f":"IF(NOT(OR(F690>0,G690>0)),\"\",IF(HandicapPlay=\"x\",IF(F690>G690,10,-10),(IF((F690-G690>0),(VLOOKUP(OFFSET(H690,-3,0),(TABLE!WIN),(MATCH(E690,WINCOL,0)+1))),(VLOOKUP(OFFSET(H690,-3,0),(TABLE!LOSE),(MATCH(E690,LOSECOL,0)+1)))))))","v":""}]
[null,{"$f":"SCORECARD!C311","v":" Block 4 Player 2"},null,null,{"$f":"SCORECARD!F311","v":0},{"$f":"SCORECARD!G311","v":-1E-3},{"$f":"SCORECARD!H311","v":-1E-3},{"$f":"IF(NOT(OR(F691>0,G691>0)),\"\",IF(HandicapPlay=\"x\",IF(F691>G691,10,-10),(IF((F691-G691>0),(VLOOKUP(OFFSET(H691,-4,0),(TABLE!WIN),(MATCH(E691,WINCOL,0)+1))),(VLOOKUP(OFFSET(H691,-4,0),(TABLE!LOSE),(MATCH(E691,LOSECOL,0)+1)))))))","v":""}]
[null,{"$f":"SCORECARD!C312","v":" Block 4 Player 4"},null,null,{"$f":"SCORECARD!F312","v":0},{"$f":"SCORECARD!G312","v":-1E-3},{"$f":"SCORECARD!H312","v":-1E-3},{"$f":"IF(NOT(OR(F692>0,G692>0)),\"\",IF(HandicapPlay=\"x\",IF(F692>G692,10,-10),(IF((F692-G692>0),(VLOOKUP(OFFSET(H692,-5,0),(TABLE!WIN),(MATCH(E692,WINCOL,0)+1))),(VLOOKUP(OFFSET(H692,-5,0),(TABLE!LOSE),(MATCH(E692,LOSECOL,0)+1)))))))","v":""}]
[null,{"$f":"SCORECARD!C313","v":" "},null,null,{"$f":"SCORECARD!F313","v":" "},{"$f":"SCORECARD!G313","v":0},{"$f":"SCORECARD!H313","v":0},{"$f":"IF(NOT(OR(F693>0,G693>0)),\"\",(IF((F693-G693>0),(VLOOKUP(H687,(TABLE!WIN),((E693+5)*2+2))),(VLOOKUP(H687,(TABLE!LOSE),((E693+5)*2+2))))))","v":""}]
[null,{"$f":"SCORECARD!C314","v":" "},null,null,{"$f":"SCORECARD!F314","v":" "},{"$f":"SCORECARD!G314","v":0},{"$f":"SCORECARD!H314","v":0},{"$f":"IF(NOT(OR(F694>0,G694>0)),\"\",(IF((F694-G694>0),(VLOOKUP(H687,(TABLE!WIN),((E694+5)*2+2))),(VLOOKUP(H687,(TABLE!LOSE),((E694+5)*2+2))))))","v":""}]
[null,{"$f":"SCORECARD!C315","v":" "},null,null,{"$f":"SCORECARD!F315","v":" "},{"$f":"SCORECARD!G315","v":0},{"$f":"SCORECARD!H315","v":0},{"$f":"IF(NOT(OR(F695>0,G695>0)),\"\",(IF((F695-G695>0),(VLOOKUP(H687,(TABLE!WIN),((E695+5)*2+2))),(VLOOKUP(H687,(TABLE!LOSE),((E695+5)*2+2))))))","v":""}]
[null,{"$f":"SCORECARD!C316","v":" "},null,null,{"$f":"SCORECARD!F316","v":" "},{"$f":"SCORECARD!G316","v":0},{"$f":"SCORECARD!H316","v":0},{"$f":"IF(NOT(OR(F696>0,G696>0)),\"\",(IF((F696-G696>0),(VLOOKUP(H687,(TABLE!WIN),((E696+5)*2+2))),(VLOOKUP(H687,(TABLE!LOSE),((E696+5)*2+2))))))","v":""}]
[null,{"$f":"SCORECARD!C317","v":" "},null,null,{"$f":"SCORECARD!F317","v":" "},{"$f":"SCORECARD!G317","v":0},{"$f":"SCORECARD!H317","v":0},{"$f":"IF(NOT(OR(F697>0,G697>0)),\"\",(IF((F697-G697>0),(VLOOKUP(H687,(TABLE!WIN),((E697+5)*2+2))),(VLOOKUP(H687,(TABLE!LOSE),((E697+5)*2+2))))))","v":""}]
[null,{"$f":"SCORECARD!C318","v":" "},null,null,{"$f":"SCORECARD!F318","v":" "},{"$f":"SCORECARD!G318","v":0},{"$f":"SCORECARD!H318","v":0},{"$f":"IF(NOT(OR(F698>0,G698>0)),\"\",(IF((F698-G698>0),(VLOOKUP(H687,(TABLE!WIN),((E698+5)*2+2))),(VLOOKUP(H687,(TABLE!LOSE),((E698+5)*2+2))))))","v":""}]
[null,{"$f":"SCORECARD!C319","v":" "},null,null,{"$f":"SCORECARD!F319","v":" "},{"$f":"SCORECARD!G319","v":0},{"$f":"SCORECARD!H319","v":0},{"$f":"IF(NOT(OR(F699>0,G699>0)),\"\",(IF((F699-G699>0),(VLOOKUP(H687,(TABLE!WIN),((E699+5)*2+2))),(VLOOKUP(H687,(TABLE!LOSE),((E699+5)*2+2))))))","v":""}]
[null,{"$f":"SCORECARD!C320","v":" "},null,null,{"$f":"SCORECARD!F320","v":" "},{"$f":"SCORECARD!G320","v":0},{"$f":"SCORECARD!H320","v":0},{"$f":"IF(NOT(OR(F700>0,G700>0)),\"\",(IF((F700-G700>0),(VLOOKUP(H687,(TABLE!WIN),((E700+5)*2+2))),(VLOOKUP(H687,(TABLE!LOSE),((E700+5)*2+2))))))","v":""}]
[null,{"$f":"SCORECARD!C321","v":" "},null,null,{"$f":"SCORECARD!F321","v":" "},{"$f":"SCORECARD!G321","v":0},{"$f":"SCORECARD!H321","v":0},{"$f":"IF(NOT(OR(F701>0,G701>0)),\"\",(IF((F701-G701>0),(VLOOKUP(H687,(TABLE!WIN),((E701+5)*2+2))),(VLOOKUP(H687,(TABLE!LOSE),((E701+5)*2+2))))))","v":""}]
[null,{"$f":"SCORECARD!C322","v":" "},null,null,{"$f":"SCORECARD!F322","v":" "},{"$f":"SCORECARD!G322","v":0},{"$f":"SCORECARD!H322","v":0},{"$f":"IF(NOT(OR(F702>0,G702>0)),\"\",(IF((F702-G702>0),(VLOOKUP(H687,(TABLE!WIN),((E702+5)*2+2))),(VLOOKUP(H687,(TABLE!LOSE),((E702+5)*2+2))))))","v":""}]
[null,{"$f":"SCORECARD!C323","v":" "},null,null,{"$f":"SCORECARD!F323","v":" "},{"$f":"SCORECARD!G323","v":0},{"$f":"SCORECARD!H323","v":0},{"$f":"IF(NOT(OR(F703>0,G703>0)),\"\",(IF((F703-G703>0),(VLOOKUP(H687,(TABLE!WIN),((E703+5)*2+2))),(VLOOKUP(H687,(TABLE!LOSE),((E703+5)*2+2))))))","v":""}]
[]
[null,null,null,null,null,null,"Handicap adjustment points total   ",{"$f":"SUM(H690:H703)","v":0}]
[]
[]
[]
[]
[]
[]
[]
[]
[]
[]
[]
[]
[{"$f":"note1","v":"Time limit 2.5 hours, Turn After Bell (61.1.6). Quadway hoops (3 11/16\"), Dawson International balls"}]
[{"$f":"note2","v":"Games may start early. Please be at the venue at least 30 minutes earlier than the scheduled start time."}]
[{"$f":"note3","v":"Entry Fee $40 will be invoiced by email. Please pay by EFT using the invoice No. as reference."}]
[{"$f":"note4","v":"Players please assist with setting and clearing courts."}]
[null,null,null,null,{"$f":"BLOCK!L65","v":" Block 4 Player 4"}]
[null,null,null,null,{"$f":"BLOCK!J61","v":"TOURNAMENT"}]
[null,null,null,null,{"$f":"BLOCK!G62","v":"DATE"}]
[null,null,null,null,{"$f":"BLOCK!B65","v":"BLOCK 4"}]
[]
[null,null,null,null,"BLOCK PLAY SCHEDULE"]
[null,"DAY","TIME",null,"COURT","OPPONENT",null,"HANDICAP","PS","OS"]
[null,{"$f":"GAMES!C27","v":"00:00:00"},{"$f":"GAMES!B27","v":"00:00:00"},null,{"$f":"GAMES!D27","v":0},{"$f":"GAMES!E27","v":" Block 4 Player 1"},null,{"$f":"$E$738","v":0},{"$f":"$F$738","v":-1E-3},{"$f":"$G$738","v":-1E-3}]
[null,{"$f":"GAMES!C30","v":"00:00:00"},{"$f":"GAMES!B30","v":"00:00:00"},null,{"$f":"GAMES!D30","v":0},{"$f":"GAMES!G30","v":" Block 4 Player 2"},null,{"$f":"$E$739","v":0},{"$f":"$F$739","v":-1E-3},{"$f":"$G$739","v":-1E-3}]
[null,{"$f":"GAMES!C32","v":"00:00:00"},{"$f":"GAMES!B32","v":"00:00:00"},null,{"$f":"GAMES!D32","v":0},{"$f":"GAMES!E32","v":" Block 4 Player 3"},null,{"$f":"$E$740","v":0},{"$f":"$F$740","v":-1E-3},{"$f":"$G$740","v":-1E-3}]
[]
[]
[]
[null,"PLAYER:",{"$f":"BLOCK!L65","v":" Block 4 Player 4"},null,null,null,"HANDICAP",{"$f":"BLOCK!B77","v":0}]
[null,null,null,null,"OPP","PLAYER","OPP","H/CAP"]
[null,null,"OPPONENT",null,"HCP","SCORE","SCORE","POINTS"]
[null,{"$f":"SCORECARD!C329","v":" Block 4 Player 1"},null,null,{"$f":"SCORECARD!F329","v":0},{"$f":"SCORECARD!G329","v":-1E-3},{"$f":"SCORECARD!H329","v":-1E-3},{"$f":"IF(NOT(OR(F738>0,G738>0)),\"\",IF(HandicapPlay=\"x\",IF(F738>G738,10,-10),(IF((F738-G738>0),(VLOOKUP(OFFSET(H738,-3,0),(TABLE!WIN),(MATCH(E738,WINCOL,0)+1))),(VLOOKUP(OFFSET(H738,-3,0),(TABLE!LOSE),(MATCH(E738,LOSECOL,0)+1)))))))","v":""}]
[null,{"$f":"SCORECARD!C330","v":" Block 4 Player 2"},null,null,{"$f":"SCORECARD!F330","v":0},{"$f":"SCORECARD!G330","v":-1E-3},{"$f":"SCORECARD!H330","v":-1E-3},{"$f":"IF(NOT(OR(F739>0,G739>0)),\"\",IF(HandicapPlay=\"x\",IF(F739>G739,10,-10),(IF((F739-G739>0),(VLOOKUP(OFFSET(H739,-4,0),(TABLE!WIN),(MATCH(E739,WINCOL,0)+1))),(VLOOKUP(OFFSET(H739,-4,0),(TABLE!LOSE),(MATCH(E739,LOSECOL,0)+1)))))))","v":""}]
[null,{"$f":"SCORECARD!C331","v":" Block 4 Player 3"},null,null,{"$f":"SCORECARD!F331","v":0},{"$f":"SCORECARD!G331","v":-1E-3},{"$f":"SCORECARD!H331","v":-1E-3},{"$f":"IF(NOT(OR(F740>0,G740>0)),\"\",IF(HandicapPlay=\"x\",IF(F740>G740,10,-10),(IF((F740-G740>0),(VLOOKUP(OFFSET(H740,-5,0),(TABLE!WIN),(MATCH(E740,WINCOL,0)+1))),(VLOOKUP(OFFSET(H740,-5,0),(TABLE!LOSE),(MATCH(E740,LOSECOL,0)+1)))))))","v":""}]
[null,{"$f":"SCORECARD!C332","v":" "},null,null,{"$f":"SCORECARD!F332","v":" "},{"$f":"SCORECARD!G332","v":0},{"$f":"SCORECARD!H332","v":0},{"$f":"IF(NOT(OR(F741>0,G741>0)),\"\",(IF((F741-G741>0),(VLOOKUP(H735,(TABLE!WIN),((E741+5)*2+2))),(VLOOKUP(H735,(TABLE!LOSE),((E741+5)*2+2))))))","v":""}]
[null,{"$f":"SCORECARD!C333","v":" "},null,null,{"$f":"SCORECARD!F333","v":" "},{"$f":"SCORECARD!G333","v":0},{"$f":"SCORECARD!H333","v":0},{"$f":"IF(NOT(OR(F742>0,G742>0)),\"\",(IF((F742-G742>0),(VLOOKUP(H735,(TABLE!WIN),((E742+5)*2+2))),(VLOOKUP(H735,(TABLE!LOSE),((E742+5)*2+2))))))","v":""}]
[null,{"$f":"SCORECARD!C334","v":" "},null,null,{"$f":"SCORECARD!F334","v":" "},{"$f":"SCORECARD!G334","v":0},{"$f":"SCORECARD!H334","v":0},{"$f":"IF(NOT(OR(F743>0,G743>0)),\"\",(IF((F743-G743>0),(VLOOKUP(H735,(TABLE!WIN),((E743+5)*2+2))),(VLOOKUP(H735,(TABLE!LOSE),((E743+5)*2+2))))))","v":""}]
[null,{"$f":"SCORECARD!C335","v":" "},null,null,{"$f":"SCORECARD!F335","v":" "},{"$f":"SCORECARD!G335","v":0},{"$f":"SCORECARD!H335","v":0},{"$f":"IF(NOT(OR(F744>0,G744>0)),\"\",(IF((F744-G744>0),(VLOOKUP(H735,(TABLE!WIN),((E744+5)*2+2))),(VLOOKUP(H735,(TABLE!LOSE),((E744+5)*2+2))))))","v":""}]
[null,{"$f":"SCORECARD!C336","v":" "},null,null,{"$f":"SCORECARD!F336","v":" "},{"$f":"SCORECARD!G336","v":0},{"$f":"SCORECARD!H336","v":0},{"$f":"IF(NOT(OR(F745>0,G745>0)),\"\",(IF((F745-G745>0),(VLOOKUP(H735,(TABLE!WIN),((E745+5)*2+2))),(VLOOKUP(H735,(TABLE!LOSE),((E745+5)*2+2))))))","v":""}]
[null,{"$f":"SCORECARD!C337","v":" "},null,null,{"$f":"SCORECARD!F337","v":" "},{"$f":"SCORECARD!G337","v":0},{"$f":"SCORECARD!H337","v":0},{"$f":"IF(NOT(OR(F746>0,G746>0)),\"\",(IF((F746-G746>0),(VLOOKUP(H735,(TABLE!WIN),((E746+5)*2+2))),(VLOOKUP(H735,(TABLE!LOSE),((E746+5)*2+2))))))","v":""}]
[null,{"$f":"SCORECARD!C338","v":" "},null,null,{"$f":"SCORECARD!F338","v":" "},{"$f":"SCORECARD!G338","v":0},{"$f":"SCORECARD!H338","v":0},{"$f":"IF(NOT(OR(F747>0,G747>0)),\"\",(IF((F747-G747>0),(VLOOKUP(H735,(TABLE!WIN),((E747+5)*2+2))),(VLOOKUP(H735,(TABLE!LOSE),((E747+5)*2+2))))))","v":""}]
[null,{"$f":"SCORECARD!C339","v":" "},null,null,{"$f":"SCORECARD!F339","v":" "},{"$f":"SCORECARD!G339","v":0},{"$f":"SCORECARD!H339","v":0},{"$f":"IF(NOT(OR(F748>0,G748>0)),\"\",(IF((F748-G748>0),(VLOOKUP(H735,(TABLE!WIN),((E748+5)*2+2))),(VLOOKUP(H735,(TABLE!LOSE),((E748+5)*2+2))))))","v":""}]
[null,{"$f":"SCORECARD!C340","v":" "},null,null,{"$f":"SCORECARD!F340","v":" "},{"$f":"SCORECARD!G340","v":0},{"$f":"SCORECARD!H340","v":0},{"$f":"IF(NOT(OR(F749>0,G749>0)),\"\",(IF((F749-G749>0),(VLOOKUP(H735,(TABLE!WIN),((E749+5)*2+2))),(VLOOKUP(H735,(TABLE!LOSE),((E749+5)*2+2))))))","v":""}]
[null,{"$f":"SCORECARD!C341","v":" "},null,null,{"$f":"SCORECARD!F341","v":" "},{"$f":"SCORECARD!G341","v":0},{"$f":"SCORECARD!H341","v":0},{"$f":"IF(NOT(OR(F750>0,G750>0)),\"\",(IF((F750-G750>0),(VLOOKUP(H735,(TABLE!WIN),((E750+5)*2+2))),(VLOOKUP(H735,(TABLE!LOSE),((E750+5)*2+2))))))","v":""}]
[null,{"$f":"SCORECARD!C342","v":" "},null,null,{"$f":"SCORECARD!F342","v":" "},{"$f":"SCORECARD!G342","v":0},{"$f":"SCORECARD!H342","v":0},{"$f":"IF(NOT(OR(F751>0,G751>0)),\"\",(IF((F751-G751>0),(VLOOKUP(H735,(TABLE!WIN),((E751+5)*2+2))),(VLOOKUP(H735,(TABLE!LOSE),((E751+5)*2+2))))))","v":""}]
[]
[null,null,null,null,null,null,"Handicap adjustment points total   ",{"$f":"SUM(H738:H751)","v":0}]
[]
[]
[]
[]
[]
[]
[]
[]
[]
[]
[]
[]
[{"$f":"note1","v":"Time limit 2.5 hours, Turn After Bell (61.1.6). Quadway hoops (3 11/16\"), Dawson International balls"}]
[{"$f":"note2","v":"Games may start early. Please be at the venue at least 30 minutes earlier than the scheduled start time."}]
[{"$f":"note3","v":"Entry Fee $40 will be invoiced by email. Please pay by EFT using the invoice No. as reference."}]
[{"$f":"note4","v":"Players please assist with setting and clearing courts."}]
[null,null,null,null,{"$f":"BLOCK!C84","v":" Block 5 Player 1"}]
[null,null,null,null,{"$f":"BLOCK!J80","v":"TOURNAMENT"}]
[null,null,null,null,{"$f":"BLOCK!G81","v":"DATE"}]
[null,null,null,null,{"$f":"BLOCK!B84","v":"BLOCK 5"}]
[]
[null,null,null,null,"BLOCK PLAY SCHEDULE"]
[null,"DAY","TIME",null,"COURT","OPPONENT",null,"HANDICAP","PS","OS"]
[null,{"$f":"GAMES!C35","v":"00:00:00"},{"$f":"GAMES!B35","v":"00:00:00"},null,{"$f":"GAMES!D35","v":0},{"$f":"GAMES!G35","v":" Block 5 Player 4"},null,{"$f":"$E$788","v":0},{"$f":"$F$788","v":-1E-3},{"$f":"$G$788","v":-1E-3}]
[null,{"$f":"GAMES!C37","v":"00:00:00"},{"$f":"GAMES!B37","v":"00:00:00"},null,{"$f":"GAMES!D37","v":0},{"$f":"GAMES!E37","v":" Block 5 Player 3"},null,{"$f":"$E$787","v":0},{"$f":"$F$787","v":-1E-3},{"$f":"$G$787","v":-1E-3}]
[null,{"$f":"GAMES!C40","v":"00:00:00"},{"$f":"GAMES!B39","v":"00:00:00"},null,{"$f":"GAMES!D39","v":0},{"$f":"GAMES!E39","v":" Block 5 Player 2"},null,{"$f":"$E$786","v":0},{"$f":"$F$786","v":-1E-3},{"$f":"$G$786","v":-1E-3}]
[]
[]
[]
[null,"PLAYER:",{"$f":"BLOCK!C84","v":" Block 5 Player 1"},null,null,null,"HANDICAP",{"$f":"BLOCK!B87","v":0}]
[null,null,null,null,"OPP","PLAYER","OPP","H/CAP"]
[null,null,"OPPONENT",null,"HCP","SCORE","SCORE","POINTS"]
[null,{"$f":"SCORECARD!C353","v":" Block 5 Player 2"},null,null,{"$f":"SCORECARD!F353","v":0},{"$f":"SCORECARD!G353","v":-1E-3},{"$f":"SCORECARD!H353","v":-1E-3},{"$f":"IF(NOT(OR(F786>0,G786>0)),\"\",IF(HandicapPlay=\"x\",IF(F786>G786,10,-10),(IF((F786-G786>0),(VLOOKUP(OFFSET(H786,-3,0),(TABLE!WIN),(MATCH(E786,WINCOL,0)+1))),(VLOOKUP(OFFSET(H786,-3,0),(TABLE!LOSE),(MATCH(E786,LOSECOL,0)+1)))))))","v":""}]
[null,{"$f":"SCORECARD!C354","v":" Block 5 Player 3"},null,null,{"$f":"SCORECARD!F354","v":0},{"$f":"SCORECARD!G354","v":-1E-3},{"$f":"SCORECARD!H354","v":-1E-3},{"$f":"IF(NOT(OR(F787>0,G787>0)),\"\",IF(HandicapPlay=\"x\",IF(F787>G787,10,-10),(IF((F787-G787>0),(VLOOKUP(OFFSET(H787,-4,0),(TABLE!WIN),(MATCH(E787,WINCOL,0)+1))),(VLOOKUP(OFFSET(H787,-4,0),(TABLE!LOSE),(MATCH(E787,LOSECOL,0)+1)))))))","v":""}]
[null,{"$f":"SCORECARD!C355","v":" Block 5 Player 4"},null,null,{"$f":"SCORECARD!F355","v":0},{"$f":"SCORECARD!G355","v":-1E-3},{"$f":"SCORECARD!H355","v":-1E-3},{"$f":"IF(NOT(OR(F788>0,G788>0)),\"\",IF(HandicapPlay=\"x\",IF(F788>G788,10,-10),(IF((F788-G788>0),(VLOOKUP(OFFSET(H788,-5,0),(TABLE!WIN),(MATCH(E788,WINCOL,0)+1))),(VLOOKUP(OFFSET(H788,-5,0),(TABLE!LOSE),(MATCH(E788,LOSECOL,0)+1)))))))","v":""}]
[null,{"$f":"SCORECARD!C356","v":" "},null,null,{"$f":"SCORECARD!F356","v":" "},{"$f":"SCORECARD!G356","v":0},{"$f":"SCORECARD!H356","v":0},{"$f":"IF(NOT(OR(F789>0,G789>0)),\"\",(IF((F789-G789>0),(VLOOKUP(H783,(TABLE!WIN),((E789+5)*2+2))),(VLOOKUP(H783,(TABLE!LOSE),((E789+5)*2+2))))))","v":""}]
[null,{"$f":"SCORECARD!C357","v":" "},null,null,{"$f":"SCORECARD!F357","v":" "},{"$f":"SCORECARD!G357","v":0},{"$f":"SCORECARD!H357","v":0},{"$f":"IF(NOT(OR(F790>0,G790>0)),\"\",(IF((F790-G790>0),(VLOOKUP(H783,(TABLE!WIN),((E790+5)*2+2))),(VLOOKUP(H783,(TABLE!LOSE),((E790+5)*2+2))))))","v":""}]
[null,{"$f":"SCORECARD!C358","v":" "},null,null,{"$f":"SCORECARD!F358","v":" "},{"$f":"SCORECARD!G358","v":0},{"$f":"SCORECARD!H358","v":0},{"$f":"IF(NOT(OR(F791>0,G791>0)),\"\",(IF((F791-G791>0),(VLOOKUP(H783,(TABLE!WIN),((E791+5)*2+2))),(VLOOKUP(H783,(TABLE!LOSE),((E791+5)*2+2))))))","v":""}]
[null,{"$f":"SCORECARD!C359","v":" "},null,null,{"$f":"SCORECARD!F359","v":" "},{"$f":"SCORECARD!G359","v":0},{"$f":"SCORECARD!H359","v":0},{"$f":"IF(NOT(OR(F792>0,G792>0)),\"\",(IF((F792-G792>0),(VLOOKUP(H783,(TABLE!WIN),((E792+5)*2+2))),(VLOOKUP(H783,(TABLE!LOSE),((E792+5)*2+2))))))","v":""}]
[null,{"$f":"SCORECARD!C360","v":" "},null,null,{"$f":"SCORECARD!F360","v":" "},{"$f":"SCORECARD!G360","v":0},{"$f":"SCORECARD!H360","v":0},{"$f":"IF(NOT(OR(F793>0,G793>0)),\"\",(IF((F793-G793>0),(VLOOKUP(H783,(TABLE!WIN),((E793+5)*2+2))),(VLOOKUP(H783,(TABLE!LOSE),((E793+5)*2+2))))))","v":""}]
[null,{"$f":"SCORECARD!C361","v":" "},null,null,{"$f":"SCORECARD!F361","v":" "},{"$f":"SCORECARD!G361","v":0},{"$f":"SCORECARD!H361","v":0},{"$f":"IF(NOT(OR(F794>0,G794>0)),\"\",(IF((F794-G794>0),(VLOOKUP(H783,(TABLE!WIN),((E794+5)*2+2))),(VLOOKUP(H783,(TABLE!LOSE),((E794+5)*2+2))))))","v":""}]
[null,{"$f":"SCORECARD!C362","v":" "},null,null,{"$f":"SCORECARD!F362","v":" "},{"$f":"SCORECARD!G362","v":0},{"$f":"SCORECARD!H362","v":0},{"$f":"IF(NOT(OR(F795>0,G795>0)),\"\",(IF((F795-G795>0),(VLOOKUP(H783,(TABLE!WIN),((E795+5)*2+2))),(VLOOKUP(H783,(TABLE!LOSE),((E795+5)*2+2))))))","v":""}]
[null,{"$f":"SCORECARD!C363","v":" "},null,null,{"$f":"SCORECARD!F363","v":" "},{"$f":"SCORECARD!G363","v":0},{"$f":"SCORECARD!H363","v":0},{"$f":"IF(NOT(OR(F796>0,G796>0)),\"\",(IF((F796-G796>0),(VLOOKUP(H783,(TABLE!WIN),((E796+5)*2+2))),(VLOOKUP(H783,(TABLE!LOSE),((E796+5)*2+2))))))","v":""}]
[null,{"$f":"SCORECARD!C364","v":" "},null,null,{"$f":"SCORECARD!F364","v":" "},{"$f":"SCORECARD!G364","v":0},{"$f":"SCORECARD!H364","v":0},{"$f":"IF(NOT(OR(F797>0,G797>0)),\"\",(IF((F797-G797>0),(VLOOKUP(H783,(TABLE!WIN),((E797+5)*2+2))),(VLOOKUP(H783,(TABLE!LOSE),((E797+5)*2+2))))))","v":""}]
[null,{"$f":"SCORECARD!C365","v":" "},null,null,{"$f":"SCORECARD!F365","v":" "},{"$f":"SCORECARD!G365","v":0},{"$f":"SCORECARD!H365","v":0},{"$f":"IF(NOT(OR(F798>0,G798>0)),\"\",(IF((F798-G798>0),(VLOOKUP(H783,(TABLE!WIN),((E798+5)*2+2))),(VLOOKUP(H783,(TABLE!LOSE),((E798+5)*2+2))))))","v":""}]
[null,{"$f":"SCORECARD!C366","v":" "},null,null,{"$f":"SCORECARD!F366","v":" "},{"$f":"SCORECARD!G366","v":0},{"$f":"SCORECARD!H366","v":0},{"$f":"IF(NOT(OR(F799>0,G799>0)),\"\",(IF((F799-G799>0),(VLOOKUP(H783,(TABLE!WIN),((E799+5)*2+2))),(VLOOKUP(H783,(TABLE!LOSE),((E799+5)*2+2))))))","v":""}]
[]
[null,null,null,null,null,null,"Handicap adjustment points total   ",{"$f":"SUM(H786:H799)","v":0}]
[]
[]
[]
[]
[]
[]
[]
[]
[]
[]
[]
[]
[{"$f":"note1","v":"Time limit 2.5 hours, Turn After Bell (61.1.6). Quadway hoops (3 11/16\"), Dawson International balls"}]
[{"$f":"note2","v":"Games may start early. Please be at the venue at least 30 minutes earlier than the scheduled start time."}]
[{"$f":"note3","v":"Entry Fee $40 will be invoiced by email. Please pay by EFT using the invoice No. as reference."}]
[{"$f":"note4","v":"Players please assist with setting and clearing courts."}]
[null,null,null,null,{"$f":"BLOCK!F84","v":" Block 5 Player 2"}]
[null,null,null,null,{"$f":"BLOCK!J80","v":"TOURNAMENT"}]
[null,null,null,null,{"$f":"BLOCK!G81","v":"DATE"}]
[null,null,null,null,{"$f":"BLOCK!B84","v":"BLOCK 5"}]
[]
[null,null,null,null,"BLOCK PLAY SCHEDULE"]
[null,"DAY","TIME",null,"COURT","OPPONENT",null,"HANDICAP","PS","OS"]
[null,{"$f":"GAMES!C36","v":"00:00:00"},{"$f":"GAMES!B36","v":"00:00:00"},null,{"$f":"GAMES!D36","v":0},{"$f":"GAMES!G36","v":" Block 5 Player 3"},null,{"$f":"$E$835","v":0},{"$f":"$F$835","v":-1E-3},{"$f":"$G$835","v":-1E-3}]
[null,{"$f":"GAMES!C38","v":"00:00:00"},{"$f":"GAMES!B38","v":"00:00:00"},null,{"$f":"GAMES!D38","v":0},{"$f":"GAMES!E38","v":" Block 5 Player 4"},null,{"$f":"$E$836","v":0},{"$f":"$F$836","v":-1E-3},{"$f":"$G$836","v":-1E-3}]
[null,{"$f":"GAMES!C39","v":"00:00:00"},{"$f":"GAMES!B39","v":"00:00:00"},null,{"$f":"GAMES!D39","v":0},{"$f":"GAMES!G39","v":" Block 5 Player 1"},null,{"$f":"$E$834","v":0},{"$f":"$F$834","v":-1E-3},{"$f":"$G$834","v":-1E-3}]
[]
[]
[]
[null,"PLAYER:",{"$f":"BLOCK!F84","v":" Block 5 Player 2"},null,null,null,"HANDICAP",{"$f":"BLOCK!B90","v":0}]
[null,null,null,null,"OPP","PLAYER","OPP","H/CAP"]
[null,null,"OPPONENT",null,"HCP","SCORE","SCORE","POINTS"]
[null,{"$f":"SCORECARD!C372","v":" Block 5 Player 1"},null,null,{"$f":"SCORECARD!F372","v":0},{"$f":"SCORECARD!G372","v":-1E-3},{"$f":"SCORECARD!H372","v":-1E-3},{"$f":"IF(NOT(OR(F834>0,G834>0)),\"\",IF(HandicapPlay=\"x\",IF(F834>G834,10,-10),(IF((F834-G834>0),(VLOOKUP(OFFSET(H834,-3,0),(TABLE!WIN),(MATCH(E834,WINCOL,0)+1))),(VLOOKUP(OFFSET(H834,-3,0),(TABLE!LOSE),(MATCH(E834,LOSECOL,0)+1)))))))","v":""}]
[null,{"$f":"SCORECARD!C373","v":" Block 5 Player 3"},null,null,{"$f":"SCORECARD!F373","v":0},{"$f":"SCORECARD!G373","v":-1E-3},{"$f":"SCORECARD!H373","v":-1E-3},{"$f":"IF(NOT(OR(F835>0,G835>0)),\"\",IF(HandicapPlay=\"x\",IF(F835>G835,10,-10),(IF((F835-G835>0),(VLOOKUP(OFFSET(H835,-4,0),(TABLE!WIN),(MATCH(E835,WINCOL,0)+1))),(VLOOKUP(OFFSET(H835,-4,0),(TABLE!LOSE),(MATCH(E835,LOSECOL,0)+1)))))))","v":""}]
[null,{"$f":"SCORECARD!C374","v":" Block 5 Player 4"},null,null,{"$f":"SCORECARD!F374","v":0},{"$f":"SCORECARD!G374","v":-1E-3},{"$f":"SCORECARD!H374","v":-1E-3},{"$f":"IF(NOT(OR(F836>0,G836>0)),\"\",IF(HandicapPlay=\"x\",IF(F836>G836,10,-10),(IF((F836-G836>0),(VLOOKUP(OFFSET(H836,-5,0),(TABLE!WIN),(MATCH(E836,WINCOL,0)+1))),(VLOOKUP(OFFSET(H836,-5,0),(TABLE!LOSE),(MATCH(E836,LOSECOL,0)+1)))))))","v":""}]
[null,{"$f":"SCORECARD!C375","v":" "},null,null,{"$f":"SCORECARD!F375","v":" "},{"$f":"SCORECARD!G375","v":0},{"$f":"SCORECARD!H375","v":0},{"$f":"IF(NOT(OR(F837>0,G837>0)),\"\",(IF((F837-G837>0),(VLOOKUP(H831,(TABLE!WIN),((E837+5)*2+2))),(VLOOKUP(H831,(TABLE!LOSE),((E837+5)*2+2))))))","v":""}]
[null,{"$f":"SCORECARD!C376","v":" "},null,null,{"$f":"SCORECARD!F376","v":" "},{"$f":"SCORECARD!G376","v":0},{"$f":"SCORECARD!H376","v":0},{"$f":"IF(NOT(OR(F838>0,G838>0)),\"\",(IF((F838-G838>0),(VLOOKUP(H831,(TABLE!WIN),((E838+5)*2+2))),(VLOOKUP(H831,(TABLE!LOSE),((E838+5)*2+2))))))","v":""}]
[null,{"$f":"SCORECARD!C377","v":" "},null,null,{"$f":"SCORECARD!F377","v":" "},{"$f":"SCORECARD!G377","v":0},{"$f":"SCORECARD!H377","v":0},{"$f":"IF(NOT(OR(F839>0,G839>0)),\"\",(IF((F839-G839>0),(VLOOKUP(H831,(TABLE!WIN),((E839+5)*2+2))),(VLOOKUP(H831,(TABLE!LOSE),((E839+5)*2+2))))))","v":""}]
[null,{"$f":"SCORECARD!C378","v":" "},null,null,{"$f":"SCORECARD!F378","v":" "},{"$f":"SCORECARD!G378","v":0},{"$f":"SCORECARD!H378","v":0},{"$f":"IF(NOT(OR(F840>0,G840>0)),\"\",(IF((F840-G840>0),(VLOOKUP(H831,(TABLE!WIN),((E840+5)*2+2))),(VLOOKUP(H831,(TABLE!LOSE),((E840+5)*2+2))))))","v":""}]
[null,{"$f":"SCORECARD!C379","v":" "},null,null,{"$f":"SCORECARD!F379","v":" "},{"$f":"SCORECARD!G379","v":0},{"$f":"SCORECARD!H379","v":0},{"$f":"IF(NOT(OR(F841>0,G841>0)),\"\",(IF((F841-G841>0),(VLOOKUP(H831,(TABLE!WIN),((E841+5)*2+2))),(VLOOKUP(H831,(TABLE!LOSE),((E841+5)*2+2))))))","v":""}]
[null,{"$f":"SCORECARD!C380","v":" "},null,null,{"$f":"SCORECARD!F380","v":" "},{"$f":"SCORECARD!G380","v":0},{"$f":"SCORECARD!H380","v":0},{"$f":"IF(NOT(OR(F842>0,G842>0)),\"\",(IF((F842-G842>0),(VLOOKUP(H831,(TABLE!WIN),((E842+5)*2+2))),(VLOOKUP(H831,(TABLE!LOSE),((E842+5)*2+2))))))","v":""}]
[null,{"$f":"SCORECARD!C381","v":" "},null,null,{"$f":"SCORECARD!F381","v":" "},{"$f":"SCORECARD!G381","v":0},{"$f":"SCORECARD!H381","v":0},{"$f":"IF(NOT(OR(F843>0,G843>0)),\"\",(IF((F843-G843>0),(VLOOKUP(H831,(TABLE!WIN),((E843+5)*2+2))),(VLOOKUP(H831,(TABLE!LOSE),((E843+5)*2+2))))))","v":""}]
[null,{"$f":"SCORECARD!C382","v":" "},null,null,{"$f":"SCORECARD!F382","v":" "},{"$f":"SCORECARD!G382","v":0},{"$f":"SCORECARD!H382","v":0},{"$f":"IF(NOT(OR(F844>0,G844>0)),\"\",(IF((F844-G844>0),(VLOOKUP(H831,(TABLE!WIN),((E844+5)*2+2))),(VLOOKUP(H831,(TABLE!LOSE),((E844+5)*2+2))))))","v":""}]
[null,{"$f":"SCORECARD!C383","v":" "},null,null,{"$f":"SCORECARD!F383","v":" "},{"$f":"SCORECARD!G383","v":0},{"$f":"SCORECARD!H383","v":0},{"$f":"IF(NOT(OR(F845>0,G845>0)),\"\",(IF((F845-G845>0),(VLOOKUP(H831,(TABLE!WIN),((E845+5)*2+2))),(VLOOKUP(H831,(TABLE!LOSE),((E845+5)*2+2))))))","v":""}]
[null,{"$f":"SCORECARD!C384","v":" "},null,null,{"$f":"SCORECARD!F384","v":" "},{"$f":"SCORECARD!G384","v":0},{"$f":"SCORECARD!H384","v":0},{"$f":"IF(NOT(OR(F846>0,G846>0)),\"\",(IF((F846-G846>0),(VLOOKUP(H831,(TABLE!WIN),((E846+5)*2+2))),(VLOOKUP(H831,(TABLE!LOSE),((E846+5)*2+2))))))","v":""}]
[null,{"$f":"SCORECARD!C385","v":" "},null,null,{"$f":"SCORECARD!F385","v":" "},{"$f":"SCORECARD!G385","v":0},{"$f":"SCORECARD!H385","v":0},{"$f":"IF(NOT(OR(F847>0,G847>0)),\"\",(IF((F847-G847>0),(VLOOKUP(H831,(TABLE!WIN),((E847+5)*2+2))),(VLOOKUP(H831,(TABLE!LOSE),((E847+5)*2+2))))))","v":""}]
[]
[null,null,null,null,null,null,"Handicap adjustment points total   ",{"$f":"SUM(H834:H847)","v":0}]
[]
[]
[]
[]
[]
[]
[]
[]
[]
[]
[]
[]
[{"$f":"note1","v":"Time limit 2.5 hours, Turn After Bell (61.1.6). Quadway hoops (3 11/16\"), Dawson International balls"}]
[{"$f":"note2","v":"Games may start early. Please be at the venue at least 30 minutes earlier than the scheduled start time."}]
[{"$f":"note3","v":"Entry Fee $40 will be invoiced by email. Please pay by EFT using the invoice No. as reference."}]
[{"$f":"note4","v":"Players please assist with setting and clearing courts."}]
[null,null,null,null,{"$f":"BLOCK!I84","v":" Block 5 Player 3"}]
[null,null,null,null,{"$f":"BLOCK!J80","v":"TOURNAMENT"}]
[null,null,null,null,{"$f":"BLOCK!G81","v":"DATE"}]
[null,null,null,null,{"$f":"BLOCK!B84","v":"BLOCK 5"}]
[]
[null,null,null,null,"BLOCK PLAY SCHEDULE"]
[null,"DAY","TIME",null,"COURT","OPPONENT",null,"HANDICAP","PS","OS"]
[null,{"$f":"GAMES!C36","v":"00:00:00"},{"$f":"GAMES!B36","v":"00:00:00"},null,{"$f":"GAMES!D36","v":0},{"$f":"GAMES!E36","v":" Block 5 Player 2"},null,{"$f":"$E$883","v":0},{"$f":"$F$883","v":-1E-3},{"$f":"$G$883","v":-1E-3}]
[null,{"$f":"GAMES!C37","v":"00:00:00"},{"$f":"GAMES!B37","v":"00:00:00"},null,{"$f":"GAMES!D37","v":0},{"$f":"GAMES!G37","v":" Block 5 Player 1"},null,{"$f":"$E$882","v":0},{"$f":"$F$882","v":-1E-3},{"$f":"$G$882","v":-1E-3}]
[null,{"$f":"GAMES!C40","v":"00:00:00"},{"$f":"GAMES!B40","v":"00:00:00"},null,{"$f":"GAMES!D40","v":0},{"$f":"GAMES!G40","v":" Block 5 Player 4"},null,{"$f":"$E$884","v":0},{"$f":"$F$884","v":-1E-3},{"$f":"$G$884","v":-1E-3}]
[]
[]
[]
[null,"PLAYER:",{"$f":"BLOCK!I84","v":" Block 5 Player 3"},null,null,null,"HANDICAP",{"$f":"BLOCK!B93","v":0}]
[null,null,null,null,"OPP","PLAYER","OPP","H/CAP"]
[null,null,"OPPONENT",null,"HCP","SCORE","SCORE","POINTS"]
[null,{"$f":"SCORECARD!C396","v":" Block 5 Player 1"},null,null,{"$f":"SCORECARD!F396","v":0},{"$f":"SCORECARD!G396","v":-1E-3},{"$f":"SCORECARD!H396","v":-1E-3},{"$f":"IF(NOT(OR(F882>0,G882>0)),\"\",IF(HandicapPlay=\"x\",IF(F882>G882,10,-10),(IF((F882-G882>0),(VLOOKUP(OFFSET(H882,-3,0),(TABLE!WIN),(MATCH(E882,WINCOL,0)+1))),(VLOOKUP(OFFSET(H882,-3,0),(TABLE!LOSE),(MATCH(E882,LOSECOL,0)+1)))))))","v":""}]
[null,{"$f":"SCORECARD!C397","v":" Block 5 Player 2"},null,null,{"$f":"SCORECARD!F397","v":0},{"$f":"SCORECARD!G397","v":-1E-3},{"$f":"SCORECARD!H397","v":-1E-3},{"$f":"IF(NOT(OR(F883>0,G883>0)),\"\",IF(HandicapPlay=\"x\",IF(F883>G883,10,-10),(IF((F883-G883>0),(VLOOKUP(OFFSET(H883,-4,0),(TABLE!WIN),(MATCH(E883,WINCOL,0)+1))),(VLOOKUP(OFFSET(H883,-4,0),(TABLE!LOSE),(MATCH(E883,LOSECOL,0)+1)))))))","v":""}]
[null,{"$f":"SCORECARD!C398","v":" Block 5 Player 4"},null,null,{"$f":"SCORECARD!F398","v":0},{"$f":"SCORECARD!G398","v":-1E-3},{"$f":"SCORECARD!H398","v":-1E-3},{"$f":"IF(NOT(OR(F884>0,G884>0)),\"\",IF(HandicapPlay=\"x\",IF(F884>G884,10,-10),(IF((F884-G884>0),(VLOOKUP(OFFSET(H884,-5,0),(TABLE!WIN),(MATCH(E884,WINCOL,0)+1))),(VLOOKUP(OFFSET(H884,-5,0),(TABLE!LOSE),(MATCH(E884,LOSECOL,0)+1)))))))","v":""}]
[null,{"$f":"SCORECARD!C399","v":" "},null,null,{"$f":"SCORECARD!F399","v":" "},{"$f":"SCORECARD!G399","v":0},{"$f":"SCORECARD!H399","v":0},{"$f":"IF(NOT(OR(F885>0,G885>0)),\"\",(IF((F885-G885>0),(VLOOKUP(H879,(TABLE!WIN),((E885+5)*2+2))),(VLOOKUP(H879,(TABLE!LOSE),((E885+5)*2+2))))))","v":""}]
[null,{"$f":"SCORECARD!C400","v":" "},null,null,{"$f":"SCORECARD!F400","v":" "},{"$f":"SCORECARD!G400","v":0},{"$f":"SCORECARD!H400","v":0},{"$f":"IF(NOT(OR(F886>0,G886>0)),\"\",(IF((F886-G886>0),(VLOOKUP(H879,(TABLE!WIN),((E886+5)*2+2))),(VLOOKUP(H879,(TABLE!LOSE),((E886+5)*2+2))))))","v":""}]
[null,{"$f":"SCORECARD!C401","v":" "},null,null,{"$f":"SCORECARD!F401","v":" "},{"$f":"SCORECARD!G401","v":0},{"$f":"SCORECARD!H401","v":0},{"$f":"IF(NOT(OR(F887>0,G887>0)),\"\",(IF((F887-G887>0),(VLOOKUP(H879,(TABLE!WIN),((E887+5)*2+2))),(VLOOKUP(H879,(TABLE!LOSE),((E887+5)*2+2))))))","v":""}]
[null,{"$f":"SCORECARD!C402","v":" "},null,null,{"$f":"SCORECARD!F402","v":" "},{"$f":"SCORECARD!G402","v":0},{"$f":"SCORECARD!H402","v":0},{"$f":"IF(NOT(OR(F888>0,G888>0)),\"\",(IF((F888-G888>0),(VLOOKUP(H879,(TABLE!WIN),((E888+5)*2+2))),(VLOOKUP(H879,(TABLE!LOSE),((E888+5)*2+2))))))","v":""}]
[null,{"$f":"SCORECARD!C403","v":" "},null,null,{"$f":"SCORECARD!F403","v":" "},{"$f":"SCORECARD!G403","v":0},{"$f":"SCORECARD!H403","v":0},{"$f":"IF(NOT(OR(F889>0,G889>0)),\"\",(IF((F889-G889>0),(VLOOKUP(H879,(TABLE!WIN),((E889+5)*2+2))),(VLOOKUP(H879,(TABLE!LOSE),((E889+5)*2+2))))))","v":""}]
[null,{"$f":"SCORECARD!C404","v":" "},null,null,{"$f":"SCORECARD!F404","v":" "},{"$f":"SCORECARD!G404","v":0},{"$f":"SCORECARD!H404","v":0},{"$f":"IF(NOT(OR(F890>0,G890>0)),\"\",(IF((F890-G890>0),(VLOOKUP(H879,(TABLE!WIN),((E890+5)*2+2))),(VLOOKUP(H879,(TABLE!LOSE),((E890+5)*2+2))))))","v":""}]
[null,{"$f":"SCORECARD!C405","v":" "},null,null,{"$f":"SCORECARD!F405","v":" "},{"$f":"SCORECARD!G405","v":0},{"$f":"SCORECARD!H405","v":0},{"$f":"IF(NOT(OR(F891>0,G891>0)),\"\",(IF((F891-G891>0),(VLOOKUP(H879,(TABLE!WIN),((E891+5)*2+2))),(VLOOKUP(H879,(TABLE!LOSE),((E891+5)*2+2))))))","v":""}]
[null,{"$f":"SCORECARD!C406","v":" "},null,null,{"$f":"SCORECARD!F406","v":" "},{"$f":"SCORECARD!G406","v":0},{"$f":"SCORECARD!H406","v":0},{"$f":"IF(NOT(OR(F892>0,G892>0)),\"\",(IF((F892-G892>0),(VLOOKUP(H879,(TABLE!WIN),((E892+5)*2+2))),(VLOOKUP(H879,(TABLE!LOSE),((E892+5)*2+2))))))","v":""}]
[null,{"$f":"SCORECARD!C407","v":" "},null,null,{"$f":"SCORECARD!F407","v":" "},{"$f":"SCORECARD!G407","v":0},{"$f":"SCORECARD!H407","v":0},{"$f":"IF(NOT(OR(F893>0,G893>0)),\"\",(IF((F893-G893>0),(VLOOKUP(H879,(TABLE!WIN),((E893+5)*2+2))),(VLOOKUP(H879,(TABLE!LOSE),((E893+5)*2+2))))))","v":""}]
[null,{"$f":"SCORECARD!C408","v":" "},null,null,{"$f":"SCORECARD!F408","v":" "},{"$f":"SCORECARD!G408","v":0},{"$f":"SCORECARD!H408","v":0},{"$f":"IF(NOT(OR(F894>0,G894>0)),\"\",(IF((F894-G894>0),(VLOOKUP(H879,(TABLE!WIN),((E894+5)*2+2))),(VLOOKUP(H879,(TABLE!LOSE),((E894+5)*2+2))))))","v":""}]
[null,{"$f":"SCORECARD!C409","v":" "},null,null,{"$f":"SCORECARD!F409","v":" "},{"$f":"SCORECARD!G409","v":0},{"$f":"SCORECARD!H409","v":0},{"$f":"IF(NOT(OR(F895>0,G895>0)),\"\",(IF((F895-G895>0),(VLOOKUP(H879,(TABLE!WIN),((E895+5)*2+2))),(VLOOKUP(H879,(TABLE!LOSE),((E895+5)*2+2))))))","v":""}]
[]
[null,null,null,null,null,null,"Handicap adjustment points total   ",{"$f":"SUM(H882:H895)","v":0}]
[]
[]
[]
[]
[]
[]
[]
[]
[]
[]
[]
[]
[{"$f":"note1","v":"Time limit 2.5 hours, Turn After Bell (61.1.6). Quadway hoops (3 11/16\"), Dawson International balls"}]
[{"$f":"note2","v":"Games may start early. Please be at the venue at least 30 minutes earlier than the scheduled start time."}]
[{"$f":"note3","v":"Entry Fee $40 will be invoiced by email. Please pay by EFT using the invoice No. as reference."}]
[{"$f":"note4","v":"Players please assist with setting and clearing courts."}]
[null,null,null,null,{"$f":"BLOCK!L84","v":" Block 5 Player 4"}]
[null,null,null,null,{"$f":"BLOCK!J80","v":"TOURNAMENT"}]
[null,null,null,null,{"$f":"BLOCK!G81","v":"DATE"}]
[null,null,null,null,{"$f":"BLOCK!B84","v":"BLOCK 5"}]
[]
[null,null,null,null,"BLOCK PLAY SCHEDULE"]
[null,"DAY","TIME",null,"COURT","OPPONENT",null,"HANDICAP","PS","OS"]
[null,{"$f":"GAMES!C35","v":"00:00:00"},{"$f":"GAMES!B35","v":"00:00:00"},null,{"$f":"GAMES!D35","v":0},{"$f":"GAMES!E35","v":" Block 5 Player 1"},null,{"$f":"$E$930","v":0},{"$f":"$F$930","v":-1E-3},{"$f":"$G$930","v":-1E-3}]
[null,{"$f":"GAMES!C38","v":"00:00:00"},{"$f":"GAMES!B38","v":"00:00:00"},null,{"$f":"GAMES!D38","v":0},{"$f":"GAMES!G38","v":" Block 5 Player 2"},null,{"$f":"$E$931","v":0},{"$f":"$F$931","v":-1E-3},{"$f":"$G$931","v":-1E-3}]
[null,{"$f":"GAMES!C40","v":"00:00:00"},{"$f":"GAMES!B40","v":"00:00:00"},null,{"$f":"GAMES!D40","v":0},{"$f":"GAMES!E40","v":" Block 5 Player 3"},null,{"$f":"$E$932","v":0},{"$f":"$F$932","v":-1E-3},{"$f":"$G$932","v":-1E-3}]
[]
[]
[]
[null,"PLAYER:",{"$f":"BLOCK!L84","v":" Block 5 Player 4"},null,null,null,"HANDICAP",{"$f":"BLOCK!B96","v":0}]
[null,null,null,null,"OPP","PLAYER","OPP","H/CAP"]
[null,null,"OPPONENT",null,"HCP","SCORE","SCORE","POINTS"]
[null,{"$f":"SCORECARD!C415","v":" Block 5 Player 1"},null,null,{"$f":"SCORECARD!F415","v":0},{"$f":"SCORECARD!G415","v":-1E-3},{"$f":"SCORECARD!H415","v":-1E-3},{"$f":"IF(NOT(OR(F930>0,G930>0)),\"\",IF(HandicapPlay=\"x\",IF(F930>G930,10,-10),(IF((F930-G930>0),(VLOOKUP(OFFSET(H930,-3,0),(TABLE!WIN),(MATCH(E930,WINCOL,0)+1))),(VLOOKUP(OFFSET(H930,-3,0),(TABLE!LOSE),(MATCH(E930,LOSECOL,0)+1)))))))","v":""}]
[null,{"$f":"SCORECARD!C416","v":" Block 5 Player 2"},null,null,{"$f":"SCORECARD!F416","v":0},{"$f":"SCORECARD!G416","v":-1E-3},{"$f":"SCORECARD!H416","v":-1E-3},{"$f":"IF(NOT(OR(F931>0,G931>0)),\"\",IF(HandicapPlay=\"x\",IF(F931>G931,10,-10),(IF((F931-G931>0),(VLOOKUP(OFFSET(H931,-4,0),(TABLE!WIN),(MATCH(E931,WINCOL,0)+1))),(VLOOKUP(OFFSET(H931,-4,0),(TABLE!LOSE),(MATCH(E931,LOSECOL,0)+1)))))))","v":""}]
[null,{"$f":"SCORECARD!C417","v":" Block 5 Player 3"},null,null,{"$f":"SCORECARD!F417","v":0},{"$f":"SCORECARD!G417","v":-1E-3},{"$f":"SCORECARD!H417","v":-1E-3},{"$f":"IF(NOT(OR(F932>0,G932>0)),\"\",IF(HandicapPlay=\"x\",IF(F932>G932,10,-10),(IF((F932-G932>0),(VLOOKUP(OFFSET(H932,-5,0),(TABLE!WIN),(MATCH(E932,WINCOL,0)+1))),(VLOOKUP(OFFSET(H932,-5,0),(TABLE!LOSE),(MATCH(E932,LOSECOL,0)+1)))))))","v":""}]
[null,{"$f":"SCORECARD!C418","v":" "},null,null,{"$f":"SCORECARD!F418","v":" "},{"$f":"SCORECARD!G418","v":0},{"$f":"SCORECARD!H418","v":0},{"$f":"IF(NOT(OR(F933>0,G933>0)),\"\",(IF((F933-G933>0),(VLOOKUP(H927,(TABLE!WIN),((E933+5)*2+2))),(VLOOKUP(H927,(TABLE!LOSE),((E933+5)*2+2))))))","v":""}]
[null,{"$f":"SCORECARD!C419","v":" "},null,null,{"$f":"SCORECARD!F419","v":" "},{"$f":"SCORECARD!G419","v":0},{"$f":"SCORECARD!H419","v":0},{"$f":"IF(NOT(OR(F934>0,G934>0)),\"\",(IF((F934-G934>0),(VLOOKUP(H927,(TABLE!WIN),((E934+5)*2+2))),(VLOOKUP(H927,(TABLE!LOSE),((E934+5)*2+2))))))","v":""}]
[null,{"$f":"SCORECARD!C420","v":" "},null,null,{"$f":"SCORECARD!F420","v":" "},{"$f":"SCORECARD!G420","v":0},{"$f":"SCORECARD!H420","v":0},{"$f":"IF(NOT(OR(F935>0,G935>0)),\"\",(IF((F935-G935>0),(VLOOKUP(H927,(TABLE!WIN),((E935+5)*2+2))),(VLOOKUP(H927,(TABLE!LOSE),((E935+5)*2+2))))))","v":""}]
[null,{"$f":"SCORECARD!C421","v":" "},null,null,{"$f":"SCORECARD!F421","v":" "},{"$f":"SCORECARD!G421","v":0},{"$f":"SCORECARD!H421","v":0},{"$f":"IF(NOT(OR(F936>0,G936>0)),\"\",(IF((F936-G936>0),(VLOOKUP(H927,(TABLE!WIN),((E936+5)*2+2))),(VLOOKUP(H927,(TABLE!LOSE),((E936+5)*2+2))))))","v":""}]
[null,{"$f":"SCORECARD!C422","v":" "},null,null,{"$f":"SCORECARD!F422","v":" "},{"$f":"SCORECARD!G422","v":0},{"$f":"SCORECARD!H422","v":0},{"$f":"IF(NOT(OR(F937>0,G937>0)),\"\",(IF((F937-G937>0),(VLOOKUP(H927,(TABLE!WIN),((E937+5)*2+2))),(VLOOKUP(H927,(TABLE!LOSE),((E937+5)*2+2))))))","v":""}]
[null,{"$f":"SCORECARD!C423","v":" "},null,null,{"$f":"SCORECARD!F423","v":" "},{"$f":"SCORECARD!G423","v":0},{"$f":"SCORECARD!H423","v":0},{"$f":"IF(NOT(OR(F938>0,G938>0)),\"\",(IF((F938-G938>0),(VLOOKUP(H927,(TABLE!WIN),((E938+5)*2+2))),(VLOOKUP(H927,(TABLE!LOSE),((E938+5)*2+2))))))","v":""}]
[null,{"$f":"SCORECARD!C424","v":" "},null,null,{"$f":"SCORECARD!F424","v":" "},{"$f":"SCORECARD!G424","v":0},{"$f":"SCORECARD!H424","v":0},{"$f":"IF(NOT(OR(F939>0,G939>0)),\"\",(IF((F939-G939>0),(VLOOKUP(H927,(TABLE!WIN),((E939+5)*2+2))),(VLOOKUP(H927,(TABLE!LOSE),((E939+5)*2+2))))))","v":""}]
[null,{"$f":"SCORECARD!C425","v":" "},null,null,{"$f":"SCORECARD!F425","v":" "},{"$f":"SCORECARD!G425","v":0},{"$f":"SCORECARD!H425","v":0},{"$f":"IF(NOT(OR(F940>0,G940>0)),\"\",(IF((F940-G940>0),(VLOOKUP(H927,(TABLE!WIN),((E940+5)*2+2))),(VLOOKUP(H927,(TABLE!LOSE),((E940+5)*2+2))))))","v":""}]
[null,{"$f":"SCORECARD!C426","v":" "},null,null,{"$f":"SCORECARD!F426","v":" "},{"$f":"SCORECARD!G426","v":0},{"$f":"SCORECARD!H426","v":0},{"$f":"IF(NOT(OR(F941>0,G941>0)),\"\",(IF((F941-G941>0),(VLOOKUP(H927,(TABLE!WIN),((E941+5)*2+2))),(VLOOKUP(H927,(TABLE!LOSE),((E941+5)*2+2))))))","v":""}]
[null,{"$f":"SCORECARD!C427","v":" "},null,null,{"$f":"SCORECARD!F427","v":" "},{"$f":"SCORECARD!G427","v":0},{"$f":"SCORECARD!H427","v":0},{"$f":"IF(NOT(OR(F942>0,G942>0)),\"\",(IF((F942-G942>0),(VLOOKUP(H927,(TABLE!WIN),((E942+5)*2+2))),(VLOOKUP(H927,(TABLE!LOSE),((E942+5)*2+2))))))","v":""}]
[null,{"$f":"SCORECARD!C428","v":" "},null,null,{"$f":"SCORECARD!F428","v":" "},{"$f":"SCORECARD!G428","v":0},{"$f":"SCORECARD!H428","v":0},{"$f":"IF(NOT(OR(F943>0,G943>0)),\"\",(IF((F943-G943>0),(VLOOKUP(H927,(TABLE!WIN),((E943+5)*2+2))),(VLOOKUP(H927,(TABLE!LOSE),((E943+5)*2+2))))))","v":""}]
[]
[null,null,null,null,null,null,"Handicap adjustment points total   ",{"$f":"SUM(H930:H943)","v":0}]
[]
[]
[]
[]
[]
[]
[]
[]
[]
[]
[]
[]
[{"$f":"note1","v":"Time limit 2.5 hours, Turn After Bell (61.1.6). Quadway hoops (3 11/16\"), Dawson International balls"}]
[{"$f":"note2","v":"Games may start early. Please be at the venue at least 30 minutes earlier than the scheduled start time."}]
[{"$f":"note3","v":"Entry Fee $40 will be invoiced by email. Please pay by EFT using the invoice No. as reference."}]
[{"$f":"note4","v":"Players please assist with setting and clearing courts."}]
[null,null,null,null,{"$f":"BLOCK!C103","v":" Block 6 Player 1"}]
[null,null,null,null,{"$f":"BLOCK!J99","v":"TOURNAMENT"}]
[null,null,null,null,{"$f":"BLOCK!G100","v":"DATE"}]
[null,null,null,null,{"$f":"BLOCK!B103","v":"BLOCK 6"}]
[]
[null,null,null,null,"BLOCK PLAY SCHEDULE"]
[null,"DAY","TIME",null,"COURT","OPPONENT",null,"HANDICAP","PS","OS"]
[null,{"$f":"GAMES!C43","v":"00:00:00"},{"$f":"GAMES!B43","v":"00:00:00"},null,{"$f":"GAMES!D43","v":0},{"$f":"GAMES!G43","v":" Block 6 Player 4"},null,{"$f":"$E$980","v":0},{"$f":"$F$980","v":-1E-3},{"$f":"$G$980","v":-1E-3}]
[null,{"$f":"GAMES!C45","v":"00:00:00"},{"$f":"GAMES!B45","v":"00:00:00"},null,{"$f":"GAMES!D45","v":0},{"$f":"GAMES!E45","v":" Block 6 Player 3"},null,{"$f":"$E$979","v":0},{"$f":"$F$979","v":-1E-3},{"$f":"$G$979","v":-1E-3}]
[null,{"$f":"GAMES!C47","v":"00:00:00"},{"$f":"GAMES!B47","v":"00:00:00"},null,{"$f":"GAMES!D47","v":0},{"$f":"GAMES!E47","v":" Block 6 Player 2"},null,{"$f":"$E$978","v":0},{"$f":"$F$978","v":-1E-3},{"$f":"$G$978","v":-1E-3}]
[]
[]
[]
[null,"PLAYER:",{"$f":"BLOCK!C103","v":" Block 6 Player 1"},null,null,null,"HANDICAP",{"$f":"BLOCK!B106","v":0}]
[null,null,null,null,"OPP","PLAYER","OPP","H/CAP"]
[null,null,"OPPONENT",null,"HCP","SCORE","SCORE","POINTS"]
[null,{"$f":"SCORECARD!C439","v":" Block 6 Player 2"},null,null,{"$f":"SCORECARD!F439","v":0},{"$f":"SCORECARD!G439","v":-1E-3},{"$f":"SCORECARD!H439","v":-1E-3},{"$f":"IF(NOT(OR(F978>0,G978>0)),\"\",IF(HandicapPlay=\"x\",IF(F978>G978,10,-10),(IF((F978-G978>0),(VLOOKUP(OFFSET(H978,-3,0),(TABLE!WIN),(MATCH(E978,WINCOL,0)+1))),(VLOOKUP(OFFSET(H978,-3,0),(TABLE!LOSE),(MATCH(E978,LOSECOL,0)+1)))))))","v":""}]
[null,{"$f":"SCORECARD!C440","v":" Block 6 Player 3"},null,null,{"$f":"SCORECARD!F440","v":0},{"$f":"SCORECARD!G440","v":-1E-3},{"$f":"SCORECARD!H440","v":-1E-3},{"$f":"IF(NOT(OR(F979>0,G979>0)),\"\",IF(HandicapPlay=\"x\",IF(F979>G979,10,-10),(IF((F979-G979>0),(VLOOKUP(OFFSET(H979,-4,0),(TABLE!WIN),(MATCH(E979,WINCOL,0)+1))),(VLOOKUP(OFFSET(H979,-4,0),(TABLE!LOSE),(MATCH(E979,LOSECOL,0)+1)))))))","v":""}]
[null,{"$f":"SCORECARD!C441","v":" Block 6 Player 4"},null,null,{"$f":"SCORECARD!F441","v":0},{"$f":"SCORECARD!G441","v":-1E-3},{"$f":"SCORECARD!H441","v":-1E-3},{"$f":"IF(NOT(OR(F980>0,G980>0)),\"\",IF(HandicapPlay=\"x\",IF(F980>G980,10,-10),(IF((F980-G980>0),(VLOOKUP(OFFSET(H980,-5,0),(TABLE!WIN),(MATCH(E980,WINCOL,0)+1))),(VLOOKUP(OFFSET(H980,-5,0),(TABLE!LOSE),(MATCH(E980,LOSECOL,0)+1)))))))","v":""}]
[null,{"$f":"SCORECARD!C442","v":" "},null,null,{"$f":"SCORECARD!F442","v":" "},{"$f":"SCORECARD!G442","v":0},{"$f":"SCORECARD!H442","v":0},{"$f":"IF(NOT(OR(F981>0,G981>0)),\"\",(IF((F981-G981>0),(VLOOKUP(H975,(TABLE!WIN),((E981+5)*2+2))),(VLOOKUP(H975,(TABLE!LOSE),((E981+5)*2+2))))))","v":""}]
[null,{"$f":"SCORECARD!C443","v":" "},null,null,{"$f":"SCORECARD!F443","v":" "},{"$f":"SCORECARD!G443","v":0},{"$f":"SCORECARD!H443","v":0},{"$f":"IF(NOT(OR(F982>0,G982>0)),\"\",(IF((F982-G982>0),(VLOOKUP(H975,(TABLE!WIN),((E982+5)*2+2))),(VLOOKUP(H975,(TABLE!LOSE),((E982+5)*2+2))))))","v":""}]
[null,{"$f":"SCORECARD!C444","v":" "},null,null,{"$f":"SCORECARD!F444","v":" "},{"$f":"SCORECARD!G444","v":0},{"$f":"SCORECARD!H444","v":0},{"$f":"IF(NOT(OR(F983>0,G983>0)),\"\",(IF((F983-G983>0),(VLOOKUP(H975,(TABLE!WIN),((E983+5)*2+2))),(VLOOKUP(H975,(TABLE!LOSE),((E983+5)*2+2))))))","v":""}]
[null,{"$f":"SCORECARD!C445","v":" "},null,null,{"$f":"SCORECARD!F445","v":" "},{"$f":"SCORECARD!G445","v":0},{"$f":"SCORECARD!H445","v":0},{"$f":"IF(NOT(OR(F984>0,G984>0)),\"\",(IF((F984-G984>0),(VLOOKUP(H975,(TABLE!WIN),((E984+5)*2+2))),(VLOOKUP(H975,(TABLE!LOSE),((E984+5)*2+2))))))","v":""}]
[null,{"$f":"SCORECARD!C446","v":" "},null,null,{"$f":"SCORECARD!F446","v":" "},{"$f":"SCORECARD!G446","v":0},{"$f":"SCORECARD!H446","v":0},{"$f":"IF(NOT(OR(F985>0,G985>0)),\"\",(IF((F985-G985>0),(VLOOKUP(H975,(TABLE!WIN),((E985+5)*2+2))),(VLOOKUP(H975,(TABLE!LOSE),((E985+5)*2+2))))))","v":""}]
[null,{"$f":"SCORECARD!C447","v":" "},null,null,{"$f":"SCORECARD!F447","v":" "},{"$f":"SCORECARD!G447","v":0},{"$f":"SCORECARD!H447","v":0},{"$f":"IF(NOT(OR(F986>0,G986>0)),\"\",(IF((F986-G986>0),(VLOOKUP(H975,(TABLE!WIN),((E986+5)*2+2))),(VLOOKUP(H975,(TABLE!LOSE),((E986+5)*2+2))))))","v":""}]
[null,{"$f":"SCORECARD!C448","v":" "},null,null,{"$f":"SCORECARD!F448","v":" "},{"$f":"SCORECARD!G448","v":0},{"$f":"SCORECARD!H448","v":0},{"$f":"IF(NOT(OR(F987>0,G987>0)),\"\",(IF((F987-G987>0),(VLOOKUP(H975,(TABLE!WIN),((E987+5)*2+2))),(VLOOKUP(H975,(TABLE!LOSE),((E987+5)*2+2))))))","v":""}]
[null,{"$f":"SCORECARD!C449","v":" "},null,null,{"$f":"SCORECARD!F449","v":" "},{"$f":"SCORECARD!G449","v":0},{"$f":"SCORECARD!H449","v":0},{"$f":"IF(NOT(OR(F988>0,G988>0)),\"\",(IF((F988-G988>0),(VLOOKUP(H975,(TABLE!WIN),((E988+5)*2+2))),(VLOOKUP(H975,(TABLE!LOSE),((E988+5)*2+2))))))","v":""}]
[null,{"$f":"SCORECARD!C450","v":" "},null,null,{"$f":"SCORECARD!F450","v":" "},{"$f":"SCORECARD!G450","v":0},{"$f":"SCORECARD!H450","v":0},{"$f":"IF(NOT(OR(F989>0,G989>0)),\"\",(IF((F989-G989>0),(VLOOKUP(H975,(TABLE!WIN),((E989+5)*2+2))),(VLOOKUP(H975,(TABLE!LOSE),((E989+5)*2+2))))))","v":""}]
[null,{"$f":"SCORECARD!C451","v":" "},null,null,{"$f":"SCORECARD!F451","v":" "},{"$f":"SCORECARD!G451","v":0},{"$f":"SCORECARD!H451","v":0},{"$f":"IF(NOT(OR(F990>0,G990>0)),\"\",(IF((F990-G990>0),(VLOOKUP(H975,(TABLE!WIN),((E990+5)*2+2))),(VLOOKUP(H975,(TABLE!LOSE),((E990+5)*2+2))))))","v":""}]
[null,{"$f":"SCORECARD!C452","v":" "},null,null,{"$f":"SCORECARD!F452","v":" "},{"$f":"SCORECARD!G452","v":0},{"$f":"SCORECARD!H452","v":0},{"$f":"IF(NOT(OR(F991>0,G991>0)),\"\",(IF((F991-G991>0),(VLOOKUP(H975,(TABLE!WIN),((E991+5)*2+2))),(VLOOKUP(H975,(TABLE!LOSE),((E991+5)*2+2))))))","v":""}]
[]
[null,null,null,null,null,null,"Handicap adjustment points total   ",{"$f":"SUM(H978:H991)","v":0}]
[]
[]
[]
[]
[]
[]
[]
[]
[]
[]
[]
[]
[{"$f":"note1","v":"Time limit 2.5 hours, Turn After Bell (61.1.6). Quadway hoops (3 11/16\"), Dawson International balls"}]
[{"$f":"note2","v":"Games may start early. Please be at the venue at least 30 minutes earlier than the scheduled start time."}]
[{"$f":"note3","v":"Entry Fee $40 will be invoiced by email. Please pay by EFT using the invoice No. as reference."}]
[{"$f":"note4","v":"Players please assist with setting and clearing courts."}]
[null,null,null,null,{"$f":"BLOCK!F103","v":" Block 6 Player 2"}]
[null,null,null,null,{"$f":"BLOCK!J99","v":"TOURNAMENT"}]
[null,null,null,null,{"$f":"BLOCK!G100","v":"DATE"}]
[null,null,null,null,{"$f":"BLOCK!B103","v":"BLOCK 6"}]
[]
[null,null,null,null,"BLOCK PLAY SCHEDULE"]
[null,"DAY","TIME",null,"COURT","OPPONENT",null,"HANDICAP","PS","OS"]
[null,{"$f":"GAMES!C44","v":"00:00:00"},{"$f":"GAMES!B44","v":"00:00:00"},null,{"$f":"GAMES!D44","v":0},{"$f":"GAMES!G44","v":" Block 6 Player 3"},null,{"$f":"$E$1027","v":0},{"$f":"$F$1027","v":-1E-3},{"$f":"$G$1027","v":-1E-3}]
[null,{"$f":"GAMES!C46","v":"00:00:00"},{"$f":"GAMES!B46","v":"00:00:00"},null,{"$f":"GAMES!D46","v":0},{"$f":"GAMES!E46","v":" Block 6 Player 4"},null,{"$f":"$E$1028","v":0},{"$f":"$F$1028","v":-1E-3},{"$f":"$G$1028","v":-1E-3}]
[null,{"$f":"GAMES!C47","v":"00:00:00"},{"$f":"GAMES!B47","v":"00:00:00"},null,{"$f":"GAMES!D47","v":0},{"$f":"GAMES!G47","v":" Block 6 Player 1"},null,{"$f":"$E$1026","v":0},{"$f":"$F$1026","v":-1E-3},{"$f":"$G$1026","v":-1E-3}]
[]
[]
[]
[null,"PLAYER:",{"$f":"BLOCK!F103","v":" Block 6 Player 2"},null,null,null,"HANDICAP",{"$f":"BLOCK!B109","v":0}]
[null,null,null,null,"OPP","PLAYER","OPP","H/CAP"]
[null,null,"OPPONENT",null,"HCP","SCORE","SCORE","POINTS"]
[null,{"$f":"SCORECARD!C458","v":" Block 6 Player 1"},null,null,{"$f":"SCORECARD!F458","v":0},{"$f":"SCORECARD!G458","v":-1E-3},{"$f":"SCORECARD!H458","v":-1E-3},{"$f":"IF(NOT(OR(F1026>0,G1026>0)),\"\",IF(HandicapPlay=\"x\",IF(F1026>G1026,10,-10),(IF((F1026-G1026>0),(VLOOKUP(OFFSET(H1026,-3,0),(TABLE!WIN),(MATCH(E1026,WINCOL,0)+1))),(VLOOKUP(OFFSET(H1026,-3,0),(TABLE!LOSE),(MATCH(E1026,LOSECOL,0)+1)))))))","v":""}]
[null,{"$f":"SCORECARD!C459","v":" Block 6 Player 3"},null,null,{"$f":"SCORECARD!F459","v":0},{"$f":"SCORECARD!G459","v":-1E-3},{"$f":"SCORECARD!H459","v":-1E-3},{"$f":"IF(NOT(OR(F1027>0,G1027>0)),\"\",IF(HandicapPlay=\"x\",IF(F1027>G1027,10,-10),(IF((F1027-G1027>0),(VLOOKUP(OFFSET(H1027,-4,0),(TABLE!WIN),(MATCH(E1027,WINCOL,0)+1))),(VLOOKUP(OFFSET(H1027,-4,0),(TABLE!LOSE),(MATCH(E1027,LOSECOL,0)+1)))))))","v":""}]
[null,{"$f":"SCORECARD!C460","v":" Block 6 Player 4"},null,null,{"$f":"SCORECARD!F460","v":0},{"$f":"SCORECARD!G460","v":-1E-3},{"$f":"SCORECARD!H460","v":-1E-3},{"$f":"IF(NOT(OR(F1028>0,G1028>0)),\"\",IF(HandicapPlay=\"x\",IF(F1028>G1028,10,-10),(IF((F1028-G1028>0),(VLOOKUP(OFFSET(H1028,-5,0),(TABLE!WIN),(MATCH(E1028,WINCOL,0)+1))),(VLOOKUP(OFFSET(H1028,-5,0),(TABLE!LOSE),(MATCH(E1028,LOSECOL,0)+1)))))))","v":""}]
[null,{"$f":"SCORECARD!C461","v":" "},null,null,{"$f":"SCORECARD!F461","v":" "},{"$f":"SCORECARD!G461","v":0},{"$f":"SCORECARD!H461","v":0},{"$f":"IF(NOT(OR(F1029>0,G1029>0)),\"\",(IF((F1029-G1029>0),(VLOOKUP(H1023,(TABLE!WIN),((E1029+5)*2+2))),(VLOOKUP(H1023,(TABLE!LOSE),((E1029+5)*2+2))))))","v":""}]
[null,{"$f":"SCORECARD!C462","v":" "},null,null,{"$f":"SCORECARD!F462","v":" "},{"$f":"SCORECARD!G462","v":0},{"$f":"SCORECARD!H462","v":0},{"$f":"IF(NOT(OR(F1030>0,G1030>0)),\"\",(IF((F1030-G1030>0),(VLOOKUP(H1023,(TABLE!WIN),((E1030+5)*2+2))),(VLOOKUP(H1023,(TABLE!LOSE),((E1030+5)*2+2))))))","v":""}]
[null,{"$f":"SCORECARD!C463","v":" "},null,null,{"$f":"SCORECARD!F463","v":" "},{"$f":"SCORECARD!G463","v":0},{"$f":"SCORECARD!H463","v":0},{"$f":"IF(NOT(OR(F1031>0,G1031>0)),\"\",(IF((F1031-G1031>0),(VLOOKUP(H1023,(TABLE!WIN),((E1031+5)*2+2))),(VLOOKUP(H1023,(TABLE!LOSE),((E1031+5)*2+2))))))","v":""}]
[null,{"$f":"SCORECARD!C464","v":" "},null,null,{"$f":"SCORECARD!F464","v":" "},{"$f":"SCORECARD!G464","v":0},{"$f":"SCORECARD!H464","v":0},{"$f":"IF(NOT(OR(F1032>0,G1032>0)),\"\",(IF((F1032-G1032>0),(VLOOKUP(H1023,(TABLE!WIN),((E1032+5)*2+2))),(VLOOKUP(H1023,(TABLE!LOSE),((E1032+5)*2+2))))))","v":""}]
[null,{"$f":"SCORECARD!C465","v":" "},null,null,{"$f":"SCORECARD!F465","v":" "},{"$f":"SCORECARD!G465","v":0},{"$f":"SCORECARD!H465","v":0},{"$f":"IF(NOT(OR(F1033>0,G1033>0)),\"\",(IF((F1033-G1033>0),(VLOOKUP(H1023,(TABLE!WIN),((E1033+5)*2+2))),(VLOOKUP(H1023,(TABLE!LOSE),((E1033+5)*2+2))))))","v":""}]
[null,{"$f":"SCORECARD!C466","v":" "},null,null,{"$f":"SCORECARD!F466","v":" "},{"$f":"SCORECARD!G466","v":0},{"$f":"SCORECARD!H466","v":0},{"$f":"IF(NOT(OR(F1034>0,G1034>0)),\"\",(IF((F1034-G1034>0),(VLOOKUP(H1023,(TABLE!WIN),((E1034+5)*2+2))),(VLOOKUP(H1023,(TABLE!LOSE),((E1034+5)*2+2))))))","v":""}]
[null,{"$f":"SCORECARD!C467","v":" "},null,null,{"$f":"SCORECARD!F467","v":" "},{"$f":"SCORECARD!G467","v":0},{"$f":"SCORECARD!H467","v":0},{"$f":"IF(NOT(OR(F1035>0,G1035>0)),\"\",(IF((F1035-G1035>0),(VLOOKUP(H1023,(TABLE!WIN),((E1035+5)*2+2))),(VLOOKUP(H1023,(TABLE!LOSE),((E1035+5)*2+2))))))","v":""}]
[null,{"$f":"SCORECARD!C468","v":" "},null,null,{"$f":"SCORECARD!F468","v":" "},{"$f":"SCORECARD!G468","v":0},{"$f":"SCORECARD!H468","v":0},{"$f":"IF(NOT(OR(F1036>0,G1036>0)),\"\",(IF((F1036-G1036>0),(VLOOKUP(H1023,(TABLE!WIN),((E1036+5)*2+2))),(VLOOKUP(H1023,(TABLE!LOSE),((E1036+5)*2+2))))))","v":""}]
[null,{"$f":"SCORECARD!C469","v":" "},null,null,{"$f":"SCORECARD!F469","v":" "},{"$f":"SCORECARD!G469","v":0},{"$f":"SCORECARD!H469","v":0},{"$f":"IF(NOT(OR(F1037>0,G1037>0)),\"\",(IF((F1037-G1037>0),(VLOOKUP(H1023,(TABLE!WIN),((E1037+5)*2+2))),(VLOOKUP(H1023,(TABLE!LOSE),((E1037+5)*2+2))))))","v":""}]
[null,{"$f":"SCORECARD!C470","v":" "},null,null,{"$f":"SCORECARD!F470","v":" "},{"$f":"SCORECARD!G470","v":0},{"$f":"SCORECARD!H470","v":0},{"$f":"IF(NOT(OR(F1038>0,G1038>0)),\"\",(IF((F1038-G1038>0),(VLOOKUP(H1023,(TABLE!WIN),((E1038+5)*2+2))),(VLOOKUP(H1023,(TABLE!LOSE),((E1038+5)*2+2))))))","v":""}]
[null,{"$f":"SCORECARD!C471","v":" "},null,null,{"$f":"SCORECARD!F471","v":" "},{"$f":"SCORECARD!G471","v":0},{"$f":"SCORECARD!H471","v":0},{"$f":"IF(NOT(OR(F1039>0,G1039>0)),\"\",(IF((F1039-G1039>0),(VLOOKUP(H1023,(TABLE!WIN),((E1039+5)*2+2))),(VLOOKUP(H1023,(TABLE!LOSE),((E1039+5)*2+2))))))","v":""}]
[]
[null,null,null,null,null,null,"Handicap adjustment points total   ",{"$f":"SUM(H1026:H1039)","v":0}]
[]
[]
[]
[]
[]
[]
[]
[]
[]
[]
[]
[]
[{"$f":"note1","v":"Time limit 2.5 hours, Turn After Bell (61.1.6). Quadway hoops (3 11/16\"), Dawson International balls"}]
[{"$f":"note2","v":"Games may start early. Please be at the venue at least 30 minutes earlier than the scheduled start time."}]
[{"$f":"note3","v":"Entry Fee $40 will be invoiced by email. Please pay by EFT using the invoice No. as reference."}]
[{"$f":"note4","v":"Players please assist with setting and clearing courts."}]
[null,null,null,null,{"$f":"BLOCK!I103","v":" Block 6 Player 3"}]
[null,null,null,null,{"$f":"BLOCK!J99","v":"TOURNAMENT"}]
[null,null,null,null,{"$f":"BLOCK!G100","v":"DATE"}]
[null,null,null,null,{"$f":"BLOCK!B103","v":"BLOCK 6"}]
[]
[null,null,null,null,"BLOCK PLAY SCHEDULE"]
[null,"DAY","TIME",null,"COURT","OPPONENT",null,"HANDICAP","PS","OS"]
[null,{"$f":"GAMES!C44","v":"00:00:00"},{"$f":"GAMES!B44","v":"00:00:00"},null,{"$f":"GAMES!D44","v":0},{"$f":"GAMES!E44","v":" Block 6 Player 2"},null,{"$f":"$E$1075","v":0},{"$f":"$F$1075","v":-1E-3},{"$f":"$G$1075","v":-1E-3}]
[null,{"$f":"GAMES!C45","v":"00:00:00"},{"$f":"GAMES!B45","v":"00:00:00"},null,{"$f":"GAMES!D45","v":0},{"$f":"GAMES!G45","v":" Block 6 Player 1"},null,{"$f":"$E$1074","v":0},{"$f":"$F$1074","v":-1E-3},{"$f":"$G$1074","v":-1E-3}]
[null,{"$f":"GAMES!C48","v":"00:00:00"},{"$f":"GAMES!B48","v":"00:00:00"},null,{"$f":"GAMES!D48","v":0},{"$f":"GAMES!G48","v":" Block 6 Player 4"},null,{"$f":"$E$1076","v":0},{"$f":"$F$1076","v":-1E-3},{"$f":"$G$1076","v":-1E-3}]
[]
[]
[]
[null,"PLAYER:",{"$f":"BLOCK!I103","v":" Block 6 Player 3"},null,null,null,"HANDICAP",{"$f":"BLOCK!B112","v":0}]
[null,null,null,null,"OPP","PLAYER","OPP","H/CAP"]
[null,null,"OPPONENT",null,"HCP","SCORE","SCORE","POINTS"]
[null,{"$f":"SCORECARD!C482","v":" Block 6 Player 1"},null,null,{"$f":"SCORECARD!F482","v":0},{"$f":"SCORECARD!G482","v":-1E-3},{"$f":"SCORECARD!H482","v":-1E-3},{"$f":"IF(NOT(OR(F1074>0,G1074>0)),\"\",IF(HandicapPlay=\"x\",IF(F1074>G1074,10,-10),(IF((F1074-G1074>0),(VLOOKUP(OFFSET(H1074,-3,0),(TABLE!WIN),(MATCH(E1074,WINCOL,0)+1))),(VLOOKUP(OFFSET(H1074,-3,0),(TABLE!LOSE),(MATCH(E1074,LOSECOL,0)+1)))))))","v":""}]
[null,{"$f":"SCORECARD!C483","v":" Block 6 Player 2"},null,null,{"$f":"SCORECARD!F483","v":0},{"$f":"SCORECARD!G483","v":-1E-3},{"$f":"SCORECARD!H483","v":-1E-3},{"$f":"IF(NOT(OR(F1075>0,G1075>0)),\"\",IF(HandicapPlay=\"x\",IF(F1075>G1075,10,-10),(IF((F1075-G1075>0),(VLOOKUP(OFFSET(H1075,-4,0),(TABLE!WIN),(MATCH(E1075,WINCOL,0)+1))),(VLOOKUP(OFFSET(H1075,-4,0),(TABLE!LOSE),(MATCH(E1075,LOSECOL,0)+1)))))))","v":""}]
[null,{"$f":"SCORECARD!C484","v":" Block 6 Player 4"},null,null,{"$f":"SCORECARD!F484","v":0},{"$f":"SCORECARD!G484","v":-1E-3},{"$f":"SCORECARD!H484","v":-1E-3},{"$f":"IF(NOT(OR(F1076>0,G1076>0)),\"\",IF(HandicapPlay=\"x\",IF(F1076>G1076,10,-10),(IF((F1076-G1076>0),(VLOOKUP(OFFSET(H1076,-5,0),(TABLE!WIN),(MATCH(E1076,WINCOL,0)+1))),(VLOOKUP(OFFSET(H1076,-5,0),(TABLE!LOSE),(MATCH(E1076,LOSECOL,0)+1)))))))","v":""}]
[null,{"$f":"SCORECARD!C485","v":" "},null,null,{"$f":"SCORECARD!F485","v":" "},{"$f":"SCORECARD!G485","v":0},{"$f":"SCORECARD!H485","v":0},{"$f":"IF(NOT(OR(F1077>0,G1077>0)),\"\",(IF((F1077-G1077>0),(VLOOKUP(H1071,(TABLE!WIN),((E1077+5)*2+2))),(VLOOKUP(H1071,(TABLE!LOSE),((E1077+5)*2+2))))))","v":""}]
[null,{"$f":"SCORECARD!C486","v":" "},null,null,{"$f":"SCORECARD!F486","v":" "},{"$f":"SCORECARD!G486","v":0},{"$f":"SCORECARD!H486","v":0},{"$f":"IF(NOT(OR(F1078>0,G1078>0)),\"\",(IF((F1078-G1078>0),(VLOOKUP(H1071,(TABLE!WIN),((E1078+5)*2+2))),(VLOOKUP(H1071,(TABLE!LOSE),((E1078+5)*2+2))))))","v":""}]
[null,{"$f":"SCORECARD!C487","v":" "},null,null,{"$f":"SCORECARD!F487","v":" "},{"$f":"SCORECARD!G487","v":0},{"$f":"SCORECARD!H487","v":0},{"$f":"IF(NOT(OR(F1079>0,G1079>0)),\"\",(IF((F1079-G1079>0),(VLOOKUP(H1071,(TABLE!WIN),((E1079+5)*2+2))),(VLOOKUP(H1071,(TABLE!LOSE),((E1079+5)*2+2))))))","v":""}]
[null,{"$f":"SCORECARD!C488","v":" "},null,null,{"$f":"SCORECARD!F488","v":" "},{"$f":"SCORECARD!G488","v":0},{"$f":"SCORECARD!H488","v":0},{"$f":"IF(NOT(OR(F1080>0,G1080>0)),\"\",(IF((F1080-G1080>0),(VLOOKUP(H1071,(TABLE!WIN),((E1080+5)*2+2))),(VLOOKUP(H1071,(TABLE!LOSE),((E1080+5)*2+2))))))","v":""}]
[null,{"$f":"SCORECARD!C489","v":" "},null,null,{"$f":"SCORECARD!F489","v":" "},{"$f":"SCORECARD!G489","v":0},{"$f":"SCORECARD!H489","v":0},{"$f":"IF(NOT(OR(F1081>0,G1081>0)),\"\",(IF((F1081-G1081>0),(VLOOKUP(H1071,(TABLE!WIN),((E1081+5)*2+2))),(VLOOKUP(H1071,(TABLE!LOSE),((E1081+5)*2+2))))))","v":""}]
[null,{"$f":"SCORECARD!C490","v":" "},null,null,{"$f":"SCORECARD!F490","v":" "},{"$f":"SCORECARD!G490","v":0},{"$f":"SCORECARD!H490","v":0},{"$f":"IF(NOT(OR(F1082>0,G1082>0)),\"\",(IF((F1082-G1082>0),(VLOOKUP(H1071,(TABLE!WIN),((E1082+5)*2+2))),(VLOOKUP(H1071,(TABLE!LOSE),((E1082+5)*2+2))))))","v":""}]
[null,{"$f":"SCORECARD!C491","v":" "},null,null,{"$f":"SCORECARD!F491","v":" "},{"$f":"SCORECARD!G491","v":0},{"$f":"SCORECARD!H491","v":0},{"$f":"IF(NOT(OR(F1083>0,G1083>0)),\"\",(IF((F1083-G1083>0),(VLOOKUP(H1071,(TABLE!WIN),((E1083+5)*2+2))),(VLOOKUP(H1071,(TABLE!LOSE),((E1083+5)*2+2))))))","v":""}]
[null,{"$f":"SCORECARD!C492","v":" "},null,null,{"$f":"SCORECARD!F492","v":" "},{"$f":"SCORECARD!G492","v":0},{"$f":"SCORECARD!H492","v":0},{"$f":"IF(NOT(OR(F1084>0,G1084>0)),\"\",(IF((F1084-G1084>0),(VLOOKUP(H1071,(TABLE!WIN),((E1084+5)*2+2))),(VLOOKUP(H1071,(TABLE!LOSE),((E1084+5)*2+2))))))","v":""}]
[null,{"$f":"SCORECARD!C493","v":" "},null,null,{"$f":"SCORECARD!F493","v":" "},{"$f":"SCORECARD!G493","v":0},{"$f":"SCORECARD!H493","v":0},{"$f":"IF(NOT(OR(F1085>0,G1085>0)),\"\",(IF((F1085-G1085>0),(VLOOKUP(H1071,(TABLE!WIN),((E1085+5)*2+2))),(VLOOKUP(H1071,(TABLE!LOSE),((E1085+5)*2+2))))))","v":""}]
[null,{"$f":"SCORECARD!C494","v":" "},null,null,{"$f":"SCORECARD!F494","v":" "},{"$f":"SCORECARD!G494","v":0},{"$f":"SCORECARD!H494","v":0},{"$f":"IF(NOT(OR(F1086>0,G1086>0)),\"\",(IF((F1086-G1086>0),(VLOOKUP(H1071,(TABLE!WIN),((E1086+5)*2+2))),(VLOOKUP(H1071,(TABLE!LOSE),((E1086+5)*2+2))))))","v":""}]
[null,{"$f":"SCORECARD!C495","v":" "},null,null,{"$f":"SCORECARD!F495","v":" "},{"$f":"SCORECARD!G495","v":0},{"$f":"SCORECARD!H495","v":0},{"$f":"IF(NOT(OR(F1087>0,G1087>0)),\"\",(IF((F1087-G1087>0),(VLOOKUP(H1071,(TABLE!WIN),((E1087+5)*2+2))),(VLOOKUP(H1071,(TABLE!LOSE),((E1087+5)*2+2))))))","v":""}]
[]
[null,null,null,null,null,null,"Handicap adjustment points total   ",{"$f":"SUM(H1074:H1087)","v":0}]
[]
[]
[]
[]
[]
[]
[]
[]
[]
[]
[]
[]
[{"$f":"note1","v":"Time limit 2.5 hours, Turn After Bell (61.1.6). Quadway hoops (3 11/16\"), Dawson International balls"}]
[{"$f":"note2","v":"Games may start early. Please be at the venue at least 30 minutes earlier than the scheduled start time."}]
[{"$f":"note3","v":"Entry Fee $40 will be invoiced by email. Please pay by EFT using the invoice No. as reference."}]
[{"$f":"note4","v":"Players please assist with setting and clearing courts."}]
[null,null,null,null,{"$f":"BLOCK!L103","v":" Block 6 Player 4"}]
[null,null,null,null,{"$f":"BLOCK!J99","v":"TOURNAMENT"}]
[null,null,null,null,{"$f":"BLOCK!G100","v":"DATE"}]
[null,null,null,null,{"$f":"BLOCK!B103","v":"BLOCK 6"}]
[]
[null,null,null,null,"BLOCK PLAY SCHEDULE"]
[null,"DAY","TIME",null,"COURT","OPPONENT",null,"HANDICAP","PS","OS"]
[null,{"$f":"GAMES!C43","v":"00:00:00"},{"$f":"GAMES!B43","v":"00:00:00"},null,{"$f":"GAMES!D43","v":0},{"$f":"GAMES!E43","v":" Block 6 Player 1"},null,{"$f":"$E$1122","v":0},{"$f":"$F$1122","v":-1E-3},{"$f":"$G$1122","v":-1E-3}]
[null,{"$f":"GAMES!C46","v":"00:00:00"},{"$f":"GAMES!B46","v":"00:00:00"},null,{"$f":"GAMES!D46","v":0},{"$f":"GAMES!G46","v":" Block 6 Player 2"},null,{"$f":"$E$1123","v":0},{"$f":"$F$1123","v":-1E-3},{"$f":"$G$1123","v":-1E-3}]
[null,{"$f":"GAMES!C48","v":"00:00:00"},{"$f":"GAMES!B48","v":"00:00:00"},null,{"$f":"GAMES!D48","v":0},{"$f":"GAMES!E48","v":" Block 6 Player 3"},null,{"$f":"$E$1124","v":0},{"$f":"$F$1124","v":-1E-3},{"$f":"$G$1124","v":-1E-3}]
[]
[]
[]
[null,"PLAYER:",{"$f":"BLOCK!L103","v":" Block 6 Player 4"},null,null,null,"HANDICAP",{"$f":"BLOCK!B115","v":0}]
[null,null,null,null,"OPP","PLAYER","OPP","H/CAP"]
[null,null,"OPPONENT",null,"HCP","SCORE","SCORE","POINTS"]
[null,{"$f":"SCORECARD!C501","v":" Block 6 Player 1"},null,null,{"$f":"SCORECARD!F501","v":0},{"$f":"SCORECARD!G501","v":-1E-3},{"$f":"SCORECARD!H501","v":-1E-3},{"$f":"IF(NOT(OR(F1122>0,G1122>0)),\"\",IF(HandicapPlay=\"x\",IF(F1122>G1122,10,-10),(IF((F1122-G1122>0),(VLOOKUP(OFFSET(H1122,-3,0),(TABLE!WIN),(MATCH(E1122,WINCOL,0)+1))),(VLOOKUP(OFFSET(H1122,-3,0),(TABLE!LOSE),(MATCH(E1122,LOSECOL,0)+1)))))))","v":""}]
[null,{"$f":"SCORECARD!C502","v":" Block 6 Player 2"},null,null,{"$f":"SCORECARD!F502","v":0},{"$f":"SCORECARD!G502","v":-1E-3},{"$f":"SCORECARD!H502","v":-1E-3},{"$f":"IF(NOT(OR(F1123>0,G1123>0)),\"\",IF(HandicapPlay=\"x\",IF(F1123>G1123,10,-10),(IF((F1123-G1123>0),(VLOOKUP(OFFSET(H1123,-4,0),(TABLE!WIN),(MATCH(E1123,WINCOL,0)+1))),(VLOOKUP(OFFSET(H1123,-4,0),(TABLE!LOSE),(MATCH(E1123,LOSECOL,0)+1)))))))","v":""}]
[null,{"$f":"SCORECARD!C503","v":" Block 6 Player 3"},null,null,{"$f":"SCORECARD!F503","v":0},{"$f":"SCORECARD!G503","v":-1E-3},{"$f":"SCORECARD!H503","v":-1E-3},{"$f":"IF(NOT(OR(F1124>0,G1124>0)),\"\",IF(HandicapPlay=\"x\",IF(F1124>G1124,10,-10),(IF((F1124-G1124>0),(VLOOKUP(OFFSET(H1124,-5,0),(TABLE!WIN),(MATCH(E1124,WINCOL,0)+1))),(VLOOKUP(OFFSET(H1124,-5,0),(TABLE!LOSE),(MATCH(E1124,LOSECOL,0)+1)))))))","v":""}]
[null,{"$f":"SCORECARD!C504","v":" "},null,null,{"$f":"SCORECARD!F504","v":" "},{"$f":"SCORECARD!G504","v":0},{"$f":"SCORECARD!H504","v":0},{"$f":"IF(NOT(OR(F1125>0,G1125>0)),\"\",(IF((F1125-G1125>0),(VLOOKUP(H1119,(TABLE!WIN),((E1125+5)*2+2))),(VLOOKUP(H1119,(TABLE!LOSE),((E1125+5)*2+2))))))","v":""}]
[null,{"$f":"SCORECARD!C505","v":" "},null,null,{"$f":"SCORECARD!F505","v":" "},{"$f":"SCORECARD!G505","v":0},{"$f":"SCORECARD!H505","v":0},{"$f":"IF(NOT(OR(F1126>0,G1126>0)),\"\",(IF((F1126-G1126>0),(VLOOKUP(H1119,(TABLE!WIN),((E1126+5)*2+2))),(VLOOKUP(H1119,(TABLE!LOSE),((E1126+5)*2+2))))))","v":""}]
[null,{"$f":"SCORECARD!C506","v":" "},null,null,{"$f":"SCORECARD!F506","v":" "},{"$f":"SCORECARD!G506","v":0},{"$f":"SCORECARD!H506","v":0},{"$f":"IF(NOT(OR(F1127>0,G1127>0)),\"\",(IF((F1127-G1127>0),(VLOOKUP(H1119,(TABLE!WIN),((E1127+5)*2+2))),(VLOOKUP(H1119,(TABLE!LOSE),((E1127+5)*2+2))))))","v":""}]
[null,{"$f":"SCORECARD!C507","v":" "},null,null,{"$f":"SCORECARD!F507","v":" "},{"$f":"SCORECARD!G507","v":0},{"$f":"SCORECARD!H507","v":0},{"$f":"IF(NOT(OR(F1128>0,G1128>0)),\"\",(IF((F1128-G1128>0),(VLOOKUP(H1119,(TABLE!WIN),((E1128+5)*2+2))),(VLOOKUP(H1119,(TABLE!LOSE),((E1128+5)*2+2))))))","v":""}]
[null,{"$f":"SCORECARD!C508","v":" "},null,null,{"$f":"SCORECARD!F508","v":" "},{"$f":"SCORECARD!G508","v":0},{"$f":"SCORECARD!H508","v":0},{"$f":"IF(NOT(OR(F1129>0,G1129>0)),\"\",(IF((F1129-G1129>0),(VLOOKUP(H1119,(TABLE!WIN),((E1129+5)*2+2))),(VLOOKUP(H1119,(TABLE!LOSE),((E1129+5)*2+2))))))","v":""}]
[null,{"$f":"SCORECARD!C509","v":" "},null,null,{"$f":"SCORECARD!F509","v":" "},{"$f":"SCORECARD!G509","v":0},{"$f":"SCORECARD!H509","v":0},{"$f":"IF(NOT(OR(F1130>0,G1130>0)),\"\",(IF((F1130-G1130>0),(VLOOKUP(H1119,(TABLE!WIN),((E1130+5)*2+2))),(VLOOKUP(H1119,(TABLE!LOSE),((E1130+5)*2+2))))))","v":""}]
[null,{"$f":"SCORECARD!C510","v":" "},null,null,{"$f":"SCORECARD!F510","v":" "},{"$f":"SCORECARD!G510","v":0},{"$f":"SCORECARD!H510","v":0},{"$f":"IF(NOT(OR(F1131>0,G1131>0)),\"\",(IF((F1131-G1131>0),(VLOOKUP(H1119,(TABLE!WIN),((E1131+5)*2+2))),(VLOOKUP(H1119,(TABLE!LOSE),((E1131+5)*2+2))))))","v":""}]
[null,{"$f":"SCORECARD!C511","v":" "},null,null,{"$f":"SCORECARD!F511","v":" "},{"$f":"SCORECARD!G511","v":0},{"$f":"SCORECARD!H511","v":0},{"$f":"IF(NOT(OR(F1132>0,G1132>0)),\"\",(IF((F1132-G1132>0),(VLOOKUP(H1119,(TABLE!WIN),((E1132+5)*2+2))),(VLOOKUP(H1119,(TABLE!LOSE),((E1132+5)*2+2))))))","v":""}]
[null,{"$f":"SCORECARD!C512","v":" "},null,null,{"$f":"SCORECARD!F512","v":" "},{"$f":"SCORECARD!G512","v":0},{"$f":"SCORECARD!H512","v":0},{"$f":"IF(NOT(OR(F1133>0,G1133>0)),\"\",(IF((F1133-G1133>0),(VLOOKUP(H1119,(TABLE!WIN),((E1133+5)*2+2))),(VLOOKUP(H1119,(TABLE!LOSE),((E1133+5)*2+2))))))","v":""}]
[null,{"$f":"SCORECARD!C513","v":" "},null,null,{"$f":"SCORECARD!F513","v":" "},{"$f":"SCORECARD!G513","v":0},{"$f":"SCORECARD!H513","v":0},{"$f":"IF(NOT(OR(F1134>0,G1134>0)),\"\",(IF((F1134-G1134>0),(VLOOKUP(H1119,(TABLE!WIN),((E1134+5)*2+2))),(VLOOKUP(H1119,(TABLE!LOSE),((E1134+5)*2+2))))))","v":""}]
[null,{"$f":"SCORECARD!C514","v":" "},null,null,{"$f":"SCORECARD!F514","v":" "},{"$f":"SCORECARD!G514","v":0},{"$f":"SCORECARD!H514","v":0},{"$f":"IF(NOT(OR(F1135>0,G1135>0)),\"\",(IF((F1135-G1135>0),(VLOOKUP(H1119,(TABLE!WIN),((E1135+5)*2+2))),(VLOOKUP(H1119,(TABLE!LOSE),((E1135+5)*2+2))))))","v":""}]
[]
[null,null,null,null,null,null,"Handicap adjustment points total   ",{"$f":"SUM(H1122:H1135)","v":0}]
[]
[]
[]
[]
[]
[]
[]
[]
[]
[]
[]
[]
[{"$f":"note1","v":"Time limit 2.5 hours, Turn After Bell (61.1.6). Quadway hoops (3 11/16\"), Dawson International balls"}]
[{"$f":"note2","v":"Games may start early. Please be at the venue at least 30 minutes earlier than the scheduled start time."}]
[{"$f":"note3","v":"Entry Fee $40 will be invoiced by email. Please pay by EFT using the invoice No. as reference."}]
[{"$f":"note4","v":"Players please assist with setting and clearing courts."}]
[null,null,null,null,{"$f":"BLOCK!C122","v":" Block 7 Player 1"}]
[null,null,null,null,{"$f":"BLOCK!J118","v":"TOURNAMENT"}]
[null,null,null,null,{"$f":"BLOCK!G119","v":"DATE"}]
[null,null,null,null,{"$f":"BLOCK!B122","v":"BLOCK 7"}]
[]
[null,null,null,null,"BLOCK PLAY SCHEDULE"]
[null,"DAY","TIME",null,"COURT","OPPONENT",null,"HANDICAP","PS","OS"]
[null,{"$f":"GAMES!C51","v":"00:00:00"},{"$f":"GAMES!B51","v":"00:00:00"},null,{"$f":"GAMES!D51","v":0},{"$f":"GAMES!G51","v":" Block 7 Player 4"},null,{"$f":"$E$1172","v":0},{"$f":"$F$1172","v":-1E-3},{"$f":"$G$1172","v":-1E-3}]
[null,{"$f":"GAMES!C53","v":"00:00:00"},{"$f":"GAMES!B53","v":"00:00:00"},null,{"$f":"GAMES!D53","v":0},{"$f":"GAMES!E53","v":" Block 7 Player 3"},null,{"$f":"$E$1171","v":0},{"$f":"$F$1171","v":-1E-3},{"$f":"$G$1171","v":-1E-3}]
[null,{"$f":"GAMES!C55","v":"00:00:00"},{"$f":"GAMES!B55","v":"00:00:00"},null,{"$f":"GAMES!D55","v":0},{"$f":"GAMES!E55","v":" Block 7 Player 2"},null,{"$f":"$E$1170","v":0},{"$f":"$F$1170","v":-1E-3},{"$f":"$G$1170","v":-1E-3}]
[]
[]
[]
[null,"PLAYER:",{"$f":"BLOCK!C122","v":" Block 7 Player 1"},null,null,null,"HANDICAP",{"$f":"BLOCK!B125","v":0}]
[null,null,null,null,"OPP","PLAYER","OPP","H/CAP"]
[null,null,"OPPONENT",null,"HCP","SCORE","SCORE","POINTS"]
[null,{"$f":"SCORECARD!C525","v":" Block 7 Player 2"},null,null,{"$f":"SCORECARD!F525","v":0},{"$f":"SCORECARD!G525","v":-1E-3},{"$f":"SCORECARD!H525","v":-1E-3},{"$f":"IF(NOT(OR(F1170>0,G1170>0)),\"\",IF(HandicapPlay=\"x\",IF(F1170>G1170,10,-10),(IF((F1170-G1170>0),(VLOOKUP(OFFSET(H1170,-3,0),(TABLE!WIN),(MATCH(E1170,WINCOL,0)+1))),(VLOOKUP(OFFSET(H1170,-3,0),(TABLE!LOSE),(MATCH(E1170,LOSECOL,0)+1)))))))","v":""}]
[null,{"$f":"SCORECARD!C526","v":" Block 7 Player 3"},null,null,{"$f":"SCORECARD!F526","v":0},{"$f":"SCORECARD!G526","v":-1E-3},{"$f":"SCORECARD!H526","v":-1E-3},{"$f":"IF(NOT(OR(F1171>0,G1171>0)),\"\",IF(HandicapPlay=\"x\",IF(F1171>G1171,10,-10),(IF((F1171-G1171>0),(VLOOKUP(OFFSET(H1171,-4,0),(TABLE!WIN),(MATCH(E1171,WINCOL,0)+1))),(VLOOKUP(OFFSET(H1171,-4,0),(TABLE!LOSE),(MATCH(E1171,LOSECOL,0)+1)))))))","v":""}]
[null,{"$f":"SCORECARD!C527","v":" Block 7 Player 4"},null,null,{"$f":"SCORECARD!F527","v":0},{"$f":"SCORECARD!G527","v":-1E-3},{"$f":"SCORECARD!H527","v":-1E-3},{"$f":"IF(NOT(OR(F1172>0,G1172>0)),\"\",IF(HandicapPlay=\"x\",IF(F1172>G1172,10,-10),(IF((F1172-G1172>0),(VLOOKUP(OFFSET(H1172,-5,0),(TABLE!WIN),(MATCH(E1172,WINCOL,0)+1))),(VLOOKUP(OFFSET(H1172,-5,0),(TABLE!LOSE),(MATCH(E1172,LOSECOL,0)+1)))))))","v":""}]
[null,{"$f":"SCORECARD!C528","v":" "},null,null,{"$f":"SCORECARD!F528","v":" "},{"$f":"SCORECARD!G528","v":0},{"$f":"SCORECARD!H528","v":0},{"$f":"IF(NOT(OR(F1173>0,G1173>0)),\"\",(IF((F1173-G1173>0),(VLOOKUP(H1167,(TABLE!WIN),((E1173+5)*2+2))),(VLOOKUP(H1167,(TABLE!LOSE),((E1173+5)*2+2))))))","v":""}]
[null,{"$f":"SCORECARD!C529","v":" "},null,null,{"$f":"SCORECARD!F529","v":" "},{"$f":"SCORECARD!G529","v":0},{"$f":"SCORECARD!H529","v":0},{"$f":"IF(NOT(OR(F1174>0,G1174>0)),\"\",(IF((F1174-G1174>0),(VLOOKUP(H1167,(TABLE!WIN),((E1174+5)*2+2))),(VLOOKUP(H1167,(TABLE!LOSE),((E1174+5)*2+2))))))","v":""}]
[null,{"$f":"SCORECARD!C530","v":" "},null,null,{"$f":"SCORECARD!F530","v":" "},{"$f":"SCORECARD!G530","v":0},{"$f":"SCORECARD!H530","v":0},{"$f":"IF(NOT(OR(F1175>0,G1175>0)),\"\",(IF((F1175-G1175>0),(VLOOKUP(H1167,(TABLE!WIN),((E1175+5)*2+2))),(VLOOKUP(H1167,(TABLE!LOSE),((E1175+5)*2+2))))))","v":""}]
[null,{"$f":"SCORECARD!C531","v":" "},null,null,{"$f":"SCORECARD!F531","v":" "},{"$f":"SCORECARD!G531","v":0},{"$f":"SCORECARD!H531","v":0},{"$f":"IF(NOT(OR(F1176>0,G1176>0)),\"\",(IF((F1176-G1176>0),(VLOOKUP(H1167,(TABLE!WIN),((E1176+5)*2+2))),(VLOOKUP(H1167,(TABLE!LOSE),((E1176+5)*2+2))))))","v":""}]
[null,{"$f":"SCORECARD!C532","v":" "},null,null,{"$f":"SCORECARD!F532","v":" "},{"$f":"SCORECARD!G532","v":0},{"$f":"SCORECARD!H532","v":0},{"$f":"IF(NOT(OR(F1177>0,G1177>0)),\"\",(IF((F1177-G1177>0),(VLOOKUP(H1167,(TABLE!WIN),((E1177+5)*2+2))),(VLOOKUP(H1167,(TABLE!LOSE),((E1177+5)*2+2))))))","v":""}]
[null,{"$f":"SCORECARD!C533","v":" "},null,null,{"$f":"SCORECARD!F533","v":" "},{"$f":"SCORECARD!G533","v":0},{"$f":"SCORECARD!H533","v":0},{"$f":"IF(NOT(OR(F1178>0,G1178>0)),\"\",(IF((F1178-G1178>0),(VLOOKUP(H1167,(TABLE!WIN),((E1178+5)*2+2))),(VLOOKUP(H1167,(TABLE!LOSE),((E1178+5)*2+2))))))","v":""}]
[null,{"$f":"SCORECARD!C534","v":" "},null,null,{"$f":"SCORECARD!F534","v":" "},{"$f":"SCORECARD!G534","v":0},{"$f":"SCORECARD!H534","v":0},{"$f":"IF(NOT(OR(F1179>0,G1179>0)),\"\",(IF((F1179-G1179>0),(VLOOKUP(H1167,(TABLE!WIN),((E1179+5)*2+2))),(VLOOKUP(H1167,(TABLE!LOSE),((E1179+5)*2+2))))))","v":""}]
[null,{"$f":"SCORECARD!C535","v":" "},null,null,{"$f":"SCORECARD!F535","v":" "},{"$f":"SCORECARD!G535","v":0},{"$f":"SCORECARD!H535","v":0},{"$f":"IF(NOT(OR(F1180>0,G1180>0)),\"\",(IF((F1180-G1180>0),(VLOOKUP(H1167,(TABLE!WIN),((E1180+5)*2+2))),(VLOOKUP(H1167,(TABLE!LOSE),((E1180+5)*2+2))))))","v":""}]
[null,{"$f":"SCORECARD!C536","v":" "},null,null,{"$f":"SCORECARD!F536","v":" "},{"$f":"SCORECARD!G536","v":0},{"$f":"SCORECARD!H536","v":0},{"$f":"IF(NOT(OR(F1181>0,G1181>0)),\"\",(IF((F1181-G1181>0),(VLOOKUP(H1167,(TABLE!WIN),((E1181+5)*2+2))),(VLOOKUP(H1167,(TABLE!LOSE),((E1181+5)*2+2))))))","v":""}]
[null,{"$f":"SCORECARD!C537","v":" "},null,null,{"$f":"SCORECARD!F537","v":" "},{"$f":"SCORECARD!G537","v":0},{"$f":"SCORECARD!H537","v":0},{"$f":"IF(NOT(OR(F1182>0,G1182>0)),\"\",(IF((F1182-G1182>0),(VLOOKUP(H1167,(TABLE!WIN),((E1182+5)*2+2))),(VLOOKUP(H1167,(TABLE!LOSE),((E1182+5)*2+2))))))","v":""}]
[null,{"$f":"SCORECARD!C538","v":" "},null,null,{"$f":"SCORECARD!F538","v":" "},{"$f":"SCORECARD!G538","v":0},{"$f":"SCORECARD!H538","v":0},{"$f":"IF(NOT(OR(F1183>0,G1183>0)),\"\",(IF((F1183-G1183>0),(VLOOKUP(H1167,(TABLE!WIN),((E1183+5)*2+2))),(VLOOKUP(H1167,(TABLE!LOSE),((E1183+5)*2+2))))))","v":""}]
[]
[null,null,null,null,null,null,"Handicap adjustment points total   ",{"$f":"SUM(H1170:H1183)","v":0}]
[]
[]
[]
[]
[]
[]
[]
[]
[]
[]
[]
[]
[{"$f":"note1","v":"Time limit 2.5 hours, Turn After Bell (61.1.6). Quadway hoops (3 11/16\"), Dawson International balls"}]
[{"$f":"note2","v":"Games may start early. Please be at the venue at least 30 minutes earlier than the scheduled start time."}]
[{"$f":"note3","v":"Entry Fee $40 will be invoiced by email. Please pay by EFT using the invoice No. as reference."}]
[{"$f":"note4","v":"Players please assist with setting and clearing courts."}]
[null,null,null,null,{"$f":"BLOCK!F122","v":" Block 7 Player 2"}]
[null,null,null,null,{"$f":"BLOCK!J118","v":"TOURNAMENT"}]
[null,null,null,null,{"$f":"BLOCK!G119","v":"DATE"}]
[null,null,null,null,{"$f":"BLOCK!B122","v":"BLOCK 7"}]
[]
[null,null,null,null,"BLOCK PLAY SCHEDULE"]
[null,"DAY","TIME",null,"COURT","OPPONENT",null,"HANDICAP","PS","OS"]
[null,{"$f":"GAMES!C52","v":"00:00:00"},{"$f":"GAMES!B52","v":"00:00:00"},null,{"$f":"GAMES!D52","v":0},{"$f":"GAMES!G52","v":" Block 7 Player 3"},null,{"$f":"$E$1219","v":0},{"$f":"$F$1219","v":-1E-3},{"$f":"$G$1219","v":-1E-3}]
[null,{"$f":"GAMES!C54","v":"00:00:00"},{"$f":"GAMES!B54","v":"00:00:00"},null,{"$f":"GAMES!D54","v":0},{"$f":"GAMES!E54","v":" Block 7 Player 4"},null,{"$f":"$E$1220","v":0},{"$f":"$F$1220","v":-1E-3},{"$f":"$G$1220","v":-1E-3}]
[null,{"$f":"GAMES!C55","v":"00:00:00"},{"$f":"GAMES!B55","v":"00:00:00"},null,{"$f":"GAMES!D55","v":0},{"$f":"GAMES!G55","v":" Block 7 Player 1"},null,{"$f":"$E$1218","v":0},{"$f":"$F$1218","v":-1E-3},{"$f":"$G$1218","v":-1E-3}]
[]
[]
[]
[null,"PLAYER:",{"$f":"BLOCK!F122","v":" Block 7 Player 2"},null,null,null,"HANDICAP",{"$f":"BLOCK!B128","v":0}]
[null,null,null,null,"OPP","PLAYER","OPP","H/CAP"]
[null,null,"OPPONENT",null,"HCP","SCORE","SCORE","POINTS"]
[null,{"$f":"SCORECARD!C544","v":" Block 7 Player 1"},null,null,{"$f":"SCORECARD!F544","v":0},{"$f":"SCORECARD!G544","v":-1E-3},{"$f":"SCORECARD!H544","v":-1E-3},{"$f":"IF(NOT(OR(F1218>0,G1218>0)),\"\",IF(HandicapPlay=\"x\",IF(F1218>G1218,10,-10),(IF((F1218-G1218>0),(VLOOKUP(OFFSET(H1218,-3,0),(TABLE!WIN),(MATCH(E1218,WINCOL,0)+1))),(VLOOKUP(OFFSET(H1218,-3,0),(TABLE!LOSE),(MATCH(E1218,LOSECOL,0)+1)))))))","v":""}]
[null,{"$f":"SCORECARD!C545","v":" Block 7 Player 3"},null,null,{"$f":"SCORECARD!F545","v":0},{"$f":"SCORECARD!G545","v":-1E-3},{"$f":"SCORECARD!H545","v":-1E-3},{"$f":"IF(NOT(OR(F1219>0,G1219>0)),\"\",IF(HandicapPlay=\"x\",IF(F1219>G1219,10,-10),(IF((F1219-G1219>0),(VLOOKUP(OFFSET(H1219,-4,0),(TABLE!WIN),(MATCH(E1219,WINCOL,0)+1))),(VLOOKUP(OFFSET(H1219,-4,0),(TABLE!LOSE),(MATCH(E1219,LOSECOL,0)+1)))))))","v":""}]
[null,{"$f":"SCORECARD!C546","v":" Block 7 Player 4"},null,null,{"$f":"SCORECARD!F546","v":0},{"$f":"SCORECARD!G546","v":-1E-3},{"$f":"SCORECARD!H546","v":-1E-3},{"$f":"IF(NOT(OR(F1220>0,G1220>0)),\"\",IF(HandicapPlay=\"x\",IF(F1220>G1220,10,-10),(IF((F1220-G1220>0),(VLOOKUP(OFFSET(H1220,-5,0),(TABLE!WIN),(MATCH(E1220,WINCOL,0)+1))),(VLOOKUP(OFFSET(H1220,-5,0),(TABLE!LOSE),(MATCH(E1220,LOSECOL,0)+1)))))))","v":""}]
[null,{"$f":"SCORECARD!C547","v":" "},null,null,{"$f":"SCORECARD!F547","v":" "},{"$f":"SCORECARD!G547","v":0},{"$f":"SCORECARD!H547","v":0},{"$f":"IF(NOT(OR(F1221>0,G1221>0)),\"\",(IF((F1221-G1221>0),(VLOOKUP(H1215,(TABLE!WIN),((E1221+5)*2+2))),(VLOOKUP(H1215,(TABLE!LOSE),((E1221+5)*2+2))))))","v":""}]
[null,{"$f":"SCORECARD!C548","v":" "},null,null,{"$f":"SCORECARD!F548","v":" "},{"$f":"SCORECARD!G548","v":0},{"$f":"SCORECARD!H548","v":0},{"$f":"IF(NOT(OR(F1222>0,G1222>0)),\"\",(IF((F1222-G1222>0),(VLOOKUP(H1215,(TABLE!WIN),((E1222+5)*2+2))),(VLOOKUP(H1215,(TABLE!LOSE),((E1222+5)*2+2))))))","v":""}]
[null,{"$f":"SCORECARD!C549","v":" "},null,null,{"$f":"SCORECARD!F549","v":" "},{"$f":"SCORECARD!G549","v":0},{"$f":"SCORECARD!H549","v":0},{"$f":"IF(NOT(OR(F1223>0,G1223>0)),\"\",(IF((F1223-G1223>0),(VLOOKUP(H1215,(TABLE!WIN),((E1223+5)*2+2))),(VLOOKUP(H1215,(TABLE!LOSE),((E1223+5)*2+2))))))","v":""}]
[null,{"$f":"SCORECARD!C550","v":" "},null,null,{"$f":"SCORECARD!F550","v":" "},{"$f":"SCORECARD!G550","v":0},{"$f":"SCORECARD!H550","v":0},{"$f":"IF(NOT(OR(F1224>0,G1224>0)),\"\",(IF((F1224-G1224>0),(VLOOKUP(H1215,(TABLE!WIN),((E1224+5)*2+2))),(VLOOKUP(H1215,(TABLE!LOSE),((E1224+5)*2+2))))))","v":""}]
[null,{"$f":"SCORECARD!C551","v":" "},null,null,{"$f":"SCORECARD!F551","v":" "},{"$f":"SCORECARD!G551","v":0},{"$f":"SCORECARD!H551","v":0},{"$f":"IF(NOT(OR(F1225>0,G1225>0)),\"\",(IF((F1225-G1225>0),(VLOOKUP(H1215,(TABLE!WIN),((E1225+5)*2+2))),(VLOOKUP(H1215,(TABLE!LOSE),((E1225+5)*2+2))))))","v":""}]
[null,{"$f":"SCORECARD!C552","v":" "},null,null,{"$f":"SCORECARD!F552","v":" "},{"$f":"SCORECARD!G552","v":0},{"$f":"SCORECARD!H552","v":0},{"$f":"IF(NOT(OR(F1226>0,G1226>0)),\"\",(IF((F1226-G1226>0),(VLOOKUP(H1215,(TABLE!WIN),((E1226+5)*2+2))),(VLOOKUP(H1215,(TABLE!LOSE),((E1226+5)*2+2))))))","v":""}]
[null,{"$f":"SCORECARD!C553","v":" "},null,null,{"$f":"SCORECARD!F553","v":" "},{"$f":"SCORECARD!G553","v":0},{"$f":"SCORECARD!H553","v":0},{"$f":"IF(NOT(OR(F1227>0,G1227>0)),\"\",(IF((F1227-G1227>0),(VLOOKUP(H1215,(TABLE!WIN),((E1227+5)*2+2))),(VLOOKUP(H1215,(TABLE!LOSE),((E1227+5)*2+2))))))","v":""}]
[null,{"$f":"SCORECARD!C554","v":" "},null,null,{"$f":"SCORECARD!F554","v":" "},{"$f":"SCORECARD!G554","v":0},{"$f":"SCORECARD!H554","v":0},{"$f":"IF(NOT(OR(F1228>0,G1228>0)),\"\",(IF((F1228-G1228>0),(VLOOKUP(H1215,(TABLE!WIN),((E1228+5)*2+2))),(VLOOKUP(H1215,(TABLE!LOSE),((E1228+5)*2+2))))))","v":""}]
[null,{"$f":"SCORECARD!C555","v":" "},null,null,{"$f":"SCORECARD!F555","v":" "},{"$f":"SCORECARD!G555","v":0},{"$f":"SCORECARD!H555","v":0},{"$f":"IF(NOT(OR(F1229>0,G1229>0)),\"\",(IF((F1229-G1229>0),(VLOOKUP(H1215,(TABLE!WIN),((E1229+5)*2+2))),(VLOOKUP(H1215,(TABLE!LOSE),((E1229+5)*2+2))))))","v":""}]
[null,{"$f":"SCORECARD!C556","v":" "},null,null,{"$f":"SCORECARD!F556","v":" "},{"$f":"SCORECARD!G556","v":0},{"$f":"SCORECARD!H556","v":0},{"$f":"IF(NOT(OR(F1230>0,G1230>0)),\"\",(IF((F1230-G1230>0),(VLOOKUP(H1215,(TABLE!WIN),((E1230+5)*2+2))),(VLOOKUP(H1215,(TABLE!LOSE),((E1230+5)*2+2))))))","v":""}]
[null,{"$f":"SCORECARD!C557","v":" "},null,null,{"$f":"SCORECARD!F557","v":" "},{"$f":"SCORECARD!G557","v":0},{"$f":"SCORECARD!H557","v":0},{"$f":"IF(NOT(OR(F1231>0,G1231>0)),\"\",(IF((F1231-G1231>0),(VLOOKUP(H1215,(TABLE!WIN),((E1231+5)*2+2))),(VLOOKUP(H1215,(TABLE!LOSE),((E1231+5)*2+2))))))","v":""}]
[]
[null,null,null,null,null,null,"Handicap adjustment points total   ",{"$f":"SUM(H1218:H1231)","v":0}]
[]
[]
[]
[]
[]
[]
[]
[]
[]
[]
[]
[]
[{"$f":"note1","v":"Time limit 2.5 hours, Turn After Bell (61.1.6). Quadway hoops (3 11/16\"), Dawson International balls"}]
[{"$f":"note2","v":"Games may start early. Please be at the venue at least 30 minutes earlier than the scheduled start time."}]
[{"$f":"note3","v":"Entry Fee $40 will be invoiced by email. Please pay by EFT using the invoice No. as reference."}]
[{"$f":"note4","v":"Players please assist with setting and clearing courts."}]
[null,null,null,null,{"$f":"BLOCK!I122","v":" Block 7 Player 3"}]
[null,null,null,null,{"$f":"BLOCK!J118","v":"TOURNAMENT"}]
[null,null,null,null,{"$f":"BLOCK!G119","v":"DATE"}]
[null,null,null,null,{"$f":"BLOCK!B122","v":"BLOCK 7"}]
[]
[null,null,null,null,"BLOCK PLAY SCHEDULE"]
[null,"DAY","TIME",null,"COURT","OPPONENT",null,"HANDICAP","PS","OS"]
[null,{"$f":"GAMES!C52","v":"00:00:00"},{"$f":"GAMES!B52","v":"00:00:00"},null,{"$f":"GAMES!D52","v":0},{"$f":"GAMES!E52","v":" Block 7 Player 2"},null,{"$f":"$E$1267","v":0},{"$f":"$F$1267","v":-1E-3},{"$f":"$G$1267","v":-1E-3}]
[null,{"$f":"GAMES!C53","v":"00:00:00"},{"$f":"GAMES!B53","v":"00:00:00"},null,{"$f":"GAMES!D53","v":0},{"$f":"GAMES!G53","v":" Block 7 Player 1"},null,{"$f":"$E$1266","v":0},{"$f":"$F$1266","v":-1E-3},{"$f":"$G$1266","v":-1E-3}]
[null,{"$f":"GAMES!C56","v":"00:00:00"},{"$f":"GAMES!B56","v":"00:00:00"},null,{"$f":"GAMES!D56","v":0},{"$f":"GAMES!G56","v":" Block 7 Player 4"},null,{"$f":"$E$1268","v":0},{"$f":"$F$1268","v":-1E-3},{"$f":"$G$1268","v":-1E-3}]
[]
[]
[]
[null,"PLAYER:",{"$f":"BLOCK!J122","v":0},null,null,null,"HANDICAP",{"$f":"BLOCK!B131","v":0}]
[null,null,null,null,"OPP","PLAYER","OPP","H/CAP"]
[null,null,"OPPONENT",null,"HCP","SCORE","SCORE","POINTS"]
[null,{"$f":"SCORECARD!C568","v":" Block 7 Player 1"},null,null,{"$f":"SCORECARD!F568","v":0},{"$f":"SCORECARD!G568","v":-1E-3},{"$f":"SCORECARD!H568","v":-1E-3},{"$f":"IF(NOT(OR(F1266>0,G1266>0)),\"\",IF(HandicapPlay=\"x\",IF(F1266>G1266,10,-10),(IF((F1266-G1266>0),(VLOOKUP(OFFSET(H1266,-3,0),(TABLE!WIN),(MATCH(E1266,WINCOL,0)+1))),(VLOOKUP(OFFSET(H1266,-3,0),(TABLE!LOSE),(MATCH(E1266,LOSECOL,0)+1)))))))","v":""}]
[null,{"$f":"SCORECARD!C569","v":" Block 7 Player 2"},null,null,{"$f":"SCORECARD!F569","v":0},{"$f":"SCORECARD!G569","v":-1E-3},{"$f":"SCORECARD!H569","v":-1E-3},{"$f":"IF(NOT(OR(F1267>0,G1267>0)),\"\",IF(HandicapPlay=\"x\",IF(F1267>G1267,10,-10),(IF((F1267-G1267>0),(VLOOKUP(OFFSET(H1267,-4,0),(TABLE!WIN),(MATCH(E1267,WINCOL,0)+1))),(VLOOKUP(OFFSET(H1267,-4,0),(TABLE!LOSE),(MATCH(E1267,LOSECOL,0)+1)))))))","v":""}]
[null,{"$f":"SCORECARD!C570","v":" Block 7 Player 4"},null,null,{"$f":"SCORECARD!F570","v":0},{"$f":"SCORECARD!G570","v":-1E-3},{"$f":"SCORECARD!H570","v":-1E-3},{"$f":"IF(NOT(OR(F1268>0,G1268>0)),\"\",IF(HandicapPlay=\"x\",IF(F1268>G1268,10,-10),(IF((F1268-G1268>0),(VLOOKUP(OFFSET(H1268,-5,0),(TABLE!WIN),(MATCH(E1268,WINCOL,0)+1))),(VLOOKUP(OFFSET(H1268,-5,0),(TABLE!LOSE),(MATCH(E1268,LOSECOL,0)+1)))))))","v":""}]
[null,{"$f":"SCORECARD!C571","v":" "},null,null,{"$f":"SCORECARD!F571","v":" "},{"$f":"SCORECARD!G571","v":0},{"$f":"SCORECARD!H571","v":0},{"$f":"IF(NOT(OR(F1269>0,G1269>0)),\"\",(IF((F1269-G1269>0),(VLOOKUP(H1263,(TABLE!WIN),((E1269+5)*2+2))),(VLOOKUP(H1263,(TABLE!LOSE),((E1269+5)*2+2))))))","v":""}]
[null,{"$f":"SCORECARD!C572","v":" "},null,null,{"$f":"SCORECARD!F572","v":" "},{"$f":"SCORECARD!G572","v":0},{"$f":"SCORECARD!H572","v":0},{"$f":"IF(NOT(OR(F1270>0,G1270>0)),\"\",(IF((F1270-G1270>0),(VLOOKUP(H1263,(TABLE!WIN),((E1270+5)*2+2))),(VLOOKUP(H1263,(TABLE!LOSE),((E1270+5)*2+2))))))","v":""}]
[null,{"$f":"SCORECARD!C573","v":" "},null,null,{"$f":"SCORECARD!F573","v":" "},{"$f":"SCORECARD!G573","v":0},{"$f":"SCORECARD!H573","v":0},{"$f":"IF(NOT(OR(F1271>0,G1271>0)),\"\",(IF((F1271-G1271>0),(VLOOKUP(H1263,(TABLE!WIN),((E1271+5)*2+2))),(VLOOKUP(H1263,(TABLE!LOSE),((E1271+5)*2+2))))))","v":""}]
[null,{"$f":"SCORECARD!C574","v":" "},null,null,{"$f":"SCORECARD!F574","v":" "},{"$f":"SCORECARD!G574","v":0},{"$f":"SCORECARD!H574","v":0},{"$f":"IF(NOT(OR(F1272>0,G1272>0)),\"\",(IF((F1272-G1272>0),(VLOOKUP(H1263,(TABLE!WIN),((E1272+5)*2+2))),(VLOOKUP(H1263,(TABLE!LOSE),((E1272+5)*2+2))))))","v":""}]
[null,{"$f":"SCORECARD!C575","v":" "},null,null,{"$f":"SCORECARD!F575","v":" "},{"$f":"SCORECARD!G575","v":0},{"$f":"SCORECARD!H575","v":0},{"$f":"IF(NOT(OR(F1273>0,G1273>0)),\"\",(IF((F1273-G1273>0),(VLOOKUP(H1263,(TABLE!WIN),((E1273+5)*2+2))),(VLOOKUP(H1263,(TABLE!LOSE),((E1273+5)*2+2))))))","v":""}]
[null,{"$f":"SCORECARD!C576","v":" "},null,null,{"$f":"SCORECARD!F576","v":" "},{"$f":"SCORECARD!G576","v":0},{"$f":"SCORECARD!H576","v":0},{"$f":"IF(NOT(OR(F1274>0,G1274>0)),\"\",(IF((F1274-G1274>0),(VLOOKUP(H1263,(TABLE!WIN),((E1274+5)*2+2))),(VLOOKUP(H1263,(TABLE!LOSE),((E1274+5)*2+2))))))","v":""}]
[null,{"$f":"SCORECARD!C577","v":" "},null,null,{"$f":"SCORECARD!F577","v":" "},{"$f":"SCORECARD!G577","v":0},{"$f":"SCORECARD!H577","v":0},{"$f":"IF(NOT(OR(F1275>0,G1275>0)),\"\",(IF((F1275-G1275>0),(VLOOKUP(H1263,(TABLE!WIN),((E1275+5)*2+2))),(VLOOKUP(H1263,(TABLE!LOSE),((E1275+5)*2+2))))))","v":""}]
[null,{"$f":"SCORECARD!C578","v":" "},null,null,{"$f":"SCORECARD!F578","v":" "},{"$f":"SCORECARD!G578","v":0},{"$f":"SCORECARD!H578","v":0},{"$f":"IF(NOT(OR(F1276>0,G1276>0)),\"\",(IF((F1276-G1276>0),(VLOOKUP(H1263,(TABLE!WIN),((E1276+5)*2+2))),(VLOOKUP(H1263,(TABLE!LOSE),((E1276+5)*2+2))))))","v":""}]
[null,{"$f":"SCORECARD!C579","v":" "},null,null,{"$f":"SCORECARD!F579","v":" "},{"$f":"SCORECARD!G579","v":0},{"$f":"SCORECARD!H579","v":0},{"$f":"IF(NOT(OR(F1277>0,G1277>0)),\"\",(IF((F1277-G1277>0),(VLOOKUP(H1263,(TABLE!WIN),((E1277+5)*2+2))),(VLOOKUP(H1263,(TABLE!LOSE),((E1277+5)*2+2))))))","v":""}]
[null,{"$f":"SCORECARD!C580","v":" "},null,null,{"$f":"SCORECARD!F580","v":" "},{"$f":"SCORECARD!G580","v":0},{"$f":"SCORECARD!H580","v":0},{"$f":"IF(NOT(OR(F1278>0,G1278>0)),\"\",(IF((F1278-G1278>0),(VLOOKUP(H1263,(TABLE!WIN),((E1278+5)*2+2))),(VLOOKUP(H1263,(TABLE!LOSE),((E1278+5)*2+2))))))","v":""}]
[null,{"$f":"SCORECARD!C581","v":" "},null,null,{"$f":"SCORECARD!F581","v":" "},{"$f":"SCORECARD!G581","v":0},{"$f":"SCORECARD!H581","v":0},{"$f":"IF(NOT(OR(F1279>0,G1279>0)),\"\",(IF((F1279-G1279>0),(VLOOKUP(H1263,(TABLE!WIN),((E1279+5)*2+2))),(VLOOKUP(H1263,(TABLE!LOSE),((E1279+5)*2+2))))))","v":""}]
[]
[null,null,null,null,null,null,"Handicap adjustment points total   ",{"$f":"SUM(H1266:H1279)","v":0}]
[]
[]
[]
[]
[]
[]
[]
[]
[]
[]
[]
[]
[{"$f":"note1","v":"Time limit 2.5 hours, Turn After Bell (61.1.6). Quadway hoops (3 11/16\"), Dawson International balls"}]
[{"$f":"note2","v":"Games may start early. Please be at the venue at least 30 minutes earlier than the scheduled start time."}]
[{"$f":"note3","v":"Entry Fee $40 will be invoiced by email. Please pay by EFT using the invoice No. as reference."}]
[{"$f":"note4","v":"Players please assist with setting and clearing courts."}]
[null,null,null,null,{"$f":"BLOCK!L122","v":" Block 7 Player 4"}]
[null,null,null,null,{"$f":"BLOCK!J118","v":"TOURNAMENT"}]
[null,null,null,null,{"$f":"BLOCK!G119","v":"DATE"}]
[null,null,null,null,{"$f":"BLOCK!B122","v":"BLOCK 7"}]
[]
[null,null,null,null,"BLOCK PLAY SCHEDULE"]
[null,"DAY","TIME",null,"COURT","OPPONENT",null,"HANDICAP","PS","OS"]
[null,{"$f":"GAMES!C51","v":"00:00:00"},{"$f":"GAMES!B51","v":"00:00:00"},null,{"$f":"GAMES!D51","v":0},{"$f":"GAMES!E51","v":" Block 7 Player 1"},null,{"$f":"$E$1314","v":0},{"$f":"$F$1314","v":-1E-3},{"$f":"$G$1314","v":-1E-3}]
[null,{"$f":"GAMES!C54","v":"00:00:00"},{"$f":"GAMES!B54","v":"00:00:00"},null,{"$f":"GAMES!D54","v":0},{"$f":"GAMES!G54","v":" Block 7 Player 2"},null,{"$f":"$E$1315","v":0},{"$f":"$F$1315","v":-1E-3},{"$f":"$G$1315","v":-1E-3}]
[null,{"$f":"GAMES!C56","v":"00:00:00"},{"$f":"GAMES!B56","v":"00:00:00"},null,{"$f":"GAMES!D56","v":0},{"$f":"GAMES!E56","v":" Block 7 Player 3"},null,{"$f":"$E$1316","v":0},{"$f":"$F$1316","v":-1E-3},{"$f":"$G$1316","v":-1E-3}]
[]
[]
[]
[null,"PLAYER:",{"$f":"BLOCK!L122","v":" Block 7 Player 4"},null,null,null,"HANDICAP",{"$f":"BLOCK!B134","v":0}]
[null,null,null,null,"OPP","PLAYER","OPP","H/CAP"]
[null,null,"OPPONENT",null,"HCP","SCORE","SCORE","POINTS"]
[null,{"$f":"SCORECARD!C587","v":" Block 7 Player 1"},null,null,{"$f":"SCORECARD!F587","v":0},{"$f":"SCORECARD!G587","v":-1E-3},{"$f":"SCORECARD!H587","v":-1E-3},{"$f":"IF(NOT(OR(F1314>0,G1314>0)),\"\",IF(HandicapPlay=\"x\",IF(F1314>G1314,10,-10),(IF((F1314-G1314>0),(VLOOKUP(OFFSET(H1314,-3,0),(TABLE!WIN),(MATCH(E1314,WINCOL,0)+1))),(VLOOKUP(OFFSET(H1314,-3,0),(TABLE!LOSE),(MATCH(E1314,LOSECOL,0)+1)))))))","v":""}]
[null,{"$f":"SCORECARD!C588","v":" Block 7 Player 2"},null,null,{"$f":"SCORECARD!F588","v":0},{"$f":"SCORECARD!G588","v":-1E-3},{"$f":"SCORECARD!H588","v":-1E-3},{"$f":"IF(NOT(OR(F1315>0,G1315>0)),\"\",IF(HandicapPlay=\"x\",IF(F1315>G1315,10,-10),(IF((F1315-G1315>0),(VLOOKUP(OFFSET(H1315,-4,0),(TABLE!WIN),(MATCH(E1315,WINCOL,0)+1))),(VLOOKUP(OFFSET(H1315,-4,0),(TABLE!LOSE),(MATCH(E1315,LOSECOL,0)+1)))))))","v":""}]
[null,{"$f":"SCORECARD!C589","v":" Block 7 Player 3"},null,null,{"$f":"SCORECARD!F589","v":0},{"$f":"SCORECARD!G589","v":-1E-3},{"$f":"SCORECARD!H589","v":-1E-3},{"$f":"IF(NOT(OR(F1316>0,G1316>0)),\"\",IF(HandicapPlay=\"x\",IF(F1316>G1316,10,-10),(IF((F1316-G1316>0),(VLOOKUP(OFFSET(H1316,-5,0),(TABLE!WIN),(MATCH(E1316,WINCOL,0)+1))),(VLOOKUP(OFFSET(H1316,-5,0),(TABLE!LOSE),(MATCH(E1316,LOSECOL,0)+1)))))))","v":""}]
[null,{"$f":"SCORECARD!C590","v":" "},null,null,{"$f":"SCORECARD!F590","v":" "},{"$f":"SCORECARD!G590","v":0},{"$f":"SCORECARD!H590","v":0},{"$f":"IF(NOT(OR(F1317>0,G1317>0)),\"\",(IF((F1317-G1317>0),(VLOOKUP(H1311,(TABLE!WIN),((E1317+5)*2+2))),(VLOOKUP(H1311,(TABLE!LOSE),((E1317+5)*2+2))))))","v":""}]
[null,{"$f":"SCORECARD!C591","v":" "},null,null,{"$f":"SCORECARD!F591","v":" "},{"$f":"SCORECARD!G591","v":0},{"$f":"SCORECARD!H591","v":0},{"$f":"IF(NOT(OR(F1318>0,G1318>0)),\"\",(IF((F1318-G1318>0),(VLOOKUP(H1311,(TABLE!WIN),((E1318+5)*2+2))),(VLOOKUP(H1311,(TABLE!LOSE),((E1318+5)*2+2))))))","v":""}]
[null,{"$f":"SCORECARD!C592","v":" "},null,null,{"$f":"SCORECARD!F592","v":" "},{"$f":"SCORECARD!G592","v":0},{"$f":"SCORECARD!H592","v":0},{"$f":"IF(NOT(OR(F1319>0,G1319>0)),\"\",(IF((F1319-G1319>0),(VLOOKUP(H1311,(TABLE!WIN),((E1319+5)*2+2))),(VLOOKUP(H1311,(TABLE!LOSE),((E1319+5)*2+2))))))","v":""}]
[null,{"$f":"SCORECARD!C593","v":" "},null,null,{"$f":"SCORECARD!F593","v":" "},{"$f":"SCORECARD!G593","v":0},{"$f":"SCORECARD!H593","v":0},{"$f":"IF(NOT(OR(F1320>0,G1320>0)),\"\",(IF((F1320-G1320>0),(VLOOKUP(H1311,(TABLE!WIN),((E1320+5)*2+2))),(VLOOKUP(H1311,(TABLE!LOSE),((E1320+5)*2+2))))))","v":""}]
[null,{"$f":"SCORECARD!C594","v":" "},null,null,{"$f":"SCORECARD!F594","v":" "},{"$f":"SCORECARD!G594","v":0},{"$f":"SCORECARD!H594","v":0},{"$f":"IF(NOT(OR(F1321>0,G1321>0)),\"\",(IF((F1321-G1321>0),(VLOOKUP(H1311,(TABLE!WIN),((E1321+5)*2+2))),(VLOOKUP(H1311,(TABLE!LOSE),((E1321+5)*2+2))))))","v":""}]
[null,{"$f":"SCORECARD!C595","v":" "},null,null,{"$f":"SCORECARD!F595","v":" "},{"$f":"SCORECARD!G595","v":0},{"$f":"SCORECARD!H595","v":0},{"$f":"IF(NOT(OR(F1322>0,G1322>0)),\"\",(IF((F1322-G1322>0),(VLOOKUP(H1311,(TABLE!WIN),((E1322+5)*2+2))),(VLOOKUP(H1311,(TABLE!LOSE),((E1322+5)*2+2))))))","v":""}]
[null,{"$f":"SCORECARD!C596","v":" "},null,null,{"$f":"SCORECARD!F596","v":" "},{"$f":"SCORECARD!G596","v":0},{"$f":"SCORECARD!H596","v":0},{"$f":"IF(NOT(OR(F1323>0,G1323>0)),\"\",(IF((F1323-G1323>0),(VLOOKUP(H1311,(TABLE!WIN),((E1323+5)*2+2))),(VLOOKUP(H1311,(TABLE!LOSE),((E1323+5)*2+2))))))","v":""}]
[null,{"$f":"SCORECARD!C597","v":" "},null,null,{"$f":"SCORECARD!F597","v":" "},{"$f":"SCORECARD!G597","v":0},{"$f":"SCORECARD!H597","v":0},{"$f":"IF(NOT(OR(F1324>0,G1324>0)),\"\",(IF((F1324-G1324>0),(VLOOKUP(H1311,(TABLE!WIN),((E1324+5)*2+2))),(VLOOKUP(H1311,(TABLE!LOSE),((E1324+5)*2+2))))))","v":""}]
[null,{"$f":"SCORECARD!C598","v":" "},null,null,{"$f":"SCORECARD!F598","v":" "},{"$f":"SCORECARD!G598","v":0},{"$f":"SCORECARD!H598","v":0},{"$f":"IF(NOT(OR(F1325>0,G1325>0)),\"\",(IF((F1325-G1325>0),(VLOOKUP(H1311,(TABLE!WIN),((E1325+5)*2+2))),(VLOOKUP(H1311,(TABLE!LOSE),((E1325+5)*2+2))))))","v":""}]
[null,{"$f":"SCORECARD!C599","v":" "},null,null,{"$f":"SCORECARD!F599","v":" "},{"$f":"SCORECARD!G599","v":0},{"$f":"SCORECARD!H599","v":0},{"$f":"IF(NOT(OR(F1326>0,G1326>0)),\"\",(IF((F1326-G1326>0),(VLOOKUP(H1311,(TABLE!WIN),((E1326+5)*2+2))),(VLOOKUP(H1311,(TABLE!LOSE),((E1326+5)*2+2))))))","v":""}]
[null,{"$f":"SCORECARD!C600","v":" "},null,null,{"$f":"SCORECARD!F600","v":" "},{"$f":"SCORECARD!G600","v":0},{"$f":"SCORECARD!H600","v":0},{"$f":"IF(NOT(OR(F1327>0,G1327>0)),\"\",(IF((F1327-G1327>0),(VLOOKUP(H1311,(TABLE!WIN),((E1327+5)*2+2))),(VLOOKUP(H1311,(TABLE!LOSE),((E1327+5)*2+2))))))","v":""}]
[]
[null,null,null,null,null,null,"Handicap adjustment points total   ",{"$f":"SUM(H1314:H1327)","v":0}]
[]
[]
[]
[]
[]
[]
[]
[]
[]
[]
[]
[]
[{"$f":"note1","v":"Time limit 2.5 hours, Turn After Bell (61.1.6). Quadway hoops (3 11/16\"), Dawson International balls"}]
[{"$f":"note2","v":"Games may start early. Please be at the venue at least 30 minutes earlier than the scheduled start time."}]
[{"$f":"note3","v":"Entry Fee $40 will be invoiced by email. Please pay by EFT using the invoice No. as reference."}]
[{"$f":"note4","v":"Players please assist with setting and clearing courts."}]
[null,null,null,null,{"$f":"BLOCK!C141","v":" Block 8 Player 1"}]
[null,null,null,null,{"$f":"BLOCK!J137","v":"TOURNAMENT"}]
[null,null,null,null,{"$f":"BLOCK!G138","v":"DATE"}]
[null,null,null,null,{"$f":"BLOCK!B141","v":"BLOCK 8"}]
[]
[null,null,null,null,"BLOCK PLAY SCHEDULE"]
[null,"DAY","TIME",null,"COURT","OPPONENT",null,"HANDICAP","PS","OS"]
[null,{"$f":"GAMES!C59","v":"00:00:00"},{"$f":"GAMES!B59","v":"00:00:00"},null,{"$f":"GAMES!D59","v":0},{"$f":"GAMES!G59","v":" Block 8 Player 4"},null,{"$f":"$E$1364","v":0},{"$f":"$F$1364","v":-1E-3},{"$f":"$G$1364","v":-1E-3}]
[null,{"$f":"GAMES!C61","v":"00:00:00"},{"$f":"GAMES!B61","v":"00:00:00"},null,{"$f":"GAMES!D61","v":0},{"$f":"GAMES!E61","v":" Block 8 Player 3"},null,{"$f":"$E$1363","v":0},{"$f":"$F$1363","v":-1E-3},{"$f":"$G$1363","v":-1E-3}]
[null,{"$f":"GAMES!C63","v":"00:00:00"},{"$f":"GAMES!B63","v":"00:00:00"},null,{"$f":"GAMES!D63","v":0},{"$f":"GAMES!E63","v":" Block 8 Player 2"},null,{"$f":"$E$1362","v":0},{"$f":"$F$1362","v":-1E-3},{"$f":"$G$1362","v":-1E-3}]
[]
[]
[]
[null,"PLAYER:",{"$f":"BLOCK!C141","v":" Block 8 Player 1"},null,null,null,"HANDICAP",{"$f":"BLOCK!B144","v":0}]
[null,null,null,null,"OPP","PLAYER","OPP","H/CAP"]
[null,null,"OPPONENT",null,"HCP","SCORE","SCORE","POINTS"]
[null,{"$f":"SCORECARD!C611","v":" Block 8 Player 2"},null,null,{"$f":"SCORECARD!F611","v":0},{"$f":"SCORECARD!G611","v":-1E-3},{"$f":"SCORECARD!H611","v":-1E-3},{"$f":"IF(NOT(OR(F1362>0,G1362>0)),\"\",IF(HandicapPlay=\"x\",IF(F1362>G1362,10,-10),(IF((F1362-G1362>0),(VLOOKUP(OFFSET(H1362,-3,0),(TABLE!WIN),(MATCH(E1362,WINCOL,0)+1))),(VLOOKUP(OFFSET(H1362,-3,0),(TABLE!LOSE),(MATCH(E1362,LOSECOL,0)+1)))))))","v":""}]
[null,{"$f":"SCORECARD!C612","v":" Block 8 Player 3"},null,null,{"$f":"SCORECARD!F612","v":0},{"$f":"SCORECARD!G612","v":-1E-3},{"$f":"SCORECARD!H612","v":-1E-3},{"$f":"IF(NOT(OR(F1363>0,G1363>0)),\"\",IF(HandicapPlay=\"x\",IF(F1363>G1363,10,-10),(IF((F1363-G1363>0),(VLOOKUP(OFFSET(H1363,-4,0),(TABLE!WIN),(MATCH(E1363,WINCOL,0)+1))),(VLOOKUP(OFFSET(H1363,-4,0),(TABLE!LOSE),(MATCH(E1363,LOSECOL,0)+1)))))))","v":""}]
[null,{"$f":"SCORECARD!C613","v":" Block 8 Player 4"},null,null,{"$f":"SCORECARD!F613","v":0},{"$f":"SCORECARD!G613","v":-1E-3},{"$f":"SCORECARD!H613","v":-1E-3},{"$f":"IF(NOT(OR(F1364>0,G1364>0)),\"\",IF(HandicapPlay=\"x\",IF(F1364>G1364,10,-10),(IF((F1364-G1364>0),(VLOOKUP(OFFSET(H1364,-5,0),(TABLE!WIN),(MATCH(E1364,WINCOL,0)+1))),(VLOOKUP(OFFSET(H1364,-5,0),(TABLE!LOSE),(MATCH(E1364,LOSECOL,0)+1)))))))","v":""}]
[null,{"$f":"SCORECARD!C614","v":" "},null,null,{"$f":"SCORECARD!F614","v":" "},{"$f":"SCORECARD!G614","v":0},{"$f":"SCORECARD!H614","v":0},{"$f":"IF(NOT(OR(F1365>0,G1365>0)),\"\",(IF((F1365-G1365>0),(VLOOKUP(H1359,(TABLE!WIN),((E1365+5)*2+2))),(VLOOKUP(H1359,(TABLE!LOSE),((E1365+5)*2+2))))))","v":""}]
[null,{"$f":"SCORECARD!C615","v":" "},null,null,{"$f":"SCORECARD!F615","v":" "},{"$f":"SCORECARD!G615","v":0},{"$f":"SCORECARD!H615","v":0},{"$f":"IF(NOT(OR(F1366>0,G1366>0)),\"\",(IF((F1366-G1366>0),(VLOOKUP(H1359,(TABLE!WIN),((E1366+5)*2+2))),(VLOOKUP(H1359,(TABLE!LOSE),((E1366+5)*2+2))))))","v":""}]
[null,{"$f":"SCORECARD!C616","v":" "},null,null,{"$f":"SCORECARD!F616","v":" "},{"$f":"SCORECARD!G616","v":0},{"$f":"SCORECARD!H616","v":0},{"$f":"IF(NOT(OR(F1367>0,G1367>0)),\"\",(IF((F1367-G1367>0),(VLOOKUP(H1359,(TABLE!WIN),((E1367+5)*2+2))),(VLOOKUP(H1359,(TABLE!LOSE),((E1367+5)*2+2))))))","v":""}]
[null,{"$f":"SCORECARD!C617","v":" "},null,null,{"$f":"SCORECARD!F617","v":" "},{"$f":"SCORECARD!G617","v":0},{"$f":"SCORECARD!H617","v":0},{"$f":"IF(NOT(OR(F1368>0,G1368>0)),\"\",(IF((F1368-G1368>0),(VLOOKUP(H1359,(TABLE!WIN),((E1368+5)*2+2))),(VLOOKUP(H1359,(TABLE!LOSE),((E1368+5)*2+2))))))","v":""}]
[null,{"$f":"SCORECARD!C618","v":" "},null,null,{"$f":"SCORECARD!F618","v":" "},{"$f":"SCORECARD!G618","v":0},{"$f":"SCORECARD!H618","v":0},{"$f":"IF(NOT(OR(F1369>0,G1369>0)),\"\",(IF((F1369-G1369>0),(VLOOKUP(H1359,(TABLE!WIN),((E1369+5)*2+2))),(VLOOKUP(H1359,(TABLE!LOSE),((E1369+5)*2+2))))))","v":""}]
[null,{"$f":"SCORECARD!C619","v":" "},null,null,{"$f":"SCORECARD!F619","v":" "},{"$f":"SCORECARD!G619","v":0},{"$f":"SCORECARD!H619","v":0},{"$f":"IF(NOT(OR(F1370>0,G1370>0)),\"\",(IF((F1370-G1370>0),(VLOOKUP(H1359,(TABLE!WIN),((E1370+5)*2+2))),(VLOOKUP(H1359,(TABLE!LOSE),((E1370+5)*2+2))))))","v":""}]
[null,{"$f":"SCORECARD!C620","v":" "},null,null,{"$f":"SCORECARD!F620","v":" "},{"$f":"SCORECARD!G620","v":0},{"$f":"SCORECARD!H620","v":0},{"$f":"IF(NOT(OR(F1371>0,G1371>0)),\"\",(IF((F1371-G1371>0),(VLOOKUP(H1359,(TABLE!WIN),((E1371+5)*2+2))),(VLOOKUP(H1359,(TABLE!LOSE),((E1371+5)*2+2))))))","v":""}]
[null,{"$f":"SCORECARD!C621","v":" "},null,null,{"$f":"SCORECARD!F621","v":" "},{"$f":"SCORECARD!G621","v":0},{"$f":"SCORECARD!H621","v":0},{"$f":"IF(NOT(OR(F1372>0,G1372>0)),\"\",(IF((F1372-G1372>0),(VLOOKUP(H1359,(TABLE!WIN),((E1372+5)*2+2))),(VLOOKUP(H1359,(TABLE!LOSE),((E1372+5)*2+2))))))","v":""}]
[null,{"$f":"SCORECARD!C622","v":" "},null,null,{"$f":"SCORECARD!F622","v":" "},{"$f":"SCORECARD!G622","v":0},{"$f":"SCORECARD!H622","v":0},{"$f":"IF(NOT(OR(F1373>0,G1373>0)),\"\",(IF((F1373-G1373>0),(VLOOKUP(H1359,(TABLE!WIN),((E1373+5)*2+2))),(VLOOKUP(H1359,(TABLE!LOSE),((E1373+5)*2+2))))))","v":""}]
[null,{"$f":"SCORECARD!C623","v":" "},null,null,{"$f":"SCORECARD!F623","v":" "},{"$f":"SCORECARD!G623","v":0},{"$f":"SCORECARD!H623","v":0},{"$f":"IF(NOT(OR(F1374>0,G1374>0)),\"\",(IF((F1374-G1374>0),(VLOOKUP(H1359,(TABLE!WIN),((E1374+5)*2+2))),(VLOOKUP(H1359,(TABLE!LOSE),((E1374+5)*2+2))))))","v":""}]
[null,{"$f":"SCORECARD!C624","v":" "},null,null,{"$f":"SCORECARD!F624","v":"  "},{"$f":"SCORECARD!G624","v":0},{"$f":"SCORECARD!H624","v":0},{"$f":"IF(NOT(OR(F1375>0,G1375>0)),\"\",(IF((F1375-G1375>0),(VLOOKUP(H1359,(TABLE!WIN),((E1375+5)*2+2))),(VLOOKUP(H1359,(TABLE!LOSE),((E1375+5)*2+2))))))","v":""}]
[]
[null,null,null,null,null,null,"Handicap adjustment points total   ",{"$f":"SUM(H1362:H1375)","v":0}]
[]
[]
[]
[]
[]
[]
[]
[]
[]
[]
[]
[]
[{"$f":"note1","v":"Time limit 2.5 hours, Turn After Bell (61.1.6). Quadway hoops (3 11/16\"), Dawson International balls"}]
[{"$f":"note2","v":"Games may start early. Please be at the venue at least 30 minutes earlier than the scheduled start time."}]
[{"$f":"note3","v":"Entry Fee $40 will be invoiced by email. Please pay by EFT using the invoice No. as reference."}]
[{"$f":"note4","v":"Players please assist with setting and clearing courts."}]
[null,null,null,null,{"$f":"BLOCK!F141","v":" Block 8 Player 2"}]
[null,null,null,null,{"$f":"BLOCK!J137","v":"TOURNAMENT"}]
[null,null,null,null,{"$f":"BLOCK!G138","v":"DATE"}]
[null,null,null,null,{"$f":"BLOCK!B141","v":"BLOCK 8"}]
[]
[null,null,null,null,"BLOCK PLAY SCHEDULE"]
[null,"DAY","TIME",null,"COURT","OPPONENT",null,"HANDICAP","PS","OS"]
[null,{"$f":"GAMES!C60","v":"00:00:00"},{"$f":"GAMES!B60","v":"00:00:00"},null,{"$f":"GAMES!D60","v":0},{"$f":"GAMES!G60","v":" Block 8 Player 3"},null,{"$f":"$E$1411","v":0},{"$f":"$F$1411","v":-1E-3},{"$f":"$G$1411","v":-1E-3}]
[null,{"$f":"GAMES!C62","v":"00:00:00"},{"$f":"GAMES!B62","v":"00:00:00"},null,{"$f":"GAMES!D62","v":0},{"$f":"GAMES!E62","v":" Block 8 Player 4"},null,{"$f":"$E$1412","v":0},{"$f":"$F$1412","v":-1E-3},{"$f":"$G$1412","v":-1E-3}]
[null,{"$f":"GAMES!C63","v":"00:00:00"},{"$f":"GAMES!B63","v":"00:00:00"},null,{"$f":"GAMES!D63","v":0},{"$f":"GAMES!G63","v":" Block 8 Player 1"},null,{"$f":"$E$1410","v":0},{"$f":"$F$1410","v":-1E-3},{"$f":"$G$1410","v":-1E-3}]
[]
[]
[]
[null,"PLAYER:",{"$f":"BLOCK!F141","v":" Block 8 Player 2"},null,null,null,"HANDICAP",{"$f":"BLOCK!B147","v":0}]
[null,null,null,null,"OPP","PLAYER","OPP","H/CAP"]
[null,null,"OPPONENT",null,"HCP","SCORE","SCORE","POINTS"]
[null,{"$f":"SCORECARD!C630","v":" Block 8 Player 1"},null,null,{"$f":"SCORECARD!F630","v":0},{"$f":"SCORECARD!G630","v":-1E-3},{"$f":"SCORECARD!H630","v":-1E-3},{"$f":"IF(NOT(OR(F1410>0,G1410>0)),\"\",IF(HandicapPlay=\"x\",IF(F1410>G1410,10,-10),(IF((F1410-G1410>0),(VLOOKUP(OFFSET(H1410,-3,0),(TABLE!WIN),(MATCH(E1410,WINCOL,0)+1))),(VLOOKUP(OFFSET(H1410,-3,0),(TABLE!LOSE),(MATCH(E1410,LOSECOL,0)+1)))))))","v":""}]
[null,{"$f":"SCORECARD!C631","v":" Block 8 Player 3"},null,null,{"$f":"SCORECARD!F631","v":0},{"$f":"SCORECARD!G631","v":-1E-3},{"$f":"SCORECARD!H631","v":-1E-3},{"$f":"IF(NOT(OR(F1411>0,G1411>0)),\"\",IF(HandicapPlay=\"x\",IF(F1411>G1411,10,-10),(IF((F1411-G1411>0),(VLOOKUP(OFFSET(H1411,-4,0),(TABLE!WIN),(MATCH(E1411,WINCOL,0)+1))),(VLOOKUP(OFFSET(H1411,-4,0),(TABLE!LOSE),(MATCH(E1411,LOSECOL,0)+1)))))))","v":""}]
[null,{"$f":"SCORECARD!C632","v":" Block 8 Player 4"},null,null,{"$f":"SCORECARD!F632","v":0},{"$f":"SCORECARD!G632","v":-1E-3},{"$f":"SCORECARD!H632","v":-1E-3},{"$f":"IF(NOT(OR(F1412>0,G1412>0)),\"\",IF(HandicapPlay=\"x\",IF(F1412>G1412,10,-10),(IF((F1412-G1412>0),(VLOOKUP(OFFSET(H1412,-5,0),(TABLE!WIN),(MATCH(E1412,WINCOL,0)+1))),(VLOOKUP(OFFSET(H1412,-5,0),(TABLE!LOSE),(MATCH(E1412,LOSECOL,0)+1)))))))","v":""}]
[null,{"$f":"SCORECARD!C633","v":" "},null,null,{"$f":"SCORECARD!F633","v":" "},{"$f":"SCORECARD!G633","v":0},{"$f":"SCORECARD!H633","v":0},{"$f":"IF(NOT(OR(F1413>0,G1413>0)),\"\",(IF((F1413-G1413>0),(VLOOKUP(H1407,(TABLE!WIN),((E1413+5)*2+2))),(VLOOKUP(H1407,(TABLE!LOSE),((E1413+5)*2+2))))))","v":""}]
[null,{"$f":"SCORECARD!C634","v":" "},null,null,{"$f":"SCORECARD!F634","v":" "},{"$f":"SCORECARD!G634","v":0},{"$f":"SCORECARD!H634","v":0},{"$f":"IF(NOT(OR(F1414>0,G1414>0)),\"\",(IF((F1414-G1414>0),(VLOOKUP(H1407,(TABLE!WIN),((E1414+5)*2+2))),(VLOOKUP(H1407,(TABLE!LOSE),((E1414+5)*2+2))))))","v":""}]
[null,{"$f":"SCORECARD!C635","v":" "},null,null,{"$f":"SCORECARD!F635","v":" "},{"$f":"SCORECARD!G635","v":0},{"$f":"SCORECARD!H635","v":0},{"$f":"IF(NOT(OR(F1415>0,G1415>0)),\"\",(IF((F1415-G1415>0),(VLOOKUP(H1407,(TABLE!WIN),((E1415+5)*2+2))),(VLOOKUP(H1407,(TABLE!LOSE),((E1415+5)*2+2))))))","v":""}]
[null,{"$f":"SCORECARD!C636","v":" "},null,null,{"$f":"SCORECARD!F636","v":" "},{"$f":"SCORECARD!G636","v":0},{"$f":"SCORECARD!H636","v":0},{"$f":"IF(NOT(OR(F1416>0,G1416>0)),\"\",(IF((F1416-G1416>0),(VLOOKUP(H1407,(TABLE!WIN),((E1416+5)*2+2))),(VLOOKUP(H1407,(TABLE!LOSE),((E1416+5)*2+2))))))","v":""}]
[null,{"$f":"SCORECARD!C637","v":" "},null,null,{"$f":"SCORECARD!F637","v":" "},{"$f":"SCORECARD!G637","v":0},{"$f":"SCORECARD!H637","v":0},{"$f":"IF(NOT(OR(F1417>0,G1417>0)),\"\",(IF((F1417-G1417>0),(VLOOKUP(H1407,(TABLE!WIN),((E1417+5)*2+2))),(VLOOKUP(H1407,(TABLE!LOSE),((E1417+5)*2+2))))))","v":""}]
[null,{"$f":"SCORECARD!C638","v":" "},null,null,{"$f":"SCORECARD!F638","v":" "},{"$f":"SCORECARD!G638","v":0},{"$f":"SCORECARD!H638","v":0},{"$f":"IF(NOT(OR(F1418>0,G1418>0)),\"\",(IF((F1418-G1418>0),(VLOOKUP(H1407,(TABLE!WIN),((E1418+5)*2+2))),(VLOOKUP(H1407,(TABLE!LOSE),((E1418+5)*2+2))))))","v":""}]
[null,{"$f":"SCORECARD!C639","v":" "},null,null,{"$f":"SCORECARD!F639","v":" "},{"$f":"SCORECARD!G639","v":0},{"$f":"SCORECARD!H639","v":0},{"$f":"IF(NOT(OR(F1419>0,G1419>0)),\"\",(IF((F1419-G1419>0),(VLOOKUP(H1407,(TABLE!WIN),((E1419+5)*2+2))),(VLOOKUP(H1407,(TABLE!LOSE),((E1419+5)*2+2))))))","v":""}]
[null,{"$f":"SCORECARD!C640","v":" "},null,null,{"$f":"SCORECARD!F640","v":" "},{"$f":"SCORECARD!G640","v":0},{"$f":"SCORECARD!H640","v":0},{"$f":"IF(NOT(OR(F1420>0,G1420>0)),\"\",(IF((F1420-G1420>0),(VLOOKUP(H1407,(TABLE!WIN),((E1420+5)*2+2))),(VLOOKUP(H1407,(TABLE!LOSE),((E1420+5)*2+2))))))","v":""}]
[null,{"$f":"SCORECARD!C641","v":" "},null,null,{"$f":"SCORECARD!F641","v":" "},{"$f":"SCORECARD!G641","v":0},{"$f":"SCORECARD!H641","v":0},{"$f":"IF(NOT(OR(F1421>0,G1421>0)),\"\",(IF((F1421-G1421>0),(VLOOKUP(H1407,(TABLE!WIN),((E1421+5)*2+2))),(VLOOKUP(H1407,(TABLE!LOSE),((E1421+5)*2+2))))))","v":""}]
[null,{"$f":"SCORECARD!C642","v":" "},null,null,{"$f":"SCORECARD!F642","v":" "},{"$f":"SCORECARD!G642","v":0},{"$f":"SCORECARD!H642","v":0},{"$f":"IF(NOT(OR(F1422>0,G1422>0)),\"\",(IF((F1422-G1422>0),(VLOOKUP(H1407,(TABLE!WIN),((E1422+5)*2+2))),(VLOOKUP(H1407,(TABLE!LOSE),((E1422+5)*2+2))))))","v":""}]
[null,{"$f":"SCORECARD!C643","v":" "},null,null,{"$f":"SCORECARD!F643","v":" "},{"$f":"SCORECARD!G643","v":0},{"$f":"SCORECARD!H643","v":0},{"$f":"IF(NOT(OR(F1423>0,G1423>0)),\"\",(IF((F1423-G1423>0),(VLOOKUP(H1407,(TABLE!WIN),((E1423+5)*2+2))),(VLOOKUP(H1407,(TABLE!LOSE),((E1423+5)*2+2))))))","v":""}]
[]
[null,null,null,null,null,null,"Handicap adjustment points total   ",{"$f":"SUM(H1410:H1423)","v":0}]
[]
[]
[]
[]
[]
[]
[]
[]
[]
[]
[]
[]
[{"$f":"note1","v":"Time limit 2.5 hours, Turn After Bell (61.1.6). Quadway hoops (3 11/16\"), Dawson International balls"}]
[{"$f":"note2","v":"Games may start early. Please be at the venue at least 30 minutes earlier than the scheduled start time."}]
[{"$f":"note3","v":"Entry Fee $40 will be invoiced by email. Please pay by EFT using the invoice No. as reference."}]
[{"$f":"note4","v":"Players please assist with setting and clearing courts."}]
[null,null,null,null,{"$f":"BLOCK!I141","v":" Block 8 Player 3"}]
[null,null,null,null,{"$f":"BLOCK!J137","v":"TOURNAMENT"}]
[null,null,null,null,{"$f":"BLOCK!G138","v":"DATE"}]
[null,null,null,null,{"$f":"BLOCK!B141","v":"BLOCK 8"}]
[]
[null,null,null,null,"BLOCK PLAY SCHEDULE"]
[null,"DAY","TIME",null,"COURT","OPPONENT",null,"HANDICAP","PS","OS"]
[null,{"$f":"GAMES!C60","v":"00:00:00"},{"$f":"GAMES!B60","v":"00:00:00"},null,{"$f":"GAMES!D60","v":0},{"$f":"GAMES!E60","v":" Block 8 Player 2"},null,{"$f":"$E$1459","v":0},{"$f":"$F$1459","v":-1E-3},{"$f":"$G$1459","v":-1E-3}]
[null,{"$f":"GAMES!C61","v":"00:00:00"},{"$f":"GAMES!B61","v":"00:00:00"},null,{"$f":"GAMES!D61","v":0},{"$f":"GAMES!G61","v":" Block 8 Player 1"},null,{"$f":"$E$1458","v":0},{"$f":"$F$1458","v":-1E-3},{"$f":"$G$1458","v":-1E-3}]
[null,{"$f":"GAMES!C64","v":"00:00:00"},{"$f":"GAMES!B64","v":"00:00:00"},null,{"$f":"GAMES!D64","v":0},{"$f":"GAMES!G64","v":" Block 8 Player 4"},null,{"$f":"$E$1460","v":0},{"$f":"$F$1460","v":-1E-3},{"$f":"$G$1460","v":-1E-3}]
[]
[]
[]
[null,"PLAYER:",{"$f":"BLOCK!I141","v":" Block 8 Player 3"},null,null,null,"HANDICAP",{"$f":"BLOCK!B150","v":0}]
[null,null,null,null,"OPP","PLAYER","OPP","H/CAP"]
[null,null,"OPPONENT",null,"HCP","SCORE","SCORE","POINTS"]
[null,{"$f":"SCORECARD!C654","v":" Block 8 Player 1"},null,null,{"$f":"SCORECARD!F654","v":0},{"$f":"SCORECARD!G654","v":-1E-3},{"$f":"SCORECARD!H654","v":-1E-3},{"$f":"IF(NOT(OR(F1458>0,G1458>0)),\"\",IF(HandicapPlay=\"x\",IF(F1458>G1458,10,-10),(IF((F1458-G1458>0),(VLOOKUP(OFFSET(H1458,-3,0),(TABLE!WIN),(MATCH(E1458,WINCOL,0)+1))),(VLOOKUP(OFFSET(H1458,-3,0),(TABLE!LOSE),(MATCH(E1458,LOSECOL,0)+1)))))))","v":""}]
[null,{"$f":"SCORECARD!C655","v":" Block 8 Player 2"},null,null,{"$f":"SCORECARD!F655","v":0},{"$f":"SCORECARD!G655","v":-1E-3},{"$f":"SCORECARD!H655","v":-1E-3},{"$f":"IF(NOT(OR(F1459>0,G1459>0)),\"\",IF(HandicapPlay=\"x\",IF(F1459>G1459,10,-10),(IF((F1459-G1459>0),(VLOOKUP(OFFSET(H1459,-4,0),(TABLE!WIN),(MATCH(E1459,WINCOL,0)+1))),(VLOOKUP(OFFSET(H1459,-4,0),(TABLE!LOSE),(MATCH(E1459,LOSECOL,0)+1)))))))","v":""}]
[null,{"$f":"SCORECARD!C656","v":" Block 8 Player 4"},null,null,{"$f":"SCORECARD!F656","v":0},{"$f":"SCORECARD!G656","v":-1E-3},{"$f":"SCORECARD!H656","v":-1E-3},{"$f":"IF(NOT(OR(F1460>0,G1460>0)),\"\",IF(HandicapPlay=\"x\",IF(F1460>G1460,10,-10),(IF((F1460-G1460>0),(VLOOKUP(OFFSET(H1460,-5,0),(TABLE!WIN),(MATCH(E1460,WINCOL,0)+1))),(VLOOKUP(OFFSET(H1460,-5,0),(TABLE!LOSE),(MATCH(E1460,LOSECOL,0)+1)))))))","v":""}]
[null,{"$f":"SCORECARD!C657","v":" "},null,null,{"$f":"SCORECARD!F657","v":" "},{"$f":"SCORECARD!G657","v":0},{"$f":"SCORECARD!H657","v":0},{"$f":"IF(NOT(OR(F1461>0,G1461>0)),\"\",(IF((F1461-G1461>0),(VLOOKUP(H1455,(TABLE!WIN),((E1461+5)*2+2))),(VLOOKUP(H1455,(TABLE!LOSE),((E1461+5)*2+2))))))","v":""}]
[null,{"$f":"SCORECARD!C658","v":" "},null,null,{"$f":"SCORECARD!F658","v":" "},{"$f":"SCORECARD!G658","v":0},{"$f":"SCORECARD!H658","v":0},{"$f":"IF(NOT(OR(F1462>0,G1462>0)),\"\",(IF((F1462-G1462>0),(VLOOKUP(H1455,(TABLE!WIN),((E1462+5)*2+2))),(VLOOKUP(H1455,(TABLE!LOSE),((E1462+5)*2+2))))))","v":""}]
[null,{"$f":"SCORECARD!C659","v":" "},null,null,{"$f":"SCORECARD!F659","v":" "},{"$f":"SCORECARD!G659","v":0},{"$f":"SCORECARD!H659","v":0},{"$f":"IF(NOT(OR(F1463>0,G1463>0)),\"\",(IF((F1463-G1463>0),(VLOOKUP(H1455,(TABLE!WIN),((E1463+5)*2+2))),(VLOOKUP(H1455,(TABLE!LOSE),((E1463+5)*2+2))))))","v":""}]
[null,{"$f":"SCORECARD!C660","v":" "},null,null,{"$f":"SCORECARD!F660","v":" "},{"$f":"SCORECARD!G660","v":0},{"$f":"SCORECARD!H660","v":0},{"$f":"IF(NOT(OR(F1464>0,G1464>0)),\"\",(IF((F1464-G1464>0),(VLOOKUP(H1455,(TABLE!WIN),((E1464+5)*2+2))),(VLOOKUP(H1455,(TABLE!LOSE),((E1464+5)*2+2))))))","v":""}]
[null,{"$f":"SCORECARD!C661","v":" "},null,null,{"$f":"SCORECARD!F661","v":" "},{"$f":"SCORECARD!G661","v":0},{"$f":"SCORECARD!H661","v":0},{"$f":"IF(NOT(OR(F1465>0,G1465>0)),\"\",(IF((F1465-G1465>0),(VLOOKUP(H1455,(TABLE!WIN),((E1465+5)*2+2))),(VLOOKUP(H1455,(TABLE!LOSE),((E1465+5)*2+2))))))","v":""}]
[null,{"$f":"SCORECARD!C662","v":" "},null,null,{"$f":"SCORECARD!F662","v":" "},{"$f":"SCORECARD!G662","v":0},{"$f":"SCORECARD!H662","v":0},{"$f":"IF(NOT(OR(F1466>0,G1466>0)),\"\",(IF((F1466-G1466>0),(VLOOKUP(H1455,(TABLE!WIN),((E1466+5)*2+2))),(VLOOKUP(H1455,(TABLE!LOSE),((E1466+5)*2+2))))))","v":""}]
[null,{"$f":"SCORECARD!C663","v":" "},null,null,{"$f":"SCORECARD!F663","v":" "},{"$f":"SCORECARD!G663","v":0},{"$f":"SCORECARD!H663","v":0},{"$f":"IF(NOT(OR(F1467>0,G1467>0)),\"\",(IF((F1467-G1467>0),(VLOOKUP(H1455,(TABLE!WIN),((E1467+5)*2+2))),(VLOOKUP(H1455,(TABLE!LOSE),((E1467+5)*2+2))))))","v":""}]
[null,{"$f":"SCORECARD!C664","v":" "},null,null,{"$f":"SCORECARD!F664","v":" "},{"$f":"SCORECARD!G664","v":0},{"$f":"SCORECARD!H664","v":0},{"$f":"IF(NOT(OR(F1468>0,G1468>0)),\"\",(IF((F1468-G1468>0),(VLOOKUP(H1455,(TABLE!WIN),((E1468+5)*2+2))),(VLOOKUP(H1455,(TABLE!LOSE),((E1468+5)*2+2))))))","v":""}]
[null,{"$f":"SCORECARD!C665","v":" "},null,null,{"$f":"SCORECARD!F665","v":" "},{"$f":"SCORECARD!G665","v":0},{"$f":"SCORECARD!H665","v":0},{"$f":"IF(NOT(OR(F1469>0,G1469>0)),\"\",(IF((F1469-G1469>0),(VLOOKUP(H1455,(TABLE!WIN),((E1469+5)*2+2))),(VLOOKUP(H1455,(TABLE!LOSE),((E1469+5)*2+2))))))","v":""}]
[null,{"$f":"SCORECARD!C666","v":" "},null,null,{"$f":"SCORECARD!F666","v":" "},{"$f":"SCORECARD!G666","v":0},{"$f":"SCORECARD!H666","v":0},{"$f":"IF(NOT(OR(F1470>0,G1470>0)),\"\",(IF((F1470-G1470>0),(VLOOKUP(H1455,(TABLE!WIN),((E1470+5)*2+2))),(VLOOKUP(H1455,(TABLE!LOSE),((E1470+5)*2+2))))))","v":""}]
[null,{"$f":"SCORECARD!C667","v":" "},null,null,{"$f":"SCORECARD!F667","v":" "},{"$f":"SCORECARD!G667","v":0},{"$f":"SCORECARD!H667","v":0},{"$f":"IF(NOT(OR(F1471>0,G1471>0)),\"\",(IF((F1471-G1471>0),(VLOOKUP(H1455,(TABLE!WIN),((E1471+5)*2+2))),(VLOOKUP(H1455,(TABLE!LOSE),((E1471+5)*2+2))))))","v":""}]
[]
[null,null,null,null,null,null,"Handicap adjustment points total   ",{"$f":"SUM(H1458:H1471)","v":0}]
[]
[]
[]
[]
[]
[]
[]
[]
[]
[]
[]
[]
[{"$f":"note1","v":"Time limit 2.5 hours, Turn After Bell (61.1.6). Quadway hoops (3 11/16\"), Dawson International balls"}]
[{"$f":"note2","v":"Games may start early. Please be at the venue at least 30 minutes earlier than the scheduled start time."}]
[{"$f":"note3","v":"Entry Fee $40 will be invoiced by email. Please pay by EFT using the invoice No. as reference."}]
[{"$f":"note4","v":"Players please assist with setting and clearing courts."}]
[null,null,null,null,{"$f":"BLOCK!L141","v":" Block 8 Player 4"}]
[null,null,null,null,{"$f":"BLOCK!J137","v":"TOURNAMENT"}]
[null,null,null,null,{"$f":"BLOCK!G138","v":"DATE"}]
[null,null,null,null,{"$f":"BLOCK!B141","v":"BLOCK 8"}]
[]
[null,null,null,null,"BLOCK PLAY SCHEDULE"]
[null,"DAY","TIME",null,"COURT","OPPONENT",null,"HANDICAP","PS","OS"]
[null,{"$f":"GAMES!C59","v":"00:00:00"},{"$f":"GAMES!B59","v":"00:00:00"},null,{"$f":"GAMES!D59","v":0},{"$f":"GAMES!E59","v":" Block 8 Player 1"},null,{"$f":"$E$1506","v":0},{"$f":"$F$1506","v":-1E-3},{"$f":"$G$1506","v":-1E-3}]
[null,{"$f":"GAMES!C62","v":"00:00:00"},{"$f":"GAMES!B62","v":"00:00:00"},null,{"$f":"GAMES!D62","v":0},{"$f":"GAMES!G62","v":" Block 8 Player 2"},null,{"$f":"$E$1507","v":0},{"$f":"$F$1507","v":-1E-3},{"$f":"$G$1507","v":-1E-3}]
[null,{"$f":"GAMES!C64","v":"00:00:00"},{"$f":"GAMES!B64","v":"00:00:00"},null,{"$f":"GAMES!D64","v":0},{"$f":"GAMES!E64","v":" Block 8 Player 3"},null,{"$f":"$E$1508","v":0},{"$f":"$F$1508","v":-1E-3},{"$f":"$G$1508","v":-1E-3}]
[]
[]
[]
[null,"PLAYER:",{"$f":"BLOCK!L141","v":" Block 8 Player 4"},null,null,null,"HANDICAP",{"$f":"BLOCK!B153","v":0}]
[null,null,null,null,"OPP","PLAYER","OPP","H/CAP"]
[null,null,"OPPONENT",null,"HCP","SCORE","SCORE","POINTS"]
[null,{"$f":"SCORECARD!C673","v":" Block 8 Player 1"},null,null,{"$f":"SCORECARD!F673","v":0},{"$f":"SCORECARD!G673","v":-1E-3},{"$f":"SCORECARD!H673","v":-1E-3},{"$f":"IF(NOT(OR(F1506>0,G1506>0)),\"\",IF(HandicapPlay=\"x\",IF(F1506>G1506,10,-10),(IF((F1506-G1506>0),(VLOOKUP(OFFSET(H1506,-3,0),(TABLE!WIN),(MATCH(E1506,WINCOL,0)+1))),(VLOOKUP(OFFSET(H1506,-3,0),(TABLE!LOSE),(MATCH(E1506,LOSECOL,0)+1)))))))","v":""}]
[null,{"$f":"SCORECARD!C674","v":" Block 8 Player 2"},null,null,{"$f":"SCORECARD!F674","v":0},{"$f":"SCORECARD!G674","v":-1E-3},{"$f":"SCORECARD!H674","v":-1E-3},{"$f":"IF(NOT(OR(F1507>0,G1507>0)),\"\",IF(HandicapPlay=\"x\",IF(F1507>G1507,10,-10),(IF((F1507-G1507>0),(VLOOKUP(OFFSET(H1507,-4,0),(TABLE!WIN),(MATCH(E1507,WINCOL,0)+1))),(VLOOKUP(OFFSET(H1507,-4,0),(TABLE!LOSE),(MATCH(E1507,LOSECOL,0)+1)))))))","v":""}]
[null,{"$f":"SCORECARD!C675","v":" Block 8 Player 3"},null,null,{"$f":"SCORECARD!F675","v":0},{"$f":"SCORECARD!G675","v":-1E-3},{"$f":"SCORECARD!H675","v":-1E-3},{"$f":"IF(NOT(OR(F1508>0,G1508>0)),\"\",IF(HandicapPlay=\"x\",IF(F1508>G1508,10,-10),(IF((F1508-G1508>0),(VLOOKUP(OFFSET(H1508,-5,0),(TABLE!WIN),(MATCH(E1508,WINCOL,0)+1))),(VLOOKUP(OFFSET(H1508,-5,0),(TABLE!LOSE),(MATCH(E1508,LOSECOL,0)+1)))))))","v":""}]
[null,{"$f":"SCORECARD!C676","v":" "},null,null,{"$f":"SCORECARD!F676","v":" "},{"$f":"SCORECARD!G676","v":0},{"$f":"SCORECARD!H676","v":0},{"$f":"IF(NOT(OR(F1509>0,G1509>0)),\"\",(IF((F1509-G1509>0),(VLOOKUP(H1503,(TABLE!WIN),((E1509+5)*2+2))),(VLOOKUP(H1503,(TABLE!LOSE),((E1509+5)*2+2))))))","v":""}]
[null,{"$f":"SCORECARD!C677","v":" "},null,null,{"$f":"SCORECARD!F677","v":" "},{"$f":"SCORECARD!G677","v":0},{"$f":"SCORECARD!H677","v":0},{"$f":"IF(NOT(OR(F1510>0,G1510>0)),\"\",(IF((F1510-G1510>0),(VLOOKUP(H1503,(TABLE!WIN),((E1510+5)*2+2))),(VLOOKUP(H1503,(TABLE!LOSE),((E1510+5)*2+2))))))","v":""}]
[null,{"$f":"SCORECARD!C678","v":" "},null,null,{"$f":"SCORECARD!F678","v":" "},{"$f":"SCORECARD!G678","v":0},{"$f":"SCORECARD!H678","v":0},{"$f":"IF(NOT(OR(F1511>0,G1511>0)),\"\",(IF((F1511-G1511>0),(VLOOKUP(H1503,(TABLE!WIN),((E1511+5)*2+2))),(VLOOKUP(H1503,(TABLE!LOSE),((E1511+5)*2+2))))))","v":""}]
[null,{"$f":"SCORECARD!C679","v":" "},null,null,{"$f":"SCORECARD!F679","v":" "},{"$f":"SCORECARD!G679","v":0},{"$f":"SCORECARD!H679","v":0},{"$f":"IF(NOT(OR(F1512>0,G1512>0)),\"\",(IF((F1512-G1512>0),(VLOOKUP(H1503,(TABLE!WIN),((E1512+5)*2+2))),(VLOOKUP(H1503,(TABLE!LOSE),((E1512+5)*2+2))))))","v":""}]
[null,{"$f":"SCORECARD!C680","v":" "},null,null,{"$f":"SCORECARD!F680","v":" "},{"$f":"SCORECARD!G680","v":0},{"$f":"SCORECARD!H680","v":0},{"$f":"IF(NOT(OR(F1513>0,G1513>0)),\"\",(IF((F1513-G1513>0),(VLOOKUP(H1503,(TABLE!WIN),((E1513+5)*2+2))),(VLOOKUP(H1503,(TABLE!LOSE),((E1513+5)*2+2))))))","v":""}]
[null,{"$f":"SCORECARD!C681","v":" "},null,null,{"$f":"SCORECARD!F681","v":" "},{"$f":"SCORECARD!G681","v":0},{"$f":"SCORECARD!H681","v":0},{"$f":"IF(NOT(OR(F1514>0,G1514>0)),\"\",(IF((F1514-G1514>0),(VLOOKUP(H1503,(TABLE!WIN),((E1514+5)*2+2))),(VLOOKUP(H1503,(TABLE!LOSE),((E1514+5)*2+2))))))","v":""}]
[null,{"$f":"SCORECARD!C682","v":" "},null,null,{"$f":"SCORECARD!F682","v":" "},{"$f":"SCORECARD!G682","v":0},{"$f":"SCORECARD!H682","v":0},{"$f":"IF(NOT(OR(F1515>0,G1515>0)),\"\",(IF((F1515-G1515>0),(VLOOKUP(H1503,(TABLE!WIN),((E1515+5)*2+2))),(VLOOKUP(H1503,(TABLE!LOSE),((E1515+5)*2+2))))))","v":""}]
[null,{"$f":"SCORECARD!C683","v":" "},null,null,{"$f":"SCORECARD!F683","v":" "},{"$f":"SCORECARD!G683","v":0},{"$f":"SCORECARD!H683","v":0},{"$f":"IF(NOT(OR(F1516>0,G1516>0)),\"\",(IF((F1516-G1516>0),(VLOOKUP(H1503,(TABLE!WIN),((E1516+5)*2+2))),(VLOOKUP(H1503,(TABLE!LOSE),((E1516+5)*2+2))))))","v":""}]
[null,{"$f":"SCORECARD!C684","v":" "},null,null,{"$f":"SCORECARD!F684","v":" "},{"$f":"SCORECARD!G684","v":0},{"$f":"SCORECARD!H684","v":0},{"$f":"IF(NOT(OR(F1517>0,G1517>0)),\"\",(IF((F1517-G1517>0),(VLOOKUP(H1503,(TABLE!WIN),((E1517+5)*2+2))),(VLOOKUP(H1503,(TABLE!LOSE),((E1517+5)*2+2))))))","v":""}]
[null,{"$f":"SCORECARD!C685","v":" "},null,null,{"$f":"SCORECARD!F685","v":" "},{"$f":"SCORECARD!G685","v":0},{"$f":"SCORECARD!H685","v":0},{"$f":"IF(NOT(OR(F1518>0,G1518>0)),\"\",(IF((F1518-G1518>0),(VLOOKUP(H1503,(TABLE!WIN),((E1518+5)*2+2))),(VLOOKUP(H1503,(TABLE!LOSE),((E1518+5)*2+2))))))","v":""}]
[null,{"$f":"SCORECARD!C686","v":" "},null,null,{"$f":"SCORECARD!F686","v":" "},{"$f":"SCORECARD!G686","v":0},{"$f":"SCORECARD!H686","v":0},{"$f":"IF(NOT(OR(F1519>0,G1519>0)),\"\",(IF((F1519-G1519>0),(VLOOKUP(H1503,(TABLE!WIN),((E1519+5)*2+2))),(VLOOKUP(H1503,(TABLE!LOSE),((E1519+5)*2+2))))))","v":""}]
[]
[null,null,null,null,null,null,"Handicap adjustment points total   ",{"$f":"SUM(H1506:H1519)","v":0}]
[]
[]
[]
[]
[]
[]
[]
[]
[]
[]
[]
[]
[{"$f":"note1","v":"Time limit 2.5 hours, Turn After Bell (61.1.6). Quadway hoops (3 11/16\"), Dawson International balls"}]
[{"$f":"note2","v":"Games may start early. Please be at the venue at least 30 minutes earlier than the scheduled start time."}]
[{"$f":"note3","v":"Entry Fee $40 will be invoiced by email. Please pay by EFT using the invoice No. as reference."}]
[{"$f":"note4","v":"Players please assist with setting and clearing courts."}]
[null,null,null,null,{"$f":"BLOCK!C160","v":" Block 9 Player 1"}]
[null,null,null,null,{"$f":"BLOCK!J156","v":"TOURNAMENT"}]
[null,null,null,null,{"$f":"BLOCK!G157","v":"DATE"}]
[null,null,null,null,{"$f":"BLOCK!B160","v":"BLOCK 9"}]
[]
[null,null,null,null,"BLOCK PLAY SCHEDULE"]
[null,"DAY","TIME",null,"COURT","OPPONENT",null,"HANDICAP","PS","OS"]
[null,{"$f":"GAMES!C67","v":"00:00:00"},{"$f":"GAMES!B67","v":"00:00:00"},null,{"$f":"GAMES!D67","v":0},{"$f":"GAMES!G67","v":" Block 9 Player 4"},null,{"$f":"$E$1556","v":0},{"$f":"$F$1556","v":-1E-3},{"$f":"$G$1556","v":-1E-3}]
[null,{"$f":"GAMES!C69","v":"00:00:00"},{"$f":"GAMES!B69","v":"00:00:00"},null,{"$f":"GAMES!D69","v":0},{"$f":"GAMES!E69","v":" Block 9 Player 3"},null,{"$f":"$E$1555","v":0},{"$f":"$F$1555","v":-1E-3},{"$f":"$G$1555","v":-1E-3}]
[null,{"$f":"GAMES!C71","v":"00:00:00"},{"$f":"GAMES!B71","v":"00:00:00"},null,{"$f":"GAMES!D71","v":0},{"$f":"GAMES!E71","v":" Block 9 Player 2"},null,{"$f":"$E$1554","v":0},{"$f":"$F$1554","v":-1E-3},{"$f":"$G$1554","v":-1E-3}]
[]
[]
[]
[null,"PLAYER:",{"$f":"BLOCK!C160","v":" Block 9 Player 1"},null,null,null,"HANDICAP",{"$f":"BLOCK!B163","v":0}]
[null,null,null,null,"OPP","PLAYER","OPP","H/CAP"]
[null,null,"OPPONENT",null,"HCP","SCORE","SCORE","POINTS"]
[null,{"$f":"SCORECARD!C697","v":" Block 9 Player 2"},null,null,{"$f":"SCORECARD!F697","v":0},{"$f":"SCORECARD!G697","v":-1E-3},{"$f":"SCORECARD!H697","v":-1E-3},{"$f":"IF(NOT(OR(F1554>0,G1554>0)),\"\",IF(HandicapPlay=\"x\",IF(F1554>G1554,10,-10),(IF((F1554-G1554>0),(VLOOKUP(OFFSET(H1554,-3,0),(TABLE!WIN),(MATCH(E1554,WINCOL,0)+1))),(VLOOKUP(OFFSET(H1554,-3,0),(TABLE!LOSE),(MATCH(E1554,LOSECOL,0)+1)))))))","v":""}]
[null,{"$f":"SCORECARD!C698","v":" Block 9 Player 3"},null,null,{"$f":"SCORECARD!F698","v":0},{"$f":"SCORECARD!G698","v":-1E-3},{"$f":"SCORECARD!H698","v":-1E-3},{"$f":"IF(NOT(OR(F1555>0,G1555>0)),\"\",IF(HandicapPlay=\"x\",IF(F1555>G1555,10,-10),(IF((F1555-G1555>0),(VLOOKUP(OFFSET(H1555,-4,0),(TABLE!WIN),(MATCH(E1555,WINCOL,0)+1))),(VLOOKUP(OFFSET(H1555,-4,0),(TABLE!LOSE),(MATCH(E1555,LOSECOL,0)+1)))))))","v":""}]
[null,{"$f":"SCORECARD!C699","v":" Block 9 Player 4"},null,null,{"$f":"SCORECARD!F699","v":0},{"$f":"SCORECARD!G699","v":-1E-3},{"$f":"SCORECARD!H699","v":-1E-3},{"$f":"IF(NOT(OR(F1556>0,G1556>0)),\"\",IF(HandicapPlay=\"x\",IF(F1556>G1556,10,-10),(IF((F1556-G1556>0),(VLOOKUP(OFFSET(H1556,-5,0),(TABLE!WIN),(MATCH(E1556,WINCOL,0)+1))),(VLOOKUP(OFFSET(H1556,-5,0),(TABLE!LOSE),(MATCH(E1556,LOSECOL,0)+1)))))))","v":""}]
[null,{"$f":"SCORECARD!C700","v":" "},null,null,{"$f":"SCORECARD!F700","v":" "},{"$f":"SCORECARD!G700","v":0},{"$f":"SCORECARD!H700","v":0},{"$f":"IF(NOT(OR(F1557>0,G1557>0)),\"\",(IF((F1557-G1557>0),(VLOOKUP(H1551,(TABLE!WIN),((E1557+5)*2+2))),(VLOOKUP(H1551,(TABLE!LOSE),((E1557+5)*2+2))))))","v":""}]
[null,{"$f":"SCORECARD!C701","v":" "},null,null,{"$f":"SCORECARD!F701","v":" "},{"$f":"SCORECARD!G701","v":0},{"$f":"SCORECARD!H701","v":0},{"$f":"IF(NOT(OR(F1558>0,G1558>0)),\"\",(IF((F1558-G1558>0),(VLOOKUP(H1551,(TABLE!WIN),((E1558+5)*2+2))),(VLOOKUP(H1551,(TABLE!LOSE),((E1558+5)*2+2))))))","v":""}]
[null,{"$f":"SCORECARD!C702","v":" "},null,null,{"$f":"SCORECARD!F702","v":" "},{"$f":"SCORECARD!G702","v":0},{"$f":"SCORECARD!H702","v":0},{"$f":"IF(NOT(OR(F1559>0,G1559>0)),\"\",(IF((F1559-G1559>0),(VLOOKUP(H1551,(TABLE!WIN),((E1559+5)*2+2))),(VLOOKUP(H1551,(TABLE!LOSE),((E1559+5)*2+2))))))","v":""}]
[null,{"$f":"SCORECARD!C703","v":" "},null,null,{"$f":"SCORECARD!F703","v":" "},{"$f":"SCORECARD!G703","v":0},{"$f":"SCORECARD!H703","v":0},{"$f":"IF(NOT(OR(F1560>0,G1560>0)),\"\",(IF((F1560-G1560>0),(VLOOKUP(H1551,(TABLE!WIN),((E1560+5)*2+2))),(VLOOKUP(H1551,(TABLE!LOSE),((E1560+5)*2+2))))))","v":""}]
[null,{"$f":"SCORECARD!C704","v":" "},null,null,{"$f":"SCORECARD!F704","v":" "},{"$f":"SCORECARD!G704","v":0},{"$f":"SCORECARD!H704","v":0},{"$f":"IF(NOT(OR(F1561>0,G1561>0)),\"\",(IF((F1561-G1561>0),(VLOOKUP(H1551,(TABLE!WIN),((E1561+5)*2+2))),(VLOOKUP(H1551,(TABLE!LOSE),((E1561+5)*2+2))))))","v":""}]
[null,{"$f":"SCORECARD!C705","v":" "},null,null,{"$f":"SCORECARD!F705","v":" "},{"$f":"SCORECARD!G705","v":0},{"$f":"SCORECARD!H705","v":0},{"$f":"IF(NOT(OR(F1562>0,G1562>0)),\"\",(IF((F1562-G1562>0),(VLOOKUP(H1551,(TABLE!WIN),((E1562+5)*2+2))),(VLOOKUP(H1551,(TABLE!LOSE),((E1562+5)*2+2))))))","v":""}]
[null,{"$f":"SCORECARD!C706","v":" "},null,null,{"$f":"SCORECARD!F706","v":" "},{"$f":"SCORECARD!G706","v":0},{"$f":"SCORECARD!H706","v":0},{"$f":"IF(NOT(OR(F1563>0,G1563>0)),\"\",(IF((F1563-G1563>0),(VLOOKUP(H1551,(TABLE!WIN),((E1563+5)*2+2))),(VLOOKUP(H1551,(TABLE!LOSE),((E1563+5)*2+2))))))","v":""}]
[null,{"$f":"SCORECARD!C707","v":" "},null,null,{"$f":"SCORECARD!F707","v":" "},{"$f":"SCORECARD!G707","v":0},{"$f":"SCORECARD!H707","v":0},{"$f":"IF(NOT(OR(F1564>0,G1564>0)),\"\",(IF((F1564-G1564>0),(VLOOKUP(H1551,(TABLE!WIN),((E1564+5)*2+2))),(VLOOKUP(H1551,(TABLE!LOSE),((E1564+5)*2+2))))))","v":""}]
[null,{"$f":"SCORECARD!C708","v":" "},null,null,{"$f":"SCORECARD!F708","v":" "},{"$f":"SCORECARD!G708","v":0},{"$f":"SCORECARD!H708","v":0},{"$f":"IF(NOT(OR(F1565>0,G1565>0)),\"\",(IF((F1565-G1565>0),(VLOOKUP(H1551,(TABLE!WIN),((E1565+5)*2+2))),(VLOOKUP(H1551,(TABLE!LOSE),((E1565+5)*2+2))))))","v":""}]
[null,{"$f":"SCORECARD!C709","v":" "},null,null,{"$f":"SCORECARD!F709","v":" "},{"$f":"SCORECARD!G709","v":0},{"$f":"SCORECARD!H709","v":0},{"$f":"IF(NOT(OR(F1566>0,G1566>0)),\"\",(IF((F1566-G1566>0),(VLOOKUP(H1551,(TABLE!WIN),((E1566+5)*2+2))),(VLOOKUP(H1551,(TABLE!LOSE),((E1566+5)*2+2))))))","v":""}]
[null,{"$f":"SCORECARD!C710","v":" "},null,null,{"$f":"SCORECARD!F710","v":" "},{"$f":"SCORECARD!G710","v":0},{"$f":"SCORECARD!H710","v":0},{"$f":"IF(NOT(OR(F1567>0,G1567>0)),\"\",(IF((F1567-G1567>0),(VLOOKUP(H1551,(TABLE!WIN),((E1567+5)*2+2))),(VLOOKUP(H1551,(TABLE!LOSE),((E1567+5)*2+2))))))","v":""}]
[]
[null,null,null,null,null,null,"Handicap adjustment points total   ",{"$f":"SUM(H1554:H1567)","v":0}]
[]
[]
[]
[]
[]
[]
[]
[]
[]
[]
[]
[]
[{"$f":"note1","v":"Time limit 2.5 hours, Turn After Bell (61.1.6). Quadway hoops (3 11/16\"), Dawson International balls"}]
[{"$f":"note2","v":"Games may start early. Please be at the venue at least 30 minutes earlier than the scheduled start time."}]
[{"$f":"note3","v":"Entry Fee $40 will be invoiced by email. Please pay by EFT using the invoice No. as reference."}]
[{"$f":"note4","v":"Players please assist with setting and clearing courts."}]
[null,null,null,null,{"$f":"BLOCK!F160","v":" Block 9 Player 2"}]
[null,null,null,null,{"$f":"BLOCK!J156","v":"TOURNAMENT"}]
[null,null,null,null,{"$f":"BLOCK!G157","v":"DATE"}]
[null,null,null,null,{"$f":"BLOCK!B160","v":"BLOCK 9"}]
[]
[null,null,null,null,"BLOCK PLAY SCHEDULE"]
[null,"DAY","TIME",null,"COURT","OPPONENT",null,"HANDICAP","PS","OS"]
[null,{"$f":"GAMES!C68","v":"00:00:00"},{"$f":"GAMES!B68","v":"00:00:00"},null,{"$f":"GAMES!D68","v":0},{"$f":"GAMES!G68","v":" Block 9 Player 3"},null,{"$f":"$E$1603","v":0},{"$f":"$F$1603","v":-1E-3},{"$f":"$G$1603","v":-1E-3}]
[null,{"$f":"GAMES!C70","v":"00:00:00"},{"$f":"GAMES!B70","v":"00:00:00"},null,{"$f":"GAMES!D70","v":0},{"$f":"GAMES!E70","v":" Block 9 Player 4"},null,{"$f":"$E$1604","v":0},{"$f":"$F$1604","v":-1E-3},{"$f":"$G$1604","v":-1E-3}]
[null,{"$f":"GAMES!C71","v":"00:00:00"},{"$f":"GAMES!B71","v":"00:00:00"},null,{"$f":"GAMES!D71","v":0},{"$f":"GAMES!G71","v":" Block 9 Player 1"},null,{"$f":"$E$1602","v":0},{"$f":"$F$1602","v":-1E-3},{"$f":"$G$1602","v":-1E-3}]
[]
[]
[]
[null,"PLAYER:",{"$f":"BLOCK!F160","v":" Block 9 Player 2"},null,null,null,"HANDICAP",{"$f":"BLOCK!B166","v":0}]
[null,null,null,null,"OPP","PLAYER","OPP","H/CAP"]
[null,null,"OPPONENT",null,"HCP","SCORE","SCORE","POINTS"]
[null,{"$f":"SCORECARD!C716","v":" Block 9 Player 1"},null,null,{"$f":"SCORECARD!F716","v":0},{"$f":"SCORECARD!G716","v":-1E-3},{"$f":"SCORECARD!H716","v":-1E-3},{"$f":"IF(NOT(OR(F1602>0,G1602>0)),\"\",IF(HandicapPlay=\"x\",IF(F1602>G1602,10,-10),(IF((F1602-G1602>0),(VLOOKUP(OFFSET(H1602,-3,0),(TABLE!WIN),(MATCH(E1602,WINCOL,0)+1))),(VLOOKUP(OFFSET(H1602,-3,0),(TABLE!LOSE),(MATCH(E1602,LOSECOL,0)+1)))))))","v":""}]
[null,{"$f":"SCORECARD!C717","v":" Block 9 Player 3"},null,null,{"$f":"SCORECARD!F717","v":0},{"$f":"SCORECARD!G717","v":-1E-3},{"$f":"SCORECARD!H717","v":-1E-3},{"$f":"IF(NOT(OR(F1603>0,G1603>0)),\"\",IF(HandicapPlay=\"x\",IF(F1603>G1603,10,-10),(IF((F1603-G1603>0),(VLOOKUP(OFFSET(H1603,-4,0),(TABLE!WIN),(MATCH(E1603,WINCOL,0)+1))),(VLOOKUP(OFFSET(H1603,-4,0),(TABLE!LOSE),(MATCH(E1603,LOSECOL,0)+1)))))))","v":""}]
[null,{"$f":"SCORECARD!C718","v":" Block 9 Player 4"},null,null,{"$f":"SCORECARD!F718","v":0},{"$f":"SCORECARD!G718","v":-1E-3},{"$f":"SCORECARD!H718","v":-1E-3},{"$f":"IF(NOT(OR(F1604>0,G1604>0)),\"\",IF(HandicapPlay=\"x\",IF(F1604>G1604,10,-10),(IF((F1604-G1604>0),(VLOOKUP(OFFSET(H1604,-5,0),(TABLE!WIN),(MATCH(E1604,WINCOL,0)+1))),(VLOOKUP(OFFSET(H1604,-5,0),(TABLE!LOSE),(MATCH(E1604,LOSECOL,0)+1)))))))","v":""}]
[null,{"$f":"SCORECARD!C719","v":" "},null,null,{"$f":"SCORECARD!F719","v":" "},{"$f":"SCORECARD!G719","v":0},{"$f":"SCORECARD!H719","v":0},{"$f":"IF(NOT(OR(F1605>0,G1605>0)),\"\",(IF((F1605-G1605>0),(VLOOKUP(H1599,(TABLE!WIN),((E1605+5)*2+2))),(VLOOKUP(H1599,(TABLE!LOSE),((E1605+5)*2+2))))))","v":""}]
[null,{"$f":"SCORECARD!C720","v":" "},null,null,{"$f":"SCORECARD!F720","v":" "},{"$f":"SCORECARD!G720","v":0},{"$f":"SCORECARD!H720","v":0},{"$f":"IF(NOT(OR(F1606>0,G1606>0)),\"\",(IF((F1606-G1606>0),(VLOOKUP(H1599,(TABLE!WIN),((E1606+5)*2+2))),(VLOOKUP(H1599,(TABLE!LOSE),((E1606+5)*2+2))))))","v":""}]
[null,{"$f":"SCORECARD!C721","v":" "},null,null,{"$f":"SCORECARD!F721","v":" "},{"$f":"SCORECARD!G721","v":0},{"$f":"SCORECARD!H721","v":0},{"$f":"IF(NOT(OR(F1607>0,G1607>0)),\"\",(IF((F1607-G1607>0),(VLOOKUP(H1599,(TABLE!WIN),((E1607+5)*2+2))),(VLOOKUP(H1599,(TABLE!LOSE),((E1607+5)*2+2))))))","v":""}]
[null,{"$f":"SCORECARD!C722","v":" "},null,null,{"$f":"SCORECARD!F722","v":" "},{"$f":"SCORECARD!G722","v":0},{"$f":"SCORECARD!H722","v":0},{"$f":"IF(NOT(OR(F1608>0,G1608>0)),\"\",(IF((F1608-G1608>0),(VLOOKUP(H1599,(TABLE!WIN),((E1608+5)*2+2))),(VLOOKUP(H1599,(TABLE!LOSE),((E1608+5)*2+2))))))","v":""}]
[null,{"$f":"SCORECARD!C723","v":" "},null,null,{"$f":"SCORECARD!F723","v":" "},{"$f":"SCORECARD!G723","v":0},{"$f":"SCORECARD!H723","v":0},{"$f":"IF(NOT(OR(F1609>0,G1609>0)),\"\",(IF((F1609-G1609>0),(VLOOKUP(H1599,(TABLE!WIN),((E1609+5)*2+2))),(VLOOKUP(H1599,(TABLE!LOSE),((E1609+5)*2+2))))))","v":""}]
[null,{"$f":"SCORECARD!C724","v":" "},null,null,{"$f":"SCORECARD!F724","v":" "},{"$f":"SCORECARD!G724","v":0},{"$f":"SCORECARD!H724","v":0},{"$f":"IF(NOT(OR(F1610>0,G1610>0)),\"\",(IF((F1610-G1610>0),(VLOOKUP(H1599,(TABLE!WIN),((E1610+5)*2+2))),(VLOOKUP(H1599,(TABLE!LOSE),((E1610+5)*2+2))))))","v":""}]
[null,{"$f":"SCORECARD!C725","v":" "},null,null,{"$f":"SCORECARD!F725","v":" "},{"$f":"SCORECARD!G725","v":0},{"$f":"SCORECARD!H725","v":0},{"$f":"IF(NOT(OR(F1611>0,G1611>0)),\"\",(IF((F1611-G1611>0),(VLOOKUP(H1599,(TABLE!WIN),((E1611+5)*2+2))),(VLOOKUP(H1599,(TABLE!LOSE),((E1611+5)*2+2))))))","v":""}]
[null,{"$f":"SCORECARD!C726","v":" "},null,null,{"$f":"SCORECARD!F726","v":" "},{"$f":"SCORECARD!G726","v":0},{"$f":"SCORECARD!H726","v":0},{"$f":"IF(NOT(OR(F1612>0,G1612>0)),\"\",(IF((F1612-G1612>0),(VLOOKUP(H1599,(TABLE!WIN),((E1612+5)*2+2))),(VLOOKUP(H1599,(TABLE!LOSE),((E1612+5)*2+2))))))","v":""}]
[null,{"$f":"SCORECARD!C727","v":" "},null,null,{"$f":"SCORECARD!F727","v":" "},{"$f":"SCORECARD!G727","v":0},{"$f":"SCORECARD!H727","v":0},{"$f":"IF(NOT(OR(F1613>0,G1613>0)),\"\",(IF((F1613-G1613>0),(VLOOKUP(H1599,(TABLE!WIN),((E1613+5)*2+2))),(VLOOKUP(H1599,(TABLE!LOSE),((E1613+5)*2+2))))))","v":""}]
[null,{"$f":"SCORECARD!C728","v":" "},null,null,{"$f":"SCORECARD!F728","v":" "},{"$f":"SCORECARD!G728","v":0},{"$f":"SCORECARD!H728","v":0},{"$f":"IF(NOT(OR(F1614>0,G1614>0)),\"\",(IF((F1614-G1614>0),(VLOOKUP(H1599,(TABLE!WIN),((E1614+5)*2+2))),(VLOOKUP(H1599,(TABLE!LOSE),((E1614+5)*2+2))))))","v":""}]
[null,{"$f":"SCORECARD!C729","v":" "},null,null,{"$f":"SCORECARD!F729","v":" "},{"$f":"SCORECARD!G729","v":0},{"$f":"SCORECARD!H729","v":0},{"$f":"IF(NOT(OR(F1615>0,G1615>0)),\"\",(IF((F1615-G1615>0),(VLOOKUP(H1599,(TABLE!WIN),((E1615+5)*2+2))),(VLOOKUP(H1599,(TABLE!LOSE),((E1615+5)*2+2))))))","v":""}]
[]
[null,null,null,null,null,null,"Handicap adjustment points total   ",{"$f":"SUM(H1602:H1615)","v":0}]
[]
[]
[]
[]
[]
[]
[]
[]
[]
[]
[]
[]
[{"$f":"note1","v":"Time limit 2.5 hours, Turn After Bell (61.1.6). Quadway hoops (3 11/16\"), Dawson International balls"}]
[{"$f":"note2","v":"Games may start early. Please be at the venue at least 30 minutes earlier than the scheduled start time."}]
[{"$f":"note3","v":"Entry Fee $40 will be invoiced by email. Please pay by EFT using the invoice No. as reference."}]
[{"$f":"note4","v":"Players please assist with setting and clearing courts."}]
[null,null,null,null,{"$f":"BLOCK!I160","v":" Block 9 Player 3"}]
[null,null,null,null,{"$f":"BLOCK!J156","v":"TOURNAMENT"}]
[null,null,null,null,{"$f":"BLOCK!G157","v":"DATE"}]
[null,null,null,null,{"$f":"BLOCK!B160","v":"BLOCK 9"}]
[]
[null,null,null,null,"BLOCK PLAY SCHEDULE"]
[null,"DAY","TIME",null,"COURT","OPPONENT",null,"HANDICAP","PS","OS"]
[null,{"$f":"GAMES!C68","v":"00:00:00"},{"$f":"GAMES!B68","v":"00:00:00"},null,{"$f":"GAMES!D68","v":0},{"$f":"GAMES!E68","v":" Block 9 Player 2"},null,{"$f":"$E$1651","v":0},{"$f":"$F$1651","v":-1E-3},{"$f":"$G$1651","v":-1E-3}]
[null,{"$f":"GAMES!C69","v":"00:00:00"},{"$f":"GAMES!B69","v":"00:00:00"},null,{"$f":"GAMES!D69","v":0},{"$f":"GAMES!G69","v":" Block 9 Player 1"},null,{"$f":"$E$1650","v":0},{"$f":"$F$1650","v":-1E-3},{"$f":"$G$1650","v":-1E-3}]
[null,{"$f":"GAMES!C72","v":"00:00:00"},{"$f":"GAMES!B72","v":"00:00:00"},null,{"$f":"GAMES!D72","v":0},{"$f":"GAMES!G72","v":" Block 9 Player 4"},null,{"$f":"$E$1652","v":0},{"$f":"$F$1652","v":-1E-3},{"$f":"$G$1652","v":-1E-3}]
[]
[]
[]
[null,"PLAYER:",{"$f":"BLOCK!I160","v":" Block 9 Player 3"},null,null,null,"HANDICAP",{"$f":"BLOCK!B169","v":0}]
[null,null,null,null,"OPP","PLAYER","OPP","H/CAP"]
[null,null,"OPPONENT",null,"HCP","SCORE","SCORE","POINTS"]
[null,{"$f":"SCORECARD!C740","v":" Block 9 Player 1"},null,null,{"$f":"SCORECARD!F740","v":0},{"$f":"SCORECARD!G740","v":-1E-3},{"$f":"SCORECARD!H740","v":-1E-3},{"$f":"IF(NOT(OR(F1650>0,G1650>0)),\"\",IF(HandicapPlay=\"x\",IF(F1650>G1650,10,-10),(IF((F1650-G1650>0),(VLOOKUP(OFFSET(H1650,-3,0),(TABLE!WIN),(MATCH(E1650,WINCOL,0)+1))),(VLOOKUP(OFFSET(H1650,-3,0),(TABLE!LOSE),(MATCH(E1650,LOSECOL,0)+1)))))))","v":""}]
[null,{"$f":"SCORECARD!C741","v":" Block 9 Player 2"},null,null,{"$f":"SCORECARD!F741","v":0},{"$f":"SCORECARD!G741","v":-1E-3},{"$f":"SCORECARD!H741","v":-1E-3},{"$f":"IF(NOT(OR(F1651>0,G1651>0)),\"\",IF(HandicapPlay=\"x\",IF(F1651>G1651,10,-10),(IF((F1651-G1651>0),(VLOOKUP(OFFSET(H1651,-4,0),(TABLE!WIN),(MATCH(E1651,WINCOL,0)+1))),(VLOOKUP(OFFSET(H1651,-4,0),(TABLE!LOSE),(MATCH(E1651,LOSECOL,0)+1)))))))","v":""}]
[null,{"$f":"SCORECARD!C742","v":" Block 9 Player 4"},null,null,{"$f":"SCORECARD!F742","v":0},{"$f":"SCORECARD!G742","v":-1E-3},{"$f":"SCORECARD!H742","v":-1E-3},{"$f":"IF(NOT(OR(F1652>0,G1652>0)),\"\",IF(HandicapPlay=\"x\",IF(F1652>G1652,10,-10),(IF((F1652-G1652>0),(VLOOKUP(OFFSET(H1652,-5,0),(TABLE!WIN),(MATCH(E1652,WINCOL,0)+1))),(VLOOKUP(OFFSET(H1652,-5,0),(TABLE!LOSE),(MATCH(E1652,LOSECOL,0)+1)))))))","v":""}]
[null,{"$f":"SCORECARD!C743","v":" "},null,null,{"$f":"SCORECARD!F743","v":" "},{"$f":"SCORECARD!G743","v":0},{"$f":"SCORECARD!H743","v":0},{"$f":"IF(NOT(OR(F1653>0,G1653>0)),\"\",(IF((F1653-G1653>0),(VLOOKUP(H1647,(TABLE!WIN),((E1653+5)*2+2))),(VLOOKUP(H1647,(TABLE!LOSE),((E1653+5)*2+2))))))","v":""}]
[null,{"$f":"SCORECARD!C744","v":" "},null,null,{"$f":"SCORECARD!F744","v":" "},{"$f":"SCORECARD!G744","v":0},{"$f":"SCORECARD!H744","v":0},{"$f":"IF(NOT(OR(F1654>0,G1654>0)),\"\",(IF((F1654-G1654>0),(VLOOKUP(H1647,(TABLE!WIN),((E1654+5)*2+2))),(VLOOKUP(H1647,(TABLE!LOSE),((E1654+5)*2+2))))))","v":""}]
[null,{"$f":"SCORECARD!C745","v":" "},null,null,{"$f":"SCORECARD!F745","v":" "},{"$f":"SCORECARD!G745","v":0},{"$f":"SCORECARD!H745","v":0},{"$f":"IF(NOT(OR(F1655>0,G1655>0)),\"\",(IF((F1655-G1655>0),(VLOOKUP(H1647,(TABLE!WIN),((E1655+5)*2+2))),(VLOOKUP(H1647,(TABLE!LOSE),((E1655+5)*2+2))))))","v":""}]
[null,{"$f":"SCORECARD!C746","v":" "},null,null,{"$f":"SCORECARD!F746","v":" "},{"$f":"SCORECARD!G746","v":0},{"$f":"SCORECARD!H746","v":0},{"$f":"IF(NOT(OR(F1656>0,G1656>0)),\"\",(IF((F1656-G1656>0),(VLOOKUP(H1647,(TABLE!WIN),((E1656+5)*2+2))),(VLOOKUP(H1647,(TABLE!LOSE),((E1656+5)*2+2))))))","v":""}]
[null,{"$f":"SCORECARD!C747","v":" "},null,null,{"$f":"SCORECARD!F747","v":" "},{"$f":"SCORECARD!G747","v":0},{"$f":"SCORECARD!H747","v":0},{"$f":"IF(NOT(OR(F1657>0,G1657>0)),\"\",(IF((F1657-G1657>0),(VLOOKUP(H1647,(TABLE!WIN),((E1657+5)*2+2))),(VLOOKUP(H1647,(TABLE!LOSE),((E1657+5)*2+2))))))","v":""}]
[null,{"$f":"SCORECARD!C748","v":" "},null,null,{"$f":"SCORECARD!F748","v":" "},{"$f":"SCORECARD!G748","v":0},{"$f":"SCORECARD!H748","v":0},{"$f":"IF(NOT(OR(F1658>0,G1658>0)),\"\",(IF((F1658-G1658>0),(VLOOKUP(H1647,(TABLE!WIN),((E1658+5)*2+2))),(VLOOKUP(H1647,(TABLE!LOSE),((E1658+5)*2+2))))))","v":""}]
[null,{"$f":"SCORECARD!C749","v":" "},null,null,{"$f":"SCORECARD!F749","v":" "},{"$f":"SCORECARD!G749","v":0},{"$f":"SCORECARD!H749","v":0},{"$f":"IF(NOT(OR(F1659>0,G1659>0)),\"\",(IF((F1659-G1659>0),(VLOOKUP(H1647,(TABLE!WIN),((E1659+5)*2+2))),(VLOOKUP(H1647,(TABLE!LOSE),((E1659+5)*2+2))))))","v":""}]
[null,{"$f":"SCORECARD!C750","v":" "},null,null,{"$f":"SCORECARD!F750","v":" "},{"$f":"SCORECARD!G750","v":0},{"$f":"SCORECARD!H750","v":0},{"$f":"IF(NOT(OR(F1660>0,G1660>0)),\"\",(IF((F1660-G1660>0),(VLOOKUP(H1647,(TABLE!WIN),((E1660+5)*2+2))),(VLOOKUP(H1647,(TABLE!LOSE),((E1660+5)*2+2))))))","v":""}]
[null,{"$f":"SCORECARD!C751","v":" "},null,null,{"$f":"SCORECARD!F751","v":" "},{"$f":"SCORECARD!G751","v":0},{"$f":"SCORECARD!H751","v":0},{"$f":"IF(NOT(OR(F1661>0,G1661>0)),\"\",(IF((F1661-G1661>0),(VLOOKUP(H1647,(TABLE!WIN),((E1661+5)*2+2))),(VLOOKUP(H1647,(TABLE!LOSE),((E1661+5)*2+2))))))","v":""}]
[null,{"$f":"SCORECARD!C752","v":" "},null,null,{"$f":"SCORECARD!F752","v":" "},{"$f":"SCORECARD!G752","v":0},{"$f":"SCORECARD!H752","v":0},{"$f":"IF(NOT(OR(F1662>0,G1662>0)),\"\",(IF((F1662-G1662>0),(VLOOKUP(H1647,(TABLE!WIN),((E1662+5)*2+2))),(VLOOKUP(H1647,(TABLE!LOSE),((E1662+5)*2+2))))))","v":""}]
[null,{"$f":"SCORECARD!C753","v":" "},null,null,{"$f":"SCORECARD!F753","v":" "},{"$f":"SCORECARD!G753","v":0},{"$f":"SCORECARD!H753","v":0},{"$f":"IF(NOT(OR(F1663>0,G1663>0)),\"\",(IF((F1663-G1663>0),(VLOOKUP(H1647,(TABLE!WIN),((E1663+5)*2+2))),(VLOOKUP(H1647,(TABLE!LOSE),((E1663+5)*2+2))))))","v":""}]
[]
[null,null,null,null,null,null,"Handicap adjustment points total   ",{"$f":"SUM(H1650:H1663)","v":0}]
[]
[]
[]
[]
[]
[]
[]
[]
[]
[]
[]
[]
[{"$f":"note1","v":"Time limit 2.5 hours, Turn After Bell (61.1.6). Quadway hoops (3 11/16\"), Dawson International balls"}]
[{"$f":"note2","v":"Games may start early. Please be at the venue at least 30 minutes earlier than the scheduled start time."}]
[{"$f":"note3","v":"Entry Fee $40 will be invoiced by email. Please pay by EFT using the invoice No. as reference."}]
[{"$f":"note4","v":"Players please assist with setting and clearing courts."}]
[null,null,null,null,{"$f":"BLOCK!L160","v":" Block 9 Player 4"}]
[null,null,null,null,{"$f":"BLOCK!J156","v":"TOURNAMENT"}]
[null,null,null,null,{"$f":"BLOCK!G157","v":"DATE"}]
[null,null,null,null,{"$f":"BLOCK!B160","v":"BLOCK 9"}]
[]
[null,null,null,null,"BLOCK PLAY SCHEDULE"]
[null,"DAY","TIME",null,"COURT","OPPONENT",null,"HANDICAP","PS","OS"]
[null,{"$f":"GAMES!C67","v":"00:00:00"},{"$f":"GAMES!B67","v":"00:00:00"},null,{"$f":"GAMES!D67","v":0},{"$f":"GAMES!E67","v":" Block 9 Player 1"},null,{"$f":"$E$1698","v":0},{"$f":"$F$1698","v":-1E-3},{"$f":"$G$1698","v":-1E-3}]
[null,{"$f":"GAMES!C70","v":"00:00:00"},{"$f":"GAMES!B70","v":"00:00:00"},null,{"$f":"GAMES!D70","v":0},{"$f":"GAMES!G70","v":" Block 9 Player 2"},null,{"$f":"$E$1699","v":0},{"$f":"$F$1699","v":-1E-3},{"$f":"$G$1699","v":-1E-3}]
[null,{"$f":"GAMES!C72","v":"00:00:00"},{"$f":"GAMES!B72","v":"00:00:00"},null,{"$f":"GAMES!D72","v":0},{"$f":"GAMES!E72","v":" Block 9 Player 3"},null,{"$f":"$E$1700","v":0},{"$f":"$F$1700","v":-1E-3},{"$f":"$G$1700","v":-1E-3}]
[]
[]
[]
[null,"PLAYER:",{"$f":"BLOCK!L160","v":" Block 9 Player 4"},null,null,null,"HANDICAP",{"$f":"BLOCK!B172","v":0}]
[null,null,null,null,"OPP","PLAYER","OPP","H/CAP"]
[null,null,"OPPONENT",null,"HCP","SCORE","SCORE","POINTS"]
[null,{"$f":"SCORECARD!C759","v":" Block 9 Player 1"},null,null,{"$f":"SCORECARD!F759","v":0},{"$f":"SCORECARD!G759","v":-1E-3},{"$f":"SCORECARD!H759","v":-1E-3},{"$f":"IF(NOT(OR(F1698>0,G1698>0)),\"\",IF(HandicapPlay=\"x\",IF(F1698>G1698,10,-10),(IF((F1698-G1698>0),(VLOOKUP(OFFSET(H1698,-3,0),(TABLE!WIN),(MATCH(E1698,WINCOL,0)+1))),(VLOOKUP(OFFSET(H1698,-3,0),(TABLE!LOSE),(MATCH(E1698,LOSECOL,0)+1)))))))","v":""}]
[null,{"$f":"SCORECARD!C760","v":" Block 9 Player 2"},null,null,{"$f":"SCORECARD!F760","v":0},{"$f":"SCORECARD!G760","v":-1E-3},{"$f":"SCORECARD!H760","v":-1E-3},{"$f":"IF(NOT(OR(F1699>0,G1699>0)),\"\",IF(HandicapPlay=\"x\",IF(F1699>G1699,10,-10),(IF((F1699-G1699>0),(VLOOKUP(OFFSET(H1699,-4,0),(TABLE!WIN),(MATCH(E1699,WINCOL,0)+1))),(VLOOKUP(OFFSET(H1699,-4,0),(TABLE!LOSE),(MATCH(E1699,LOSECOL,0)+1)))))))","v":""}]
[null,{"$f":"SCORECARD!C761","v":" Block 9 Player 3"},null,null,{"$f":"SCORECARD!F761","v":0},{"$f":"SCORECARD!G761","v":-1E-3},{"$f":"SCORECARD!H761","v":-1E-3},{"$f":"IF(NOT(OR(F1700>0,G1700>0)),\"\",IF(HandicapPlay=\"x\",IF(F1700>G1700,10,-10),(IF((F1700-G1700>0),(VLOOKUP(OFFSET(H1700,-5,0),(TABLE!WIN),(MATCH(E1700,WINCOL,0)+1))),(VLOOKUP(OFFSET(H1700,-5,0),(TABLE!LOSE),(MATCH(E1700,LOSECOL,0)+1)))))))","v":""}]
[null,{"$f":"SCORECARD!C762","v":" "},null,null,{"$f":"SCORECARD!F762","v":" "},{"$f":"SCORECARD!G762","v":0},{"$f":"SCORECARD!H762","v":0},{"$f":"IF(NOT(OR(F1701>0,G1701>0)),\"\",(IF((F1701-G1701>0),(VLOOKUP(H1695,(TABLE!WIN),((E1701+5)*2+2))),(VLOOKUP(H1695,(TABLE!LOSE),((E1701+5)*2+2))))))","v":""}]
[null,{"$f":"SCORECARD!C763","v":" "},null,null,{"$f":"SCORECARD!F763","v":" "},{"$f":"SCORECARD!G763","v":0},{"$f":"SCORECARD!H763","v":0},{"$f":"IF(NOT(OR(F1702>0,G1702>0)),\"\",(IF((F1702-G1702>0),(VLOOKUP(H1695,(TABLE!WIN),((E1702+5)*2+2))),(VLOOKUP(H1695,(TABLE!LOSE),((E1702+5)*2+2))))))","v":""}]
[null,{"$f":"SCORECARD!C764","v":" "},null,null,{"$f":"SCORECARD!F764","v":" "},{"$f":"SCORECARD!G764","v":0},{"$f":"SCORECARD!H764","v":0},{"$f":"IF(NOT(OR(F1703>0,G1703>0)),\"\",(IF((F1703-G1703>0),(VLOOKUP(H1695,(TABLE!WIN),((E1703+5)*2+2))),(VLOOKUP(H1695,(TABLE!LOSE),((E1703+5)*2+2))))))","v":""}]
[null,{"$f":"SCORECARD!C765","v":" "},null,null,{"$f":"SCORECARD!F765","v":" "},{"$f":"SCORECARD!G765","v":0},{"$f":"SCORECARD!H765","v":0},{"$f":"IF(NOT(OR(F1704>0,G1704>0)),\"\",(IF((F1704-G1704>0),(VLOOKUP(H1695,(TABLE!WIN),((E1704+5)*2+2))),(VLOOKUP(H1695,(TABLE!LOSE),((E1704+5)*2+2))))))","v":""}]
[null,{"$f":"SCORECARD!C766","v":" "},null,null,{"$f":"SCORECARD!F766","v":" "},{"$f":"SCORECARD!G766","v":0},{"$f":"SCORECARD!H766","v":0},{"$f":"IF(NOT(OR(F1705>0,G1705>0)),\"\",(IF((F1705-G1705>0),(VLOOKUP(H1695,(TABLE!WIN),((E1705+5)*2+2))),(VLOOKUP(H1695,(TABLE!LOSE),((E1705+5)*2+2))))))","v":""}]
[null,{"$f":"SCORECARD!C767","v":" "},null,null,{"$f":"SCORECARD!F767","v":" "},{"$f":"SCORECARD!G767","v":0},{"$f":"SCORECARD!H767","v":0},{"$f":"IF(NOT(OR(F1706>0,G1706>0)),\"\",(IF((F1706-G1706>0),(VLOOKUP(H1695,(TABLE!WIN),((E1706+5)*2+2))),(VLOOKUP(H1695,(TABLE!LOSE),((E1706+5)*2+2))))))","v":""}]
[null,{"$f":"SCORECARD!C768","v":" "},null,null,{"$f":"SCORECARD!F768","v":" "},{"$f":"SCORECARD!G768","v":0},{"$f":"SCORECARD!H768","v":0},{"$f":"IF(NOT(OR(F1707>0,G1707>0)),\"\",(IF((F1707-G1707>0),(VLOOKUP(H1695,(TABLE!WIN),((E1707+5)*2+2))),(VLOOKUP(H1695,(TABLE!LOSE),((E1707+5)*2+2))))))","v":""}]
[null,{"$f":"SCORECARD!C769","v":" "},null,null,{"$f":"SCORECARD!F769","v":" "},{"$f":"SCORECARD!G769","v":0},{"$f":"SCORECARD!H769","v":0},{"$f":"IF(NOT(OR(F1708>0,G1708>0)),\"\",(IF((F1708-G1708>0),(VLOOKUP(H1695,(TABLE!WIN),((E1708+5)*2+2))),(VLOOKUP(H1695,(TABLE!LOSE),((E1708+5)*2+2))))))","v":""}]
[null,{"$f":"SCORECARD!C770","v":" "},null,null,{"$f":"SCORECARD!F770","v":" "},{"$f":"SCORECARD!G770","v":0},{"$f":"SCORECARD!H770","v":0},{"$f":"IF(NOT(OR(F1709>0,G1709>0)),\"\",(IF((F1709-G1709>0),(VLOOKUP(H1695,(TABLE!WIN),((E1709+5)*2+2))),(VLOOKUP(H1695,(TABLE!LOSE),((E1709+5)*2+2))))))","v":""}]
[null,{"$f":"SCORECARD!C771","v":" "},null,null,{"$f":"SCORECARD!F771","v":" "},{"$f":"SCORECARD!G771","v":0},{"$f":"SCORECARD!H771","v":0},{"$f":"IF(NOT(OR(F1710>0,G1710>0)),\"\",(IF((F1710-G1710>0),(VLOOKUP(H1695,(TABLE!WIN),((E1710+5)*2+2))),(VLOOKUP(H1695,(TABLE!LOSE),((E1710+5)*2+2))))))","v":""}]
[null,{"$f":"SCORECARD!C772","v":" "},null,null,{"$f":"SCORECARD!F772","v":" "},{"$f":"SCORECARD!G772","v":0},{"$f":"SCORECARD!H772","v":0},{"$f":"IF(NOT(OR(F1711>0,G1711>0)),\"\",(IF((F1711-G1711>0),(VLOOKUP(H1695,(TABLE!WIN),((E1711+5)*2+2))),(VLOOKUP(H1695,(TABLE!LOSE),((E1711+5)*2+2))))))","v":""}]
[]
[null,null,null,null,null,null,"Handicap adjustment points total   ",{"$f":"SUM(H1698:H1711)","v":0}]
[]
[]
[]
[]
[]
[]
[]
[]
[]
[]
[]
[]
[{"$f":"note1","v":"Time limit 2.5 hours, Turn After Bell (61.1.6). Quadway hoops (3 11/16\"), Dawson International balls"}]
[{"$f":"note2","v":"Games may start early. Please be at the venue at least 30 minutes earlier than the scheduled start time."}]
[{"$f":"note3","v":"Entry Fee $40 will be invoiced by email. Please pay by EFT using the invoice No. as reference."}]
[{"$f":"note4","v":"Players please assist with setting and clearing courts."}]

{"sheet":"WORLD RANKING RESULTS","index":11,"n_rows":237,"n_cols":12,"rows_kept":237,"cut":false,"hidden":false,"merged":[]}
[]
[]
[]
[]
["BLOCK 1","Name",null,"Name","Margin","Peels","Time","Day",null,"LU Name","Score","Peels"]
[null,{"$f":"IF(K6<0,\"\",IF(K6>K7,J6,J7))","v":""},"beat",{"$f":"IF(K6<0,\"\",IF(K6>K7,J7,J6))","v":""},{"$f":"IF(K6>K7,K6-K7,K7-K6)","v":0},{"$f":"IF(K6>K7,L6,L7)","v":-1E-3},{"$f":"GAMES!B3","v":"00:00:00"},{"$f":"GAMES!C3","v":"00:00:00"},null,{"$f":"RESULTS!C6","v":" Block 1 Player 1"},{"$f":"RESULTS!D6","v":-1E-3},{"$f":"RESULTS!E6","v":-1E-3}]
[null,{"$f":"IF(K8<0,\"\",IF(K8>K9,J8,J9))","v":""},"beat",{"$f":"IF(K8<0,\"\",IF(K8>K9,J9,J8))","v":""},{"$f":"IF(K8>K9,K8-K9,K9-K8)","v":0},{"$f":"IF(K8>K9,L8,L9)","v":-1E-3},{"$f":"GAMES!B4","v":"00:00:00"},{"$f":"GAMES!C4","v":"00:00:00"},null,{"$f":"RESULTS!C7","v":" Block 1 Player 4"},{"$f":"RESULTS!D7","v":-1E-3},{"$f":"RESULTS!E7","v":-1E-3}]
[null,{"$f":"IF(K10<0,\"\",IF(K10>K11,J10,J11))","v":""},"beat",{"$f":"IF(K10<0,\"\",IF(K10>K11,J11,J10))","v":""},{"$f":"IF(K10>K11,K10-K11,K11-K10)","v":0},{"$f":"IF(K10>K11,L10,L11)","v":-1E-3},{"$f":"GAMES!B5","v":"00:00:00"},{"$f":"GAMES!C5","v":"00:00:00"},null,{"$f":"RESULTS!C8","v":" Block 1 Player 2"},{"$f":"RESULTS!D8","v":-1E-3},{"$f":"RESULTS!E8","v":-1E-3}]
[null,{"$f":"IF(K12<0,\"\",IF(K12>K13,J12,J13))","v":""},"beat",{"$f":"IF(K12<0,\"\",IF(K12>K13,J13,J12))","v":""},{"$f":"IF(K12>K13,K12-K13,K13-K12)","v":0},{"$f":"IF(K12>K13,L12,L13)","v":-1E-3},{"$f":"GAMES!B6","v":"00:00:00"},{"$f":"GAMES!C6","v":"00:00:00"},null,{"$f":"RESULTS!C9","v":" Block 1 Player 3"},{"$f":"RESULTS!D9","v":-1E-3},{"$f":"RESULTS!E9","v":-1E-3}]
[null,{"$f":"IF(K14<0,\"\",IF(K14>K15,J14,J15))","v":""},"beat",{"$f":"IF(K14<0,\"\",IF(K14>K15,J15,J14))","v":""},{"$f":"IF(K14>K15,K14-K15,K15-K14)","v":0},{"$f":"IF(K14>K15,L14,L15)","v":-1E-3},{"$f":"GAMES!B7","v":"00:00:00"},{"$f":"GAMES!C7","v":"00:00:00"},null,{"$f":"RESULTS!C10","v":" Block 1 Player 3"},{"$f":"RESULTS!D10","v":-1E-3},{"$f":"RESULTS!E10","v":-1E-3}]
[null,{"$f":"IF(K16<0,\"\",IF(K16>K17,J16,J17))","v":""},"beat",{"$f":"IF(K16<0,\"\",IF(K16>K17,J17,J16))","v":""},{"$f":"IF(K16>K17,K16-K17,K17-K16)","v":0},{"$f":"IF(K16>K17,L16,L17)","v":-1E-3},{"$f":"GAMES!B8","v":"00:00:00"},{"$f":"GAMES!C8","v":"00:00:00"},null,{"$f":"RESULTS!C11","v":" Block 1 Player 1"},{"$f":"RESULTS!D11","v":-1E-3},{"$f":"RESULTS!E11","v":-1E-3}]
[null,null,null,null,null,null,null,null,null,{"$f":"RESULTS!C12","v":" Block 1 Player 4"},{"$f":"RESULTS!D12","v":-1E-3},{"$f":"RESULTS!E12","v":-1E-3}]
[null,null,null,null,null,null,null,null,null,{"$f":"RESULTS!C13","v":" Block 1 Player 2"},{"$f":"RESULTS!D13","v":-1E-3},{"$f":"RESULTS!E13","v":-1E-3}]
[null,null,null,null,null,null,null,null,null,{"$f":"RESULTS!C14","v":" Block 1 Player 2"},{"$f":"RESULTS!D14","v":-1E-3},{"$f":"RESULTS!E14","v":-1E-3}]
[null,null,null,null,null,null,null,null,null,{"$f":"RESULTS!C15","v":" Block 1 Player 1"},{"$f":"RESULTS!D15","v":-1E-3},{"$f":"RESULTS!E15","v":-1E-3}]
[null,null,null,null,null,null,null,null,null,{"$f":"RESULTS!C16","v":" Block 1 Player 3"},{"$f":"RESULTS!D16","v":-1E-3},{"$f":"RESULTS!E16","v":-1E-3}]
[null,null,null,null,null,null,null,null,null,{"$f":"RESULTS!C17","v":" Block 1 Player 4"},{"$f":"RESULTS!D17","v":-1E-3},{"$f":"RESULTS!E17","v":-1E-3}]
[]
["BLOCK 2","Name",null,"Name","Margin","Peels","Time","Day",null,"LU Name","Score","Peels"]
[null,{"$f":"IF(K20<0,\"\",IF(K20>K21,J20,J21))","v":""},"beat",{"$f":"IF(K20<0,\"\",IF(K20>K21,J21,J20))","v":""},{"$f":"IF(K20>K21,K20-K21,K21-K20)","v":0},{"$f":"IF(K20>K21,L20,L21)","v":-1E-3},{"$f":"GAMES!B11","v":"00:00:00"},{"$f":"GAMES!C11","v":"00:00:00"},null,{"$f":"RESULTS!C22","v":" Block 2 Player 1"},{"$f":"RESULTS!D22","v":-1E-3},{"$f":"RESULTS!E22","v":-1E-3}]
[null,{"$f":"IF(K22<0,\"\",IF(K22>K23,J22,J23))","v":""},"beat",{"$f":"IF(K22<0,\"\",IF(K22>K23,J23,J22))","v":""},{"$f":"IF(K22>K23,K22-K23,K23-K22)","v":0},{"$f":"IF(K22>K23,L22,L23)","v":-1E-3},{"$f":"GAMES!B12","v":"00:00:00"},{"$f":"GAMES!C12","v":"00:00:00"},null,{"$f":"RESULTS!C23","v":" Block 2 Player 4"},{"$f":"RESULTS!D23","v":-1E-3},{"$f":"RESULTS!E23","v":-1E-3}]
[null,{"$f":"IF(K24<0,\"\",IF(K24>K25,J24,J25))","v":""},"beat",{"$f":"IF(K24<0,\"\",IF(K24>K25,J25,J24))","v":""},{"$f":"IF(K24>K25,K24-K25,K25-K24)","v":0},{"$f":"IF(K24>K25,L24,L25)","v":-1E-3},{"$f":"GAMES!B13","v":"00:00:00"},{"$f":"GAMES!C13","v":"00:00:00"},null,{"$f":"RESULTS!C24","v":" Block 2 Player 2"},{"$f":"RESULTS!D24","v":-1E-3},{"$f":"RESULTS!E24","v":-1E-3}]
[null,{"$f":"IF(K26<0,\"\",IF(K26>K27,J26,J27))","v":""},"beat",{"$f":"IF(K26<0,\"\",IF(K26>K27,J27,J26))","v":""},{"$f":"IF(K26>K27,K26-K27,K27-K26)","v":0},{"$f":"IF(K26>K27,L26,L27)","v":-1E-3},{"$f":"GAMES!B14","v":"00:00:00"},{"$f":"GAMES!C14","v":"00:00:00"},null,{"$f":"RESULTS!C25","v":" Block 2 Player 3"},{"$f":"RESULTS!D25","v":-1E-3},{"$f":"RESULTS!E25","v":-1E-3}]
[null,{"$f":"IF(K28<0,\"\",IF(K28>K29,J28,J29))","v":""},"beat",{"$f":"IF(K28<0,\"\",IF(K28>K29,J29,J28))","v":""},{"$f":"IF(K28>K29,K28-K29,K29-K28)","v":0},{"$f":"IF(K28>K29,L28,L29)","v":-1E-3},{"$f":"GAMES!B15","v":"00:00:00"},{"$f":"GAMES!C15","v":"00:00:00"},null,{"$f":"RESULTS!C26","v":" Block 2 Player 3"},{"$f":"RESULTS!D26","v":-1E-3},{"$f":"RESULTS!E26","v":-1E-3}]
[null,{"$f":"IF(K30<0,\"\",IF(K30>K31,J30,J31))","v":""},"beat",{"$f":"IF(K30<0,\"\",IF(K30>K31,J31,J30))","v":""},{"$f":"IF(K30>K31,K30-K31,K31-K30)","v":0},{"$f":"IF(K30>K31,L30,L31)","v":-1E-3},{"$f":"GAMES!B16","v":"00:00:00"},{"$f":"GAMES!C16","v":"00:00:00"},null,{"$f":"RESULTS!C27","v":" Block 2 Player 1"},{"$f":"RESULTS!D27","v":-1E-3},{"$f":"RESULTS!E27","v":-1E-3}]
[null,null,null,null,null,null,null,null,null,{"$f":"RESULTS!C28","v":" Block 2 Player 4"},{"$f":"RESULTS!D28","v":-1E-3},{"$f":"RESULTS!E28","v":-1E-3}]
[null,null,null,null,null,null,null,null,null,{"$f":"RESULTS!C29","v":" Block 2 Player 2"},{"$f":"RESULTS!D29","v":-1E-3},{"$f":"RESULTS!E29","v":-1E-3}]
[null,null,null,null,null,null,null,null,null,{"$f":"RESULTS!C30","v":" Block 2 Player 2"},{"$f":"RESULTS!D30","v":-1E-3},{"$f":"RESULTS!E30","v":-1E-3}]
[null,null,null,null,null,null,null,null,null,{"$f":"RESULTS!C31","v":" Block 2 Player 1"},{"$f":"RESULTS!D31","v":-1E-3},{"$f":"RESULTS!E31","v":-1E-3}]
[null,null,null,null,null,null,null,null,null,{"$f":"RESULTS!C32","v":" Block 2 Player 3"},{"$f":"RESULTS!D32","v":-1E-3},{"$f":"RESULTS!E32","v":-1E-3}]
[null,null,null,null,null,null,null,null,null,{"$f":"RESULTS!C33","v":" Block 2 Player 4"},{"$f":"RESULTS!D33","v":-1E-3},{"$f":"RESULTS!E33","v":-1E-3}]
[]
["BLOCK 3","Name",null,"Name","Margin","Peels","Time","Day",null,"LU Name","Score","Peels"]
[null,{"$f":"IF(K34<0,\"\",IF(K34>K35,J34,J35))","v":""},"beat",{"$f":"IF(K34<0,\"\",IF(K34>K35,J35,J34))","v":""},{"$f":"IF(K34>K35,K34-K35,K35-K34)","v":0},{"$f":"IF(K34>K35,L34,L35)","v":-1E-3},{"$f":"GAMES!B19","v":"00:00:00"},{"$f":"GAMES!C19","v":"00:00:00"},null,{"$f":"RESULTS!C38","v":" Block 3 Player 1"},{"$f":"RESULTS!D38","v":-1E-3},{"$f":"RESULTS!E38","v":-1E-3}]
[null,{"$f":"IF(K36<0,\"\",IF(K36>K37,J36,J37))","v":""},"beat",{"$f":"IF(K36<0,\"\",IF(K36>K37,J37,J36))","v":""},{"$f":"IF(K36>K37,K36-K37,K37-K36)","v":0},{"$f":"IF(K36>K37,L36,L37)","v":-1E-3},{"$f":"GAMES!B20","v":"00:00:00"},{"$f":"GAMES!C20","v":"00:00:00"},null,{"$f":"RESULTS!C39","v":" Block 3 Player 4"},{"$f":"RESULTS!D39","v":-1E-3},{"$f":"RESULTS!E39","v":-1E-3}]
[null,{"$f":"IF(K38<0,\"\",IF(K38>K39,J38,J39))","v":""},"beat",{"$f":"IF(K38<0,\"\",IF(K38>K39,J39,J38))","v":""},{"$f":"IF(K38>K39,K38-K39,K39-K38)","v":0},{"$f":"IF(K38>K39,L38,L39)","v":-1E-3},{"$f":"GAMES!B21","v":"00:00:00"},{"$f":"GAMES!C21","v":"00:00:00"},null,{"$f":"RESULTS!C40","v":" Block 3 Player 2"},{"$f":"RESULTS!D40","v":-1E-3},{"$f":"RESULTS!E40","v":-1E-3}]
[null,{"$f":"IF(K40<0,\"\",IF(K40>K41,J40,J41))","v":""},"beat",{"$f":"IF(K40<0,\"\",IF(K40>K41,J41,J40))","v":""},{"$f":"IF(K40>K41,K40-K41,K41-K40)","v":0},{"$f":"IF(K40>K41,L40,L41)","v":-1E-3},{"$f":"GAMES!B22","v":"00:00:00"},{"$f":"GAMES!C22","v":"00:00:00"},null,{"$f":"RESULTS!C41","v":" Block 3 Player 3"},{"$f":"RESULTS!D41","v":-1E-3},{"$f":"RESULTS!E41","v":-1E-3}]
[null,{"$f":"IF(K42<0,\"\",IF(K42>K43,J42,J43))","v":""},"beat",{"$f":"IF(K42<0,\"\",IF(K42>K43,J43,J42))","v":""},{"$f":"IF(K42>K43,K42-K43,K43-K42)","v":0},{"$f":"IF(K42>K43,L42,L43)","v":-1E-3},{"$f":"GAMES!B23","v":"00:00:00"},{"$f":"GAMES!C23","v":"00:00:00"},null,{"$f":"RESULTS!C42","v":" Block 3 Player 3"},{"$f":"RESULTS!D42","v":-1E-3},{"$f":"RESULTS!E42","v":-1E-3}]
[null,{"$f":"IF(K44<0,\"\",IF(K44>K45,J44,J45))","v":""},"beat",{"$f":"IF(K44<0,\"\",IF(K44>K45,J45,J44))","v":""},{"$f":"IF(K44>K45,K44-K45,K45-K44)","v":0},{"$f":"IF(K44>K45,L44,L45)","v":-1E-3},{"$f":"GAMES!B24","v":"00:00:00"},{"$f":"GAMES!C24","v":"00:00:00"},null,{"$f":"RESULTS!C43","v":" Block 3 Player 1"},{"$f":"RESULTS!D43","v":-1E-3},{"$f":"RESULTS!E43","v":-1E-3}]
[null,null,null,null,null,null,null,null,null,{"$f":"RESULTS!C44","v":" Block 3 Player 4"},{"$f":"RESULTS!D44","v":-1E-3},{"$f":"RESULTS!E44","v":-1E-3}]
[null,null,null,null,null,null,null,null,null,{"$f":"RESULTS!C45","v":" Block 3 Player 2"},{"$f":"RESULTS!D45","v":-1E-3},{"$f":"RESULTS!E45","v":-1E-3}]
[null,null,null,null,null,null,null,null,null,{"$f":"RESULTS!C46","v":" Block 3 Player 2"},{"$f":"RESULTS!D46","v":-1E-3},{"$f":"RESULTS!E46","v":-1E-3}]
[null,null,null,null,null,null,null,null,null,{"$f":"RESULTS!C47","v":" Block 3 Player 1"},{"$f":"RESULTS!D47","v":-1E-3},{"$f":"RESULTS!E47","v":-1E-3}]
[null,null,null,null,null,null,null,null,null,{"$f":"RESULTS!C48","v":" Block 3 Player 3"},{"$f":"RESULTS!D48","v":-1E-3},{"$f":"RESULTS!E48","v":-1E-3}]
[null,null,null,null,null,null,null,null,null,{"$f":"RESULTS!C49","v":" Block 3 Player 4"},{"$f":"RESULTS!D49","v":-1E-3},{"$f":"RESULTS!E49","v":-1E-3}]
[]
["BLOCK 4","Name",null,"Name","Margin","Peels","Time","Day",null,"LU Name","Score","Peels"]
[null,{"$f":"IF(K48<0,\"\",IF(K48>K49,J48,J49))","v":""},"beat",{"$f":"IF(K48<0,\"\",IF(K48>K49,J49,J48))","v":""},{"$f":"IF(K48>K49,K48-K49,K49-K48)","v":0},{"$f":"IF(K48>K49,L48,L49)","v":-1E-3},{"$f":"GAMES!B27","v":"00:00:00"},{"$f":"GAMES!C27","v":"00:00:00"},null,{"$f":"RESULTS!C54","v":" Block 4 Player 1"},{"$f":"RESULTS!D54","v":-1E-3},{"$f":"RESULTS!E54","v":-1E-3}]
[null,{"$f":"IF(K50<0,\"\",IF(K50>K51,J50,J51))","v":""},"beat",{"$f":"IF(K50<0,\"\",IF(K50>K51,J51,J50))","v":""},{"$f":"IF(K50>K51,K50-K51,K51-K50)","v":0},{"$f":"IF(K50>K51,L50,L51)","v":-1E-3},{"$f":"GAMES!B28","v":"00:00:00"},{"$f":"GAMES!C28","v":"00:00:00"},null,{"$f":"RESULTS!C55","v":" Block 4 Player 4"},{"$f":"RESULTS!D55","v":-1E-3},{"$f":"RESULTS!E55","v":-1E-3}]
[null,{"$f":"IF(K52<0,\"\",IF(K52>K53,J52,J53))","v":""},"beat",{"$f":"IF(K52<0,\"\",IF(K52>K53,J53,J52))","v":""},{"$f":"IF(K52>K53,K52-K53,K53-K52)","v":0},{"$f":"IF(K52>K53,L52,L53)","v":-1E-3},{"$f":"GAMES!B29","v":"00:00:00"},{"$f":"GAMES!C29","v":"00:00:00"},null,{"$f":"RESULTS!C56","v":" Block 4 Player 2"},{"$f":"RESULTS!D56","v":-1E-3},{"$f":"RESULTS!E56","v":-1E-3}]
[null,{"$f":"IF(K54<0,\"\",IF(K54>K55,J54,J55))","v":""},"beat",{"$f":"IF(K54<0,\"\",IF(K54>K55,J55,J54))","v":""},{"$f":"IF(K54>K55,K54-K55,K55-K54)","v":0},{"$f":"IF(K54>K55,L54,L55)","v":-1E-3},{"$f":"GAMES!B30","v":"00:00:00"},{"$f":"GAMES!C30","v":"00:00:00"},null,{"$f":"RESULTS!C57","v":" Block 4 Player 3"},{"$f":"RESULTS!D57","v":-1E-3},{"$f":"RESULTS!E57","v":-1E-3}]
[null,{"$f":"IF(K56<0,\"\",IF(K56>K57,J56,J57))","v":""},"beat",{"$f":"IF(K56<0,\"\",IF(K56>K57,J57,J56))","v":""},{"$f":"IF(K56>K57,K56-K57,K57-K56)","v":0},{"$f":"IF(K56>K57,L56,L57)","v":-1E-3},{"$f":"GAMES!B31","v":"00:00:00"},{"$f":"GAMES!C31","v":"00:00:00"},null,{"$f":"RESULTS!C58","v":" Block 4 Player 3"},{"$f":"RESULTS!D58","v":-1E-3},{"$f":"RESULTS!E58","v":-1E-3}]
[null,{"$f":"IF(K58<0,\"\",IF(K58>K59,J58,J59))","v":""},"beat",{"$f":"IF(K58<0,\"\",IF(K58>K59,J59,J58))","v":""},{"$f":"IF(K58>K59,K58-K59,K59-K58)","v":0},{"$f":"IF(K58>K59,L58,L59)","v":-1E-3},{"$f":"GAMES!B32","v":"00:00:00"},{"$f":"GAMES!C32","v":"00:00:00"},null,{"$f":"RESULTS!C59","v":" Block 4 Player 1"},{"$f":"RESULTS!D59","v":-1E-3},{"$f":"RESULTS!E59","v":-1E-3}]
[null,null,null,null,null,null,null,null,null,{"$f":"RESULTS!C60","v":" Block 4 Player 4"},{"$f":"RESULTS!D60","v":-1E-3},{"$f":"RESULTS!E60","v":-1E-3}]
[null,null,null,null,null,null,null,null,null,{"$f":"RESULTS!C61","v":" Block 4 Player 2"},{"$f":"RESULTS!D61","v":-1E-3},{"$f":"RESULTS!E61","v":-1E-3}]
[null,null,null,null,null,null,null,null,null,{"$f":"RESULTS!C62","v":" Block 4 Player 2"},{"$f":"RESULTS!D62","v":-1E-3},{"$f":"RESULTS!E62","v":-1E-3}]
[null,null,null,null,null,null,null,null,null,{"$f":"RESULTS!C63","v":" Block 4 Player 1"},{"$f":"RESULTS!D63","v":-1E-3},{"$f":"RESULTS!E63","v":-1E-3}]
[null,null,null,null,null,null,null,null,null,{"$f":"RESULTS!C64","v":" Block 4 Player 3"},{"$f":"RESULTS!D64","v":-1E-3},{"$f":"RESULTS!E64","v":-1E-3}]
[null,null,null,null,null,null,null,null,null,{"$f":"RESULTS!C65","v":" Block 4 Player 4"},{"$f":"RESULTS!D65","v":-1E-3},{"$f":"RESULTS!E65","v":-1E-3}]
[]
["BLOCK 5","Name",null,"Name","Margin","Peels","Time","Day",null,"LU Name","Score","Peels"]
[null,{"$f":"IF(K62<0,\"\",IF(K62>K63,J62,J63))","v":""},"beat",{"$f":"IF(K62<0,\"\",IF(K62>K63,J63,J62))","v":""},{"$f":"IF(K62>K63,K62-K63,K63-K62)","v":0},{"$f":"IF(K62>K63,L62,L63)","v":-1E-3},{"$f":"GAMES!B35","v":"00:00:00"},{"$f":"GAMES!C35","v":"00:00:00"},null,{"$f":"RESULTS!C70","v":" Block 5 Player 1"},{"$f":"RESULTS!D70","v":-1E-3},{"$f":"RESULTS!E70","v":-1E-3}]
[null,{"$f":"IF(K64<0,\"\",IF(K64>K65,J64,J65))","v":""},"beat",{"$f":"IF(K64<0,\"\",IF(K64>K65,J65,J64))","v":""},{"$f":"IF(K64>K65,K64-K65,K65-K64)","v":0},{"$f":"IF(K64>K65,L64,L65)","v":-1E-3},{"$f":"GAMES!B36","v":"00:00:00"},{"$f":"GAMES!C36","v":"00:00:00"},null,{"$f":"RESULTS!C71","v":" Block 5 Player 4"},{"$f":"RESULTS!D71","v":-1E-3},{"$f":"RESULTS!E71","v":-1E-3}]
[null,{"$f":"IF(K66<0,\"\",IF(K66>K67,J66,J67))","v":""},"beat",{"$f":"IF(K66<0,\"\",IF(K66>K67,J67,J66))","v":""},{"$f":"IF(K66>K67,K66-K67,K67-K66)","v":0},{"$f":"IF(K66>K67,L66,L67)","v":-1E-3},{"$f":"GAMES!B37","v":"00:00:00"},{"$f":"GAMES!C37","v":"00:00:00"},null,{"$f":"RESULTS!C72","v":" Block 5 Player 2"},{"$f":"RESULTS!D72","v":-1E-3},{"$f":"RESULTS!E72","v":-1E-3}]
[null,{"$f":"IF(K68<0,\"\",IF(K68>K69,J68,J69))","v":""},"beat",{"$f":"IF(K68<0,\"\",IF(K68>K69,J69,J68))","v":""},{"$f":"IF(K68>K69,K68-K69,K69-K68)","v":0},{"$f":"IF(K68>K69,L68,L69)","v":-1E-3},{"$f":"GAMES!B38","v":"00:00:00"},{"$f":"GAMES!C38","v":"00:00:00"},null,{"$f":"RESULTS!C73","v":" Block 5 Player 3"},{"$f":"RESULTS!D73","v":-1E-3},{"$f":"RESULTS!E73","v":-1E-3}]
[null,{"$f":"IF(K70<0,\"\",IF(K70>K71,J70,J71))","v":""},"beat",{"$f":"IF(K70<0,\"\",IF(K70>K71,J71,J70))","v":""},{"$f":"IF(K70>K71,K70-K71,K71-K70)","v":0},{"$f":"IF(K70>K71,L70,L71)","v":-1E-3},{"$f":"GAMES!B39","v":"00:00:00"},{"$f":"GAMES!C39","v":"00:00:00"},null,{"$f":"RESULTS!C74","v":" Block 5 Player 3"},{"$f":"RESULTS!D74","v":-1E-3},{"$f":"RESULTS!E74","v":-1E-3}]
[null,{"$f":"IF(K72<0,\"\",IF(K72>K73,J72,J73))","v":""},"beat",{"$f":"IF(K72<0,\"\",IF(K72>K73,J73,J72))","v":""},{"$f":"IF(K72>K73,K72-K73,K73-K72)","v":0},{"$f":"IF(K72>K73,L72,L73)","v":-1E-3},{"$f":"GAMES!B40","v":"00:00:00"},{"$f":"GAMES!C40","v":"00:00:00"},null,{"$f":"RESULTS!C75","v":" Block 5 Player 1"},{"$f":"RESULTS!D75","v":-1E-3},{"$f":"RESULTS!E75","v":-1E-3}]
[null,null,null,null,null,null,null,null,null,{"$f":"RESULTS!C76","v":" Block 5 Player 4"},{"$f":"RESULTS!D76","v":-1E-3},{"$f":"RESULTS!E76","v":-1E-3}]
[null,null,null,null,null,null,null,null,null,{"$f":"RESULTS!C77","v":" Block 5 Player 2"},{"$f":"RESULTS!D77","v":-1E-3},{"$f":"RESULTS!E77","v":-1E-3}]
[null,null,null,null,null,null,null,null,null,{"$f":"RESULTS!C78","v":" Block 5 Player 2"},{"$f":"RESULTS!D78","v":-1E-3},{"$f":"RESULTS!E78","v":-1E-3}]
[null,null,null,null,null,null,null,null,null,{"$f":"RESULTS!C79","v":" Block 5 Player 1"},{"$f":"RESULTS!D79","v":-1E-3},{"$f":"RESULTS!E79","v":-1E-3}]
[null,null,null,null,null,null,null,null,null,{"$f":"RESULTS!C80","v":" Block 5 Player 3"},{"$f":"RESULTS!D80","v":-1E-3},{"$f":"RESULTS!E80","v":-1E-3}]
[null,null,null,null,null,null,null,null,null,{"$f":"RESULTS!C81","v":" Block 5 Player 4"},{"$f":"RESULTS!D81","v":-1E-3},{"$f":"RESULTS!E81","v":-1E-3}]
[]
["BLOCK 6","Name",null,"Name","Margin","Peels","Time","Day",null,"LU Name","Score","Peels"]
[null,{"$f":"IF(K76<0,\"\",IF(K76>K77,J76,J77))","v":""},"beat",{"$f":"IF(K76<0,\"\",IF(K76>K77,J77,J76))","v":""},{"$f":"IF(K76>K77,K76-K77,K77-K76)","v":0},{"$f":"IF(K76>K77,L76,L77)","v":-1E-3},{"$f":"GAMES!B43","v":"00:00:00"},{"$f":"GAMES!C43","v":"00:00:00"},null,{"$f":"RESULTS!C86","v":" Block 6 Player 1"},{"$f":"RESULTS!D86","v":-1E-3},{"$f":"RESULTS!E86","v":-1E-3}]
[null,{"$f":"IF(K78<0,\"\",IF(K78>K79,J78,J79))","v":""},"beat",{"$f":"IF(K78<0,\"\",IF(K78>K79,J79,J78))","v":""},{"$f":"IF(K78>K79,K78-K79,K79-K78)","v":0},{"$f":"IF(K78>K79,L78,L79)","v":-1E-3},{"$f":"GAMES!B44","v":"00:00:00"},{"$f":"GAMES!C44","v":"00:00:00"},null,{"$f":"RESULTS!C87","v":" Block 6 Player 4"},{"$f":"RESULTS!D87","v":-1E-3},{"$f":"RESULTS!E87","v":-1E-3}]
[null,{"$f":"IF(K80<0,\"\",IF(K80>K81,J80,J81))","v":""},"beat",{"$f":"IF(K80<0,\"\",IF(K80>K81,J81,J80))","v":""},{"$f":"IF(K80>K81,K80-K81,K81-K80)","v":0},{"$f":"IF(K80>K81,L80,L81)","v":-1E-3},{"$f":"GAMES!B45","v":"00:00:00"},{"$f":"GAMES!C45","v":"00:00:00"},null,{"$f":"RESULTS!C88","v":" Block 6 Player 2"},{"$f":"RESULTS!D88","v":-1E-3},{"$f":"RESULTS!E88","v":-1E-3}]
[null,{"$f":"IF(K82<0,\"\",IF(K82>K83,J82,J83))","v":""},"beat",{"$f":"IF(K82<0,\"\",IF(K82>K83,J83,J82))","v":""},{"$f":"IF(K82>K83,K82-K83,K83-K82)","v":0},{"$f":"IF(K82>K83,L82,L83)","v":-1E-3},{"$f":"GAMES!B46","v":"00:00:00"},{"$f":"GAMES!C46","v":"00:00:00"},null,{"$f":"RESULTS!C89","v":" Block 6 Player 3"},{"$f":"RESULTS!D89","v":-1E-3},{"$f":"RESULTS!E89","v":-1E-3}]
[null,{"$f":"IF(K84<0,\"\",IF(K84>K85,J84,J85))","v":""},"beat",{"$f":"IF(K84<0,\"\",IF(K84>K85,J85,J84))","v":""},{"$f":"IF(K84>K85,K84-K85,K85-K84)","v":0},{"$f":"IF(K84>K85,L84,L85)","v":-1E-3},{"$f":"GAMES!B47","v":"00:00:00"},{"$f":"GAMES!C47","v":"00:00:00"},null,{"$f":"RESULTS!C90","v":" Block 6 Player 3"},{"$f":"RESULTS!D90","v":-1E-3},{"$f":"RESULTS!E90","v":-1E-3}]
[null,{"$f":"IF(K86<0,\"\",IF(K86>K87,J86,J87))","v":""},"beat",{"$f":"IF(K86<0,\"\",IF(K86>K87,J87,J86))","v":""},{"$f":"IF(K86>K87,K86-K87,K87-K86)","v":0},{"$f":"IF(K86>K87,L86,L87)","v":-1E-3},{"$f":"GAMES!B48","v":"00:00:00"},{"$f":"GAMES!C48","v":"00:00:00"},null,{"$f":"RESULTS!C91","v":" Block 6 Player 1"},{"$f":"RESULTS!D91","v":-1E-3},{"$f":"RESULTS!E91","v":-1E-3}]
[null,null,null,null,null,null,null,null,null,{"$f":"RESULTS!C92","v":" Block 6 Player 4"},{"$f":"RESULTS!D92","v":-1E-3},{"$f":"RESULTS!E92","v":-1E-3}]
[null,null,null,null,null,null,null,null,null,{"$f":"RESULTS!C93","v":" Block 6 Player 2"},{"$f":"RESULTS!D93","v":-1E-3},{"$f":"RESULTS!E93","v":-1E-3}]
[null,null,null,null,null,null,null,null,null,{"$f":"RESULTS!C94","v":" Block 6 Player 2"},{"$f":"RESULTS!D94","v":-1E-3},{"$f":"RESULTS!E94","v":-1E-3}]
[null,null,null,null,null,null,null,null,null,{"$f":"RESULTS!C95","v":" Block 6 Player 1"},{"$f":"RESULTS!D95","v":-1E-3},{"$f":"RESULTS!E95","v":-1E-3}]
[null,null,null,null,null,null,null,null,null,{"$f":"RESULTS!C96","v":" Block 6 Player 3"},{"$f":"RESULTS!D96","v":-1E-3},{"$f":"RESULTS!E96","v":-1E-3}]
[null,null,null,null,null,null,null,null,null,{"$f":"RESULTS!C97","v":" Block 6 Player 4"},{"$f":"RESULTS!D97","v":-1E-3},{"$f":"RESULTS!E97","v":-1E-3}]
[]
["BLOCK 7","Name",null,"Name","Margin","Peels","Time","Day",null,"LU Name","Score","Peels"]
[null,{"$f":"IF(K90<0,\"\",IF(K90>K91,J90,J91))","v":""},"beat",{"$f":"IF(K90<0,\"\",IF(K90>K91,J91,J90))","v":""},{"$f":"IF(K90>K91,K90-K91,K91-K90)","v":0},{"$f":"IF(K90>K91,L90,L91)","v":-1E-3},{"$f":"GAMES!B51","v":"00:00:00"},{"$f":"GAMES!C51","v":"00:00:00"},null,{"$f":"RESULTS!C102","v":" Block 7 Player 1"},{"$f":"RESULTS!D102","v":-1E-3},{"$f":"RESULTS!E102","v":-1E-3}]
[null,{"$f":"IF(K92<0,\"\",IF(K92>K93,J92,J93))","v":""},"beat",{"$f":"IF(K92<0,\"\",IF(K92>K93,J93,J92))","v":""},{"$f":"IF(K92>K93,K92-K93,K93-K92)","v":0},{"$f":"IF(K92>K93,L92,L93)","v":-1E-3},{"$f":"GAMES!B52","v":"00:00:00"},{"$f":"GAMES!C52","v":"00:00:00"},null,{"$f":"RESULTS!C103","v":" Block 7 Player 4"},{"$f":"RESULTS!D103","v":-1E-3},{"$f":"RESULTS!E103","v":-1E-3}]
[null,{"$f":"IF(K94<0,\"\",IF(K94>K95,J94,J95))","v":""},"beat",{"$f":"IF(K94<0,\"\",IF(K94>K95,J95,J94))","v":""},{"$f":"IF(K94>K95,K94-K95,K95-K94)","v":0},{"$f":"IF(K94>K95,L94,L95)","v":-1E-3},{"$f":"GAMES!B53","v":"00:00:00"},{"$f":"GAMES!C53","v":"00:00:00"},null,{"$f":"RESULTS!C104","v":" Block 7 Player 2"},{"$f":"RESULTS!D104","v":-1E-3},{"$f":"RESULTS!E104","v":-1E-3}]
[null,{"$f":"IF(K96<0,\"\",IF(K96>K97,J96,J97))","v":""},"beat",{"$f":"IF(K96<0,\"\",IF(K96>K97,J97,J96))","v":""},{"$f":"IF(K96>K97,K96-K97,K97-K96)","v":0},{"$f":"IF(K96>K97,L96,L97)","v":-1E-3},{"$f":"GAMES!B54","v":"00:00:00"},{"$f":"GAMES!C54","v":"00:00:00"},null,{"$f":"RESULTS!C105","v":" Block 7 Player 3"},{"$f":"RESULTS!D105","v":-1E-3},{"$f":"RESULTS!E105","v":-1E-3}]
[null,{"$f":"IF(K98<0,\"\",IF(K98>K99,J98,J99))","v":""},"beat",{"$f":"IF(K98<0,\"\",IF(K98>K99,J99,J98))","v":""},{"$f":"IF(K98>K99,K98-K99,K99-K98)","v":0},{"$f":"IF(K98>K99,L98,L99)","v":-1E-3},{"$f":"GAMES!B55","v":"00:00:00"},{"$f":"GAMES!C55","v":"00:00:00"},null,{"$f":"RESULTS!C106","v":" Block 7 Player 3"},{"$f":"RESULTS!D106","v":-1E-3},{"$f":"RESULTS!E106","v":-1E-3}]
[null,{"$f":"IF(K100<0,\"\",IF(K100>K101,J100,J101))","v":""},"beat",{"$f":"IF(K100<0,\"\",IF(K100>K101,J101,J100))","v":""},{"$f":"IF(K100>K101,K100-K101,K101-K100)","v":0},{"$f":"IF(K100>K101,L100,L101)","v":-1E-3},{"$f":"GAMES!B56","v":"00:00:00"},{"$f":"GAMES!C56","v":"00:00:00"},null,{"$f":"RESULTS!C107","v":" Block 7 Player 1"},{"$f":"RESULTS!D107","v":-1E-3},{"$f":"RESULTS!E107","v":-1E-3}]
[null,null,null,null,null,null,null,null,null,{"$f":"RESULTS!C108","v":" Block 7 Player 4"},{"$f":"RESULTS!D108","v":-1E-3},{"$f":"RESULTS!E108","v":-1E-3}]
[null,null,null,null,null,null,null,null,null,{"$f":"RESULTS!C109","v":" Block 7 Player 2"},{"$f":"RESULTS!D109","v":-1E-3},{"$f":"RESULTS!E109","v":-1E-3}]
[null,null,null,null,null,null,null,null,null,{"$f":"RESULTS!C110","v":" Block 7 Player 2"},{"$f":"RESULTS!D110","v":-1E-3},{"$f":"RESULTS!E110","v":-1E-3}]
[null,null,null,null,null,null,null,null,null,{"$f":"RESULTS!C111","v":" Block 7 Player 1"},{"$f":"RESULTS!D111","v":-1E-3},{"$f":"RESULTS!E111","v":-1E-3}]
[null,null,null,null,null,null,null,null,null,{"$f":"RESULTS!C112","v":" Block 7 Player 3"},{"$f":"RESULTS!D112","v":-1E-3},{"$f":"RESULTS!E112","v":-1E-3}]
[null,null,null,null,null,null,null,null,null,{"$f":"RESULTS!C113","v":" Block 7 Player 4"},{"$f":"RESULTS!D113","v":-1E-3},{"$f":"RESULTS!E113","v":-1E-3}]
[]
["BLOCK 8","Name",null,"Name","Margin","Peels","Time","Day",null,"LU Name","Score","Peels"]
[null,{"$f":"IF(K104<0,\"\",IF(K104>K105,J104,J105))","v":""},"beat",{"$f":"IF(K104<0,\"\",IF(K104>K105,J105,J104))","v":""},{"$f":"IF(K104>K105,K104-K105,K105-K104)","v":0},{"$f":"IF(K104>K105,L104,L105)","v":-1E-3},{"$f":"GAMES!B59","v":"00:00:00"},{"$f":"GAMES!C59","v":"00:00:00"},null,{"$f":"RESULTS!C118","v":" Block 8 Player 1"},{"$f":"RESULTS!D118","v":-1E-3},{"$f":"RESULTS!E118","v":-1E-3}]
[null,{"$f":"IF(K106<0,\"\",IF(K106>K107,J106,J107))","v":""},"beat",{"$f":"IF(K106<0,\"\",IF(K106>K107,J107,J106))","v":""},{"$f":"IF(K106>K107,K106-K107,K107-K106)","v":0},{"$f":"IF(K106>K107,L106,L107)","v":-1E-3},{"$f":"GAMES!B60","v":"00:00:00"},{"$f":"GAMES!C60","v":"00:00:00"},null,{"$f":"RESULTS!C119","v":" Block 8 Player 4"},{"$f":"RESULTS!D119","v":-1E-3},{"$f":"RESULTS!E119","v":-1E-3}]
[null,{"$f":"IF(K108<0,\"\",IF(K108>K109,J108,J109))","v":""},"beat",{"$f":"IF(K108<0,\"\",IF(K108>K109,J109,J108))","v":""},{"$f":"IF(K108>K109,K108-K109,K109-K108)","v":0},{"$f":"IF(K108>K109,L108,L109)","v":-1E-3},{"$f":"GAMES!B61","v":"00:00:00"},{"$f":"GAMES!C61","v":"00:00:00"},null,{"$f":"RESULTS!C120","v":" Block 8 Player 2"},{"$f":"RESULTS!D120","v":-1E-3},{"$f":"RESULTS!E120","v":-1E-3}]
[null,{"$f":"IF(K110<0,\"\",IF(K110>K111,J110,J111))","v":""},"beat",{"$f":"IF(K110<0,\"\",IF(K110>K111,J111,J110))","v":""},{"$f":"IF(K110>K111,K110-K111,K111-K110)","v":0},{"$f":"IF(K110>K111,L110,L111)","v":-1E-3},{"$f":"GAMES!B62","v":"00:00:00"},{"$f":"GAMES!C62","v":"00:00:00"},null,{"$f":"RESULTS!C121","v":" Block 8 Player 3"},{"$f":"RESULTS!D121","v":-1E-3},{"$f":"RESULTS!E121","v":-1E-3}]
[null,{"$f":"IF(K112<0,\"\",IF(K112>K113,J112,J113))","v":""},"beat",{"$f":"IF(K112<0,\"\",IF(K112>K113,J113,J112))","v":""},{"$f":"IF(K112>K113,K112-K113,K113-K112)","v":0},{"$f":"IF(K112>K113,L112,L113)","v":-1E-3},{"$f":"GAMES!B63","v":"00:00:00"},{"$f":"GAMES!C63","v":"00:00:00"},null,{"$f":"RESULTS!C122","v":" Block 8 Player 3"},{"$f":"RESULTS!D122","v":-1E-3},{"$f":"RESULTS!E122","v":-1E-3}]
[null,{"$f":"IF(K114<0,\"\",IF(K114>K115,J114,J115))","v":""},"beat",{"$f":"IF(K114<0,\"\",IF(K114>K115,J115,J114))","v":""},{"$f":"IF(K114>K115,K114-K115,K115-K114)","v":0},{"$f":"IF(K114>K115,L114,L115)","v":-1E-3},{"$f":"GAMES!B64","v":"00:00:00"},{"$f":"GAMES!C64","v":"00:00:00"},null,{"$f":"RESULTS!C123","v":" Block 8 Player 1"},{"$f":"RESULTS!D123","v":-1E-3},{"$f":"RESULTS!E123","v":-1E-3}]
[null,null,null,null,null,null,null,null,null,{"$f":"RESULTS!C124","v":" Block 8 Player 4"},{"$f":"RESULTS!D124","v":-1E-3},{"$f":"RESULTS!E124","v":-1E-3}]
[null,null,null,null,null,null,null,null,null,{"$f":"RESULTS!C125","v":" Block 8 Player 2"},{"$f":"RESULTS!D125","v":-1E-3},{"$f":"RESULTS!E125","v":-1E-3}]
[null,null,null,null,null,null,null,null,null,{"$f":"RESULTS!C126","v":" Block 8 Player 2"},{"$f":"RESULTS!D126","v":-1E-3},{"$f":"RESULTS!E126","v":-1E-3}]
[null,null,null,null,null,null,null,null,null,{"$f":"RESULTS!C127","v":" Block 8 Player 1"},{"$f":"RESULTS!D127","v":-1E-3},{"$f":"RESULTS!E127","v":-1E-3}]
[null,null,null,null,null,null,null,null,null,{"$f":"RESULTS!C128","v":" Block 8 Player 3"},{"$f":"RESULTS!D128","v":-1E-3},{"$f":"RESULTS!E128","v":-1E-3}]
[null,null,null,null,null,null,null,null,null,{"$f":"RESULTS!C129","v":" Block 8 Player 4"},{"$f":"RESULTS!D129","v":-1E-3},{"$f":"RESULTS!E129","v":-1E-3}]
[]
["BLOCK 9","Name",null,"Name","Margin","Peels","Time","Day",null,"LU Name","Score","Peels"]
[null,{"$f":"IF(K118<0,\"\",IF(K118>K119,J118,J119))","v":""},"beat",{"$f":"IF(K118<0,\"\",IF(K118>K119,J119,J118))","v":""},{"$f":"IF(K118>K119,K118-K119,K119-K118)","v":0},{"$f":"IF(K118>K119,L118,L119)","v":-1E-3},{"$f":"GAMES!B67","v":"00:00:00"},{"$f":"GAMES!C67","v":"00:00:00"},null,{"$f":"RESULTS!C134","v":" Block 9 Player 1"},{"$f":"RESULTS!D134","v":-1E-3},{"$f":"RESULTS!E134","v":-1E-3}]
[null,{"$f":"IF(K120<0,\"\",IF(K120>K121,J120,J121))","v":""},"beat",{"$f":"IF(K120<0,\"\",IF(K120>K121,J121,J120))","v":""},{"$f":"IF(K120>K121,K120-K121,K121-K120)","v":0},{"$f":"IF(K120>K121,L120,L121)","v":-1E-3},{"$f":"GAMES!B68","v":"00:00:00"},{"$f":"GAMES!C68","v":"00:00:00"},null,{"$f":"RESULTS!C135","v":" Block 9 Player 4"},{"$f":"RESULTS!D135","v":-1E-3},{"$f":"RESULTS!E135","v":-1E-3}]
[null,{"$f":"IF(K122<0,\"\",IF(K122>K123,J122,J123))","v":""},"beat",{"$f":"IF(K122<0,\"\",IF(K122>K123,J123,J122))","v":""},{"$f":"IF(K122>K123,K122-K123,K123-K122)","v":0},{"$f":"IF(K122>K123,L122,L123)","v":-1E-3},{"$f":"GAMES!B69","v":"00:00:00"},{"$f":"GAMES!C69","v":"00:00:00"},null,{"$f":"RESULTS!C136","v":" Block 9 Player 2"},{"$f":"RESULTS!D136","v":-1E-3},{"$f":"RESULTS!E136","v":-1E-3}]
[null,{"$f":"IF(K124<0,\"\",IF(K124>K125,J124,J125))","v":""},"beat",{"$f":"IF(K124<0,\"\",IF(K124>K125,J125,J124))","v":""},{"$f":"IF(K124>K125,K124-K125,K125-K124)","v":0},{"$f":"IF(K124>K125,L124,L125)","v":-1E-3},{"$f":"GAMES!B70","v":"00:00:00"},{"$f":"GAMES!C70","v":"00:00:00"},null,{"$f":"RESULTS!C137","v":" Block 9 Player 3"},{"$f":"RESULTS!D137","v":-1E-3},{"$f":"RESULTS!E137","v":-1E-3}]
[null,{"$f":"IF(K126<0,\"\",IF(K126>K127,J126,J127))","v":""},"beat",{"$f":"IF(K126<0,\"\",IF(K126>K127,J127,J126))","v":""},{"$f":"IF(K126>K127,K126-K127,K127-K126)","v":0},{"$f":"IF(K126>K127,L126,L127)","v":-1E-3},{"$f":"GAMES!B71","v":"00:00:00"},{"$f":"GAMES!C71","v":"00:00:00"},null,{"$f":"RESULTS!C138","v":" Block 9 Player 3"},{"$f":"RESULTS!D138","v":-1E-3},{"$f":"RESULTS!E138","v":-1E-3}]
[null,{"$f":"IF(K128<0,\"\",IF(K128>K129,J128,J129))","v":""},"beat",{"$f":"IF(K128<0,\"\",IF(K128>K129,J129,J128))","v":""},{"$f":"IF(K128>K129,K128-K129,K129-K128)","v":0},{"$f":"IF(K128>K129,L128,L129)","v":-1E-3},{"$f":"GAMES!B72","v":"00:00:00"},{"$f":"GAMES!C72","v":"00:00:00"},null,{"$f":"RESULTS!C139","v":" Block 9 Player 1"},{"$f":"RESULTS!D139","v":-1E-3},{"$f":"RESULTS!E139","v":-1E-3}]
[null,null,null,null,null,null,null,null,null,{"$f":"RESULTS!C140","v":" Block 9 Player 4"},{"$f":"RESULTS!D140","v":-1E-3},{"$f":"RESULTS!E140","v":-1E-3}]
[null,null,null,null,null,null,null,null,null,{"$f":"RESULTS!C141","v":" Block 9 Player 2"},{"$f":"RESULTS!D141","v":-1E-3},{"$f":"RESULTS!E141","v":-1E-3}]
[null,null,null,null,null,null,null,null,null,{"$f":"RESULTS!C142","v":" Block 9 Player 2"},{"$f":"RESULTS!D142","v":-1E-3},{"$f":"RESULTS!E142","v":-1E-3}]
[null,null,null,null,null,null,null,null,null,{"$f":"RESULTS!C143","v":" Block 9 Player 1"},{"$f":"RESULTS!D143","v":-1E-3},{"$f":"RESULTS!E143","v":-1E-3}]
[null,null,null,null,null,null,null,null,null,{"$f":"RESULTS!C144","v":" Block 9 Player 3"},{"$f":"RESULTS!D144","v":-1E-3},{"$f":"RESULTS!E144","v":-1E-3}]
[null,null,null,null,null,null,null,null,null,{"$f":"RESULTS!C145","v":" Block 9 Player 4"},{"$f":"RESULTS!D145","v":-1E-3},{"$f":"RESULTS!E145","v":-1E-3}]
[]
[]
[null,{"$f":"NAMES!$C$8","v":"TOURNAMENT"}]
[null,{"$f":"NAMES!$C$10","v":"DATE"}]
[null,{"$f":"NAMES!$C$9","v":"GROUP"},null,{"$f":"NAMES!$C$11","v":"BLOCK 1"}]
[null,"Name",null,"Name","Margin","Peels","Time","Day"]
[1,"","beat","",0,-1E-3,"00:00:00","00:00:00"]
[2,"","beat","",0,-1E-3,"00:00:00","00:00:00"]
[3,"","beat","",0,-1E-3,"00:00:00","00:00:00"]
[4,"","beat","",0,-1E-3,"00:00:00","00:00:00"]
[5,"","beat","",0,-1E-3,"00:00:00","00:00:00"]
[6,"","beat","",0,-1E-3,"00:00:00","00:00:00"]
[]
[]
[null,{"$f":"NAMES!$C$8","v":"TOURNAMENT"}]
[null,{"$f":"NAMES!$C$10","v":"DATE"}]
[null,{"$f":"NAMES!$C$9","v":"GROUP"},null,{"$f":"NAMES!$C$32","v":"BLOCK 2"}]
[null,"Name",null,"Name","Margin","Peels","Time","Day"]
[1,"","beat","",0,-1E-3,"00:00:00","00:00:00"]
[2,"","beat","",0,-1E-3,"00:00:00","00:00:00"]
[3,"","beat","",0,-1E-3,"00:00:00","00:00:00"]
[4,"","beat","",0,-1E-3,"00:00:00","00:00:00"]
[5,"","beat","",0,-1E-3,"00:00:00","00:00:00"]
[6,"","beat","",0,-1E-3,"00:00:00","00:00:00"]
[]
[]
[null,{"$f":"NAMES!$C$8","v":"TOURNAMENT"}]
[null,{"$f":"NAMES!$C$10","v":"DATE"}]
[null,{"$f":"NAMES!$C$9","v":"GROUP"},null,{"$f":"NAMES!$C$53","v":"BLOCK 3"}]
[null,"Name",null,"Name","Margin","Peels","Time","Day"]
[1,"","beat","",0,-1E-3,"00:00:00","00:00:00"]
[2,"","beat","",0,-1E-3,"00:00:00","00:00:00"]
[3,"","beat","",0,-1E-3,"00:00:00","00:00:00"]
[4,"","beat","",0,-1E-3,"00:00:00","00:00:00"]
[5,"","beat","",0,-1E-3,"00:00:00","00:00:00"]
[6,"","beat","",0,-1E-3,"00:00:00","00:00:00"]
[]
[]
[null,{"$f":"NAMES!$C$8","v":"TOURNAMENT"}]
[null,{"$f":"NAMES!$C$10","v":"DATE"}]
[null,{"$f":"NAMES!$C$9","v":"GROUP"},null,{"$f":"NAMES!$C$74","v":"BLOCK 4"}]
[null,"Name",null,"Name","Margin","Peels","Time","Day"]
[1,"","beat","",0,-1E-3,"00:00:00","00:00:00"]
[2,"","beat","",0,-1E-3,"00:00:00","00:00:00"]
[3,"","beat","",0,-1E-3,"00:00:00","00:00:00"]
[4,"","beat","",0,-1E-3,"00:00:00","00:00:00"]
[5,"","beat","",0,-1E-3,"00:00:00","00:00:00"]
[6,"","beat","",0,-1E-3,"00:00:00","00:00:00"]
[]
[]
[null,{"$f":"NAMES!$C$8","v":"TOURNAMENT"}]
[null,{"$f":"NAMES!$C$10","v":"DATE"}]
[null,{"$f":"NAMES!$C$9","v":"GROUP"},null,{"$f":"NAMES!$C$95","v":"BLOCK 5"}]
[null,"Name",null,"Name","Margin","Peels","Time","Day"]
[1,"","beat","",0,-1E-3,"00:00:00","00:00:00"]
[2,"","beat","",0,-1E-3,"00:00:00","00:00:00"]
[3,"","beat","",0,-1E-3,"00:00:00","00:00:00"]
[4,"","beat","",0,-1E-3,"00:00:00","00:00:00"]
[5,"","beat","",0,-1E-3,"00:00:00","00:00:00"]
[6,"","beat","",0,-1E-3,"00:00:00","00:00:00"]
[]
[]
[null,{"$f":"NAMES!$C$8","v":"TOURNAMENT"}]
[null,{"$f":"NAMES!$C$10","v":"DATE"}]
[null,{"$f":"NAMES!$C$9","v":"GROUP"},null,{"$f":"NAMES!$C$116","v":"BLOCK 6"}]
[null,"Name",null,"Name","Margin","Peels","Time","Day"]
[1,"","beat","",0,-1E-3,"00:00:00","00:00:00"]
[2,"","beat","",0,-1E-3,"00:00:00","00:00:00"]
[3,"","beat","",0,-1E-3,"00:00:00","00:00:00"]
[4,"","beat","",0,-1E-3,"00:00:00","00:00:00"]
[5,"","beat","",0,-1E-3,"00:00:00","00:00:00"]
[6,"","beat","",0,-1E-3,"00:00:00","00:00:00"]
[]
[]
[null,{"$f":"NAMES!$C$8","v":"TOURNAMENT"}]
[null,{"$f":"NAMES!$C$10","v":"DATE"}]
[null,{"$f":"NAMES!$C$9","v":"GROUP"},null,{"$f":"NAMES!$C$137","v":"BLOCK 7"}]
[null,"Name",null,"Name","Margin","Peels","Time","Day"]
[1,"","beat","",0,-1E-3,"00:00:00","00:00:00"]
[2,"","beat","",0,-1E-3,"00:00:00","00:00:00"]
[3,"","beat","",0,-1E-3,"00:00:00","00:00:00"]
[4,"","beat","",0,-1E-3,"00:00:00","00:00:00"]
[5,"","beat","",0,-1E-3,"00:00:00","00:00:00"]
[6,"","beat","",0,-1E-3,"00:00:00","00:00:00"]
[]
[]
[null,{"$f":"NAMES!$C$8","v":"TOURNAMENT"}]
[null,{"$f":"NAMES!$C$10","v":"DATE"}]
[null,{"$f":"NAMES!$C$9","v":"GROUP"},null,{"$f":"NAMES!$C$158","v":"BLOCK 8"}]
[null,"Name",null,"Name","Margin","Peels","Time","Day"]
[1,"","beat","",0,-1E-3,"00:00:00","00:00:00"]
[2,"","beat","",0,-1E-3,"00:00:00","00:00:00"]
[3,"","beat","",0,-1E-3,"00:00:00","00:00:00"]
[4,"","beat","",0,-1E-3,"00:00:00","00:00:00"]
[5,"","beat","",0,-1E-3,"00:00:00","00:00:00"]
[6,"","beat","",0,-1E-3,"00:00:00","00:00:00"]
[]
[]
[null,{"$f":"NAMES!$C$8","v":"TOURNAMENT"}]
[null,{"$f":"NAMES!$C$10","v":"DATE"}]
[null,{"$f":"NAMES!$C$9","v":"GROUP"},null,{"$f":"NAMES!$C$179","v":"BLOCK 9"}]
[null,"Name",null,"Name","Margin","Peels","Time","Day"]
[1,"","beat","",0,-1E-3,"00:00:00","00:00:00"]
[2,"","beat","",0,-1E-3,"00:00:00","00:00:00"]
[3,"","beat","",0,-1E-3,"00:00:00","00:00:00"]
[4,"","beat","",0,-1E-3,"00:00:00","00:00:00"]
[5,"","beat","",0,-1E-3,"00:00:00","00:00:00"]
[6,"","beat","",0,-1E-3,"00:00:00","00:00:00"]

{"sheet":"HANDICAP CARD","index":12,"n_rows":216,"n_cols":20,"rows_kept":216,"cut":false,"hidden":false,"merged":[[25,13,25,14],[26,6,26,7],[48,1,48,12],[72,1,72,12],[96,1,96,12],[120,1,120,12],[181,1,181,2],[181,12,182,12],[157,1,157,2],[157,12,158,12],[97,13,97,14],[103,13,103,14],[109,13,109,14],[115,13,115,14],[127,13,127,14],[133,13,133,14],[49,13,49,14],[55,13,55,14],[67,13,67,14],[73,13,73,14],[79,13,79,14],[85,13,85,14],[144,1,144,12],[151,1,151,2],[168,1,168,12],[192,1,192,12],[139,13,139,14],[145,13,145,14],[157,13,157,14],[163,13,163,14],[169,13,169,14],[175,13,175,14],[175,1,175,2],[175,12,176,12],[176,6,176,7],[151,13,151,14],[152,6,152,7],[158,6,158,7],[163,1,163,2],[163,12,164,12],[164,6,164,7],[145,1,145,2],[145,12,146,12],[146,6,146,7],[187,1,187,2],[187,12,188,12],[188,6,188,7],[151,12,152,12],[193,1,193,2],[193,12,194,12],[194,6,194,7],[181,13,181,14],[182,6,182,7],[169,1,169,2],[169,12,170,12],[170,6,170,7],[187,13,187,14],[193,13,193,14],[211,1,211,2],[211,12,212,12],[211,13,211,14],[212,6,212,7],[199,1,199,2],[199,12,200,12],[200,6,200,7],[205,1,205,2],[205,12,206,12],[206,6,206,7],[199,13,199,14],[205,13,205,14],[133,1,133,2],[133,12,134,12],[134,6,134,7],[139,1,139,2],[139,12,140,12],[140,6,140,7],[121,1,121,2],[121,12,122,12],[121,13,121,14],[122,6,122,7],[127,1,127,2],[127,12,128,12],[128,6,128,7],[109,1,109,2],[109,12,110,12],[110,6,110,7],[115,1,115,2],[115,12,116,12],[116,6,116,7],[97,1,97,2],[97,12,98,12],[98,6,98,7],[103,1,103,2],[103,12,104,12],[104,6,104,7],[85,1,85,2],[85,12,86,12],[86,6,86,7],[91,1,91,2],[91,12,92,12],[91,13,91,14],[92,6,92,7],[73,1,73,2],[73,12,74,12],[74,6,74,7],[79,1,79,2],[79,12,80,12],[80,6,80,7],[61,1,61,2],[61,12,62,12],[61,13,61,14],[62,6,62,7],[67,1,67,2],[67,12,68,12],[68,6,68,7],[31,13,31,14],[32,6,32,7],[37,1,37,2],[37,12,38,12],[38,6,38,7],[43,1,43,2],[43,12,44,12],[44,6,44,7],[37,13,37,14],[43,13,43,14],[31,1,31,2],[31,12,32,12],[24,1,24,12],[25,1,25,2],[25,12,26,12],[49,1,49,2],[49,12,50,12],[50,6,50,7],[55,1,55,2],[55,12,56,12],[56,6,56,7],[0,1,0,12],[1,1,1,2],[1,12,2,12],[1,13,1,14],[2,6,2,7],[19,1,19,2],[19,12,20,12],[20,6,20,7],[7,1,7,2],[7,12,8,12],[8,6,8,7],[13,1,13,2],[13,12,14,12],[14,6,14,7],[7,13,7,14],[13,13,13,14],[19,13,19,14]]}
[null,{"$f":"SEED!$D$6","v":"BLOCK 1"}]
[null,"PLAYER",null,{"$f":"SEED!$D$8","v":" Block 1 Player 1"},null,null,"Start H/C",{"$f":"SEED!$E$8","v":0},"New H/C",{"$f":"VLOOKUP(D2,HCTableBlk1,2,FALSE)","v":0},"Start Index",{"$f":"SEED!$C$8","v":0},"HC Change Indicator","Block 1"]
[null,"Date","Event","Opponent","Op Hcap","Lev / Hcap","Score",null,"Won / Lost","Change +/-",null,"New Index",null,"Player","H/C","Temp H/C",null,null,null,"HC Change Flags"]
[null,{"$f":"NAMES!$C$10","v":"DATE"},{"$f":"NAMES!$C$8","v":"TOURNAMENT"},{"$f":"PLAYER!F9","v":" Block 1 Player 4"},{"$f":"VLOOKUP($D$4,HCTableBlk1,2,FALSE)","v":0},{"$f":"IF(HandicapPlay=\"X\",\"H\",\"L\")","v":"L"},{"$f":"PLAYER!I9","v":-1E-3},{"$f":"PLAYER!J9","v":-1E-3},{"$f":"IF(G4<0,\"\",IF(G4>H4,\"W\",\"L\"))","v":""},null,null,{"$f":"IF(J4=\"\",\"\",IF((L2+J4)<900,900,(L2+J4)))","v":""},null,{"$f":"SEED!D8","v":" Block 1 Player 1"},{"$f":"SEED!E8","v":0},null,null,{"$f":"VLOOKUP($D$4,HCTableBlk1,2,FALSE)","v":0},null,0]
[null,"\"","\"                     \"",{"$f":"PLAYER!F10","v":" Block 1 Player 3"},{"$f":"VLOOKUP($D$5,HCTableBlk1,2,FALSE)","v":0},{"$f":"IF(HandicapPlay=\"X\",\"H\",\"L\")","v":"L"},{"$f":"PLAYER!I10","v":-1E-3},{"$f":"PLAYER!J10","v":-1E-3},{"$f":"IF(G5<0,\"\",IF(G5>H5,\"W\",\"L\"))","v":""},null,null,{"$f":"IF(J5=\"\",\"\",IF((L4+J5)<900,900,(L4+J5)))","v":""},null,{"$f":"SEED!D9","v":" Block 1 Player 2"},{"$f":"SEED!E9","v":0},null,null,{"$f":"VLOOKUP($D$5,HCTableBlk1,2,FALSE)","v":0},null,0]
[null,"\"","\"                     \"",{"$f":"PLAYER!F11","v":" Block 1 Player 2"},{"$f":"VLOOKUP($D$6,HCTableBlk1,2,FALSE)","v":0},{"$f":"IF(HandicapPlay=\"X\",\"H\",\"L\")","v":"L"},{"$f":"PLAYER!I11","v":-1E-3},{"$f":"PLAYER!J11","v":-1E-3},{"$f":"IF(G6<0,\"\",IF(G6>H6,\"W\",\"L\"))","v":""},null,"Finish>",{"$f":"IF(J6=\"\",\"\",IF((L5+J6)<900,900,(L5+J6)))","v":""},null,{"$f":"SEED!D10","v":" Block 1 Player 3"},{"$f":"SEED!E10","v":0},null,null,{"$f":"VLOOKUP($D$6,HCTableBlk1,2,FALSE)","v":0},null,0]
[null,null,null,null,null,null,null,null,null,null,null,null,null,{"$f":"SEED!D11","v":" Block 1 Player 4"},{"$f":"SEED!E11","v":0},null,null,null,null,0]
[null,"PLAYER",null,{"$f":"SEED!$D$9","v":" Block 1 Player 2"},null,null,"Start H/C",{"$f":"SEED!$E$9","v":0},"New H/C",{"$f":"VLOOKUP(D8,HCTableBlk1,2,FALSE)","v":0},"Start Index",{"$f":"SEED!$C$9","v":0},"HC Change Indicator"]
[null,"Date","Event","Opponent","Op Hcap","Lev / Hcap","Score",null,"Won / Lost","Change +/-",null,"New Index"]
[null,{"$f":"NAMES!$C$10","v":"DATE"},{"$f":"NAMES!$C$8","v":"TOURNAMENT"},{"$f":"PLAYER!F57","v":" Block 1 Player 3"},{"$f":"VLOOKUP($D$10,HCTableBlk1,2,FALSE)","v":0},{"$f":"IF(HandicapPlay=\"X\",\"H\",\"L\")","v":"L"},{"$f":"PLAYER!I57","v":-1E-3},{"$f":"PLAYER!J57","v":-1E-3},{"$f":"IF(G10<0,\"\",IF(G10>H10,\"W\",\"L\"))","v":""},null,null,{"$f":"IF(J10=\"\",\"\",IF((L8+J10)<900,900,(L8+J10)))","v":""},null,null,null,null,null,{"$f":"VLOOKUP($D$10,HCTableBlk1,2,FALSE)","v":0}]
[null,"\"","\"                     \"",{"$f":"PLAYER!F58","v":" Block 1 Player 4"},{"$f":"VLOOKUP($D$11,HCTableBlk1,2,FALSE)","v":0},{"$f":"IF(HandicapPlay=\"X\",\"H\",\"L\")","v":"L"},{"$f":"PLAYER!I58","v":-1E-3},{"$f":"PLAYER!J58","v":-1E-3},{"$f":"IF(G11<0,\"\",IF(G11>H11,\"W\",\"L\"))","v":""},null,null,{"$f":"IF(J11=\"\",\"\",IF((L10+J11)<900,900,(L10+J11)))","v":""},null,null,null,null,null,{"$f":"VLOOKUP($D$11,HCTableBlk1,2,FALSE)","v":0}]
[null,"\"","\"                     \"",{"$f":"PLAYER!F59","v":" Block 1 Player 1"},{"$f":"VLOOKUP($D$12,HCTableBlk1,2,FALSE)","v":0},{"$f":"IF(HandicapPlay=\"X\",\"H\",\"L\")","v":"L"},{"$f":"PLAYER!I59","v":-1E-3},{"$f":"PLAYER!J59","v":-1E-3},{"$f":"IF(G12<0,\"\",IF(G12>H12,\"W\",\"L\"))","v":""},null,"Finish>",{"$f":"IF(J12=\"\",\"\",IF((L11+J12)<900,900,(L11+J12)))","v":""},null,null,null,null,null,{"$f":"VLOOKUP($D$12,HCTableBlk1,2,FALSE)","v":0}]
[]
[null,"PLAYER",null,{"$f":"SEED!$D$10","v":" Block 1 Player 3"},null,null,"Start H/C",{"$f":"SEED!$E$10","v":0},"New H/C",{"$f":"VLOOKUP(D14,HCTableBlk1,2,FALSE)","v":0},"Start Index",{"$f":"SEED!$C$10","v":0},"HC Change Indicator"]
[null,"Date","Event","Opponent","Op Hcap","Lev / Hcap","Score",null,"Won / Lost","Change +/-",null,"New Index"]
[null,{"$f":"NAMES!$C$10","v":"DATE"},{"$f":"NAMES!$C$8","v":"TOURNAMENT"},{"$f":"PLAYER!F105","v":" Block 1 Player 2"},{"$f":"VLOOKUP($D$16,HCTableBlk1,2,FALSE)","v":0},{"$f":"IF(HandicapPlay=\"X\",\"H\",\"L\")","v":"L"},{"$f":"PLAYER!I105","v":-1E-3},{"$f":"PLAYER!J105","v":-1E-3},{"$f":"IF(G16<0,\"\",IF(G16>H16,\"W\",\"L\"))","v":""},null,null,{"$f":"IF(J16=\"\",\"\",IF((L14+J16)<900,900,(L14+J16)))","v":""},null,null,null,null,null,{"$f":"VLOOKUP($D$16,HCTableBlk1,2,FALSE)","v":0}]
[null,"\"","\"                     \"",{"$f":"PLAYER!F106","v":" Block 1 Player 1"},{"$f":"VLOOKUP($D$17,HCTableBlk1,2,FALSE)","v":0},{"$f":"IF(HandicapPlay=\"X\",\"H\",\"L\")","v":"L"},{"$f":"PLAYER!I106","v":-1E-3},{"$f":"PLAYER!J106","v":-1E-3},{"$f":"IF(G17<0,\"\",IF(G17>H17,\"W\",\"L\"))","v":""},null,null,{"$f":"IF(J17=\"\",\"\",IF((L16+J17)<900,900,(L16+J17)))","v":""},null,null,null,null,null,{"$f":"VLOOKUP($D$17,HCTableBlk1,2,FALSE)","v":0}]
[null,"\"","\"                     \"",{"$f":"PLAYER!F107","v":" Block 1 Player 4"},{"$f":"VLOOKUP($D$18,HCTableBlk1,2,FALSE)","v":0},{"$f":"IF(HandicapPlay=\"X\",\"H\",\"L\")","v":"L"},{"$f":"PLAYER!I107","v":-1E-3},{"$f":"PLAYER!J107","v":-1E-3},{"$f":"IF(G18<0,\"\",IF(G18>H18,\"W\",\"L\"))","v":""},null,"Finish>",{"$f":"IF(J18=\"\",\"\",IF((L17+J18)<900,900,(L17+J18)))","v":""},null,null,null,null,null,{"$f":"VLOOKUP($D$18,HCTableBlk1,2,FALSE)","v":0}]
[]
[null,"PLAYER",null,{"$f":"SEED!$D$11","v":" Block 1 Player 4"},null,null,"Start H/C",{"$f":"SEED!$E$11","v":0},"New H/C",{"$f":"VLOOKUP(D20,HCTableBlk1,2,FALSE)","v":0},"Start Index",{"$f":"SEED!$C$11","v":0},"HC Change Indicator"]
[null,"Date","Event","Opponent","Op Hcap","Lev / Hcap","Score",null,"Won / Lost","Change +/-",null,"New Index"]
[null,{"$f":"NAMES!$C$10","v":"DATE"},{"$f":"NAMES!$C$8","v":"TOURNAMENT"},{"$f":"PLAYER!F153","v":" Block 1 Player 1"},{"$f":"VLOOKUP($D$22,HCTableBlk1,2,FALSE)","v":0},{"$f":"IF(HandicapPlay=\"X\",\"H\",\"L\")","v":"L"},{"$f":"PLAYER!I153","v":-1E-3},{"$f":"PLAYER!J153","v":-1E-3},{"$f":"IF(G22<0,\"\",IF(G22>H22,\"W\",\"L\"))","v":""},null,null,{"$f":"IF(J22=\"\",\"\",IF((L20+J22)<900,900,(L20+J22)))","v":""},null,null,null,null,null,{"$f":"VLOOKUP($D$22,HCTableBlk1,2,FALSE)","v":0}]
[null,"\"","\"                     \"",{"$f":"PLAYER!F154","v":" Block 1 Player 2"},{"$f":"VLOOKUP($D$23,HCTableBlk1,2,FALSE)","v":0},{"$f":"IF(HandicapPlay=\"X\",\"H\",\"L\")","v":"L"},{"$f":"PLAYER!I154","v":-1E-3},{"$f":"PLAYER!J154","v":-1E-3},{"$f":"IF(G23<0,\"\",IF(G23>H23,\"W\",\"L\"))","v":""},null,null,{"$f":"IF(J23=\"\",\"\",IF((L22+J23)<900,900,(L22+J23)))","v":""},null,null,null,null,null,{"$f":"VLOOKUP($D$23,HCTableBlk1,2,FALSE)","v":0}]
[null,"\"","\"                     \"",{"$f":"PLAYER!F155","v":" Block 1 Player 3"},{"$f":"VLOOKUP($D$24,HCTableBlk1,2,FALSE)","v":0},{"$f":"IF(HandicapPlay=\"X\",\"H\",\"L\")","v":"L"},{"$f":"PLAYER!I155","v":-1E-3},{"$f":"PLAYER!J155","v":-1E-3},{"$f":"IF(G24<0,\"\",IF(G24>H24,\"W\",\"L\"))","v":""},null,"Finish>",{"$f":"IF(J24=\"\",\"\",IF((L23+J24)<900,900,(L23+J24)))","v":""},null,null,null,null,null,{"$f":"VLOOKUP($D$24,HCTableBlk1,2,FALSE)","v":0}]
[null,{"$f":"SEED!$I$6","v":"BLOCK 2"}]
[null,"PLAYER",null,{"$f":"SEED!$I$8","v":" Block 2 Player 1"},null,null,"Start H/C",{"$f":"SEED!$J$8","v":0},"New H/C",{"$f":"VLOOKUP(D26,HCTableBlk2,2,FALSE)","v":0},"Start Index",{"$f":"SEED!$H$8","v":0},"HC Change Indicator","Block 2"]
[null,"Date","Event","Opponent","Op Hcap","Lev / Hcap","Score",null,"Won / Lost","Change +/-",null,"New Index",null,"Player","H/C","Temp H/C",null,null,null,"HC Change Flags"]
[null,{"$f":"NAMES!$C$10","v":"DATE"},{"$f":"NAMES!$C$8","v":"TOURNAMENT"},{"$f":"PLAYER!F201","v":" Block 2 Player 4"},{"$f":"VLOOKUP($D$28,HCTableBlk2,2,FALSE)","v":0},{"$f":"IF(HandicapPlay=\"X\",\"H\",\"L\")","v":"L"},{"$f":"PLAYER!I201","v":-1E-3},{"$f":"PLAYER!J201","v":-1E-3},{"$f":"IF(G28<0,\"\",IF(G28>H28,\"W\",\"L\"))","v":""},null,null,{"$f":"IF(J28=\"\",\"\",IF((L26+J28)<900,900,(L26+J28)))","v":""},null,{"$f":"SEED!I8","v":" Block 2 Player 1"},{"$f":"SEED!J8","v":0},null,null,{"$f":"VLOOKUP($D$28,HCTableBlk2,2,FALSE)","v":0},null,0]
[null,"\"","\"                     \"",{"$f":"PLAYER!F202","v":" Block 2 Player 3"},{"$f":"VLOOKUP($D$29,HCTableBlk2,2,FALSE)","v":0},{"$f":"IF(HandicapPlay=\"X\",\"H\",\"L\")","v":"L"},{"$f":"PLAYER!I202","v":-1E-3},{"$f":"PLAYER!J202","v":-1E-3},{"$f":"IF(G29<0,\"\",IF(G29>H29,\"W\",\"L\"))","v":""},null,null,{"$f":"IF(J29=\"\",\"\",IF((L28+J29)<900,900,(L28+J29)))","v":""},null,{"$f":"SEED!I9","v":" Block 2 Player 2"},{"$f":"SEED!J9","v":0},null,null,{"$f":"VLOOKUP($D$29,HCTableBlk2,2,FALSE)","v":0},null,0]
[null,"\"","\"                     \"",{"$f":"PLAYER!F203","v":" Block 2 Player 2"},{"$f":"VLOOKUP($D$30,HCTableBlk2,2,FALSE)","v":0},{"$f":"IF(HandicapPlay=\"X\",\"H\",\"L\")","v":"L"},{"$f":"PLAYER!I203","v":-1E-3},{"$f":"PLAYER!J203","v":-1E-3},{"$f":"IF(G30<0,\"\",IF(G30>H30,\"W\",\"L\"))","v":""},null,"Finish>",{"$f":"IF(J30=\"\",\"\",IF((L29+J30)<900,900,(L29+J30)))","v":""},null,{"$f":"SEED!I10","v":" Block 2 Player 3"},{"$f":"SEED!J10","v":0},null,null,{"$f":"VLOOKUP($D$30,HCTableBlk2,2,FALSE)","v":0},null,0]
[null,null,null,null,null,null,null,null,null,null,null,null,null,{"$f":"SEED!I11","v":" Block 2 Player 4"},{"$f":"SEED!J11","v":0},null,null,null,null,0]
[null,"PLAYER",null,{"$f":"SEED!$I$9","v":" Block 2 Player 2"},null,null,"Start H/C",{"$f":"SEED!$J$9","v":0},"New H/C",{"$f":"VLOOKUP(D32,HCTableBlk2,2,FALSE)","v":0},"Start Index",{"$f":"SEED!$H$9","v":0},"HC Change Indicator"]
[null,"Date","Event","Opponent","Op Hcap","Lev / Hcap","Score",null,"Won / Lost","Change +/-",null,"New Index"]
[null,{"$f":"NAMES!$C$10","v":"DATE"},{"$f":"NAMES!$C$8","v":"TOURNAMENT"},{"$f":"PLAYER!F249","v":" Block 2 Player 3"},{"$f":"VLOOKUP($D$34,HCTableBlk2,2,FALSE)","v":0},{"$f":"IF(HandicapPlay=\"X\",\"H\",\"L\")","v":"L"},{"$f":"PLAYER!I249","v":-1E-3},{"$f":"PLAYER!J249","v":-1E-3},{"$f":"IF(G34<0,\"\",IF(G34>H34,\"W\",\"L\"))","v":""},null,null,{"$f":"IF(J34=\"\",\"\",IF((L32+J34)<900,900,(L32+J34)))","v":""},null,null,null,null,null,{"$f":"VLOOKUP($D$34,HCTableBlk2,2,FALSE)","v":0}]
[null,"\"","\"                     \"",{"$f":"PLAYER!F250","v":" Block 2 Player 4"},{"$f":"VLOOKUP($D$35,HCTableBlk2,2,FALSE)","v":0},{"$f":"IF(HandicapPlay=\"X\",\"H\",\"L\")","v":"L"},{"$f":"PLAYER!I250","v":-1E-3},{"$f":"PLAYER!J250","v":-1E-3},{"$f":"IF(G35<0,\"\",IF(G35>H35,\"W\",\"L\"))","v":""},null,null,{"$f":"IF(J35=\"\",\"\",IF((L34+J35)<900,900,(L34+J35)))","v":""},null,null,null,null,null,{"$f":"VLOOKUP($D$35,HCTableBlk2,2,FALSE)","v":0}]
[null,"\"","\"                     \"",{"$f":"PLAYER!F251","v":" Block 2 Player 1"},{"$f":"VLOOKUP($D$36,HCTableBlk2,2,FALSE)","v":0},{"$f":"IF(HandicapPlay=\"X\",\"H\",\"L\")","v":"L"},{"$f":"PLAYER!I251","v":-1E-3},{"$f":"PLAYER!J251","v":-1E-3},{"$f":"IF(G36<0,\"\",IF(G36>H36,\"W\",\"L\"))","v":""},null,"Finish>",{"$f":"IF(J36=\"\",\"\",IF((L35+J36)<900,900,(L35+J36)))","v":""},null,null,null,null,null,{"$f":"VLOOKUP($D$36,HCTableBlk2,2,FALSE)","v":0}]
[]
[null,"PLAYER",null,{"$f":"SEED!$I$10","v":" Block 2 Player 3"},null,null,"Start H/C",{"$f":"SEED!$J$10","v":0},"New H/C",{"$f":"VLOOKUP(D38,HCTableBlk2,2,FALSE)","v":0},"Start Index",{"$f":"SEED!$H$10","v":0},"HC Change Indicator"]
[null,"Date","Event","Opponent","Op Hcap","Lev / Hcap","Score",null,"Won / Lost","Change +/-",null,"New Index"]
[null,{"$f":"NAMES!$C$10","v":"DATE"},{"$f":"NAMES!$C$8","v":"TOURNAMENT"},{"$f":"PLAYER!F297","v":" Block 2 Player 2"},{"$f":"VLOOKUP($D$40,HCTableBlk2,2,FALSE)","v":0},{"$f":"IF(HandicapPlay=\"X\",\"H\",\"L\")","v":"L"},{"$f":"PLAYER!I297","v":-1E-3},{"$f":"PLAYER!J297","v":-1E-3},{"$f":"IF(G40<0,\"\",IF(G40>H40,\"W\",\"L\"))","v":""},null,null,{"$f":"IF(J40=\"\",\"\",IF((L38+J40)<900,900,(L38+J40)))","v":""},null,null,null,null,null,{"$f":"VLOOKUP($D$40,HCTableBlk2,2,FALSE)","v":0}]
[null,"\"","\"                     \"",{"$f":"PLAYER!F298","v":" Block 2 Player 1"},{"$f":"VLOOKUP($D$41,HCTableBlk2,2,FALSE)","v":0},{"$f":"IF(HandicapPlay=\"X\",\"H\",\"L\")","v":"L"},{"$f":"PLAYER!I298","v":-1E-3},{"$f":"PLAYER!J298","v":-1E-3},{"$f":"IF(G41<0,\"\",IF(G41>H41,\"W\",\"L\"))","v":""},null,null,{"$f":"IF(J41=\"\",\"\",IF((L40+J41)<900,900,(L40+J41)))","v":""},null,null,null,null,null,{"$f":"VLOOKUP($D$41,HCTableBlk2,2,FALSE)","v":0}]
[null,"\"","\"                     \"",{"$f":"PLAYER!F299","v":" Block 2 Player 4"},{"$f":"VLOOKUP($D$42,HCTableBlk2,2,FALSE)","v":0},{"$f":"IF(HandicapPlay=\"X\",\"H\",\"L\")","v":"L"},{"$f":"PLAYER!I299","v":-1E-3},{"$f":"PLAYER!J299","v":-1E-3},{"$f":"IF(G42<0,\"\",IF(G42>H42,\"W\",\"L\"))","v":""},null,"Finish>",{"$f":"IF(J42=\"\",\"\",IF((L41+J42)<900,900,(L41+J42)))","v":""},null,null,null,null,null,{"$f":"VLOOKUP($D$42,HCTableBlk2,2,FALSE)","v":0}]
[]
[null,"PLAYER",null,{"$f":"SEED!$I$11","v":" Block 2 Player 4"},null,null,"Start H/C",{"$f":"SEED!$J$11","v":0},"New H/C",{"$f":"VLOOKUP(D44,HCTableBlk2,2,FALSE)","v":0},"Start Index",{"$f":"SEED!$H$11","v":0},"HC Change Indicator"]
[null,"Date","Event","Opponent","Op Hcap","Lev / Hcap","Score",null,"Won / Lost","Change +/-",null,"New Index"]
[null,{"$f":"NAMES!$C$10","v":"DATE"},{"$f":"NAMES!$C$8","v":"TOURNAMENT"},{"$f":"PLAYER!F345","v":" Block 2 Player 1"},{"$f":"VLOOKUP($D$46,HCTableBlk2,2,FALSE)","v":0},{"$f":"IF(HandicapPlay=\"X\",\"H\",\"L\")","v":"L"},{"$f":"PLAYER!I345","v":-1E-3},{"$f":"PLAYER!J345","v":-1E-3},{"$f":"IF(G46<0,\"\",IF(G46>H46,\"W\",\"L\"))","v":""},null,null,{"$f":"IF(J46=\"\",\"\",IF((L44+J46)<900,900,(L44+J46)))","v":""},null,null,null,null,null,{"$f":"VLOOKUP($D$46,HCTableBlk2,2,FALSE)","v":0}]
[null,"\"","\"                     \"",{"$f":"PLAYER!F346","v":" Block 2 Player 2"},{"$f":"VLOOKUP($D$47,HCTableBlk2,2,FALSE)","v":0},{"$f":"IF(HandicapPlay=\"X\",\"H\",\"L\")","v":"L"},{"$f":"PLAYER!I346","v":-1E-3},{"$f":"PLAYER!J346","v":-1E-3},{"$f":"IF(G47<0,\"\",IF(G47>H47,\"W\",\"L\"))","v":""},null,null,{"$f":"IF(J47=\"\",\"\",IF((L46+J47)<900,900,(L46+J47)))","v":""},null,null,null,null,null,{"$f":"VLOOKUP($D$47,HCTableBlk2,2,FALSE)","v":0}]
[null,"\"","\"                     \"",{"$f":"PLAYER!F347","v":" Block 2 Player 3"},{"$f":"VLOOKUP($D$48,HCTableBlk2,2,FALSE)","v":0},{"$f":"IF(HandicapPlay=\"X\",\"H\",\"L\")","v":"L"},{"$f":"PLAYER!I347","v":-1E-3},{"$f":"PLAYER!J347","v":-1E-3},{"$f":"IF(G48<0,\"\",IF(G48>H48,\"W\",\"L\"))","v":""},null,"Finish>",{"$f":"IF(J48=\"\",\"\",IF((L47+J48)<900,900,(L47+J48)))","v":""},null,null,null,null,null,{"$f":"VLOOKUP($D$48,HCTableBlk2,2,FALSE)","v":0}]
[null,{"$f":"SEED!$D$13","v":"BLOCK 3"}]
[null,"PLAYER",null,{"$f":"SEED!$D$15","v":" Block 3 Player 1"},null,null,"Start H/C",{"$f":"SEED!$E$15","v":0},"New H/C",{"$f":"VLOOKUP(D50,HCTableBlk3,2,FALSE)","v":0},"Start Index",{"$f":"SEED!$C$15","v":0},"HC Change Indicator","Block 3"]
[null,"Date","Event","Opponent","Op Hcap","Lev / Hcap","Score",null,"Won / Lost","Change +/-",null,"New Index",null,"Player","H/C","Temp H/C",null,null,null,"HC Change Flags"]
[null,{"$f":"NAMES!$C$10","v":"DATE"},{"$f":"NAMES!$C$8","v":"TOURNAMENT"},{"$f":"PLAYER!F393","v":" Block 3 Player 4"},{"$f":"VLOOKUP($D$52,HCTableBlk3,2,FALSE)","v":0},{"$f":"IF(HandicapPlay=\"X\",\"H\",\"L\")","v":"L"},{"$f":"PLAYER!I393","v":-1E-3},{"$f":"PLAYER!J393","v":-1E-3},{"$f":"IF(G52<0,\"\",IF(G52>H52,\"W\",\"L\"))","v":""},null,null,{"$f":"IF(J52=\"\",\"\",IF((L50+J52)<900,900,(L50+J52)))","v":""},null,{"$f":"SEED!D15","v":" Block 3 Player 1"},{"$f":"SEED!E15","v":0},null,null,{"$f":"VLOOKUP($D$52,HCTableBlk3,2,FALSE)","v":0},null,0]
[null,"\"","\"                     \"",{"$f":"PLAYER!F394","v":" Block 3 Player 3"},{"$f":"VLOOKUP($D$53,HCTableBlk3,2,FALSE)","v":0},{"$f":"IF(HandicapPlay=\"X\",\"H\",\"L\")","v":"L"},{"$f":"PLAYER!I394","v":-1E-3},{"$f":"PLAYER!J394","v":-1E-3},{"$f":"IF(G53<0,\"\",IF(G53>H53,\"W\",\"L\"))","v":""},null,null,{"$f":"IF(J53=\"\",\"\",IF((L52+J53)<900,900,(L52+J53)))","v":""},null,{"$f":"SEED!D16","v":" Block 3 Player 2"},{"$f":"SEED!E16","v":0},null,null,{"$f":"VLOOKUP($D$53,HCTableBlk3,2,FALSE)","v":0},null,0]
[null,"\"","\"                     \"",{"$f":"PLAYER!F395","v":" Block 3 Player 2"},{"$f":"VLOOKUP($D$54,HCTableBlk3,2,FALSE)","v":0},{"$f":"IF(HandicapPlay=\"X\",\"H\",\"L\")","v":"L"},{"$f":"PLAYER!I395","v":-1E-3},{"$f":"PLAYER!J395","v":-1E-3},{"$f":"IF(G54<0,\"\",IF(G54>H54,\"W\",\"L\"))","v":""},null,"Finish>",{"$f":"IF(J54=\"\",\"\",IF((L53+J54)<900,900,(L53+J54)))","v":""},null,{"$f":"SEED!D17","v":" Block 3 Player 3"},{"$f":"SEED!E17","v":0},null,null,{"$f":"VLOOKUP($D$54,HCTableBlk3,2,FALSE)","v":0},null,0]
[null,null,null,null,null,null,null,null,null,null,null,null,null,{"$f":"SEED!D18","v":" Block 3 Player 4"},{"$f":"SEED!E18","v":0},null,null,null,null,0]
[null,"PLAYER",null,{"$f":"SEED!$D$16","v":" Block 3 Player 2"},null,null,"Start H/C",{"$f":"SEED!$E$16","v":0},"New H/C",{"$f":"VLOOKUP(D56,HCTableBlk3,2,FALSE)","v":0},"Start Index",{"$f":"SEED!$C$16","v":0},"HC Change Indicator"]
[null,"Date","Event","Opponent","Op Hcap","Lev / Hcap","Score",null,"Won / Lost","Change +/-",null,"New Index"]
[null,{"$f":"NAMES!$C$10","v":"DATE"},{"$f":"NAMES!$C$8","v":"TOURNAMENT"},{"$f":"PLAYER!F441","v":" Block 3 Player 3"},{"$f":"VLOOKUP($D$58,HCTableBlk3,2,FALSE)","v":0},{"$f":"IF(HandicapPlay=\"X\",\"H\",\"L\")","v":"L"},{"$f":"PLAYER!I441","v":-1E-3},{"$f":"PLAYER!J441","v":-1E-3},{"$f":"IF(G58<0,\"\",IF(G58>H58,\"W\",\"L\"))","v":""},null,null,{"$f":"IF(J58=\"\",\"\",IF((L56+J58)<900,900,(L56+J58)))","v":""},null,null,null,null,null,{"$f":"VLOOKUP($D$58,HCTableBlk3,2,FALSE)","v":0}]
[null,"\"","\"                     \"",{"$f":"PLAYER!F442","v":" Block 3 Player 4"},{"$f":"VLOOKUP($D$59,HCTableBlk3,2,FALSE)","v":0},{"$f":"IF(HandicapPlay=\"X\",\"H\",\"L\")","v":"L"},{"$f":"PLAYER!I442","v":-1E-3},{"$f":"PLAYER!J442","v":-1E-3},{"$f":"IF(G59<0,\"\",IF(G59>H59,\"W\",\"L\"))","v":""},null,null,{"$f":"IF(J59=\"\",\"\",IF((L58+J59)<900,900,(L58+J59)))","v":""},null,null,null,null,null,{"$f":"VLOOKUP($D$59,HCTableBlk3,2,FALSE)","v":0}]
[null,"\"","\"                     \"",{"$f":"PLAYER!F443","v":" Block 3 Player 1"},{"$f":"VLOOKUP($D$60,HCTableBlk3,2,FALSE)","v":0},{"$f":"IF(HandicapPlay=\"X\",\"H\",\"L\")","v":"L"},{"$f":"PLAYER!I443","v":-1E-3},{"$f":"PLAYER!J443","v":-1E-3},{"$f":"IF(G60<0,\"\",IF(G60>H60,\"W\",\"L\"))","v":""},null,"Finish>",{"$f":"IF(J60=\"\",\"\",IF((L59+J60)<900,900,(L59+J60)))","v":""},null,null,null,null,null,{"$f":"VLOOKUP($D$60,HCTableBlk3,2,FALSE)","v":0}]
[]
[null,"PLAYER",null,{"$f":"SEED!$D$17","v":" Block 3 Player 3"},null,null,"Start H/C",{"$f":"SEED!$E$17","v":0},"New H/C",{"$f":"VLOOKUP(D62,HCTableBlk3,2,FALSE)","v":0},"Start Index",{"$f":"SEED!$C$17","v":0},"HC Change Indicator"]
[null,"Date","Event","Opponent","Op Hcap","Lev / Hcap","Score",null,"Won / Lost","Change +/-",null,"New Index"]
[null,{"$f":"NAMES!$C$10","v":"DATE"},{"$f":"NAMES!$C$8","v":"TOURNAMENT"},{"$f":"PLAYER!F489","v":" Block 3 Player 2"},{"$f":"VLOOKUP($D$64,HCTableBlk3,2,FALSE)","v":0},{"$f":"IF(HandicapPlay=\"X\",\"H\",\"L\")","v":"L"},{"$f":"PLAYER!I489","v":-1E-3},{"$f":"PLAYER!J489","v":-1E-3},{"$f":"IF(G64<0,\"\",IF(G64>H64,\"W\",\"L\"))","v":""},null,null,{"$f":"IF(J64=\"\",\"\",IF((L62+J64)<900,900,(L62+J64)))","v":""},null,null,null,null,null,{"$f":"VLOOKUP($D$64,HCTableBlk3,2,FALSE)","v":0}]
[null,"\"","\"                     \"",{"$f":"PLAYER!F490","v":" Block 3 Player 1"},{"$f":"VLOOKUP($D$65,HCTableBlk3,2,FALSE)","v":0},{"$f":"IF(HandicapPlay=\"X\",\"H\",\"L\")","v":"L"},{"$f":"PLAYER!I490","v":-1E-3},{"$f":"PLAYER!J490","v":-1E-3},{"$f":"IF(G65<0,\"\",IF(G65>H65,\"W\",\"L\"))","v":""},null,null,{"$f":"IF(J65=\"\",\"\",IF((L64+J65)<900,900,(L64+J65)))","v":""},null,null,null,null,null,{"$f":"VLOOKUP($D$65,HCTableBlk3,2,FALSE)","v":0}]
[null,"\"","\"                     \"",{"$f":"PLAYER!F491","v":" Block 3 Player 4"},{"$f":"VLOOKUP($D$66,HCTableBlk3,2,FALSE)","v":0},{"$f":"IF(HandicapPlay=\"X\",\"H\",\"L\")","v":"L"},{"$f":"PLAYER!I491","v":-1E-3},{"$f":"PLAYER!J491","v":-1E-3},{"$f":"IF(G66<0,\"\",IF(G66>H66,\"W\",\"L\"))","v":""},null,"Finish>",{"$f":"IF(J66=\"\",\"\",IF((L65+J66)<900,900,(L65+J66)))","v":""},null,null,null,null,null,{"$f":"VLOOKUP($D$66,HCTableBlk3,2,FALSE)","v":0}]
[]
[null,"PLAYER",null,{"$f":"SEED!$D$18","v":" Block 3 Player 4"},null,null,"Start H/C",{"$f":"SEED!$E$18","v":0},"New H/C",{"$f":"VLOOKUP(D68,HCTableBlk3,2,FALSE)","v":0},"Start Index",{"$f":"SEED!$C$18","v":0},"HC Change Indicator"]
[null,"Date","Event","Opponent","Op Hcap","Lev / Hcap","Score",null,"Won / Lost","Change +/-",null,"New Index"]
[null,{"$f":"NAMES!$C$10","v":"DATE"},{"$f":"NAMES!$C$8","v":"TOURNAMENT"},{"$f":"PLAYER!F537","v":" Block 3 Player 1"},{"$f":"VLOOKUP($D$70,HCTableBlk3,2,FALSE)","v":0},{"$f":"IF(HandicapPlay=\"X\",\"H\",\"L\")","v":"L"},{"$f":"PLAYER!I537","v":-1E-3},{"$f":"PLAYER!J537","v":-1E-3},{"$f":"IF(G70<0,\"\",IF(G70>H70,\"W\",\"L\"))","v":""},null,null,{"$f":"IF(J70=\"\",\"\",IF((L68+J70)<900,900,(L68+J70)))","v":""},null,null,null,null,null,{"$f":"VLOOKUP($D$70,HCTableBlk3,2,FALSE)","v":0}]
[null,"\"","\"                     \"",{"$f":"PLAYER!F538","v":" Block 3 Player 2"},{"$f":"VLOOKUP($D$71,HCTableBlk3,2,FALSE)","v":0},{"$f":"IF(HandicapPlay=\"X\",\"H\",\"L\")","v":"L"},{"$f":"PLAYER!I538","v":-1E-3},{"$f":"PLAYER!J538","v":-1E-3},{"$f":"IF(G71<0,\"\",IF(G71>H71,\"W\",\"L\"))","v":""},null,null,{"$f":"IF(J71=\"\",\"\",IF((L70+J71)<900,900,(L70+J71)))","v":""},null,null,null,null,null,{"$f":"VLOOKUP($D$71,HCTableBlk3,2,FALSE)","v":0}]
[null,"\"","\"                     \"",{"$f":"PLAYER!F539","v":" Block 3 Player 3"},{"$f":"VLOOKUP($D$72,HCTableBlk3,2,FALSE)","v":0},{"$f":"IF(HandicapPlay=\"X\",\"H\",\"L\")","v":"L"},{"$f":"PLAYER!I539","v":-1E-3},{"$f":"PLAYER!J539","v":-1E-3},{"$f":"IF(G72<0,\"\",IF(G72>H72,\"W\",\"L\"))","v":""},null,"Finish>",{"$f":"IF(J72=\"\",\"\",IF((L71+J72)<900,900,(L71+J72)))","v":""},null,null,null,null,null,{"$f":"VLOOKUP($D$72,HCTableBlk3,2,FALSE)","v":0}]
[null,{"$f":"SEED!$I$13","v":"BLOCK 4"}]
[null,"PLAYER",null,{"$f":"SEED!$I$15","v":" Block 4 Player 1"},null,null,"Start H/C",{"$f":"SEED!$J$15","v":0},"New H/C",{"$f":"VLOOKUP(D74,HCTableBlk4,2,FALSE)","v":0},"Start Index",{"$f":"SEED!$H$15","v":0},"HC Change Indicator","Block 4"]
[null,"Date","Event","Opponent","Op Hcap","Lev / Hcap","Score",null,"Won / Lost","Change +/-",null,"New Index",null,"Player","H/C","Temp H/C",null,null,null,"HC Change Flags"]
[null,{"$f":"NAMES!$C$10","v":"DATE"},{"$f":"NAMES!$C$8","v":"TOURNAMENT"},{"$f":"PLAYER!F585","v":" Block 4 Player 4"},{"$f":"VLOOKUP($D$76,HCTableBlk4,2,FALSE)","v":0},{"$f":"IF(HandicapPlay=\"X\",\"H\",\"L\")","v":"L"},{"$f":"PLAYER!I585","v":-1E-3},{"$f":"PLAYER!J585","v":-1E-3},{"$f":"IF(G76<0,\"\",IF(G76>H76,\"W\",\"L\"))","v":""},null,null,{"$f":"IF(J76=\"\",\"\",IF((L74+J76)<900,900,(L74+J76)))","v":""},null,{"$f":"SEED!I15","v":" Block 4 Player 1"},{"$f":"SEED!J15","v":0},null,null,{"$f":"VLOOKUP($D$76,HCTableBlk4,2,FALSE)","v":0},null,0]
[null,"\"","\"                     \"",{"$f":"PLAYER!F586","v":" Block 4 Player 3"},{"$f":"VLOOKUP($D$77,HCTableBlk4,2,FALSE)","v":0},{"$f":"IF(HandicapPlay=\"X\",\"H\",\"L\")","v":"L"},{"$f":"PLAYER!I586","v":-1E-3},{"$f":"PLAYER!J586","v":-1E-3},{"$f":"IF(G77<0,\"\",IF(G77>H77,\"W\",\"L\"))","v":""},null,null,{"$f":"IF(J77=\"\",\"\",IF((L76+J77)<900,900,(L76+J77)))","v":""},null,{"$f":"SEED!I16","v":" Block 4 Player 2"},{"$f":"SEED!J16","v":0},null,null,{"$f":"VLOOKUP($D$77,HCTableBlk4,2,FALSE)","v":0},null,0]
[null,"\"","\"                     \"",{"$f":"PLAYER!F587","v":" Block 4 Player 2"},{"$f":"VLOOKUP($D$78,HCTableBlk4,2,FALSE)","v":0},{"$f":"IF(HandicapPlay=\"X\",\"H\",\"L\")","v":"L"},{"$f":"PLAYER!I587","v":-1E-3},{"$f":"PLAYER!J587","v":-1E-3},{"$f":"IF(G78<0,\"\",IF(G78>H78,\"W\",\"L\"))","v":""},null,"Finish>",{"$f":"IF(J78=\"\",\"\",IF((L77+J78)<900,900,(L77+J78)))","v":""},null,{"$f":"SEED!I17","v":" Block 4 Player 3"},{"$f":"SEED!J17","v":0},null,null,{"$f":"VLOOKUP($D$78,HCTableBlk4,2,FALSE)","v":0},null,0]
[null,null,null,null,null,null,null,null,null,null,null,null,null,{"$f":"SEED!I18","v":" Block 4 Player 4"},{"$f":"SEED!J18","v":0},null,null,null,null,0]
[null,"PLAYER",null,{"$f":"SEED!$I$16","v":" Block 4 Player 2"},null,null,"Start H/C",{"$f":"SEED!$J$16","v":0},"New H/C",{"$f":"VLOOKUP(D80,HCTableBlk4,2,FALSE)","v":0},"Start Index",{"$f":"SEED!$H$16","v":0},"HC Change Indicator"]
[null,"Date","Event","Opponent","Op Hcap","Lev / Hcap","Score",null,"Won / Lost","Change +/-",null,"New Index"]
[null,{"$f":"NAMES!$C$10","v":"DATE"},{"$f":"NAMES!$C$8","v":"TOURNAMENT"},{"$f":"PLAYER!F633","v":" Block 4 Player 3"},{"$f":"VLOOKUP($D$82,HCTableBlk4,2,FALSE)","v":0},{"$f":"IF(HandicapPlay=\"X\",\"H\",\"L\")","v":"L"},{"$f":"PLAYER!I633","v":-1E-3},{"$f":"PLAYER!J633","v":-1E-3},{"$f":"IF(G82<0,\"\",IF(G82>H82,\"W\",\"L\"))","v":""},null,null,{"$f":"IF(J82=\"\",\"\",IF((L80+J82)<900,900,(L80+J82)))","v":""},null,null,null,null,null,{"$f":"VLOOKUP($D$82,HCTableBlk4,2,FALSE)","v":0}]
[null,"\"","\"                     \"",{"$f":"PLAYER!F634","v":" Block 4 Player 4"},{"$f":"VLOOKUP($D$83,HCTableBlk4,2,FALSE)","v":0},{"$f":"IF(HandicapPlay=\"X\",\"H\",\"L\")","v":"L"},{"$f":"PLAYER!I634","v":-1E-3},{"$f":"PLAYER!J634","v":-1E-3},{"$f":"IF(G83<0,\"\",IF(G83>H83,\"W\",\"L\"))","v":""},null,null,{"$f":"IF(J83=\"\",\"\",IF((L82+J83)<900,900,(L82+J83)))","v":""},null,null,null,null,null,{"$f":"VLOOKUP($D$83,HCTableBlk4,2,FALSE)","v":0}]
[null,"\"","\"                     \"",{"$f":"PLAYER!F635","v":" Block 4 Player 1"},{"$f":"VLOOKUP($D$84,HCTableBlk4,2,FALSE)","v":0},{"$f":"IF(HandicapPlay=\"X\",\"H\",\"L\")","v":"L"},{"$f":"PLAYER!I635","v":-1E-3},{"$f":"PLAYER!J635","v":-1E-3},{"$f":"IF(G84<0,\"\",IF(G84>H84,\"W\",\"L\"))","v":""},null,"Finish>",{"$f":"IF(J84=\"\",\"\",IF((L83+J84)<900,900,(L83+J84)))","v":""},null,null,null,null,null,{"$f":"VLOOKUP($D$84,HCTableBlk4,2,FALSE)","v":0}]
[]
[null,"PLAYER",null,{"$f":"SEED!$I$17","v":" Block 4 Player 3"},null,null,"Start H/C",{"$f":"SEED!$J$17","v":0},"New H/C",{"$f":"VLOOKUP(D86,HCTableBlk4,2,FALSE)","v":0},"Start Index",{"$f":"SEED!$H$17","v":0},"HC Change Indicator"]
[null,"Date","Event","Opponent","Op Hcap","Lev / Hcap","Score",null,"Won / Lost","Change +/-",null,"New Index"]
[null,{"$f":"NAMES!$C$10","v":"DATE"},{"$f":"NAMES!$C$8","v":"TOURNAMENT"},{"$f":"PLAYER!F681","v":" Block 4 Player 2"},{"$f":"VLOOKUP($D$88,HCTableBlk4,2,FALSE)","v":0},{"$f":"IF(HandicapPlay=\"X\",\"H\",\"L\")","v":"L"},{"$f":"PLAYER!I681","v":-1E-3},{"$f":"PLAYER!J681","v":-1E-3},{"$f":"IF(G88<0,\"\",IF(G88>H88,\"W\",\"L\"))","v":""},null,null,{"$f":"IF(J88=\"\",\"\",IF((L86+J88)<900,900,(L86+J88)))","v":""},null,null,null,null,null,{"$f":"VLOOKUP($D$88,HCTableBlk4,2,FALSE)","v":0}]
[null,"\"","\"                     \"",{"$f":"PLAYER!F682","v":" Block 4 Player 1"},{"$f":"VLOOKUP($D$89,HCTableBlk4,2,FALSE)","v":0},{"$f":"IF(HandicapPlay=\"X\",\"H\",\"L\")","v":"L"},{"$f":"PLAYER!I682","v":-1E-3},{"$f":"PLAYER!J682","v":-1E-3},{"$f":"IF(G89<0,\"\",IF(G89>H89,\"W\",\"L\"))","v":""},null,null,{"$f":"IF(J89=\"\",\"\",IF((L88+J89)<900,900,(L88+J89)))","v":""},null,null,null,null,null,{"$f":"VLOOKUP($D$89,HCTableBlk4,2,FALSE)","v":0}]
[null,"\"","\"                     \"",{"$f":"PLAYER!F683","v":" Block 4 Player 4"},{"$f":"VLOOKUP($D$90,HCTableBlk4,2,FALSE)","v":0},{"$f":"IF(HandicapPlay=\"X\",\"H\",\"L\")","v":"L"},{"$f":"PLAYER!I683","v":-1E-3},{"$f":"PLAYER!J683","v":-1E-3},{"$f":"IF(G90<0,\"\",IF(G90>H90,\"W\",\"L\"))","v":""},null,"Finish>",{"$f":"IF(J90=\"\",\"\",IF((L89+J90)<900,900,(L89+J90)))","v":""},null,null,null,null,null,{"$f":"VLOOKUP($D$90,HCTableBlk4,2,FALSE)","v":0}]
[]
[null,"PLAYER",null,{"$f":"SEED!$I$18","v":" Block 4 Player 4"},null,null,"Start H/C",{"$f":"SEED!$J$18","v":0},"New H/C",{"$f":"VLOOKUP(D92,HCTableBlk4,2,FALSE)","v":0},"Start Index",{"$f":"SEED!$H$18","v":0},"HC Change Indicator"]
[null,"Date","Event","Opponent","Op Hcap","Lev / Hcap","Score",null,"Won / Lost","Change +/-",null,"New Index"]
[null,{"$f":"NAMES!$C$10","v":"DATE"},{"$f":"NAMES!$C$8","v":"TOURNAMENT"},{"$f":"PLAYER!F729","v":" Block 4 Player 1"},{"$f":"VLOOKUP($D$94,HCTableBlk4,2,FALSE)","v":0},{"$f":"IF(HandicapPlay=\"X\",\"H\",\"L\")","v":"L"},{"$f":"PLAYER!I729","v":-1E-3},{"$f":"PLAYER!J729","v":-1E-3},{"$f":"IF(G94<0,\"\",IF(G94>H94,\"W\",\"L\"))","v":""},null,null,{"$f":"IF(J94=\"\",\"\",IF((L92+J94)<900,900,(L92+J94)))","v":""},null,null,null,null,null,{"$f":"VLOOKUP($D$94,HCTableBlk4,2,FALSE)","v":0}]
[null,"\"","\"                     \"",{"$f":"PLAYER!F730","v":" Block 4 Player 2"},{"$f":"VLOOKUP($D$95,HCTableBlk4,2,FALSE)","v":0},{"$f":"IF(HandicapPlay=\"X\",\"H\",\"L\")","v":"L"},{"$f":"PLAYER!I730","v":-1E-3},{"$f":"PLAYER!J730","v":-1E-3},{"$f":"IF(G95<0,\"\",IF(G95>H95,\"W\",\"L\"))","v":""},null,null,{"$f":"IF(J95=\"\",\"\",IF((L94+J95)<900,900,(L94+J95)))","v":""},null,null,null,null,null,{"$f":"VLOOKUP($D$95,HCTableBlk4,2,FALSE)","v":0}]
[null,"\"","\"                     \"",{"$f":"PLAYER!F731","v":" Block 4 Player 3"},{"$f":"VLOOKUP($D$96,HCTableBlk4,2,FALSE)","v":0},{"$f":"IF(HandicapPlay=\"X\",\"H\",\"L\")","v":"L"},{"$f":"PLAYER!I731","v":-1E-3},{"$f":"PLAYER!J731","v":-1E-3},{"$f":"IF(G96<0,\"\",IF(G96>H96,\"W\",\"L\"))","v":""},null,"Finish>",{"$f":"IF(J96=\"\",\"\",IF((L95+J96)<900,900,(L95+J96)))","v":""},null,null,null,null,null,{"$f":"VLOOKUP($D$96,HCTableBlk4,2,FALSE)","v":0}]
[null,{"$f":"SEED!$D$20","v":"BLOCK 5"}]
[null,"PLAYER",null,{"$f":"SEED!$D$22","v":" Block 5 Player 1"},null,null,"Start H/C",{"$f":"SEED!$E$22","v":0},"New H/C",{"$f":"VLOOKUP(D98,HCTableBlk5,2,FALSE)","v":0},"Start Index",{"$f":"SEED!$C$22","v":0},"HC Change Indicator","Block 5"]
[null,"Date","Event","Opponent","Op Hcap","Lev / Hcap","Score",null,"Won / Lost","Change +/-",null,"New Index",null,"Player","H/C","Temp H/C",null,null,null,"HC Change Flags"]
[null,{"$f":"NAMES!$C$10","v":"DATE"},{"$f":"NAMES!$C$8","v":"TOURNAMENT"},{"$f":"PLAYER!F777","v":" Block 5 Player 4"},{"$f":"VLOOKUP($D$100,HCTableBlk5,2,FALSE)","v":0},{"$f":"IF(HandicapPlay=\"X\",\"H\",\"L\")","v":"L"},{"$f":"PLAYER!I777","v":-1E-3},{"$f":"PLAYER!J777","v":-1E-3},{"$f":"IF(G100<0,\"\",IF(G100>H100,\"W\",\"L\"))","v":""},null,null,{"$f":"IF(J100=\"\",\"\",IF((L98+J100)<900,900,(L98+J100)))","v":""},null,{"$f":"SEED!D22","v":" Block 5 Player 1"},{"$f":"SEED!E22","v":0},null,null,{"$f":"VLOOKUP($D$100,HCTableBlk5,2,FALSE)","v":0},null,0]
[null,"\"","\"                     \"",{"$f":"PLAYER!F778","v":" Block 5 Player 3"},{"$f":"VLOOKUP($D$101,HCTableBlk5,2,FALSE)","v":0},{"$f":"IF(HandicapPlay=\"X\",\"H\",\"L\")","v":"L"},{"$f":"PLAYER!I778","v":-1E-3},{"$f":"PLAYER!J778","v":-1E-3},{"$f":"IF(G101<0,\"\",IF(G101>H101,\"W\",\"L\"))","v":""},null,null,{"$f":"IF(J101=\"\",\"\",IF((L100+J101)<900,900,(L100+J101)))","v":""},null,{"$f":"SEED!D23","v":" Block 5 Player 2"},{"$f":"SEED!E23","v":0},null,null,{"$f":"VLOOKUP($D$101,HCTableBlk5,2,FALSE)","v":0},null,0]
[null,"\"","\"                     \"",{"$f":"PLAYER!F779","v":" Block 5 Player 2"},{"$f":"VLOOKUP($D$102,HCTableBlk5,2,FALSE)","v":0},{"$f":"IF(HandicapPlay=\"X\",\"H\",\"L\")","v":"L"},{"$f":"PLAYER!I779","v":-1E-3},{"$f":"PLAYER!J779","v":-1E-3},{"$f":"IF(G102<0,\"\",IF(G102>H102,\"W\",\"L\"))","v":""},null,"Finish>",{"$f":"IF(J102=\"\",\"\",IF((L101+J102)<900,900,(L101+J102)))","v":""},null,{"$f":"SEED!D24","v":" Block 5 Player 3"},{"$f":"SEED!E24","v":0},null,null,{"$f":"VLOOKUP($D$102,HCTableBlk5,2,FALSE)","v":0},null,0]
[null,null,null,null,null,null,null,null,null,null,null,null,null,{"$f":"SEED!D25","v":" Block 5 Player 4"},{"$f":"SEED!E25","v":0},null,null,null,null,0]
[null,"PLAYER",null,{"$f":"SEED!$D$23","v":" Block 5 Player 2"},null,null,"Start H/C",{"$f":"SEED!$E$23","v":0},"New H/C",{"$f":"VLOOKUP(D104,HCTableBlk5,2,FALSE)","v":0},"Start Index",{"$f":"SEED!$C$23","v":0},"HC Change Indicator"]
[null,"Date","Event","Opponent","Op Hcap","Lev / Hcap","Score",null,"Won / Lost","Change +/-",null,"New Index"]
[null,{"$f":"NAMES!$C$10","v":"DATE"},{"$f":"NAMES!$C$8","v":"TOURNAMENT"},{"$f":"PLAYER!F825","v":" Block 5 Player 3"},{"$f":"VLOOKUP($D$106,HCTableBlk5,2,FALSE)","v":0},{"$f":"IF(HandicapPlay=\"X\",\"H\",\"L\")","v":"L"},{"$f":"PLAYER!I825","v":-1E-3},{"$f":"PLAYER!J825","v":-1E-3},{"$f":"IF(G106<0,\"\",IF(G106>H106,\"W\",\"L\"))","v":""},null,null,{"$f":"IF(J106=\"\",\"\",IF((L104+J106)<900,900,(L104+J106)))","v":""},null,null,null,null,null,{"$f":"VLOOKUP($D$106,HCTableBlk5,2,FALSE)","v":0}]
[null,"\"","\"                     \"",{"$f":"PLAYER!F826","v":" Block 5 Player 4"},{"$f":"VLOOKUP($D$107,HCTableBlk5,2,FALSE)","v":0},{"$f":"IF(HandicapPlay=\"X\",\"H\",\"L\")","v":"L"},{"$f":"PLAYER!I826","v":-1E-3},{"$f":"PLAYER!J826","v":-1E-3},{"$f":"IF(G107<0,\"\",IF(G107>H107,\"W\",\"L\"))","v":""},null,null,{"$f":"IF(J107=\"\",\"\",IF((L106+J107)<900,900,(L106+J107)))","v":""},null,null,null,null,null,{"$f":"VLOOKUP($D$107,HCTableBlk5,2,FALSE)","v":0}]
[null,"\"","\"                     \"",{"$f":"PLAYER!F827","v":" Block 5 Player 1"},{"$f":"VLOOKUP($D$108,HCTableBlk5,2,FALSE)","v":0},{"$f":"IF(HandicapPlay=\"X\",\"H\",\"L\")","v":"L"},{"$f":"PLAYER!I827","v":-1E-3},{"$f":"PLAYER!J827","v":-1E-3},{"$f":"IF(G108<0,\"\",IF(G108>H108,\"W\",\"L\"))","v":""},null,"Finish>",{"$f":"IF(J108=\"\",\"\",IF((L107+J108)<900,900,(L107+J108)))","v":""},null,null,null,null,null,{"$f":"VLOOKUP($D$108,HCTableBlk5,2,FALSE)","v":0}]
[]
[null,"PLAYER",null,{"$f":"SEED!$D$24","v":" Block 5 Player 3"},null,null,"Start H/C",{"$f":"SEED!$E$24","v":0},"New H/C",{"$f":"VLOOKUP(D110,HCTableBlk5,2,FALSE)","v":0},"Start Index",{"$f":"SEED!$C$24","v":0},"HC Change Indicator"]
[null,"Date","Event","Opponent","Op Hcap","Lev / Hcap","Score",null,"Won / Lost","Change +/-",null,"New Index"]
[null,{"$f":"NAMES!$C$10","v":"DATE"},{"$f":"NAMES!$C$8","v":"TOURNAMENT"},{"$f":"PLAYER!F873","v":" Block 5 Player 2"},{"$f":"VLOOKUP($D$112,HCTableBlk5,2,FALSE)","v":0},{"$f":"IF(HandicapPlay=\"X\",\"H\",\"L\")","v":"L"},{"$f":"PLAYER!I873","v":-1E-3},{"$f":"PLAYER!J873","v":-1E-3},{"$f":"IF(G112<0,\"\",IF(G112>H112,\"W\",\"L\"))","v":""},null,null,{"$f":"IF(J112=\"\",\"\",IF((L110+J112)<900,900,(L110+J112)))","v":""},null,null,null,null,null,{"$f":"VLOOKUP($D$112,HCTableBlk5,2,FALSE)","v":0}]
[null,"\"","\"                     \"",{"$f":"PLAYER!F874","v":" Block 5 Player 1"},{"$f":"VLOOKUP($D$113,HCTableBlk5,2,FALSE)","v":0},{"$f":"IF(HandicapPlay=\"X\",\"H\",\"L\")","v":"L"},{"$f":"PLAYER!I874","v":-1E-3},{"$f":"PLAYER!J874","v":-1E-3},{"$f":"IF(G113<0,\"\",IF(G113>H113,\"W\",\"L\"))","v":""},null,null,{"$f":"IF(J113=\"\",\"\",IF((L112+J113)<900,900,(L112+J113)))","v":""},null,null,null,null,null,{"$f":"VLOOKUP($D$113,HCTableBlk5,2,FALSE)","v":0}]
[null,"\"","\"                     \"",{"$f":"PLAYER!F875","v":" Block 5 Player 4"},{"$f":"VLOOKUP($D$114,HCTableBlk5,2,FALSE)","v":0},{"$f":"IF(HandicapPlay=\"X\",\"H\",\"L\")","v":"L"},{"$f":"PLAYER!I875","v":-1E-3},{"$f":"PLAYER!J875","v":-1E-3},{"$f":"IF(G114<0,\"\",IF(G114>H114,\"W\",\"L\"))","v":""},null,"Finish>",{"$f":"IF(J114=\"\",\"\",IF((L113+J114)<900,900,(L113+J114)))","v":""},null,null,null,null,null,{"$f":"VLOOKUP($D$114,HCTableBlk5,2,FALSE)","v":0}]
[]
[null,"PLAYER",null,{"$f":"SEED!$D$25","v":" Block 5 Player 4"},null,null,"Start H/C",{"$f":"SEED!$E$25","v":0},"New H/C",{"$f":"VLOOKUP(D116,HCTableBlk5,2,FALSE)","v":0},"Start Index",{"$f":"SEED!$C$25","v":0},"HC Change Indicator"]
[null,"Date","Event","Opponent","Op Hcap","Lev / Hcap","Score",null,"Won / Lost","Change +/-",null,"New Index"]
[null,{"$f":"NAMES!$C$10","v":"DATE"},{"$f":"NAMES!$C$8","v":"TOURNAMENT"},{"$f":"PLAYER!F921","v":" Block 5 Player 1"},{"$f":"VLOOKUP($D$118,HCTableBlk5,2,FALSE)","v":0},{"$f":"IF(HandicapPlay=\"X\",\"H\",\"L\")","v":"L"},{"$f":"PLAYER!I921","v":-1E-3},{"$f":"PLAYER!J921","v":-1E-3},{"$f":"IF(G118<0,\"\",IF(G118>H118,\"W\",\"L\"))","v":""},null,null,{"$f":"IF(J118=\"\",\"\",IF((L116+J118)<900,900,(L116+J118)))","v":""},null,null,null,null,null,{"$f":"VLOOKUP($D$118,HCTableBlk5,2,FALSE)","v":0}]
[null,"\"","\"                     \"",{"$f":"PLAYER!F922","v":" Block 5 Player 2"},{"$f":"VLOOKUP($D$119,HCTableBlk5,2,FALSE)","v":0},{"$f":"IF(HandicapPlay=\"X\",\"H\",\"L\")","v":"L"},{"$f":"PLAYER!I922","v":-1E-3},{"$f":"PLAYER!J922","v":-1E-3},{"$f":"IF(G119<0,\"\",IF(G119>H119,\"W\",\"L\"))","v":""},null,null,{"$f":"IF(J119=\"\",\"\",IF((L118+J119)<900,900,(L118+J119)))","v":""},null,null,null,null,null,{"$f":"VLOOKUP($D$119,HCTableBlk5,2,FALSE)","v":0}]
[null,"\"","\"                     \"",{"$f":"PLAYER!F923","v":" Block 5 Player 3"},{"$f":"VLOOKUP($D$120,HCTableBlk5,2,FALSE)","v":0},{"$f":"IF(HandicapPlay=\"X\",\"H\",\"L\")","v":"L"},{"$f":"PLAYER!I923","v":-1E-3},{"$f":"PLAYER!J923","v":-1E-3},{"$f":"IF(G120<0,\"\",IF(G120>H120,\"W\",\"L\"))","v":""},null,"Finish>",{"$f":"IF(J120=\"\",\"\",IF((L119+J120)<900,900,(L119+J120)))","v":""},null,null,null,null,null,{"$f":"VLOOKUP($D$120,HCTableBlk5,2,FALSE)","v":0}]
[null,{"$f":"SEED!$I$20","v":"BLOCK 6"}]
[null,"PLAYER",null,{"$f":"SEED!$I$22","v":" Block 6 Player 1"},null,null,"Start H/C",{"$f":"SEED!$J$22","v":0},"New H/C",{"$f":"VLOOKUP(D122,HCTableBlk6,2,FALSE)","v":0},"Start Index",{"$f":"SEED!$H$22","v":0},"HC Change Indicator","Block 6"]
[null,"Date","Event","Opponent","Op Hcap","Lev / Hcap","Score",null,"Won / Lost","Change +/-",null,"New Index",null,"Player","H/C","Temp H/C",null,null,null,"HC Change Flags"]
[null,{"$f":"NAMES!$C$10","v":"DATE"},{"$f":"NAMES!$C$8","v":"TOURNAMENT"},{"$f":"PLAYER!F969","v":" Block 6 Player 4"},{"$f":"VLOOKUP($D$124,HCTableBlk6,2,FALSE)","v":0},{"$f":"IF(HandicapPlay=\"X\",\"H\",\"L\")","v":"L"},{"$f":"PLAYER!I969","v":-1E-3},{"$f":"PLAYER!J969","v":-1E-3},{"$f":"IF(G124<0,\"\",IF(G124>H124,\"W\",\"L\"))","v":""},null,null,{"$f":"IF(J124=\"\",\"\",IF((L122+J124)<900,900,(L122+J124)))","v":""},null,{"$f":"SEED!I22","v":" Block 6 Player 1"},{"$f":"SEED!J22","v":0},null,null,{"$f":"VLOOKUP($D$124,HCTableBlk6,2,FALSE)","v":0},null,0]
[null,"\"","\"                     \"",{"$f":"PLAYER!F970","v":" Block 6 Player 3"},{"$f":"VLOOKUP($D$125,HCTableBlk6,2,FALSE)","v":0},{"$f":"IF(HandicapPlay=\"X\",\"H\",\"L\")","v":"L"},{"$f":"PLAYER!I970","v":-1E-3},{"$f":"PLAYER!J970","v":-1E-3},{"$f":"IF(G125<0,\"\",IF(G125>H125,\"W\",\"L\"))","v":""},null,null,{"$f":"IF(J125=\"\",\"\",IF((L124+J125)<900,900,(L124+J125)))","v":""},null,{"$f":"SEED!I23","v":" Block 6 Player 2"},{"$f":"SEED!J23","v":0},null,null,{"$f":"VLOOKUP($D$125,HCTableBlk6,2,FALSE)","v":0},null,0]
[null,"\"","\"                     \"",{"$f":"PLAYER!F971","v":" Block 6 Player 2"},{"$f":"VLOOKUP($D$126,HCTableBlk6,2,FALSE)","v":0},{"$f":"IF(HandicapPlay=\"X\",\"H\",\"L\")","v":"L"},{"$f":"PLAYER!I971","v":-1E-3},{"$f":"PLAYER!J971","v":-1E-3},{"$f":"IF(G126<0,\"\",IF(G126>H126,\"W\",\"L\"))","v":""},null,"Finish>",{"$f":"IF(J126=\"\",\"\",IF((L125+J126)<900,900,(L125+J126)))","v":""},null,{"$f":"SEED!I24","v":" Block 6 Player 3"},{"$f":"SEED!J24","v":0},null,null,{"$f":"VLOOKUP($D$126,HCTableBlk6,2,FALSE)","v":0},null,0]
[null,null,null,null,null,null,null,null,null,null,null,null,null,{"$f":"SEED!I25","v":" Block 6 Player 4"},{"$f":"SEED!J25","v":0},null,null,null,null,0]
[null,"PLAYER",null,{"$f":"SEED!$I$23","v":" Block 6 Player 2"},null,null,"Start H/C",{"$f":"SEED!$J$23","v":0},"New H/C",{"$f":"VLOOKUP(D128,HCTableBlk6,2,FALSE)","v":0},"Start Index",{"$f":"SEED!$H$23","v":0},"HC Change Indicator"]
[null,"Date","Event","Opponent","Op Hcap","Lev / Hcap","Score",null,"Won / Lost","Change +/-",null,"New Index"]
[null,{"$f":"NAMES!$C$10","v":"DATE"},{"$f":"NAMES!$C$8","v":"TOURNAMENT"},{"$f":"PLAYER!F1017","v":" Block 6 Player 3"},{"$f":"VLOOKUP($D$130,HCTableBlk6,2,FALSE)","v":0},{"$f":"IF(HandicapPlay=\"X\",\"H\",\"L\")","v":"L"},{"$f":"PLAYER!I1017","v":-1E-3},{"$f":"PLAYER!J1017","v":-1E-3},{"$f":"IF(G130<0,\"\",IF(G130>H130,\"W\",\"L\"))","v":""},null,null,{"$f":"IF(J130=\"\",\"\",IF((L128+J130)<900,900,(L128+J130)))","v":""},null,null,null,null,null,{"$f":"VLOOKUP($D$130,HCTableBlk6,2,FALSE)","v":0}]
[null,"\"","\"                     \"",{"$f":"PLAYER!F1018","v":" Block 6 Player 4"},{"$f":"VLOOKUP($D$131,HCTableBlk6,2,FALSE)","v":0},{"$f":"IF(HandicapPlay=\"X\",\"H\",\"L\")","v":"L"},{"$f":"PLAYER!I1018","v":-1E-3},{"$f":"PLAYER!J1018","v":-1E-3},{"$f":"IF(G131<0,\"\",IF(G131>H131,\"W\",\"L\"))","v":""},null,null,{"$f":"IF(J131=\"\",\"\",IF((L130+J131)<900,900,(L130+J131)))","v":""},null,null,null,null,null,{"$f":"VLOOKUP($D$131,HCTableBlk6,2,FALSE)","v":0}]
[null,"\"","\"                     \"",{"$f":"PLAYER!F1019","v":" Block 6 Player 1"},{"$f":"VLOOKUP($D$132,HCTableBlk6,2,FALSE)","v":0},{"$f":"IF(HandicapPlay=\"X\",\"H\",\"L\")","v":"L"},{"$f":"PLAYER!I1019","v":-1E-3},{"$f":"PLAYER!J1019","v":-1E-3},{"$f":"IF(G132<0,\"\",IF(G132>H132,\"W\",\"L\"))","v":""},null,"Finish>",{"$f":"IF(J132=\"\",\"\",IF((L131+J132)<900,900,(L131+J132)))","v":""},null,null,null,null,null,{"$f":"VLOOKUP($D$132,HCTableBlk6,2,FALSE)","v":0}]
[]
[null,"PLAYER",null,{"$f":"SEED!$I$24","v":" Block 6 Player 3"},null,null,"Start H/C",{"$f":"SEED!$J$24","v":0},"New H/C",{"$f":"VLOOKUP(D134,HCTableBlk6,2,FALSE)","v":0},"Start Index",{"$f":"SEED!$H$24","v":0},"HC Change Indicator"]
[null,"Date","Event","Opponent","Op Hcap","Lev / Hcap","Score",null,"Won / Lost","Change +/-",null,"New Index"]
[null,{"$f":"NAMES!$C$10","v":"DATE"},{"$f":"NAMES!$C$8","v":"TOURNAMENT"},{"$f":"PLAYER!F1065","v":" Block 6 Player 2"},{"$f":"VLOOKUP($D$136,HCTableBlk6,2,FALSE)","v":0},{"$f":"IF(HandicapPlay=\"X\",\"H\",\"L\")","v":"L"},{"$f":"PLAYER!I1065","v":-1E-3},{"$f":"PLAYER!J1065","v":-1E-3},{"$f":"IF(G136<0,\"\",IF(G136>H136,\"W\",\"L\"))","v":""},null,null,{"$f":"IF(J136=\"\",\"\",IF((L134+J136)<900,900,(L134+J136)))","v":""},null,null,null,null,null,{"$f":"VLOOKUP($D$136,HCTableBlk6,2,FALSE)","v":0}]
[null,"\"","\"                     \"",{"$f":"PLAYER!F1066","v":" Block 6 Player 1"},{"$f":"VLOOKUP($D$137,HCTableBlk6,2,FALSE)","v":0},{"$f":"IF(HandicapPlay=\"X\",\"H\",\"L\")","v":"L"},{"$f":"PLAYER!I1066","v":-1E-3},{"$f":"PLAYER!J1066","v":-1E-3},{"$f":"IF(G137<0,\"\",IF(G137>H137,\"W\",\"L\"))","v":""},null,null,{"$f":"IF(J137=\"\",\"\",IF((L136+J137)<900,900,(L136+J137)))","v":""},null,null,null,null,null,{"$f":"VLOOKUP($D$137,HCTableBlk6,2,FALSE)","v":0}]
[null,"\"","\"                     \"",{"$f":"PLAYER!F1067","v":" Block 6 Player 4"},{"$f":"VLOOKUP($D$138,HCTableBlk6,2,FALSE)","v":0},{"$f":"IF(HandicapPlay=\"X\",\"H\",\"L\")","v":"L"},{"$f":"PLAYER!I1067","v":-1E-3},{"$f":"PLAYER!J1067","v":-1E-3},{"$f":"IF(G138<0,\"\",IF(G138>H138,\"W\",\"L\"))","v":""},null,"Finish>",{"$f":"IF(J138=\"\",\"\",IF((L137+J138)<900,900,(L137+J138)))","v":""},null,null,null,null,null,{"$f":"VLOOKUP($D$138,HCTableBlk6,2,FALSE)","v":0}]
[]
[null,"PLAYER",null,{"$f":"SEED!$I$25","v":" Block 6 Player 4"},null,null,"Start H/C",{"$f":"SEED!$J$25","v":0},"New H/C",{"$f":"VLOOKUP(D140,HCTableBlk6,2,FALSE)","v":0},"Start Index",{"$f":"SEED!$H$25","v":0},"HC Change Indicator"]
[null,"Date","Event","Opponent","Op Hcap","Lev / Hcap","Score",null,"Won / Lost","Change +/-",null,"New Index"]
[null,{"$f":"NAMES!$C$10","v":"DATE"},{"$f":"NAMES!$C$8","v":"TOURNAMENT"},{"$f":"PLAYER!F1113","v":" Block 6 Player 1"},{"$f":"VLOOKUP($D$142,HCTableBlk6,2,FALSE)","v":0},{"$f":"IF(HandicapPlay=\"X\",\"H\",\"L\")","v":"L"},{"$f":"PLAYER!I1113","v":-1E-3},{"$f":"PLAYER!J1113","v":-1E-3},{"$f":"IF(G142<0,\"\",IF(G142>H142,\"W\",\"L\"))","v":""},null,null,{"$f":"IF(J142=\"\",\"\",IF((L140+J142)<900,900,(L140+J142)))","v":""},null,null,null,null,null,{"$f":"VLOOKUP($D$142,HCTableBlk6,2,FALSE)","v":0}]
[null,"\"","\"                     \"",{"$f":"PLAYER!F1114","v":" Block 6 Player 2"},{"$f":"VLOOKUP($D$143,HCTableBlk6,2,FALSE)","v":0},{"$f":"IF(HandicapPlay=\"X\",\"H\",\"L\")","v":"L"},{"$f":"PLAYER!I1114","v":-1E-3},{"$f":"PLAYER!J1114","v":-1E-3},{"$f":"IF(G143<0,\"\",IF(G143>H143,\"W\",\"L\"))","v":""},null,null,{"$f":"IF(J143=\"\",\"\",IF((L142+J143)<900,900,(L142+J143)))","v":""},null,null,null,null,null,{"$f":"VLOOKUP($D$143,HCTableBlk6,2,FALSE)","v":0}]
[null,"\"","\"                     \"",{"$f":"PLAYER!F1115","v":" Block 6 Player 3"},{"$f":"VLOOKUP($D$144,HCTableBlk6,2,FALSE)","v":0},{"$f":"IF(HandicapPlay=\"X\",\"H\",\"L\")","v":"L"},{"$f":"PLAYER!I1115","v":-1E-3},{"$f":"PLAYER!J1115","v":-1E-3},{"$f":"IF(G144<0,\"\",IF(G144>H144,\"W\",\"L\"))","v":""},null,"Finish>",{"$f":"IF(J144=\"\",\"\",IF((L143+J144)<900,900,(L143+J144)))","v":""},null,null,null,null,null,{"$f":"VLOOKUP($D$144,HCTableBlk6,2,FALSE)","v":0}]
[null,{"$f":"SEED!$D$27","v":"BLOCK 7"}]
[null,"PLAYER",null,{"$f":"SEED!$D$29","v":" Block 7 Player 1"},null,null,"Start H/C",{"$f":"SEED!$E$29","v":0},"New H/C",{"$f":"VLOOKUP(D146,HCTableBlk7,2,FALSE)","v":0},"Start Index",{"$f":"SEED!$C$29","v":0},"HC Change Indicator","Block 7"]
[null,"Date","Event","Opponent","Op Hcap","Lev / Hcap","Score",null,"Won / Lost","Change +/-",null,"New Index",null,"Player","H/C","Temp H/C",null,null,null,"HC Change Flags"]
[null,{"$f":"NAMES!$C$10","v":"DATE"},{"$f":"NAMES!$C$8","v":"TOURNAMENT"},{"$f":"PLAYER!F1161","v":" Block 7 Player 4"},{"$f":"VLOOKUP($D$148,HCTableBlk7,2,FALSE)","v":0},{"$f":"IF(HandicapPlay=\"X\",\"H\",\"L\")","v":"L"},{"$f":"PLAYER!I1161","v":-1E-3},{"$f":"PLAYER!J1161","v":-1E-3},{"$f":"IF(G148<0,\"\",IF(G148>H148,\"W\",\"L\"))","v":""},null,null,{"$f":"IF(J148=\"\",\"\",IF((L146+J148)<900,900,(L146+J148)))","v":""},null,{"$f":"SEED!D29","v":" Block 7 Player 1"},{"$f":"SEED!E29","v":0},null,null,{"$f":"VLOOKUP($D$148,HCTableBlk7,2,FALSE)","v":0},null,0]
[null,"\"","\"                     \"",{"$f":"PLAYER!F1162","v":" Block 7 Player 3"},{"$f":"VLOOKUP($D$149,HCTableBlk7,2,FALSE)","v":0},{"$f":"IF(HandicapPlay=\"X\",\"H\",\"L\")","v":"L"},{"$f":"PLAYER!I1162","v":-1E-3},{"$f":"PLAYER!J1162","v":-1E-3},{"$f":"IF(G149<0,\"\",IF(G149>H149,\"W\",\"L\"))","v":""},null,null,{"$f":"IF(J149=\"\",\"\",IF((L148+J149)<900,900,(L148+J149)))","v":""},null,{"$f":"SEED!D30","v":" Block 7 Player 2"},{"$f":"SEED!E30","v":0},null,null,{"$f":"VLOOKUP($D$149,HCTableBlk7,2,FALSE)","v":0},null,0]
[null,"\"","\"                     \"",{"$f":"PLAYER!F1163","v":" Block 7 Player 2"},{"$f":"VLOOKUP($D$150,HCTableBlk7,2,FALSE)","v":0},{"$f":"IF(HandicapPlay=\"X\",\"H\",\"L\")","v":"L"},{"$f":"PLAYER!I1163","v":-1E-3},{"$f":"PLAYER!J1163","v":-1E-3},{"$f":"IF(G150<0,\"\",IF(G150>H150,\"W\",\"L\"))","v":""},null,"Finish>",{"$f":"IF(J150=\"\",\"\",IF((L149+J150)<900,900,(L149+J150)))","v":""},null,{"$f":"SEED!D31","v":" Block 7 Player 3"},{"$f":"SEED!E31","v":0},null,null,{"$f":"VLOOKUP($D$150,HCTableBlk7,2,FALSE)","v":0},null,0]
[null,null,null,null,null,null,null,null,null,null,null,null,null,{"$f":"SEED!D32","v":" Block 7 Player 4"},{"$f":"SEED!E32","v":0},null,null,null,null,0]
[null,"PLAYER",null,{"$f":"SEED!$D$30","v":" Block 7 Player 2"},null,null,"Start H/C",{"$f":"SEED!$E$30","v":0},"New H/C",{"$f":"VLOOKUP(D152,HCTableBlk7,2,FALSE)","v":0},"Start Index",{"$f":"SEED!$C$30","v":0},"HC Change Indicator"]
[null,"Date","Event","Opponent","Op Hcap","Lev / Hcap","Score",null,"Won / Lost","Change +/-",null,"New Index"]
[null,{"$f":"NAMES!$C$10","v":"DATE"},{"$f":"NAMES!$C$8","v":"TOURNAMENT"},{"$f":"PLAYER!F1209","v":" Block 7 Player 3"},{"$f":"VLOOKUP($D$154,HCTableBlk7,2,FALSE)","v":0},{"$f":"IF(HandicapPlay=\"X\",\"H\",\"L\")","v":"L"},{"$f":"PLAYER!I1209","v":-1E-3},{"$f":"PLAYER!J1209","v":-1E-3},{"$f":"IF(G154<0,\"\",IF(G154>H154,\"W\",\"L\"))","v":""},null,null,{"$f":"IF(J154=\"\",\"\",IF((L152+J154)<900,900,(L152+J154)))","v":""},null,null,null,null,null,{"$f":"VLOOKUP($D$154,HCTableBlk7,2,FALSE)","v":0}]
[null,"\"","\"                     \"",{"$f":"PLAYER!F1210","v":" Block 7 Player 4"},{"$f":"VLOOKUP($D$155,HCTableBlk7,2,FALSE)","v":0},{"$f":"IF(HandicapPlay=\"X\",\"H\",\"L\")","v":"L"},{"$f":"PLAYER!I1210","v":-1E-3},{"$f":"PLAYER!J1210","v":-1E-3},{"$f":"IF(G155<0,\"\",IF(G155>H155,\"W\",\"L\"))","v":""},null,null,{"$f":"IF(J155=\"\",\"\",IF((L154+J155)<900,900,(L154+J155)))","v":""},null,null,null,null,null,{"$f":"VLOOKUP($D$155,HCTableBlk7,2,FALSE)","v":0}]
[null,"\"","\"                     \"",{"$f":"PLAYER!F1211","v":" Block 7 Player 1"},{"$f":"VLOOKUP($D$156,HCTableBlk7,2,FALSE)","v":0},{"$f":"IF(HandicapPlay=\"X\",\"H\",\"L\")","v":"L"},{"$f":"PLAYER!I1211","v":-1E-3},{"$f":"PLAYER!J1211","v":-1E-3},{"$f":"IF(G156<0,\"\",IF(G156>H156,\"W\",\"L\"))","v":""},null,"Finish>",{"$f":"IF(J156=\"\",\"\",IF((L155+J156)<900,900,(L155+J156)))","v":""},null,null,null,null,null,{"$f":"VLOOKUP($D$156,HCTableBlk7,2,FALSE)","v":0}]
[]
[null,"PLAYER",null,{"$f":"SEED!$D$31","v":" Block 7 Player 3"},null,null,"Start H/C",{"$f":"SEED!$E$31","v":0},"New H/C",{"$f":"VLOOKUP(D158,HCTableBlk7,2,FALSE)","v":0},"Start Index",{"$f":"SEED!$C$31","v":0},"HC Change Indicator"]
[null,"Date","Event","Opponent","Op Hcap","Lev / Hcap","Score",null,"Won / Lost","Change +/-",null,"New Index"]
[null,{"$f":"NAMES!$C$10","v":"DATE"},{"$f":"NAMES!$C$8","v":"TOURNAMENT"},{"$f":"PLAYER!F1257","v":" Block 7 Player 2"},{"$f":"VLOOKUP($D$160,HCTableBlk7,2,FALSE)","v":0},{"$f":"IF(HandicapPlay=\"X\",\"H\",\"L\")","v":"L"},{"$f":"PLAYER!I1257","v":-1E-3},{"$f":"PLAYER!J1257","v":-1E-3},{"$f":"IF(G160<0,\"\",IF(G160>H160,\"W\",\"L\"))","v":""},null,null,{"$f":"IF(J160=\"\",\"\",IF((L158+J160)<900,900,(L158+J160)))","v":""},null,null,null,null,null,{"$f":"VLOOKUP($D$160,HCTableBlk7,2,FALSE)","v":0}]
[null,"\"","\"                     \"",{"$f":"PLAYER!F1258","v":" Block 7 Player 1"},{"$f":"VLOOKUP($D$161,HCTableBlk7,2,FALSE)","v":0},{"$f":"IF(HandicapPlay=\"X\",\"H\",\"L\")","v":"L"},{"$f":"PLAYER!I1258","v":-1E-3},{"$f":"PLAYER!J1258","v":-1E-3},{"$f":"IF(G161<0,\"\",IF(G161>H161,\"W\",\"L\"))","v":""},null,null,{"$f":"IF(J161=\"\",\"\",IF((L160+J161)<900,900,(L160+J161)))","v":""},null,null,null,null,null,{"$f":"VLOOKUP($D$161,HCTableBlk7,2,FALSE)","v":0}]
[null,"\"","\"                     \"",{"$f":"PLAYER!F1259","v":" Block 7 Player 4"},{"$f":"VLOOKUP($D$162,HCTableBlk7,2,FALSE)","v":0},{"$f":"IF(HandicapPlay=\"X\",\"H\",\"L\")","v":"L"},{"$f":"PLAYER!I1259","v":-1E-3},{"$f":"PLAYER!J1259","v":-1E-3},{"$f":"IF(G162<0,\"\",IF(G162>H162,\"W\",\"L\"))","v":""},null,"Finish>",{"$f":"IF(J162=\"\",\"\",IF((L161+J162)<900,900,(L161+J162)))","v":""},null,null,null,null,null,{"$f":"VLOOKUP($D$162,HCTableBlk7,2,FALSE)","v":0}]
[]
[null,"PLAYER",null,{"$f":"SEED!$D$32","v":" Block 7 Player 4"},null,null,"Start H/C",{"$f":"SEED!$E$32","v":0},"New H/C",{"$f":"VLOOKUP(D164,HCTableBlk7,2,FALSE)","v":0},"Start Index",{"$f":"SEED!$C$32","v":0},"HC Change Indicator"]
[null,"Date","Event","Opponent","Op Hcap","Lev / Hcap","Score",null,"Won / Lost","Change +/-",null,"New Index"]
[null,{"$f":"NAMES!$C$10","v":"DATE"},{"$f":"NAMES!$C$8","v":"TOURNAMENT"},{"$f":"PLAYER!F1305","v":" Block 7 Player 1"},{"$f":"VLOOKUP($D$160,HCTableBlk7,2,FALSE)","v":0},{"$f":"IF(HandicapPlay=\"X\",\"H\",\"L\")","v":"L"},{"$f":"PLAYER!I1305","v":-1E-3},{"$f":"PLAYER!J1305","v":-1E-3},{"$f":"IF(G166<0,\"\",IF(G166>H166,\"W\",\"L\"))","v":""},null,null,{"$f":"IF(J166=\"\",\"\",IF((L164+J166)<900,900,(L164+J166)))","v":""},null,null,null,null,null,{"$f":"VLOOKUP($D$166,HCTableBlk7,2,FALSE)","v":0}]
[null,"\"","\"                     \"",{"$f":"PLAYER!F1306","v":" Block 7 Player 2"},{"$f":"VLOOKUP($D$161,HCTableBlk7,2,FALSE)","v":0},{"$f":"IF(HandicapPlay=\"X\",\"H\",\"L\")","v":"L"},{"$f":"PLAYER!I1306","v":-1E-3},{"$f":"PLAYER!J1306","v":-1E-3},{"$f":"IF(G167<0,\"\",IF(G167>H167,\"W\",\"L\"))","v":""},null,null,{"$f":"IF(J167=\"\",\"\",IF((L166+J167)<900,900,(L166+J167)))","v":""},null,null,null,null,null,{"$f":"VLOOKUP($D$167,HCTableBlk7,2,FALSE)","v":0}]
[null,"\"","\"                     \"",{"$f":"PLAYER!F1307","v":" Block 7 Player 3"},{"$f":"VLOOKUP($D$162,HCTableBlk7,2,FALSE)","v":0},{"$f":"IF(HandicapPlay=\"X\",\"H\",\"L\")","v":"L"},{"$f":"PLAYER!I1307","v":-1E-3},{"$f":"PLAYER!J1307","v":-1E-3},{"$f":"IF(G168<0,\"\",IF(G168>H168,\"W\",\"L\"))","v":""},null,"Finish>",{"$f":"IF(J168=\"\",\"\",IF((L167+J168)<900,900,(L167+J168)))","v":""},null,null,null,null,null,{"$f":"VLOOKUP($D$168,HCTableBlk7,2,FALSE)","v":0}]
[null,{"$f":"SEED!$I$27","v":"BLOCK 8"}]
[null,"PLAYER",null,{"$f":"SEED!$I$29","v":" Block 8 Player 1"},null,null,"Start H/C",{"$f":"SEED!$J$29","v":0},"New H/C",{"$f":"VLOOKUP(D170,HCTableBlk8,2,FALSE)","v":0},"Start Index",{"$f":"SEED!$H$29","v":0},"HC Change Indicator","Block 8"]
[null,"Date","Event","Opponent","Op Hcap","Lev / Hcap","Score",null,"Won / Lost","Change +/-",null,"New Index",null,"Player","H/C","Temp H/C",null,null,null,"HC Change Flags"]
[null,{"$f":"NAMES!$C$10","v":"DATE"},{"$f":"NAMES!$C$8","v":"TOURNAMENT"},{"$f":"PLAYER!F1353","v":" Block 8 Player 4"},{"$f":"VLOOKUP($D$172,HCTableBlk8,2,FALSE)","v":0},{"$f":"IF(HandicapPlay=\"X\",\"H\",\"L\")","v":"L"},{"$f":"PLAYER!I1353","v":-1E-3},{"$f":"PLAYER!J1353","v":-1E-3},{"$f":"IF(G172<0,\"\",IF(G172>H172,\"W\",\"L\"))","v":""},null,null,{"$f":"IF(J172=\"\",\"\",IF((L170+J172)<900,900,(L170+J172)))","v":""},null,{"$f":"SEED!I29","v":" Block 8 Player 1"},{"$f":"SEED!J29","v":0},null,null,{"$f":"VLOOKUP($D$172,HCTableBlk8,2,FALSE)","v":0},null,0]
[null,"\"","\"                     \"",{"$f":"PLAYER!F1354","v":" Block 8 Player 3"},{"$f":"VLOOKUP($D$173,HCTableBlk8,2,FALSE)","v":0},{"$f":"IF(HandicapPlay=\"X\",\"H\",\"L\")","v":"L"},{"$f":"PLAYER!I1354","v":-1E-3},{"$f":"PLAYER!J1354","v":-1E-3},{"$f":"IF(G173<0,\"\",IF(G173>H173,\"W\",\"L\"))","v":""},null,null,{"$f":"IF(J173=\"\",\"\",IF((L172+J173)<900,900,(L172+J173)))","v":""},null,{"$f":"SEED!I30","v":" Block 8 Player 2"},{"$f":"SEED!J30","v":0},null,null,{"$f":"VLOOKUP($D$173,HCTableBlk8,2,FALSE)","v":0},null,0]
[null,"\"","\"                     \"",{"$f":"PLAYER!F1355","v":" Block 8 Player 2"},{"$f":"VLOOKUP($D$174,HCTableBlk8,2,FALSE)","v":0},{"$f":"IF(HandicapPlay=\"X\",\"H\",\"L\")","v":"L"},{"$f":"PLAYER!I1355","v":-1E-3},{"$f":"PLAYER!J1355","v":-1E-3},{"$f":"IF(G174<0,\"\",IF(G174>H174,\"W\",\"L\"))","v":""},null,"Finish>",{"$f":"IF(J174=\"\",\"\",IF((L173+J174)<900,900,(L173+J174)))","v":""},null,{"$f":"SEED!I31","v":" Block 8 Player 3"},{"$f":"SEED!J31","v":0},null,null,{"$f":"VLOOKUP($D$174,HCTableBlk8,2,FALSE)","v":0},null,0]
[null,null,null,null,null,null,null,null,null,null,null,null,null,{"$f":"SEED!I32","v":" Block 8 Player 4"},{"$f":"SEED!J32","v":0},null,null,null,null,0]
[null,"PLAYER",null,{"$f":"SEED!$I$30","v":" Block 8 Player 2"},null,null,"Start H/C",{"$f":"SEED!$J$30","v":0},"New H/C",{"$f":"VLOOKUP(D176,HCTableBlk8,2,FALSE)","v":0},"Start Index",{"$f":"SEED!$H$30","v":0},"HC Change Indicator"]
[null,"Date","Event","Opponent","Op Hcap","Lev / Hcap","Score",null,"Won / Lost","Change +/-",null,"New Index"]
[null,{"$f":"NAMES!$C$10","v":"DATE"},{"$f":"NAMES!$C$8","v":"TOURNAMENT"},{"$f":"PLAYER!F1401","v":" Block 8 Player 3"},{"$f":"VLOOKUP($D$178,HCTableBlk8,2,FALSE)","v":0},{"$f":"IF(HandicapPlay=\"X\",\"H\",\"L\")","v":"L"},{"$f":"PLAYER!I1401","v":-1E-3},{"$f":"PLAYER!J1401","v":-1E-3},{"$f":"IF(G178<0,\"\",IF(G178>H178,\"W\",\"L\"))","v":""},null,null,{"$f":"IF(J178=\"\",\"\",IF((L176+J178)<900,900,(L176+J178)))","v":""},null,null,null,null,null,{"$f":"VLOOKUP($D$178,HCTableBlk8,2,FALSE)","v":0}]
[null,"\"","\"                     \"",{"$f":"PLAYER!F1402","v":" Block 8 Player 4"},{"$f":"VLOOKUP($D$179,HCTableBlk8,2,FALSE)","v":0},{"$f":"IF(HandicapPlay=\"X\",\"H\",\"L\")","v":"L"},{"$f":"PLAYER!I1402","v":-1E-3},{"$f":"PLAYER!J1402","v":-1E-3},{"$f":"IF(G179<0,\"\",IF(G179>H179,\"W\",\"L\"))","v":""},null,null,{"$f":"IF(J179=\"\",\"\",IF((L178+J179)<900,900,(L178+J179)))","v":""},null,null,null,null,null,{"$f":"VLOOKUP($D$179,HCTableBlk8,2,FALSE)","v":0}]
[null,"\"","\"                     \"",{"$f":"PLAYER!F1403","v":" Block 8 Player 1"},{"$f":"VLOOKUP($D$180,HCTableBlk8,2,FALSE)","v":0},{"$f":"IF(HandicapPlay=\"X\",\"H\",\"L\")","v":"L"},{"$f":"PLAYER!I1403","v":-1E-3},{"$f":"PLAYER!J1403","v":-1E-3},{"$f":"IF(G180<0,\"\",IF(G180>H180,\"W\",\"L\"))","v":""},null,"Finish>",{"$f":"IF(J180=\"\",\"\",IF((L179+J180)<900,900,(L179+J180)))","v":""},null,null,null,null,null,{"$f":"VLOOKUP($D$180,HCTableBlk8,2,FALSE)","v":0}]
[]
[null,"PLAYER",null,{"$f":"SEED!$I$31","v":" Block 8 Player 3"},null,null,"Start H/C",{"$f":"SEED!$J$31","v":0},"New H/C",{"$f":"VLOOKUP(D182,HCTableBlk8,2,FALSE)","v":0},"Start Index",{"$f":"SEED!$H$31","v":0},"HC Change Indicator"]
[null,"Date","Event","Opponent","Op Hcap","Lev / Hcap","Score",null,"Won / Lost","Change +/-",null,"New Index"]
[null,{"$f":"NAMES!$C$10","v":"DATE"},{"$f":"NAMES!$C$8","v":"TOURNAMENT"},{"$f":"PLAYER!F1449","v":" Block 8 Player 2"},{"$f":"VLOOKUP($D$184,HCTableBlk8,2,FALSE)","v":0},{"$f":"IF(HandicapPlay=\"X\",\"H\",\"L\")","v":"L"},{"$f":"PLAYER!I1449","v":-1E-3},{"$f":"PLAYER!J1449","v":-1E-3},{"$f":"IF(G184<0,\"\",IF(G184>H184,\"W\",\"L\"))","v":""},null,null,{"$f":"IF(J184=\"\",\"\",IF((L182+J184)<900,900,(L182+J184)))","v":""},null,null,null,null,null,{"$f":"VLOOKUP($D$184,HCTableBlk8,2,FALSE)","v":0}]
[null,"\"","\"                     \"",{"$f":"PLAYER!F1450","v":" Block 8 Player 1"},{"$f":"VLOOKUP($D$185,HCTableBlk8,2,FALSE)","v":0},{"$f":"IF(HandicapPlay=\"X\",\"H\",\"L\")","v":"L"},{"$f":"PLAYER!I1450","v":-1E-3},{"$f":"PLAYER!J1450","v":-1E-3},{"$f":"IF(G185<0,\"\",IF(G185>H185,\"W\",\"L\"))","v":""},null,null,{"$f":"IF(J185=\"\",\"\",IF((L184+J185)<900,900,(L184+J185)))","v":""},null,null,null,null,null,{"$f":"VLOOKUP($D$185,HCTableBlk8,2,FALSE)","v":0}]
[null,"\"","\"                     \"",{"$f":"PLAYER!F1451","v":" Block 8 Player 4"},{"$f":"VLOOKUP($D$186,HCTableBlk8,2,FALSE)","v":0},{"$f":"IF(HandicapPlay=\"X\",\"H\",\"L\")","v":"L"},{"$f":"PLAYER!I1451","v":-1E-3},{"$f":"PLAYER!J1451","v":-1E-3},{"$f":"IF(G186<0,\"\",IF(G186>H186,\"W\",\"L\"))","v":""},null,"Finish>",{"$f":"IF(J186=\"\",\"\",IF((L185+J186)<900,900,(L185+J186)))","v":""},null,null,null,null,null,{"$f":"VLOOKUP($D$186,HCTableBlk8,2,FALSE)","v":0}]
[]
[null,"PLAYER",null,{"$f":"SEED!$I$32","v":" Block 8 Player 4"},null,null,"Start H/C",{"$f":"SEED!$J$32","v":0},"New H/C",{"$f":"VLOOKUP(D188,HCTableBlk8,2,FALSE)","v":0},"Start Index",{"$f":"SEED!$H$32","v":0},"HC Change Indicator"]
[null,"Date","Event","Opponent","Op Hcap","Lev / Hcap","Score",null,"Won / Lost","Change +/-",null,"New Index"]
[null,{"$f":"NAMES!$C$10","v":"DATE"},{"$f":"NAMES!$C$8","v":"TOURNAMENT"},{"$f":"PLAYER!F1497","v":" Block 8 Player 1"},{"$f":"VLOOKUP($D$190,HCTableBlk8,2,FALSE)","v":0},{"$f":"IF(HandicapPlay=\"X\",\"H\",\"L\")","v":"L"},{"$f":"PLAYER!I1497","v":-1E-3},{"$f":"PLAYER!J1497","v":-1E-3},{"$f":"IF(G190<0,\"\",IF(G190>H190,\"W\",\"L\"))","v":""},null,null,{"$f":"IF(J190=\"\",\"\",IF((L188+J190)<900,900,(L188+J190)))","v":""},null,null,null,null,null,{"$f":"VLOOKUP($D$190,HCTableBlk8,2,FALSE)","v":0}]
[null,"\"","\"                     \"",{"$f":"PLAYER!F1498","v":" Block 8 Player 2"},{"$f":"VLOOKUP($D$191,HCTableBlk8,2,FALSE)","v":0},{"$f":"IF(HandicapPlay=\"X\",\"H\",\"L\")","v":"L"},{"$f":"PLAYER!I1498","v":-1E-3},{"$f":"PLAYER!J1498","v":-1E-3},{"$f":"IF(G191<0,\"\",IF(G191>H191,\"W\",\"L\"))","v":""},null,null,{"$f":"IF(J191=\"\",\"\",IF((L190+J191)<900,900,(L190+J191)))","v":""},null,null,null,null,null,{"$f":"VLOOKUP($D$191,HCTableBlk8,2,FALSE)","v":0}]
[null,"\"","\"                     \"",{"$f":"PLAYER!F1499","v":" Block 8 Player 3"},{"$f":"VLOOKUP($D$192,HCTableBlk8,2,FALSE)","v":0},{"$f":"IF(HandicapPlay=\"X\",\"H\",\"L\")","v":"L"},{"$f":"PLAYER!I1499","v":-1E-3},{"$f":"PLAYER!J1499","v":-1E-3},{"$f":"IF(G192<0,\"\",IF(G192>H192,\"W\",\"L\"))","v":""},null,"Finish>",{"$f":"IF(J192=\"\",\"\",IF((L191+J192)<900,900,(L191+J192)))","v":""},null,null,null,null,null,{"$f":"VLOOKUP($D$192,HCTableBlk8,2,FALSE)","v":0}]
[null,{"$f":"SEED!$D$34","v":"BLOCK 9"}]
[null,"PLAYER",null,{"$f":"SEED!$D$36","v":" Block 9 Player 1"},null,null,"Start H/C",{"$f":"SEED!$E$36","v":0},"New H/C",{"$f":"VLOOKUP(D194,HCTableBlk9,2,FALSE)","v":0},"Start Index",{"$f":"SEED!$C$36","v":0},"HC Change Indicator","Block 9"]
[null,"Date","Event","Opponent","Op Hcap","Lev / Hcap","Score",null,"Won / Lost","Change +/-",null,"New Index",null,"Player","H/C","Temp H/C",null,null,null,"HC Change Flags"]
[null,{"$f":"NAMES!$C$10","v":"DATE"},{"$f":"NAMES!$C$8","v":"TOURNAMENT"},{"$f":"PLAYER!F1545","v":" Block 9 Player 4"},{"$f":"VLOOKUP($D$196,HCTableBlk9,2,FALSE)","v":0},{"$f":"IF(HandicapPlay=\"X\",\"H\",\"L\")","v":"L"},{"$f":"PLAYER!I1545","v":-1E-3},{"$f":"PLAYER!J1545","v":-1E-3},{"$f":"IF(G196<0,\"\",IF(G196>H196,\"W\",\"L\"))","v":""},null,null,{"$f":"IF(J196=\"\",\"\",IF((L194+J196)<900,900,(L194+J196)))","v":""},null,{"$f":"SEED!D36","v":" Block 9 Player 1"},{"$f":"SEED!E36","v":0},null,null,{"$f":"VLOOKUP($D$196,HCTableBlk9,2,FALSE)","v":0},null,0]
[null,"\"","\"                     \"",{"$f":"PLAYER!F1546","v":" Block 9 Player 3"},{"$f":"VLOOKUP($D$197,HCTableBlk9,2,FALSE)","v":0},{"$f":"IF(HandicapPlay=\"X\",\"H\",\"L\")","v":"L"},{"$f":"PLAYER!I1546","v":-1E-3},{"$f":"PLAYER!J1546","v":-1E-3},{"$f":"IF(G197<0,\"\",IF(G197>H197,\"W\",\"L\"))","v":""},null,null,{"$f":"IF(J197=\"\",\"\",IF((L196+J197)<900,900,(L196+J197)))","v":""},null,{"$f":"SEED!D37","v":" Block 9 Player 2"},{"$f":"SEED!E37","v":0},null,null,{"$f":"VLOOKUP($D$197,HCTableBlk9,2,FALSE)","v":0},null,0]
[null,"\"","\"                     \"",{"$f":"PLAYER!F1547","v":" Block 9 Player 2"},{"$f":"VLOOKUP($D$198,HCTableBlk9,2,FALSE)","v":0},{"$f":"IF(HandicapPlay=\"X\",\"H\",\"L\")","v":"L"},{"$f":"PLAYER!I1547","v":-1E-3},{"$f":"PLAYER!J1547","v":-1E-3},{"$f":"IF(G198<0,\"\",IF(G198>H198,\"W\",\"L\"))","v":""},null,"Finish>",{"$f":"IF(J198=\"\",\"\",IF((L197+J198)<900,900,(L197+J198)))","v":""},null,{"$f":"SEED!D38","v":" Block 9 Player 3"},{"$f":"SEED!E38","v":0},null,null,{"$f":"VLOOKUP($D$198,HCTableBlk9,2,FALSE)","v":0},null,0]
[null,null,null,null,null,null,null,null,null,null,null,null,null,{"$f":"SEED!D39","v":" Block 9 Player 4"},{"$f":"SEED!E39","v":0},null,null,null,null,0]
[null,"PLAYER",null,{"$f":"SEED!$D$37","v":" Block 9 Player 2"},null,null,"Start H/C",{"$f":"SEED!$E$37","v":0},"New H/C",{"$f":"VLOOKUP(D200,HCTableBlk9,2,FALSE)","v":0},"Start Index",{"$f":"SEED!$C$37","v":0},"HC Change Indicator"]
[null,"Date","Event","Opponent","Op Hcap","Lev / Hcap","Score",null,"Won / Lost","Change +/-",null,"New Index"]
[null,{"$f":"NAMES!$C$10","v":"DATE"},{"$f":"NAMES!$C$8","v":"TOURNAMENT"},{"$f":"PLAYER!F1593","v":" Block 9 Player 3"},{"$f":"VLOOKUP($D$202,HCTableBlk9,2,FALSE)","v":0},{"$f":"IF(HandicapPlay=\"X\",\"H\",\"L\")","v":"L"},{"$f":"PLAYER!I1593","v":-1E-3},{"$f":"PLAYER!J1593","v":-1E-3},{"$f":"IF(G202<0,\"\",IF(G202>H202,\"W\",\"L\"))","v":""},null,null,{"$f":"IF(J202=\"\",\"\",IF((L200+J202)<900,900,(L200+J202)))","v":""},null,null,null,null,null,{"$f":"VLOOKUP($D$202,HCTableBlk9,2,FALSE)","v":0}]
[null,"\"","\"                     \"",{"$f":"PLAYER!F1594","v":" Block 9 Player 4"},{"$f":"VLOOKUP($D$203,HCTableBlk9,2,FALSE)","v":0},{"$f":"IF(HandicapPlay=\"X\",\"H\",\"L\")","v":"L"},{"$f":"PLAYER!I1594","v":-1E-3},{"$f":"PLAYER!J1594","v":-1E-3},{"$f":"IF(G203<0,\"\",IF(G203>H203,\"W\",\"L\"))","v":""},null,null,{"$f":"IF(J203=\"\",\"\",IF((L202+J203)<900,900,(L202+J203)))","v":""},null,null,null,null,null,{"$f":"VLOOKUP($D$203,HCTableBlk9,2,FALSE)","v":0}]
[null,"\"","\"                     \"",{"$f":"PLAYER!F1595","v":" Block 9 Player 1"},{"$f":"VLOOKUP($D$204,HCTableBlk9,2,FALSE)","v":0},{"$f":"IF(HandicapPlay=\"X\",\"H\",\"L\")","v":"L"},{"$f":"PLAYER!I1595","v":-1E-3},{"$f":"PLAYER!J1595","v":-1E-3},{"$f":"IF(G204<0,\"\",IF(G204>H204,\"W\",\"L\"))","v":""},null,"Finish>",{"$f":"IF(J204=\"\",\"\",IF((L203+J204)<900,900,(L203+J204)))","v":""},null,null,null,null,null,{"$f":"VLOOKUP($D$204,HCTableBlk9,2,FALSE)","v":0}]
[]
[null,"PLAYER",null,{"$f":"SEED!$D$38","v":" Block 9 Player 3"},null,null,"Start H/C",{"$f":"SEED!$E$38","v":0},"New H/C",{"$f":"VLOOKUP(D206,HCTableBlk9,2,FALSE)","v":0},"Start Index",{"$f":"SEED!$C$38","v":0},"HC Change Indicator"]
[null,"Date","Event","Opponent","Op Hcap","Lev / Hcap","Score",null,"Won / Lost","Change +/-",null,"New Index"]
[null,{"$f":"NAMES!$C$10","v":"DATE"},{"$f":"NAMES!$C$8","v":"TOURNAMENT"},{"$f":"PLAYER!F1641","v":" Block 9 Player 2"},{"$f":"VLOOKUP($D$208,HCTableBlk9,2,FALSE)","v":0},{"$f":"IF(HandicapPlay=\"X\",\"H\",\"L\")","v":"L"},{"$f":"PLAYER!I1641","v":-1E-3},{"$f":"PLAYER!J1641","v":-1E-3},{"$f":"IF(G208<0,\"\",IF(G208>H208,\"W\",\"L\"))","v":""},null,null,{"$f":"IF(J208=\"\",\"\",IF((L206+J208)<900,900,(L206+J208)))","v":""},null,null,null,null,null,{"$f":"VLOOKUP($D$208,HCTableBlk9,2,FALSE)","v":0}]
[null,"\"","\"                     \"",{"$f":"PLAYER!F1642","v":" Block 9 Player 1"},{"$f":"VLOOKUP($D$209,HCTableBlk9,2,FALSE)","v":0},{"$f":"IF(HandicapPlay=\"X\",\"H\",\"L\")","v":"L"},{"$f":"PLAYER!I1642","v":-1E-3},{"$f":"PLAYER!J1642","v":-1E-3},{"$f":"IF(G209<0,\"\",IF(G209>H209,\"W\",\"L\"))","v":""},null,null,{"$f":"IF(J209=\"\",\"\",IF((L208+J209)<900,900,(L208+J209)))","v":""},null,null,null,null,null,{"$f":"VLOOKUP($D$209,HCTableBlk9,2,FALSE)","v":0}]
[null,"\"","\"                     \"",{"$f":"PLAYER!F1643","v":" Block 9 Player 4"},{"$f":"VLOOKUP($D$210,HCTableBlk9,2,FALSE)","v":0},{"$f":"IF(HandicapPlay=\"X\",\"H\",\"L\")","v":"L"},{"$f":"PLAYER!I1643","v":-1E-3},{"$f":"PLAYER!J1643","v":-1E-3},{"$f":"IF(G210<0,\"\",IF(G210>H210,\"W\",\"L\"))","v":""},null,"Finish>",{"$f":"IF(J210=\"\",\"\",IF((L209+J210)<900,900,(L209+J210)))","v":""},null,null,null,null,null,{"$f":"VLOOKUP($D$210,HCTableBlk9,2,FALSE)","v":0}]
[]
[null,"PLAYER",null,{"$f":"SEED!$D$39","v":" Block 9 Player 4"},null,null,"Start H/C",{"$f":"SEED!$E$39","v":0},"New H/C",{"$f":"VLOOKUP(D212,HCTableBlk9,2,FALSE)","v":0},"Start Index",{"$f":"SEED!$C$39","v":0},"HC Change Indicator"]
[null,"Date","Event","Opponent","Op Hcap","Lev / Hcap","Score",null,"Won / Lost","Change +/-",null,"New Index"]
[null,{"$f":"NAMES!$C$10","v":"DATE"},{"$f":"NAMES!$C$8","v":"TOURNAMENT"},{"$f":"PLAYER!F1689","v":" Block 9 Player 1"},{"$f":"VLOOKUP($D$214,HCTableBlk9,2,FALSE)","v":0},{"$f":"IF(HandicapPlay=\"X\",\"H\",\"L\")","v":"L"},{"$f":"PLAYER!I1689","v":-1E-3},{"$f":"PLAYER!J1689","v":-1E-3},{"$f":"IF(G214<0,\"\",IF(G214>H214,\"W\",\"L\"))","v":""},null,null,{"$f":"IF(J214=\"\",\"\",IF((L212+J214)<900,900,(L212+J214)))","v":""},null,null,null,null,null,{"$f":"VLOOKUP($D$214,HCTableBlk9,2,FALSE)","v":0}]
[null,"\"","\"                     \"",{"$f":"PLAYER!F1690","v":" Block 9 Player 2"},{"$f":"VLOOKUP($D$215,HCTableBlk9,2,FALSE)","v":0},{"$f":"IF(HandicapPlay=\"X\",\"H\",\"L\")","v":"L"},{"$f":"PLAYER!I1690","v":-1E-3},{"$f":"PLAYER!J1690","v":-1E-3},{"$f":"IF(G215<0,\"\",IF(G215>H215,\"W\",\"L\"))","v":""},null,null,{"$f":"IF(J215=\"\",\"\",IF((L214+J215)<900,900,(L214+J215)))","v":""},null,null,null,null,null,{"$f":"VLOOKUP($D$215,HCTableBlk9,2,FALSE)","v":0}]
[null,"\"","\"                     \"",{"$f":"PLAYER!F1691","v":" Block 9 Player 3"},{"$f":"VLOOKUP($D$216,HCTableBlk9,2,FALSE)","v":0},{"$f":"IF(HandicapPlay=\"X\",\"H\",\"L\")","v":"L"},{"$f":"PLAYER!I1691","v":-1E-3},{"$f":"PLAYER!J1691","v":-1E-3},{"$f":"IF(G216<0,\"\",IF(G216>H216,\"W\",\"L\"))","v":""},null,"Finish>",{"$f":"IF(J216=\"\",\"\",IF((L215+J216)<900,900,(L215+J216)))","v":""},null,null,null,null,null,{"$f":"VLOOKUP($D$216,HCTableBlk9,2,FALSE)","v":0}]

{"sheet":"AHS1","index":13,"n_rows":53,"n_cols":15,"rows_kept":53,"cut":false,"hidden":false,"merged":[[49,3,49,5],[50,3,50,5],[43,3,43,5],[44,3,44,5],[56,3,56,5],[53,3,53,5],[51,3,51,5],[52,3,52,5],[54,3,54,5],[55,3,55,5],[47,3,47,5],[48,3,48,5],[46,3,46,5],[35,3,35,5],[36,3,36,5],[37,3,37,5],[38,3,38,5],[45,3,45,5],[39,3,39,5],[40,3,40,5],[41,3,41,5],[42,3,42,5],[34,3,34,5],[23,3,23,5],[24,3,24,5],[25,3,25,5],[26,3,26,5],[27,3,27,5],[28,3,28,5],[29,3,29,5],[30,3,30,5],[31,3,31,5],[32,3,32,5],[33,3,33,5],[22,3,22,5],[3,2,6,4],[4,5,4,10],[9,2,9,10],[10,2,10,10],[13,3,13,6],[15,2,16,2],[15,3,16,5],[15,6,16,6],[15,7,15,8],[15,9,15,10],[17,3,17,5],[18,3,18,5],[19,3,19,5],[20,3,20,5],[21,3,21,5]]}
[]
[]
[]
[null,null,"AHS1"]
[null,null,null,null,null,"HANDICAP CHANGES REPORT FORM"]
[]
[]
[]
[]
[null,null,"Players are to fill in the details from their National Handicap Cards and hand the slips to the"]
[null,null,"Tournament Handicapper before leaving the venue at the end of the tournament"]
[]
[]
[null,null,"Event:",{"$f":"NAMES!$C$8","v":"TOURNAMENT"},null,null,null,"State:",null,"Date:",{"$f":"NAMES!$C$10","v":"DATE"}]
[]
[null,null,"ACA ID","NAME",null,null,"*Non AHS","HANDICAP",null,"INDEX",null,null,null,"H/Cap","Index"]
[null,null,null,null,null,null,null,"Old","New","Old","New",null,null,-3,3050]
[null,1,{"$f":"SEED!B8","v":0},{"$f":"SEED!D8","v":" Block 1 Player 1"},null,null,null,{"$f":"SEED!E8","v":0},{"$f":"'HANDICAP CARD'!$J$2","v":0},{"$f":"SEED!C8","v":0},{"$f":"'HANDICAP CARD'!$L$6","v":""},null,null,-2.5,2800]
[null,2,{"$f":"SEED!B9","v":0},{"$f":"SEED!D9","v":" Block 1 Player 2"},null,null,null,{"$f":"SEED!E9","v":0},{"$f":"'HANDICAP CARD'!$J$8","v":0},{"$f":"SEED!C9","v":0},{"$f":"'HANDICAP CARD'!$L$12","v":""},null,null,-2,2600]
[null,3,{"$f":"SEED!B10","v":0},{"$f":"SEED!D10","v":" Block 1 Player 3"},null,null,null,{"$f":"SEED!E10","v":0},{"$f":"'HANDICAP CARD'!$J$14","v":0},{"$f":"SEED!C10","v":0},{"$f":"'HANDICAP CARD'!$L$18","v":""},null,null,-1.5,2400]
[null,4,{"$f":"SEED!B11","v":0},{"$f":"SEED!D11","v":" Block 1 Player 4"},null,null,null,{"$f":"SEED!E11","v":0},{"$f":"'HANDICAP CARD'!$J$20","v":0},{"$f":"SEED!C11","v":0},{"$f":"'HANDICAP CARD'!$L$24","v":""},null,null,-1,2250]
[null,5,{"$f":"SEED!G8","v":0},{"$f":"SEED!I8","v":" Block 2 Player 1"},null,null,null,{"$f":"SEED!J8","v":0},{"$f":"'HANDICAP CARD'!$J$26","v":0},{"$f":"SEED!H8","v":0},{"$f":"'HANDICAP CARD'!$L$30","v":""},null,null,-0.5,2100]
[null,6,{"$f":"SEED!G9","v":0},{"$f":"SEED!I9","v":" Block 2 Player 2"},null,null,null,{"$f":"SEED!J9","v":0},{"$f":"'HANDICAP CARD'!$J$32","v":0},{"$f":"SEED!H9","v":0},{"$f":"'HANDICAP CARD'!$L$36","v":""},null,null,0,2000]
[null,7,{"$f":"SEED!G10","v":0},{"$f":"SEED!I10","v":" Block 2 Player 3"},null,null,null,{"$f":"SEED!J10","v":0},{"$f":"'HANDICAP CARD'!$J$38","v":0},{"$f":"SEED!H10","v":0},{"$f":"'HANDICAP CARD'!$L$42","v":""},null,null,0.5,1950]
[null,8,{"$f":"SEED!G11","v":0},{"$f":"SEED!I11","v":" Block 2 Player 4"},null,null,null,{"$f":"SEED!J11","v":0},{"$f":"'HANDICAP CARD'!$J$44","v":0},{"$f":"SEED!H11","v":0},{"$f":"'HANDICAP CARD'!$L$48","v":""},null,null,1,1900]
[null,9,{"$f":"SEED!B15","v":0},{"$f":"SEED!D15","v":" Block 3 Player 1"},null,null,null,{"$f":"SEED!E15","v":0},{"$f":"'HANDICAP CARD'!$J$50","v":0},{"$f":"SEED!C15","v":0},{"$f":"'HANDICAP CARD'!$L$54","v":""},null,null,1.5,1850]
[null,10,{"$f":"SEED!B16","v":0},{"$f":"SEED!D16","v":" Block 3 Player 2"},null,null,null,{"$f":"SEED!E16","v":0},{"$f":"'HANDICAP CARD'!$J$56","v":0},{"$f":"SEED!C16","v":0},{"$f":"'HANDICAP CARD'!$L$60","v":""},null,null,2,1800]
[null,11,{"$f":"SEED!B17","v":0},{"$f":"SEED!D17","v":" Block 3 Player 3"},null,null,null,{"$f":"SEED!E17","v":0},{"$f":"'HANDICAP CARD'!$J$62","v":0},{"$f":"SEED!C17","v":0},{"$f":"'HANDICAP CARD'!$L$66","v":""},null,null,2.5,1750]
[null,12,{"$f":"SEED!B18","v":0},{"$f":"SEED!D18","v":" Block 3 Player 4"},null,null,null,{"$f":"SEED!E18","v":0},{"$f":"'HANDICAP CARD'!$J$68","v":0},{"$f":"SEED!C18","v":0},{"$f":"'HANDICAP CARD'!$L$72","v":""},null,null,3,1700]
[null,13,{"$f":"SEED!G15","v":0},{"$f":"SEED!I15","v":" Block 4 Player 1"},null,null,null,{"$f":"SEED!J15","v":0},{"$f":"'HANDICAP CARD'!$J$74","v":0},{"$f":"SEED!H15","v":0},{"$f":"'HANDICAP CARD'!$L$78","v":""},null,null,3.5,1650]
[null,14,{"$f":"SEED!G16","v":0},{"$f":"SEED!I16","v":" Block 4 Player 2"},null,null,null,{"$f":"SEED!J16","v":0},{"$f":"'HANDICAP CARD'!$J$80","v":0},{"$f":"SEED!H16","v":0},{"$f":"'HANDICAP CARD'!$L$84","v":""},null,null,4,1600]
[null,15,{"$f":"SEED!G17","v":0},{"$f":"SEED!I17","v":" Block 4 Player 3"},null,null,null,{"$f":"SEED!J17","v":0},{"$f":"'HANDICAP CARD'!$J$86","v":0},{"$f":"SEED!H17","v":0},{"$f":"'HANDICAP CARD'!$L$90","v":""},null,null,4.5,1550]
[null,16,{"$f":"SEED!G18","v":0},{"$f":"SEED!I18","v":" Block 4 Player 4"},null,null,null,{"$f":"SEED!J18","v":0},{"$f":"'HANDICAP CARD'!$J$92","v":0},{"$f":"SEED!H18","v":0},{"$f":"'HANDICAP CARD'!$L$96","v":""},null,null,5,1500]
[null,17,{"$f":"SEED!B22","v":0},{"$f":"SEED!D22","v":" Block 5 Player 1"},null,null,null,{"$f":"SEED!E22","v":0},{"$f":"'HANDICAP CARD'!$J$98","v":0},{"$f":"SEED!C22","v":0},{"$f":"'HANDICAP CARD'!$L$102","v":""},null,null,6,1450]
[null,18,{"$f":"SEED!B23","v":0},{"$f":"SEED!D23","v":" Block 5 Player 2"},null,null,null,{"$f":"SEED!E23","v":0},{"$f":"'HANDICAP CARD'!$J$104","v":0},{"$f":"SEED!C23","v":0},{"$f":"'HANDICAP CARD'!$L$108","v":""},null,null,7,1400]
[null,19,{"$f":"SEED!B24","v":0},{"$f":"SEED!D24","v":" Block 5 Player 3"},null,null,null,{"$f":"SEED!E24","v":0},{"$f":"'HANDICAP CARD'!$J$110","v":0},{"$f":"SEED!C24","v":0},{"$f":"'HANDICAP CARD'!$L$114","v":""},null,null,8,1350]
[null,20,{"$f":"SEED!B25","v":0},{"$f":"SEED!D25","v":" Block 5 Player 4"},null,null,null,{"$f":"SEED!E25","v":0},{"$f":"'HANDICAP CARD'!$J$116","v":0},{"$f":"SEED!C25","v":0},{"$f":"'HANDICAP CARD'!$L$120","v":""},null,null,9,1300]
[null,21,{"$f":"SEED!G22","v":0},{"$f":"SEED!I22","v":" Block 6 Player 1"},null,null,null,{"$f":"SEED!J22","v":0},{"$f":"'HANDICAP CARD'!$J$122","v":0},{"$f":"SEED!H22","v":0},{"$f":"'HANDICAP CARD'!$L$126","v":""},null,null,10,1250]
[null,22,{"$f":"SEED!G23","v":0},{"$f":"SEED!I23","v":" Block 6 Player 2"},null,null,null,{"$f":"SEED!J23","v":0},{"$f":"'HANDICAP CARD'!$J$128","v":0},{"$f":"SEED!H23","v":0},{"$f":"'HANDICAP CARD'!$L$132","v":""},null,null,11,1200]
[null,23,{"$f":"SEED!G24","v":0},{"$f":"SEED!I24","v":" Block 6 Player 3"},null,null,null,{"$f":"SEED!J24","v":0},{"$f":"'HANDICAP CARD'!$J$134","v":0},{"$f":"SEED!H24","v":0},{"$f":"'HANDICAP CARD'!$L$138","v":""},null,null,12,1150]
[null,24,{"$f":"SEED!G25","v":0},{"$f":"SEED!I25","v":" Block 6 Player 4"},null,null,null,{"$f":"SEED!J25","v":0},{"$f":"'HANDICAP CARD'!$J$140","v":0},{"$f":"SEED!H25","v":0},{"$f":"'HANDICAP CARD'!$L$144","v":""},null,null,14,1100]
[null,25,{"$f":"SEED!B29","v":0},{"$f":"SEED!D29","v":" Block 7 Player 1"},null,null,null,{"$f":"SEED!E29","v":0},{"$f":"'HANDICAP CARD'!$J$146","v":0},{"$f":"SEED!C29","v":0},{"$f":"'HANDICAP CARD'!$L$150","v":""},null,null,16,1050]
[null,26,{"$f":"SEED!B30","v":0},{"$f":"SEED!D30","v":" Block 7 Player 2"},null,null,null,{"$f":"SEED!E30","v":0},{"$f":"'HANDICAP CARD'!$J$152","v":0},{"$f":"SEED!C30","v":0},{"$f":"'HANDICAP CARD'!$L$156","v":""},null,null,18,1000]
[null,27,{"$f":"SEED!B31","v":0},{"$f":"SEED!D31","v":" Block 7 Player 3"},null,null,null,{"$f":"SEED!E31","v":0},{"$f":"'HANDICAP CARD'!$J$158","v":0},{"$f":"SEED!C31","v":0},{"$f":"'HANDICAP CARD'!$L$162","v":""},null,null,20,950]
[null,28,{"$f":"SEED!B32","v":0},{"$f":"SEED!D32","v":" Block 7 Player 4"},null,null,null,{"$f":"SEED!E32","v":0},{"$f":"'HANDICAP CARD'!$J$164","v":0},{"$f":"SEED!C32","v":0},{"$f":"'HANDICAP CARD'!$L$168","v":""},null,null,22,900]
[null,29,{"$f":"SEED!G29","v":0},{"$f":"SEED!I29","v":" Block 8 Player 1"},null,null,null,{"$f":"SEED!J29","v":0},{"$f":"'HANDICAP CARD'!$J$170","v":0},{"$f":"SEED!H29","v":0},{"$f":"'HANDICAP CARD'!$L$174","v":""},null,null,24,850]
[null,30,{"$f":"SEED!G30","v":0},{"$f":"SEED!I30","v":" Block 8 Player 2"},null,null,null,{"$f":"SEED!J30","v":0},{"$f":"'HANDICAP CARD'!$J$176","v":0},{"$f":"SEED!H30","v":0},{"$f":"'HANDICAP CARD'!$L$180","v":""}]
[null,31,{"$f":"SEED!G31","v":0},{"$f":"SEED!I31","v":" Block 8 Player 3"},null,null,null,{"$f":"SEED!J31","v":0},{"$f":"'HANDICAP CARD'!$J$182","v":0},{"$f":"SEED!H31","v":0},{"$f":"'HANDICAP CARD'!$L$186","v":""}]
[null,32,{"$f":"SEED!G32","v":0},{"$f":"SEED!I32","v":" Block 8 Player 4"},null,null,null,{"$f":"SEED!J32","v":0},{"$f":"'HANDICAP CARD'!$J$188","v":0},{"$f":"SEED!H32","v":0},{"$f":"'HANDICAP CARD'!$L$192","v":""}]
[null,33,{"$f":"SEED!B36","v":0},{"$f":"SEED!D36","v":" Block 9 Player 1"},null,null,null,{"$f":"SEED!E36","v":0},{"$f":"'HANDICAP CARD'!$J$194","v":0},{"$f":"SEED!C36","v":0},{"$f":"'HANDICAP CARD'!$L$198","v":""}]
[null,34,{"$f":"SEED!B37","v":0},{"$f":"SEED!D37","v":" Block 9 Player 2"},null,null,null,{"$f":"SEED!E37","v":0},{"$f":"'HANDICAP CARD'!$J$200","v":0},{"$f":"SEED!C37","v":0},{"$f":"'HANDICAP CARD'!$L$204","v":""}]
[null,35,{"$f":"SEED!B38","v":0},{"$f":"SEED!D38","v":" Block 9 Player 3"},null,null,null,{"$f":"SEED!E38","v":0},{"$f":"'HANDICAP CARD'!$J$206","v":0},{"$f":"SEED!C38","v":0},{"$f":"'HANDICAP CARD'!$L$210","v":""}]
[null,36,{"$f":"SEED!B39","v":0},{"$f":"SEED!D39","v":" Block 9 Player 4"},null,null,null,{"$f":"SEED!E39","v":0},{"$f":"'HANDICAP CARD'!$J$212","v":0},{"$f":"SEED!C39","v":0},{"$f":"'HANDICAP CARD'!$L$216","v":""}]

{"sheet":"HANDICAPS","index":14,"n_rows":78,"n_cols":16,"rows_kept":78,"cut":false,"hidden":true,"merged":[[3,9,3,33]]}
[]
[]
[null,null,null,null,null,{"$f":"BLOCK!J4","v":"TOURNAMENT"}]
[null,null,null,null,null,{"$f":"BLOCK!G5","v":"DATE"}]
[]
[null,null,"PLAYERS NAME","HDCP","WIN / LOSS RECORD",null,null,null,null,null,"PNTS"]
[null,null,{"$f":"SCORECARD!D6","v":" Block 1 Player 1"},{"$f":"SCORECARD!I6","v":0},{"$f":"IF(SCORECARD!I9>0,\"W\",(IF(SCORECARD!I9<0,\"L\",\"\")))","v":""},{"$f":"SCORECARD!F9","v":0},{"$f":"IF(SCORECARD!I10>0,\"W\",(IF(SCORECARD!I10<0,\"L\",\"\")))","v":""},{"$f":"SCORECARD!F10","v":0},{"$f":"IF(SCORECARD!I11>0,\"W\",(IF(SCORECARD!I11<0,\"L\",\"\")))","v":""},{"$f":"SCORECARD!F11","v":0}]
[null,null,null,null,{"$f":"IF(NOT(OR(E7=\"W\",E7=\"L\")),\"\",IF(HandicapPlay=\"x\",IF(E7=\"W\",10,-10),(IF(E7=\"W\",(VLOOKUP($D7,(TABLE!WIN),(MATCH(F7,WINCOL,0)+1))),(VLOOKUP($D7,(TABLE!LOSE),(MATCH(F7,LOSECOL,0)+1)))))))","v":""},null,{"$f":"IF(NOT(OR(G7=\"W\",G7=\"L\")),\"\",IF(HandicapPlay=\"x\",IF(G7=\"W\",10,-10),(IF(G7=\"W\",(VLOOKUP($D7,(TABLE!WIN),(MATCH(H7,WINCOL,0)+1))),(VLOOKUP($D7,(TABLE!LOSE),(MATCH(H7,LOSECOL,0)+1)))))))","v":""},null,{"$f":"IF(NOT(OR(I7=\"W\",I7=\"L\")),\"\",IF(HandicapPlay=\"x\",IF(I7=\"W\",10,-10),(IF(I7=\"W\",(VLOOKUP($D7,(TABLE!WIN),(MATCH(J7,WINCOL,0)+1))),(VLOOKUP($D7,(TABLE!LOSE),(MATCH(J7,LOSECOL,0)+1)))))))","v":""},null,{"$f":"SUM(E8:J8)","v":0}]
[null,null,{"$f":"SCORECARD!D25","v":" Block 1 Player 2"},{"$f":"SCORECARD!I25","v":0},{"$f":"IF(SCORECARD!$I28>0,\"W\",(IF(SCORECARD!$I28<0,\"L\",\"\")))","v":""},{"$f":"SCORECARD!F28","v":0},{"$f":"IF(SCORECARD!$I29>0,\"W\",(IF(SCORECARD!$I29<0,\"L\",\"\")))","v":""},{"$f":"SCORECARD!F29","v":0},{"$f":"IF(SCORECARD!$I30>0,\"W\",(IF(SCORECARD!$I30<0,\"L\",\"\")))","v":""},{"$f":"SCORECARD!F30","v":0}]
[null,null,null,null,{"$f":"IF(NOT(OR(E9=\"W\",E9=\"L\")),\"\",IF(HandicapPlay=\"x\",IF(E9=\"W\",10,-10),(IF(E9=\"W\",(VLOOKUP($D9,(TABLE!WIN),(MATCH(F9,WINCOL,0)+1))),(VLOOKUP($D9,(TABLE!LOSE),(MATCH(F9,LOSECOL,0)+1)))))))","v":""},null,{"$f":"IF(NOT(OR(G9=\"W\",G9=\"L\")),\"\",IF(HandicapPlay=\"x\",IF(G9=\"W\",10,-10),(IF(G9=\"W\",(VLOOKUP($D9,(TABLE!WIN),(MATCH(H9,WINCOL,0)+1))),(VLOOKUP($D9,(TABLE!LOSE),(MATCH(H9,LOSECOL,0)+1)))))))","v":""},null,{"$f":"IF(NOT(OR(I9=\"W\",I9=\"L\")),\"\",IF(HandicapPlay=\"x\",IF(I9=\"W\",10,-10),(IF(I9=\"W\",(VLOOKUP($D9,(TABLE!WIN),(MATCH(J9,WINCOL,0)+1))),(VLOOKUP($D9,(TABLE!LOSE),(MATCH(J9,LOSECOL,0)+1)))))))","v":""},null,{"$f":"SUM(E10:J10)","v":0}]
[null,null,{"$f":"SCORECARD!D49","v":" Block 1 Player 3"},{"$f":"SCORECARD!I49","v":0},{"$f":"IF(SCORECARD!$I52>0,\"W\",(IF(SCORECARD!$I52<0,\"L\",\"\")))","v":""},{"$f":"SCORECARD!F52","v":0},{"$f":"IF(SCORECARD!$I53>0,\"W\",(IF(SCORECARD!$I53<0,\"L\",\"\")))","v":""},{"$f":"SCORECARD!F53","v":0},{"$f":"IF(SCORECARD!$I54>0,\"W\",(IF(SCORECARD!$I54<0,\"L\",\"\")))","v":""},{"$f":"SCORECARD!F54","v":0}]
[null,null,null,null,{"$f":"IF(NOT(OR(E11=\"W\",E11=\"L\")),\"\",IF(HandicapPlay=\"x\",IF(E11=\"W\",10,-10),(IF(E11=\"W\",(VLOOKUP($D11,(TABLE!WIN),(MATCH(F11,WINCOL,0)+1))),(VLOOKUP($D11,(TABLE!LOSE),(MATCH(F11,LOSECOL,0)+1)))))))","v":""},null,{"$f":"IF(NOT(OR(G11=\"W\",G11=\"L\")),\"\",IF(HandicapPlay=\"x\",IF(G11=\"W\",10,-10),(IF(G11=\"W\",(VLOOKUP($D11,(TABLE!WIN),(MATCH(H11,WINCOL,0)+1))),(VLOOKUP($D11,(TABLE!LOSE),(MATCH(H11,LOSECOL,0)+1)))))))","v":""},null,{"$f":"IF(NOT(OR(I11=\"W\",I11=\"L\")),\"\",IF(HandicapPlay=\"x\",IF(I11=\"W\",10,-10),(IF(I11=\"W\",(VLOOKUP($D11,(TABLE!WIN),(MATCH(J11,WINCOL,0)+1))),(VLOOKUP($D11,(TABLE!LOSE),(MATCH(J11,LOSECOL,0)+1)))))))","v":""},null,{"$f":"SUM(E12:J12)","v":0}]
[null,null,{"$f":"SCORECARD!D68","v":" Block 1 Player 4"},{"$f":"SCORECARD!I68","v":0},{"$f":"IF(SCORECARD!$I71>0,\"W\",(IF(SCORECARD!$I71<0,\"L\",\"\")))","v":""},{"$f":"SCORECARD!F71","v":0},{"$f":"IF(SCORECARD!$I72>0,\"W\",(IF(SCORECARD!$I72<0,\"L\",\"\")))","v":""},{"$f":"SCORECARD!F72","v":0},{"$f":"IF(SCORECARD!$I73>0,\"W\",(IF(SCORECARD!$I73<0,\"L\",\"\")))","v":""},{"$f":"SCORECARD!F73","v":0}]
[null,null,null,null,{"$f":"IF(NOT(OR(E13=\"W\",E13=\"L\")),\"\",IF(HandicapPlay=\"x\",IF(E13=\"W\",10,-10),(IF(E13=\"W\",(VLOOKUP($D13,(TABLE!WIN),(MATCH(F13,WINCOL,0)+1))),(VLOOKUP($D13,(TABLE!LOSE),(MATCH(F13,LOSECOL,0)+1)))))))","v":""},null,{"$f":"IF(NOT(OR(G13=\"W\",G13=\"L\")),\"\",IF(HandicapPlay=\"x\",IF(G13=\"W\",10,-10),(IF(G13=\"W\",(VLOOKUP($D13,(TABLE!WIN),(MATCH(H13,WINCOL,0)+1))),(VLOOKUP($D13,(TABLE!LOSE),(MATCH(H13,LOSECOL,0)+1)))))))","v":""},null,{"$f":"IF(NOT(OR(I13=\"W\",I13=\"L\")),\"\",IF(HandicapPlay=\"x\",IF(I13=\"W\",10,-10),(IF(I13=\"W\",(VLOOKUP($D13,(TABLE!WIN),(MATCH(J13,WINCOL,0)+1))),(VLOOKUP($D13,(TABLE!LOSE),(MATCH(J13,LOSECOL,0)+1)))))))","v":""},null,{"$f":"SUM(E14:J14)","v":0}]
[null,null,{"$f":"SCORECARD!D92","v":" Block 2 Player 1"},{"$f":"SCORECARD!I92","v":0},{"$f":"IF(SCORECARD!$I95>0,\"W\",(IF(SCORECARD!$I95<0,\"L\",\"\")))","v":""},{"$f":"SCORECARD!F95","v":0},{"$f":"IF(SCORECARD!$I96>0,\"W\",(IF(SCORECARD!$I96<0,\"L\",\"\")))","v":""},{"$f":"SCORECARD!F96","v":0},{"$f":"IF(SCORECARD!$I97>0,\"W\",(IF(SCORECARD!$I97<0,\"L\",\"\")))","v":""},{"$f":"SCORECARD!F97","v":0}]
[null,null,null,null,{"$f":"IF(NOT(OR(E15=\"W\",E15=\"L\")),\"\",IF(HandicapPlay=\"x\",IF(E15=\"W\",10,-10),(IF(E15=\"W\",(VLOOKUP($D15,(TABLE!WIN),(MATCH(F15,WINCOL,0)+1))),(VLOOKUP($D15,(TABLE!LOSE),(MATCH(F15,LOSECOL,0)+1)))))))","v":""},null,{"$f":"IF(NOT(OR(G15=\"W\",G15=\"L\")),\"\",IF(HandicapPlay=\"x\",IF(G15=\"W\",10,-10),(IF(G15=\"W\",(VLOOKUP($D15,(TABLE!WIN),(MATCH(H15,WINCOL,0)+1))),(VLOOKUP($D15,(TABLE!LOSE),(MATCH(H15,LOSECOL,0)+1)))))))","v":""},null,{"$f":"IF(NOT(OR(I15=\"W\",I15=\"L\")),\"\",IF(HandicapPlay=\"x\",IF(I15=\"W\",10,-10),(IF(I15=\"W\",(VLOOKUP($D15,(TABLE!WIN),(MATCH(J15,WINCOL,0)+1))),(VLOOKUP($D15,(TABLE!LOSE),(MATCH(J15,LOSECOL,0)+1)))))))","v":""},null,{"$f":"SUM(E16:J16)","v":0}]
[null,null,{"$f":"SCORECARD!D111","v":" Block 2 Player 2"},{"$f":"SCORECARD!I111","v":0},{"$f":"IF(SCORECARD!$I114>0,\"W\",(IF(SCORECARD!$I114<0,\"L\",\"\")))","v":""},{"$f":"SCORECARD!F114","v":0},{"$f":"IF(SCORECARD!$I115>0,\"W\",(IF(SCORECARD!$I115<0,\"L\",\"\")))","v":""},{"$f":"SCORECARD!F115","v":0},{"$f":"IF(SCORECARD!$I116>0,\"W\",(IF(SCORECARD!$I116<0,\"L\",\"\")))","v":""},{"$f":"SCORECARD!F116","v":0}]
[null,null,null,null,{"$f":"IF(NOT(OR(E17=\"W\",E17=\"L\")),\"\",IF(HandicapPlay=\"x\",IF(E17=\"W\",10,-10),(IF(E17=\"W\",(VLOOKUP($D17,(TABLE!WIN),(MATCH(F17,WINCOL,0)+1))),(VLOOKUP($D17,(TABLE!LOSE),(MATCH(F17,LOSECOL,0)+1)))))))","v":""},null,{"$f":"IF(NOT(OR(G17=\"W\",G17=\"L\")),\"\",IF(HandicapPlay=\"x\",IF(G17=\"W\",10,-10),(IF(G17=\"W\",(VLOOKUP($D17,(TABLE!WIN),(MATCH(H17,WINCOL,0)+1))),(VLOOKUP($D17,(TABLE!LOSE),(MATCH(H17,LOSECOL,0)+1)))))))","v":""},null,{"$f":"IF(NOT(OR(I17=\"W\",I17=\"L\")),\"\",IF(HandicapPlay=\"x\",IF(I17=\"W\",10,-10),(IF(I17=\"W\",(VLOOKUP($D17,(TABLE!WIN),(MATCH(J17,WINCOL,0)+1))),(VLOOKUP($D17,(TABLE!LOSE),(MATCH(J17,LOSECOL,0)+1)))))))","v":""},null,{"$f":"SUM(E18:J18)","v":0},null,null,null,null,{"$f":"IF(NOT(OR(P17=\"W\",P17=\"L\")),\"\",(IF(P17=\"W\",(VLOOKUP($D17,(TABLE!WIN),(MATCH(Q17,WINCOL,0)+1))),(VLOOKUP($D17,(TABLE!LOSE),(MATCH(Q17,LOSECOL,0)+1))))))","v":""}]
[null,null,{"$f":"SCORECARD!D135","v":" Block 2 Player 3"},{"$f":"SCORECARD!I135","v":0},{"$f":"IF(SCORECARD!$I138>0,\"W\",(IF(SCORECARD!$I138<0,\"L\",\"\")))","v":""},{"$f":"SCORECARD!F138","v":0},{"$f":"IF(SCORECARD!$I139>0,\"W\",(IF(SCORECARD!$I139<0,\"L\",\"\")))","v":""},{"$f":"SCORECARD!F139","v":0},{"$f":"IF(SCORECARD!$I140>0,\"W\",(IF(SCORECARD!$I140<0,\"L\",\"\")))","v":""},{"$f":"SCORECARD!F140","v":0}]
[null,null,null,null,{"$f":"IF(NOT(OR(E19=\"W\",E19=\"L\")),\"\",IF(HandicapPlay=\"x\",IF(E19=\"W\",10,-10),(IF(E19=\"W\",(VLOOKUP($D19,(TABLE!WIN),(MATCH(F19,WINCOL,0)+1))),(VLOOKUP($D19,(TABLE!LOSE),(MATCH(F19,LOSECOL,0)+1)))))))","v":""},null,{"$f":"IF(NOT(OR(G19=\"W\",G19=\"L\")),\"\",IF(HandicapPlay=\"x\",IF(G19=\"W\",10,-10),(IF(G19=\"W\",(VLOOKUP($D19,(TABLE!WIN),(MATCH(H19,WINCOL,0)+1))),(VLOOKUP($D19,(TABLE!LOSE),(MATCH(H19,LOSECOL,0)+1)))))))","v":""},null,{"$f":"IF(NOT(OR(I19=\"W\",I19=\"L\")),\"\",IF(HandicapPlay=\"x\",IF(I19=\"W\",10,-10),(IF(I19=\"W\",(VLOOKUP($D19,(TABLE!WIN),(MATCH(J19,WINCOL,0)+1))),(VLOOKUP($D19,(TABLE!LOSE),(MATCH(J19,LOSECOL,0)+1)))))))","v":""},null,{"$f":"SUM(E20:J20)","v":0}]
[null,null,{"$f":"SCORECARD!D154","v":" Block 2 Player 4"},{"$f":"SCORECARD!I154","v":0},{"$f":"IF(SCORECARD!$I157>0,\"W\",(IF(SCORECARD!$I157<0,\"L\",\"\")))","v":""},{"$f":"SCORECARD!F157","v":0},{"$f":"IF(SCORECARD!$I158>0,\"W\",(IF(SCORECARD!$I158<0,\"L\",\"\")))","v":""},{"$f":"SCORECARD!F158","v":0},{"$f":"IF(SCORECARD!$I159>0,\"W\",(IF(SCORECARD!$I159<0,\"L\",\"\")))","v":""},{"$f":"SCORECARD!F159","v":0}]
[null,null,null,null,{"$f":"IF(NOT(OR(E21=\"W\",E21=\"L\")),\"\",IF(HandicapPlay=\"x\",IF(E21=\"W\",10,-10),(IF(E21=\"W\",(VLOOKUP($D21,(TABLE!WIN),(MATCH(F21,WINCOL,0)+1))),(VLOOKUP($D21,(TABLE!LOSE),(MATCH(F21,LOSECOL,0)+1)))))))","v":""},null,{"$f":"IF(NOT(OR(G21=\"W\",G21=\"L\")),\"\",IF(HandicapPlay=\"x\",IF(G21=\"W\",10,-10),(IF(G21=\"W\",(VLOOKUP($D21,(TABLE!WIN),(MATCH(H21,WINCOL,0)+1))),(VLOOKUP($D21,(TABLE!LOSE),(MATCH(H21,LOSECOL,0)+1)))))))","v":""},null,{"$f":"IF(NOT(OR(I21=\"W\",I21=\"L\")),\"\",IF(HandicapPlay=\"x\",IF(I21=\"W\",10,-10),(IF(I21=\"W\",(VLOOKUP($D21,(TABLE!WIN),(MATCH(J21,WINCOL,0)+1))),(VLOOKUP($D21,(TABLE!LOSE),(MATCH(J21,LOSECOL,0)+1)))))))","v":""},null,{"$f":"SUM(E22:J22)","v":0}]
[null,null,{"$f":"SCORECARD!D178","v":" Block 3 Player 1"},{"$f":"SCORECARD!I178","v":0},{"$f":"IF(SCORECARD!$I181>0,\"W\",(IF(SCORECARD!$I181<0,\"L\",\"\")))","v":""},{"$f":"SCORECARD!F181","v":0},{"$f":"IF(SCORECARD!$I182>0,\"W\",(IF(SCORECARD!$I182<0,\"L\",\"\")))","v":""},{"$f":"SCORECARD!F182","v":0},{"$f":"IF(SCORECARD!$I183>0,\"W\",(IF(SCORECARD!$I183<0,\"L\",\"\")))","v":""},{"$f":"SCORECARD!F183","v":0}]
[null,null,null,null,{"$f":"IF(NOT(OR(E23=\"W\",E23=\"L\")),\"\",IF(HandicapPlay=\"x\",IF(E23=\"W\",10,-10),(IF(E23=\"W\",(VLOOKUP($D23,(TABLE!WIN),(MATCH(F23,WINCOL,0)+1))),(VLOOKUP($D23,(TABLE!LOSE),(MATCH(F23,LOSECOL,0)+1)))))))","v":""},null,{"$f":"IF(NOT(OR(G23=\"W\",G23=\"L\")),\"\",IF(HandicapPlay=\"x\",IF(G23=\"W\",10,-10),(IF(G23=\"W\",(VLOOKUP($D23,(TABLE!WIN),(MATCH(H23,WINCOL,0)+1))),(VLOOKUP($D23,(TABLE!LOSE),(MATCH(H23,LOSECOL,0)+1)))))))","v":""},null,{"$f":"IF(NOT(OR(I23=\"W\",I23=\"L\")),\"\",IF(HandicapPlay=\"x\",IF(I23=\"W\",10,-10),(IF(I23=\"W\",(VLOOKUP($D23,(TABLE!WIN),(MATCH(J23,WINCOL,0)+1))),(VLOOKUP($D23,(TABLE!LOSE),(MATCH(J23,LOSECOL,0)+1)))))))","v":""},null,{"$f":"SUM(E24:J24)","v":0}]
[null,null,{"$f":"SCORECARD!D197","v":" Block 3 Player 2"},{"$f":"SCORECARD!I197","v":0},{"$f":"IF(SCORECARD!$I200>0,\"W\",(IF(SCORECARD!$I200<0,\"L\",\"\")))","v":""},{"$f":"SCORECARD!F200","v":0},{"$f":"IF(SCORECARD!$I201>0,\"W\",(IF(SCORECARD!$I201<0,\"L\",\"\")))","v":""},{"$f":"SCORECARD!F201","v":0},{"$f":"IF(SCORECARD!$I202>0,\"W\",(IF(SCORECARD!$I202<0,\"L\",\"\")))","v":""},{"$f":"SCORECARD!F202","v":0}]
[null,null,null,null,{"$f":"IF(NOT(OR(E25=\"W\",E25=\"L\")),\"\",IF(HandicapPlay=\"x\",IF(E25=\"W\",10,-10),(IF(E25=\"W\",(VLOOKUP($D25,(TABLE!WIN),(MATCH(F25,WINCOL,0)+1))),(VLOOKUP($D25,(TABLE!LOSE),(MATCH(F25,LOSECOL,0)+1)))))))","v":""},null,{"$f":"IF(NOT(OR(G25=\"W\",G25=\"L\")),\"\",IF(HandicapPlay=\"x\",IF(G25=\"W\",10,-10),(IF(G25=\"W\",(VLOOKUP($D25,(TABLE!WIN),(MATCH(H25,WINCOL,0)+1))),(VLOOKUP($D25,(TABLE!LOSE),(MATCH(H25,LOSECOL,0)+1)))))))","v":""},null,{"$f":"IF(NOT(OR(I25=\"W\",I25=\"L\")),\"\",IF(HandicapPlay=\"x\",IF(I25=\"W\",10,-10),(IF(I25=\"W\",(VLOOKUP($D25,(TABLE!WIN),(MATCH(J25,WINCOL,0)+1))),(VLOOKUP($D25,(TABLE!LOSE),(MATCH(J25,LOSECOL,0)+1)))))))","v":""},null,{"$f":"SUM(E26:J26)","v":0}]
[null,null,{"$f":"SCORECARD!D221","v":" Block 3 Player 3"},{"$f":"SCORECARD!I221","v":0},{"$f":"IF(SCORECARD!$I224>0,\"W\",(IF(SCORECARD!$I224<0,\"L\",\"\")))","v":""},{"$f":"SCORECARD!F224","v":0},{"$f":"IF(SCORECARD!$I225>0,\"W\",(IF(SCORECARD!$I225<0,\"L\",\"\")))","v":""},{"$f":"SCORECARD!F225","v":0},{"$f":"IF(SCORECARD!$I226>0,\"W\",(IF(SCORECARD!$I226<0,\"L\",\"\")))","v":""},{"$f":"SCORECARD!F226","v":0}]
[null,null,null,null,{"$f":"IF(NOT(OR(E27=\"W\",E27=\"L\")),\"\",IF(HandicapPlay=\"x\",IF(E27=\"W\",10,-10),(IF(E27=\"W\",(VLOOKUP($D27,(TABLE!WIN),(MATCH(F27,WINCOL,0)+1))),(VLOOKUP($D27,(TABLE!LOSE),(MATCH(F27,LOSECOL,0)+1)))))))","v":""},null,{"$f":"IF(NOT(OR(G27=\"W\",G27=\"L\")),\"\",IF(HandicapPlay=\"x\",IF(G27=\"W\",10,-10),(IF(G27=\"W\",(VLOOKUP($D27,(TABLE!WIN),(MATCH(H27,WINCOL,0)+1))),(VLOOKUP($D27,(TABLE!LOSE),(MATCH(H27,LOSECOL,0)+1)))))))","v":""},null,{"$f":"IF(NOT(OR(I27=\"W\",I27=\"L\")),\"\",IF(HandicapPlay=\"x\",IF(I27=\"W\",10,-10),(IF(I27=\"W\",(VLOOKUP($D27,(TABLE!WIN),(MATCH(J27,WINCOL,0)+1))),(VLOOKUP($D27,(TABLE!LOSE),(MATCH(J27,LOSECOL,0)+1)))))))","v":""},null,{"$f":"SUM(E28:J28)","v":0}]
[null,null,{"$f":"SCORECARD!D240","v":" Block 3 Player 4"},{"$f":"SCORECARD!I240","v":0},{"$f":"IF(SCORECARD!$I243>0,\"W\",(IF(SCORECARD!$I243<0,\"L\",\"\")))","v":""},{"$f":"SCORECARD!F243","v":0},{"$f":"IF(SCORECARD!$I244>0,\"W\",(IF(SCORECARD!$I244<0,\"L\",\"\")))","v":""},{"$f":"SCORECARD!F244","v":0},{"$f":"IF(SCORECARD!$I245>0,\"W\",(IF(SCORECARD!$I245<0,\"L\",\"\")))","v":""},{"$f":"SCORECARD!F245","v":0}]
[null,null,null,null,{"$f":"IF(NOT(OR(E29=\"W\",E29=\"L\")),\"\",IF(HandicapPlay=\"x\",IF(E29=\"W\",10,-10),(IF(E29=\"W\",(VLOOKUP($D29,(TABLE!WIN),(MATCH(F29,WINCOL,0)+1))),(VLOOKUP($D29,(TABLE!LOSE),(MATCH(F29,LOSECOL,0)+1)))))))","v":""},null,{"$f":"IF(NOT(OR(G29=\"W\",G29=\"L\")),\"\",IF(HandicapPlay=\"x\",IF(G29=\"W\",10,-10),(IF(G29=\"W\",(VLOOKUP($D29,(TABLE!WIN),(MATCH(H29,WINCOL,0)+1))),(VLOOKUP($D29,(TABLE!LOSE),(MATCH(H29,LOSECOL,0)+1)))))))","v":""},null,{"$f":"IF(NOT(OR(I29=\"W\",I29=\"L\")),\"\",IF(HandicapPlay=\"x\",IF(I29=\"W\",10,-10),(IF(I29=\"W\",(VLOOKUP($D29,(TABLE!WIN),(MATCH(J29,WINCOL,0)+1))),(VLOOKUP($D29,(TABLE!LOSE),(MATCH(J29,LOSECOL,0)+1)))))))","v":""},null,{"$f":"SUM(E30:J30)","v":0}]
[null,null,{"$f":"SCORECARD!D264","v":" Block 4 Player 1"},{"$f":"SCORECARD!I264","v":0},{"$f":"IF(SCORECARD!$I267>0,\"W\",(IF(SCORECARD!$I267<0,\"L\",\"\")))","v":""},{"$f":"SCORECARD!F267","v":0},{"$f":"IF(SCORECARD!$I268>0,\"W\",(IF(SCORECARD!$I268<0,\"L\",\"\")))","v":""},{"$f":"SCORECARD!F268","v":0},{"$f":"IF(SCORECARD!$I269>0,\"W\",(IF(SCORECARD!$I269<0,\"L\",\"\")))","v":""},{"$f":"SCORECARD!F269","v":0}]
[null,null,null,null,{"$f":"IF(NOT(OR(E31=\"W\",E31=\"L\")),\"\",IF(HandicapPlay=\"x\",IF(E31=\"W\",10,-10),(IF(E31=\"W\",(VLOOKUP($D31,(TABLE!WIN),(MATCH(F31,WINCOL,0)+1))),(VLOOKUP($D31,(TABLE!LOSE),(MATCH(F31,LOSECOL,0)+1)))))))","v":""},null,{"$f":"IF(NOT(OR(G31=\"W\",G31=\"L\")),\"\",IF(HandicapPlay=\"x\",IF(G31=\"W\",10,-10),(IF(G31=\"W\",(VLOOKUP($D31,(TABLE!WIN),(MATCH(H31,WINCOL,0)+1))),(VLOOKUP($D31,(TABLE!LOSE),(MATCH(H31,LOSECOL,0)+1)))))))","v":""},null,{"$f":"IF(NOT(OR(I31=\"W\",I31=\"L\")),\"\",IF(HandicapPlay=\"x\",IF(I31=\"W\",10,-10),(IF(I31=\"W\",(VLOOKUP($D31,(TABLE!WIN),(MATCH(J31,WINCOL,0)+1))),(VLOOKUP($D31,(TABLE!LOSE),(MATCH(J31,LOSECOL,0)+1)))))))","v":""},null,{"$f":"SUM(E32:J32)","v":0}]
[null,null,{"$f":"SCORECARD!D283","v":" Block 4 Player 2"},{"$f":"SCORECARD!I283","v":0},{"$f":"IF(SCORECARD!$I286>0,\"W\",(IF(SCORECARD!$I286<0,\"L\",\"\")))","v":""},{"$f":"SCORECARD!F286","v":0},{"$f":"IF(SCORECARD!$I287>0,\"W\",(IF(SCORECARD!$I287<0,\"L\",\"\")))","v":""},{"$f":"SCORECARD!F287","v":0},{"$f":"IF(SCORECARD!$I288>0,\"W\",(IF(SCORECARD!$I288<0,\"L\",\"\")))","v":""},{"$f":"SCORECARD!F288","v":0}]
[null,null,null,null,{"$f":"IF(NOT(OR(E33=\"W\",E33=\"L\")),\"\",IF(HandicapPlay=\"x\",IF(E33=\"W\",10,-10),(IF(E33=\"W\",(VLOOKUP($D33,(TABLE!WIN),(MATCH(F33,WINCOL,0)+1))),(VLOOKUP($D33,(TABLE!LOSE),(MATCH(F33,LOSECOL,0)+1)))))))","v":""},null,{"$f":"IF(NOT(OR(G33=\"W\",G33=\"L\")),\"\",IF(HandicapPlay=\"x\",IF(G33=\"W\",10,-10),(IF(G33=\"W\",(VLOOKUP($D33,(TABLE!WIN),(MATCH(H33,WINCOL,0)+1))),(VLOOKUP($D33,(TABLE!LOSE),(MATCH(H33,LOSECOL,0)+1)))))))","v":""},null,{"$f":"IF(NOT(OR(I33=\"W\",I33=\"L\")),\"\",IF(HandicapPlay=\"x\",IF(I33=\"W\",10,-10),(IF(I33=\"W\",(VLOOKUP($D33,(TABLE!WIN),(MATCH(J33,WINCOL,0)+1))),(VLOOKUP($D33,(TABLE!LOSE),(MATCH(J33,LOSECOL,0)+1)))))))","v":""},null,{"$f":"SUM(E34:J34)","v":0}]
[null,null,{"$f":"SCORECARD!D307","v":" Block 4 Player 3"},{"$f":"SCORECARD!I307","v":0},{"$f":"IF(SCORECARD!$I310>0,\"W\",(IF(SCORECARD!$I310<0,\"L\",\"\")))","v":""},{"$f":"SCORECARD!F310","v":0},{"$f":"IF(SCORECARD!$I311>0,\"W\",(IF(SCORECARD!$I311<0,\"L\",\"\")))","v":""},{"$f":"SCORECARD!F311","v":0},{"$f":"IF(SCORECARD!$I312>0,\"W\",(IF(SCORECARD!$I312<0,\"L\",\"\")))","v":""},{"$f":"SCORECARD!F312","v":0}]
[null,null,null,null,{"$f":"IF(NOT(OR(E35=\"W\",E35=\"L\")),\"\",IF(HandicapPlay=\"x\",IF(E35=\"W\",10,-10),(IF(E35=\"W\",(VLOOKUP($D35,(TABLE!WIN),(MATCH(F35,WINCOL,0)+1))),(VLOOKUP($D35,(TABLE!LOSE),(MATCH(F35,LOSECOL,0)+1)))))))","v":""},null,{"$f":"IF(NOT(OR(G35=\"W\",G35=\"L\")),\"\",IF(HandicapPlay=\"x\",IF(G35=\"W\",10,-10),(IF(G35=\"W\",(VLOOKUP($D35,(TABLE!WIN),(MATCH(H35,WINCOL,0)+1))),(VLOOKUP($D35,(TABLE!LOSE),(MATCH(H35,LOSECOL,0)+1)))))))","v":""},"`",{"$f":"IF(NOT(OR(I35=\"W\",I35=\"L\")),\"\",IF(HandicapPlay=\"x\",IF(I35=\"W\",10,-10),(IF(I35=\"W\",(VLOOKUP($D35,(TABLE!WIN),(MATCH(J35,WINCOL,0)+1))),(VLOOKUP($D35,(TABLE!LOSE),(MATCH(J35,LOSECOL,0)+1)))))))","v":""},null,{"$f":"SUM(E36:J36)","v":0}]
[null,null,{"$f":"SCORECARD!D326","v":" Block 4 Player 4"},{"$f":"SCORECARD!I326","v":0},{"$f":"IF(SCORECARD!$I329>0,\"W\",(IF(SCORECARD!$I329<0,\"L\",\"\")))","v":""},{"$f":"SCORECARD!$F329","v":0},{"$f":"IF(SCORECARD!$I330>0,\"W\",(IF(SCORECARD!$I330<0,\"L\",\"\")))","v":""},{"$f":"SCORECARD!F330","v":0},{"$f":"IF(SCORECARD!$I331>0,\"W\",(IF(SCORECARD!$I331<0,\"L\",\"\")))","v":""},{"$f":"SCORECARD!F331","v":0}]
[null,null,null,null,{"$f":"IF(NOT(OR(E37=\"W\",E37=\"L\")),\"\",IF(HandicapPlay=\"x\",IF(E37=\"W\",10,-10),(IF(E37=\"W\",(VLOOKUP($D37,(TABLE!WIN),(MATCH(F37,WINCOL,0)+1))),(VLOOKUP($D37,(TABLE!LOSE),(MATCH(F37,LOSECOL,0)+1)))))))","v":""},null,{"$f":"IF(NOT(OR(G37=\"W\",G37=\"L\")),\"\",IF(HandicapPlay=\"x\",IF(G37=\"W\",10,-10),(IF(G37=\"W\",(VLOOKUP($D37,(TABLE!WIN),(MATCH(H37,WINCOL,0)+1))),(VLOOKUP($D37,(TABLE!LOSE),(MATCH(H37,LOSECOL,0)+1)))))))","v":""},null,{"$f":"IF(NOT(OR(I37=\"W\",I37=\"L\")),\"\",IF(HandicapPlay=\"x\",IF(I37=\"W\",10,-10),(IF(I37=\"W\",(VLOOKUP($D37,(TABLE!WIN),(MATCH(J37,WINCOL,0)+1))),(VLOOKUP($D37,(TABLE!LOSE),(MATCH(J37,LOSECOL,0)+1)))))))","v":""},null,{"$f":"SUM(E38:J38)","v":0}]
[null,null,{"$f":"SCORECARD!D350","v":" Block 5 Player 1"},{"$f":"SCORECARD!I350","v":0},{"$f":"IF(SCORECARD!$I353>0,\"W\",(IF(SCORECARD!$I353<0,\"L\",\"\")))","v":""},{"$f":"SCORECARD!F353","v":0},{"$f":"IF(SCORECARD!$I354>0,\"W\",(IF(SCORECARD!$I354<0,\"L\",\"\")))","v":""},{"$f":"SCORECARD!F354","v":0},{"$f":"IF(SCORECARD!$I355>0,\"W\",(IF(SCORECARD!$I355<0,\"L\",\"\")))","v":""},{"$f":"SCORECARD!F355","v":0}]
[null,null,null,null,{"$f":"IF(NOT(OR(E39=\"W\",E39=\"L\")),\"\",IF(HandicapPlay=\"x\",IF(E39=\"W\",10,-10),(IF(E39=\"W\",(VLOOKUP($D39,(TABLE!WIN),(MATCH(F39,WINCOL,0)+1))),(VLOOKUP($D39,(TABLE!LOSE),(MATCH(F39,LOSECOL,0)+1)))))))","v":""},null,{"$f":"IF(NOT(OR(G39=\"W\",G39=\"L\")),\"\",IF(HandicapPlay=\"x\",IF(G39=\"W\",10,-10),(IF(G39=\"W\",(VLOOKUP($D39,(TABLE!WIN),(MATCH(H39,WINCOL,0)+1))),(VLOOKUP($D39,(TABLE!LOSE),(MATCH(H39,LOSECOL,0)+1)))))))","v":""},null,{"$f":"IF(NOT(OR(I39=\"W\",I39=\"L\")),\"\",IF(HandicapPlay=\"x\",IF(I39=\"W\",10,-10),(IF(I39=\"W\",(VLOOKUP($D39,(TABLE!WIN),(MATCH(J39,WINCOL,0)+1))),(VLOOKUP($D39,(TABLE!LOSE),(MATCH(J39,LOSECOL,0)+1)))))))","v":""},null,{"$f":"SUM(E40:J40)","v":0}]
[null,null,{"$f":"SCORECARD!D369","v":" Block 5 Player 2"},{"$f":"SCORECARD!I369","v":0},{"$f":"IF(SCORECARD!$I372>0,\"W\",(IF(SCORECARD!$I372<0,\"L\",\"\")))","v":""},{"$f":"SCORECARD!F372","v":0},{"$f":"IF(SCORECARD!$I373>0,\"W\",(IF(SCORECARD!$I373<0,\"L\",\"\")))","v":""},{"$f":"SCORECARD!F373","v":0},{"$f":"IF(SCORECARD!$I374>0,\"W\",(IF(SCORECARD!$I374<0,\"L\",\"\")))","v":""},{"$f":"SCORECARD!F374","v":0}]
[null,null,null,null,{"$f":"IF(NOT(OR(E41=\"W\",E41=\"L\")),\"\",IF(HandicapPlay=\"x\",IF(E41=\"W\",10,-10),(IF(E41=\"W\",(VLOOKUP($D41,(TABLE!WIN),(MATCH(F41,WINCOL,0)+1))),(VLOOKUP($D41,(TABLE!LOSE),(MATCH(F41,LOSECOL,0)+1)))))))","v":""},null,{"$f":"IF(NOT(OR(G41=\"W\",G41=\"L\")),\"\",IF(HandicapPlay=\"x\",IF(G41=\"W\",10,-10),(IF(G41=\"W\",(VLOOKUP($D41,(TABLE!WIN),(MATCH(H41,WINCOL,0)+1))),(VLOOKUP($D41,(TABLE!LOSE),(MATCH(H41,LOSECOL,0)+1)))))))","v":""},null,{"$f":"IF(NOT(OR(I41=\"W\",I41=\"L\")),\"\",IF(HandicapPlay=\"x\",IF(I41=\"W\",10,-10),(IF(I41=\"W\",(VLOOKUP($D41,(TABLE!WIN),(MATCH(J41,WINCOL,0)+1))),(VLOOKUP($D41,(TABLE!LOSE),(MATCH(J41,LOSECOL,0)+1)))))))","v":""},null,{"$f":"SUM(E42:J42)","v":0}]
[null,null,{"$f":"SCORECARD!D393","v":" Block 5 Player 3"},{"$f":"SCORECARD!I393","v":0},{"$f":"IF(SCORECARD!$I396>0,\"W\",(IF(SCORECARD!$I396<0,\"L\",\"\")))","v":""},{"$f":"SCORECARD!F396","v":0},{"$f":"IF(SCORECARD!$I397>0,\"W\",(IF(SCORECARD!$I397<0,\"L\",\"\")))","v":""},{"$f":"SCORECARD!F397","v":0},{"$f":"IF(SCORECARD!$I398>0,\"W\",(IF(SCORECARD!$I398<0,\"L\",\"\")))","v":""},{"$f":"SCORECARD!F398","v":0}]
[null,null,null,null,{"$f":"IF(NOT(OR(E43=\"W\",E43=\"L\")),\"\",IF(HandicapPlay=\"x\",IF(E43=\"W\",10,-10),(IF(E43=\"W\",(VLOOKUP($D43,(TABLE!WIN),(MATCH(F43,WINCOL,0)+1))),(VLOOKUP($D43,(TABLE!LOSE),(MATCH(F43,LOSECOL,0)+1)))))))","v":""},null,{"$f":"IF(NOT(OR(G43=\"W\",G43=\"L\")),\"\",IF(HandicapPlay=\"x\",IF(G43=\"W\",10,-10),(IF(G43=\"W\",(VLOOKUP($D43,(TABLE!WIN),(MATCH(H43,WINCOL,0)+1))),(VLOOKUP($D43,(TABLE!LOSE),(MATCH(H43,LOSECOL,0)+1)))))))","v":""},null,{"$f":"IF(NOT(OR(I43=\"W\",I43=\"L\")),\"\",IF(HandicapPlay=\"x\",IF(I43=\"W\",10,-10),(IF(I43=\"W\",(VLOOKUP($D43,(TABLE!WIN),(MATCH(J43,WINCOL,0)+1))),(VLOOKUP($D43,(TABLE!LOSE),(MATCH(J43,LOSECOL,0)+1)))))))","v":""},null,{"$f":"SUM(E44:J44)","v":0}]
[null,null,{"$f":"SCORECARD!D412","v":" Block 5 Player 4"},{"$f":"SCORECARD!I412","v":0},{"$f":"IF(SCORECARD!$I415>0,\"W\",(IF(SCORECARD!$I415<0,\"L\",\"\")))","v":""},{"$f":"SCORECARD!F415","v":0},{"$f":"IF(SCORECARD!$I416>0,\"W\",(IF(SCORECARD!$I416<0,\"L\",\"\")))","v":""},{"$f":"SCORECARD!F416","v":0},{"$f":"IF(SCORECARD!$I417>0,\"W\",(IF(SCORECARD!$I417<0,\"L\",\"\")))","v":""},{"$f":"SCORECARD!F417","v":0}]
[null,null,null,null,{"$f":"IF(NOT(OR(E45=\"W\",E45=\"L\")),\"\",IF(HandicapPlay=\"x\",IF(E45=\"W\",10,-10),(IF(E45=\"W\",(VLOOKUP($D45,(TABLE!WIN),(MATCH(F45,WINCOL,0)+1))),(VLOOKUP($D45,(TABLE!LOSE),(MATCH(F45,LOSECOL,0)+1)))))))","v":""},null,{"$f":"IF(NOT(OR(G45=\"W\",G45=\"L\")),\"\",IF(HandicapPlay=\"x\",IF(G45=\"W\",10,-10),(IF(G45=\"W\",(VLOOKUP($D45,(TABLE!WIN),(MATCH(H45,WINCOL,0)+1))),(VLOOKUP($D45,(TABLE!LOSE),(MATCH(H45,LOSECOL,0)+1)))))))","v":""},null,{"$f":"IF(NOT(OR(I45=\"W\",I45=\"L\")),\"\",IF(HandicapPlay=\"x\",IF(I45=\"W\",10,-10),(IF(I45=\"W\",(VLOOKUP($D45,(TABLE!WIN),(MATCH(J45,WINCOL,0)+1))),(VLOOKUP($D45,(TABLE!LOSE),(MATCH(J45,LOSECOL,0)+1)))))))","v":""},null,{"$f":"SUM(E46:J46)","v":0}]
[null,null,{"$f":"SCORECARD!D436","v":" Block 6 Player 1"},{"$f":"SCORECARD!I436","v":0},{"$f":"IF(SCORECARD!$I439>0,\"W\",(IF(SCORECARD!$I439<0,\"L\",\"\")))","v":""},{"$f":"SCORECARD!F439","v":0},{"$f":"IF(SCORECARD!I440>0,\"W\",(IF(SCORECARD!I440<0,\"L\",\"\")))","v":""},{"$f":"SCORECARD!F440","v":0},{"$f":"IF(SCORECARD!I441>0,\"W\",(IF(SCORECARD!I441<0,\"L\",\"\")))","v":""},{"$f":"SCORECARD!F441","v":0}]
[null,null,null,null,{"$f":"IF(NOT(OR(E47=\"W\",E47=\"L\")),\"\",IF(HandicapPlay=\"x\",IF(E47=\"W\",10,-10),(IF(E47=\"W\",(VLOOKUP($D47,(TABLE!WIN),(MATCH(F47,WINCOL,0)+1))),(VLOOKUP($D47,(TABLE!LOSE),(MATCH(F47,LOSECOL,0)+1)))))))","v":""},null,{"$f":"IF(NOT(OR(G47=\"W\",G47=\"L\")),\"\",IF(HandicapPlay=\"x\",IF(G47=\"W\",10,-10),(IF(G47=\"W\",(VLOOKUP($D47,(TABLE!WIN),(MATCH(H47,WINCOL,0)+1))),(VLOOKUP($D47,(TABLE!LOSE),(MATCH(H47,LOSECOL,0)+1)))))))","v":""},null,{"$f":"IF(NOT(OR(I47=\"W\",I47=\"L\")),\"\",IF(HandicapPlay=\"x\",IF(I47=\"W\",10,-10),(IF(I47=\"W\",(VLOOKUP($D47,(TABLE!WIN),(MATCH(J47,WINCOL,0)+1))),(VLOOKUP($D47,(TABLE!LOSE),(MATCH(J47,LOSECOL,0)+1)))))))","v":""},null,{"$f":"SUM(E48:J48)","v":0}]
[null,null,{"$f":"SCORECARD!D455","v":" Block 6 Player 2"},{"$f":"SCORECARD!I455","v":0},{"$f":"IF(SCORECARD!$I458>0,\"W\",(IF(SCORECARD!$I458<0,\"L\",\"\")))","v":""},{"$f":"SCORECARD!F458","v":0},{"$f":"IF(SCORECARD!$I459>0,\"W\",(IF(SCORECARD!$I459<0,\"L\",\"\")))","v":""},{"$f":"SCORECARD!F459","v":0},{"$f":"IF(SCORECARD!$I460>0,\"W\",(IF(SCORECARD!$I460<0,\"L\",\"\")))","v":""},{"$f":"SCORECARD!F460","v":0}]
[null,null,null,null,{"$f":"IF(NOT(OR(E49=\"W\",E49=\"L\")),\"\",IF(HandicapPlay=\"x\",IF(E49=\"W\",10,-10),(IF(E49=\"W\",(VLOOKUP($D49,(TABLE!WIN),(MATCH(F49,WINCOL,0)+1))),(VLOOKUP($D49,(TABLE!LOSE),(MATCH(F49,LOSECOL,0)+1)))))))","v":""},null,{"$f":"IF(NOT(OR(G49=\"W\",G49=\"L\")),\"\",IF(HandicapPlay=\"x\",IF(G49=\"W\",10,-10),(IF(G49=\"W\",(VLOOKUP($D49,(TABLE!WIN),(MATCH(H49,WINCOL,0)+1))),(VLOOKUP($D49,(TABLE!LOSE),(MATCH(H49,LOSECOL,0)+1)))))))","v":""},null,{"$f":"IF(NOT(OR(I49=\"W\",I49=\"L\")),\"\",IF(HandicapPlay=\"x\",IF(I49=\"W\",10,-10),(IF(I49=\"W\",(VLOOKUP($D49,(TABLE!WIN),(MATCH(J49,WINCOL,0)+1))),(VLOOKUP($D49,(TABLE!LOSE),(MATCH(J49,LOSECOL,0)+1)))))))","v":""},null,{"$f":"SUM(E50:J50)","v":0}]
[null,null,{"$f":"SCORECARD!D479","v":" Block 6 Player 3"},{"$f":"SCORECARD!I479","v":0},{"$f":"IF(SCORECARD!$I482>0,\"W\",(IF(SCORECARD!$I482<0,\"L\",\"\")))","v":""},{"$f":"SCORECARD!F482","v":0},{"$f":"IF(SCORECARD!$I483>0,\"W\",(IF(SCORECARD!$I483<0,\"L\",\"\")))","v":""},{"$f":"SCORECARD!F483","v":0},{"$f":"IF(SCORECARD!$I484>0,\"W\",(IF(SCORECARD!$I484<0,\"L\",\"\")))","v":""},{"$f":"SCORECARD!F484","v":0}]
[null,null,null,null,{"$f":"IF(NOT(OR(E51=\"W\",E51=\"L\")),\"\",IF(HandicapPlay=\"x\",IF(E51=\"W\",10,-10),(IF(E51=\"W\",(VLOOKUP($D51,(TABLE!WIN),(MATCH(F51,WINCOL,0)+1))),(VLOOKUP($D51,(TABLE!LOSE),(MATCH(F51,LOSECOL,0)+1)))))))","v":""},null,{"$f":"IF(NOT(OR(G51=\"W\",G51=\"L\")),\"\",IF(HandicapPlay=\"x\",IF(G51=\"W\",10,-10),(IF(G51=\"W\",(VLOOKUP($D51,(TABLE!WIN),(MATCH(H51,WINCOL,0)+1))),(VLOOKUP($D51,(TABLE!LOSE),(MATCH(H51,LOSECOL,0)+1)))))))","v":""},null,{"$f":"IF(NOT(OR(I51=\"W\",I51=\"L\")),\"\",IF(HandicapPlay=\"x\",IF(I51=\"W\",10,-10),(IF(I51=\"W\",(VLOOKUP($D51,(TABLE!WIN),(MATCH(J51,WINCOL,0)+1))),(VLOOKUP($D51,(TABLE!LOSE),(MATCH(J51,LOSECOL,0)+1)))))))","v":""},null,{"$f":"SUM(E52:J52)","v":0}]
[null,null,{"$f":"SCORECARD!D498","v":" Block 6 Player 4"},{"$f":"SCORECARD!I498","v":0},{"$f":"IF(SCORECARD!$I501>0,\"W\",(IF(SCORECARD!$I501<0,\"L\",\"\")))","v":""},{"$f":"SCORECARD!F501","v":0},{"$f":"IF(SCORECARD!$I502>0,\"W\",(IF(SCORECARD!$I502<0,\"L\",\"\")))","v":""},{"$f":"SCORECARD!F502","v":0},{"$f":"IF(SCORECARD!$I503>0,\"W\",(IF(SCORECARD!$I503<0,\"L\",\"\")))","v":""},{"$f":"SCORECARD!F503","v":0}]
[null,null,null,null,{"$f":"IF(NOT(OR(E53=\"W\",E53=\"L\")),\"\",IF(HandicapPlay=\"x\",IF(E53=\"W\",10,-10),(IF(E53=\"W\",(VLOOKUP($D53,(TABLE!WIN),(MATCH(F53,WINCOL,0)+1))),(VLOOKUP($D53,(TABLE!LOSE),(MATCH(F53,LOSECOL,0)+1)))))))","v":""},null,{"$f":"IF(NOT(OR(G53=\"W\",G53=\"L\")),\"\",IF(HandicapPlay=\"x\",IF(G53=\"W\",10,-10),(IF(G53=\"W\",(VLOOKUP($D53,(TABLE!WIN),(MATCH(H53,WINCOL,0)+1))),(VLOOKUP($D53,(TABLE!LOSE),(MATCH(H53,LOSECOL,0)+1)))))))","v":""},null,{"$f":"IF(NOT(OR(I53=\"W\",I53=\"L\")),\"\",IF(HandicapPlay=\"x\",IF(I53=\"W\",10,-10),(IF(I53=\"W\",(VLOOKUP($D53,(TABLE!WIN),(MATCH(J53,WINCOL,0)+1))),(VLOOKUP($D53,(TABLE!LOSE),(MATCH(J53,LOSECOL,0)+1)))))))","v":""},null,{"$f":"SUM(E54:J54)","v":0}]
[null,null,{"$f":"SCORECARD!D522","v":" Block 7 Player 1"},{"$f":"SCORECARD!I522","v":0},{"$f":"IF(SCORECARD!$I525>0,\"W\",(IF(SCORECARD!$I525<0,\"L\",\"\")))","v":""},{"$f":"SCORECARD!F525","v":0},{"$f":"IF(SCORECARD!$I526>0,\"W\",(IF(SCORECARD!$I526<0,\"L\",\"\")))","v":""},{"$f":"SCORECARD!F526","v":0},{"$f":"IF(SCORECARD!$I527>0,\"W\",(IF(SCORECARD!$I527<0,\"L\",\"\")))","v":""},{"$f":"SCORECARD!F527","v":0}]
[null,null,null,null,{"$f":"IF(NOT(OR(E55=\"W\",E55=\"L\")),\"\",IF(HandicapPlay=\"x\",IF(E55=\"W\",10,-10),(IF(E55=\"W\",(VLOOKUP($D55,(TABLE!WIN),(MATCH(F55,WINCOL,0)+1))),(VLOOKUP($D55,(TABLE!LOSE),(MATCH(F55,LOSECOL,0)+1)))))))","v":""},null,{"$f":"IF(NOT(OR(G55=\"W\",G55=\"L\")),\"\",IF(HandicapPlay=\"x\",IF(G55=\"W\",10,-10),(IF(G55=\"W\",(VLOOKUP($D55,(TABLE!WIN),(MATCH(H55,WINCOL,0)+1))),(VLOOKUP($D55,(TABLE!LOSE),(MATCH(H55,LOSECOL,0)+1)))))))","v":""},null,{"$f":"IF(NOT(OR(I55=\"W\",I55=\"L\")),\"\",IF(HandicapPlay=\"x\",IF(I55=\"W\",10,-10),(IF(I55=\"W\",(VLOOKUP($D55,(TABLE!WIN),(MATCH(J55,WINCOL,0)+1))),(VLOOKUP($D55,(TABLE!LOSE),(MATCH(J55,LOSECOL,0)+1)))))))","v":""},null,{"$f":"SUM(E56:J56)","v":0}]
[null,null,{"$f":"SCORECARD!D541","v":" Block 7 Player 2"},{"$f":"SCORECARD!I541","v":0},{"$f":"IF(SCORECARD!$I544>0,\"W\",(IF(SCORECARD!$I544<0,\"L\",\"\")))","v":""},{"$f":"SCORECARD!F544","v":0},{"$f":"IF(SCORECARD!$I545>0,\"W\",(IF(SCORECARD!$I545<0,\"L\",\"\")))","v":""},{"$f":"SCORECARD!F545","v":0},{"$f":"IF(SCORECARD!$I546>0,\"W\",(IF(SCORECARD!$I546<0,\"L\",\"\")))","v":""},{"$f":"SCORECARD!F546","v":0}]
[null,null,null,null,{"$f":"IF(NOT(OR(E57=\"W\",E57=\"L\")),\"\",IF(HandicapPlay=\"x\",IF(E57=\"W\",10,-10),(IF(E57=\"W\",(VLOOKUP($D57,(TABLE!WIN),(MATCH(F57,WINCOL,0)+1))),(VLOOKUP($D57,(TABLE!LOSE),(MATCH(F57,LOSECOL,0)+1)))))))","v":""},null,{"$f":"IF(NOT(OR(G57=\"W\",G57=\"L\")),\"\",IF(HandicapPlay=\"x\",IF(G57=\"W\",10,-10),(IF(G57=\"W\",(VLOOKUP($D57,(TABLE!WIN),(MATCH(H57,WINCOL,0)+1))),(VLOOKUP($D57,(TABLE!LOSE),(MATCH(H57,LOSECOL,0)+1)))))))","v":""},null,{"$f":"IF(NOT(OR(I57=\"W\",I57=\"L\")),\"\",IF(HandicapPlay=\"x\",IF(I57=\"W\",10,-10),(IF(I57=\"W\",(VLOOKUP($D57,(TABLE!WIN),(MATCH(J57,WINCOL,0)+1))),(VLOOKUP($D57,(TABLE!LOSE),(MATCH(J57,LOSECOL,0)+1)))))))","v":""},null,{"$f":"SUM(E58:J58)","v":0}]
[null,null,{"$f":"SCORECARD!D565","v":" Block 7 Player 3"},{"$f":"SCORECARD!I565","v":0},{"$f":"IF(SCORECARD!$I568>0,\"W\",(IF(SCORECARD!$I568<0,\"L\",\"\")))","v":""},{"$f":"SCORECARD!F568","v":0},{"$f":"IF(SCORECARD!$I569>0,\"W\",(IF(SCORECARD!$I569<0,\"L\",\"\")))","v":""},{"$f":"SCORECARD!F569","v":0},{"$f":"IF(SCORECARD!$I570>0,\"W\",(IF(SCORECARD!$I570<0,\"L\",\"\")))","v":""},{"$f":"SCORECARD!F570","v":0}]
[null,null,null,null,{"$f":"IF(NOT(OR(E59=\"W\",E59=\"L\")),\"\",IF(HandicapPlay=\"x\",IF(E59=\"W\",10,-10),(IF(E59=\"W\",(VLOOKUP($D59,(TABLE!WIN),(MATCH(F59,WINCOL,0)+1))),(VLOOKUP($D59,(TABLE!LOSE),(MATCH(F59,LOSECOL,0)+1)))))))","v":""},null,{"$f":"IF(NOT(OR(G59=\"W\",G59=\"L\")),\"\",IF(HandicapPlay=\"x\",IF(G59=\"W\",10,-10),(IF(G59=\"W\",(VLOOKUP($D59,(TABLE!WIN),(MATCH(H59,WINCOL,0)+1))),(VLOOKUP($D59,(TABLE!LOSE),(MATCH(H59,LOSECOL,0)+1)))))))","v":""},null,{"$f":"IF(NOT(OR(I59=\"W\",I59=\"L\")),\"\",IF(HandicapPlay=\"x\",IF(I59=\"W\",10,-10),(IF(I59=\"W\",(VLOOKUP($D59,(TABLE!WIN),(MATCH(J59,WINCOL,0)+1))),(VLOOKUP($D59,(TABLE!LOSE),(MATCH(J59,LOSECOL,0)+1)))))))","v":""},null,{"$f":"SUM(E60:J60)","v":0}]
[null,null,{"$f":"SCORECARD!D584","v":" Block 7 Player 4"},{"$f":"SCORECARD!I584","v":0},{"$f":"IF(SCORECARD!$I587>0,\"W\",(IF(SCORECARD!$I587<0,\"L\",\"\")))","v":""},{"$f":"SCORECARD!F587","v":0},{"$f":"IF(SCORECARD!$I588>0,\"W\",(IF(SCORECARD!$I588<0,\"L\",\"\")))","v":""},{"$f":"SCORECARD!F588","v":0},{"$f":"IF(SCORECARD!$I589>0,\"W\",(IF(SCORECARD!$I589<0,\"L\",\"\")))","v":""},{"$f":"SCORECARD!F589","v":0}]
[null,null,null,null,{"$f":"IF(NOT(OR(E61=\"W\",E61=\"L\")),\"\",IF(HandicapPlay=\"x\",IF(E61=\"W\",10,-10),(IF(E61=\"W\",(VLOOKUP($D61,(TABLE!WIN),(MATCH(F61,WINCOL,0)+1))),(VLOOKUP($D61,(TABLE!LOSE),(MATCH(F61,LOSECOL,0)+1)))))))","v":""},null,{"$f":"IF(NOT(OR(G61=\"W\",G61=\"L\")),\"\",IF(HandicapPlay=\"x\",IF(G61=\"W\",10,-10),(IF(G61=\"W\",(VLOOKUP($D61,(TABLE!WIN),(MATCH(H61,WINCOL,0)+1))),(VLOOKUP($D61,(TABLE!LOSE),(MATCH(H61,LOSECOL,0)+1)))))))","v":""},null,{"$f":"IF(NOT(OR(I61=\"W\",I61=\"L\")),\"\",IF(HandicapPlay=\"x\",IF(I61=\"W\",10,-10),(IF(I61=\"W\",(VLOOKUP($D61,(TABLE!WIN),(MATCH(J61,WINCOL,0)+1))),(VLOOKUP($D61,(TABLE!LOSE),(MATCH(J61,LOSECOL,0)+1)))))))","v":""},null,{"$f":"SUM(E62:J62)","v":0}]
[null,null,{"$f":"SCORECARD!D608","v":" Block 8 Player 1"},{"$f":"SCORECARD!I608","v":0},{"$f":"IF(SCORECARD!$I611>0,\"W\",(IF(SCORECARD!$I611<0,\"L\",\"\")))","v":""},{"$f":"SCORECARD!F611","v":0},{"$f":"IF(SCORECARD!$I612>0,\"W\",(IF(SCORECARD!$I612<0,\"L\",\"\")))","v":""},{"$f":"SCORECARD!F612","v":0},{"$f":"IF(SCORECARD!$I613>0,\"W\",(IF(SCORECARD!$I613<0,\"L\",\"\")))","v":""},{"$f":"SCORECARD!F613","v":0}]
[null,null,null,null,{"$f":"IF(NOT(OR(E63=\"W\",E63=\"L\")),\"\",IF(HandicapPlay=\"x\",IF(E63=\"W\",10,-10),(IF(E63=\"W\",(VLOOKUP($D63,(TABLE!WIN),(MATCH(F63,WINCOL,0)+1))),(VLOOKUP($D63,(TABLE!LOSE),(MATCH(F63,LOSECOL,0)+1)))))))","v":""},null,{"$f":"IF(NOT(OR(G63=\"W\",G63=\"L\")),\"\",IF(HandicapPlay=\"x\",IF(G63=\"W\",10,-10),(IF(G63=\"W\",(VLOOKUP($D63,(TABLE!WIN),(MATCH(H63,WINCOL,0)+1))),(VLOOKUP($D63,(TABLE!LOSE),(MATCH(H63,LOSECOL,0)+1)))))))","v":""},null,{"$f":"IF(NOT(OR(I63=\"W\",I63=\"L\")),\"\",IF(HandicapPlay=\"x\",IF(I63=\"W\",10,-10),(IF(I63=\"W\",(VLOOKUP($D63,(TABLE!WIN),(MATCH(J63,WINCOL,0)+1))),(VLOOKUP($D63,(TABLE!LOSE),(MATCH(J63,LOSECOL,0)+1)))))))","v":""},null,{"$f":"SUM(E64:J64)","v":0}]
[null,null,{"$f":"SCORECARD!D627","v":" Block 8 Player 2"},{"$f":"SCORECARD!I627","v":0},{"$f":"IF(SCORECARD!$I630>0,\"W\",(IF(SCORECARD!$I630<0,\"L\",\"\")))","v":""},{"$f":"SCORECARD!F630","v":0},{"$f":"IF(SCORECARD!$I631>0,\"W\",(IF(SCORECARD!$I631<0,\"L\",\"\")))","v":""},{"$f":"SCORECARD!F631","v":0},{"$f":"IF(SCORECARD!$I632>0,\"W\",(IF(SCORECARD!$I632<0,\"L\",\"\")))","v":""},{"$f":"SCORECARD!F632","v":0}]
[null,null,null,null,{"$f":"IF(NOT(OR(E65=\"W\",E65=\"L\")),\"\",IF(HandicapPlay=\"x\",IF(E65=\"W\",10,-10),(IF(E65=\"W\",(VLOOKUP($D65,(TABLE!WIN),(MATCH(F65,WINCOL,0)+1))),(VLOOKUP($D65,(TABLE!LOSE),(MATCH(F65,LOSECOL,0)+1)))))))","v":""},null,{"$f":"IF(NOT(OR(G65=\"W\",G65=\"L\")),\"\",IF(HandicapPlay=\"x\",IF(G65=\"W\",10,-10),(IF(G65=\"W\",(VLOOKUP($D65,(TABLE!WIN),(MATCH(H65,WINCOL,0)+1))),(VLOOKUP($D65,(TABLE!LOSE),(MATCH(H65,LOSECOL,0)+1)))))))","v":""},null,{"$f":"IF(NOT(OR(I65=\"W\",I65=\"L\")),\"\",IF(HandicapPlay=\"x\",IF(I65=\"W\",10,-10),(IF(I65=\"W\",(VLOOKUP($D65,(TABLE!WIN),(MATCH(J65,WINCOL,0)+1))),(VLOOKUP($D65,(TABLE!LOSE),(MATCH(J65,LOSECOL,0)+1)))))))","v":""},null,{"$f":"SUM(E66:J66)","v":0}]
[null,null,{"$f":"SCORECARD!D651","v":" Block 8 Player 3"},{"$f":"SCORECARD!I651","v":0},{"$f":"IF(SCORECARD!$I654>0,\"W\",(IF(SCORECARD!$I654<0,\"L\",\"\")))","v":""},{"$f":"SCORECARD!F654","v":0},{"$f":"IF(SCORECARD!$I655>0,\"W\",(IF(SCORECARD!$I655<0,\"L\",\"\")))","v":""},{"$f":"SCORECARD!F655","v":0},{"$f":"IF(SCORECARD!$I656>0,\"W\",(IF(SCORECARD!$I656<0,\"L\",\"\")))","v":""},{"$f":"SCORECARD!F656","v":0}]
[null,null,null,null,{"$f":"IF(NOT(OR(E67=\"W\",E67=\"L\")),\"\",IF(HandicapPlay=\"x\",IF(E67=\"W\",10,-10),(IF(E67=\"W\",(VLOOKUP($D67,(TABLE!WIN),(MATCH(F67,WINCOL,0)+1))),(VLOOKUP($D67,(TABLE!LOSE),(MATCH(F67,LOSECOL,0)+1)))))))","v":""},null,{"$f":"IF(NOT(OR(G67=\"W\",G67=\"L\")),\"\",IF(HandicapPlay=\"x\",IF(G67=\"W\",10,-10),(IF(G67=\"W\",(VLOOKUP($D67,(TABLE!WIN),(MATCH(H67,WINCOL,0)+1))),(VLOOKUP($D67,(TABLE!LOSE),(MATCH(H67,LOSECOL,0)+1)))))))","v":""},null,{"$f":"IF(NOT(OR(I67=\"W\",I67=\"L\")),\"\",IF(HandicapPlay=\"x\",IF(I67=\"W\",10,-10),(IF(I67=\"W\",(VLOOKUP($D67,(TABLE!WIN),(MATCH(J67,WINCOL,0)+1))),(VLOOKUP($D67,(TABLE!LOSE),(MATCH(J67,LOSECOL,0)+1)))))))","v":""},null,{"$f":"SUM(E68:J68)","v":0}]
[null,null,{"$f":"SCORECARD!D670","v":" Block 8 Player 4"},{"$f":"SCORECARD!I670","v":0},{"$f":"IF(SCORECARD!$I673>0,\"W\",(IF(SCORECARD!$I673<0,\"L\",\"\")))","v":""},{"$f":"SCORECARD!F673","v":0},{"$f":"IF(SCORECARD!$I674>0,\"W\",(IF(SCORECARD!$I674<0,\"L\",\"\")))","v":""},{"$f":"SCORECARD!F674","v":0},{"$f":"IF(SCORECARD!$I675>0,\"W\",(IF(SCORECARD!$I675<0,\"L\",\"\")))","v":""},{"$f":"SCORECARD!F675","v":0}]
[null,null,null,null,{"$f":"IF(NOT(OR(E69=\"W\",E69=\"L\")),\"\",IF(HandicapPlay=\"x\",IF(E69=\"W\",10,-10),(IF(E69=\"W\",(VLOOKUP($D69,(TABLE!WIN),(MATCH(F69,WINCOL,0)+1))),(VLOOKUP($D69,(TABLE!LOSE),(MATCH(F69,LOSECOL,0)+1)))))))","v":""},null,{"$f":"IF(NOT(OR(G69=\"W\",G69=\"L\")),\"\",IF(HandicapPlay=\"x\",IF(G69=\"W\",10,-10),(IF(G69=\"W\",(VLOOKUP($D69,(TABLE!WIN),(MATCH(H69,WINCOL,0)+1))),(VLOOKUP($D69,(TABLE!LOSE),(MATCH(H69,LOSECOL,0)+1)))))))","v":""},null,{"$f":"IF(NOT(OR(I69=\"W\",I69=\"L\")),\"\",IF(HandicapPlay=\"x\",IF(I69=\"W\",10,-10),(IF(I69=\"W\",(VLOOKUP($D69,(TABLE!WIN),(MATCH(J69,WINCOL,0)+1))),(VLOOKUP($D69,(TABLE!LOSE),(MATCH(J69,LOSECOL,0)+1)))))))","v":""},null,{"$f":"SUM(E70:J70)","v":0}]
[null,null,{"$f":"SCORECARD!D694","v":" Block 9 Player 1"},{"$f":"SCORECARD!I694","v":0},{"$f":"IF(SCORECARD!$I697>0,\"W\",(IF(SCORECARD!$I697<0,\"L\",\"\")))","v":""},{"$f":"SCORECARD!F697","v":0},{"$f":"IF(SCORECARD!$I698>0,\"W\",(IF(SCORECARD!$I698<0,\"L\",\"\")))","v":""},{"$f":"SCORECARD!F698","v":0},{"$f":"IF(SCORECARD!$I699>0,\"W\",(IF(SCORECARD!$I699<0,\"L\",\"\")))","v":""},{"$f":"SCORECARD!F699","v":0}]
[null,null,null,null,{"$f":"IF(NOT(OR(E71=\"W\",E71=\"L\")),\"\",IF(HandicapPlay=\"x\",IF(E71=\"W\",10,-10),(IF(E71=\"W\",(VLOOKUP($D71,(TABLE!WIN),(MATCH(F71,WINCOL,0)+1))),(VLOOKUP($D71,(TABLE!LOSE),(MATCH(F71,LOSECOL,0)+1)))))))","v":""},null,{"$f":"IF(NOT(OR(G71=\"W\",G71=\"L\")),\"\",IF(HandicapPlay=\"x\",IF(G71=\"W\",10,-10),(IF(G71=\"W\",(VLOOKUP($D71,(TABLE!WIN),(MATCH(H71,WINCOL,0)+1))),(VLOOKUP($D71,(TABLE!LOSE),(MATCH(H71,LOSECOL,0)+1)))))))","v":""},null,{"$f":"IF(NOT(OR(I71=\"W\",I71=\"L\")),\"\",IF(HandicapPlay=\"x\",IF(I71=\"W\",10,-10),(IF(I71=\"W\",(VLOOKUP($D71,(TABLE!WIN),(MATCH(J71,WINCOL,0)+1))),(VLOOKUP($D71,(TABLE!LOSE),(MATCH(J71,LOSECOL,0)+1)))))))","v":""},null,{"$f":"SUM(E72:J72)","v":0}]
[null,null,{"$f":"SCORECARD!D713","v":" Block 9 Player 2"},{"$f":"SCORECARD!I713","v":0},{"$f":"IF(SCORECARD!$I716>0,\"W\",(IF(SCORECARD!$I716<0,\"L\",\"\")))","v":""},{"$f":"SCORECARD!F716","v":0},{"$f":"IF(SCORECARD!$I717>0,\"W\",(IF(SCORECARD!$I717<0,\"L\",\"\")))","v":""},{"$f":"SCORECARD!F717","v":0},{"$f":"IF(SCORECARD!$I718>0,\"W\",(IF(SCORECARD!$I718<0,\"L\",\"\")))","v":""},{"$f":"SCORECARD!F718","v":0}]
[null,null,null,null,{"$f":"IF(NOT(OR(E73=\"W\",E73=\"L\")),\"\",IF(HandicapPlay=\"x\",IF(E73=\"W\",10,-10),(IF(E73=\"W\",(VLOOKUP($D73,(TABLE!WIN),(MATCH(F73,WINCOL,0)+1))),(VLOOKUP($D73,(TABLE!LOSE),(MATCH(F73,LOSECOL,0)+1)))))))","v":""},null,{"$f":"IF(NOT(OR(G73=\"W\",G73=\"L\")),\"\",IF(HandicapPlay=\"x\",IF(G73=\"W\",10,-10),(IF(G73=\"W\",(VLOOKUP($D73,(TABLE!WIN),(MATCH(H73,WINCOL,0)+1))),(VLOOKUP($D73,(TABLE!LOSE),(MATCH(H73,LOSECOL,0)+1)))))))","v":""},null,{"$f":"IF(NOT(OR(I73=\"W\",I73=\"L\")),\"\",IF(HandicapPlay=\"x\",IF(I73=\"W\",10,-10),(IF(I73=\"W\",(VLOOKUP($D73,(TABLE!WIN),(MATCH(J73,WINCOL,0)+1))),(VLOOKUP($D73,(TABLE!LOSE),(MATCH(J73,LOSECOL,0)+1)))))))","v":""},null,{"$f":"SUM(E74:J74)","v":0}]
[null,null,{"$f":"SCORECARD!D737","v":" Block 9 Player 3"},{"$f":"SCORECARD!I737","v":0},{"$f":"IF(SCORECARD!$I740>0,\"W\",(IF(SCORECARD!$I740<0,\"L\",\"\")))","v":""},{"$f":"SCORECARD!F740","v":0},{"$f":"IF(SCORECARD!$I741>0,\"W\",(IF(SCORECARD!$I741<0,\"L\",\"\")))","v":""},{"$f":"SCORECARD!F741","v":0},{"$f":"IF(SCORECARD!$I742>0,\"W\",(IF(SCORECARD!$I742<0,\"L\",\"\")))","v":""},{"$f":"SCORECARD!F742","v":0}]
[null,null,null,null,{"$f":"IF(NOT(OR(E75=\"W\",E75=\"L\")),\"\",IF(HandicapPlay=\"x\",IF(E75=\"W\",10,-10),(IF(E75=\"W\",(VLOOKUP($D75,(TABLE!WIN),(MATCH(F75,WINCOL,0)+1))),(VLOOKUP($D75,(TABLE!LOSE),(MATCH(F75,LOSECOL,0)+1)))))))","v":""},null,{"$f":"IF(NOT(OR(G75=\"W\",G75=\"L\")),\"\",IF(HandicapPlay=\"x\",IF(G75=\"W\",10,-10),(IF(G75=\"W\",(VLOOKUP($D75,(TABLE!WIN),(MATCH(H75,WINCOL,0)+1))),(VLOOKUP($D75,(TABLE!LOSE),(MATCH(H75,LOSECOL,0)+1)))))))","v":""},null,{"$f":"IF(NOT(OR(I75=\"W\",I75=\"L\")),\"\",IF(HandicapPlay=\"x\",IF(I75=\"W\",10,-10),(IF(I75=\"W\",(VLOOKUP($D75,(TABLE!WIN),(MATCH(J75,WINCOL,0)+1))),(VLOOKUP($D75,(TABLE!LOSE),(MATCH(J75,LOSECOL,0)+1)))))))","v":""},null,{"$f":"SUM(E76:J76)","v":0}]
[null,null,{"$f":"SCORECARD!D756","v":" Block 9 Player 4"},{"$f":"SCORECARD!I756","v":0},{"$f":"IF(SCORECARD!$I759>0,\"W\",(IF(SCORECARD!$I759<0,\"L\",\"\")))","v":""},{"$f":"SCORECARD!F759","v":0},{"$f":"IF(SCORECARD!$I760>0,\"W\",(IF(SCORECARD!$I760<0,\"L\",\"\")))","v":""},{"$f":"SCORECARD!F760","v":0},{"$f":"IF(SCORECARD!$I761>0,\"W\",(IF(SCORECARD!$I761<0,\"L\",\"\")))","v":""},{"$f":"SCORECARD!F761","v":0}]
[null,null,null,null,{"$f":"IF(NOT(OR(E77=\"W\",E77=\"L\")),\"\",IF(HandicapPlay=\"x\",IF(E77=\"W\",10,-10),(IF(E77=\"W\",(VLOOKUP($D77,(TABLE!WIN),(MATCH(F77,WINCOL,0)+1))),(VLOOKUP($D77,(TABLE!LOSE),(MATCH(F77,LOSECOL,0)+1)))))))","v":""},null,{"$f":"IF(NOT(OR(G77=\"W\",G77=\"L\")),\"\",IF(HandicapPlay=\"x\",IF(G77=\"W\",10,-10),(IF(G77=\"W\",(VLOOKUP($D77,(TABLE!WIN),(MATCH(H77,WINCOL,0)+1))),(VLOOKUP($D77,(TABLE!LOSE),(MATCH(H77,LOSECOL,0)+1)))))))","v":""},null,{"$f":"IF(NOT(OR(I77=\"W\",I77=\"L\")),\"\",IF(HandicapPlay=\"x\",IF(I77=\"W\",10,-10),(IF(I77=\"W\",(VLOOKUP($D77,(TABLE!WIN),(MATCH(J77,WINCOL,0)+1))),(VLOOKUP($D77,(TABLE!LOSE),(MATCH(J77,LOSECOL,0)+1)))))))","v":""},null,{"$f":"SUM(E78:J78)","v":0}]

{"sheet":"PUBLISHING","index":15,"n_rows":130,"n_cols":11,"rows_kept":130,"cut":false,"hidden":true,"merged":[[2,1,2,5],[1,1,1,5],[5,1,5,5],[3,1,3,5]]}
[]
[null,{"$f":"NAMES!$C$8","v":"TOURNAMENT"}]
[null,{"$f":"NAMES!$C$10","v":"DATE"}]
[null,{"$f":"NAMES!$C$9","v":"GROUP"}]
[]
[null,{"$f":"NAMES!$C$11","v":"BLOCK 1"},null,null,null,null,null,null,"LU Name 1","Score","Peels"]
[null,{"$f":"IF(J7<0,\"\",IF(J7>J8,I7,I8))","v":""},{"$f":"IF(J7<0,\"\",IF(J7>J8,J7,J8))","v":""},"d.",{"$f":"IF(J7<0,\"\",IF(J7>J8,I8,I7))","v":""},{"$f":"IF(J7<0,\"\",IF(J7>J8,J8,J7))","v":""},{"$f":"IF(B7=\"\",\"\",IF(ISTEXT(K7),K7,IF(ISTEXT(K8),K8,\"\")))","v":""},null,{"$f":"RESULTS!C6","v":" Block 1 Player 1"},{"$f":"RESULTS!D6","v":-1E-3},{"$f":"RESULTS!E6","v":-1E-3}]
[null,null,null,null,null,null,null,null,{"$f":"RESULTS!C7","v":" Block 1 Player 4"},{"$f":"RESULTS!D7","v":-1E-3},{"$f":"RESULTS!E7","v":-1E-3}]
[null,{"$f":"IF(J9<0,\"\",IF(J9>J10,I9,I10))","v":""},{"$f":"IF(J9<0,\"\",IF(J9>J10,J9,J10))","v":""},"d.",{"$f":"IF(J9<0,\"\",IF(J9>J10,I10,I9))","v":""},{"$f":"IF(J9<0,\"\",IF(J9>J10,J10,J9))","v":""},{"$f":"IF(B9=\"\",\"\",IF(ISTEXT(K9),K9,IF(ISTEXT(K10),K10,\"\")))","v":""},null,{"$f":"RESULTS!C8","v":" Block 1 Player 2"},{"$f":"RESULTS!D8","v":-1E-3},{"$f":"RESULTS!E8","v":-1E-3}]
[null,null,null,null,null,null,null,null,{"$f":"RESULTS!C9","v":" Block 1 Player 3"},{"$f":"RESULTS!D9","v":-1E-3},{"$f":"RESULTS!E9","v":-1E-3}]
[null,{"$f":"IF(J11<0,\"\",IF(J11>J12,I11,I12))","v":""},{"$f":"IF(J11<0,\"\",IF(J11>J12,J11,J12))","v":""},"d.",{"$f":"IF(J11<0,\"\",IF(J11>J12,I12,I11))","v":""},{"$f":"IF(J11<0,\"\",IF(J11>J12,J12,J11))","v":""},{"$f":"IF(B11=\"\",\"\",IF(ISTEXT(K11),K11,IF(ISTEXT(K12),K12,\"\")))","v":""},null,{"$f":"RESULTS!C10","v":" Block 1 Player 3"},{"$f":"RESULTS!D10","v":-1E-3},{"$f":"RESULTS!E10","v":-1E-3}]
[null,null,null,null,null,null,null,null,{"$f":"RESULTS!C11","v":" Block 1 Player 1"},{"$f":"RESULTS!D11","v":-1E-3},{"$f":"RESULTS!E11","v":-1E-3}]
[null,{"$f":"IF(J13<0,\"\",IF(J13>J14,I13,I14))","v":""},{"$f":"IF(J13<0,\"\",IF(J13>J14,J13,J14))","v":""},"d.",{"$f":"IF(J13<0,\"\",IF(J13>J14,I14,I13))","v":""},{"$f":"IF(J13<0,\"\",IF(J13>J14,J14,J13))","v":""},{"$f":"IF(B13=\"\",\"\",IF(ISTEXT(K13),K13,IF(ISTEXT(K14),K14,\"\")))","v":""},null,{"$f":"RESULTS!C12","v":" Block 1 Player 4"},{"$f":"RESULTS!D12","v":-1E-3},{"$f":"RESULTS!E12","v":-1E-3}]
[null,null,null,null,null,null,null,null,{"$f":"RESULTS!C13","v":" Block 1 Player 2"},{"$f":"RESULTS!D13","v":-1E-3},{"$f":"RESULTS!E13","v":-1E-3}]
[null,{"$f":"IF(J15<0,\"\",IF(J15>J16,I15,I16))","v":""},{"$f":"IF(J15<0,\"\",IF(J15>J16,J15,J16))","v":""},"d.",{"$f":"IF(J15<0,\"\",IF(J15>J16,I16,I15))","v":""},{"$f":"IF(J15<0,\"\",IF(J15>J16,J16,J15))","v":""},{"$f":"IF(B15=\"\",\"\",IF(ISTEXT(K15),K15,IF(ISTEXT(K16),K16,\"\")))","v":""},null,{"$f":"RESULTS!C14","v":" Block 1 Player 2"},{"$f":"RESULTS!D14","v":-1E-3},{"$f":"RESULTS!E14","v":-1E-3}]
[null,null,null,null,null,null,null,null,{"$f":"RESULTS!C15","v":" Block 1 Player 1"},{"$f":"RESULTS!D15","v":-1E-3},{"$f":"RESULTS!E15","v":-1E-3}]
[null,{"$f":"IF(J17<0,\"\",IF(J17>J18,I17,I18))","v":""},{"$f":"IF(J17<0,\"\",IF(J17>J18,J17,J18))","v":""},"d.",{"$f":"IF(J17<0,\"\",IF(J17>J18,I18,I17))","v":""},{"$f":"IF(J17<0,\"\",IF(J17>J18,J18,J17))","v":""},{"$f":"IF(B17=\"\",\"\",IF(ISTEXT(K17),K17,IF(ISTEXT(K18),K18,\"\")))","v":""},null,{"$f":"RESULTS!C16","v":" Block 1 Player 3"},{"$f":"RESULTS!D16","v":-1E-3},{"$f":"RESULTS!E16","v":-1E-3}]
[null,null,null,null,null,null,null,null,{"$f":"RESULTS!C17","v":" Block 1 Player 4"},{"$f":"RESULTS!D17","v":-1E-3},{"$f":"RESULTS!E17","v":-1E-3}]
[]
[null,{"$f":"NAMES!$C$32","v":"BLOCK 2"},null,null,null,null,null,null,"LU Name 2","Score","Peels"]
[null,{"$f":"IF(J21<0,\"\",IF(J21>J22,I21,I22))","v":""},{"$f":"IF(J21<0,\"\",IF(J21>J22,J21,J22))","v":""},"d.",{"$f":"IF(J21<0,\"\",IF(J21>J22,I22,I21))","v":""},{"$f":"IF(J21<0,\"\",IF(J21>J22,J22,J21))","v":""},{"$f":"IF(B21=\"\",\"\",IF(ISTEXT(K21),K21,IF(ISTEXT(K22),K22,\"\")))","v":""},null,{"$f":"RESULTS!C22","v":" Block 2 Player 1"},{"$f":"RESULTS!D22","v":-1E-3},{"$f":"RESULTS!E22","v":-1E-3}]
[null,{"$f":"IF(J21<0,\"\",IF(J21>J22,I22,I21))","v":""},null,null,{"$f":"IF(J21<0,\"\",IF(J21>J22,I21,I22))","v":""},null,null,null,{"$f":"RESULTS!C23","v":" Block 2 Player 4"},{"$f":"RESULTS!D23","v":-1E-3},{"$f":"RESULTS!E23","v":-1E-3}]
[null,{"$f":"IF(J23<0,\"\",IF(J23>J24,I23,I24))","v":""},{"$f":"IF(J23<0,\"\",IF(J23>J24,J23,J24))","v":""},"d.",{"$f":"IF(J23<0,\"\",IF(J23>J24,I24,I23))","v":""},{"$f":"IF(J23<0,\"\",IF(J23>J24,J24,J23))","v":""},{"$f":"IF(B23=\"\",\"\",IF(ISTEXT(K23),K23,IF(ISTEXT(K24),K24,\"\")))","v":""},null,{"$f":"RESULTS!C24","v":" Block 2 Player 2"},{"$f":"RESULTS!D24","v":-1E-3},{"$f":"RESULTS!E24","v":-1E-3}]
[null,{"$f":"IF(J23<0,\"\",IF(J23>J24,I24,I23))","v":""},null,null,{"$f":"IF(J23<0,\"\",IF(J23>J24,I23,I24))","v":""},null,null,null,{"$f":"RESULTS!C25","v":" Block 2 Player 3"},{"$f":"RESULTS!D25","v":-1E-3},{"$f":"RESULTS!E25","v":-1E-3}]
[null,{"$f":"IF(J25<0,\"\",IF(J25>J26,I25,I26))","v":""},{"$f":"IF(J25<0,\"\",IF(J25>J26,J25,J26))","v":""},"d.",{"$f":"IF(J25<0,\"\",IF(J25>J26,I26,I25))","v":""},{"$f":"IF(J25<0,\"\",IF(J25>J26,J26,J25))","v":""},{"$f":"IF(B25=\"\",\"\",IF(ISTEXT(K25),K25,IF(ISTEXT(K26),K26,\"\")))","v":""},null,{"$f":"RESULTS!C26","v":" Block 2 Player 3"},{"$f":"RESULTS!D26","v":-1E-3},{"$f":"RESULTS!E26","v":-1E-3}]
[null,{"$f":"IF(J25<0,\"\",IF(J25>J26,I26,I25))","v":""},null,null,{"$f":"IF(J25<0,\"\",IF(J25>J26,I25,I26))","v":""},null,null,null,{"$f":"RESULTS!C27","v":" Block 2 Player 1"},{"$f":"RESULTS!D27","v":-1E-3},{"$f":"RESULTS!E27","v":-1E-3}]
[null,{"$f":"IF(J27<0,\"\",IF(J27>J28,I27,I28))","v":""},{"$f":"IF(J27<0,\"\",IF(J27>J28,J27,J28))","v":""},"d.",{"$f":"IF(J27<0,\"\",IF(J27>J28,I28,I27))","v":""},{"$f":"IF(J27<0,\"\",IF(J27>J28,J28,J27))","v":""},{"$f":"IF(B27=\"\",\"\",IF(ISTEXT(K27),K27,IF(ISTEXT(K28),K28,\"\")))","v":""},null,{"$f":"RESULTS!C28","v":" Block 2 Player 4"},{"$f":"RESULTS!D28","v":-1E-3},{"$f":"RESULTS!E28","v":-1E-3}]
[null,{"$f":"IF(J27<0,\"\",IF(J27>J28,I28,I27))","v":""},null,null,{"$f":"IF(J27<0,\"\",IF(J27>J28,I27,I28))","v":""},null,null,null,{"$f":"RESULTS!C29","v":" Block 2 Player 2"},{"$f":"RESULTS!D29","v":-1E-3},{"$f":"RESULTS!E29","v":-1E-3}]
[null,{"$f":"IF(J29<0,\"\",IF(J29>J30,I29,I30))","v":""},{"$f":"IF(J29<0,\"\",IF(J29>J30,J29,J30))","v":""},"d.",{"$f":"IF(J29<0,\"\",IF(J29>J30,I30,I29))","v":""},{"$f":"IF(J29<0,\"\",IF(J29>J30,J30,J29))","v":""},{"$f":"IF(B29=\"\",\"\",IF(ISTEXT(K29),K29,IF(ISTEXT(K30),K30,\"\")))","v":""},null,{"$f":"RESULTS!C30","v":" Block 2 Player 2"},{"$f":"RESULTS!D30","v":-1E-3},{"$f":"RESULTS!E30","v":-1E-3}]
[null,{"$f":"IF(J29<0,\"\",IF(J29>J30,I30,I29))","v":""},null,null,{"$f":"IF(J29<0,\"\",IF(J29>J30,I29,I30))","v":""},null,null,null,{"$f":"RESULTS!C31","v":" Block 2 Player 1"},{"$f":"RESULTS!D31","v":-1E-3},{"$f":"RESULTS!E31","v":-1E-3}]
[null,{"$f":"IF(J31<0,\"\",IF(J31>J32,I31,I32))","v":""},{"$f":"IF(J31<0,\"\",IF(J31>J32,J31,J32))","v":""},"d.",{"$f":"IF(J31<0,\"\",IF(J31>J32,I32,I31))","v":""},{"$f":"IF(J31<0,\"\",IF(J31>J32,J32,J31))","v":""},{"$f":"IF(B31=\"\",\"\",IF(ISTEXT(K31),K31,IF(ISTEXT(K32),K32,\"\")))","v":""},null,{"$f":"RESULTS!C32","v":" Block 2 Player 3"},{"$f":"RESULTS!D32","v":-1E-3},{"$f":"RESULTS!E32","v":-1E-3}]
[null,{"$f":"IF(J31<0,\"\",IF(J31>J32,I32,I31))","v":""},null,null,{"$f":"IF(J31<0,\"\",IF(J31>J32,I31,I32))","v":""},null,null,null,{"$f":"RESULTS!C33","v":" Block 2 Player 4"},{"$f":"RESULTS!D33","v":-1E-3},{"$f":"RESULTS!E33","v":-1E-3}]
[]
[null,{"$f":"NAMES!$C$53","v":"BLOCK 3"},null,null,null,null,null,null,"LU Name 3","Score","Peels"]
[null,{"$f":"IF(J35<0,\"\",IF(J35>J36,I35,I36))","v":""},{"$f":"IF(J35<0,\"\",IF(J35>J36,J35,J36))","v":""},"d.",{"$f":"IF(J35<0,\"\",IF(J35>J36,I36,I35))","v":""},{"$f":"IF(J35<0,\"\",IF(J35>J36,J36,J35))","v":""},{"$f":"IF(B35=\"\",\"\",IF(ISTEXT(K35),K35,IF(ISTEXT(K36),K36,\"\")))","v":""},null,{"$f":"RESULTS!C38","v":" Block 3 Player 1"},{"$f":"RESULTS!D38","v":-1E-3},{"$f":"RESULTS!E38","v":-1E-3}]
[null,{"$f":"IF(J35<0,\"\",IF(J35>J36,I36,I35))","v":""},null,null,{"$f":"IF(J35<0,\"\",IF(J35>J36,I35,I36))","v":""},null,null,null,{"$f":"RESULTS!C39","v":" Block 3 Player 4"},{"$f":"RESULTS!D39","v":-1E-3},{"$f":"RESULTS!E39","v":-1E-3}]
[null,{"$f":"IF(J37<0,\"\",IF(J37>J38,I37,I38))","v":""},{"$f":"IF(J37<0,\"\",IF(J37>J38,J37,J38))","v":""},"d.",{"$f":"IF(J37<0,\"\",IF(J37>J38,I38,I37))","v":""},{"$f":"IF(J37<0,\"\",IF(J37>J38,J38,J37))","v":""},{"$f":"IF(B37=\"\",\"\",IF(ISTEXT(K37),K37,IF(ISTEXT(K38),K38,\"\")))","v":""},null,{"$f":"RESULTS!C40","v":" Block 3 Player 2"},{"$f":"RESULTS!D40","v":-1E-3},{"$f":"RESULTS!E40","v":-1E-3}]
[null,{"$f":"IF(J37<0,\"\",IF(J37>J38,I38,I37))","v":""},null,null,{"$f":"IF(J37<0,\"\",IF(J37>J38,I37,I38))","v":""},null,null,null,{"$f":"RESULTS!C41","v":" Block 3 Player 3"},{"$f":"RESULTS!D41","v":-1E-3},{"$f":"RESULTS!E41","v":-1E-3}]
[null,{"$f":"IF(J39<0,\"\",IF(J39>J40,I39,I40))","v":""},{"$f":"IF(J39<0,\"\",IF(J39>J40,J39,J40))","v":""},"d.",{"$f":"IF(J39<0,\"\",IF(J39>J40,I40,I39))","v":""},{"$f":"IF(J39<0,\"\",IF(J39>J40,J40,J39))","v":""},{"$f":"IF(B39=\"\",\"\",IF(ISTEXT(K39),K39,IF(ISTEXT(K40),K40,\"\")))","v":""},null,{"$f":"RESULTS!C42","v":" Block 3 Player 3"},{"$f":"RESULTS!D42","v":-1E-3},{"$f":"RESULTS!E42","v":-1E-3}]
[null,{"$f":"IF(J39<0,\"\",IF(J39>J40,I40,I39))","v":""},null,null,{"$f":"IF(J39<0,\"\",IF(J39>J40,I39,I40))","v":""},null,null,null,{"$f":"RESULTS!C43","v":" Block 3 Player 1"},{"$f":"RESULTS!D43","v":-1E-3},{"$f":"RESULTS!E43","v":-1E-3}]
[null,{"$f":"IF(J41<0,\"\",IF(J41>J42,I41,I42))","v":""},{"$f":"IF(J41<0,\"\",IF(J41>J42,J41,J42))","v":""},"d.",{"$f":"IF(J41<0,\"\",IF(J41>J42,I42,I41))","v":""},{"$f":"IF(J41<0,\"\",IF(J41>J42,J42,J41))","v":""},{"$f":"IF(B41=\"\",\"\",IF(ISTEXT(K41),K41,IF(ISTEXT(K42),K42,\"\")))","v":""},null,{"$f":"RESULTS!C44","v":" Block 3 Player 4"},{"$f":"RESULTS!D44","v":-1E-3},{"$f":"RESULTS!E44","v":-1E-3}]
[null,{"$f":"IF(J41<0,\"\",IF(J41>J42,I42,I41))","v":""},null,null,{"$f":"IF(J41<0,\"\",IF(J41>J42,I41,I42))","v":""},null,null,null,{"$f":"RESULTS!C45","v":" Block 3 Player 2"},{"$f":"RESULTS!D45","v":-1E-3},{"$f":"RESULTS!E45","v":-1E-3}]
[null,{"$f":"IF(J43<0,\"\",IF(J43>J44,I43,I44))","v":""},{"$f":"IF(J43<0,\"\",IF(J43>J44,J43,J44))","v":""},"d.",{"$f":"IF(J43<0,\"\",IF(J43>J44,I44,I43))","v":""},{"$f":"IF(J43<0,\"\",IF(J43>J44,J44,J43))","v":""},{"$f":"IF(B43=\"\",\"\",IF(ISTEXT(K43),K43,IF(ISTEXT(K44),K44,\"\")))","v":""},null,{"$f":"RESULTS!C46","v":" Block 3 Player 2"},{"$f":"RESULTS!D46","v":-1E-3},{"$f":"RESULTS!E46","v":-1E-3}]
[null,{"$f":"IF(J43<0,\"\",IF(J43>J44,I44,I43))","v":""},null,null,{"$f":"IF(J43<0,\"\",IF(J43>J44,I43,I44))","v":""},null,null,null,{"$f":"RESULTS!C47","v":" Block 3 Player 1"},{"$f":"RESULTS!D47","v":-1E-3},{"$f":"RESULTS!E47","v":-1E-3}]
[null,{"$f":"IF(J45<0,\"\",IF(J45>J46,I45,I46))","v":""},{"$f":"IF(J45<0,\"\",IF(J45>J46,J45,J46))","v":""},"d.",{"$f":"IF(J45<0,\"\",IF(J45>J46,I46,I45))","v":""},{"$f":"IF(J45<0,\"\",IF(J45>J46,J46,J45))","v":""},{"$f":"IF(B45=\"\",\"\",IF(ISTEXT(K45),K45,IF(ISTEXT(K46),K46,\"\")))","v":""},null,{"$f":"RESULTS!C48","v":" Block 3 Player 3"},{"$f":"RESULTS!D48","v":-1E-3},{"$f":"RESULTS!E48","v":-1E-3}]
[null,{"$f":"IF(J45<0,\"\",IF(J45>J46,I46,I45))","v":""},null,null,{"$f":"IF(J45<0,\"\",IF(J45>J46,I45,I46))","v":""},null,null,null,{"$f":"RESULTS!C49","v":" Block 3 Player 4"},{"$f":"RESULTS!D49","v":-1E-3},{"$f":"RESULTS!E49","v":-1E-3}]
[]
[null,{"$f":"NAMES!$C$74","v":"BLOCK 4"},null,null,null,null,null,null,"LU Name 4","Score","Peels"]
[null,{"$f":"IF(J49<0,\"\",IF(J49>J50,I49,I50))","v":""},{"$f":"IF(J49<0,\"\",IF(J49>J50,J49,J50))","v":""},"d.",{"$f":"IF(J49<0,\"\",IF(J49>J50,I50,I49))","v":""},{"$f":"IF(J49<0,\"\",IF(J49>J50,J50,J49))","v":""},{"$f":"IF(B49=\"\",\"\",IF(ISTEXT(K49),K49,IF(ISTEXT(K50),K50,\"\")))","v":""},null,{"$f":"RESULTS!C54","v":" Block 4 Player 1"},{"$f":"RESULTS!D54","v":-1E-3},{"$f":"RESULTS!E54","v":-1E-3}]
[null,{"$f":"IF(J49<0,\"\",IF(J49>J50,I50,I49))","v":""},null,null,{"$f":"IF(J49<0,\"\",IF(J49>J50,I49,I50))","v":""},null,null,null,{"$f":"RESULTS!C55","v":" Block 4 Player 4"},{"$f":"RESULTS!D55","v":-1E-3},{"$f":"RESULTS!E55","v":-1E-3}]
[null,{"$f":"IF(J51<0,\"\",IF(J51>J52,I51,I52))","v":""},{"$f":"IF(J51<0,\"\",IF(J51>J52,J51,J52))","v":""},"d.",{"$f":"IF(J51<0,\"\",IF(J51>J52,I52,I51))","v":""},{"$f":"IF(J51<0,\"\",IF(J51>J52,J52,J51))","v":""},{"$f":"IF(B51=\"\",\"\",IF(ISTEXT(K51),K51,IF(ISTEXT(K52),K52,\"\")))","v":""},null,{"$f":"RESULTS!C56","v":" Block 4 Player 2"},{"$f":"RESULTS!D56","v":-1E-3},{"$f":"RESULTS!E56","v":-1E-3}]
[null,{"$f":"IF(J51<0,\"\",IF(J51>J52,I52,I51))","v":""},null,null,{"$f":"IF(J51<0,\"\",IF(J51>J52,I51,I52))","v":""},null,null,null,{"$f":"RESULTS!C57","v":" Block 4 Player 3"},{"$f":"RESULTS!D57","v":-1E-3},{"$f":"RESULTS!E57","v":-1E-3}]
[null,{"$f":"IF(J53<0,\"\",IF(J53>J54,I53,I54))","v":""},{"$f":"IF(J53<0,\"\",IF(J53>J54,J53,J54))","v":""},"d.",{"$f":"IF(J53<0,\"\",IF(J53>J54,I54,I53))","v":""},{"$f":"IF(J53<0,\"\",IF(J53>J54,J54,J53))","v":""},{"$f":"IF(B53=\"\",\"\",IF(ISTEXT(K53),K53,IF(ISTEXT(K54),K54,\"\")))","v":""},null,{"$f":"RESULTS!C58","v":" Block 4 Player 3"},{"$f":"RESULTS!D58","v":-1E-3},{"$f":"RESULTS!E58","v":-1E-3}]
[null,{"$f":"IF(J53<0,\"\",IF(J53>J54,I54,I53))","v":""},null,null,{"$f":"IF(J53<0,\"\",IF(J53>J54,I53,I54))","v":""},null,null,null,{"$f":"RESULTS!C59","v":" Block 4 Player 1"},{"$f":"RESULTS!D59","v":-1E-3},{"$f":"RESULTS!E59","v":-1E-3}]
[null,{"$f":"IF(J55<0,\"\",IF(J55>J56,I55,I56))","v":""},{"$f":"IF(J55<0,\"\",IF(J55>J56,J55,J56))","v":""},"d.",{"$f":"IF(J55<0,\"\",IF(J55>J56,I56,I55))","v":""},{"$f":"IF(J55<0,\"\",IF(J55>J56,J56,J55))","v":""},{"$f":"IF(B55=\"\",\"\",IF(ISTEXT(K55),K55,IF(ISTEXT(K56),K56,\"\")))","v":""},null,{"$f":"RESULTS!C60","v":" Block 4 Player 4"},{"$f":"RESULTS!D60","v":-1E-3},{"$f":"RESULTS!E60","v":-1E-3}]
[null,{"$f":"IF(J55<0,\"\",IF(J55>J56,I56,I55))","v":""},null,null,{"$f":"IF(J55<0,\"\",IF(J55>J56,I55,I56))","v":""},null,null,null,{"$f":"RESULTS!C61","v":" Block 4 Player 2"},{"$f":"RESULTS!D61","v":-1E-3},{"$f":"RESULTS!E61","v":-1E-3}]
[null,{"$f":"IF(J57<0,\"\",IF(J57>J58,I57,I58))","v":""},{"$f":"IF(J57<0,\"\",IF(J57>J58,J57,J58))","v":""},"d.",{"$f":"IF(J57<0,\"\",IF(J57>J58,I58,I57))","v":""},{"$f":"IF(J57<0,\"\",IF(J57>J58,J58,J57))","v":""},{"$f":"IF(B57=\"\",\"\",IF(ISTEXT(K57),K57,IF(ISTEXT(K58),K58,\"\")))","v":""},null,{"$f":"RESULTS!C62","v":" Block 4 Player 2"},{"$f":"RESULTS!D62","v":-1E-3},{"$f":"RESULTS!E62","v":-1E-3}]
[null,{"$f":"IF(J57<0,\"\",IF(J57>J58,I58,I57))","v":""},null,null,{"$f":"IF(J57<0,\"\",IF(J57>J58,I57,I58))","v":""},null,null,null,{"$f":"RESULTS!C63","v":" Block 4 Player 1"},{"$f":"RESULTS!D63","v":-1E-3},{"$f":"RESULTS!E63","v":-1E-3}]
[null,{"$f":"IF(J59<0,\"\",IF(J59>J60,I59,I60))","v":""},{"$f":"IF(J59<0,\"\",IF(J59>J60,J59,J60))","v":""},"d.",{"$f":"IF(J59<0,\"\",IF(J59>J60,I60,I59))","v":""},{"$f":"IF(J59<0,\"\",IF(J59>J60,J60,J59))","v":""},{"$f":"IF(B59=\"\",\"\",IF(ISTEXT(K59),K59,IF(ISTEXT(K60),K60,\"\")))","v":""},null,{"$f":"RESULTS!C64","v":" Block 4 Player 3"},{"$f":"RESULTS!D64","v":-1E-3},{"$f":"RESULTS!E64","v":-1E-3}]
[null,{"$f":"IF(J59<0,\"\",IF(J59>J60,I60,I59))","v":""},null,null,{"$f":"IF(J59<0,\"\",IF(J59>J60,I59,I60))","v":""},null,null,null,{"$f":"RESULTS!C65","v":" Block 4 Player 4"},{"$f":"RESULTS!D65","v":-1E-3},{"$f":"RESULTS!E65","v":-1E-3}]
[]
[null,{"$f":"NAMES!$C$95","v":"BLOCK 5"},null,null,null,null,null,null,"LU Name 5","Score","Peels"]
[null,{"$f":"IF(J63<0,\"\",IF(J63>J64,I63,I64))","v":""},{"$f":"IF(J63<0,\"\",IF(J63>J64,J63,J64))","v":""},"d.",{"$f":"IF(J63<0,\"\",IF(J63>J64,I64,I63))","v":""},{"$f":"IF(J63<0,\"\",IF(J63>J64,J64,J63))","v":""},{"$f":"IF(B63=\"\",\"\",IF(ISTEXT(K63),K63,IF(ISTEXT(K64),K64,\"\")))","v":""},null,{"$f":"RESULTS!C70","v":" Block 5 Player 1"},{"$f":"RESULTS!D70","v":-1E-3},{"$f":"RESULTS!E70","v":-1E-3}]
[null,{"$f":"IF(J63<0,\"\",IF(J63>J64,I64,I63))","v":""},null,null,{"$f":"IF(J63<0,\"\",IF(J63>J64,I63,I64))","v":""},null,null,null,{"$f":"RESULTS!C71","v":" Block 5 Player 4"},{"$f":"RESULTS!D71","v":-1E-3},{"$f":"RESULTS!E71","v":-1E-3}]
[null,{"$f":"IF(J65<0,\"\",IF(J65>J66,I65,I66))","v":""},{"$f":"IF(J65<0,\"\",IF(J65>J66,J65,J66))","v":""},"d.",{"$f":"IF(J65<0,\"\",IF(J65>J66,I66,I65))","v":""},{"$f":"IF(J65<0,\"\",IF(J65>J66,J66,J65))","v":""},{"$f":"IF(B65=\"\",\"\",IF(ISTEXT(K65),K65,IF(ISTEXT(K66),K66,\"\")))","v":""},null,{"$f":"RESULTS!C72","v":" Block 5 Player 2"},{"$f":"RESULTS!D72","v":-1E-3},{"$f":"RESULTS!E72","v":-1E-3}]
[null,{"$f":"IF(J65<0,\"\",IF(J65>J66,I66,I65))","v":""},null,null,{"$f":"IF(J65<0,\"\",IF(J65>J66,I65,I66))","v":""},null,null,null,{"$f":"RESULTS!C73","v":" Block 5 Player 3"},{"$f":"RESULTS!D73","v":-1E-3},{"$f":"RESULTS!E73","v":-1E-3}]
[null,{"$f":"IF(J67<0,\"\",IF(J67>J68,I67,I68))","v":""},{"$f":"IF(J67<0,\"\",IF(J67>J68,J67,J68))","v":""},"d.",{"$f":"IF(J67<0,\"\",IF(J67>J68,I68,I67))","v":""},{"$f":"IF(J67<0,\"\",IF(J67>J68,J68,J67))","v":""},{"$f":"IF(B67=\"\",\"\",IF(ISTEXT(K67),K67,IF(ISTEXT(K68),K68,\"\")))","v":""},null,{"$f":"RESULTS!C74","v":" Block 5 Player 3"},{"$f":"RESULTS!D74","v":-1E-3},{"$f":"RESULTS!E74","v":-1E-3}]
[null,{"$f":"IF(J67<0,\"\",IF(J67>J68,I68,I67))","v":""},null,null,{"$f":"IF(J67<0,\"\",IF(J67>J68,I67,I68))","v":""},null,null,null,{"$f":"RESULTS!C75","v":" Block 5 Player 1"},{"$f":"RESULTS!D75","v":-1E-3},{"$f":"RESULTS!E75","v":-1E-3}]
[null,{"$f":"IF(J69<0,\"\",IF(J69>J70,I69,I70))","v":""},{"$f":"IF(J69<0,\"\",IF(J69>J70,J69,J70))","v":""},"d.",{"$f":"IF(J69<0,\"\",IF(J69>J70,I70,I69))","v":""},{"$f":"IF(J69<0,\"\",IF(J69>J70,J70,J69))","v":""},{"$f":"IF(B69=\"\",\"\",IF(ISTEXT(K69),K69,IF(ISTEXT(K70),K70,\"\")))","v":""},null,{"$f":"RESULTS!C76","v":" Block 5 Player 4"},{"$f":"RESULTS!D76","v":-1E-3},{"$f":"RESULTS!E76","v":-1E-3}]
[null,{"$f":"IF(J69<0,\"\",IF(J69>J70,I70,I69))","v":""},null,null,{"$f":"IF(J69<0,\"\",IF(J69>J70,I69,I70))","v":""},null,null,null,{"$f":"RESULTS!C77","v":" Block 5 Player 2"},{"$f":"RESULTS!D77","v":-1E-3},{"$f":"RESULTS!E77","v":-1E-3}]
[null,{"$f":"IF(J71<0,\"\",IF(J71>J72,I71,I72))","v":""},{"$f":"IF(J71<0,\"\",IF(J71>J72,J71,J72))","v":""},"d.",{"$f":"IF(J71<0,\"\",IF(J71>J72,I72,I71))","v":""},{"$f":"IF(J71<0,\"\",IF(J71>J72,J72,J71))","v":""},{"$f":"IF(B71=\"\",\"\",IF(ISTEXT(K71),K71,IF(ISTEXT(K72),K72,\"\")))","v":""},null,{"$f":"RESULTS!C78","v":" Block 5 Player 2"},{"$f":"RESULTS!D78","v":-1E-3},{"$f":"RESULTS!E78","v":-1E-3}]
[null,{"$f":"IF(J71<0,\"\",IF(J71>J72,I72,I71))","v":""},null,null,{"$f":"IF(J71<0,\"\",IF(J71>J72,I71,I72))","v":""},null,null,null,{"$f":"RESULTS!C79","v":" Block 5 Player 1"},{"$f":"RESULTS!D79","v":-1E-3},{"$f":"RESULTS!E79","v":-1E-3}]
[null,{"$f":"IF(J73<0,\"\",IF(J73>J74,I73,I74))","v":""},{"$f":"IF(J73<0,\"\",IF(J73>J74,J73,J74))","v":""},"d.",{"$f":"IF(J73<0,\"\",IF(J73>J74,I74,I73))","v":""},{"$f":"IF(J73<0,\"\",IF(J73>J74,J74,J73))","v":""},{"$f":"IF(B73=\"\",\"\",IF(ISTEXT(K73),K73,IF(ISTEXT(K74),K74,\"\")))","v":""},null,{"$f":"RESULTS!C80","v":" Block 5 Player 3"},{"$f":"RESULTS!D80","v":-1E-3},{"$f":"RESULTS!E80","v":-1E-3}]
[null,{"$f":"IF(J73<0,\"\",IF(J73>J74,I74,I73))","v":""},null,null,{"$f":"IF(J73<0,\"\",IF(J73>J74,I73,I74))","v":""},null,null,null,{"$f":"RESULTS!C81","v":" Block 5 Player 4"},{"$f":"RESULTS!D81","v":-1E-3},{"$f":"RESULTS!E81","v":-1E-3}]
[]
[null,{"$f":"NAMES!$C$116","v":"BLOCK 6"},null,null,null,null,null,null,"LU Name 6","Score","Peels"]
[null,{"$f":"IF(J77<0,\"\",IF(J77>J78,I77,I78))","v":""},{"$f":"IF(J77<0,\"\",IF(J77>J78,J77,J78))","v":""},"d.",{"$f":"IF(J77<0,\"\",IF(J77>J78,I78,I77))","v":""},{"$f":"IF(J77<0,\"\",IF(J77>J78,J78,J77))","v":""},{"$f":"IF(B77=\"\",\"\",IF(ISTEXT(K77),K77,IF(ISTEXT(K78),K78,\"\")))","v":""},null,{"$f":"RESULTS!C86","v":" Block 6 Player 1"},{"$f":"RESULTS!D86","v":-1E-3},{"$f":"RESULTS!E86","v":-1E-3}]
[null,{"$f":"IF(J77<0,\"\",IF(J77>J78,I78,I77))","v":""},null,null,{"$f":"IF(J77<0,\"\",IF(J77>J78,I77,I78))","v":""},null,null,null,{"$f":"RESULTS!C87","v":" Block 6 Player 4"},{"$f":"RESULTS!D87","v":-1E-3},{"$f":"RESULTS!E87","v":-1E-3}]
[null,{"$f":"IF(J79<0,\"\",IF(J79>J80,I79,I80))","v":""},{"$f":"IF(J79<0,\"\",IF(J79>J80,J79,J80))","v":""},"d.",{"$f":"IF(J79<0,\"\",IF(J79>J80,I80,I79))","v":""},{"$f":"IF(J79<0,\"\",IF(J79>J80,J80,J79))","v":""},{"$f":"IF(B79=\"\",\"\",IF(ISTEXT(K79),K79,IF(ISTEXT(K80),K80,\"\")))","v":""},null,{"$f":"RESULTS!C88","v":" Block 6 Player 2"},{"$f":"RESULTS!D88","v":-1E-3},{"$f":"RESULTS!E88","v":-1E-3}]
[null,{"$f":"IF(J79<0,\"\",IF(J79>J80,I80,I79))","v":""},null,null,{"$f":"IF(J79<0,\"\",IF(J79>J80,I79,I80))","v":""},null,null,null,{"$f":"RESULTS!C89","v":" Block 6 Player 3"},{"$f":"RESULTS!D89","v":-1E-3},{"$f":"RESULTS!E89","v":-1E-3}]
[null,{"$f":"IF(J81<0,\"\",IF(J81>J82,I81,I82))","v":""},{"$f":"IF(J81<0,\"\",IF(J81>J82,J81,J82))","v":""},"d.",{"$f":"IF(J81<0,\"\",IF(J81>J82,I82,I81))","v":""},{"$f":"IF(J81<0,\"\",IF(J81>J82,J82,J81))","v":""},{"$f":"IF(B81=\"\",\"\",IF(ISTEXT(K81),K81,IF(ISTEXT(K82),K82,\"\")))","v":""},null,{"$f":"RESULTS!C90","v":" Block 6 Player 3"},{"$f":"RESULTS!D90","v":-1E-3},{"$f":"RESULTS!E90","v":-1E-3}]
[null,{"$f":"IF(J81<0,\"\",IF(J81>J82,I82,I81))","v":""},null,null,{"$f":"IF(J81<0,\"\",IF(J81>J82,I81,I82))","v":""},null,null,null,{"$f":"RESULTS!C91","v":" Block 6 Player 1"},{"$f":"RESULTS!D91","v":-1E-3},{"$f":"RESULTS!E91","v":-1E-3}]
[null,{"$f":"IF(J83<0,\"\",IF(J83>J84,I83,I84))","v":""},{"$f":"IF(J83<0,\"\",IF(J83>J84,J83,J84))","v":""},"d.",{"$f":"IF(J83<0,\"\",IF(J83>J84,I84,I83))","v":""},{"$f":"IF(J83<0,\"\",IF(J83>J84,J84,J83))","v":""},{"$f":"IF(B83=\"\",\"\",IF(ISTEXT(K83),K83,IF(ISTEXT(K84),K84,\"\")))","v":""},null,{"$f":"RESULTS!C92","v":" Block 6 Player 4"},{"$f":"RESULTS!D92","v":-1E-3},{"$f":"RESULTS!E92","v":-1E-3}]
[null,{"$f":"IF(J83<0,\"\",IF(J83>J84,I84,I83))","v":""},null,null,{"$f":"IF(J83<0,\"\",IF(J83>J84,I83,I84))","v":""},null,null,null,{"$f":"RESULTS!C93","v":" Block 6 Player 2"},{"$f":"RESULTS!D93","v":-1E-3},{"$f":"RESULTS!E93","v":-1E-3}]
[null,{"$f":"IF(J85<0,\"\",IF(J85>J86,I85,I86))","v":""},{"$f":"IF(J85<0,\"\",IF(J85>J86,J85,J86))","v":""},"d.",{"$f":"IF(J85<0,\"\",IF(J85>J86,I86,I85))","v":""},{"$f":"IF(J85<0,\"\",IF(J85>J86,J86,J85))","v":""},{"$f":"IF(B85=\"\",\"\",IF(ISTEXT(K85),K85,IF(ISTEXT(K86),K86,\"\")))","v":""},null,{"$f":"RESULTS!C94","v":" Block 6 Player 2"},{"$f":"RESULTS!D94","v":-1E-3},{"$f":"RESULTS!E94","v":-1E-3}]
[null,{"$f":"IF(J85<0,\"\",IF(J85>J86,I86,I85))","v":""},null,null,{"$f":"IF(J85<0,\"\",IF(J85>J86,I85,I86))","v":""},null,null,null,{"$f":"RESULTS!C95","v":" Block 6 Player 1"},{"$f":"RESULTS!D95","v":-1E-3},{"$f":"RESULTS!E95","v":-1E-3}]
[null,{"$f":"IF(J87<0,\"\",IF(J87>J88,I87,I88))","v":""},{"$f":"IF(J87<0,\"\",IF(J87>J88,J87,J88))","v":""},"d.",{"$f":"IF(J87<0,\"\",IF(J87>J88,I88,I87))","v":""},{"$f":"IF(J87<0,\"\",IF(J87>J88,J88,J87))","v":""},{"$f":"IF(B87=\"\",\"\",IF(ISTEXT(K87),K87,IF(ISTEXT(K88),K88,\"\")))","v":""},null,{"$f":"RESULTS!C96","v":" Block 6 Player 3"},{"$f":"RESULTS!D96","v":-1E-3},{"$f":"RESULTS!E96","v":-1E-3}]
[null,{"$f":"IF(J87<0,\"\",IF(J87>J88,I88,I87))","v":""},null,null,{"$f":"IF(J87<0,\"\",IF(J87>J88,I87,I88))","v":""},null,null,null,{"$f":"RESULTS!C97","v":" Block 6 Player 4"},{"$f":"RESULTS!D97","v":-1E-3},{"$f":"RESULTS!E97","v":-1E-3}]
[]
[null,{"$f":"NAMES!$C$137","v":"BLOCK 7"},null,null,null,null,null,null,"LU Name 7","Score","Peels"]
[null,{"$f":"IF(J91<0,\"\",IF(J91>J92,I91,I92))","v":""},{"$f":"IF(J91<0,\"\",IF(J91>J92,J91,J92))","v":""},"d.",{"$f":"IF(J91<0,\"\",IF(J91>J92,I92,I91))","v":""},{"$f":"IF(J91<0,\"\",IF(J91>J92,J92,J91))","v":""},{"$f":"IF(B91=\"\",\"\",IF(ISTEXT(K91),K91,IF(ISTEXT(K92),K92,\"\")))","v":""},null,{"$f":"RESULTS!C102","v":" Block 7 Player 1"},{"$f":"RESULTS!D102","v":-1E-3},{"$f":"RESULTS!E102","v":-1E-3}]
[null,{"$f":"IF(J91<0,\"\",IF(J91>J92,I92,I91))","v":""},null,null,{"$f":"IF(J91<0,\"\",IF(J91>J92,I91,I92))","v":""},null,null,null,{"$f":"RESULTS!C103","v":" Block 7 Player 4"},{"$f":"RESULTS!D103","v":-1E-3},{"$f":"RESULTS!E103","v":-1E-3}]
[null,{"$f":"IF(J93<0,\"\",IF(J93>J94,I93,I94))","v":""},{"$f":"IF(J93<0,\"\",IF(J93>J94,J93,J94))","v":""},"d.",{"$f":"IF(J93<0,\"\",IF(J93>J94,I94,I93))","v":""},{"$f":"IF(J93<0,\"\",IF(J93>J94,J94,J93))","v":""},{"$f":"IF(B93=\"\",\"\",IF(ISTEXT(K93),K93,IF(ISTEXT(K94),K94,\"\")))","v":""},null,{"$f":"RESULTS!C104","v":" Block 7 Player 2"},{"$f":"RESULTS!D104","v":-1E-3},{"$f":"RESULTS!E104","v":-1E-3}]
[null,{"$f":"IF(J93<0,\"\",IF(J93>J94,I94,I93))","v":""},null,null,{"$f":"IF(J93<0,\"\",IF(J93>J94,I93,I94))","v":""},null,null,null,{"$f":"RESULTS!C105","v":" Block 7 Player 3"},{"$f":"RESULTS!D105","v":-1E-3},{"$f":"RESULTS!E105","v":-1E-3}]
[null,{"$f":"IF(J95<0,\"\",IF(J95>J96,I95,I96))","v":""},{"$f":"IF(J95<0,\"\",IF(J95>J96,J95,J96))","v":""},"d.",{"$f":"IF(J95<0,\"\",IF(J95>J96,I96,I95))","v":""},{"$f":"IF(J95<0,\"\",IF(J95>J96,J96,J95))","v":""},{"$f":"IF(B95=\"\",\"\",IF(ISTEXT(K95),K95,IF(ISTEXT(K96),K96,\"\")))","v":""},null,{"$f":"RESULTS!C106","v":" Block 7 Player 3"},{"$f":"RESULTS!D106","v":-1E-3},{"$f":"RESULTS!E106","v":-1E-3}]
[null,{"$f":"IF(J95<0,\"\",IF(J95>J96,I96,I95))","v":""},null,null,{"$f":"IF(J95<0,\"\",IF(J95>J96,I95,I96))","v":""},null,null,null,{"$f":"RESULTS!C107","v":" Block 7 Player 1"},{"$f":"RESULTS!D107","v":-1E-3},{"$f":"RESULTS!E107","v":-1E-3}]
[null,{"$f":"IF(J97<0,\"\",IF(J97>J98,I97,I98))","v":""},{"$f":"IF(J97<0,\"\",IF(J97>J98,J97,J98))","v":""},"d.",{"$f":"IF(J97<0,\"\",IF(J97>J98,I98,I97))","v":""},{"$f":"IF(J97<0,\"\",IF(J97>J98,J98,J97))","v":""},{"$f":"IF(B97=\"\",\"\",IF(ISTEXT(K97),K97,IF(ISTEXT(K98),K98,\"\")))","v":""},null,{"$f":"RESULTS!C108","v":" Block 7 Player 4"},{"$f":"RESULTS!D108","v":-1E-3},{"$f":"RESULTS!E108","v":-1E-3}]
[null,{"$f":"IF(J97<0,\"\",IF(J97>J98,I98,I97))","v":""},null,null,{"$f":"IF(J97<0,\"\",IF(J97>J98,I97,I98))","v":""},null,null,null,{"$f":"RESULTS!C109","v":" Block 7 Player 2"},{"$f":"RESULTS!D109","v":-1E-3},{"$f":"RESULTS!E109","v":-1E-3}]
[null,{"$f":"IF(J99<0,\"\",IF(J99>J100,I99,I100))","v":""},{"$f":"IF(J99<0,\"\",IF(J99>J100,J99,J100))","v":""},"d.",{"$f":"IF(J99<0,\"\",IF(J99>J100,I100,I99))","v":""},{"$f":"IF(J99<0,\"\",IF(J99>J100,J100,J99))","v":""},{"$f":"IF(B99=\"\",\"\",IF(ISTEXT(K99),K99,IF(ISTEXT(K100),K100,\"\")))","v":""},null,{"$f":"RESULTS!C110","v":" Block 7 Player 2"},{"$f":"RESULTS!D110","v":-1E-3},{"$f":"RESULTS!E110","v":-1E-3}]
[null,{"$f":"IF(J99<0,\"\",IF(J99>J100,I100,I99))","v":""},null,null,{"$f":"IF(J99<0,\"\",IF(J99>J100,I99,I100))","v":""},null,null,null,{"$f":"RESULTS!C111","v":" Block 7 Player 1"},{"$f":"RESULTS!D111","v":-1E-3},{"$f":"RESULTS!E111","v":-1E-3}]
[null,{"$f":"IF(J101<0,\"\",IF(J101>J102,I101,I102))","v":""},{"$f":"IF(J101<0,\"\",IF(J101>J102,J101,J102))","v":""},"d.",{"$f":"IF(J101<0,\"\",IF(J101>J102,I102,I101))","v":""},{"$f":"IF(J101<0,\"\",IF(J101>J102,J102,J101))","v":""},{"$f":"IF(B101=\"\",\"\",IF(ISTEXT(K101),K101,IF(ISTEXT(K102),K102,\"\")))","v":""},null,{"$f":"RESULTS!C112","v":" Block 7 Player 3"},{"$f":"RESULTS!D112","v":-1E-3},{"$f":"RESULTS!E112","v":-1E-3}]
[null,{"$f":"IF(J101<0,\"\",IF(J101>J102,I102,I101))","v":""},null,null,{"$f":"IF(J101<0,\"\",IF(J101>J102,I101,I102))","v":""},null,null,null,{"$f":"RESULTS!C113","v":" Block 7 Player 4"},{"$f":"RESULTS!D113","v":-1E-3},{"$f":"RESULTS!E113","v":-1E-3}]
[]
[null,{"$f":"NAMES!$C$158","v":"BLOCK 8"},null,null,null,null,null,null,"LU Name 8","Score","Peels"]
[null,{"$f":"IF(J105<0,\"\",IF(J105>J106,I105,I106))","v":""},{"$f":"IF(J105<0,\"\",IF(J105>J106,J105,J106))","v":""},"d.",{"$f":"IF(J105<0,\"\",IF(J105>J106,I106,I105))","v":""},{"$f":"IF(J105<0,\"\",IF(J105>J106,J106,J105))","v":""},{"$f":"IF(B105=\"\",\"\",IF(ISTEXT(K105),K105,IF(ISTEXT(K106),K106,\"\")))","v":""},null,{"$f":"RESULTS!C118","v":" Block 8 Player 1"},{"$f":"RESULTS!D118","v":-1E-3},{"$f":"RESULTS!E118","v":-1E-3}]
[null,{"$f":"IF(J105<0,\"\",IF(J105>J106,I106,I105))","v":""},null,null,{"$f":"IF(J105<0,\"\",IF(J105>J106,I105,I106))","v":""},null,null,null,{"$f":"RESULTS!C119","v":" Block 8 Player 4"},{"$f":"RESULTS!D119","v":-1E-3},{"$f":"RESULTS!E119","v":-1E-3}]
[null,{"$f":"IF(J107<0,\"\",IF(J107>J108,I107,I108))","v":""},{"$f":"IF(J107<0,\"\",IF(J107>J108,J107,J108))","v":""},"d.",{"$f":"IF(J107<0,\"\",IF(J107>J108,I108,I107))","v":""},{"$f":"IF(J107<0,\"\",IF(J107>J108,J108,J107))","v":""},{"$f":"IF(B107=\"\",\"\",IF(ISTEXT(K107),K107,IF(ISTEXT(K108),K108,\"\")))","v":""},null,{"$f":"RESULTS!C120","v":" Block 8 Player 2"},{"$f":"RESULTS!D120","v":-1E-3},{"$f":"RESULTS!E120","v":-1E-3}]
[null,{"$f":"IF(J107<0,\"\",IF(J107>J108,I108,I107))","v":""},null,null,{"$f":"IF(J107<0,\"\",IF(J107>J108,I107,I108))","v":""},null,null,null,{"$f":"RESULTS!C121","v":" Block 8 Player 3"},{"$f":"RESULTS!D121","v":-1E-3},{"$f":"RESULTS!E121","v":-1E-3}]
[null,{"$f":"IF(J109<0,\"\",IF(J109>J110,I109,I110))","v":""},{"$f":"IF(J109<0,\"\",IF(J109>J110,J109,J110))","v":""},"d.",{"$f":"IF(J109<0,\"\",IF(J109>J110,I110,I109))","v":""},{"$f":"IF(J109<0,\"\",IF(J109>J110,J110,J109))","v":""},{"$f":"IF(B109=\"\",\"\",IF(ISTEXT(K109),K109,IF(ISTEXT(K110),K110,\"\")))","v":""},null,{"$f":"RESULTS!C122","v":" Block 8 Player 3"},{"$f":"RESULTS!D122","v":-1E-3},{"$f":"RESULTS!E122","v":-1E-3}]
[null,{"$f":"IF(J109<0,\"\",IF(J109>J110,I110,I109))","v":""},null,null,{"$f":"IF(J109<0,\"\",IF(J109>J110,I109,I110))","v":""},null,null,null,{"$f":"RESULTS!C123","v":" Block 8 Player 1"},{"$f":"RESULTS!D123","v":-1E-3},{"$f":"RESULTS!E123","v":-1E-3}]
[null,{"$f":"IF(J111<0,\"\",IF(J111>J112,I111,I112))","v":""},{"$f":"IF(J111<0,\"\",IF(J111>J112,J111,J112))","v":""},"d.",{"$f":"IF(J111<0,\"\",IF(J111>J112,I112,I111))","v":""},{"$f":"IF(J111<0,\"\",IF(J111>J112,J112,J111))","v":""},{"$f":"IF(B111=\"\",\"\",IF(ISTEXT(K111),K111,IF(ISTEXT(K112),K112,\"\")))","v":""},null,{"$f":"RESULTS!C124","v":" Block 8 Player 4"},{"$f":"RESULTS!D124","v":-1E-3},{"$f":"RESULTS!E124","v":-1E-3}]
[null,{"$f":"IF(J111<0,\"\",IF(J111>J112,I112,I111))","v":""},null,null,{"$f":"IF(J111<0,\"\",IF(J111>J112,I111,I112))","v":""},null,null,null,{"$f":"RESULTS!C125","v":" Block 8 Player 2"},{"$f":"RESULTS!D125","v":-1E-3},{"$f":"RESULTS!E125","v":-1E-3}]
[null,{"$f":"IF(J113<0,\"\",IF(J113>J114,I113,I114))","v":""},{"$f":"IF(J113<0,\"\",IF(J113>J114,J113,J114))","v":""},"d.",{"$f":"IF(J113<0,\"\",IF(J113>J114,I114,I113))","v":""},{"$f":"IF(J113<0,\"\",IF(J113>J114,J114,J113))","v":""},{"$f":"IF(B113=\"\",\"\",IF(ISTEXT(K113),K113,IF(ISTEXT(K114),K114,\"\")))","v":""},null,{"$f":"RESULTS!C126","v":" Block 8 Player 2"},{"$f":"RESULTS!D126","v":-1E-3},{"$f":"RESULTS!E126","v":-1E-3}]
[null,{"$f":"IF(J113<0,\"\",IF(J113>J114,I114,I113))","v":""},null,null,{"$f":"IF(J113<0,\"\",IF(J113>J114,I113,I114))","v":""},null,null,null,{"$f":"RESULTS!C127","v":" Block 8 Player 1"},{"$f":"RESULTS!D127","v":-1E-3},{"$f":"RESULTS!E127","v":-1E-3}]
[null,{"$f":"IF(J115<0,\"\",IF(J115>J116,I115,I116))","v":""},{"$f":"IF(J115<0,\"\",IF(J115>J116,J115,J116))","v":""},"d.",{"$f":"IF(J115<0,\"\",IF(J115>J116,I116,I115))","v":""},{"$f":"IF(J115<0,\"\",IF(J115>J116,J116,J115))","v":""},{"$f":"IF(B115=\"\",\"\",IF(ISTEXT(K115),K115,IF(ISTEXT(K116),K116,\"\")))","v":""},null,{"$f":"RESULTS!C128","v":" Block 8 Player 3"},{"$f":"RESULTS!D128","v":-1E-3},{"$f":"RESULTS!E128","v":-1E-3}]
[null,{"$f":"IF(J115<0,\"\",IF(J115>J116,I116,I115))","v":""},null,null,{"$f":"IF(J115<0,\"\",IF(J115>J116,I115,I116))","v":""},null,null,null,{"$f":"RESULTS!C129","v":" Block 8 Player 4"},{"$f":"RESULTS!D129","v":-1E-3},{"$f":"RESULTS!E129","v":-1E-3}]
[]
[null,{"$f":"NAMES!$C$179","v":"BLOCK 9"},null,null,null,null,null,null,"LU Name 9","Score","Peels"]
[null,{"$f":"IF(J119<0,\"\",IF(J119>J120,I119,I120))","v":""},{"$f":"IF(J119<0,\"\",IF(J119>J120,J119,J120))","v":""},"d.",{"$f":"IF(J119<0,\"\",IF(J119>J120,I120,I119))","v":""},{"$f":"IF(J119<0,\"\",IF(J119>J120,J120,J119))","v":""},{"$f":"IF(B119=\"\",\"\",IF(ISTEXT(K119),K119,IF(ISTEXT(K120),K120,\"\")))","v":""},null,{"$f":"RESULTS!C134","v":" Block 9 Player 1"},{"$f":"RESULTS!D134","v":-1E-3},{"$f":"RESULTS!E134","v":-1E-3}]
[null,{"$f":"IF(J119<0,\"\",IF(J119>J120,I120,I119))","v":""},null,null,{"$f":"IF(J119<0,\"\",IF(J119>J120,I119,I120))","v":""},null,null,null,{"$f":"RESULTS!C135","v":" Block 9 Player 4"},{"$f":"RESULTS!D135","v":-1E-3},{"$f":"RESULTS!E135","v":-1E-3}]
[null,{"$f":"IF(J121<0,\"\",IF(J121>J122,I121,I122))","v":""},{"$f":"IF(J121<0,\"\",IF(J121>J122,J121,J122))","v":""},"d.",{"$f":"IF(J121<0,\"\",IF(J121>J122,I122,I121))","v":""},{"$f":"IF(J121<0,\"\",IF(J121>J122,J122,J121))","v":""},{"$f":"IF(B121=\"\",\"\",IF(ISTEXT(K121),K121,IF(ISTEXT(K122),K122,\"\")))","v":""},null,{"$f":"RESULTS!C136","v":" Block 9 Player 2"},{"$f":"RESULTS!D136","v":-1E-3},{"$f":"RESULTS!E136","v":-1E-3}]
[null,{"$f":"IF(J121<0,\"\",IF(J121>J122,I122,I121))","v":""},null,null,{"$f":"IF(J121<0,\"\",IF(J121>J122,I121,I122))","v":""},null,null,null,{"$f":"RESULTS!C137","v":" Block 9 Player 3"},{"$f":"RESULTS!D137","v":-1E-3},{"$f":"RESULTS!E137","v":-1E-3}]
[null,{"$f":"IF(J123<0,\"\",IF(J123>J124,I123,I124))","v":""},{"$f":"IF(J123<0,\"\",IF(J123>J124,J123,J124))","v":""},"d.",{"$f":"IF(J123<0,\"\",IF(J123>J124,I124,I123))","v":""},{"$f":"IF(J123<0,\"\",IF(J123>J124,J124,J123))","v":""},{"$f":"IF(B123=\"\",\"\",IF(ISTEXT(K123),K123,IF(ISTEXT(K124),K124,\"\")))","v":""},null,{"$f":"RESULTS!C138","v":" Block 9 Player 3"},{"$f":"RESULTS!D138","v":-1E-3},{"$f":"RESULTS!E138","v":-1E-3}]
[null,{"$f":"IF(J123<0,\"\",IF(J123>J124,I124,I123))","v":""},null,null,{"$f":"IF(J123<0,\"\",IF(J123>J124,I123,I124))","v":""},null,null,null,{"$f":"RESULTS!C139","v":" Block 9 Player 1"},{"$f":"RESULTS!D139","v":-1E-3},{"$f":"RESULTS!E139","v":-1E-3}]
[null,{"$f":"IF(J125<0,\"\",IF(J125>J126,I125,I126))","v":""},{"$f":"IF(J125<0,\"\",IF(J125>J126,J125,J126))","v":""},"d.",{"$f":"IF(J125<0,\"\",IF(J125>J126,I126,I125))","v":""},{"$f":"IF(J125<0,\"\",IF(J125>J126,J126,J125))","v":""},{"$f":"IF(B125=\"\",\"\",IF(ISTEXT(K125),K125,IF(ISTEXT(K126),K126,\"\")))","v":""},null,{"$f":"RESULTS!C140","v":" Block 9 Player 4"},{"$f":"RESULTS!D140","v":-1E-3},{"$f":"RESULTS!E140","v":-1E-3}]
[null,{"$f":"IF(J125<0,\"\",IF(J125>J126,I126,I125))","v":""},null,null,{"$f":"IF(J125<0,\"\",IF(J125>J126,I125,I126))","v":""},null,null,null,{"$f":"RESULTS!C141","v":" Block 9 Player 2"},{"$f":"RESULTS!D141","v":-1E-3},{"$f":"RESULTS!E141","v":-1E-3}]
[null,{"$f":"IF(J127<0,\"\",IF(J127>J128,I127,I128))","v":""},{"$f":"IF(J127<0,\"\",IF(J127>J128,J127,J128))","v":""},"d.",{"$f":"IF(J127<0,\"\",IF(J127>J128,I128,I127))","v":""},{"$f":"IF(J127<0,\"\",IF(J127>J128,J128,J127))","v":""},{"$f":"IF(B127=\"\",\"\",IF(ISTEXT(K127),K127,IF(ISTEXT(K128),K128,\"\")))","v":""},null,{"$f":"RESULTS!C142","v":" Block 9 Player 2"},{"$f":"RESULTS!D142","v":-1E-3},{"$f":"RESULTS!E142","v":-1E-3}]
[null,{"$f":"IF(J127<0,\"\",IF(J127>J128,I128,I127))","v":""},null,null,{"$f":"IF(J127<0,\"\",IF(J127>J128,I127,I128))","v":""},null,null,null,{"$f":"RESULTS!C143","v":" Block 9 Player 1"},{"$f":"RESULTS!D143","v":-1E-3},{"$f":"RESULTS!E143","v":-1E-3}]
[null,{"$f":"IF(J129<0,\"\",IF(J129>J130,I129,I130))","v":""},{"$f":"IF(J129<0,\"\",IF(J129>J130,J129,J130))","v":""},"d.",{"$f":"IF(J129<0,\"\",IF(J129>J130,I130,I129))","v":""},{"$f":"IF(J129<0,\"\",IF(J129>J130,J130,J129))","v":""},{"$f":"IF(B129=\"\",\"\",IF(ISTEXT(K129),K129,IF(ISTEXT(K130),K130,\"\")))","v":""},null,{"$f":"RESULTS!C144","v":" Block 9 Player 3"},{"$f":"RESULTS!D144","v":-1E-3},{"$f":"RESULTS!E144","v":-1E-3}]
[null,{"$f":"IF(J129<0,\"\",IF(J129>J130,I130,I129))","v":""},null,null,{"$f":"IF(J129<0,\"\",IF(J129>J130,I129,I130))","v":""},null,null,null,{"$f":"RESULTS!C145","v":" Block 9 Player 4"},{"$f":"RESULTS!D145","v":-1E-3},{"$f":"RESULTS!E145","v":-1E-3}]

{"sheet":"MISC","index":16,"n_rows":43,"n_cols":11,"rows_kept":43,"cut":false,"hidden":false,"merged":[[2,4,2,10],[3,4,3,10]]}
[]
[]
[null,null,null,null,{"$f":"SEED!G2","v":"TOURNAMENT"}]
[null,null,null,null,{"$f":"SEED!G4","v":"GROUP"}]
[]
[null,null,"NAME","NAME",null,null,"BLOCK","NO OF","POINTS","POINTS ","NET"]
[null,null,"FIRST","LAST","PLAYER","H/CAP","PLACE","WINS","FOR","AGAINST","POINTS"]
[null,null,{"$f":"NAMES!C12","v":"Block 1"},{"$f":"NAMES!C13","v":"Player 1"},{"$f":"C8&\" \"&D8","v":"Block 1 Player 1"},{"$f":"SEED!E8","v":0},{"$f":"BLOCK!U10","v":4},{"$f":"BLOCK!P10","v":0},{"$f":"BLOCK!Q10","v":-3.0000000000000001E-3},{"$f":"BLOCK!R10","v":-3.0000000000000001E-3},{"$f":"BLOCK!S10","v":0}]
[null,null,{"$f":"NAMES!C17","v":"Block 1"},{"$f":"NAMES!C18","v":"Player 2"},"Block 1 Player 2",{"$f":"SEED!E9","v":0},{"$f":"BLOCK!U13","v":3},{"$f":"BLOCK!P13","v":0},{"$f":"BLOCK!Q13","v":-3.0000000000000001E-3},{"$f":"BLOCK!R13","v":-3.0000000000000001E-3},{"$f":"BLOCK!S13","v":0}]
[null,null,{"$f":"NAMES!C22","v":"Block 1"},{"$f":"NAMES!C23","v":"Player 3"},"Block 1 Player 3",{"$f":"SEED!E10","v":0},{"$f":"BLOCK!U16","v":2},{"$f":"BLOCK!P16","v":0},{"$f":"BLOCK!Q16","v":-3.0000000000000001E-3},{"$f":"BLOCK!R16","v":-3.0000000000000001E-3},{"$f":"BLOCK!S16","v":0}]
[null,null,{"$f":"NAMES!C27","v":"Block 1"},{"$f":"NAMES!C28","v":"Player 4"},"Block 1 Player 4",{"$f":"SEED!E11","v":0},{"$f":"BLOCK!U19","v":1},{"$f":"BLOCK!P19","v":0},{"$f":"BLOCK!Q19","v":-3.0000000000000001E-3},{"$f":"BLOCK!R19","v":-3.0000000000000001E-3},{"$f":"BLOCK!S19","v":0}]
[null,null,{"$f":"NAMES!C33","v":"Block 2"},{"$f":"NAMES!C34","v":"Player 1"},"Block 2 Player 1",{"$f":"SEED!J8","v":0},{"$f":"BLOCK!U29","v":4},{"$f":"BLOCK!P29","v":0},{"$f":"BLOCK!Q29","v":-3.0000000000000001E-3},{"$f":"BLOCK!R29","v":-3.0000000000000001E-3},{"$f":"BLOCK!S29","v":0}]
[null,null,{"$f":"NAMES!C38","v":"Block 2"},{"$f":"NAMES!C39","v":"Player 2"},"Block 2 Player 2",{"$f":"SEED!J9","v":0},{"$f":"BLOCK!U32","v":3},{"$f":"BLOCK!P32","v":0},{"$f":"BLOCK!Q32","v":-3.0000000000000001E-3},{"$f":"BLOCK!R32","v":-3.0000000000000001E-3},{"$f":"BLOCK!S32","v":0}]
[null,null,{"$f":"NAMES!C43","v":"Block 2"},{"$f":"NAMES!C44","v":"Player 3"},"Block 2 Player 3",{"$f":"SEED!J10","v":0},{"$f":"BLOCK!U35","v":2},{"$f":"BLOCK!P35","v":0},{"$f":"BLOCK!Q35","v":-3.0000000000000001E-3},{"$f":"BLOCK!R35","v":-3.0000000000000001E-3},{"$f":"BLOCK!S35","v":0}]
[null,null,{"$f":"NAMES!C48","v":"Block 2"},{"$f":"NAMES!C49","v":"Player 4"},"Block 2 Player 4",{"$f":"SEED!J11","v":0},{"$f":"BLOCK!U38","v":1},{"$f":"BLOCK!P38","v":0},{"$f":"BLOCK!Q38","v":-3.0000000000000001E-3},{"$f":"BLOCK!R38","v":-3.0000000000000001E-3},{"$f":"BLOCK!S38","v":0}]
[null,null,{"$f":"NAMES!C54","v":"Block 3"},{"$f":"NAMES!C55","v":"Player 1"},"Block 3 Player 1",{"$f":"SEED!E15","v":0},{"$f":"BLOCK!U48","v":4},{"$f":"BLOCK!P48","v":0},{"$f":"BLOCK!Q48","v":-3.0000000000000001E-3},{"$f":"BLOCK!R48","v":-3.0000000000000001E-3},{"$f":"BLOCK!S48","v":0}]
[null,null,{"$f":"NAMES!C59","v":"Block 3"},{"$f":"NAMES!C60","v":"Player 2"},"Block 3 Player 2",{"$f":"SEED!E16","v":0},{"$f":"BLOCK!U51","v":3},{"$f":"BLOCK!P51","v":0},{"$f":"BLOCK!Q51","v":-3.0000000000000001E-3},{"$f":"BLOCK!R51","v":-3.0000000000000001E-3},{"$f":"BLOCK!S51","v":0}]
[null,null,{"$f":"NAMES!C64","v":"Block 3"},{"$f":"NAMES!C65","v":"Player 3"},"Block 3 Player 3",{"$f":"SEED!E17","v":0},{"$f":"BLOCK!U54","v":2},{"$f":"BLOCK!P54","v":0},{"$f":"BLOCK!Q54","v":-3.0000000000000001E-3},{"$f":"BLOCK!R54","v":-3.0000000000000001E-3},{"$f":"BLOCK!S54","v":0}]
[null,null,{"$f":"NAMES!C69","v":"Block 3"},{"$f":"NAMES!C70","v":"Player 4"},"Block 3 Player 4",{"$f":"SEED!E18","v":0},{"$f":"BLOCK!U57","v":1},{"$f":"BLOCK!P57","v":0},{"$f":"BLOCK!Q57","v":-3.0000000000000001E-3},{"$f":"BLOCK!R57","v":-3.0000000000000001E-3},{"$f":"BLOCK!S57","v":0}]
[null,null,{"$f":"NAMES!C75","v":"Block 4"},{"$f":"NAMES!C76","v":"Player 1"},{"$f":"C20&\" \"&D20","v":"Block 4 Player 1"},{"$f":"SEED!J15","v":0},{"$f":"BLOCK!U67","v":4},{"$f":"BLOCK!P67","v":0},{"$f":"BLOCK!Q67","v":-3.0000000000000001E-3},{"$f":"BLOCK!R67","v":-3.0000000000000001E-3},{"$f":"BLOCK!S67","v":0}]
[null,null,{"$f":"NAMES!C80","v":"Block 4"},{"$f":"NAMES!C81","v":"Player 2"},"Block 4 Player 2",{"$f":"SEED!J16","v":0},{"$f":"BLOCK!U70","v":3},{"$f":"BLOCK!P70","v":0},{"$f":"BLOCK!Q70","v":-3.0000000000000001E-3},{"$f":"BLOCK!R70","v":-3.0000000000000001E-3},{"$f":"BLOCK!S70","v":0}]
[null,null,{"$f":"NAMES!C85","v":"Block 4"},{"$f":"NAMES!C86","v":"Player 3"},"Block 4 Player 3",{"$f":"SEED!J17","v":0},{"$f":"BLOCK!U73","v":2},{"$f":"BLOCK!P73","v":0},{"$f":"BLOCK!Q73","v":-3.0000000000000001E-3},{"$f":"BLOCK!R73","v":-3.0000000000000001E-3},{"$f":"BLOCK!S73","v":0}]
[null,null,{"$f":"NAMES!C90","v":"Block 4"},{"$f":"NAMES!C91","v":"Player 4"},"Block 4 Player 4",{"$f":"SEED!J18","v":0},{"$f":"BLOCK!U76","v":1},{"$f":"BLOCK!P76","v":0},{"$f":"BLOCK!Q76","v":-3.0000000000000001E-3},{"$f":"BLOCK!R76","v":-3.0000000000000001E-3},{"$f":"BLOCK!S76","v":0}]
[null,null,{"$f":"NAMES!C96","v":"Block 5"},{"$f":"NAMES!C97","v":"Player 1"},"Block 5 Player 1",{"$f":"SEED!E22","v":0},{"$f":"BLOCK!U86","v":4},{"$f":"BLOCK!P86","v":0},{"$f":"BLOCK!Q86","v":-3.0000000000000001E-3},{"$f":"BLOCK!R86","v":-3.0000000000000001E-3},{"$f":"BLOCK!S86","v":0}]
[null,null,{"$f":"NAMES!C101","v":"Block 5"},{"$f":"NAMES!C102","v":"Player 2"},"Block 5 Player 2",{"$f":"SEED!E23","v":0},{"$f":"BLOCK!U89","v":3},{"$f":"BLOCK!P89","v":0},{"$f":"BLOCK!Q89","v":-3.0000000000000001E-3},{"$f":"BLOCK!R89","v":-3.0000000000000001E-3},{"$f":"BLOCK!S89","v":0}]
[null,null,{"$f":"NAMES!C106","v":"Block 5"},{"$f":"NAMES!C107","v":"Player 3"},"Block 5 Player 3",{"$f":"SEED!E24","v":0},{"$f":"BLOCK!U92","v":2},{"$f":"BLOCK!P92","v":0},{"$f":"BLOCK!Q92","v":-3.0000000000000001E-3},{"$f":"BLOCK!R92","v":-3.0000000000000001E-3},{"$f":"BLOCK!S92","v":0}]
[null,null,{"$f":"NAMES!C111","v":"Block 5"},{"$f":"NAMES!C112","v":"Player 4"},"Block 5 Player 4",{"$f":"SEED!E25","v":0},{"$f":"BLOCK!U95","v":1},{"$f":"BLOCK!P95","v":0},{"$f":"BLOCK!Q95","v":-3.0000000000000001E-3},{"$f":"BLOCK!R95","v":-3.0000000000000001E-3},{"$f":"BLOCK!S95","v":0}]
[null,null,{"$f":"NAMES!C117","v":"Block 6"},{"$f":"NAMES!C118","v":"Player 1"},"Block 6 Player 1",{"$f":"SEED!J22","v":0},{"$f":"BLOCK!U105","v":4},{"$f":"BLOCK!P105","v":0},{"$f":"BLOCK!Q105","v":-3.0000000000000001E-3},{"$f":"BLOCK!R105","v":-3.0000000000000001E-3},{"$f":"BLOCK!S105","v":0}]
[null,null,{"$f":"NAMES!C122","v":"Block 6"},{"$f":"NAMES!C123","v":"Player 2"},"Block 6 Player 2",{"$f":"SEED!J23","v":0},{"$f":"BLOCK!U108","v":3},{"$f":"BLOCK!P108","v":0},{"$f":"BLOCK!Q108","v":-3.0000000000000001E-3},{"$f":"BLOCK!R108","v":-3.0000000000000001E-3},{"$f":"BLOCK!S108","v":0}]
[null,null,{"$f":"NAMES!C127","v":"Block 6"},{"$f":"NAMES!C128","v":"Player 3"},"Block 6 Player 3",{"$f":"SEED!J24","v":0},{"$f":"BLOCK!U111","v":2},{"$f":"BLOCK!P111","v":0},{"$f":"BLOCK!Q111","v":-3.0000000000000001E-3},{"$f":"BLOCK!R111","v":-3.0000000000000001E-3},{"$f":"BLOCK!S111","v":0}]
[null,null,{"$f":"NAMES!C132","v":"Block 6"},{"$f":"NAMES!C133","v":"Player 4"},"Block 6 Player 4",{"$f":"SEED!J25","v":0},{"$f":"BLOCK!U114","v":1},{"$f":"BLOCK!P114","v":0},{"$f":"BLOCK!Q114","v":-3.0000000000000001E-3},{"$f":"BLOCK!R114","v":-3.0000000000000001E-3},{"$f":"BLOCK!S114","v":0}]
[null,null,{"$f":"NAMES!C138","v":"Block 7"},{"$f":"NAMES!C139","v":"Player 1"},"Block 7 Player 1",{"$f":"SEED!E29","v":0},{"$f":"BLOCK!U124","v":4},{"$f":"BLOCK!P124","v":0},{"$f":"BLOCK!Q124","v":-3.0000000000000001E-3},{"$f":"BLOCK!R124","v":-3.0000000000000001E-3},{"$f":"BLOCK!S124","v":0}]
[null,null,{"$f":"NAMES!C143","v":"Block 7"},{"$f":"NAMES!C144","v":"Player 2"},"Block 7 Player 2",{"$f":"SEED!E30","v":0},{"$f":"BLOCK!U127","v":3},{"$f":"BLOCK!P127","v":0},{"$f":"BLOCK!Q127","v":-3.0000000000000001E-3},{"$f":"BLOCK!R127","v":-3.0000000000000001E-3},{"$f":"BLOCK!S127","v":0}]
[null,null,{"$f":"NAMES!C148","v":"Block 7"},{"$f":"NAMES!C149","v":"Player 3"},{"$f":"C34&\" \"&D34","v":"Block 7 Player 3"},{"$f":"SEED!E31","v":0},{"$f":"BLOCK!U130","v":2},{"$f":"BLOCK!P130","v":0},{"$f":"BLOCK!Q130","v":-3.0000000000000001E-3},{"$f":"BLOCK!R130","v":-3.0000000000000001E-3},{"$f":"BLOCK!S130","v":0}]
[null,null,{"$f":"NAMES!C153","v":"Block 7"},{"$f":"NAMES!C154","v":"Player 4"},"Block 7 Player 4",{"$f":"SEED!E32","v":0},{"$f":"BLOCK!U133","v":1},{"$f":"BLOCK!P133","v":0},{"$f":"BLOCK!Q133","v":-3.0000000000000001E-3},{"$f":"BLOCK!R133","v":-3.0000000000000001E-3},{"$f":"BLOCK!S133","v":0}]
[null,null,{"$f":"NAMES!C159","v":"Block 8"},{"$f":"NAMES!C160","v":"Player 1"},"Block 8 Player 1",{"$f":"SEED!J29","v":0},{"$f":"BLOCK!U143","v":4},{"$f":"BLOCK!P143","v":0},{"$f":"BLOCK!Q143","v":-3.0000000000000001E-3},{"$f":"BLOCK!R143","v":-3.0000000000000001E-3},{"$f":"BLOCK!S143","v":0}]
[null,null,{"$f":"NAMES!C164","v":"Block 8"},{"$f":"NAMES!C165","v":"Player 2"},"Block 8 Player 2",{"$f":"SEED!J30","v":0},{"$f":"BLOCK!U146","v":3},{"$f":"BLOCK!P146","v":0},{"$f":"BLOCK!Q146","v":-3.0000000000000001E-3},{"$f":"BLOCK!R146","v":-3.0000000000000001E-3},{"$f":"BLOCK!S146","v":0}]
[null,null,{"$f":"NAMES!C169","v":"Block 8"},{"$f":"NAMES!C170","v":"Player 3"},"Block 8 Player 3",{"$f":"SEED!J31","v":0},{"$f":"BLOCK!U149","v":2},{"$f":"BLOCK!P149","v":0},{"$f":"BLOCK!Q149","v":-3.0000000000000001E-3},{"$f":"BLOCK!R149","v":-3.0000000000000001E-3},{"$f":"BLOCK!S149","v":0}]
[null,null,{"$f":"NAMES!C174","v":"Block 8"},{"$f":"NAMES!C175","v":"Player 4"},"Block 8 Player 4",{"$f":"SEED!J32","v":0},{"$f":"BLOCK!U152","v":1},{"$f":"BLOCK!P152","v":0},{"$f":"BLOCK!Q152","v":-3.0000000000000001E-3},{"$f":"BLOCK!R152","v":-3.0000000000000001E-3},{"$f":"BLOCK!S152","v":0}]
[null,null,{"$f":"NAMES!C180","v":"Block 9"},{"$f":"NAMES!C181","v":"Player 1"},{"$f":"C40&\" \"&D40","v":"Block 9 Player 1"},{"$f":"SEED!E36","v":0},{"$f":"BLOCK!U162","v":4},{"$f":"BLOCK!P162","v":0},{"$f":"BLOCK!Q162","v":-3.0000000000000001E-3},{"$f":"BLOCK!R162","v":-3.0000000000000001E-3},{"$f":"BLOCK!S162","v":0}]
[null,null,{"$f":"NAMES!C185","v":"Block 9"},{"$f":"NAMES!C186","v":"Player 2"},{"$f":"C41&\" \"&D41","v":"Block 9 Player 2"},{"$f":"SEED!E37","v":0},{"$f":"BLOCK!U165","v":3},{"$f":"BLOCK!P165","v":0},{"$f":"BLOCK!Q165","v":-3.0000000000000001E-3},{"$f":"BLOCK!R165","v":-3.0000000000000001E-3},{"$f":"BLOCK!S165","v":0}]
[null,null,{"$f":"NAMES!C190","v":"Block 9"},{"$f":"NAMES!C191","v":"Player 3"},{"$f":"C42&\" \"&D42","v":"Block 9 Player 3"},{"$f":"SEED!E38","v":0},{"$f":"BLOCK!U168","v":2},{"$f":"BLOCK!P168","v":0},{"$f":"BLOCK!Q168","v":-3.0000000000000001E-3},{"$f":"BLOCK!R168","v":-3.0000000000000001E-3},{"$f":"BLOCK!S168","v":0}]
[null,null,{"$f":"NAMES!C195","v":"Block 9"},{"$f":"NAMES!C196","v":"Player 4"},{"$f":"C43&\" \"&D43","v":"Block 9 Player 4"},{"$f":"SEED!E39","v":0},{"$f":"BLOCK!U171","v":1},{"$f":"BLOCK!P171","v":0},{"$f":"BLOCK!Q171","v":-3.0000000000000001E-3},{"$f":"BLOCK!R171","v":-3.0000000000000001E-3},{"$f":"BLOCK!S171","v":0}]

{"sheet":"BLOCK SCHEDULE","index":17,"n_rows":89,"n_cols":7,"rows_kept":89,"cut":false,"hidden":false,"merged":[[45,4,45,6],[7,1,7,6],[18,4,18,6],[6,1,6,6],[19,4,19,6],[28,4,28,6],[37,4,37,6],[36,4,36,6],[10,4,10,6],[18,1,18,3],[4,1,4,6],[5,1,5,6],[2,1,2,6],[81,1,81,3],[81,4,81,6],[63,1,63,3],[63,4,63,6],[72,1,72,3],[72,4,72,6],[45,1,45,3],[9,1,9,3],[9,4,9,6],[3,1,3,6],[54,1,54,3],[54,4,54,6],[27,1,27,3],[27,4,27,6],[36,1,36,3],[46,4,46,6],[55,4,55,6],[64,4,64,6],[73,4,73,6],[82,4,82,6]]}
[]
[]
[null,{"$f":"NAMES!$C$8","v":"TOURNAMENT"}]
[null,{"$f":"NAMES!$C$10","v":"DATE"}]
[null,{"$f":"NAMES!E22","v":"Time limit 2.5 hours, Turn After Bell (61.1.6). Quadway hoops (3 11/16\"), Dawson International balls"}]
[null,{"$f":"NAMES!E23","v":"Games may start early. Please be at the venue at least 30 minutes earlier than the scheduled start time."}]
[null,{"$f":"NAMES!E24","v":"Entry Fee $40 will be invoiced by email. Please pay by EFT using the invoice No. as reference."}]
[null,{"$f":"NAMES!E25","v":"Players please assist with setting and clearing courts."}]
[]
[null,{"$f":"\"SCHEDULE     \"&NAMES!$C$11","v":"SCHEDULE     BLOCK 1"},null,null,{"$f":"NAMES!$C$9","v":"GROUP"}]
[null,"  TIME  "," DAY "," COURT ","PLAYERS","  PLAYERS  "]
[null,{"$f":"GAMES!B4","v":"00:00:00"},{"$f":"GAMES!C4","v":"00:00:00"},{"$f":"GAMES!D4","v":0},{"$f":"GAMES!E4","v":" Block 1 Player 2"},{"$f":"GAMES!F4","v":"vs"},{"$f":"GAMES!G4","v":" Block 1 Player 3"}]
[null,{"$f":"GAMES!B3","v":"00:00:00"},{"$f":"GAMES!C3","v":"00:00:00"},{"$f":"GAMES!D3","v":0},{"$f":"GAMES!E3","v":" Block 1 Player 1"},{"$f":"GAMES!F3","v":"vs"},{"$f":"GAMES!G3","v":" Block 1 Player 4"}]
[null,{"$f":"GAMES!B5","v":"00:00:00"},{"$f":"GAMES!C5","v":"00:00:00"},{"$f":"GAMES!D5","v":0},{"$f":"GAMES!E5","v":" Block 1 Player 3"},{"$f":"GAMES!F5","v":"vs"},{"$f":"GAMES!G5","v":" Block 1 Player 1"}]
[null,{"$f":"GAMES!B6","v":"00:00:00"},{"$f":"GAMES!C6","v":"00:00:00"},{"$f":"GAMES!D6","v":0},{"$f":"GAMES!E6","v":" Block 1 Player 4"},{"$f":"GAMES!F6","v":"vs"},{"$f":"GAMES!G6","v":" Block 1 Player 2"}]
[null,{"$f":"GAMES!B8","v":"00:00:00"},{"$f":"GAMES!C8","v":"00:00:00"},{"$f":"GAMES!D8","v":0},{"$f":"GAMES!E8","v":" Block 1 Player 3"},{"$f":"GAMES!F8","v":"vs"},{"$f":"GAMES!G8","v":" Block 1 Player 4"}]
[null,{"$f":"GAMES!B7","v":"00:00:00"},{"$f":"GAMES!C7","v":"00:00:00"},{"$f":"GAMES!D7","v":0},{"$f":"GAMES!E7","v":" Block 1 Player 1"},{"$f":"GAMES!F7","v":"vs"},{"$f":"GAMES!G7","v":" Block 1 Player 2"}]
[]
[null,{"$f":"\"SCHEDULE     \"&NAMES!$C$32","v":"SCHEDULE     BLOCK 2"},null,null,{"$f":"NAMES!$C$9","v":"GROUP"}]
[null,"  TIME  "," DAY "," COURT ","PLAYERS","  PLAYERS  "]
[null,{"$f":"GAMES!B12","v":"00:00:00"},{"$f":"GAMES!C12","v":"00:00:00"},{"$f":"GAMES!D12","v":0},{"$f":"GAMES!E12","v":" Block 2 Player 2"},{"$f":"GAMES!F12","v":"vs"},{"$f":"GAMES!G12","v":" Block 2 Player 3"}]
[null,{"$f":"GAMES!B11","v":"00:00:00"},{"$f":"GAMES!C11","v":"00:00:00"},{"$f":"GAMES!D11","v":0},{"$f":"GAMES!E11","v":" Block 2 Player 1"},{"$f":"GAMES!F11","v":"vs"},{"$f":"GAMES!G11","v":" Block 2 Player 4"}]
[null,{"$f":"GAMES!B13","v":"00:00:00"},{"$f":"GAMES!C13","v":"00:00:00"},{"$f":"GAMES!D13","v":0},{"$f":"GAMES!E13","v":" Block 2 Player 3"},{"$f":"GAMES!F13","v":"vs"},{"$f":"GAMES!G13","v":" Block 2 Player 1"}]
[null,{"$f":"GAMES!B14","v":"00:00:00"},{"$f":"GAMES!C14","v":"00:00:00"},{"$f":"GAMES!D14","v":0},{"$f":"GAMES!E14","v":" Block 2 Player 4"},{"$f":"GAMES!F14","v":"vs"},{"$f":"GAMES!G14","v":" Block 2 Player 2"}]
[null,{"$f":"GAMES!B16","v":"00:00:00"},{"$f":"GAMES!C16","v":"00:00:00"},{"$f":"GAMES!D16","v":0},{"$f":"GAMES!E16","v":" Block 2 Player 3"},{"$f":"GAMES!F16","v":"vs"},{"$f":"GAMES!G16","v":" Block 2 Player 4"}]
[null,{"$f":"GAMES!B15","v":"00:00:00"},{"$f":"GAMES!C15","v":"00:00:00"},{"$f":"GAMES!D15","v":0},{"$f":"GAMES!E15","v":" Block 2 Player 2"},{"$f":"GAMES!F15","v":"vs"},{"$f":"GAMES!G15","v":" Block 2 Player 1"}]
[]
[null,{"$f":"\"SCHEDULE     \"&NAMES!$C$53","v":"SCHEDULE     BLOCK 3"},null,null,{"$f":"NAMES!$C$9","v":"GROUP"}]
[null,"  TIME  "," DAY "," COURT ","PLAYERS","  PLAYERS  "]
[null,{"$f":"GAMES!B20","v":"00:00:00"},{"$f":"GAMES!C20","v":"00:00:00"},{"$f":"GAMES!D20","v":0},{"$f":"GAMES!G22","v":" Block 3 Player 2"},{"$f":"GAMES!F20","v":"vs"},{"$f":"GAMES!G20","v":" Block 3 Player 3"}]
[null,{"$f":"GAMES!B19","v":"00:00:00"},{"$f":"GAMES!C19","v":"00:00:00"},{"$f":"GAMES!D19","v":0},{"$f":"GAMES!E19","v":" Block 3 Player 1"},{"$f":"GAMES!F19","v":"vs"},{"$f":"GAMES!G19","v":" Block 3 Player 4"}]
[null,{"$f":"GAMES!B21","v":"00:00:00"},{"$f":"GAMES!C21","v":"00:00:00"},{"$f":"GAMES!D21","v":0},{"$f":"GAMES!E21","v":" Block 3 Player 3"},{"$f":"GAMES!F21","v":"vs"},{"$f":"GAMES!G21","v":" Block 3 Player 1"}]
[null,{"$f":"GAMES!B22","v":"00:00:00"},{"$f":"GAMES!C22","v":"00:00:00"},{"$f":"GAMES!D22","v":0},{"$f":"GAMES!E22","v":" Block 3 Player 4"},{"$f":"GAMES!F22","v":"vs"},{"$f":"GAMES!G22","v":" Block 3 Player 2"}]
[null,{"$f":"GAMES!B24","v":"00:00:00"},{"$f":"GAMES!C24","v":"00:00:00"},{"$f":"GAMES!D24","v":0},{"$f":"GAMES!E24","v":" Block 3 Player 3"},{"$f":"GAMES!F24","v":"vs"},{"$f":"GAMES!G24","v":" Block 3 Player 4"}]
[null,{"$f":"GAMES!B23","v":"00:00:00"},{"$f":"GAMES!C23","v":"00:00:00"},{"$f":"GAMES!D23","v":0},{"$f":"GAMES!E23","v":" Block 3 Player 2"},{"$f":"GAMES!F23","v":"vs"},{"$f":"GAMES!G23","v":" Block 3 Player 1"}]
[]
[null,{"$f":"\"SCHEDULE     \"&NAMES!$C$74","v":"SCHEDULE     BLOCK 4"},null,null,{"$f":"NAMES!$C$9","v":"GROUP"}]
[null,"  TIME  "," DAY "," COURT ","PLAYERS","  PLAYERS  "]
[null,{"$f":"GAMES!B28","v":"00:00:00"},{"$f":"GAMES!C28","v":"00:00:00"},{"$f":"GAMES!D28","v":0},{"$f":"GAMES!E28","v":" Block 4 Player 2"},{"$f":"GAMES!F28","v":"vs"},{"$f":"GAMES!G28","v":" Block 4 Player 3"}]
[null,{"$f":"GAMES!B27","v":"00:00:00"},{"$f":"GAMES!C27","v":"00:00:00"},{"$f":"GAMES!D27","v":0},{"$f":"GAMES!E27","v":" Block 4 Player 1"},{"$f":"GAMES!F27","v":"vs"},{"$f":"GAMES!G27","v":" Block 4 Player 4"}]
[null,{"$f":"GAMES!B29","v":"00:00:00"},{"$f":"GAMES!C29","v":"00:00:00"},{"$f":"GAMES!D29","v":0},{"$f":"GAMES!E29","v":" Block 4 Player 3"},{"$f":"GAMES!F29","v":"vs"},{"$f":"GAMES!G29","v":" Block 4 Player 1"}]
[null,{"$f":"GAMES!B30","v":"00:00:00"},{"$f":"GAMES!C30","v":"00:00:00"},{"$f":"GAMES!D30","v":0},{"$f":"GAMES!E30","v":" Block 4 Player 4"},{"$f":"GAMES!F30","v":"vs"},{"$f":"GAMES!G30","v":" Block 4 Player 2"}]
[null,{"$f":"GAMES!B32","v":"00:00:00"},{"$f":"GAMES!C32","v":"00:00:00"},{"$f":"GAMES!D32","v":0},{"$f":"GAMES!E32","v":" Block 4 Player 3"},{"$f":"GAMES!F32","v":"vs"},{"$f":"GAMES!G32","v":" Block 4 Player 4"}]
[null,{"$f":"GAMES!B31","v":"00:00:00"},{"$f":"GAMES!C31","v":"00:00:00"},{"$f":"GAMES!D31","v":0},{"$f":"GAMES!E31","v":" Block 4 Player 2"},{"$f":"GAMES!F31","v":"vs"},{"$f":"GAMES!G31","v":" Block 4 Player 1"}]
[]
[null,{"$f":"\"SCHEDULE     \"&NAMES!$C$95","v":"SCHEDULE     BLOCK 5"},null,null,{"$f":"NAMES!$C$9","v":"GROUP"}]
[null,"  TIME  "," DAY "," COURT ","PLAYERS","  PLAYERS  "]
[null,{"$f":"GAMES!B36","v":"00:00:00"},{"$f":"GAMES!C36","v":"00:00:00"},{"$f":"GAMES!D36","v":0},{"$f":"GAMES!E36","v":" Block 5 Player 2"},{"$f":"GAMES!F36","v":"vs"},{"$f":"GAMES!G36","v":" Block 5 Player 3"}]
[null,{"$f":"GAMES!B35","v":"00:00:00"},{"$f":"GAMES!C35","v":"00:00:00"},{"$f":"GAMES!D35","v":0},{"$f":"GAMES!E35","v":" Block 5 Player 1"},{"$f":"GAMES!F35","v":"vs"},{"$f":"GAMES!G35","v":" Block 5 Player 4"}]
[null,{"$f":"GAMES!B37","v":"00:00:00"},{"$f":"GAMES!C37","v":"00:00:00"},{"$f":"GAMES!D37","v":0},{"$f":"GAMES!E37","v":" Block 5 Player 3"},{"$f":"GAMES!F37","v":"vs"},{"$f":"GAMES!G37","v":" Block 5 Player 1"}]
[null,{"$f":"GAMES!B38","v":"00:00:00"},{"$f":"GAMES!C38","v":"00:00:00"},{"$f":"GAMES!D38","v":0},{"$f":"GAMES!E38","v":" Block 5 Player 4"},{"$f":"GAMES!F38","v":"vs"},{"$f":"GAMES!G38","v":" Block 5 Player 2"}]
[null,{"$f":"GAMES!B40","v":"00:00:00"},{"$f":"GAMES!C40","v":"00:00:00"},{"$f":"GAMES!D40","v":0},{"$f":"GAMES!E40","v":" Block 5 Player 3"},{"$f":"GAMES!F40","v":"vs"},{"$f":"GAMES!G40","v":" Block 5 Player 4"}]
[null,{"$f":"GAMES!B39","v":"00:00:00"},{"$f":"GAMES!C39","v":"00:00:00"},{"$f":"GAMES!D39","v":0},{"$f":"GAMES!E39","v":" Block 5 Player 2"},{"$f":"GAMES!F39","v":"vs"},{"$f":"GAMES!G39","v":" Block 5 Player 1"}]
[]
[null,{"$f":"\"SCHEDULE     \"&NAMES!$C$116","v":"SCHEDULE     BLOCK 6"},null,null,{"$f":"NAMES!$C$9","v":"GROUP"}]
[null,"  TIME  "," DAY "," COURT ","PLAYERS","  PLAYERS  "]
[null,{"$f":"GAMES!B44","v":"00:00:00"},{"$f":"GAMES!C44","v":"00:00:00"},{"$f":"GAMES!D44","v":0},{"$f":"GAMES!E44","v":" Block 6 Player 2"},{"$f":"GAMES!F44","v":"vs"},{"$f":"GAMES!G44","v":" Block 6 Player 3"}]
[null,{"$f":"GAMES!B43","v":"00:00:00"},{"$f":"GAMES!C43","v":"00:00:00"},{"$f":"GAMES!D43","v":0},{"$f":"GAMES!E43","v":" Block 6 Player 1"},{"$f":"GAMES!F43","v":"vs"},{"$f":"GAMES!G43","v":" Block 6 Player 4"}]
[null,{"$f":"GAMES!B45","v":"00:00:00"},{"$f":"GAMES!C45","v":"00:00:00"},{"$f":"GAMES!D45","v":0},{"$f":"GAMES!E45","v":" Block 6 Player 3"},{"$f":"GAMES!F45","v":"vs"},{"$f":"GAMES!G45","v":" Block 6 Player 1"}]
[null,{"$f":"GAMES!B46","v":"00:00:00"},{"$f":"GAMES!C46","v":"00:00:00"},{"$f":"GAMES!D46","v":0},{"$f":"GAMES!E46","v":" Block 6 Player 4"},{"$f":"GAMES!F46","v":"vs"},{"$f":"GAMES!G46","v":" Block 6 Player 2"}]
[null,{"$f":"GAMES!B48","v":"00:00:00"},{"$f":"GAMES!C48","v":"00:00:00"},{"$f":"GAMES!D48","v":0},{"$f":"GAMES!E48","v":" Block 6 Player 3"},{"$f":"GAMES!F48","v":"vs"},{"$f":"GAMES!G48","v":" Block 6 Player 4"}]
[null,{"$f":"GAMES!B47","v":"00:00:00"},{"$f":"GAMES!C47","v":"00:00:00"},{"$f":"GAMES!D47","v":0},{"$f":"GAMES!E47","v":" Block 6 Player 2"},{"$f":"GAMES!F47","v":"vs"},{"$f":"GAMES!G47","v":" Block 6 Player 1"}]
[]
[null,{"$f":"\"SCHEDULE     \"&NAMES!$C$137","v":"SCHEDULE     BLOCK 7"},null,null,{"$f":"NAMES!$C$9","v":"GROUP"}]
[null,"  TIME  "," DAY "," COURT ","PLAYERS","  PLAYERS  "]
[null,{"$f":"GAMES!B52","v":"00:00:00"},{"$f":"GAMES!C52","v":"00:00:00"},{"$f":"GAMES!D52","v":0},{"$f":"GAMES!E52","v":" Block 7 Player 2"},{"$f":"GAMES!F52","v":"vs"},{"$f":"GAMES!G52","v":" Block 7 Player 3"}]
[null,{"$f":"GAMES!B51","v":"00:00:00"},{"$f":"GAMES!C51","v":"00:00:00"},{"$f":"GAMES!D51","v":0},{"$f":"GAMES!E51","v":" Block 7 Player 1"},{"$f":"GAMES!F51","v":"vs"},{"$f":"GAMES!G51","v":" Block 7 Player 4"}]
[null,{"$f":"GAMES!B53","v":"00:00:00"},{"$f":"GAMES!C53","v":"00:00:00"},{"$f":"GAMES!D53","v":0},{"$f":"GAMES!E53","v":" Block 7 Player 3"},{"$f":"GAMES!F53","v":"vs"},{"$f":"GAMES!G53","v":" Block 7 Player 1"}]
[null,{"$f":"GAMES!B54","v":"00:00:00"},{"$f":"GAMES!C54","v":"00:00:00"},{"$f":"GAMES!D54","v":0},{"$f":"GAMES!E54","v":" Block 7 Player 4"},{"$f":"GAMES!F54","v":"vs"},{"$f":"GAMES!G54","v":" Block 7 Player 2"}]
[null,{"$f":"GAMES!B56","v":"00:00:00"},{"$f":"GAMES!C56","v":"00:00:00"},{"$f":"GAMES!D56","v":0},{"$f":"GAMES!E56","v":" Block 7 Player 3"},{"$f":"GAMES!F56","v":"vs"},{"$f":"GAMES!G56","v":" Block 7 Player 4"}]
[null,{"$f":"GAMES!B55","v":"00:00:00"},{"$f":"GAMES!C55","v":"00:00:00"},{"$f":"GAMES!D55","v":0},{"$f":"GAMES!E55","v":" Block 7 Player 2"},{"$f":"GAMES!F55","v":"vs"},{"$f":"GAMES!G55","v":" Block 7 Player 1"}]
[]
[null,{"$f":"\"SCHEDULE     \"&NAMES!$C$158","v":"SCHEDULE     BLOCK 8"},null,null,{"$f":"NAMES!$C$9","v":"GROUP"}]
[null,"  TIME  "," DAY "," COURT ","PLAYERS","  PLAYERS  "]
[null,{"$f":"GAMES!B60","v":"00:00:00"},{"$f":"GAMES!C60","v":"00:00:00"},{"$f":"GAMES!D60","v":0},{"$f":"GAMES!E60","v":" Block 8 Player 2"},{"$f":"GAMES!F60","v":"vs"},{"$f":"GAMES!G60","v":" Block 8 Player 3"}]
[null,{"$f":"GAMES!B59","v":"00:00:00"},{"$f":"GAMES!C59","v":"00:00:00"},{"$f":"GAMES!D59","v":0},{"$f":"GAMES!E59","v":" Block 8 Player 1"},{"$f":"GAMES!F59","v":"vs"},{"$f":"GAMES!G59","v":" Block 8 Player 4"}]
[null,{"$f":"GAMES!B61","v":"00:00:00"},{"$f":"GAMES!C61","v":"00:00:00"},{"$f":"GAMES!D61","v":0},{"$f":"GAMES!E61","v":" Block 8 Player 3"},{"$f":"GAMES!F61","v":"vs"},{"$f":"GAMES!G61","v":" Block 8 Player 1"}]
[null,{"$f":"GAMES!B62","v":"00:00:00"},{"$f":"GAMES!C62","v":"00:00:00"},{"$f":"GAMES!D62","v":0},{"$f":"GAMES!E62","v":" Block 8 Player 4"},{"$f":"GAMES!F62","v":"vs"},{"$f":"GAMES!G62","v":" Block 8 Player 2"}]
[null,{"$f":"GAMES!B64","v":"00:00:00"},{"$f":"GAMES!C64","v":"00:00:00"},{"$f":"GAMES!D64","v":0},{"$f":"GAMES!E64","v":" Block 8 Player 3"},{"$f":"GAMES!F64","v":"vs"},{"$f":"GAMES!G64","v":" Block 8 Player 4"}]
[null,{"$f":"GAMES!B63","v":"00:00:00"},{"$f":"GAMES!C63","v":"00:00:00"},{"$f":"GAMES!D63","v":0},{"$f":"GAMES!E63","v":" Block 8 Player 2"},{"$f":"GAMES!F63","v":"vs"},{"$f":"GAMES!G63","v":" Block 8 Player 1"}]
[]
[null,{"$f":"\"SCHEDULE     \"&NAMES!$C$179","v":"SCHEDULE     BLOCK 9"},null,null,{"$f":"NAMES!$C$9","v":"GROUP"}]
[null,"  TIME  "," DAY "," COURT ","PLAYERS","  PLAYERS  "]
[null,{"$f":"GAMES!B68","v":"00:00:00"},{"$f":"GAMES!C68","v":"00:00:00"},{"$f":"GAMES!D68","v":0},{"$f":"GAMES!E68","v":" Block 9 Player 2"},{"$f":"GAMES!F68","v":"vs"},{"$f":"GAMES!G68","v":" Block 9 Player 3"}]
[null,{"$f":"GAMES!B67","v":"00:00:00"},{"$f":"GAMES!C67","v":"00:00:00"},{"$f":"GAMES!D67","v":0},{"$f":"GAMES!E67","v":" Block 9 Player 1"},{"$f":"GAMES!F67","v":"vs"},{"$f":"GAMES!G67","v":" Block 9 Player 4"}]
[null,{"$f":"GAMES!B69","v":"00:00:00"},{"$f":"GAMES!C69","v":"00:00:00"},{"$f":"GAMES!D69","v":0},{"$f":"GAMES!E69","v":" Block 9 Player 3"},{"$f":"GAMES!F69","v":"vs"},{"$f":"GAMES!G69","v":" Block 9 Player 1"}]
[null,{"$f":"GAMES!B70","v":"00:00:00"},{"$f":"GAMES!C70","v":"00:00:00"},{"$f":"GAMES!D70","v":0},{"$f":"GAMES!E70","v":" Block 9 Player 4"},{"$f":"GAMES!F70","v":"vs"},{"$f":"GAMES!G70","v":" Block 9 Player 2"}]
[null,{"$f":"GAMES!B72","v":"00:00:00"},{"$f":"GAMES!C72","v":"00:00:00"},{"$f":"GAMES!D72","v":0},{"$f":"GAMES!E72","v":" Block 9 Player 3"},{"$f":"GAMES!F72","v":"vs"},{"$f":"GAMES!G72","v":" Block 9 Player 4"}]
[null,{"$f":"GAMES!B71","v":"00:00:00"},{"$f":"GAMES!C71","v":"00:00:00"},{"$f":"GAMES!D71","v":0},{"$f":"GAMES!E71","v":" Block 9 Player 2"},{"$f":"GAMES!F71","v":"vs"},{"$f":"GAMES!G71","v":" Block 9 Player 1"}]

{"sheet":"SCHEDULE","index":18,"n_rows":57,"n_cols":7,"rows_kept":57,"cut":false,"hidden":false,"merged":[]}
[]
[]
[null,"TIME","DAY","COURT","PLAYER 1","vs","PLAYER 2"]
[null,{"$f":"GAMES!B3","v":"00:00:00"},{"$f":"GAMES!C3","v":"00:00:00"},{"$f":"GAMES!D3","v":0},{"$f":"GAMES!E3","v":" Block 1 Player 1"},{"$f":"GAMES!F3","v":"vs"},{"$f":"GAMES!G3","v":" Block 1 Player 4"}]
[null,{"$f":"GAMES!B4","v":"00:00:00"},{"$f":"GAMES!C4","v":"00:00:00"},{"$f":"GAMES!D4","v":0},{"$f":"GAMES!E4","v":" Block 1 Player 2"},{"$f":"GAMES!F4","v":"vs"},{"$f":"GAMES!G4","v":" Block 1 Player 3"}]
[null,{"$f":"GAMES!B5","v":"00:00:00"},{"$f":"GAMES!C5","v":"00:00:00"},{"$f":"GAMES!D5","v":0},{"$f":"GAMES!E5","v":" Block 1 Player 3"},{"$f":"GAMES!F5","v":"vs"},{"$f":"GAMES!G5","v":" Block 1 Player 1"}]
[null,{"$f":"GAMES!B6","v":"00:00:00"},{"$f":"GAMES!C6","v":"00:00:00"},{"$f":"GAMES!D6","v":0},{"$f":"GAMES!E6","v":" Block 1 Player 4"},{"$f":"GAMES!F6","v":"vs"},{"$f":"GAMES!G6","v":" Block 1 Player 2"}]
[null,{"$f":"GAMES!B7","v":"00:00:00"},{"$f":"GAMES!C7","v":"00:00:00"},{"$f":"GAMES!D7","v":0},{"$f":"GAMES!E7","v":" Block 1 Player 1"},{"$f":"GAMES!F7","v":"vs"},{"$f":"GAMES!G7","v":" Block 1 Player 2"}]
[null,{"$f":"GAMES!B8","v":"00:00:00"},{"$f":"GAMES!C8","v":"00:00:00"},{"$f":"GAMES!D8","v":0},{"$f":"GAMES!E8","v":" Block 1 Player 3"},{"$f":"GAMES!F8","v":"vs"},{"$f":"GAMES!G8","v":" Block 1 Player 4"}]
[null,{"$f":"GAMES!B11","v":"00:00:00"},{"$f":"GAMES!C11","v":"00:00:00"},{"$f":"GAMES!D11","v":0},{"$f":"GAMES!E11","v":" Block 2 Player 1"},{"$f":"GAMES!F11","v":"vs"},{"$f":"GAMES!G11","v":" Block 2 Player 4"}]
[null,{"$f":"GAMES!B12","v":"00:00:00"},{"$f":"GAMES!C12","v":"00:00:00"},{"$f":"GAMES!D12","v":0},{"$f":"GAMES!E12","v":" Block 2 Player 2"},{"$f":"GAMES!F12","v":"vs"},{"$f":"GAMES!G12","v":" Block 2 Player 3"}]
[null,{"$f":"GAMES!B13","v":"00:00:00"},{"$f":"GAMES!C13","v":"00:00:00"},{"$f":"GAMES!D13","v":0},{"$f":"GAMES!E13","v":" Block 2 Player 3"},{"$f":"GAMES!F13","v":"vs"},{"$f":"GAMES!G13","v":" Block 2 Player 1"}]
[null,{"$f":"GAMES!B14","v":"00:00:00"},{"$f":"GAMES!C14","v":"00:00:00"},{"$f":"GAMES!D14","v":0},{"$f":"GAMES!E14","v":" Block 2 Player 4"},{"$f":"GAMES!F14","v":"vs"},{"$f":"GAMES!G14","v":" Block 2 Player 2"}]
[null,{"$f":"GAMES!B15","v":"00:00:00"},{"$f":"GAMES!C15","v":"00:00:00"},{"$f":"GAMES!D15","v":0},{"$f":"GAMES!E15","v":" Block 2 Player 2"},{"$f":"GAMES!F15","v":"vs"},{"$f":"GAMES!G15","v":" Block 2 Player 1"}]
[null,{"$f":"GAMES!B16","v":"00:00:00"},{"$f":"GAMES!C16","v":"00:00:00"},{"$f":"GAMES!D16","v":0},{"$f":"GAMES!E16","v":" Block 2 Player 3"},{"$f":"GAMES!F16","v":"vs"},{"$f":"GAMES!G16","v":" Block 2 Player 4"}]
[null,{"$f":"GAMES!B19","v":"00:00:00"},{"$f":"GAMES!C19","v":"00:00:00"},{"$f":"GAMES!D19","v":0},{"$f":"GAMES!E19","v":" Block 3 Player 1"},{"$f":"GAMES!F19","v":"vs"},{"$f":"GAMES!G19","v":" Block 3 Player 4"}]
[null,{"$f":"GAMES!B20","v":"00:00:00"},{"$f":"GAMES!C20","v":"00:00:00"},{"$f":"GAMES!D20","v":0},{"$f":"GAMES!G22","v":" Block 3 Player 2"},{"$f":"GAMES!F20","v":"vs"},{"$f":"GAMES!G20","v":" Block 3 Player 3"}]
[null,{"$f":"GAMES!B21","v":"00:00:00"},{"$f":"GAMES!C21","v":"00:00:00"},{"$f":"GAMES!D21","v":0},{"$f":"GAMES!E21","v":" Block 3 Player 3"},{"$f":"GAMES!F21","v":"vs"},{"$f":"GAMES!G21","v":" Block 3 Player 1"}]
[null,{"$f":"GAMES!B22","v":"00:00:00"},{"$f":"GAMES!C22","v":"00:00:00"},{"$f":"GAMES!D22","v":0},{"$f":"GAMES!E22","v":" Block 3 Player 4"},{"$f":"GAMES!F22","v":"vs"},{"$f":"GAMES!G22","v":" Block 3 Player 2"}]
[null,{"$f":"GAMES!B23","v":"00:00:00"},{"$f":"GAMES!C23","v":"00:00:00"},{"$f":"GAMES!D23","v":0},{"$f":"GAMES!E23","v":" Block 3 Player 2"},{"$f":"GAMES!F23","v":"vs"},{"$f":"GAMES!G23","v":" Block 3 Player 1"}]
[null,{"$f":"GAMES!B24","v":"00:00:00"},{"$f":"GAMES!C24","v":"00:00:00"},{"$f":"GAMES!D24","v":0},{"$f":"GAMES!E24","v":" Block 3 Player 3"},{"$f":"GAMES!F24","v":"vs"},{"$f":"GAMES!G24","v":" Block 3 Player 4"}]
[null,{"$f":"GAMES!B27","v":"00:00:00"},{"$f":"GAMES!C27","v":"00:00:00"},{"$f":"GAMES!D27","v":0},{"$f":"GAMES!E27","v":" Block 4 Player 1"},{"$f":"GAMES!F27","v":"vs"},{"$f":"GAMES!G27","v":" Block 4 Player 4"}]
[null,{"$f":"GAMES!B28","v":"00:00:00"},{"$f":"GAMES!C28","v":"00:00:00"},{"$f":"GAMES!D28","v":0},{"$f":"GAMES!E28","v":" Block 4 Player 2"},{"$f":"GAMES!F28","v":"vs"},{"$f":"GAMES!G28","v":" Block 4 Player 3"}]
[null,{"$f":"GAMES!B29","v":"00:00:00"},{"$f":"GAMES!C29","v":"00:00:00"},{"$f":"GAMES!D29","v":0},{"$f":"GAMES!E29","v":" Block 4 Player 3"},{"$f":"GAMES!F29","v":"vs"},{"$f":"GAMES!G29","v":" Block 4 Player 1"}]
[null,{"$f":"GAMES!B30","v":"00:00:00"},{"$f":"GAMES!C30","v":"00:00:00"},{"$f":"GAMES!D30","v":0},{"$f":"GAMES!E30","v":" Block 4 Player 4"},{"$f":"GAMES!F30","v":"vs"},{"$f":"GAMES!G30","v":" Block 4 Player 2"}]
[null,{"$f":"GAMES!B31","v":"00:00:00"},{"$f":"GAMES!C31","v":"00:00:00"},{"$f":"GAMES!D31","v":0},{"$f":"GAMES!E31","v":" Block 4 Player 2"},{"$f":"GAMES!F31","v":"vs"},{"$f":"GAMES!G31","v":" Block 4 Player 1"}]
[null,{"$f":"GAMES!B32","v":"00:00:00"},{"$f":"GAMES!C32","v":"00:00:00"},{"$f":"GAMES!D32","v":0},{"$f":"GAMES!E32","v":" Block 4 Player 3"},{"$f":"GAMES!F32","v":"vs"},{"$f":"GAMES!G32","v":" Block 4 Player 4"}]
[null,{"$f":"GAMES!B35","v":"00:00:00"},{"$f":"GAMES!C35","v":"00:00:00"},{"$f":"GAMES!D35","v":0},{"$f":"GAMES!E35","v":" Block 5 Player 1"},{"$f":"GAMES!F35","v":"vs"},{"$f":"GAMES!G35","v":" Block 5 Player 4"}]
[null,{"$f":"GAMES!B36","v":"00:00:00"},{"$f":"GAMES!C36","v":"00:00:00"},{"$f":"GAMES!D36","v":0},{"$f":"GAMES!E36","v":" Block 5 Player 2"},{"$f":"GAMES!F36","v":"vs"},{"$f":"GAMES!G36","v":" Block 5 Player 3"}]
[null,{"$f":"GAMES!B37","v":"00:00:00"},{"$f":"GAMES!C37","v":"00:00:00"},{"$f":"GAMES!D37","v":0},{"$f":"GAMES!E37","v":" Block 5 Player 3"},{"$f":"GAMES!F37","v":"vs"},{"$f":"GAMES!G37","v":" Block 5 Player 1"}]
[null,{"$f":"GAMES!B38","v":"00:00:00"},{"$f":"GAMES!C38","v":"00:00:00"},{"$f":"GAMES!D38","v":0},{"$f":"GAMES!E38","v":" Block 5 Player 4"},{"$f":"GAMES!F38","v":"vs"},{"$f":"GAMES!G38","v":" Block 5 Player 2"}]
[null,{"$f":"GAMES!B39","v":"00:00:00"},{"$f":"GAMES!C39","v":"00:00:00"},{"$f":"GAMES!D39","v":0},{"$f":"GAMES!E39","v":" Block 5 Player 2"},{"$f":"GAMES!F39","v":"vs"},{"$f":"GAMES!G39","v":" Block 5 Player 1"}]
[null,{"$f":"GAMES!B40","v":"00:00:00"},{"$f":"GAMES!C40","v":"00:00:00"},{"$f":"GAMES!D40","v":0},{"$f":"GAMES!E40","v":" Block 5 Player 3"},{"$f":"GAMES!F40","v":"vs"},{"$f":"GAMES!G40","v":" Block 5 Player 4"}]
[null,{"$f":"GAMES!B43","v":"00:00:00"},{"$f":"GAMES!C43","v":"00:00:00"},{"$f":"GAMES!D43","v":0},{"$f":"GAMES!E43","v":" Block 6 Player 1"},{"$f":"GAMES!F43","v":"vs"},{"$f":"GAMES!G43","v":" Block 6 Player 4"}]
[null,{"$f":"GAMES!B44","v":"00:00:00"},{"$f":"GAMES!C44","v":"00:00:00"},{"$f":"GAMES!D44","v":0},{"$f":"GAMES!E44","v":" Block 6 Player 2"},{"$f":"GAMES!F44","v":"vs"},{"$f":"GAMES!G44","v":" Block 6 Player 3"}]
[null,{"$f":"GAMES!B45","v":"00:00:00"},{"$f":"GAMES!C45","v":"00:00:00"},{"$f":"GAMES!D45","v":0},{"$f":"GAMES!E45","v":" Block 6 Player 3"},{"$f":"GAMES!F45","v":"vs"},{"$f":"GAMES!G45","v":" Block 6 Player 1"}]
[null,{"$f":"GAMES!B46","v":"00:00:00"},{"$f":"GAMES!C46","v":"00:00:00"},{"$f":"GAMES!D46","v":0},{"$f":"GAMES!E46","v":" Block 6 Player 4"},{"$f":"GAMES!F46","v":"vs"},{"$f":"GAMES!G46","v":" Block 6 Player 2"}]
[null,{"$f":"GAMES!B47","v":"00:00:00"},{"$f":"GAMES!C47","v":"00:00:00"},{"$f":"GAMES!D47","v":0},{"$f":"GAMES!E47","v":" Block 6 Player 2"},{"$f":"GAMES!F47","v":"vs"},{"$f":"GAMES!G47","v":" Block 6 Player 1"}]
[null,{"$f":"GAMES!B48","v":"00:00:00"},{"$f":"GAMES!C48","v":"00:00:00"},{"$f":"GAMES!D48","v":0},{"$f":"GAMES!E48","v":" Block 6 Player 3"},{"$f":"GAMES!F48","v":"vs"},{"$f":"GAMES!G48","v":" Block 6 Player 4"}]
[null,{"$f":"GAMES!B51","v":"00:00:00"},{"$f":"GAMES!C51","v":"00:00:00"},{"$f":"GAMES!D51","v":0},{"$f":"GAMES!E51","v":" Block 7 Player 1"},{"$f":"GAMES!F51","v":"vs"},{"$f":"GAMES!G51","v":" Block 7 Player 4"}]
[null,{"$f":"GAMES!B52","v":"00:00:00"},{"$f":"GAMES!C52","v":"00:00:00"},{"$f":"GAMES!D52","v":0},{"$f":"GAMES!E52","v":" Block 7 Player 2"},{"$f":"GAMES!F52","v":"vs"},{"$f":"GAMES!G52","v":" Block 7 Player 3"}]
[null,{"$f":"GAMES!B53","v":"00:00:00"},{"$f":"GAMES!C53","v":"00:00:00"},{"$f":"GAMES!D53","v":0},{"$f":"GAMES!E53","v":" Block 7 Player 3"},{"$f":"GAMES!F53","v":"vs"},{"$f":"GAMES!G53","v":" Block 7 Player 1"}]
[null,{"$f":"GAMES!B54","v":"00:00:00"},{"$f":"GAMES!C54","v":"00:00:00"},{"$f":"GAMES!D54","v":0},{"$f":"GAMES!E54","v":" Block 7 Player 4"},{"$f":"GAMES!F54","v":"vs"},{"$f":"GAMES!G54","v":" Block 7 Player 2"}]
[null,{"$f":"GAMES!B55","v":"00:00:00"},{"$f":"GAMES!C55","v":"00:00:00"},{"$f":"GAMES!D55","v":0},{"$f":"GAMES!E55","v":" Block 7 Player 2"},{"$f":"GAMES!F55","v":"vs"},{"$f":"GAMES!G55","v":" Block 7 Player 1"}]
[null,{"$f":"GAMES!B56","v":"00:00:00"},{"$f":"GAMES!C56","v":"00:00:00"},{"$f":"GAMES!D56","v":0},{"$f":"GAMES!E56","v":" Block 7 Player 3"},{"$f":"GAMES!F56","v":"vs"},{"$f":"GAMES!G56","v":" Block 7 Player 4"}]
[null,{"$f":"GAMES!B59","v":"00:00:00"},{"$f":"GAMES!C59","v":"00:00:00"},{"$f":"GAMES!D59","v":0},{"$f":"GAMES!E59","v":" Block 8 Player 1"},{"$f":"GAMES!F59","v":"vs"},{"$f":"GAMES!G59","v":" Block 8 Player 4"}]
[null,{"$f":"GAMES!B60","v":"00:00:00"},{"$f":"GAMES!C60","v":"00:00:00"},{"$f":"GAMES!D60","v":0},{"$f":"GAMES!E60","v":" Block 8 Player 2"},{"$f":"GAMES!F60","v":"vs"},{"$f":"GAMES!G60","v":" Block 8 Player 3"}]
[null,{"$f":"GAMES!B61","v":"00:00:00"},{"$f":"GAMES!C61","v":"00:00:00"},{"$f":"GAMES!D61","v":0},{"$f":"GAMES!E61","v":" Block 8 Player 3"},{"$f":"GAMES!F61","v":"vs"},{"$f":"GAMES!G61","v":" Block 8 Player 1"}]
[null,{"$f":"GAMES!B62","v":"00:00:00"},{"$f":"GAMES!C62","v":"00:00:00"},{"$f":"GAMES!D62","v":0},{"$f":"GAMES!E62","v":" Block 8 Player 4"},{"$f":"GAMES!F62","v":"vs"},{"$f":"GAMES!G62","v":" Block 8 Player 2"}]
[null,{"$f":"GAMES!B63","v":"00:00:00"},{"$f":"GAMES!C63","v":"00:00:00"},{"$f":"GAMES!D63","v":0},{"$f":"GAMES!E63","v":" Block 8 Player 2"},{"$f":"GAMES!F63","v":"vs"},{"$f":"GAMES!G63","v":" Block 8 Player 1"}]
[null,{"$f":"GAMES!B64","v":"00:00:00"},{"$f":"GAMES!C64","v":"00:00:00"},{"$f":"GAMES!D64","v":0},{"$f":"GAMES!E64","v":" Block 8 Player 3"},{"$f":"GAMES!F64","v":"vs"},{"$f":"GAMES!G64","v":" Block 8 Player 4"}]
[null,{"$f":"GAMES!B67","v":"00:00:00"},{"$f":"GAMES!C67","v":"00:00:00"},{"$f":"GAMES!D67","v":0},{"$f":"GAMES!E67","v":" Block 9 Player 1"},{"$f":"GAMES!F67","v":"vs"},{"$f":"GAMES!G67","v":" Block 9 Player 4"}]
[null,{"$f":"GAMES!B68","v":"00:00:00"},{"$f":"GAMES!C68","v":"00:00:00"},{"$f":"GAMES!D68","v":0},{"$f":"GAMES!E68","v":" Block 9 Player 2"},{"$f":"GAMES!F68","v":"vs"},{"$f":"GAMES!G68","v":" Block 9 Player 3"}]
[null,{"$f":"GAMES!B69","v":"00:00:00"},{"$f":"GAMES!C69","v":"00:00:00"},{"$f":"GAMES!D69","v":0},{"$f":"GAMES!E69","v":" Block 9 Player 3"},{"$f":"GAMES!F69","v":"vs"},{"$f":"GAMES!G69","v":" Block 9 Player 1"}]
[null,{"$f":"GAMES!B70","v":"00:00:00"},{"$f":"GAMES!C70","v":"00:00:00"},{"$f":"GAMES!D70","v":0},{"$f":"GAMES!E70","v":" Block 9 Player 4"},{"$f":"GAMES!F70","v":"vs"},{"$f":"GAMES!G70","v":" Block 9 Player 2"}]
[null,{"$f":"GAMES!B71","v":"00:00:00"},{"$f":"GAMES!C71","v":"00:00:00"},{"$f":"GAMES!D71","v":0},{"$f":"GAMES!E71","v":" Block 9 Player 2"},{"$f":"GAMES!F71","v":"vs"},{"$f":"GAMES!G71","v":" Block 9 Player 1"}]
[null,{"$f":"GAMES!B72","v":"00:00:00"},{"$f":"GAMES!C72","v":"00:00:00"},{"$f":"GAMES!D72","v":0},{"$f":"GAMES!E72","v":" Block 9 Player 3"},{"$f":"GAMES!F72","v":"vs"},{"$f":"GAMES!G72","v":" Block 9 Player 4"}]

{"sheet":"WAIT","index":19,"n_rows":0,"n_cols":0,"rows_kept":0,"cut":false,"hidden":true,"merged":[]}

{"sheet":"TABLE","index":20,"n_rows":72,"n_cols":31,"rows_kept":72,"cut":false,"hidden":true,"merged":[[41,3,41,30],[42,3,42,30],[44,1,71,1],[6,4,6,27],[8,3,8,30],[9,3,9,30],[11,1,38,1]]}
[]
[null,"WIN=1",0]
[]
[null,"PLAYER",-0.5]
[null,"OPPONENT",-1.5]
[]
[null,"RESULTS",{"$f":"IF(C2>0,(VLOOKUP(C4,WIN,(MATCH(C5,WINCOL,0)+1))),(VLOOKUP(C4,LOSE,(MATCH(C5,LOSECOL,0)+1))))","v":-4},"<----","IF(B2>0,(VLOOKUP(B4,WIN,(MATCH(B5,WINCOL,0)+1))),(VLOOKUP(B4,LOSE,(MATCH(B5,LOSECOL,0)+1))))"]
[]
[null,null,null,"WIN TABLE"]
[null,null,null,"OPPONENT HANDICAP"]
[null,null,null,-2,-1.5,-1,-0.5,0,0.5,1,1.5,2,2.5,3,3.5,4,4.5,5,6,7,8,9,10,11,12,14,16,18,20,22,24]
[null,"PLAYER HANDICAP",-2,10,6,3,2,1,1,1,1,1,1,1,1,1,1,1,1,1,1,1,1,1,1,1,1,1,1,1,1]
[null,null,-1.5,14,10,7,4,3,2,2,1,1,1,1,1,1,1,1,1,1,1,1,1,1,1,1,1,1,1,1,1]
[null,null,-1,17,13,10,7,5,4,3,3,2,2,1,1,1,1,1,1,1,1,1,1,1,1,1,1,1,1,1,1]
[null,null,-0.5,18,16,13,10,8,7,6,5,4,3,3,2,2,1,1,1,1,1,1,1,1,1,1,1,1,1,1,1]
[null,null,0,19,17,15,12,10,9,8,7,6,5,4,3,3,2,2,1,1,1,1,1,1,1,1,1,1,1,1,1]
[null,null,0.5,19,18,16,13,11,10,9,8,7,6,5,4,3,3,2,2,1,1,1,1,1,1,1,1,1,1,1,1]
[null,null,1,19,18,17,14,12,11,10,9,8,7,6,5,4,3,3,2,2,1,1,1,1,1,1,1,1,1,1,1]
[null,null,1.5,19,19,17,15,13,12,11,10,9,8,7,6,5,4,3,3,2,2,1,1,1,1,1,1,1,1,1,1]
[null,null,2,19,19,18,16,14,13,12,11,10,9,8,7,6,5,4,3,3,2,2,1,1,1,1,1,1,1,1,1]
[null,null,2.5,19,19,18,17,15,14,13,12,11,10,9,8,7,6,5,4,3,3,2,2,1,1,1,1,1,1,1,1]
[null,null,3,19,19,19,17,16,15,14,13,12,11,10,9,8,7,6,5,4,3,3,2,2,1,1,1,1,1,1,1]
[null,null,3.5,19,19,19,18,17,16,15,14,13,12,11,10,9,8,7,6,5,4,3,3,2,2,1,1,1,1,1,1]
[null,null,4,19,19,19,18,17,17,16,15,14,13,12,11,10,9,8,7,6,5,4,3,3,2,2,1,1,1,1,1]
[null,null,4.5,19,19,19,19,18,17,17,16,15,14,13,12,11,10,9,8,7,6,5,4,3,3,2,2,1,1,1,1]
[null,null,5,19,19,19,19,18,18,17,17,16,15,14,13,12,11,10,9,8,7,6,5,4,3,3,2,2,1,1,1]
[null,null,6,19,19,19,19,19,18,18,17,17,16,15,14,13,12,11,10,9,8,7,6,5,4,3,3,2,2,1,1]
[null,null,7,19,19,19,19,19,19,18,18,17,17,16,15,14,13,12,11,10,9,8,7,6,5,4,3,3,2,2,1]
[null,null,8,19,19,19,19,19,19,19,18,18,17,17,16,15,14,13,12,11,10,9,8,7,6,5,4,3,3,2,2]
[null,null,9,19,19,19,19,19,19,19,19,18,18,17,17,16,15,14,13,12,11,10,9,8,7,6,5,4,3,3,2]
[null,null,10,19,19,19,19,19,19,19,19,19,18,18,17,17,16,15,14,13,12,11,10,9,8,7,6,5,4,3,3]
[null,null,11,19,19,19,19,19,19,19,19,19,19,18,18,17,17,16,15,14,13,12,11,10,9,8,7,6,5,4,3]
[null,null,12,19,19,19,19,19,19,19,19,19,19,19,18,18,17,17,16,15,14,13,12,11,10,9,8,7,6,5,4]
[null,null,14,19,19,19,19,19,19,19,19,19,19,19,19,18,18,17,17,16,15,14,13,12,11,10,9,8,7,6,5]
[null,null,16,19,19,19,19,19,19,19,19,19,19,19,19,19,18,18,17,17,16,15,14,13,12,11,10,9,8,7,6]
[null,null,18,19,19,19,19,19,19,19,19,19,19,19,19,19,19,18,18,17,17,16,15,14,13,12,11,10,9,8,7]
[null,null,20,19,19,19,19,19,19,19,19,19,19,19,19,19,19,19,18,18,17,17,16,15,14,13,12,11,10,9,8]
[null,null,22,19,19,19,19,19,19,19,19,19,19,19,19,19,19,19,19,18,18,17,17,16,15,14,13,12,11,10,9]
[null,null,24,19,19,19,19,19,19,19,19,19,19,19,19,19,19,19,19,19,18,18,17,17,16,15,14,13,12,11,10]
[]
[]
[null,null,null,"LOSE TABLE"]
[null,null,null,"OPPONENT HANDICAP"]
[null,null,null,-2,-1.5,-1,-0.5,0,0.5,1,1.5,2,2.5,3,3.5,4,4.5,5,6,7,8,9,10,11,12,14,16,18,20,22,24]
[null,"PLAYER HANDICAP",-2,-10,-14,-17,-18,-19,-19,-19,-19,-19,-19,-19,-19,-19,-19,-19,-19,-19,-19,-19,-19,-19,-19,-19,-19,-19,-19,-19,-19]
[null,null,-1.5,-6,-10,-13,-16,-17,-18,-19,-19,-19,-19,-19,-19,-19,-19,-19,-19,-19,-19,-19,-19,-19,-19,-19,-19,-19,-19,-19,-19]
[null,null,-1,-3,-7,-10,-13,-15,-16,-17,-17,-18,-18,-19,-19,-19,-19,-19,-19,-19,-19,-19,-19,-19,-19,-19,-19,-19,-19,-19,-19]
[null,null,-0.5,-2,-4,-7,-10,-12,-13,-14,-15,-16,-17,-17,-18,-18,-19,-19,-19,-19,-19,-19,-19,-19,-19,-19,-19,-19,-19,-19,-19]
[null,null,0,-1,-3,-5,-8,-10,-11,-12,-13,-14,-15,-16,-17,-17,-18,-18,-19,-19,-19,-19,-19,-19,-19,-19,-19,-19,-19,-19,-19]
[null,null,0.5,-1,-2,-4,-7,-9,-10,-11,-12,-13,-14,-15,-16,-17,-17,-18,-18,-19,-19,-19,-19,-19,-19,-19,-19,-19,-19,-19,-19]
[null,null,1,-1,-2,-3,-6,-8,-9,-10,-11,-12,-13,-14,-15,-16,-17,-17,-18,-18,-19,-19,-19,-19,-19,-19,-19,-19,-19,-19,-19]
[null,null,1.5,-1,-1,-3,-5,-7,-8,-9,-10,-11,-12,-13,-14,-15,-16,-17,-17,-18,-18,-19,-19,-19,-19,-19,-19,-19,-19,-19,-19]
[null,null,2,-1,-1,-2,-4,-6,-7,-8,-9,-10,-11,-12,-13,-14,-15,-16,-17,-17,-18,-18,-19,-19,-19,-19,-19,-19,-19,-19,-19]
[null,null,2.5,-1,-1,-2,-3,-5,-6,-7,-8,-9,-10,-11,-12,-13,-14,-15,-16,-17,-17,-18,-18,-19,-19,-19,-19,-19,-19,-19,-19]
[null,null,3,-1,-1,-1,-3,-4,-5,-6,-7,-8,-9,-10,-11,-12,-13,-14,-15,-16,-17,-17,-18,-18,-19,-19,-19,-19,-19,-19,-19]
[null,null,3.5,-1,-1,-1,-2,-3,-4,-5,-6,-7,-8,-9,-10,-11,-12,-13,-14,-15,-16,-17,-17,-18,-18,-19,-19,-19,-19,-19,-19]
[null,null,4,-1,-1,-1,-2,-3,-3,-4,-5,-6,-7,-8,-9,-10,-11,-12,-13,-14,-15,-16,-17,-17,-18,-18,-19,-19,-19,-19,-19]
[null,null,4.5,-1,-1,-1,-1,-2,-3,-3,-4,-5,-6,-7,-8,-9,-10,-11,-12,-13,-14,-15,-16,-17,-17,-18,-18,-19,-19,-19,-19]
[null,null,5,-1,-1,-1,-1,-2,-2,-3,-3,-4,-5,-6,-7,-8,-9,-10,-11,-12,-13,-14,-15,-16,-17,-17,-18,-18,-19,-19,-19]
[null,null,6,-1,-1,-1,-1,-1,-2,-2,-3,-3,-4,-5,-6,-7,-8,-9,-10,-11,-12,-13,-14,-15,-16,-17,-17,-18,-18,-19,-19]
[null,null,7,-1,-1,-1,-1,-1,-1,-2,-2,-3,-3,-4,-5,-6,-7,-8,-9,-10,-11,-12,-13,-14,-15,-16,-17,-17,-18,-18,-19]
[null,null,8,-1,-1,-1,-1,-1,-1,-1,-2,-2,-3,-3,-4,-5,-6,-7,-8,-9,-10,-11,-12,-13,-14,-15,-16,-17,-17,-18,-18]
[null,null,9,-1,-1,-1,-1,-1,-1,-1,-1,-2,-2,-3,-3,-4,-5,-6,-7,-8,-9,-10,-11,-12,-13,-14,-15,-16,-17,-17,-18]
[null,null,10,-1,-1,-1,-1,-1,-1,-1,-1,-1,-2,-2,-3,-3,-4,-5,-6,-7,-8,-9,-10,-11,-12,-13,-14,-15,-16,-17,-17]
[null,null,11,-1,-1,-1,-1,-1,-1,-1,-1,-1,-1,-2,-2,-3,-3,-4,-5,-6,-7,-8,-9,-10,-11,-12,-13,-14,-15,-16,-17]
[null,null,12,-1,-1,-1,-1,-1,-1,-1,-1,-1,-1,-1,-2,-2,-3,-3,-4,-5,-6,-7,-8,-9,-10,-11,-12,-13,-14,-15,-16]
[null,null,14,-1,-1,-1,-1,-1,-1,-1,-1,-1,-1,-1,-1,-2,-2,-3,-3,-4,-5,-6,-7,-8,-9,-10,-11,-12,-13,-14,-15]
[null,null,16,-1,-1,-1,-1,-1,-1,-1,-1,-1,-1,-1,-1,-1,-2,-2,-3,-3,-4,-5,-6,-7,-8,-9,-10,-11,-12,-13,-14]
[null,null,18,-1,-1,-1,-1,-1,-1,-1,-1,-1,-1,-1,-1,-1,-1,-2,-2,-3,-3,-4,-5,-6,-7,-8,-9,-10,-11,-12,-13]
[null,null,20,-1,-1,-1,-1,-1,-1,-1,-1,-1,-1,-1,-1,-1,-1,-1,-2,-2,-3,-3,-4,-5,-6,-7,-8,-9,-10,-11,-12]
[null,null,22,-1,-1,-1,-1,-1,-1,-1,-1,-1,-1,-1,-1,-1,-1,-1,-1,-2,-2,-3,-3,-4,-5,-6,-7,-8,-9,-10,-11]
[null,null,24,-1,-1,-1,-1,-1,-1,-1,-1,-1,-1,-1,-1,-1,-1,-1,-1,-1,-2,-2,-3,-3,-4,-5,-6,-7,-8,-9,-10]