{"text_format":"1","workbook":"xlsx","n_sheets":21,"sheets":["MENU","ABOUT","NAMES","SEED","GAMES","RESULTS","RESULTS DATA","SCORES","BLOCK","SCORECARD","PLAYER","WORLD RANKING RESULTS","HANDICAP CARD","AHS1","HANDICAPS","PUBLISHING","MISC","BLOCK SCHEDULE","SCHEDULE","WAIT","TABLE"],"not_rendered":{"charts":0,"images":20,"macros":1,"external_links":1,"defined_names":261,"comments":0,"pivot_tables":0},"unopened":[],"bounds":{"document_bytes":16777216,"sheet_cells":100000,"rows_first":2000,"rows_last":500,"rows_between":2000,"halvings":0,"cell_chars":16384,"cell_head_chars":4096},"cells_cut":0,"cells_raw":0,"read":"whole","date_system":"1900"}

{"sheet":"MENU","index":0,"n_rows":0,"n_cols":0,"rows_kept":0,"cut":false,"hidden":false,"merged":[]}

{"sheet":"ABOUT","index":1,"n_rows":161,"n_cols":14,"rows_kept":161,"cut":false,"hidden":false,"merged":[[20,5,20,7],[21,5,21,7]]}
[]
[]
[]
[]
[]
[]
[]
[]
[]
[]
[]
[]
[]
[]
[]
[]
[]
[]
[]
[]
[]
[]
[]
[]
[]
[]
[]
[]
[]
[]
[]
[]
[]
[]
[]
[]
[]
[]
[]
[]
[]
[]
[]
[]
[]
[]
[]
[]
[]
[]
[]
[]
[]
[]
[]
[]
[]
[]
[]
[]
[]
[]
[]
[]
[]
[]
[]
[]
[]
[]
[]
[]
[]
[]
[]
[]
[]
[]
[]
[]
[]
[]
[]
[]
[]
[]
[]
[]
[]
[]
[]
[]
[]
[]
[]
[]
[]
[]
[]
[]
[]
[]
[]
[]
[]
[]
[]
[]
[]
[]
[]
[]
[]
[]
[]
[]
[]
[]
[]
[]
[]
[]
[]
[]
[]
[]
[]
[]
[]
[]
[]
[]
[]
[]
[]
[]
[]
[]
[]
[]
[]
[]
[]
[]
[]
[]
[]
[]
[]
[]
[]
[]
[]
[]
[]
[]
[]
[]
[]
[]
[null,null,null,null,null,null,null,null,null,null,null,null,null," "]

{"sheet":"NAMES","index":2,"n_rows":131,"n_cols":17,"rows_kept":131,"cut":false,"hidden":true,"merged":[]}
[]
[]
[null,null,null,"<- For Handicap Play insert an X here"]
[]
[null,null,null,"<- For doubles place an X here",null,null,null,null,null,null,null,null,null,null,"TEST DATA",null,"DATA BLANK"]
[null,null,null,null,{"$f":"IF(C5=\"X\",\" & \",\" \")","v":" "}]
["TOURNAMENT NAME",null,"Tournament","<- Enter tournament name",null,null,null,null,null,null,null,null,null,null,"Tournament",null,"Tournament"]
["GROUP NAME",null,"Group","<- Enter name of Group",null,null,null,null,null,null,null,null,null,null,"Group",null,"Group"]
["TOURNAMENT DATE",null,"Date",null,null,null,null,null,null,null,null,null,null,null,"Date",null,"Date"]
["BLOCK 1 NAME",null,"BLOCK 1","<- Enter name of Block",null,null,null,null,null,null,null,null,null,null,"BLOCK 1",null,"BLOCK 1"]
["SEED 1 - First Name",null,"Block 1",null,null,null,null,null,null,null,null,null,null,null,"Block 1",null,"Block 1"]
["Last Name",null,"Player 1",null,null,null,null,null,null,null,null,null,null,null,"Player 1",null,"Player 1"]
["ID Number"]
["Handicap",null,null,null,null,null,null,null,null,null,null,null,null,null,1]
["Index",null,null,null,null,null,null,null,null,null,null,null,null,null,1900]
["SEED 2 - First Name",null,"Block 1",null,null,null,null,null,null,null,null,null,null,null,"Block 1",null,"Block 1"]
["Last Name",null,"Player 2",null,null,null,null,null,null,null,null,null,null,null,"Player 2",null,"Player 2"]
["ID Number"]
["Handicap",null,null,null,null,null,null,null,null,null,null,null,null,null,2]
["Index",null,null,null,null,null,null,null,null,null,null,null,null,null,1800]
["SEED 3 - First Name",null,"Block 1",null,"Notes entered below will appear at the bottom of each player's sheet.",null,null,null,null,null,null,null,null,null,"Block 1",null,"Block 1"]
["Last Name",null,"Player 3","Note 1->","Time limit 2.5 hours, Turn After Bell (61.1.6). Quadway hoops (3 11/16\"), Dawson International balls",null,null,null,null,null,null,null,null,null,"Player 3",null,"Player 3"]
["ID Number",null,null,"Note 2->","Games may start early. Please be at the venue at least 30 minutes earlier than the scheduled start time."]
["Handicap",null,null,"Note 3->","Entry Fee $40 will be invoiced by email. Please pay by EFT using the invoice No. as reference.",null,null,null,null,null,null,null,null,null,3]
["Index",null,null,"Note 4->","Players please assist with setting and clearing courts.",null,null,null,null,null,null,null,null,null,1700]
["SEED 4 - First Name",null,"Block 1",null,null,null,null,null,null,null,null,null,null,null,"Block 1",null,"Block 1"]
["Last Name",null,"Player 4",null,"To hide the notes use spaces not deletes. A delete shows as a \"0\".",null,null,null,null,null,null,null,null,null,"Player 4",null,"Player 4"]
["ID Number"]
["Handicap",null,null,null,null,null,null,null,null,null,null,null,null,null,4]
["Index",null,null,null,null,null,null,null,null,null,null,null,null,null,1600]
["SEED 5 - First Name",null,"Block 1",null,null,null,null,null,null,null,null,null,null,null,"Block 1",null,"Block 1"]
["Last Name",null,"Player 5",null,null,null,null,null,null,null,null,null,null,null,"Player 5",null,"Player 5"]
["ID Number"]
["Handicap",null,null,null,null,null,null,null,null,null,null,null,null,null,5]
["Index",null,null,null,null,null,null,null,null,null,null,null,null,null,1500]
["SEED 6 - First Name",null,"Block 1",null,null,null,null,null,null,null,null,null,null,null,"Block 1",null,"Block 1"]
["Last Name",null,"Player 6",null,null,null,null,null,null,null,null,null,null,null,"Player 6",null,"Player 6"]
["ID Number"]
["Handicap",null,null,null,null,null,null,null,null,null,null,null,null,null,6]
["Index",null,null,null,null,null,null,null,null,null,null,null,null,null,1450]
["SEED 7 - First Name",null,"Block 1",null,null,null,null,null,null,null,null,null,null,null,"Block 1",null,"Block 1"]
["Last Name",null,"Player 7",null,null,null,null,null,null,null,null,null,null,null,"Player 7",null,"Player 7"]
["ID Number"]
["Handicap",null,null,null,null,null,null,null,null,null,null,null,null,null,7]
["Index",null,null,null,null,null,null,null,null,null,null,null,null,null,1400]
["SEED 8 - First Name",null,"Block 1",null,null,null,null,null,null,null,null,null,null,null,"Block 1",null,"Block 1"]
["Last Name",null,"Player 8",null,null,null,null,null,null,null,null,null,null,null,"Player 8",null,"Player 8"]
["ID Number"]
["Handicap",null,null,null,null,null,null,null,null,null,null,null,null,null,8]
["Index",null,null,null,null,null,null,null,null,null,null,null,null,null,1350]
["SEED 9 - First Name",null,"Block 1",null,null,null,null,null,null,null,null,null,null,null,"Block 1",null,"Block 1"]
["Last Name",null,"Player 9",null,null,null,null,null,null,null,null,null,null,null,"Player 9",null,"Player 9"]
["ID Number"]
["Handicap",null,null,null,null,null,null,null,null,null,null,null,null,null,9]
["Index",null,null,null,null,null,null,null,null,null,null,null,null,null,1300]
["SEED10 - First Name",null,"Block 1",null,null,null,null,null,null,null,null,null,null,null,"Block 1",null,"Block 1"]
["Last Name",null,"Player 10",null,null,null,null,null,null,null,null,null,null,null,"Player 10",null,"Player 10"]
["ID Number"]
["Handicap",null,null,null,null,null,null,null,null,null,null,null,null,null,10]
["Index",null,null,null,null,null,null,null,null,null,null,null,null,null,1250]
["SEED 11 - First Name",null,"Block 1",null,null,null,null,null,null,null,null,null,null,null,"Block 1",null,"Block 1"]
["Last Name",null,"Player 11",null,null,null,null,null,null,null,null,null,null,null,"Player 11",null,"Player 11"]
["ID Number"]
["Handicap",null,null,null,null,null,null,null,null,null,null,null,null,null,11]
["Index",null,null,null,null,null,null,null,null,null,null,null,null,null,1200]
["SEED 12 - First Name",null,"Block 1",null,null,null,null,null,null,null,null,null,null,null,"Block 1",null,"Block 1"]
["Last Name",null,"Player 12",null,null,null,null,null,null,null,null,null,null,null,"Player 12",null,"Player 12"]
["ID Number"]
["Handicap",null,null,null,null,null,null,null,null,null,null,null,null,null,12]
["Index",null,null,null,null,null,null,null,null,null,null,null,null,null,1150]
["BLOCK 2 NAME",null,"BLOCK 2","<- Enter name of Block",null,null,null,null,null,null,null,null,null,null,"BLOCK 2",null,"BLOCK 2"]
["SEED 1 - First Name",null,"Block 2",null,null,null,null,null,null,null,null,null,null,null,"Block 2",null,"Block 2"]
["Last Name",null,"Player 1",null,null,null,null,null,null,null,null,null,null,null,"Player 1",null,"Player 1"]
["ID Number"]
["Handicap",null,null,null,null,null,null,null,null,null,null,null,null,null,1]
["Index",null,null,null,null,null,null,null,null,null,null,null,null,null,1900]
["SEED 2 - First Name",null,"Block 2",null,null,null,null,null,null,null,null,null,null,null,"Block 2",null,"Block 2"]
["Last Name",null,"Player 2",null,null,null,null,null,null,null,null,null,null,null,"Player 2",null,"Player 2"]
["ID Number"]
["Handicap",null,null,null,null,null,null,null,null,null,null,null,null,null,2]
["Index",null,null,null,null,null,null,null,null,null,null,null,null,null,1800]
["SEED 3 - First Name",null,"Block 2",null,null,null,null,null,null,null,null,null,null,null,"Block 2",null,"Block 2"]
["Last Name",null,"Player 3",null,null,null,null,null,null,null,null,null,null,null,"Player 3",null,"Player 3"]
["ID Number"]
["Handicap",null,null,null,null,null,null,null,null,null,null,null,null,null,3]
["Index",null,null,null,null,null,null,null,null,null,null,null,null,null,1700]
["SEED 4 - First Name",null,"Block 2",null,null,null,null,null,null,null,null,null,null,null,"Block 2",null,"Block 2"]
["Last Name",null,"Player 4",null,null,null,null,null,null,null,null,null,null,null,"Player 4",null,"Player 4"]
["ID Number"]
["Handicap",null,null,null,null,null,null,null,null,null,null,null,null,null,4]
["Index",null,null,null,null,null,null,null,null,null,null,null,null,null,1600]
["SEED 5 - First Name",null,"Block 2",null,null,null,null,null,null,null,null,null,null,null,"Block 2",null,"Block 2"]
["Last Name",null,"Player 5",null,null,null,null,null,null,null,null,null,null,null,"Player 5",null,"Player 5"]
["ID Number"]
["Handicap",null,null,null,null,null,null,null,null,null,null,null,null,null,5]
["Index",null,null,null,null,null,null,null,null,null,null,null,null,null,1500]
["SEED 6 - First Name",null,"Block 2",null,null,null,null,null,null,null,null,null,null,null,"Block 2",null,"Block 2"]
["Last Name",null,"Player 6",null,null,null,null,null,null,null,null,null,null,null,"Player 6",null,"Player 6"]
["ID Number"]
["Handicap",null,null,null,null,null,null,null,null,null,null,null,null,null,6]
["Index",null,null,null,null,null,null,null,null,null,null,null,null,null,1450]
["SEED 7 - First Name",null,"Block 2",null,null,null,null,null,null,null,null,null,null,null,"Block 2",null,"Block 2"]
["Last Name",null,"Player 7",null,null,null,null,null,null,null,null,null,null,null,"Player 7",null,"Player 7"]
["ID Number"]
["Handicap",null,null,null,null,null,null,null,null,null,null,null,null,null,7]
["Index",null,null,null,null,null,null,null,null,null,null,null,null,null,1400]
["SEED 8 - First Name",null,"Block 2",null,null,null,null,null,null,null,null,null,null,null,"Block 2",null,"Block 2"]
["Last Name",null,"Player 8",null,null,null,null,null,null,null,null,null,null,null,"Player 8",null,"Player 8"]
["ID Number"]
["Handicap",null,null,null,null,null,null,null,null,null,null,null,null,null,8]
["Index",null,null,null,null,null,null,null,null,null,null,null,null,null,1350]
["SEED 9 - First Name",null,"Block 2",null,null,null,null,null,null,null,null,null,null,null,"Block 2",null,"Block 2"]
["Last Name",null,"Player 9",null,null,null,null,null,null,null,null,null,null,null,"Player 9",null,"Player 9"]
["ID Number"]
["Handicap",null,null,null,null,null,null,null,null,null,null,null,null,null,9]
["Index",null,null,null,null,null,null,null,null,null,null,null,null,null,1300]
["SEED 10 - First Name",null,"Block 2",null,null,null,null,null,null,null,null,null,null,null,"Block 2",null,"Block 2"]
["Last Name",null,"Player 10",null,null,null,null,null,null,null,null,null,null,null,"Player 10",null,"Player 10"]
["ID Number"]
["Handicap",null,null,null,null,null,null,null,null,null,null,null,null,null,10]
["Index",null,null,null,null,null,null,null,null,null,null,null,null,null,1250]
["SEED 11 - First Name",null,"Block 2",null,null,null,null,null,null,null,null,null,null,null,"Block 2",null,"Block 2"]
["Last Name",null,"Player 11",null,null,null,null,null,null,null,null,null,null,null,"Player 11",null,"Player 11"]
["ID Number"]
["Handicap",null,null,null,null,null,null,null,null,null,null,null,null,null,11]
["Index",null,null,null,null,null,null,null,null,null,null,null,null,null,1200]
["SEED 12 - First Name",null,"Block 2",null,null,null,null,null,null,null,null,null,null,null,"Block 2",null,"Block 2"]
["Last Name",null,"Player 12",null,null,null,null,null,null,null,null,null,null,null,"Player 12",null,"Player 12"]
["ID Number"]
["Handicap",null,null,null,null,null,null,null,null,null,null,null,null,null,12]
["Index",null,null,null,null,null,null,null,null,null,null,null,null,null,1150]

{"sheet":"SEED","index":3,"n_rows":19,"n_cols":10,"rows_kept":19,"cut":false,"hidden":false,"merged":[]}
[]
[null,null,null,null,null,null,{"$f":"NAMES!C7","v":"Tournament"}]
[null,null,null,null,null,null,{"$f":"NAMES!C8","v":"Group"}]
[]
[null,null,null,{"$f":"NAMES!C10","v":"BLOCK 1"},null,null,null,null,{"$f":"NAMES!C71","v":"BLOCK 2"}]
[null,"ID","INDEX","NAME","H/CAP",null,"ID","INDEX","NAME","H/CAP"]
[null,{"$f":"NAMES!$C$13","v":0},{"$f":"NAMES!$C$15","v":0},{"$f":"\" \"&NAMES!C11&NAMES!$E$6&NAMES!C12","v":" Block 1 Player 1"},{"$f":"NAMES!C14","v":0},null,{"$f":"NAMES!$C$74","v":0},{"$f":"NAMES!$C$76","v":0},{"$f":"\" \"&NAMES!C72&NAMES!$E$6&NAMES!C73","v":" Block 2 Player 1"},{"$f":"NAMES!C75","v":0}]
[null,{"$f":"NAMES!$C$18","v":0},{"$f":"NAMES!$C$20","v":0},{"$f":"\" \"&NAMES!C16&NAMES!$E$6&NAMES!C17","v":" Block 1 Player 2"},{"$f":"NAMES!C19","v":0},null,{"$f":"NAMES!$C$79","v":0},{"$f":"NAMES!$C$81","v":0},{"$f":"\" \"&NAMES!C77&NAMES!$E$6&NAMES!C78","v":" Block 2 Player 2"},{"$f":"NAMES!C80","v":0}]
[null,{"$f":"NAMES!$C$23","v":0},{"$f":"NAMES!$C$25","v":0},{"$f":"\" \"&NAMES!C21&NAMES!$E$6&NAMES!C22","v":" Block 1 Player 3"},{"$f":"NAMES!C24","v":0},null,{"$f":"NAMES!$C$84","v":0},{"$f":"NAMES!$C$86","v":0},{"$f":"\" \"&NAMES!C82&NAMES!$E$6&NAMES!C83","v":" Block 2 Player 3"},{"$f":"NAMES!C85","v":0}]
[null,{"$f":"NAMES!$C$28","v":0},{"$f":"NAMES!$C$30","v":0},{"$f":"\" \"&NAMES!C26&NAMES!$E$6&NAMES!C27","v":" Block 1 Player 4"},{"$f":"NAMES!C29","v":0},null,{"$f":"NAMES!$C$89","v":0},{"$f":"NAMES!$C$91","v":0},{"$f":"\" \"&NAMES!C87&NAMES!$E$6&NAMES!C88","v":" Block 2 Player 4"},{"$f":"NAMES!C90","v":0}]
[null,{"$f":"NAMES!$C$33","v":0},{"$f":"NAMES!$C$35","v":0},{"$f":"\" \"&NAMES!C31&NAMES!$E$6&NAMES!C32","v":" Block 1 Player 5"},{"$f":"NAMES!C34","v":0},null,{"$f":"NAMES!$C$94","v":0},{"$f":"NAMES!$C$96","v":0},{"$f":"\" \"&NAMES!C92&NAMES!$E$6&NAMES!C93","v":" Block 2 Player 5"},{"$f":"NAMES!C95","v":0}]
[null,{"$f":"NAMES!$C$38","v":0},{"$f":"NAMES!$C$40","v":0},{"$f":"\" \"&NAMES!C36&NAMES!$E$6&NAMES!C37","v":" Block 1 Player 6"},{"$f":"NAMES!C39","v":0},null,{"$f":"NAMES!$C$99","v":0},{"$f":"NAMES!$C$101","v":0},{"$f":"\" \"&NAMES!C97&NAMES!$E$6&NAMES!C98","v":" Block 2 Player 6"},{"$f":"NAMES!C100","v":0}]
[null,{"$f":"NAMES!$C$43","v":0},{"$f":"NAMES!$C$45","v":0},{"$f":"\" \"&NAMES!C41&NAMES!$E$6&NAMES!C42","v":" Block 1 Player 7"},{"$f":"NAMES!C44","v":0},null,{"$f":"NAMES!$C$104","v":0},{"$f":"NAMES!$C$106","v":0},{"$f":"\" \"&NAMES!C102&NAMES!$E$6&NAMES!C103","v":" Block 2 Player 7"},{"$f":"NAMES!C105","v":0}]
[null,{"$f":"NAMES!$C$48","v":0},{"$f":"NAMES!$C$50","v":0},{"$f":"\" \"&NAMES!C46&NAMES!$E$6&NAMES!C47","v":" Block 1 Player 8"},{"$f":"NAMES!C49","v":0},null,{"$f":"NAMES!$C$109","v":0},{"$f":"NAMES!$C$111","v":0},{"$f":"\" \"&NAMES!C107&NAMES!$E$6&NAMES!C108","v":" Block 2 Player 8"},{"$f":"NAMES!C110","v":0}]
[null,{"$f":"NAMES!$C$53","v":0},{"$f":"NAMES!$C$55","v":0},{"$f":"\" \"&NAMES!C51&NAMES!$E$6&NAMES!C52","v":" Block 1 Player 9"},{"$f":"NAMES!C54","v":0},null,{"$f":"NAMES!$C$114","v":0},{"$f":"NAMES!$C$116","v":0},{"$f":"\" \"&NAMES!C112&NAMES!$E$6&NAMES!C113","v":" Block 2 Player 9"},{"$f":"NAMES!C115","v":0}]
[null,{"$f":"NAMES!$C$58","v":0},{"$f":"NAMES!$C$60","v":0},{"$f":"\" \"&NAMES!C56&NAMES!$E$6&NAMES!C57","v":" Block 1 Player 10"},{"$f":"NAMES!C59","v":0},null,{"$f":"NAMES!$C$119","v":0},{"$f":"NAMES!$C$121","v":0},{"$f":"\" \"&NAMES!C117&NAMES!$E$6&NAMES!C118","v":" Block 2 Player 10"},{"$f":"NAMES!C120","v":0}]
[null,{"$f":"NAMES!$C$63","v":0},{"$f":"NAMES!$C$65","v":0},{"$f":"\" \"&NAMES!C61&NAMES!$E$6&NAMES!C62","v":" Block 1 Player 11"},{"$f":"NAMES!C64","v":0},null,{"$f":"NAMES!$C$124","v":0},{"$f":"NAMES!$C$126","v":0},{"$f":"\" \"&NAMES!C122&NAMES!$E$6&NAMES!C123","v":" Block 2 Player 11"},{"$f":"NAMES!C125","v":0}]
[null,{"$f":"NAMES!$C$68","v":0},{"$f":"NAMES!$C$70","v":0},{"$f":"\" \"&NAMES!C66&NAMES!$E$6&NAMES!C67","v":" Block 1 Player 12"},{"$f":"NAMES!C69","v":0},null,{"$f":"NAMES!$C$129","v":0},{"$f":"NAMES!$C$131","v":0},{"$f":"\" \"&NAMES!C127&NAMES!$E$6&NAMES!C128","v":" Block 2 Player 12"},{"$f":"NAMES!C130","v":0}]
[null,null,null,"Average Block Handicap   ",{"$f":"IF(ISERR(AVERAGE(E7:E16)),\" \",AVERAGE(E7:E16))","v":0},null,null,null,"Average Block Handicap   ",{"$f":"IF(ISERR(AVERAGE(J7:J16)),\" \",AVERAGE(J7:J16))","v":0}]

{"sheet":"GAMES","index":4,"n_rows":137,"n_cols":10,"rows_kept":137,"cut":false,"hidden":false,"merged":[[1,8,1,9]]}
[]
[null,null,null,null,null,null,null,null,"TEST DATA"]
[null,"TIME","DAY","COURT",{"$f":"SEED!D5","v":"BLOCK 1"},null,{"$f":"SEED!G3","v":"Group"}]
[1,null,null,null,{"$f":"SEED!$D$7","v":" Block 1 Player 1"},"vs",{"$f":"SEED!$D$9","v":" Block 1 Player 3"},null,"08:00:00","2014-01-22"]
[2,null,null,null,{"$f":"SEED!$D$8","v":" Block 1 Player 2"},"vs",{"$f":"SEED!$D$10","v":" Block 1 Player 4"},null,"08:00:00","2014-01-22"]
[3,null,null,null,{"$f":"SEED!$D$18","v":" Block 1 Player 12"},"vs",{"$f":"SEED!$D$11","v":" Block 1 Player 5"},null,"08:00:00","2014-01-22"]
[4,null,null,null,{"$f":"SEED!$D$17","v":" Block 1 Player 11"},"vs",{"$f":"SEED!$D$12","v":" Block 1 Player 6"},null,"08:00:00","2014-01-22"]
[5,null,null,null,{"$f":"SEED!$D$16","v":" Block 1 Player 10"},"vs",{"$f":"SEED!$D$13","v":" Block 1 Player 7"},null,"08:00:00","2014-01-22"]
[6,null,null,null,{"$f":"SEED!$D$15","v":" Block 1 Player 9"},"vs",{"$f":"SEED!$D$14","v":" Block 1 Player 8"},null,"08:00:00","2014-01-22"]
[7,null,null,null,{"$f":"SEED!$D$7","v":" Block 1 Player 1"},"vs",{"$f":"SEED!$D$10","v":" Block 1 Player 4"},null,"11:00:00","2014-01-22"]
[8,null,null,null,{"$f":"SEED!$D$11","v":" Block 1 Player 5"},"vs",{"$f":"SEED!$D$9","v":" Block 1 Player 3"},null,"11:00:00","2014-01-22"]
[9,null,null,null,{"$f":"SEED!$D$8","v":" Block 1 Player 2"},"vs",{"$f":"SEED!$D$12","v":" Block 1 Player 6"},null,"11:00:00","2014-01-22"]
[10,null,null,null,{"$f":"SEED!$D$18","v":" Block 1 Player 12"},"vs",{"$f":"SEED!$D$13","v":" Block 1 Player 7"},null,"11:00:00","2014-01-22"]
[11,null,null,null,{"$f":"SEED!$D$17","v":" Block 1 Player 11"},"vs",{"$f":"SEED!$D$14","v":" Block 1 Player 8"},null,"11:00:00","2014-01-22"]
[12,null,null,null,{"$f":"SEED!$D$16","v":" Block 1 Player 10"},"vs",{"$f":"SEED!$D$15","v":" Block 1 Player 9"},null,"11:00:00","2014-01-22"]
[13,null,null,null,{"$f":"SEED!$D$7","v":" Block 1 Player 1"},"vs",{"$f":"SEED!$D$11","v":" Block 1 Player 5"},null,"14:00:00","2014-01-22"]
[14,null,null,null,{"$f":"SEED!$D$10","v":" Block 1 Player 4"},"vs",{"$f":"SEED!$D$12","v":" Block 1 Player 6"},null,"14:00:00","2014-01-22"]
[15,null,null,null,{"$f":"SEED!$D$9","v":" Block 1 Player 3"},"vs",{"$f":"SEED!$D$13","v":" Block 1 Player 7"},null,"14:00:00","2014-01-22"]
[16,null,null,null,{"$f":"SEED!$D$8","v":" Block 1 Player 2"},"vs",{"$f":"SEED!$D$14","v":" Block 1 Player 8"},null,"14:00:00","2014-01-22"]
[17,null,null,null,{"$f":"SEED!$D$18","v":" Block 1 Player 12"},"vs",{"$f":"SEED!$D$15","v":" Block 1 Player 9"},null,"14:00:00","2014-01-22"]
[18,null,null,null,{"$f":"SEED!$D$17","v":" Block 1 Player 11"},"vs",{"$f":"SEED!$D$16","v":" Block 1 Player 10"},null,"14:00:00","2014-01-22"]
[19,null,null,null,{"$f":"SEED!$D$7","v":" Block 1 Player 1"},"vs",{"$f":"SEED!$D$12","v":" Block 1 Player 6"},null,"08:00:00","2014-01-23"]
[20,null,null,null,{"$f":"SEED!$D$11","v":" Block 1 Player 5"},"vs",{"$f":"SEED!$D$13","v":" Block 1 Player 7"},null,"08:00:00","2014-01-23"]
[21,null,null,null,{"$f":"SEED!$D$10","v":" Block 1 Player 4"},"vs",{"$f":"SEED!$D$14","v":" Block 1 Player 8"},null,"08:00:00","2014-01-23"]
[22,null,null,null,{"$f":"SEED!$D$9","v":" Block 1 Player 3"},"vs",{"$f":"SEED!$D$15","v":" Block 1 Player 9"},null,"08:00:00","2014-01-23"]
[23,null,null,null,{"$f":"SEED!$D$8","v":" Block 1 Player 2"},"vs",{"$f":"SEED!$D$16","v":" Block 1 Player 10"},null,"08:00:00","2014-01-23"]
[24,null,null,null,{"$f":"SEED!$D$18","v":" Block 1 Player 12"},"vs",{"$f":"SEED!$D$17","v":" Block 1 Player 11"},null,"08:00:00","2014-01-23"]
[25,null,null,null,{"$f":"SEED!$D$7","v":" Block 1 Player 1"},"vs",{"$f":"SEED!$D$13","v":" Block 1 Player 7"},null,"11:00:00","2014-01-23"]
[26,null,null,null,{"$f":"SEED!$D$12","v":" Block 1 Player 6"},"vs",{"$f":"SEED!$D$14","v":" Block 1 Player 8"},null,"11:00:00","2014-01-23"]
[27,null,null,null,{"$f":"SEED!$D$11","v":" Block 1 Player 5"},"vs",{"$f":"SEED!$D$15","v":" Block 1 Player 9"},null,"11:00:00","2014-01-23"]
[28,null,null,null,{"$f":"SEED!$D$10","v":" Block 1 Player 4"},"vs",{"$f":"SEED!$D$16","v":" Block 1 Player 10"},null,"11:00:00","2014-01-23"]
[29,null,null,null,{"$f":"SEED!$D$9","v":" Block 1 Player 3"},"vs",{"$f":"SEED!$D$17","v":" Block 1 Player 11"},null,"11:00:00","2014-01-23"]
[30,null,null,null,{"$f":"SEED!$D$8","v":" Block 1 Player 2"},"vs",{"$f":"SEED!$D$18","v":" Block 1 Player 12"},null,"11:00:00","2014-01-23"]
[31,null,null,null,{"$f":"SEED!$D$7","v":" Block 1 Player 1"},"vs",{"$f":"SEED!$D$14","v":" Block 1 Player 8"},null,"14:00:00","2014-01-23"]
[32,null,null,null,{"$f":"SEED!$D$13","v":" Block 1 Player 7"},"vs",{"$f":"SEED!$D$15","v":" Block 1 Player 9"},null,"14:00:00","2014-01-23"]
[33,null,null,null,{"$f":"SEED!$D$12","v":" Block 1 Player 6"},"vs",{"$f":"SEED!$D$16","v":" Block 1 Player 10"},null,"14:00:00","2014-01-23"]
[34,null,null,null,{"$f":"SEED!$D$11","v":" Block 1 Player 5"},"vs",{"$f":"SEED!$D$17","v":" Block 1 Player 11"},null,"14:00:00","2014-01-23"]
[35,null,null,null,{"$f":"SEED!$D$10","v":" Block 1 Player 4"},"vs",{"$f":"SEED!$D$18","v":" Block 1 Player 12"},null,"14:00:00","2014-01-23"]
[36,null,null,null,{"$f":"SEED!$D$9","v":" Block 1 Player 3"},"vs",{"$f":"SEED!$D$8","v":" Block 1 Player 2"},null,"14:00:00","2014-01-23"]
[37,null,null,null,{"$f":"SEED!$D$7","v":" Block 1 Player 1"},"vs",{"$f":"SEED!$D$15","v":" Block 1 Player 9"},null,"08:00:00","2014-01-24"]
[38,null,null,null,{"$f":"SEED!$D$14","v":" Block 1 Player 8"},"vs",{"$f":"SEED!$D$16","v":" Block 1 Player 10"},null,"08:00:00","2014-01-24"]
[39,null,null,null,{"$f":"SEED!$D$13","v":" Block 1 Player 7"},"vs",{"$f":"SEED!$D$17","v":" Block 1 Player 11"},null,"08:00:00","2014-01-24"]
[40,null,null,null,{"$f":"SEED!$D$12","v":" Block 1 Player 6"},"vs",{"$f":"SEED!$D$18","v":" Block 1 Player 12"},null,"08:00:00","2014-01-24"]
[41,null,null,null,{"$f":"SEED!$D$11","v":" Block 1 Player 5"},"vs",{"$f":"SEED!$D$8","v":" Block 1 Player 2"},null,"08:00:00","2014-01-24"]
[42,null,null,null,{"$f":"SEED!$D$10","v":" Block 1 Player 4"},"vs",{"$f":"SEED!$D$9","v":" Block 1 Player 3"},null,"08:00:00","2014-01-24"]
[43,null,null,null,{"$f":"SEED!$D$7","v":" Block 1 Player 1"},"vs",{"$f":"SEED!$D$16","v":" Block 1 Player 10"},null,"11:00:00","2014-01-24"]
[44,null,null,null,{"$f":"SEED!$D$15","v":" Block 1 Player 9"},"vs",{"$f":"SEED!$D$17","v":" Block 1 Player 11"},null,"11:00:00","2014-01-24"]
[45,null,null,null,{"$f":"SEED!$D$14","v":" Block 1 Player 8"},"vs",{"$f":"SEED!$D$18","v":" Block 1 Player 12"},null,"11:00:00","2014-01-24"]
[46,null,null,null,{"$f":"SEED!$D$13","v":" Block 1 Player 7"},"vs",{"$f":"SEED!$D$8","v":" Block 1 Player 2"},null,"11:00:00","2014-01-24"]
[47,null,null,null,{"$f":"SEED!$D$12","v":" Block 1 Player 6"},"vs",{"$f":"SEED!$D$9","v":" Block 1 Player 3"},null,"11:00:00","2014-01-24"]
[48,null,null,null,{"$f":"SEED!$D$11","v":" Block 1 Player 5"},"vs",{"$f":"SEED!$D$10","v":" Block 1 Player 4"},null,"11:00:00","2014-01-24"]
[49,null,null,null,{"$f":"SEED!$D$7","v":" Block 1 Player 1"},"vs",{"$f":"SEED!$D$17","v":" Block 1 Player 11"},null,"14:00:00","2014-01-24"]
[50,null,null,null,{"$f":"SEED!$D$16","v":" Block 1 Player 10"},"vs",{"$f":"SEED!$D$18","v":" Block 1 Player 12"},null,"14:00:00","2014-01-24"]
[51,null,null,null,{"$f":"SEED!$D$8","v":" Block 1 Player 2"},"vs",{"$f":"SEED!$D$15","v":" Block 1 Player 9"},null,"14:00:00","2014-01-24"]
[52,null,null,null,{"$f":"SEED!$D$9","v":" Block 1 Player 3"},"vs",{"$f":"SEED!$D$14","v":" Block 1 Player 8"},null,"14:00:00","2014-01-24"]
[53,null,null,null,{"$f":"SEED!$D$10","v":" Block 1 Player 4"},"vs",{"$f":"SEED!$D$13","v":" Block 1 Player 7"},null,"14:00:00","2014-01-24"]
[54,null,null,null,{"$f":"SEED!$D$11","v":" Block 1 Player 5"},"vs",{"$f":"SEED!$D$12","v":" Block 1 Player 6"},null,"14:00:00","2014-01-24"]
[55,null,null,null,{"$f":"SEED!$D$7","v":" Block 1 Player 1"},"vs",{"$f":"SEED!$D$18","v":" Block 1 Player 12"},null,"08:00:00","2014-01-25"]
[56,null,null,null,{"$f":"SEED!$D$17","v":" Block 1 Player 11"},"vs",{"$f":"SEED!$D$8","v":" Block 1 Player 2"},null,"08:00:00","2014-01-25"]
[57,null,null,null,{"$f":"SEED!$D$16","v":" Block 1 Player 10"},"vs",{"$f":"SEED!$D$9","v":" Block 1 Player 3"},null,"08:00:00","2014-01-25"]
[58,null,null,null,{"$f":"SEED!$D$15","v":" Block 1 Player 9"},"vs",{"$f":"SEED!$D$10","v":" Block 1 Player 4"},null,"08:00:00","2014-01-25"]
[59,null,null,null,{"$f":"SEED!$D$14","v":" Block 1 Player 8"},"vs",{"$f":"SEED!$D$11","v":" Block 1 Player 5"},null,"08:00:00","2014-01-25"]
[60,null,null,null,{"$f":"SEED!$D$13","v":" Block 1 Player 7"},"vs",{"$f":"SEED!$D$12","v":" Block 1 Player 6"},null,"08:00:00","2014-01-25"]
[61,null,null,null,{"$f":"SEED!$D$7","v":" Block 1 Player 1"},"vs",{"$f":"SEED!$D$8","v":" Block 1 Player 2"},null,"11:00:00","2014-01-25"]
[62,null,null,null,{"$f":"SEED!$D$18","v":" Block 1 Player 12"},"vs",{"$f":"SEED!$D$9","v":" Block 1 Player 3"},null,"11:00:00","2014-01-25"]
[63,null,null,null,{"$f":"SEED!$D$17","v":" Block 1 Player 11"},"vs",{"$f":"SEED!$D$10","v":" Block 1 Player 4"},null,"11:00:00","2014-01-25"]
[64,null,null,null,{"$f":"SEED!$D$16","v":" Block 1 Player 10"},"vs",{"$f":"SEED!$D$11","v":" Block 1 Player 5"},null,"11:00:00","2014-01-25"]
[65,null,null,null,{"$f":"SEED!$D$15","v":" Block 1 Player 9"},"vs",{"$f":"SEED!$D$12","v":" Block 1 Player 6"},null,"11:00:00","2014-01-25"]
[66,null,null,null,{"$f":"SEED!$D$14","v":" Block 1 Player 8"},"vs",{"$f":"SEED!$D$13","v":" Block 1 Player 7"},null,"11:00:00","2014-01-25"]
[]
[null,"TIME","DAY","COURT",{"$f":"SEED!$I$5","v":"BLOCK 2"},null,{"$f":"SEED!$G$3","v":"Group"}]
[67,null,null,null,{"$f":"SEED!I7","v":" Block 2 Player 1"},"vs",{"$f":"SEED!I9","v":" Block 2 Player 3"}]
[68,null,null,null,{"$f":"SEED!I8","v":" Block 2 Player 2"},"vs",{"$f":"SEED!I10","v":" Block 2 Player 4"}]
[69,null,null,null,{"$f":"SEED!I18","v":" Block 2 Player 12"},"vs",{"$f":"SEED!I11","v":" Block 2 Player 5"}]
[70,null,null,null,{"$f":"SEED!I17","v":" Block 2 Player 11"},"vs",{"$f":"SEED!I12","v":" Block 2 Player 6"}]
[71,null,null,null,{"$f":"SEED!I16","v":" Block 2 Player 10"},"vs",{"$f":"SEED!I13","v":" Block 2 Player 7"}]
[72,null,null,null,{"$f":"SEED!I15","v":" Block 2 Player 9"},"vs",{"$f":"SEED!I14","v":" Block 2 Player 8"}]
[73,null,null,null,{"$f":"SEED!I7","v":" Block 2 Player 1"},"vs",{"$f":"SEED!I10","v":" Block 2 Player 4"}]
[74,null,null,null,{"$f":"SEED!I11","v":" Block 2 Player 5"},"vs",{"$f":"SEED!I9","v":" Block 2 Player 3"}]
[75,null,null,null,{"$f":"SEED!I8","v":" Block 2 Player 2"},"vs",{"$f":"SEED!I12","v":" Block 2 Player 6"}]
[76,null,null,null,{"$f":"SEED!I18","v":" Block 2 Player 12"},"vs",{"$f":"SEED!I13","v":" Block 2 Player 7"}]
[77,null,null,null,{"$f":"SEED!I17","v":" Block 2 Player 11"},"vs",{"$f":"SEED!I14","v":" Block 2 Player 8"}]
[78,null,null,null,{"$f":"SEED!I16","v":" Block 2 Player 10"},"vs",{"$f":"SEED!I15","v":" Block 2 Player 9"}]
[79,null,null,null,{"$f":"SEED!I7","v":" Block 2 Player 1"},"vs",{"$f":"SEED!I11","v":" Block 2 Player 5"}]
[80,null,null,null,{"$f":"SEED!I10","v":" Block 2 Player 4"},"vs",{"$f":"SEED!I12","v":" Block 2 Player 6"}]
[81,null,null,null,{"$f":"SEED!I9","v":" Block 2 Player 3"},"vs",{"$f":"SEED!I13","v":" Block 2 Player 7"}]
[82,null,null,null,{"$f":"SEED!I8","v":" Block 2 Player 2"},"vs",{"$f":"SEED!I14","v":" Block 2 Player 8"}]
[83,null,null,null,{"$f":"SEED!I18","v":" Block 2 Player 12"},"vs",{"$f":"SEED!I15","v":" Block 2 Player 9"}]
[84,null,null,null,{"$f":"SEED!I17","v":" Block 2 Player 11"},"vs",{"$f":"SEED!I16","v":" Block 2 Player 10"}]
[85,null,null,null,{"$f":"SEED!I7","v":" Block 2 Player 1"},"vs",{"$f":"SEED!I12","v":" Block 2 Player 6"}]
[86,null,null,null,{"$f":"SEED!I11","v":" Block 2 Player 5"},"vs",{"$f":"SEED!I13","v":" Block 2 Player 7"}]
[87,null,null,null,{"$f":"SEED!I10","v":" Block 2 Player 4"},"vs",{"$f":"SEED!I14","v":" Block 2 Player 8"}]
[88,null,null,null,{"$f":"SEED!I9","v":" Block 2 Player 3"},"vs",{"$f":"SEED!I15","v":" Block 2 Player 9"}]
[89,null,null,null,{"$f":"SEED!I8","v":" Block 2 Player 2"},"vs",{"$f":"SEED!I16","v":" Block 2 Player 10"}]
[90,null,null,null,{"$f":"SEED!I18","v":" Block 2 Player 12"},"vs",{"$f":"SEED!I17","v":" Block 2 Player 11"}]
[91,null,null,null,{"$f":"SEED!I7","v":" Block 2 Player 1"},"vs",{"$f":"SEED!I13","v":" Block 2 Player 7"}]
[92,null,null,null,{"$f":"SEED!I12","v":" Block 2 Player 6"},"vs",{"$f":"SEED!I14","v":" Block 2 Player 8"}]
[93,null,null,null,{"$f":"SEED!I11","v":" Block 2 Player 5"},"vs",{"$f":"SEED!I15","v":" Block 2 Player 9"}]
[94,null,null,null,{"$f":"SEED!I10","v":" Block 2 Player 4"},"vs",{"$f":"SEED!I16","v":" Block 2 Player 10"}]
[95,null,null,null,{"$f":"SEED!I9","v":" Block 2 Player 3"},"vs",{"$f":"SEED!I17","v":" Block 2 Player 11"}]
[96,null,null,null,{"$f":"SEED!I8","v":" Block 2 Player 2"},"vs",{"$f":"SEED!I18","v":" Block 2 Player 12"}]
[97,null,null,null,{"$f":"SEED!I7","v":" Block 2 Player 1"},"vs",{"$f":"SEED!I14","v":" Block 2 Player 8"}]
[98,null,null,null,{"$f":"SEED!I13","v":" Block 2 Player 7"},"vs",{"$f":"SEED!I15","v":" Block 2 Player 9"}]
[99,null,null,null,{"$f":"SEED!I12","v":" Block 2 Player 6"},"vs",{"$f":"SEED!I16","v":" Block 2 Player 10"}]
[100,null,null,null,{"$f":"SEED!I11","v":" Block 2 Player 5"},"vs",{"$f":"SEED!I17","v":" Block 2 Player 11"}]
[101,null,null,null,{"$f":"SEED!I10","v":" Block 2 Player 4"},"vs",{"$f":"SEED!I18","v":" Block 2 Player 12"}]
[102,null,null,null,{"$f":"SEED!I9","v":" Block 2 Player 3"},"vs",{"$f":"SEED!I8","v":" Block 2 Player 2"}]
[103,null,null,null,{"$f":"SEED!I7","v":" Block 2 Player 1"},"vs",{"$f":"SEED!I15","v":" Block 2 Player 9"}]
[104,null,null,null,{"$f":"SEED!I14","v":" Block 2 Player 8"},"vs",{"$f":"SEED!I16","v":" Block 2 Player 10"}]
[105,null,null,null,{"$f":"SEED!I13","v":" Block 2 Player 7"},"vs",{"$f":"SEED!I17","v":" Block 2 Player 11"}]
[106,null,null,null,{"$f":"SEED!I12","v":" Block 2 Player 6"},"vs",{"$f":"SEED!I18","v":" Block 2 Player 12"}]
[107,null,null,null,{"$f":"SEED!I11","v":" Block 2 Player 5"},"vs",{"$f":"SEED!I8","v":" Block 2 Player 2"}]
[108,null,null,null,{"$f":"SEED!I10","v":" Block 2 Player 4"},"vs",{"$f":"SEED!I9","v":" Block 2 Player 3"}]
[109,null,null,null,{"$f":"SEED!I7","v":" Block 2 Player 1"},"vs",{"$f":"SEED!I16","v":" Block 2 Player 10"}]
[110,null,null,null,{"$f":"SEED!I15","v":" Block 2 Player 9"},"vs",{"$f":"SEED!I17","v":" Block 2 Player 11"}]
[111,null,null,null,{"$f":"SEED!I14","v":" Block 2 Player 8"},"vs",{"$f":"SEED!I18","v":" Block 2 Player 12"}]
[112,null,null,null,{"$f":"SEED!I13","v":" Block 2 Player 7"},"vs",{"$f":"SEED!I8","v":" Block 2 Player 2"}]
[113,null,null,null,{"$f":"SEED!I12","v":" Block 2 Player 6"},"vs",{"$f":"SEED!I9","v":" Block 2 Player 3"}]
[114,null,null,null,{"$f":"SEED!I11","v":" Block 2 Player 5"},"vs",{"$f":"SEED!I10","v":" Block 2 Player 4"}]
[115,null,null,null,{"$f":"SEED!I7","v":" Block 2 Player 1"},"vs",{"$f":"SEED!I17","v":" Block 2 Player 11"}]
[116,null,null,null,{"$f":"SEED!I16","v":" Block 2 Player 10"},"vs",{"$f":"SEED!I18","v":" Block 2 Player 12"}]
[117,null,null,null,{"$f":"SEED!I8","v":" Block 2 Player 2"},"vs",{"$f":"SEED!I15","v":" Block 2 Player 9"}]
[118,null,null,null,{"$f":"SEED!I9","v":" Block 2 Player 3"},"vs",{"$f":"SEED!I14","v":" Block 2 Player 8"}]
[119,null,null,null,{"$f":"SEED!I10","v":" Block 2 Player 4"},"vs",{"$f":"SEED!I13","v":" Block 2 Player 7"}]
[120,null,null,null,{"$f":"SEED!I11","v":" Block 2 Player 5"},"vs",{"$f":"SEED!I12","v":" Block 2 Player 6"}]
[121,null,null,null,{"$f":"SEED!I7","v":" Block 2 Player 1"},"vs",{"$f":"SEED!I18","v":" Block 2 Player 12"}]
[122,null,null,null,{"$f":"SEED!I17","v":" Block 2 Player 11"},"vs",{"$f":"SEED!I8","v":" Block 2 Player 2"}]
[123,null,null,null,{"$f":"SEED!I16","v":" Block 2 Player 10"},"vs",{"$f":"SEED!I9","v":" Block 2 Player 3"}]
[124,null,null,null,{"$f":"SEED!I15","v":" Block 2 Player 9"},"vs",{"$f":"SEED!I10","v":" Block 2 Player 4"}]
[125,null,null,null,{"$f":"SEED!I14","v":" Block 2 Player 8"},"vs",{"$f":"SEED!I11","v":" Block 2 Player 5"}]
[126,null,null,null,{"$f":"SEED!I13","v":" Block 2 Player 7"},"vs",{"$f":"SEED!I12","v":" Block 2 Player 6"}]
[127,null,null,null,{"$f":"SEED!I7","v":" Block 2 Player 1"},"vs",{"$f":"SEED!I8","v":" Block 2 Player 2"}]
[128,null,null,null,{"$f":"SEED!I18","v":" Block 2 Player 12"},"vs",{"$f":"SEED!I9","v":" Block 2 Player 3"}]
[129,null,null,null,{"$f":"SEED!I17","v":" Block 2 Player 11"},"vs",{"$f":"SEED!I10","v":" Block 2 Player 4"}]
[130,null,null,null,{"$f":"SEED!I16","v":" Block 2 Player 10"},"vs",{"$f":"SEED!I11","v":" Block 2 Player 5"}]
[131,null,null,null,{"$f":"SEED!I15","v":" Block 2 Player 9"},"vs",{"$f":"SEED!I12","v":" Block 2 Player 6"}]
[132,null,null,null,{"$f":"SEED!I14","v":" Block 2 Player 8"},"vs",{"$f":"SEED!I13","v":" Block 2 Player 7"}]

{"sheet":"RESULTS","index":5,"n_rows":57,"n_cols":28,"rows_kept":57,"cut":false,"hidden":true,"merged":[[27,1,27,4],[27,9,27,12],[57,9,57,12],[57,1,57,4]]}
[]
[]
[null,{"$f":"NAMES!$C$10","v":"BLOCK 1"},null,null,null,{"$f":"GAMES!B2","v":0}]
[null,null,{"$f":"SEED!$D$7","v":" Block 1 Player 1"},{"$f":"'RESULTS DATA'!D4","v":-1E-3},{"$f":"'RESULTS DATA'!E4","v":-1E-3},null,{"$f":"SEED!$D$7","v":" Block 1 Player 1"},{"$f":"'RESULTS DATA'!D28","v":-1E-3},{"$f":"'RESULTS DATA'!E28","v":-1E-3},null,{"$f":"SEED!$D$7","v":" Block 1 Player 1"},{"$f":"'RESULTS DATA'!D52","v":-1E-3},{"$f":"'RESULTS DATA'!E52","v":-1E-3},null,{"$f":"SEED!$D$7","v":" Block 1 Player 1"},{"$f":"'RESULTS DATA'!D76","v":-1E-3},{"$f":"'RESULTS DATA'!E76","v":-1E-3},null,{"$f":"SEED!$D$7","v":" Block 1 Player 1"},{"$f":"'RESULTS DATA'!D100","v":-1E-3},{"$f":"'RESULTS DATA'!E100","v":-1E-3},null,{"$f":"SEED!$D$7","v":" Block 1 Player 1"},{"$f":"'RESULTS DATA'!D124","v":-1E-3},{"$f":"'RESULTS DATA'!E124","v":-1E-3},null,null,"Peel LU Table"]
[null,null,{"$f":"SEED!$D$9","v":" Block 1 Player 3"},{"$f":"'RESULTS DATA'!D5","v":-1E-3},{"$f":"'RESULTS DATA'!E5","v":-1E-3},null,{"$f":"SEED!$D$11","v":" Block 1 Player 5"},{"$f":"'RESULTS DATA'!D29","v":-1E-3},{"$f":"'RESULTS DATA'!E29","v":-1E-3},null,{"$f":"SEED!$D$13","v":" Block 1 Player 7"},{"$f":"'RESULTS DATA'!D53","v":-1E-3},{"$f":"'RESULTS DATA'!E53","v":-1E-3},null,{"$f":"SEED!$D$15","v":" Block 1 Player 9"},{"$f":"'RESULTS DATA'!D77","v":-1E-3},{"$f":"'RESULTS DATA'!E77","v":-1E-3},null,{"$f":"SEED!$D$17","v":" Block 1 Player 11"},{"$f":"'RESULTS DATA'!D101","v":-1E-3},{"$f":"'RESULTS DATA'!E101","v":-1E-3},null,{"$f":"SEED!$D$8","v":" Block 1 Player 2"},{"$f":"'RESULTS DATA'!D125","v":-1E-3},{"$f":"'RESULTS DATA'!E125","v":-1E-3},null,null,"tp"]
[null,null,{"$f":"SEED!$D$8","v":" Block 1 Player 2"},{"$f":"'RESULTS DATA'!D6","v":-1E-3},{"$f":"'RESULTS DATA'!E6","v":-1E-3},null,{"$f":"SEED!$D$10","v":" Block 1 Player 4"},{"$f":"'RESULTS DATA'!D30","v":-1E-3},{"$f":"'RESULTS DATA'!E30","v":-1E-3},null,{"$f":"SEED!$D$12","v":" Block 1 Player 6"},{"$f":"'RESULTS DATA'!D54","v":-1E-3},{"$f":"'RESULTS DATA'!E54","v":-1E-3},null,{"$f":"SEED!$D$14","v":" Block 1 Player 8"},{"$f":"'RESULTS DATA'!D78","v":-1E-3},{"$f":"'RESULTS DATA'!E78","v":-1E-3},null,{"$f":"SEED!$D$16","v":" Block 1 Player 10"},{"$f":"'RESULTS DATA'!D102","v":-1E-3},{"$f":"'RESULTS DATA'!E102","v":-1E-3},null,{"$f":"SEED!$D$18","v":" Block 1 Player 12"},{"$f":"'RESULTS DATA'!D126","v":-1E-3},{"$f":"'RESULTS DATA'!E126","v":-1E-3},null,null,"stp"]
[null,null,{"$f":"SEED!$D$10","v":" Block 1 Player 4"},{"$f":"'RESULTS DATA'!D7","v":-1E-3},{"$f":"'RESULTS DATA'!E7","v":-1E-3},null,{"$f":"SEED!$D$12","v":" Block 1 Player 6"},{"$f":"'RESULTS DATA'!D31","v":-1E-3},{"$f":"'RESULTS DATA'!E31","v":-1E-3},null,{"$f":"SEED!$D$14","v":" Block 1 Player 8"},{"$f":"'RESULTS DATA'!D55","v":-1E-3},{"$f":"'RESULTS DATA'!E55","v":-1E-3},null,{"$f":"SEED!$D$16","v":" Block 1 Player 10"},{"$f":"'RESULTS DATA'!D79","v":-1E-3},{"$f":"'RESULTS DATA'!E79","v":-1E-3},null,{"$f":"SEED!$D$18","v":" Block 1 Player 12"},{"$f":"'RESULTS DATA'!D103","v":-1E-3},{"$f":"'RESULTS DATA'!E103","v":-1E-3},null,{"$f":"SEED!$D$9","v":" Block 1 Player 3"},{"$f":"'RESULTS DATA'!D127","v":-1E-3},{"$f":"'RESULTS DATA'!E127","v":-1E-3},null,null,"stop"]
[null,null,{"$f":"SEED!$D$18","v":" Block 1 Player 12"},{"$f":"'RESULTS DATA'!D8","v":-1E-3},{"$f":"'RESULTS DATA'!E8","v":-1E-3},null,{"$f":"SEED!$D$9","v":" Block 1 Player 3"},{"$f":"'RESULTS DATA'!D32","v":-1E-3},{"$f":"'RESULTS DATA'!E32","v":-1E-3},null,{"$f":"SEED!$D$11","v":" Block 1 Player 5"},{"$f":"'RESULTS DATA'!D56","v":-1E-3},{"$f":"'RESULTS DATA'!E56","v":-1E-3},null,{"$f":"SEED!$D$13","v":" Block 1 Player 7"},{"$f":"'RESULTS DATA'!D80","v":-1E-3},{"$f":"'RESULTS DATA'!E80","v":-1E-3},null,{"$f":"SEED!$D$8","v":" Block 1 Player 2"},{"$f":"'RESULTS DATA'!D104","v":-1E-3},{"$f":"'RESULTS DATA'!E104","v":-1E-3},null,{"$f":"SEED!$D$17","v":" Block 1 Player 11"},{"$f":"'RESULTS DATA'!D128","v":-1E-3},{"$f":"'RESULTS DATA'!E128","v":-1E-3},null,null,"tpo"]
[null,null,{"$f":"SEED!$D$11","v":" Block 1 Player 5"},{"$f":"'RESULTS DATA'!D9","v":-1E-3},{"$f":"'RESULTS DATA'!E9","v":-1E-3},null,{"$f":"SEED!$D$13","v":" Block 1 Player 7"},{"$f":"'RESULTS DATA'!D33","v":-1E-3},{"$f":"'RESULTS DATA'!E33","v":-1E-3},null,{"$f":"SEED!$D$15","v":" Block 1 Player 9"},{"$f":"'RESULTS DATA'!D57","v":-1E-3},{"$f":"'RESULTS DATA'!E57","v":-1E-3},null,{"$f":"SEED!$D$17","v":" Block 1 Player 11"},{"$f":"'RESULTS DATA'!D81","v":-1E-3},{"$f":"'RESULTS DATA'!E81","v":-1E-3},null,{"$f":"SEED!$D$15","v":" Block 1 Player 9"},{"$f":"'RESULTS DATA'!D105","v":-1E-3},{"$f":"'RESULTS DATA'!E105","v":-1E-3},null,{"$f":"SEED!$D$10","v":" Block 1 Player 4"},{"$f":"'RESULTS DATA'!D129","v":-1E-3},{"$f":"'RESULTS DATA'!E129","v":-1E-3},null,null,"otp"]
[null,null,{"$f":"SEED!$D$17","v":" Block 1 Player 11"},{"$f":"'RESULTS DATA'!D10","v":-1E-3},{"$f":"'RESULTS DATA'!E10","v":-1E-3},null,{"$f":"SEED!$D$8","v":" Block 1 Player 2"},{"$f":"'RESULTS DATA'!D34","v":-1E-3},{"$f":"'RESULTS DATA'!E34","v":-1E-3},null,{"$f":"SEED!$D$10","v":" Block 1 Player 4"},{"$f":"'RESULTS DATA'!D58","v":-1E-3},{"$f":"'RESULTS DATA'!E58","v":-1E-3},null,{"$f":"SEED!$D$12","v":" Block 1 Player 6"},{"$f":"'RESULTS DATA'!D82","v":-1E-3},{"$f":"'RESULTS DATA'!E82","v":-1E-3},null,{"$f":"SEED!$D$9","v":" Block 1 Player 3"},{"$f":"'RESULTS DATA'!D106","v":-1E-3},{"$f":"'RESULTS DATA'!E106","v":-1E-3},null,{"$f":"SEED!$D$16","v":" Block 1 Player 10"},{"$f":"'RESULTS DATA'!D130","v":-1E-3},{"$f":"'RESULTS DATA'!E130","v":-1E-3},null,null,"oqp"]
[null,null,{"$f":"SEED!$D$12","v":" Block 1 Player 6"},{"$f":"'RESULTS DATA'!D11","v":-1E-3},{"$f":"'RESULTS DATA'!E11","v":-1E-3},null,{"$f":"SEED!$D$14","v":" Block 1 Player 8"},{"$f":"'RESULTS DATA'!D35","v":-1E-3},{"$f":"'RESULTS DATA'!E35","v":-1E-3},null,{"$f":"SEED!$D$16","v":" Block 1 Player 10"},{"$f":"'RESULTS DATA'!D59","v":-1E-3},{"$f":"'RESULTS DATA'!E59","v":-1E-3},null,{"$f":"SEED!$D$18","v":" Block 1 Player 12"},{"$f":"'RESULTS DATA'!D83","v":-1E-3},{"$f":"'RESULTS DATA'!E83","v":-1E-3},null,{"$f":"SEED!$D$14","v":" Block 1 Player 8"},{"$f":"'RESULTS DATA'!D107","v":-1E-3},{"$f":"'RESULTS DATA'!E107","v":-1E-3},null,{"$f":"SEED!$D$11","v":" Block 1 Player 5"},{"$f":"'RESULTS DATA'!D131","v":-1E-3},{"$f":"'RESULTS DATA'!E131","v":-1E-3},null,null,"qp"]
[null,null,{"$f":"SEED!$D$16","v":" Block 1 Player 10"},{"$f":"'RESULTS DATA'!D12","v":-1E-3},{"$f":"'RESULTS DATA'!E12","v":-1E-3},null,{"$f":"SEED!$D$18","v":" Block 1 Player 12"},{"$f":"'RESULTS DATA'!D36","v":-1E-3},{"$f":"'RESULTS DATA'!E36","v":-1E-3},null,{"$f":"SEED!$D$9","v":" Block 1 Player 3"},{"$f":"'RESULTS DATA'!D60","v":-1E-3},{"$f":"'RESULTS DATA'!E60","v":-1E-3},null,{"$f":"SEED!$D$11","v":" Block 1 Player 5"},{"$f":"'RESULTS DATA'!D84","v":-1E-3},{"$f":"'RESULTS DATA'!E84","v":-1E-3},null,{"$f":"SEED!$D$10","v":" Block 1 Player 4"},{"$f":"'RESULTS DATA'!D108","v":-1E-3},{"$f":"'RESULTS DATA'!E108","v":-1E-3},null,{"$f":"SEED!$D$15","v":" Block 1 Player 9"},{"$f":"'RESULTS DATA'!D132","v":-1E-3},{"$f":"'RESULTS DATA'!E132","v":-1E-3},null,null,"qpo"]
[null,null,{"$f":"SEED!$D$13","v":" Block 1 Player 7"},{"$f":"'RESULTS DATA'!D13","v":-1E-3},{"$f":"'RESULTS DATA'!E13","v":-1E-3},null,{"$f":"SEED!$D$15","v":" Block 1 Player 9"},{"$f":"'RESULTS DATA'!D37","v":-1E-3},{"$f":"'RESULTS DATA'!E37","v":-1E-3},null,{"$f":"SEED!$D$17","v":" Block 1 Player 11"},{"$f":"'RESULTS DATA'!D61","v":-1E-3},{"$f":"'RESULTS DATA'!E61","v":-1E-3},null,{"$f":"SEED!$D$8","v":" Block 1 Player 2"},{"$f":"'RESULTS DATA'!D85","v":-1E-3},{"$f":"'RESULTS DATA'!E85","v":-1E-3},null,{"$f":"SEED!$D$13","v":" Block 1 Player 7"},{"$f":"'RESULTS DATA'!D109","v":-1E-3},{"$f":"'RESULTS DATA'!E109","v":-1E-3},null,{"$f":"SEED!$D$12","v":" Block 1 Player 6"},{"$f":"'RESULTS DATA'!D133","v":-1E-3},{"$f":"'RESULTS DATA'!E133","v":-1E-3},null,null,"sqp"]
[null,null,{"$f":"SEED!$D$15","v":" Block 1 Player 9"},{"$f":"'RESULTS DATA'!D14","v":-1E-3},{"$f":"'RESULTS DATA'!E14","v":-1E-3},null,{"$f":"SEED!$D$17","v":" Block 1 Player 11"},{"$f":"'RESULTS DATA'!D38","v":-1E-3},{"$f":"'RESULTS DATA'!E38","v":-1E-3},null,{"$f":"SEED!$D$8","v":" Block 1 Player 2"},{"$f":"'RESULTS DATA'!D62","v":-1E-3},{"$f":"'RESULTS DATA'!E62","v":-1E-3},null,{"$f":"SEED!$D$10","v":" Block 1 Player 4"},{"$f":"'RESULTS DATA'!D86","v":-1E-3},{"$f":"'RESULTS DATA'!E86","v":-1E-3},null,{"$f":"SEED!$D$11","v":" Block 1 Player 5"},{"$f":"'RESULTS DATA'!D110","v":-1E-3},{"$f":"'RESULTS DATA'!E110","v":-1E-3},null,{"$f":"SEED!$D$14","v":" Block 1 Player 8"},{"$f":"'RESULTS DATA'!D134","v":-1E-3},{"$f":"'RESULTS DATA'!E134","v":-1E-3},null,null,"oqnp"]
[null,null,{"$f":"SEED!$D$14","v":" Block 1 Player 8"},{"$f":"'RESULTS DATA'!D15","v":-1E-3},{"$f":"'RESULTS DATA'!E15","v":-1E-3},null,{"$f":"SEED!$D$16","v":" Block 1 Player 10"},{"$f":"'RESULTS DATA'!D39","v":-1E-3},{"$f":"'RESULTS DATA'!E39","v":-1E-3},null,{"$f":"SEED!$D$18","v":" Block 1 Player 12"},{"$f":"'RESULTS DATA'!D63","v":-1E-3},{"$f":"'RESULTS DATA'!E63","v":-1E-3},null,{"$f":"SEED!$D$9","v":" Block 1 Player 3"},{"$f":"'RESULTS DATA'!D87","v":-1E-3},{"$f":"'RESULTS DATA'!E87","v":-1E-3},null,{"$f":"SEED!$D$12","v":" Block 1 Player 6"},{"$f":"'RESULTS DATA'!D111","v":-1E-3},{"$f":"'RESULTS DATA'!E111","v":-1E-3},null,{"$f":"SEED!$D$13","v":" Block 1 Player 7"},{"$f":"'RESULTS DATA'!D135","v":-1E-3},{"$f":"'RESULTS DATA'!E135","v":-1E-3},null,null,"qnp"]
[null,null,{"$f":"SEED!$D$7","v":" Block 1 Player 1"},{"$f":"'RESULTS DATA'!D16","v":-1E-3},{"$f":"'RESULTS DATA'!E16","v":-1E-3},null,{"$f":"SEED!$D$7","v":" Block 1 Player 1"},{"$f":"'RESULTS DATA'!D40","v":-1E-3},{"$f":"'RESULTS DATA'!E40","v":-1E-3},null,{"$f":"SEED!$D$7","v":" Block 1 Player 1"},{"$f":"'RESULTS DATA'!D64","v":-1E-3},{"$f":"'RESULTS DATA'!E64","v":-1E-3},null,{"$f":"SEED!$D$7","v":" Block 1 Player 1"},{"$f":"'RESULTS DATA'!D88","v":-1E-3},{"$f":"'RESULTS DATA'!E88","v":-1E-3},null,{"$f":"SEED!$D$7","v":" Block 1 Player 1"},{"$f":"'RESULTS DATA'!D112","v":-1E-3},{"$f":"'RESULTS DATA'!E112","v":-1E-3},null,null,null,null,null,null,"qnpo"]
[null,null,{"$f":"SEED!$D$10","v":" Block 1 Player 4"},{"$f":"'RESULTS DATA'!D17","v":-1E-3},{"$f":"'RESULTS DATA'!E17","v":-1E-3},null,{"$f":"SEED!$D$12","v":" Block 1 Player 6"},{"$f":"'RESULTS DATA'!D41","v":-1E-3},{"$f":"'RESULTS DATA'!E41","v":-1E-3},null,{"$f":"SEED!$D$14","v":" Block 1 Player 8"},{"$f":"'RESULTS DATA'!D65","v":-1E-3},{"$f":"'RESULTS DATA'!E65","v":-1E-3},null,{"$f":"SEED!$D$16","v":" Block 1 Player 10"},{"$f":"'RESULTS DATA'!D89","v":-1E-3},{"$f":"'RESULTS DATA'!E89","v":-1E-3},null,{"$f":"SEED!$D$18","v":" Block 1 Player 12"},{"$f":"'RESULTS DATA'!D113","v":-1E-3},{"$f":"'RESULTS DATA'!E113","v":-1E-3},null,null,null,null,null,null,"osxp"]
[null,null,{"$f":"SEED!$D$11","v":" Block 1 Player 5"},{"$f":"'RESULTS DATA'!D18","v":-1E-3},{"$f":"'RESULTS DATA'!E18","v":-1E-3},null,{"$f":"SEED!$D$11","v":" Block 1 Player 5"},{"$f":"'RESULTS DATA'!D42","v":-1E-3},{"$f":"'RESULTS DATA'!E42","v":-1E-3},null,{"$f":"SEED!$D$13","v":" Block 1 Player 7"},{"$f":"'RESULTS DATA'!D66","v":-1E-3},{"$f":"'RESULTS DATA'!E66","v":-1E-3},null,{"$f":"SEED!$D$15","v":" Block 1 Player 9"},{"$f":"'RESULTS DATA'!D90","v":-1E-3},{"$f":"'RESULTS DATA'!E90","v":-1E-3},null,{"$f":"SEED!$D$17","v":" Block 1 Player 11"},{"$f":"'RESULTS DATA'!D114","v":-1E-3},{"$f":"'RESULTS DATA'!E114","v":-1E-3},null,null,null,null,null,null,"sxp"]
[null,null,{"$f":"SEED!$D$9","v":" Block 1 Player 3"},{"$f":"'RESULTS DATA'!D19","v":-1E-3},{"$f":"'RESULTS DATA'!E19","v":-1E-3},null,{"$f":"SEED!$D$13","v":" Block 1 Player 7"},{"$f":"'RESULTS DATA'!D43","v":-1E-3},{"$f":"'RESULTS DATA'!E43","v":-1E-3},null,{"$f":"SEED!$D$15","v":" Block 1 Player 9"},{"$f":"'RESULTS DATA'!D67","v":-1E-3},{"$f":"'RESULTS DATA'!E67","v":-1E-3},null,{"$f":"SEED!$D$17","v":" Block 1 Player 11"},{"$f":"'RESULTS DATA'!D91","v":-1E-3},{"$f":"'RESULTS DATA'!E91","v":-1E-3},null,{"$f":"SEED!$D$8","v":" Block 1 Player 2"},{"$f":"'RESULTS DATA'!D115","v":-1E-3},{"$f":"'RESULTS DATA'!E115","v":-1E-3},null,null,null,null,null,null,"ssxp"]
[null,null,{"$f":"SEED!$D$8","v":" Block 1 Player 2"},{"$f":"'RESULTS DATA'!D20","v":-1E-3},{"$f":"'RESULTS DATA'!E20","v":-1E-3},null,{"$f":"SEED!$D$10","v":" Block 1 Player 4"},{"$f":"'RESULTS DATA'!D44","v":-1E-3},{"$f":"'RESULTS DATA'!E44","v":-1E-3},null,{"$f":"SEED!$D$12","v":" Block 1 Player 6"},{"$f":"'RESULTS DATA'!D68","v":-1E-3},{"$f":"'RESULTS DATA'!E68","v":-1E-3},null,{"$f":"SEED!$D$14","v":" Block 1 Player 8"},{"$f":"'RESULTS DATA'!D92","v":-1E-3},{"$f":"'RESULTS DATA'!E92","v":-1E-3},null,{"$f":"SEED!$D$16","v":" Block 1 Player 10"},{"$f":"'RESULTS DATA'!D116","v":-1E-3},{"$f":"'RESULTS DATA'!E116","v":-1E-3},null,null,null,null,null,null,"sxpo"]
[null,null,{"$f":"SEED!$D$12","v":" Block 1 Player 6"},{"$f":"'RESULTS DATA'!D21","v":-1E-3},{"$f":"'RESULTS DATA'!E21","v":-1E-3},null,{"$f":"SEED!$D$14","v":" Block 1 Player 8"},{"$f":"'RESULTS DATA'!D45","v":-1E-3},{"$f":"'RESULTS DATA'!E45","v":-1E-3},null,{"$f":"SEED!$D$16","v":" Block 1 Player 10"},{"$f":"'RESULTS DATA'!D69","v":-1E-3},{"$f":"'RESULTS DATA'!E69","v":-1E-3},null,{"$f":"SEED!$D$18","v":" Block 1 Player 12"},{"$f":"'RESULTS DATA'!D93","v":-1E-3},{"$f":"'RESULTS DATA'!E93","v":-1E-3},null,{"$f":"SEED!$D$9","v":" Block 1 Player 3"},{"$f":"'RESULTS DATA'!D117","v":-1E-3},{"$f":"'RESULTS DATA'!E117","v":-1E-3},null,null,null,null,null,null,"spp"]
[null,null,{"$f":"SEED!$D$18","v":" Block 1 Player 12"},{"$f":"'RESULTS DATA'!D22","v":-1E-3},{"$f":"'RESULTS DATA'!E22","v":-1E-3},null,{"$f":"SEED!$D$9","v":" Block 1 Player 3"},{"$f":"'RESULTS DATA'!D46","v":-1E-3},{"$f":"'RESULTS DATA'!E46","v":-1E-3},null,{"$f":"SEED!$D$11","v":" Block 1 Player 5"},{"$f":"'RESULTS DATA'!D70","v":-1E-3},{"$f":"'RESULTS DATA'!E70","v":-1E-3},null,{"$f":"SEED!$D$13","v":" Block 1 Player 7"},{"$f":"'RESULTS DATA'!D94","v":-1E-3},{"$f":"'RESULTS DATA'!E94","v":-1E-3},null,{"$f":"SEED!$D$15","v":" Block 1 Player 9"},{"$f":"'RESULTS DATA'!D118","v":-1E-3},{"$f":"'RESULTS DATA'!E118","v":-1E-3},null,null,null,null,null,null,"octp"]
[null,null,{"$f":"SEED!$D$13","v":" Block 1 Player 7"},{"$f":"'RESULTS DATA'!D23","v":-1E-3},{"$f":"'RESULTS DATA'!E23","v":-1E-3},null,{"$f":"SEED!$D$15","v":" Block 1 Player 9"},{"$f":"'RESULTS DATA'!D47","v":-1E-3},{"$f":"'RESULTS DATA'!E47","v":-1E-3},null,{"$f":"SEED!$D$17","v":" Block 1 Player 11"},{"$f":"'RESULTS DATA'!D71","v":-1E-3},{"$f":"'RESULTS DATA'!E71","v":-1E-3},null,{"$f":"SEED!$D$8","v":" Block 1 Player 2"},{"$f":"'RESULTS DATA'!D95","v":-1E-3},{"$f":"'RESULTS DATA'!E95","v":-1E-3},null,{"$f":"SEED!$D$10","v":" Block 1 Player 4"},{"$f":"'RESULTS DATA'!D119","v":-1E-3},{"$f":"'RESULTS DATA'!E119","v":-1E-3},null,null,null,null,null,null,"nnp"]
[null,null,{"$f":"SEED!$D$17","v":" Block 1 Player 11"},{"$f":"'RESULTS DATA'!D24","v":-1E-3},{"$f":"'RESULTS DATA'!E24","v":-1E-3},null,{"$f":"SEED!$D$8","v":" Block 1 Player 2"},{"$f":"'RESULTS DATA'!D48","v":-1E-3},{"$f":"'RESULTS DATA'!E48","v":-1E-3},null,{"$f":"SEED!$D$10","v":" Block 1 Player 4"},{"$f":"'RESULTS DATA'!D72","v":-1E-3},{"$f":"'RESULTS DATA'!E72","v":-1E-3},null,{"$f":"SEED!$D$12","v":" Block 1 Player 6"},{"$f":"'RESULTS DATA'!D96","v":-1E-3},{"$f":"'RESULTS DATA'!E96","v":-1E-3},null,{"$f":"SEED!$D$14","v":" Block 1 Player 8"},{"$f":"'RESULTS DATA'!D120","v":-1E-3},{"$f":"'RESULTS DATA'!E120","v":-1E-3},null,null,null,null,null,null,"dcp"]
[null,null,{"$f":"SEED!$D$14","v":" Block 1 Player 8"},{"$f":"'RESULTS DATA'!D25","v":-1E-3},{"$f":"'RESULTS DATA'!E25","v":-1E-3},null,{"$f":"SEED!$D$16","v":" Block 1 Player 10"},{"$f":"'RESULTS DATA'!D49","v":-1E-3},{"$f":"'RESULTS DATA'!E49","v":-1E-3},null,{"$f":"SEED!$D$18","v":" Block 1 Player 12"},{"$f":"'RESULTS DATA'!D73","v":-1E-3},{"$f":"'RESULTS DATA'!E73","v":-1E-3},null,{"$f":"SEED!$D$9","v":" Block 1 Player 3"},{"$f":"'RESULTS DATA'!D97","v":-1E-3},{"$f":"'RESULTS DATA'!E97","v":-1E-3},null,{"$f":"SEED!$D$11","v":" Block 1 Player 5"},{"$f":"'RESULTS DATA'!D121","v":-1E-3},{"$f":"'RESULTS DATA'!E121","v":-1E-3}]
[null,null,{"$f":"SEED!$D$16","v":" Block 1 Player 10"},{"$f":"'RESULTS DATA'!D26","v":-1E-3},{"$f":"'RESULTS DATA'!E26","v":-1E-3},null,{"$f":"SEED!$D$18","v":" Block 1 Player 12"},{"$f":"'RESULTS DATA'!D50","v":-1E-3},{"$f":"'RESULTS DATA'!E50","v":-1E-3},null,{"$f":"SEED!$D$9","v":" Block 1 Player 3"},{"$f":"'RESULTS DATA'!D74","v":-1E-3},{"$f":"'RESULTS DATA'!E74","v":-1E-3},null,{"$f":"SEED!$D$11","v":" Block 1 Player 5"},{"$f":"'RESULTS DATA'!D98","v":-1E-3},{"$f":"'RESULTS DATA'!E98","v":-1E-3},null,{"$f":"SEED!$D$13","v":" Block 1 Player 7"},{"$f":"'RESULTS DATA'!D122","v":-1E-3},{"$f":"'RESULTS DATA'!E122","v":-1E-3}]
[null,null,{"$f":"SEED!$D$15","v":" Block 1 Player 9"},{"$f":"'RESULTS DATA'!D27","v":-1E-3},{"$f":"'RESULTS DATA'!E27","v":-1E-3},null,{"$f":"SEED!$D$17","v":" Block 1 Player 11"},{"$f":"'RESULTS DATA'!D51","v":-1E-3},{"$f":"'RESULTS DATA'!E51","v":-1E-3},null,{"$f":"SEED!$D$8","v":" Block 1 Player 2"},{"$f":"'RESULTS DATA'!D75","v":-1E-3},{"$f":"'RESULTS DATA'!E75","v":-1E-3},null,{"$f":"SEED!$D$10","v":" Block 1 Player 4"},{"$f":"'RESULTS DATA'!D99","v":-1E-3},{"$f":"'RESULTS DATA'!E99","v":-1E-3},null,{"$f":"SEED!$D$12","v":" Block 1 Player 6"},{"$f":"'RESULTS DATA'!D123","v":-1E-3},{"$f":"'RESULTS DATA'!E123","v":-1E-3}]
[null,null,null,null,null,null,null,null,null,null,null,null,null,null,null,null,null,null,null,null,null,null,null,null,null,null,"FirstTime","YES"]
[null,null,null,null,null,null,null,null,null,null,null,null,null,null,null,null,null,null,null,null,null,null,null,null,null,null,"NumberOfBlocks",2]
[]
[]
[]
[null,{"$f":"GAMES!E71","v":"BLOCK 2"},null,null,null,{"$f":"GAMES!B70","v":0}]
[null,null,{"$f":"SEED!$I$7","v":" Block 2 Player 1"},{"$f":"'RESULTS DATA'!H4","v":-1E-3},{"$f":"'RESULTS DATA'!I4","v":-1E-3},null,{"$f":"SEED!$I$7","v":" Block 2 Player 1"},{"$f":"'RESULTS DATA'!H28","v":-1E-3},{"$f":"'RESULTS DATA'!I28","v":-1E-3},null,{"$f":"SEED!$I$7","v":" Block 2 Player 1"},{"$f":"'RESULTS DATA'!H52","v":-1E-3},{"$f":"'RESULTS DATA'!I52","v":-1E-3},null,{"$f":"SEED!$I$7","v":" Block 2 Player 1"},{"$f":"'RESULTS DATA'!H76","v":-1E-3},{"$f":"'RESULTS DATA'!I76","v":-1E-3},null,{"$f":"SEED!$I$7","v":" Block 2 Player 1"},{"$f":"'RESULTS DATA'!H100","v":-1E-3},{"$f":"'RESULTS DATA'!I100","v":-1E-3},null,{"$f":"SEED!$I$7","v":" Block 2 Player 1"},{"$f":"'RESULTS DATA'!H124","v":-1E-3},{"$f":"'RESULTS DATA'!I124","v":-1E-3}]
[null,null,{"$f":"SEED!$I$9","v":" Block 2 Player 3"},{"$f":"'RESULTS DATA'!H5","v":-1E-3},{"$f":"'RESULTS DATA'!I5","v":-1E-3},null,{"$f":"SEED!$I$11","v":" Block 2 Player 5"},{"$f":"'RESULTS DATA'!H29","v":-1E-3},{"$f":"'RESULTS DATA'!I29","v":-1E-3},null,{"$f":"SEED!$I$13","v":" Block 2 Player 7"},{"$f":"'RESULTS DATA'!H53","v":-1E-3},{"$f":"'RESULTS DATA'!I53","v":-1E-3},null,{"$f":"SEED!$I$15","v":" Block 2 Player 9"},{"$f":"'RESULTS DATA'!H77","v":-1E-3},{"$f":"'RESULTS DATA'!I77","v":-1E-3},null,{"$f":"SEED!$I$17","v":" Block 2 Player 11"},{"$f":"'RESULTS DATA'!H101","v":-1E-3},{"$f":"'RESULTS DATA'!I101","v":-1E-3},null,{"$f":"SEED!$I$8","v":" Block 2 Player 2"},{"$f":"'RESULTS DATA'!H125","v":-1E-3},{"$f":"'RESULTS DATA'!I125","v":-1E-3}]
[null,null,{"$f":"SEED!$I$8","v":" Block 2 Player 2"},{"$f":"'RESULTS DATA'!H6","v":-1E-3},{"$f":"'RESULTS DATA'!I6","v":-1E-3},null,{"$f":"SEED!$I$10","v":" Block 2 Player 4"},{"$f":"'RESULTS DATA'!H30","v":-1E-3},{"$f":"'RESULTS DATA'!I30","v":-1E-3},null,{"$f":"SEED!$I$12","v":" Block 2 Player 6"},{"$f":"'RESULTS DATA'!H54","v":-1E-3},{"$f":"'RESULTS DATA'!I54","v":-1E-3},null,{"$f":"SEED!$I$14","v":" Block 2 Player 8"},{"$f":"'RESULTS DATA'!H78","v":-1E-3},{"$f":"'RESULTS DATA'!I78","v":-1E-3},null,{"$f":"SEED!$I$16","v":" Block 2 Player 10"},{"$f":"'RESULTS DATA'!H102","v":-1E-3},{"$f":"'RESULTS DATA'!I102","v":-1E-3},null,{"$f":"SEED!$I$18","v":" Block 2 Player 12"},{"$f":"'RESULTS DATA'!H126","v":-1E-3},{"$f":"'RESULTS DATA'!I126","v":-1E-3}]
[null,null,{"$f":"SEED!$I$10","v":" Block 2 Player 4"},{"$f":"'RESULTS DATA'!H7","v":-1E-3},{"$f":"'RESULTS DATA'!I7","v":-1E-3},null,{"$f":"SEED!$I$12","v":" Block 2 Player 6"},{"$f":"'RESULTS DATA'!H31","v":-1E-3},{"$f":"'RESULTS DATA'!I31","v":-1E-3},null,{"$f":"SEED!$I$14","v":" Block 2 Player 8"},{"$f":"'RESULTS DATA'!H55","v":-1E-3},{"$f":"'RESULTS DATA'!I55","v":-1E-3},null,{"$f":"SEED!$I$16","v":" Block 2 Player 10"},{"$f":"'RESULTS DATA'!H79","v":-1E-3},{"$f":"'RESULTS DATA'!I79","v":-1E-3},null,{"$f":"SEED!$I$18","v":" Block 2 Player 12"},{"$f":"'RESULTS DATA'!H103","v":-1E-3},{"$f":"'RESULTS DATA'!I103","v":-1E-3},null,{"$f":"SEED!$I$9","v":" Block 2 Player 3"},{"$f":"'RESULTS DATA'!H127","v":-1E-3},{"$f":"'RESULTS DATA'!I127","v":-1E-3}]
[null,null,{"$f":"SEED!$I$18","v":" Block 2 Player 12"},{"$f":"'RESULTS DATA'!H8","v":-1E-3},{"$f":"'RESULTS DATA'!I8","v":-1E-3},null,{"$f":"SEED!$I$9","v":" Block 2 Player 3"},{"$f":"'RESULTS DATA'!H32","v":-1E-3},{"$f":"'RESULTS DATA'!I32","v":-1E-3},null,{"$f":"SEED!$I$11","v":" Block 2 Player 5"},{"$f":"'RESULTS DATA'!H56","v":-1E-3},{"$f":"'RESULTS DATA'!I56","v":-1E-3},null,{"$f":"SEED!$I$13","v":" Block 2 Player 7"},{"$f":"'RESULTS DATA'!H80","v":-1E-3},{"$f":"'RESULTS DATA'!I80","v":-1E-3},null,{"$f":"SEED!$I$8","v":" Block 2 Player 2"},{"$f":"'RESULTS DATA'!H104","v":-1E-3},{"$f":"'RESULTS DATA'!I104","v":-1E-3},null,{"$f":"SEED!$I$17","v":" Block 2 Player 11"},{"$f":"'RESULTS DATA'!H128","v":-1E-3},{"$f":"'RESULTS DATA'!I128","v":-1E-3}]
[null,null,{"$f":"SEED!$I$11","v":" Block 2 Player 5"},{"$f":"'RESULTS DATA'!H9","v":-1E-3},{"$f":"'RESULTS DATA'!I9","v":-1E-3},null,{"$f":"SEED!$I$13","v":" Block 2 Player 7"},{"$f":"'RESULTS DATA'!H33","v":-1E-3},{"$f":"'RESULTS DATA'!I33","v":-1E-3},null,{"$f":"SEED!$I$15","v":" Block 2 Player 9"},{"$f":"'RESULTS DATA'!H57","v":-1E-3},{"$f":"'RESULTS DATA'!I57","v":-1E-3},null,{"$f":"SEED!$I$17","v":" Block 2 Player 11"},{"$f":"'RESULTS DATA'!H81","v":-1E-3},{"$f":"'RESULTS DATA'!I81","v":-1E-3},null,{"$f":"SEED!$I$15","v":" Block 2 Player 9"},{"$f":"'RESULTS DATA'!H105","v":-1E-3},{"$f":"'RESULTS DATA'!I105","v":-1E-3},null,{"$f":"SEED!$I$10","v":" Block 2 Player 4"},{"$f":"'RESULTS DATA'!H129","v":-1E-3},{"$f":"'RESULTS DATA'!I129","v":-1E-3}]
[null,null,{"$f":"SEED!$I$17","v":" Block 2 Player 11"},{"$f":"'RESULTS DATA'!H10","v":-1E-3},{"$f":"'RESULTS DATA'!I10","v":-1E-3},null,{"$f":"SEED!$I$8","v":" Block 2 Player 2"},{"$f":"'RESULTS DATA'!H34","v":-1E-3},{"$f":"'RESULTS DATA'!I34","v":-1E-3},null,{"$f":"SEED!$I$10","v":" Block 2 Player 4"},{"$f":"'RESULTS DATA'!H58","v":-1E-3},{"$f":"'RESULTS DATA'!I58","v":-1E-3},null,{"$f":"SEED!$I$12","v":" Block 2 Player 6"},{"$f":"'RESULTS DATA'!H82","v":-1E-3},{"$f":"'RESULTS DATA'!I82","v":-1E-3},null,{"$f":"SEED!$I$9","v":" Block 2 Player 3"},{"$f":"'RESULTS DATA'!H106","v":-1E-3},{"$f":"'RESULTS DATA'!I106","v":-1E-3},null,{"$f":"SEED!$I$16","v":" Block 2 Player 10"},{"$f":"'RESULTS DATA'!H130","v":-1E-3},{"$f":"'RESULTS DATA'!I130","v":-1E-3}]
[null,null,{"$f":"SEED!$I$12","v":" Block 2 Player 6"},{"$f":"'RESULTS DATA'!H11","v":-1E-3},{"$f":"'RESULTS DATA'!I11","v":-1E-3},null,{"$f":"SEED!$I$14","v":" Block 2 Player 8"},{"$f":"'RESULTS DATA'!H35","v":-1E-3},{"$f":"'RESULTS DATA'!I35","v":-1E-3},null,{"$f":"SEED!$I$16","v":" Block 2 Player 10"},{"$f":"'RESULTS DATA'!H59","v":-1E-3},{"$f":"'RESULTS DATA'!I59","v":-1E-3},null,{"$f":"SEED!$I$18","v":" Block 2 Player 12"},{"$f":"'RESULTS DATA'!H83","v":-1E-3},{"$f":"'RESULTS DATA'!I83","v":-1E-3},null,{"$f":"SEED!$I$14","v":" Block 2 Player 8"},{"$f":"'RESULTS DATA'!H107","v":-1E-3},{"$f":"'RESULTS DATA'!I107","v":-1E-3},null,{"$f":"SEED!$I$11","v":" Block 2 Player 5"},{"$f":"'RESULTS DATA'!H131","v":-1E-3},{"$f":"'RESULTS DATA'!I131","v":-1E-3}]
[null,null,{"$f":"SEED!$I$16","v":" Block 2 Player 10"},{"$f":"'RESULTS DATA'!H12","v":-1E-3},{"$f":"'RESULTS DATA'!I12","v":-1E-3},null,{"$f":"SEED!$I$18","v":" Block 2 Player 12"},{"$f":"'RESULTS DATA'!H36","v":-1E-3},{"$f":"'RESULTS DATA'!I36","v":-1E-3},null,{"$f":"SEED!$I$9","v":" Block 2 Player 3"},{"$f":"'RESULTS DATA'!H60","v":-1E-3},{"$f":"'RESULTS DATA'!I60","v":-1E-3},null,{"$f":"SEED!$I$11","v":" Block 2 Player 5"},{"$f":"'RESULTS DATA'!H84","v":-1E-3},{"$f":"'RESULTS DATA'!I84","v":-1E-3},null,{"$f":"SEED!$I$10","v":" Block 2 Player 4"},{"$f":"'RESULTS DATA'!H108","v":-1E-3},{"$f":"'RESULTS DATA'!I108","v":-1E-3},null,{"$f":"SEED!$I$15","v":" Block 2 Player 9"},{"$f":"'RESULTS DATA'!H132","v":-1E-3},{"$f":"'RESULTS DATA'!I132","v":-1E-3}]
[null,null,{"$f":"SEED!$I$13","v":" Block 2 Player 7"},{"$f":"'RESULTS DATA'!H13","v":-1E-3},{"$f":"'RESULTS DATA'!I13","v":-1E-3},null,{"$f":"SEED!$I$15","v":" Block 2 Player 9"},{"$f":"'RESULTS DATA'!H37","v":-1E-3},{"$f":"'RESULTS DATA'!I37","v":-1E-3},null,{"$f":"SEED!$I$17","v":" Block 2 Player 11"},{"$f":"'RESULTS DATA'!H61","v":-1E-3},{"$f":"'RESULTS DATA'!I61","v":-1E-3},null,{"$f":"SEED!$I$8","v":" Block 2 Player 2"},{"$f":"'RESULTS DATA'!H85","v":-1E-3},{"$f":"'RESULTS DATA'!I85","v":-1E-3},null,{"$f":"SEED!$I$13","v":" Block 2 Player 7"},{"$f":"'RESULTS DATA'!H109","v":-1E-3},{"$f":"'RESULTS DATA'!I109","v":-1E-3},null,{"$f":"SEED!$I$12","v":" Block 2 Player 6"},{"$f":"'RESULTS DATA'!H133","v":-1E-3},{"$f":"'RESULTS DATA'!I133","v":-1E-3}]
[null,null,{"$f":"SEED!$I$15","v":" Block 2 Player 9"},{"$f":"'RESULTS DATA'!H14","v":-1E-3},{"$f":"'RESULTS DATA'!I14","v":-1E-3},null,{"$f":"SEED!$I$17","v":" Block 2 Player 11"},{"$f":"'RESULTS DATA'!H38","v":-1E-3},{"$f":"'RESULTS DATA'!I38","v":-1E-3},null,{"$f":"SEED!$I$8","v":" Block 2 Player 2"},{"$f":"'RESULTS DATA'!H62","v":-1E-3},{"$f":"'RESULTS DATA'!I62","v":-1E-3},null,{"$f":"SEED!$I$10","v":" Block 2 Player 4"},{"$f":"'RESULTS DATA'!H86","v":-1E-3},{"$f":"'RESULTS DATA'!I86","v":-1E-3},null,{"$f":"SEED!$I$11","v":" Block 2 Player 5"},{"$f":"'RESULTS DATA'!H110","v":-1E-3},{"$f":"'RESULTS DATA'!I110","v":-1E-3},null,{"$f":"SEED!$I$14","v":" Block 2 Player 8"},{"$f":"'RESULTS DATA'!H134","v":-1E-3},{"$f":"'RESULTS DATA'!I134","v":-1E-3}]
[null,null,{"$f":"SEED!$I$14","v":" Block 2 Player 8"},{"$f":"'RESULTS DATA'!H15","v":-1E-3},{"$f":"'RESULTS DATA'!I15","v":-1E-3},null,{"$f":"SEED!$I$16","v":" Block 2 Player 10"},{"$f":"'RESULTS DATA'!H39","v":-1E-3},{"$f":"'RESULTS DATA'!I39","v":-1E-3},null,{"$f":"SEED!$I$18","v":" Block 2 Player 12"},{"$f":"'RESULTS DATA'!H63","v":-1E-3},{"$f":"'RESULTS DATA'!I63","v":-1E-3},null,{"$f":"SEED!$I$9","v":" Block 2 Player 3"},{"$f":"'RESULTS DATA'!H87","v":-1E-3},{"$f":"'RESULTS DATA'!I87","v":-1E-3},null,{"$f":"SEED!$I$12","v":" Block 2 Player 6"},{"$f":"'RESULTS DATA'!H111","v":-1E-3},{"$f":"'RESULTS DATA'!I111","v":-1E-3},null,{"$f":"SEED!$I$13","v":" Block 2 Player 7"},{"$f":"'RESULTS DATA'!H135","v":-1E-3},{"$f":"'RESULTS DATA'!I135","v":-1E-3}]
[null,null,{"$f":"SEED!$I$7","v":" Block 2 Player 1"},{"$f":"'RESULTS DATA'!H16","v":-1E-3},{"$f":"'RESULTS DATA'!I16","v":-1E-3},null,{"$f":"SEED!$I$7","v":" Block 2 Player 1"},{"$f":"'RESULTS DATA'!H40","v":-1E-3},{"$f":"'RESULTS DATA'!I40","v":-1E-3},null,{"$f":"SEED!$I$7","v":" Block 2 Player 1"},{"$f":"'RESULTS DATA'!H64","v":-1E-3},{"$f":"'RESULTS DATA'!I64","v":-1E-3},null,{"$f":"SEED!$I$7","v":" Block 2 Player 1"},{"$f":"'RESULTS DATA'!H88","v":-1E-3},{"$f":"'RESULTS DATA'!I88","v":-1E-3},null,{"$f":"SEED!$I$7","v":" Block 2 Player 1"},{"$f":"'RESULTS DATA'!H112","v":-1E-3},{"$f":"'RESULTS DATA'!I112","v":-1E-3}]
[null,null,{"$f":"SEED!$I$10","v":" Block 2 Player 4"},{"$f":"'RESULTS DATA'!H17","v":-1E-3},{"$f":"'RESULTS DATA'!I17","v":-1E-3},null,{"$f":"SEED!$I$12","v":" Block 2 Player 6"},{"$f":"'RESULTS DATA'!H41","v":-1E-3},{"$f":"'RESULTS DATA'!I41","v":-1E-3},null,{"$f":"SEED!$I$14","v":" Block 2 Player 8"},{"$f":"'RESULTS DATA'!H65","v":-1E-3},{"$f":"'RESULTS DATA'!I65","v":-1E-3},null,{"$f":"SEED!$I$16","v":" Block 2 Player 10"},{"$f":"'RESULTS DATA'!H89","v":-1E-3},{"$f":"'RESULTS DATA'!I89","v":-1E-3},null,{"$f":"SEED!$I$18","v":" Block 2 Player 12"},{"$f":"'RESULTS DATA'!H113","v":-1E-3},{"$f":"'RESULTS DATA'!I113","v":-1E-3}]
[null,null,{"$f":"SEED!$I$11","v":" Block 2 Player 5"},{"$f":"'RESULTS DATA'!H18","v":-1E-3},{"$f":"'RESULTS DATA'!I18","v":-1E-3},null,{"$f":"SEED!$I$11","v":" Block 2 Player 5"},{"$f":"'RESULTS DATA'!H42","v":-1E-3},{"$f":"'RESULTS DATA'!I42","v":-1E-3},null,{"$f":"SEED!$I$13","v":" Block 2 Player 7"},{"$f":"'RESULTS DATA'!H66","v":-1E-3},{"$f":"'RESULTS DATA'!I66","v":-1E-3},null,{"$f":"SEED!$I$15","v":" Block 2 Player 9"},{"$f":"'RESULTS DATA'!H90","v":-1E-3},{"$f":"'RESULTS DATA'!I90","v":-1E-3},null,{"$f":"SEED!$I$17","v":" Block 2 Player 11"},{"$f":"'RESULTS DATA'!H114","v":-1E-3},{"$f":"'RESULTS DATA'!I114","v":-1E-3}]
[null,null,{"$f":"SEED!$I$9","v":" Block 2 Player 3"},{"$f":"'RESULTS DATA'!H19","v":-1E-3},{"$f":"'RESULTS DATA'!I19","v":-1E-3},null,{"$f":"SEED!$I$13","v":" Block 2 Player 7"},{"$f":"'RESULTS DATA'!H43","v":-1E-3},{"$f":"'RESULTS DATA'!I43","v":-1E-3},null,{"$f":"SEED!$I$15","v":" Block 2 Player 9"},{"$f":"'RESULTS DATA'!H67","v":-1E-3},{"$f":"'RESULTS DATA'!I67","v":-1E-3},null,{"$f":"SEED!$I$17","v":" Block 2 Player 11"},{"$f":"'RESULTS DATA'!H91","v":-1E-3},{"$f":"'RESULTS DATA'!I91","v":-1E-3},null,{"$f":"SEED!$I$8","v":" Block 2 Player 2"},{"$f":"'RESULTS DATA'!H115","v":-1E-3},{"$f":"'RESULTS DATA'!I115","v":-1E-3}]
[null,null,{"$f":"SEED!$I$8","v":" Block 2 Player 2"},{"$f":"'RESULTS DATA'!H20","v":-1E-3},{"$f":"'RESULTS DATA'!I20","v":-1E-3},null,{"$f":"SEED!$I$10","v":" Block 2 Player 4"},{"$f":"'RESULTS DATA'!H44","v":-1E-3},{"$f":"'RESULTS DATA'!I44","v":-1E-3},null,{"$f":"SEED!$I$12","v":" Block 2 Player 6"},{"$f":"'RESULTS DATA'!H68","v":-1E-3},{"$f":"'RESULTS DATA'!I68","v":-1E-3},null,{"$f":"SEED!$I$14","v":" Block 2 Player 8"},{"$f":"'RESULTS DATA'!H92","v":-1E-3},{"$f":"'RESULTS DATA'!I92","v":-1E-3},null,{"$f":"SEED!$I$16","v":" Block 2 Player 10"},{"$f":"'RESULTS DATA'!H116","v":-1E-3},{"$f":"'RESULTS DATA'!I116","v":-1E-3}]
[null,null,{"$f":"SEED!$I$12","v":" Block 2 Player 6"},{"$f":"'RESULTS DATA'!H21","v":-1E-3},{"$f":"'RESULTS DATA'!I21","v":-1E-3},null,{"$f":"SEED!$I$14","v":" Block 2 Player 8"},{"$f":"'RESULTS DATA'!H45","v":-1E-3},{"$f":"'RESULTS DATA'!I45","v":-1E-3},null,{"$f":"SEED!$I$16","v":" Block 2 Player 10"},{"$f":"'RESULTS DATA'!H69","v":-1E-3},{"$f":"'RESULTS DATA'!I69","v":-1E-3},null,{"$f":"SEED!$I$18","v":" Block 2 Player 12"},{"$f":"'RESULTS DATA'!H93","v":-1E-3},{"$f":"'RESULTS DATA'!I93","v":-1E-3},null,{"$f":"SEED!$I$9","v":" Block 2 Player 3"},{"$f":"'RESULTS DATA'!H117","v":-1E-3},{"$f":"'RESULTS DATA'!I117","v":-1E-3}]
[null,null,{"$f":"SEED!$I$18","v":" Block 2 Player 12"},{"$f":"'RESULTS DATA'!H22","v":-1E-3},{"$f":"'RESULTS DATA'!I22","v":-1E-3},null,{"$f":"SEED!$I$9","v":" Block 2 Player 3"},{"$f":"'RESULTS DATA'!H46","v":-1E-3},{"$f":"'RESULTS DATA'!I46","v":-1E-3},null,{"$f":"SEED!$I$11","v":" Block 2 Player 5"},{"$f":"'RESULTS DATA'!H70","v":-1E-3},{"$f":"'RESULTS DATA'!I70","v":-1E-3},null,{"$f":"SEED!$I$13","v":" Block 2 Player 7"},{"$f":"'RESULTS DATA'!H94","v":-1E-3},{"$f":"'RESULTS DATA'!I94","v":-1E-3},null,{"$f":"SEED!$I$15","v":" Block 2 Player 9"},{"$f":"'RESULTS DATA'!H118","v":-1E-3},{"$f":"'RESULTS DATA'!I118","v":-1E-3}]
[null,null,{"$f":"SEED!$I$13","v":" Block 2 Player 7"},{"$f":"'RESULTS DATA'!H23","v":-1E-3},{"$f":"'RESULTS DATA'!I23","v":-1E-3},null,{"$f":"SEED!$I$15","v":" Block 2 Player 9"},{"$f":"'RESULTS DATA'!H47","v":-1E-3},{"$f":"'RESULTS DATA'!I47","v":-1E-3},null,{"$f":"SEED!$I$17","v":" Block 2 Player 11"},{"$f":"'RESULTS DATA'!H71","v":-1E-3},{"$f":"'RESULTS DATA'!I71","v":-1E-3},null,{"$f":"SEED!$I$8","v":" Block 2 Player 2"},{"$f":"'RESULTS DATA'!H95","v":-1E-3},{"$f":"'RESULTS DATA'!I95","v":-1E-3},null,{"$f":"SEED!$I$10","v":" Block 2 Player 4"},{"$f":"'RESULTS DATA'!H119","v":-1E-3},{"$f":"'RESULTS DATA'!I119","v":-1E-3}]
[null,null,{"$f":"SEED!$I$17","v":" Block 2 Player 11"},{"$f":"'RESULTS DATA'!H24","v":-1E-3},{"$f":"'RESULTS DATA'!I24","v":-1E-3},null,{"$f":"SEED!$I$8","v":" Block 2 Player 2"},{"$f":"'RESULTS DATA'!H48","v":-1E-3},{"$f":"'RESULTS DATA'!I48","v":-1E-3},null,{"$f":"SEED!$I$10","v":" Block 2 Player 4"},{"$f":"'RESULTS DATA'!H72","v":-1E-3},{"$f":"'RESULTS DATA'!I72","v":-1E-3},null,{"$f":"SEED!$I$12","v":" Block 2 Player 6"},{"$f":"'RESULTS DATA'!H96","v":-1E-3},{"$f":"'RESULTS DATA'!I96","v":-1E-3},null,{"$f":"SEED!$I$14","v":" Block 2 Player 8"},{"$f":"'RESULTS DATA'!H120","v":-1E-3},{"$f":"'RESULTS DATA'!I120","v":-1E-3}]
[null,null,{"$f":"SEED!$I$14","v":" Block 2 Player 8"},{"$f":"'RESULTS DATA'!H25","v":-1E-3},{"$f":"'RESULTS DATA'!I25","v":-1E-3},null,{"$f":"SEED!$I$16","v":" Block 2 Player 10"},{"$f":"'RESULTS DATA'!H49","v":-1E-3},{"$f":"'RESULTS DATA'!I49","v":-1E-3},null,{"$f":"SEED!$I$18","v":" Block 2 Player 12"},{"$f":"'RESULTS DATA'!H73","v":-1E-3},{"$f":"'RESULTS DATA'!I73","v":-1E-3},null,{"$f":"SEED!$I$9","v":" Block 2 Player 3"},{"$f":"'RESULTS DATA'!H97","v":-1E-3},{"$f":"'RESULTS DATA'!I97","v":-1E-3},null,{"$f":"SEED!$I$11","v":" Block 2 Player 5"},{"$f":"'RESULTS DATA'!H121","v":-1E-3},{"$f":"'RESULTS DATA'!I121","v":-1E-3}]
[null,null,{"$f":"SEED!$I$16","v":" Block 2 Player 10"},{"$f":"'RESULTS DATA'!H26","v":-1E-3},{"$f":"'RESULTS DATA'!I26","v":-1E-3},null,{"$f":"SEED!$I$18","v":" Block 2 Player 12"},{"$f":"'RESULTS DATA'!H50","v":-1E-3},{"$f":"'RESULTS DATA'!I50","v":-1E-3},null,{"$f":"SEED!$I$9","v":" Block 2 Player 3"},{"$f":"'RESULTS DATA'!H74","v":-1E-3},{"$f":"'RESULTS DATA'!I74","v":-1E-3},null,{"$f":"SEED!$I$11","v":" Block 2 Player 5"},{"$f":"'RESULTS DATA'!H98","v":-1E-3},{"$f":"'RESULTS DATA'!I98","v":-1E-3},null,{"$f":"SEED!$I$13","v":" Block 2 Player 7"},{"$f":"'RESULTS DATA'!H122","v":-1E-3},{"$f":"'RESULTS DATA'!I122","v":-1E-3}]
[null,null,{"$f":"SEED!$I$15","v":" Block 2 Player 9"},{"$f":"'RESULTS DATA'!H27","v":-1E-3},{"$f":"'RESULTS DATA'!I27","v":-1E-3},null,{"$f":"SEED!$I$17","v":" Block 2 Player 11"},{"$f":"'RESULTS DATA'!H51","v":-1E-3},{"$f":"'RESULTS DATA'!I51","v":-1E-3},null,{"$f":"SEED!$I$8","v":" Block 2 Player 2"},{"$f":"'RESULTS DATA'!H75","v":-1E-3},{"$f":"'RESULTS DATA'!I75","v":-1E-3},null,{"$f":"SEED!$I$10","v":" Block 2 Player 4"},{"$f":"'RESULTS DATA'!H99","v":-1E-3},{"$f":"'RESULTS DATA'!I99","v":-1E-3},null,{"$f":"SEED!$I$12","v":" Block 2 Player 6"},{"$f":"'RESULTS DATA'!H123","v":-1E-3},{"$f":"'RESULTS DATA'!I123","v":-1E-3}]

{"sheet":"RESULTS DATA","index":6,"n_rows":135,"n_cols":12,"rows_kept":135,"cut":false,"hidden":true,"merged":[[1,9,1,11]]}
[]
[null,null,null,null,null,null,null,null,null,"TEST SCORES"]
[null,"BLOCK 1",null,null,null,"BLOCK 2",null,null,null,null,null,"BYE"]
[null,{"$f":"SEED!D7","v":" Block 1 Player 1"},{"$f":"RESULTS!C4","v":" Block 1 Player 1"},-1E-3,-1E-3,{"$f":"SEED!I7","v":" Block 2 Player 1"},{"$f":"RESULTS!C34","v":" Block 2 Player 1"},-1E-3,-1E-3,null,1,1]
[null,{"$f":"SEED!D8","v":" Block 1 Player 2"},{"$f":"RESULTS!C5","v":" Block 1 Player 3"},-1E-3,-1E-3,{"$f":"SEED!I8","v":" Block 2 Player 2"},{"$f":"RESULTS!C35","v":" Block 2 Player 3"},-1E-3,-1E-3,null,3,3]
[null,{"$f":"SEED!D9","v":" Block 1 Player 3"},{"$f":"RESULTS!C6","v":" Block 1 Player 2"},-1E-3,-1E-3,{"$f":"SEED!I9","v":" Block 2 Player 3"},{"$f":"RESULTS!C36","v":" Block 2 Player 2"},-1E-3,-1E-3,null,2,2]
[null,{"$f":"SEED!D10","v":" Block 1 Player 4"},{"$f":"RESULTS!C7","v":" Block 1 Player 4"},-1E-3,-1E-3,{"$f":"SEED!I10","v":" Block 2 Player 4"},{"$f":"RESULTS!C37","v":" Block 2 Player 4"},-1E-3,-1E-3,null,4,4]
[null,{"$f":"SEED!D11","v":" Block 1 Player 5"},{"$f":"RESULTS!C8","v":" Block 1 Player 12"},-1E-3,-1E-3,{"$f":"SEED!I11","v":" Block 2 Player 5"},{"$f":"RESULTS!C38","v":" Block 2 Player 12"},-1E-3,-1E-3,null,12,-1E-3]
[null,{"$f":"SEED!D12","v":" Block 1 Player 6"},{"$f":"RESULTS!C9","v":" Block 1 Player 5"},-1E-3,-1E-3,{"$f":"SEED!I12","v":" Block 2 Player 6"},{"$f":"RESULTS!C39","v":" Block 2 Player 5"},-1E-3,-1E-3,null,5,-1E-3]
[null,{"$f":"SEED!D13","v":" Block 1 Player 7"},{"$f":"RESULTS!C10","v":" Block 1 Player 11"},-1E-3,-1E-3,{"$f":"SEED!I13","v":" Block 2 Player 7"},{"$f":"RESULTS!C40","v":" Block 2 Player 11"},-1E-3,-1E-3,null,11,11]
[null,{"$f":"SEED!D14","v":" Block 1 Player 8"},{"$f":"RESULTS!C11","v":" Block 1 Player 6"},-1E-3,-1E-3,{"$f":"SEED!I14","v":" Block 2 Player 8"},{"$f":"RESULTS!C41","v":" Block 2 Player 6"},-1E-3,-1E-3,null,6,6]
[null,{"$f":"SEED!D15","v":" Block 1 Player 9"},{"$f":"RESULTS!C12","v":" Block 1 Player 10"},-1E-3,-1E-3,{"$f":"SEED!I15","v":" Block 2 Player 9"},{"$f":"RESULTS!C42","v":" Block 2 Player 10"},-1E-3,-1E-3,null,10,10]
[null,{"$f":"SEED!D16","v":" Block 1 Player 10"},{"$f":"RESULTS!C13","v":" Block 1 Player 7"},-1E-3,-1E-3,{"$f":"SEED!I16","v":" Block 2 Player 10"},{"$f":"RESULTS!C43","v":" Block 2 Player 7"},-1E-3,-1E-3,null,7,7]
[null,{"$f":"SEED!D17","v":" Block 1 Player 11"},{"$f":"RESULTS!C14","v":" Block 1 Player 9"},-1E-3,-1E-3,{"$f":"SEED!I17","v":" Block 2 Player 11"},{"$f":"RESULTS!C44","v":" Block 2 Player 9"},-1E-3,-1E-3,null,9,9]
[null,{"$f":"SEED!D18","v":" Block 1 Player 12"},{"$f":"RESULTS!C15","v":" Block 1 Player 8"},-1E-3,-1E-3,{"$f":"SEED!I18","v":" Block 2 Player 12"},{"$f":"RESULTS!C45","v":" Block 2 Player 8"},-1E-3,-1E-3,null,8,8]
[null,null,{"$f":"RESULTS!C16","v":" Block 1 Player 1"},-1E-3,-1E-3,null,{"$f":"RESULTS!C46","v":" Block 2 Player 1"},-1E-3,-1E-3,null,1,1]
["NumberOfGames",66,{"$f":"RESULTS!C17","v":" Block 1 Player 4"},-1E-3,-1E-3,null,{"$f":"RESULTS!C47","v":" Block 2 Player 4"},-1E-3,-1E-3,null,4,4]
["Block1Selection1",12,{"$f":"RESULTS!C18","v":" Block 1 Player 5"},-1E-3,-1E-3,12,{"$f":"RESULTS!C48","v":" Block 2 Player 5"},-1E-3,-1E-3,null,5,5]
["Block1Selection2",11,{"$f":"RESULTS!C19","v":" Block 1 Player 3"},-1E-3,-1E-3,5,{"$f":"RESULTS!C49","v":" Block 2 Player 3"},-1E-3,-1E-3,null,3,3]
["Block1Player1Name",{"$f":"INDEX(B4:B15,Block1Selection1)","v":" Block 1 Player 12"},{"$f":"RESULTS!C20","v":" Block 1 Player 2"},-1E-3,-1E-3,{"$f":"INDEX(F4:F15,Block2Selection1)","v":" Block 2 Player 12"},{"$f":"RESULTS!C50","v":" Block 2 Player 2"},-1E-3,-1E-3,null,2,2]
["Block1Player2Name",{"$f":"INDEX(B4:B15,Block1Selection2)","v":" Block 1 Player 11"},{"$f":"RESULTS!C21","v":" Block 1 Player 6"},-1E-3,-1E-3,{"$f":"INDEX(F4:F15,Block2Selection2)","v":" Block 2 Player 5"},{"$f":"RESULTS!C51","v":" Block 2 Player 6"},-1E-3,-1E-3,null,6,6]
[null,null,{"$f":"RESULTS!C22","v":" Block 1 Player 12"},-1E-3,-1E-3,null,{"$f":"RESULTS!C52","v":" Block 2 Player 12"},-1E-3,-1E-3,null,12,-1E-3]
[null,null,{"$f":"RESULTS!C23","v":" Block 1 Player 7"},-1E-3,-1E-3,null,{"$f":"RESULTS!C53","v":" Block 2 Player 7"},-1E-3,-1E-3,null,7,-1E-3]
[null,null,{"$f":"RESULTS!C24","v":" Block 1 Player 11"},-1E-3,-1E-3,null,{"$f":"RESULTS!C54","v":" Block 2 Player 11"},-1E-3,-1E-3,null,11,11]
[null,null,{"$f":"RESULTS!C25","v":" Block 1 Player 8"},-1E-3,-1E-3,null,{"$f":"RESULTS!C55","v":" Block 2 Player 8"},-1E-3,-1E-3,null,8,8]
[null,null,{"$f":"RESULTS!C26","v":" Block 1 Player 10"},-1E-3,-1E-3,null,{"$f":"RESULTS!C56","v":" Block 2 Player 10"},-1E-3,-1E-3,null,10,10]
[null,null,{"$f":"RESULTS!C27","v":" Block 1 Player 9"},-1E-3,-1E-3,null,{"$f":"RESULTS!C57","v":" Block 2 Player 9"},-1E-3,-1E-3,null,9,9]
[null,null,{"$f":"RESULTS!G4","v":" Block 1 Player 1"},-1E-3,-1E-3,null,{"$f":"RESULTS!G34","v":" Block 2 Player 1"},-1E-3,-1E-3,null,1,1]
[null,null,{"$f":"RESULTS!G5","v":" Block 1 Player 5"},-1E-3,-1E-3,null,{"$f":"RESULTS!G35","v":" Block 2 Player 5"},-1E-3,-1E-3,null,5,5]
[null,null,{"$f":"RESULTS!G6","v":" Block 1 Player 4"},-1E-3,-1E-3,null,{"$f":"RESULTS!G36","v":" Block 2 Player 4"},-1E-3,-1E-3,null,4,4]
[null,null,{"$f":"RESULTS!G7","v":" Block 1 Player 6"},-1E-3,-1E-3,null,{"$f":"RESULTS!G37","v":" Block 2 Player 6"},-1E-3,-1E-3,null,6,6]
[null,null,{"$f":"RESULTS!G8","v":" Block 1 Player 3"},-1E-3,-1E-3,null,{"$f":"RESULTS!G38","v":" Block 2 Player 3"},-1E-3,-1E-3,null,3,3]
[null,null,{"$f":"RESULTS!G9","v":" Block 1 Player 7"},-1E-3,-1E-3,null,{"$f":"RESULTS!G39","v":" Block 2 Player 7"},-1E-3,-1E-3,null,7,7]
[null,null,{"$f":"RESULTS!G10","v":" Block 1 Player 2"},-1E-3,-1E-3,null,{"$f":"RESULTS!G40","v":" Block 2 Player 2"},-1E-3,-1E-3,null,2,2]
[null,null,{"$f":"RESULTS!G11","v":" Block 1 Player 8"},-1E-3,-1E-3,null,{"$f":"RESULTS!G41","v":" Block 2 Player 8"},-1E-3,-1E-3,null,8,8]
[null,null,{"$f":"RESULTS!G12","v":" Block 1 Player 12"},-1E-3,-1E-3,null,{"$f":"RESULTS!G42","v":" Block 2 Player 12"},-1E-3,-1E-3,null,12,-1E-3]
[null,null,{"$f":"RESULTS!G13","v":" Block 1 Player 9"},-1E-3,-1E-3,null,{"$f":"RESULTS!G43","v":" Block 2 Player 9"},-1E-3,-1E-3,null,9,-1E-3]
[null,null,{"$f":"RESULTS!G14","v":" Block 1 Player 11"},-1E-3,-1E-3,null,{"$f":"RESULTS!G44","v":" Block 2 Player 11"},-1E-3,-1E-3,null,11,11]
[null,null,{"$f":"RESULTS!G15","v":" Block 1 Player 10"},-1E-3,-1E-3,null,{"$f":"RESULTS!G45","v":" Block 2 Player 10"},-1E-3,-1E-3,null,10,10]
[null,null,{"$f":"RESULTS!G16","v":" Block 1 Player 1"},-1E-3,-1E-3,null,{"$f":"RESULTS!G46","v":" Block 2 Player 1"},-1E-3,-1E-3,null,1,1]
[null,null,{"$f":"RESULTS!G17","v":" Block 1 Player 6"},-1E-3,-1E-3,null,{"$f":"RESULTS!G47","v":" Block 2 Player 6"},-1E-3,-1E-3,null,6,6]
[null,null,{"$f":"RESULTS!G18","v":" Block 1 Player 5"},-1E-3,-1E-3,null,{"$f":"RESULTS!G48","v":" Block 2 Player 5"},-1E-3,-1E-3,null,5,5]
[null,null,{"$f":"RESULTS!G19","v":" Block 1 Player 7"},-1E-3,-1E-3,null,{"$f":"RESULTS!G49","v":" Block 2 Player 7"},-1E-3,-1E-3,null,7,7]
[null,null,{"$f":"RESULTS!G20","v":" Block 1 Player 4"},-1E-3,-1E-3,null,{"$f":"RESULTS!G50","v":" Block 2 Player 4"},-1E-3,-1E-3,null,4,4]
[null,null,{"$f":"RESULTS!G21","v":" Block 1 Player 8"},-1E-3,-1E-3,null,{"$f":"RESULTS!G51","v":" Block 2 Player 8"},-1E-3,-1E-3,null,8,8]
[null,null,{"$f":"RESULTS!G22","v":" Block 1 Player 3"},-1E-3,-1E-3,null,{"$f":"RESULTS!G52","v":" Block 2 Player 3"},-1E-3,-1E-3,null,3,3]
[null,null,{"$f":"RESULTS!G23","v":" Block 1 Player 9"},-1E-3,-1E-3,null,{"$f":"RESULTS!G53","v":" Block 2 Player 9"},-1E-3,-1E-3,null,9,9]
[null,null,{"$f":"RESULTS!G24","v":" Block 1 Player 2"},-1E-3,-1E-3,null,{"$f":"RESULTS!G54","v":" Block 2 Player 2"},-1E-3,-1E-3,null,2,2]
[null,null,{"$f":"RESULTS!G25","v":" Block 1 Player 10"},-1E-3,-1E-3,null,{"$f":"RESULTS!G55","v":" Block 2 Player 10"},-1E-3,-1E-3,null,10,10]
[null,null,{"$f":"RESULTS!G26","v":" Block 1 Player 12"},-1E-3,-1E-3,null,{"$f":"RESULTS!G56","v":" Block 2 Player 12"},-1E-3,-1E-3,null,12,-1E-3]
[null,null,{"$f":"RESULTS!G27","v":" Block 1 Player 11"},-1E-3,-1E-3,null,{"$f":"RESULTS!G57","v":" Block 2 Player 11"},-1E-3,-1E-3,null,11,-1E-3]
[null,null,{"$f":"RESULTS!K4","v":" Block 1 Player 1"},-1E-3,-1E-3,null,{"$f":"RESULTS!K34","v":" Block 2 Player 1"},-1E-3,-1E-3,null,1,1]
[null,null,{"$f":"RESULTS!K5","v":" Block 1 Player 7"},-1E-3,-1E-3,null,{"$f":"RESULTS!K35","v":" Block 2 Player 7"},-1E-3,-1E-3,null,7,7]
[null,null,{"$f":"RESULTS!K6","v":" Block 1 Player 6"},-1E-3,-1E-3,null,{"$f":"RESULTS!K36","v":" Block 2 Player 6"},-1E-3,-1E-3,null,6,6]
[null,null,{"$f":"RESULTS!K7","v":" Block 1 Player 8"},-1E-3,-1E-3,null,{"$f":"RESULTS!K37","v":" Block 2 Player 8"},-1E-3,-1E-3,null,8,8]
[null,null,{"$f":"RESULTS!K8","v":" Block 1 Player 5"},-1E-3,-1E-3,null,{"$f":"RESULTS!K38","v":" Block 2 Player 5"},-1E-3,-1E-3,null,5,5]
[null,null,{"$f":"RESULTS!K9","v":" Block 1 Player 9"},-1E-3,-1E-3,null,{"$f":"RESULTS!K39","v":" Block 2 Player 9"},-1E-3,-1E-3,null,9,9]
[null,null,{"$f":"RESULTS!K10","v":" Block 1 Player 4"},-1E-3,-1E-3,null,{"$f":"RESULTS!K40","v":" Block 2 Player 4"},-1E-3,-1E-3,null,4,4]
[null,null,{"$f":"RESULTS!K11","v":" Block 1 Player 10"},-1E-3,-1E-3,null,{"$f":"RESULTS!K41","v":" Block 2 Player 10"},-1E-3,-1E-3,null,10,10]
[null,null,{"$f":"RESULTS!K12","v":" Block 1 Player 3"},-1E-3,-1E-3,null,{"$f":"RESULTS!K42","v":" Block 2 Player 3"},-1E-3,-1E-3,null,3,3]
[null,null,{"$f":"RESULTS!K13","v":" Block 1 Player 11"},-1E-3,-1E-3,null,{"$f":"RESULTS!K43","v":" Block 2 Player 11"},-1E-3,-1E-3,null,11,11]
[null,null,{"$f":"RESULTS!K14","v":" Block 1 Player 2"},-1E-3,-1E-3,null,{"$f":"RESULTS!K44","v":" Block 2 Player 2"},-1E-3,-1E-3,null,2,-1E-3]
[null,null,{"$f":"RESULTS!K15","v":" Block 1 Player 12"},-1E-3,-1E-3,null,{"$f":"RESULTS!K45","v":" Block 2 Player 12"},-1E-3,-1E-3,null,12,-1E-3]
[null,null,{"$f":"RESULTS!K16","v":" Block 1 Player 1"},-1E-3,-1E-3,null,{"$f":"RESULTS!K46","v":" Block 2 Player 1"},-1E-3,-1E-3,null,1,1]
[null,null,{"$f":"RESULTS!K17","v":" Block 1 Player 8"},-1E-3,-1E-3,null,{"$f":"RESULTS!K47","v":" Block 2 Player 8"},-1E-3,-1E-3,null,8,8]
[null,null,{"$f":"RESULTS!K18","v":" Block 1 Player 7"},-1E-3,-1E-3,null,{"$f":"RESULTS!K48","v":" Block 2 Player 7"},-1E-3,-1E-3,null,7,7]
[null,null,{"$f":"RESULTS!K19","v":" Block 1 Player 9"},-1E-3,-1E-3,null,{"$f":"RESULTS!K49","v":" Block 2 Player 9"},-1E-3,-1E-3,null,9,9]
[null,null,{"$f":"RESULTS!K20","v":" Block 1 Player 6"},-1E-3,-1E-3,null,{"$f":"RESULTS!K50","v":" Block 2 Player 6"},-1E-3,-1E-3,null,6,6]
[null,null,{"$f":"RESULTS!K21","v":" Block 1 Player 10"},-1E-3,-1E-3,null,{"$f":"RESULTS!K51","v":" Block 2 Player 10"},-1E-3,-1E-3,null,10,10]
[null,null,{"$f":"RESULTS!K22","v":" Block 1 Player 5"},-1E-3,-1E-3,null,{"$f":"RESULTS!K52","v":" Block 2 Player 5"},-1E-3,-1E-3,null,5,5]
[null,null,{"$f":"RESULTS!K23","v":" Block 1 Player 11"},-1E-3,-1E-3,null,{"$f":"RESULTS!K53","v":" Block 2 Player 11"},-1E-3,-1E-3,null,11,11]
[null,null,{"$f":"RESULTS!K24","v":" Block 1 Player 4"},-1E-3,-1E-3,null,{"$f":"RESULTS!K54","v":" Block 2 Player 4"},-1E-3,-1E-3,null,4,-1E-3]
[null,null,{"$f":"RESULTS!K25","v":" Block 1 Player 12"},-1E-3,-1E-3,null,{"$f":"RESULTS!K55","v":" Block 2 Player 12"},-1E-3,-1E-3,null,12,-1E-3]
[null,null,{"$f":"RESULTS!K26","v":" Block 1 Player 3"},-1E-3,-1E-3,null,{"$f":"RESULTS!K56","v":" Block 2 Player 3"},-1E-3,-1E-3,null,3,3]
[null,null,{"$f":"RESULTS!K27","v":" Block 1 Player 2"},-1E-3,-1E-3,null,{"$f":"RESULTS!K57","v":" Block 2 Player 2"},-1E-3,-1E-3,null,2,2]
[null,null,{"$f":"RESULTS!O4","v":" Block 1 Player 1"},-1E-3,-1E-3,null,{"$f":"RESULTS!O34","v":" Block 2 Player 1"},-1E-3,-1E-3,null,1,1]
[null,null,{"$f":"RESULTS!O5","v":" Block 1 Player 9"},-1E-3,-1E-3,null,{"$f":"RESULTS!O35","v":" Block 2 Player 9"},-1E-3,-1E-3,null,9,9]
[null,null,{"$f":"RESULTS!O6","v":" Block 1 Player 8"},-1E-3,-1E-3,null,{"$f":"RESULTS!O36","v":" Block 2 Player 8"},-1E-3,-1E-3,null,8,8]
[null,null,{"$f":"RESULTS!O7","v":" Block 1 Player 10"},-1E-3,-1E-3,null,{"$f":"RESULTS!O37","v":" Block 2 Player 10"},-1E-3,-1E-3,null,10,10]
[null,null,{"$f":"RESULTS!O8","v":" Block 1 Player 7"},-1E-3,-1E-3,null,{"$f":"RESULTS!O38","v":" Block 2 Player 7"},-1E-3,-1E-3,null,7,7]
[null,null,{"$f":"RESULTS!O9","v":" Block 1 Player 11"},-1E-3,-1E-3,null,{"$f":"RESULTS!O39","v":" Block 2 Player 11"},-1E-3,-1E-3,null,11,11]
[null,null,{"$f":"RESULTS!O10","v":" Block 1 Player 6"},-1E-3,-1E-3,null,{"$f":"RESULTS!O40","v":" Block 2 Player 6"},-1E-3,-1E-3,null,6,-1E-3]
[null,null,{"$f":"RESULTS!O11","v":" Block 1 Player 12"},-1E-3,-1E-3,null,{"$f":"RESULTS!O41","v":" Block 2 Player 12"},-1E-3,-1E-3,null,12,-1E-3]
[null,null,{"$f":"RESULTS!O12","v":" Block 1 Player 5"},-1E-3,-1E-3,null,{"$f":"RESULTS!O42","v":" Block 2 Player 5"},-1E-3,-1E-3,null,5,5]
[null,null,{"$f":"RESULTS!O13","v":" Block 1 Player 2"},-1E-3,-1E-3,null,{"$f":"RESULTS!O43","v":" Block 2 Player 2"},-1E-3,-1E-3,null,2,2]
[null,null,{"$f":"RESULTS!O14","v":" Block 1 Player 4"},-1E-3,-1E-3,null,{"$f":"RESULTS!O44","v":" Block 2 Player 4"},-1E-3,-1E-3,null,4,4]
[null,null,{"$f":"RESULTS!O15","v":" Block 1 Player 3"},-1E-3,-1E-3,null,{"$f":"RESULTS!O45","v":" Block 2 Player 3"},-1E-3,-1E-3,null,3,3]
[null,null,{"$f":"RESULTS!O16","v":" Block 1 Player 1"},-1E-3,-1E-3,null,{"$f":"RESULTS!O46","v":" Block 2 Player 1"},-1E-3,-1E-3,null,1,1]
[null,null,{"$f":"RESULTS!O17","v":" Block 1 Player 10"},-1E-3,-1E-3,null,{"$f":"RESULTS!O47","v":" Block 2 Player 10"},-1E-3,-1E-3,null,10,10]
[null,null,{"$f":"RESULTS!O18","v":" Block 1 Player 9"},-1E-3,-1E-3,null,{"$f":"RESULTS!O48","v":" Block 2 Player 9"},-1E-3,-1E-3,null,9,9]
[null,null,{"$f":"RESULTS!O19","v":" Block 1 Player 11"},-1E-3,-1E-3,null,{"$f":"RESULTS!O49","v":" Block 2 Player 11"},-1E-3,-1E-3,null,11,11]
[null,null,{"$f":"RESULTS!O20","v":" Block 1 Player 8"},-1E-3,-1E-3,null,{"$f":"RESULTS!O50","v":" Block 2 Player 8"},-1E-3,-1E-3,null,8,-1E-3]
[null,null,{"$f":"RESULTS!O21","v":" Block 1 Player 12"},-1E-3,-1E-3,null,{"$f":"RESULTS!O51","v":" Block 2 Player 12"},-1E-3,-1E-3,null,12,-1E-3]
[null,null,{"$f":"RESULTS!O22","v":" Block 1 Player 7"},-1E-3,-1E-3,null,{"$f":"RESULTS!O52","v":" Block 2 Player 7"},-1E-3,-1E-3,null,7,7]
[null,null,{"$f":"RESULTS!O23","v":" Block 1 Player 2"},-1E-3,-1E-3,null,{"$f":"RESULTS!O53","v":" Block 2 Player 2"},-1E-3,-1E-3,null,2,2]
[null,null,{"$f":"RESULTS!O24","v":" Block 1 Player 6"},-1E-3,-1E-3,null,{"$f":"RESULTS!O54","v":" Block 2 Player 6"},-1E-3,-1E-3,null,6,6]
[null,null,{"$f":"RESULTS!O25","v":" Block 1 Player 3"},-1E-3,-1E-3,null,{"$f":"RESULTS!O55","v":" Block 2 Player 3"},-1E-3,-1E-3,null,3,3]
[null,null,{"$f":"RESULTS!O26","v":" Block 1 Player 5"},-1E-3,-1E-3,null,{"$f":"RESULTS!O56","v":" Block 2 Player 5"},-1E-3,-1E-3,null,5,5]
[null,null,{"$f":"RESULTS!O27","v":" Block 1 Player 4"},-1E-3,-1E-3,null,{"$f":"RESULTS!O57","v":" Block 2 Player 4"},-1E-3,-1E-3,null,4,4]
[null,null,{"$f":"RESULTS!S4","v":" Block 1 Player 1"},-1E-3,-1E-3,null,{"$f":"RESULTS!S34","v":" Block 2 Player 1"},-1E-3,-1E-3,null,1,1]
[null,null,{"$f":"RESULTS!S5","v":" Block 1 Player 11"},-1E-3,-1E-3,null,{"$f":"RESULTS!S35","v":" Block 2 Player 11"},-1E-3,-1E-3,null,11,11]
[null,null,{"$f":"RESULTS!S6","v":" Block 1 Player 10"},-1E-3,-1E-3,null,{"$f":"RESULTS!S36","v":" Block 2 Player 10"},-1E-3,-1E-3,null,10,-1E-3]
[null,null,{"$f":"RESULTS!S7","v":" Block 1 Player 12"},-1E-3,-1E-3,null,{"$f":"RESULTS!S37","v":" Block 2 Player 12"},-1E-3,-1E-3,null,12,-1E-3]
[null,null,{"$f":"RESULTS!S8","v":" Block 1 Player 2"},-1E-3,-1E-3,null,{"$f":"RESULTS!S38","v":" Block 2 Player 2"},-1E-3,-1E-3,null,2,2]
[null,null,{"$f":"RESULTS!S9","v":" Block 1 Player 9"},-1E-3,-1E-3,null,{"$f":"RESULTS!S39","v":" Block 2 Player 9"},-1E-3,-1E-3,null,9,9]
[null,null,{"$f":"RESULTS!S10","v":" Block 1 Player 3"},-1E-3,-1E-3,null,{"$f":"RESULTS!S40","v":" Block 2 Player 3"},-1E-3,-1E-3,null,3,3]
[null,null,{"$f":"RESULTS!S11","v":" Block 1 Player 8"},-1E-3,-1E-3,null,{"$f":"RESULTS!S41","v":" Block 2 Player 8"},-1E-3,-1E-3,null,8,8]
[null,null,{"$f":"RESULTS!S12","v":" Block 1 Player 4"},-1E-3,-1E-3,null,{"$f":"RESULTS!S42","v":" Block 2 Player 4"},-1E-3,-1E-3,null,4,4]
[null,null,{"$f":"RESULTS!S13","v":" Block 1 Player 7"},-1E-3,-1E-3,null,{"$f":"RESULTS!S43","v":" Block 2 Player 7"},-1E-3,-1E-3,null,7,7]
[null,null,{"$f":"RESULTS!S14","v":" Block 1 Player 5"},-1E-3,-1E-3,null,{"$f":"RESULTS!S44","v":" Block 2 Player 5"},-1E-3,-1E-3,null,5,5]
[null,null,{"$f":"RESULTS!S15","v":" Block 1 Player 6"},-1E-3,-1E-3,null,{"$f":"RESULTS!S45","v":" Block 2 Player 6"},-1E-3,-1E-3,null,6,6]
[null,null,{"$f":"RESULTS!S16","v":" Block 1 Player 1"},-1E-3,-1E-3,null,{"$f":"RESULTS!S46","v":" Block 2 Player 1"},-1E-3,-1E-3,null,1,-1E-3]
[null,null,{"$f":"RESULTS!S17","v":" Block 1 Player 12"},-1E-3,-1E-3,null,{"$f":"RESULTS!S47","v":" Block 2 Player 12"},-1E-3,-1E-3,null,12,-1E-3]
[null,null,{"$f":"RESULTS!S18","v":" Block 1 Player 11"},-1E-3,-1E-3,null,{"$f":"RESULTS!S48","v":" Block 2 Player 11"},-1E-3,-1E-3,null,11,11]
[null,null,{"$f":"RESULTS!S19","v":" Block 1 Player 2"},-1E-3,-1E-3,null,{"$f":"RESULTS!S49","v":" Block 2 Player 2"},-1E-3,-1E-3,null,2,2]
[null,null,{"$f":"RESULTS!S20","v":" Block 1 Player 10"},-1E-3,-1E-3,null,{"$f":"RESULTS!S50","v":" Block 2 Player 10"},-1E-3,-1E-3,null,10,10]
[null,null,{"$f":"RESULTS!S21","v":" Block 1 Player 3"},-1E-3,-1E-3,null,{"$f":"RESULTS!S51","v":" Block 2 Player 3"},-1E-3,-1E-3,null,3,3]
[null,null,{"$f":"RESULTS!S22","v":" Block 1 Player 9"},-1E-3,-1E-3,null,{"$f":"RESULTS!S52","v":" Block 2 Player 9"},-1E-3,-1E-3,null,9,9]
[null,null,{"$f":"RESULTS!S23","v":" Block 1 Player 4"},-1E-3,-1E-3,null,{"$f":"RESULTS!S53","v":" Block 2 Player 4"},-1E-3,-1E-3,null,4,4]
[null,null,{"$f":"RESULTS!S24","v":" Block 1 Player 8"},-1E-3,-1E-3,null,{"$f":"RESULTS!S54","v":" Block 2 Player 8"},-1E-3,-1E-3,null,8,8]
[null,null,{"$f":"RESULTS!S25","v":" Block 1 Player 5"},-1E-3,-1E-3,null,{"$f":"RESULTS!S55","v":" Block 2 Player 5"},-1E-3,-1E-3,null,5,5]
[null,null,{"$f":"RESULTS!S26","v":" Block 1 Player 7"},-1E-3,-1E-3,null,{"$f":"RESULTS!S56","v":" Block 2 Player 7"},-1E-3,-1E-3,null,7,7]
[null,null,{"$f":"RESULTS!S27","v":" Block 1 Player 6"},-1E-3,-1E-3,null,{"$f":"RESULTS!S57","v":" Block 2 Player 6"},-1E-3,-1E-3,null,6,6]
[null,null,{"$f":"RESULTS!W4","v":" Block 1 Player 1"},-1E-3,-1E-3,null,{"$f":"RESULTS!W34","v":" Block 2 Player 1"},-1E-3,-1E-3,null,1,1]
[null,null,{"$f":"RESULTS!W5","v":" Block 1 Player 2"},-1E-3,-1E-3,null,{"$f":"RESULTS!W35","v":" Block 2 Player 2"},-1E-3,-1E-3,null,2,2]
[null,null,{"$f":"RESULTS!W6","v":" Block 1 Player 12"},-1E-3,-1E-3,null,{"$f":"RESULTS!W36","v":" Block 2 Player 12"},-1E-3,-1E-3,null,12,-1E-3]
[null,null,{"$f":"RESULTS!W7","v":" Block 1 Player 3"},-1E-3,-1E-3,null,{"$f":"RESULTS!W37","v":" Block 2 Player 3"},-1E-3,-1E-3,null,3,-1E-3]
[null,null,{"$f":"RESULTS!W8","v":" Block 1 Player 11"},-1E-3,-1E-3,null,{"$f":"RESULTS!W38","v":" Block 2 Player 11"},-1E-3,-1E-3,null,11,11]
[null,null,{"$f":"RESULTS!W9","v":" Block 1 Player 4"},-1E-3,-1E-3,null,{"$f":"RESULTS!W39","v":" Block 2 Player 4"},-1E-3,-1E-3,null,4,4]
[null,null,{"$f":"RESULTS!W10","v":" Block 1 Player 10"},-1E-3,-1E-3,null,{"$f":"RESULTS!W40","v":" Block 2 Player 10"},-1E-3,-1E-3,null,10,10]
[null,null,{"$f":"RESULTS!W11","v":" Block 1 Player 5"},-1E-3,-1E-3,null,{"$f":"RESULTS!W41","v":" Block 2 Player 5"},-1E-3,-1E-3,null,5,5]
[null,null,{"$f":"RESULTS!W12","v":" Block 1 Player 9"},-1E-3,-1E-3,null,{"$f":"RESULTS!W42","v":" Block 2 Player 9"},-1E-3,-1E-3,null,9,9]
[null,null,{"$f":"RESULTS!W13","v":" Block 1 Player 6"},-1E-3,-1E-3,null,{"$f":"RESULTS!W43","v":" Block 2 Player 6"},-1E-3,-1E-3,null,6,6]
[null,null,{"$f":"RESULTS!W14","v":" Block 1 Player 8"},-1E-3,-1E-3,null,{"$f":"RESULTS!W44","v":" Block 2 Player 8"},-1E-3,-1E-3,null,8,8]
[null,null,{"$f":"RESULTS!W15","v":" Block 1 Player 7"},-1E-3,-1E-3,null,{"$f":"RESULTS!W45","v":" Block 2 Player 7"},-1E-3,-1E-3,null,7,7]

{"sheet":"SCORES","index":7,"n_rows":310,"n_cols":12,"rows_kept":310,"cut":false,"hidden":false,"merged":[]}
[]
[]
[]
[null,{"$f":"NAMES!$C$10 & \"   COURT \" & GAMES!D4","v":"BLOCK 1   COURT "},null,"SCORES",null,{"$f":"NAMES!$C$10 & \"   COURT \" & GAMES!D26","v":"BLOCK 1   COURT "},null,"SCORES",null,{"$f":"NAMES!$C$10 & \"   COURT \" & GAMES!D48","v":"BLOCK 1   COURT "},null,"SCORES"]
[null,{"$f":"RESULTS!C4","v":" Block 1 Player 1"},null,{"$f":"RESULTS!D4","v":-1E-3},null,{"$f":"RESULTS!G24","v":" Block 1 Player 2"},null,{"$f":"RESULTS!H24","v":-1E-3},null,{"$f":"RESULTS!O20","v":" Block 1 Player 8"},null,{"$f":"RESULTS!P20","v":-1E-3}]
[null,{"$f":"GAMES!$C$4+GAMES!B4","v":"00:00:00"},null,null,null,{"$f":"GAMES!$C$26+GAMES!B26","v":"00:00:00"},null,null,null,{"$f":"GAMES!$C$48+GAMES!B48","v":"00:00:00"}]
[null,{"$f":"RESULTS!C5","v":" Block 1 Player 3"},null,{"$f":"RESULTS!D5","v":-1E-3},null,{"$f":"RESULTS!G25","v":" Block 1 Player 10"},null,{"$f":"RESULTS!H25","v":-1E-3},null,{"$f":"RESULTS!O21","v":" Block 1 Player 12"},null,{"$f":"RESULTS!P21","v":-1E-3}]
[null,"INITIALS",null,null,null,"INITIALS",null,null,null,"INITIALS"]
[]
[]
[null,{"$f":"NAMES!$C$10 & \"   COURT \" & GAMES!D5","v":"BLOCK 1   COURT "},null,"SCORES",null,{"$f":"NAMES!$C$10 & \"   COURT \" & GAMES!D27","v":"BLOCK 1   COURT "},null,"SCORES",null,{"$f":"NAMES!$C$10 & \"   COURT \" & GAMES!D49","v":"BLOCK 1   COURT "},null,"SCORES"]
[null,{"$f":"RESULTS!C6","v":" Block 1 Player 2"},null,{"$f":"RESULTS!D6","v":-1E-3},null,{"$f":"RESULTS!G26","v":" Block 1 Player 12"},null,{"$f":"RESULTS!H26","v":-1E-3},null,{"$f":"RESULTS!O22","v":" Block 1 Player 7"},null,{"$f":"RESULTS!P22","v":-1E-3}]
[null,{"$f":"GAMES!$C$5+GAMES!B5","v":"00:00:00"},null,null,null,{"$f":"GAMES!$C$27+GAMES!B27","v":"00:00:00"},null,null,null,{"$f":"GAMES!$C$49+GAMES!B49","v":"00:00:00"}]
[null,{"$f":"RESULTS!C7","v":" Block 1 Player 4"},null,{"$f":"RESULTS!D7","v":-1E-3},null,{"$f":"RESULTS!G27","v":" Block 1 Player 11"},null,{"$f":"RESULTS!H27","v":-1E-3},null,{"$f":"RESULTS!O23","v":" Block 1 Player 2"},null,{"$f":"RESULTS!P23","v":-1E-3}]
[null,"INITIALS",null,null,null,"INITIALS",null,null,null,"INITIALS"]
[]
[]
[null,{"$f":"NAMES!$C$10 & \"   COURT \" & GAMES!D6","v":"BLOCK 1   COURT "},null,"SCORES",null,{"$f":"NAMES!$C$10 & \"   COURT \" & GAMES!D28","v":"BLOCK 1   COURT "},null,"SCORES",null,{"$f":"NAMES!$C$10 & \"   COURT \" & GAMES!D50","v":"BLOCK 1   COURT "},null,"SCORES"]
[null,{"$f":"RESULTS!C8","v":" Block 1 Player 12"},null,{"$f":"RESULTS!D8","v":-1E-3},null,{"$f":"RESULTS!K4","v":" Block 1 Player 1"},null,{"$f":"RESULTS!L4","v":-1E-3},null,{"$f":"RESULTS!O24","v":" Block 1 Player 6"},null,{"$f":"RESULTS!P24","v":-1E-3}]
[null,{"$f":"GAMES!$C$6+GAMES!B6","v":"00:00:00"},null,null,null,{"$f":"GAMES!$C$28+GAMES!B28","v":"00:00:00"},null,null,null,{"$f":"GAMES!$C$50+GAMES!B50","v":"00:00:00"}]
[null,{"$f":"RESULTS!C9","v":" Block 1 Player 5"},null,{"$f":"RESULTS!D9","v":-1E-3},null,{"$f":"RESULTS!K5","v":" Block 1 Player 7"},null,{"$f":"RESULTS!L5","v":-1E-3},null,{"$f":"RESULTS!O25","v":" Block 1 Player 3"},null,{"$f":"RESULTS!P25","v":-1E-3}]
[null,"INITIALS",null,null,null,"INITIALS",null,null,null,"INITIALS"]
[]
[]
[null,{"$f":"NAMES!$C$10 & \"   COURT \" & GAMES!D7","v":"BLOCK 1   COURT "},null,"SCORES",null,{"$f":"NAMES!$C$10 & \"   COURT \" & GAMES!D29","v":"BLOCK 1   COURT "},null,"SCORES",null,{"$f":"NAMES!$C$10 & \"   COURT \" & GAMES!D51","v":"BLOCK 1   COURT "},null,"SCORES"]
[null,{"$f":"RESULTS!C10","v":" Block 1 Player 11"},null,{"$f":"RESULTS!D10","v":-1E-3},null,{"$f":"RESULTS!K6","v":" Block 1 Player 6"},null,{"$f":"RESULTS!L6","v":-1E-3},null,{"$f":"RESULTS!O26","v":" Block 1 Player 5"},null,{"$f":"RESULTS!P26","v":-1E-3}]
[null,{"$f":"GAMES!$C$7+GAMES!B7","v":"00:00:00"},null,null,null,{"$f":"GAMES!$C$29+GAMES!B29","v":"00:00:00"},null,null,null,{"$f":"GAMES!$C$51+GAMES!B51","v":"00:00:00"}]
[null,{"$f":"RESULTS!C11","v":" Block 1 Player 6"},null,{"$f":"RESULTS!D11","v":-1E-3},null,{"$f":"RESULTS!K7","v":" Block 1 Player 8"},null,{"$f":"RESULTS!L7","v":-1E-3},null,{"$f":"RESULTS!O27","v":" Block 1 Player 4"},null,{"$f":"RESULTS!P27","v":-1E-3}]
[null,"INITIALS",null,null,null,"INITIALS",null,null,null,"INITIALS"]
[]
[]
[null,{"$f":"NAMES!$C$10 & \"   COURT \" & GAMES!D8","v":"BLOCK 1   COURT "},null,"SCORES",null,{"$f":"NAMES!$C$10 & \"   COURT \" & GAMES!D30","v":"BLOCK 1   COURT "},null,"SCORES",null,{"$f":"NAMES!$C$10 & \"   COURT \" & GAMES!D52","v":"BLOCK 1   COURT "},null,"SCORES"]
[null,{"$f":"RESULTS!C12","v":" Block 1 Player 10"},null,{"$f":"RESULTS!D12","v":-1E-3},null,{"$f":"RESULTS!K8","v":" Block 1 Player 5"},null,{"$f":"RESULTS!L8","v":-1E-3},null,{"$f":"RESULTS!S4","v":" Block 1 Player 1"},null,{"$f":"RESULTS!T4","v":-1E-3}]
[null,{"$f":"GAMES!$C$8+GAMES!B8","v":"00:00:00"},null,null,null,{"$f":"GAMES!$C$30+GAMES!B30","v":"00:00:00"},null,null,null,{"$f":"GAMES!$C$52+GAMES!B52","v":"00:00:00"}]
[null,{"$f":"RESULTS!C13","v":" Block 1 Player 7"},null,{"$f":"RESULTS!D13","v":-1E-3},null,{"$f":"RESULTS!K9","v":" Block 1 Player 9"},null,{"$f":"RESULTS!L9","v":-1E-3},null,{"$f":"RESULTS!S5","v":" Block 1 Player 11"},null,{"$f":"RESULTS!T5","v":-1E-3}]
[null,"INITIALS",null,null,null,"INITIALS",null,null,null,"INITIALS"]
[]
[]
[null,{"$f":"NAMES!$C$10 & \"   COURT \" & GAMES!D9","v":"BLOCK 1   COURT "},null,"SCORES",null,{"$f":"NAMES!$C$10 & \"   COURT \" & GAMES!D31","v":"BLOCK 1   COURT "},null,"SCORES",null,{"$f":"NAMES!$C$10 & \"   COURT \" & GAMES!D53","v":"BLOCK 1   COURT "},null,"SCORES"]
[null,{"$f":"RESULTS!C14","v":" Block 1 Player 9"},null,{"$f":"RESULTS!D14","v":-1E-3},null,{"$f":"RESULTS!K10","v":" Block 1 Player 4"},null,{"$f":"RESULTS!L10","v":-1E-3},null,{"$f":"RESULTS!S6","v":" Block 1 Player 10"},null,{"$f":"RESULTS!T6","v":-1E-3}]
[null,{"$f":"GAMES!$C$9+GAMES!B9","v":"00:00:00"},null,null,null,{"$f":"GAMES!$C$31+GAMES!B31","v":"00:00:00"},null,null,null,{"$f":"GAMES!$C$53+GAMES!B53","v":"00:00:00"}]
[null,{"$f":"RESULTS!C15","v":" Block 1 Player 8"},null,{"$f":"RESULTS!D15","v":-1E-3},null,{"$f":"RESULTS!K11","v":" Block 1 Player 10"},null,{"$f":"RESULTS!L11","v":-1E-3},null,{"$f":"RESULTS!S7","v":" Block 1 Player 12"},null,{"$f":"RESULTS!T7","v":-1E-3}]
[null,"INITIALS",null,null,null,"INITIALS",null,null,null,"INITIALS"]
[]
[]
[null,{"$f":"NAMES!$C$10 & \"   COURT \" & GAMES!D10","v":"BLOCK 1   COURT "},null,"SCORES",null,{"$f":"NAMES!$C$10 & \"   COURT \" & GAMES!D32","v":"BLOCK 1   COURT "},null,"SCORES",null,{"$f":"NAMES!$C$10 & \"   COURT \" & GAMES!D54","v":"BLOCK 1   COURT "},null,"SCORES"]
[null,{"$f":"RESULTS!C16","v":" Block 1 Player 1"},null,{"$f":"RESULTS!D16","v":-1E-3},null,{"$f":"RESULTS!K12","v":" Block 1 Player 3"},null,{"$f":"RESULTS!L12","v":-1E-3},null,{"$f":"RESULTS!S8","v":" Block 1 Player 2"},null,{"$f":"RESULTS!T8","v":-1E-3}]
[null,{"$f":"GAMES!$C$10+GAMES!B10","v":"00:00:00"},null,null,null,{"$f":"GAMES!$C$32+GAMES!B32","v":"00:00:00"},null,null,null,{"$f":"GAMES!$C$54+GAMES!B54","v":"00:00:00"}]
[null,{"$f":"RESULTS!C17","v":" Block 1 Player 4"},null,{"$f":"RESULTS!D17","v":-1E-3},null,{"$f":"RESULTS!K13","v":" Block 1 Player 11"},null,{"$f":"RESULTS!L13","v":-1E-3},null,{"$f":"RESULTS!S9","v":" Block 1 Player 9"},null,{"$f":"RESULTS!T9","v":-1E-3}]
[null,"INITIALS",null,null,null,"INITIALS",null,null,null,"INITIALS"]
[]
[]
[null,{"$f":"NAMES!$C$10 & \"   COURT \" & GAMES!D11","v":"BLOCK 1   COURT "},null,"SCORES",null,{"$f":"NAMES!$C$10 & \"   COURT \" & GAMES!D33","v":"BLOCK 1   COURT "},null,"SCORES",null,{"$f":"NAMES!$C$10 & \"   COURT \" & GAMES!D55","v":"BLOCK 1   COURT "},null,"SCORES"]
[null,{"$f":"RESULTS!C18","v":" Block 1 Player 5"},null,{"$f":"RESULTS!D18","v":-1E-3},null,{"$f":"RESULTS!K14","v":" Block 1 Player 2"},null,{"$f":"RESULTS!L14","v":-1E-3},null,{"$f":"RESULTS!S10","v":" Block 1 Player 3"},null,{"$f":"RESULTS!T10","v":-1E-3}]
[null,{"$f":"GAMES!$C$11+GAMES!B11","v":"00:00:00"},null,null,null,{"$f":"GAMES!$C$33+GAMES!B33","v":"00:00:00"},null,null,null,{"$f":"GAMES!$C$55+GAMES!B55","v":"00:00:00"}]
[null,{"$f":"RESULTS!C19","v":" Block 1 Player 3"},null,{"$f":"RESULTS!D19","v":-1E-3},null,{"$f":"RESULTS!K15","v":" Block 1 Player 12"},null,{"$f":"RESULTS!L15","v":-1E-3},null,{"$f":"RESULTS!S11","v":" Block 1 Player 8"},null,{"$f":"RESULTS!T11","v":-1E-3}]
[null,"INITIALS",null,null,null,"INITIALS",null,null,null,"INITIALS"]
[]
[]
[null,{"$f":"NAMES!$C$10 & \"   COURT \" & GAMES!D12","v":"BLOCK 1   COURT "},null,"SCORES",null,{"$f":"NAMES!$C$10 & \"   COURT \" & GAMES!D34","v":"BLOCK 1   COURT "},null,"SCORES",null,{"$f":"NAMES!$C$10 & \"   COURT \" & GAMES!D56","v":"BLOCK 1   COURT "},null,"SCORES"]
[null,{"$f":"RESULTS!C20","v":" Block 1 Player 2"},null,{"$f":"RESULTS!D20","v":-1E-3},null,{"$f":"RESULTS!K16","v":" Block 1 Player 1"},null,{"$f":"RESULTS!L16","v":-1E-3},null,{"$f":"RESULTS!S12","v":" Block 1 Player 4"},null,{"$f":"RESULTS!T12","v":-1E-3}]
[null,{"$f":"GAMES!$C$12+GAMES!B12","v":"00:00:00"},null,null,null,{"$f":"GAMES!$C$34+GAMES!B34","v":"00:00:00"},null,null,null,{"$f":"GAMES!$C$56+GAMES!B56","v":"00:00:00"}]
[null,{"$f":"RESULTS!C21","v":" Block 1 Player 6"},null,{"$f":"RESULTS!D21","v":-1E-3},null,{"$f":"RESULTS!K17","v":" Block 1 Player 8"},null,{"$f":"RESULTS!L17","v":-1E-3},null,{"$f":"RESULTS!S13","v":" Block 1 Player 7"},null,{"$f":"RESULTS!T13","v":-1E-3}]
[null,"INITIALS",null,null,null,"INITIALS",null,null,null,"INITIALS"]
[]
[]
[null,{"$f":"NAMES!$C$10 & \"   COURT \" & GAMES!D13","v":"BLOCK 1   COURT "},null,"SCORES",null,{"$f":"NAMES!$C$10 & \"   COURT \" & GAMES!D35","v":"BLOCK 1   COURT "},null,"SCORES",null,{"$f":"NAMES!$C$10 & \"   COURT \" & GAMES!D57","v":"BLOCK 1   COURT "},null,"SCORES"]
[null,{"$f":"RESULTS!C22","v":" Block 1 Player 12"},null,{"$f":"RESULTS!D22","v":-1E-3},null,{"$f":"RESULTS!K18","v":" Block 1 Player 7"},null,{"$f":"RESULTS!L18","v":-1E-3},null,{"$f":"RESULTS!S14","v":" Block 1 Player 5"},null,{"$f":"RESULTS!T14","v":-1E-3}]
[null,{"$f":"GAMES!$C$13+GAMES!B13","v":"00:00:00"},null,null,null,{"$f":"GAMES!$C$35+GAMES!B35","v":"00:00:00"},null,null,null,{"$f":"GAMES!$C$57+GAMES!B57","v":"00:00:00"}]
[null,{"$f":"RESULTS!C23","v":" Block 1 Player 7"},null,{"$f":"RESULTS!D23","v":-1E-3},null,{"$f":"RESULTS!K19","v":" Block 1 Player 9"},null,{"$f":"RESULTS!L19","v":-1E-3},null,{"$f":"RESULTS!S15","v":" Block 1 Player 6"},null,{"$f":"RESULTS!T15","v":-1E-3}]
[null,"INITIALS",null,null,null,"INITIALS",null,null,null,"INITIALS"]
[]
[]
[null,{"$f":"NAMES!$C$10 & \"   COURT \" & GAMES!D14","v":"BLOCK 1   COURT "},null,"SCORES",null,{"$f":"NAMES!$C$10 & \"   COURT \" & GAMES!D36","v":"BLOCK 1   COURT "},null,"SCORES",null,{"$f":"NAMES!$C$10 & \"   COURT \" & GAMES!D58","v":"BLOCK 1   COURT "},null,"SCORES"]
[null,{"$f":"RESULTS!C24","v":" Block 1 Player 11"},null,{"$f":"RESULTS!D24","v":-1E-3},null,{"$f":"RESULTS!K20","v":" Block 1 Player 6"},null,{"$f":"RESULTS!L20","v":-1E-3},null,{"$f":"RESULTS!S16","v":" Block 1 Player 1"},null,{"$f":"RESULTS!T16","v":-1E-3}]
[null,{"$f":"GAMES!$C$14+GAMES!B14","v":"00:00:00"},null,null,null,{"$f":"GAMES!$C$36+GAMES!B36","v":"00:00:00"},null,null,null,{"$f":"GAMES!$C$58+GAMES!B58","v":"00:00:00"}]
[null,{"$f":"RESULTS!C25","v":" Block 1 Player 8"},null,{"$f":"RESULTS!D25","v":-1E-3},null,{"$f":"RESULTS!K21","v":" Block 1 Player 10"},null,{"$f":"RESULTS!L21","v":-1E-3},null,{"$f":"RESULTS!S17","v":" Block 1 Player 12"},null,{"$f":"RESULTS!T17","v":-1E-3}]
[null,"INITIALS",null,null,null,"INITIALS",null,null,null,"INITIALS"]
[]
[]
[null,{"$f":"NAMES!$C$10 & \"   COURT \" & GAMES!D15","v":"BLOCK 1   COURT "},null,"SCORES",null,{"$f":"NAMES!$C$10 & \"   COURT \" & GAMES!D37","v":"BLOCK 1   COURT "},null,"SCORES",null,{"$f":"NAMES!$C$10 & \"   COURT \" & GAMES!D59","v":"BLOCK 1   COURT "},null,"SCORES"]
[null,{"$f":"RESULTS!C26","v":" Block 1 Player 10"},null,{"$f":"RESULTS!D26","v":-1E-3},null,{"$f":"RESULTS!K22","v":" Block 1 Player 5"},null,{"$f":"RESULTS!L22","v":-1E-3},null,{"$f":"RESULTS!S18","v":" Block 1 Player 11"},null,{"$f":"RESULTS!T18","v":-1E-3}]
[null,{"$f":"GAMES!$C$15+GAMES!B15","v":"00:00:00"},null,null,null,{"$f":"GAMES!$C$37+GAMES!B37","v":"00:00:00"},null,null,null,{"$f":"GAMES!$C$59+GAMES!B59","v":"00:00:00"}]
[null,{"$f":"RESULTS!C27","v":" Block 1 Player 9"},null,{"$f":"RESULTS!D27","v":-1E-3},null,{"$f":"RESULTS!K23","v":" Block 1 Player 11"},null,{"$f":"RESULTS!L23","v":-1E-3},null,{"$f":"RESULTS!S19","v":" Block 1 Player 2"},null,{"$f":"RESULTS!T19","v":-1E-3}]
[null,"INITIALS",null,null,null,"INITIALS",null,null,null,"INITIALS"]
[]
[]
[null,{"$f":"NAMES!$C$10 & \"   COURT \" & GAMES!D16","v":"BLOCK 1   COURT "},null,"SCORES",null,{"$f":"NAMES!$C$10 & \"   COURT \" & GAMES!D38","v":"BLOCK 1   COURT "},null,"SCORES",null,{"$f":"NAMES!$C$10 & \"   COURT \" & GAMES!D60","v":"BLOCK 1   COURT "},null,"SCORES"]
[null,{"$f":"RESULTS!G4","v":" Block 1 Player 1"},null,{"$f":"RESULTS!H4","v":-1E-3},null,{"$f":"RESULTS!K24","v":" Block 1 Player 4"},null,{"$f":"RESULTS!L24","v":-1E-3},null,{"$f":"RESULTS!S20","v":" Block 1 Player 10"},null,{"$f":"RESULTS!T20","v":-1E-3}]
[null,{"$f":"GAMES!$C$16+GAMES!B16","v":"00:00:00"},null,null,null,{"$f":"GAMES!$C$38+GAMES!B38","v":"00:00:00"},null,null,null,{"$f":"GAMES!$C$60+GAMES!B60","v":"00:00:00"}]
[null,{"$f":"RESULTS!G5","v":" Block 1 Player 5"},null,{"$f":"RESULTS!H5","v":-1E-3},null,{"$f":"RESULTS!K25","v":" Block 1 Player 12"},null,{"$f":"RESULTS!L25","v":-1E-3},null,{"$f":"RESULTS!S21","v":" Block 1 Player 3"},null,{"$f":"RESULTS!T21","v":-1E-3}]
[null,"INITIALS",null,null,null,"INITIALS",null,null,null,"INITIALS"]
[]
[]
[null,{"$f":"NAMES!$C$10 & \"   COURT \" & GAMES!D17","v":"BLOCK 1   COURT "},null,"SCORES",null,{"$f":"NAMES!$C$10 & \"   COURT \" & GAMES!D39","v":"BLOCK 1   COURT "},null,"SCORES",null,{"$f":"NAMES!$C$10 & \"   COURT \" & GAMES!D61","v":"BLOCK 1   COURT "},null,"SCORES"]
[null,{"$f":"RESULTS!G6","v":" Block 1 Player 4"},null,{"$f":"RESULTS!H6","v":-1E-3},null,{"$f":"RESULTS!K26","v":" Block 1 Player 3"},null,{"$f":"RESULTS!L26","v":-1E-3},null,{"$f":"RESULTS!S22","v":" Block 1 Player 9"},null,{"$f":"RESULTS!T22","v":-1E-3}]
[null,{"$f":"GAMES!$C$17+GAMES!B17","v":"00:00:00"},null,null,null,{"$f":"GAMES!$C$39+GAMES!B39","v":"00:00:00"},null,null,null,{"$f":"GAMES!$C$61+GAMES!B61","v":"00:00:00"}]
[null,{"$f":"RESULTS!G7","v":" Block 1 Player 6"},null,{"$f":"RESULTS!H7","v":-1E-3},null,{"$f":"RESULTS!K27","v":" Block 1 Player 2"},null,{"$f":"RESULTS!L27","v":-1E-3},null,{"$f":"RESULTS!S23","v":" Block 1 Player 4"},null,{"$f":"RESULTS!T23","v":-1E-3}]
[null,"INITIALS",null,null,null,"INITIALS",null,null,null,"INITIALS"]
[]
[]
[null,{"$f":"NAMES!$C$10 & \"   COURT \" & GAMES!D18","v":"BLOCK 1   COURT "},null,"SCORES",null,{"$f":"NAMES!$C$10 & \"   COURT \" & GAMES!D40","v":"BLOCK 1   COURT "},null,"SCORES",null,{"$f":"NAMES!$C$10 & \"   COURT \" & GAMES!D62","v":"BLOCK 1   COURT "},null,"SCORES"]
[null,{"$f":"RESULTS!G8","v":" Block 1 Player 3"},null,{"$f":"RESULTS!H8","v":-1E-3},null,{"$f":"RESULTS!O4","v":" Block 1 Player 1"},null,{"$f":"RESULTS!P4","v":-1E-3},null,{"$f":"RESULTS!S24","v":" Block 1 Player 8"},null,{"$f":"RESULTS!T24","v":-1E-3}]
[null,{"$f":"GAMES!$C$18+GAMES!B18","v":"00:00:00"},null,null,null,{"$f":"GAMES!$C$40+GAMES!B40","v":"00:00:00"},null,null,null,{"$f":"GAMES!$C$62+GAMES!B62","v":"00:00:00"}]
[null,{"$f":"RESULTS!G9","v":" Block 1 Player 7"},null,{"$f":"RESULTS!H9","v":-1E-3},null,{"$f":"RESULTS!O5","v":" Block 1 Player 9"},null,{"$f":"RESULTS!P5","v":-1E-3},null,{"$f":"RESULTS!S25","v":" Block 1 Player 5"},null,{"$f":"RESULTS!T25","v":-1E-3}]
[null,"INITIALS",null,null,null,"INITIALS",null,null,null,"INITIALS"]
[]
[]
[null,{"$f":"NAMES!$C$10 & \"   COURT \" & GAMES!D19","v":"BLOCK 1   COURT "},null,"SCORES",null,{"$f":"NAMES!$C$10 & \"   COURT \" & GAMES!D41","v":"BLOCK 1   COURT "},null,"SCORES",null,{"$f":"NAMES!$C$10 & \"   COURT \" & GAMES!D63","v":"BLOCK 1   COURT "},null,"SCORES"]
[null,{"$f":"RESULTS!G10","v":" Block 1 Player 2"},null,{"$f":"RESULTS!H10","v":-1E-3},null,{"$f":"RESULTS!O6","v":" Block 1 Player 8"},null,{"$f":"RESULTS!P6","v":-1E-3},null,{"$f":"RESULTS!S26","v":" Block 1 Player 7"},null,{"$f":"RESULTS!T26","v":-1E-3}]
[null,{"$f":"GAMES!$C$19+GAMES!B19","v":"00:00:00"},null,null,null,{"$f":"GAMES!$C$41+GAMES!B41","v":"00:00:00"},null,null,null,{"$f":"GAMES!$C$63+GAMES!B63","v":"00:00:00"}]
[null,{"$f":"RESULTS!G11","v":" Block 1 Player 8"},null,{"$f":"RESULTS!H11","v":-1E-3},null,{"$f":"RESULTS!O7","v":" Block 1 Player 10"},null,{"$f":"RESULTS!P7","v":-1E-3},null,{"$f":"RESULTS!S27","v":" Block 1 Player 6"},null,{"$f":"RESULTS!T27","v":-1E-3}]
[null,"INITIALS",null,null,null,"INITIALS",null,null,null,"INITIALS"]
[]
[]
[null,{"$f":"NAMES!$C$10 & \"   COURT \" & GAMES!D20","v":"BLOCK 1   COURT "},null,"SCORES",null,{"$f":"NAMES!$C$10 & \"   COURT \" & GAMES!D42","v":"BLOCK 1   COURT "},null,"SCORES",null,{"$f":"NAMES!$C$10 & \"   COURT \" & GAMES!D64","v":"BLOCK 1   COURT "},"SCORES","SCORES"]
[null,{"$f":"RESULTS!G12","v":" Block 1 Player 12"},null,{"$f":"RESULTS!H12","v":-1E-3},null,{"$f":"RESULTS!O8","v":" Block 1 Player 7"},null,{"$f":"RESULTS!P8","v":-1E-3},null,{"$f":"RESULTS!W4","v":" Block 1 Player 1"},null,{"$f":"RESULTS!X4","v":-1E-3}]
[null,{"$f":"GAMES!$C$20+GAMES!B20","v":"00:00:00"},null,null,null,{"$f":"GAMES!$C$42+GAMES!B42","v":"00:00:00"},null,null,null,{"$f":"GAMES!$C$64+GAMES!B64","v":"00:00:00"}]
[null,{"$f":"RESULTS!G13","v":" Block 1 Player 9"},null,{"$f":"RESULTS!H13","v":-1E-3},null,{"$f":"RESULTS!O9","v":" Block 1 Player 11"},null,{"$f":"RESULTS!P9","v":-1E-3},null,{"$f":"RESULTS!W5","v":" Block 1 Player 2"},null,{"$f":"RESULTS!X5","v":-1E-3}]
[null,"INITIALS",null,null,null,"INITIALS",null,null,null,"INITIALS"]
[]
[]
[null,{"$f":"NAMES!$C$10 & \"   COURT \" & GAMES!D21","v":"BLOCK 1   COURT "},null,"SCORES",null,{"$f":"NAMES!$C$10 & \"   COURT \" & GAMES!D43","v":"BLOCK 1   COURT "},null,"SCORES",null,{"$f":"NAMES!$C$10 & \"   COURT \" & GAMES!D65","v":"BLOCK 1   COURT "},null,"SCORES"]
[null,{"$f":"RESULTS!G14","v":" Block 1 Player 11"},null,{"$f":"RESULTS!H14","v":-1E-3},null,{"$f":"RESULTS!O10","v":" Block 1 Player 6"},null,{"$f":"RESULTS!P10","v":-1E-3},null,{"$f":"RESULTS!W6","v":" Block 1 Player 12"},null,{"$f":"RESULTS!X6","v":-1E-3}]
[null,{"$f":"GAMES!$C$21+GAMES!B21","v":"00:00:00"},null,null,null,{"$f":"GAMES!$C$43+GAMES!B43","v":"00:00:00"},null,null,null,{"$f":"GAMES!$C$65+GAMES!B65","v":"00:00:00"}]
[null,{"$f":"RESULTS!G15","v":" Block 1 Player 10"},null,{"$f":"RESULTS!H15","v":-1E-3},null,{"$f":"RESULTS!O11","v":" Block 1 Player 12"},null,{"$f":"RESULTS!P11","v":-1E-3},null,{"$f":"RESULTS!W7","v":" Block 1 Player 3"},null,{"$f":"RESULTS!X7","v":-1E-3}]
[null,"INITIALS",null,null,null,"INITIALS",null,null,null,"INITIALS"]
[]
[]
[null,{"$f":"NAMES!$C$10 & \"   COURT \" & GAMES!D22","v":"BLOCK 1   COURT "},null,"SCORES",null,{"$f":"NAMES!$C$10 & \"   COURT \" & GAMES!D44","v":"BLOCK 1   COURT "},null,"SCORES",null,{"$f":"NAMES!$C$10 & \"   COURT \" & GAMES!D66","v":"BLOCK 1   COURT "},null,"SCORES"]
[null,{"$f":"RESULTS!G16","v":" Block 1 Player 1"},null,{"$f":"RESULTS!H16","v":-1E-3},null,{"$f":"RESULTS!O12","v":" Block 1 Player 5"},null,{"$f":"RESULTS!P12","v":-1E-3},null,{"$f":"RESULTS!W8","v":" Block 1 Player 11"},null,{"$f":"RESULTS!X8","v":-1E-3}]
[null,{"$f":"GAMES!$C$22+GAMES!B22","v":"00:00:00"},null,null,null,{"$f":"GAMES!$C$44+GAMES!B44","v":"00:00:00"},null,null,null,{"$f":"GAMES!$C$66+GAMES!B66","v":"00:00:00"}]
[null,{"$f":"RESULTS!G17","v":" Block 1 Player 6"},null,{"$f":"RESULTS!H17","v":-1E-3},null,{"$f":"RESULTS!O13","v":" Block 1 Player 2"},null,{"$f":"RESULTS!P13","v":-1E-3},null,{"$f":"RESULTS!W9","v":" Block 1 Player 4"},null,{"$f":"RESULTS!X9","v":-1E-3}]
[null,"INITIALS",null,null,null,"INITIALS",null,null,null,"INITIALS"]
[]
[]
[null,{"$f":"NAMES!$C$10 & \"   COURT \" & GAMES!D23","v":"BLOCK 1   COURT "},null,"SCORES",null,{"$f":"NAMES!$C$10 & \"   COURT \" & GAMES!D45","v":"BLOCK 1   COURT "},null,"SCORES",null,{"$f":"NAMES!$C$10 & \"   COURT \" & GAMES!D67","v":"BLOCK 1   COURT "},null,"SCORES"]
[null,{"$f":"RESULTS!G18","v":" Block 1 Player 5"},null,{"$f":"RESULTS!H18","v":-1E-3},null,{"$f":"RESULTS!O14","v":" Block 1 Player 4"},null,{"$f":"RESULTS!P14","v":-1E-3},null,{"$f":"RESULTS!W10","v":" Block 1 Player 10"},null,{"$f":"RESULTS!X10","v":-1E-3}]
[null,{"$f":"GAMES!$C$23+GAMES!B23","v":"00:00:00"},null,null,null,{"$f":"GAMES!$C$45+GAMES!B45","v":"00:00:00"},null,null,null,{"$f":"GAMES!$C$67+GAMES!B67","v":"00:00:00"}]
[null,{"$f":"RESULTS!G19","v":" Block 1 Player 7"},null,{"$f":"RESULTS!H19","v":-1E-3},null,{"$f":"RESULTS!O15","v":" Block 1 Player 3"},null,{"$f":"RESULTS!P15","v":-1E-3},null,{"$f":"RESULTS!W11","v":" Block 1 Player 5"},null,{"$f":"RESULTS!X11","v":-1E-3}]
[null,"INITIALS",null,null,null,"INITIALS",null,null,null,"INITIALS"]
[]
[]
[null,{"$f":"NAMES!$C$10 & \"   COURT \" & GAMES!D24","v":"BLOCK 1   COURT "},null,"SCORES",null,{"$f":"NAMES!$C$10 & \"   COURT \" & GAMES!D46","v":"BLOCK 1   COURT "},null,"SCORES",null,{"$f":"NAMES!$C$10 & \"   COURT \" & GAMES!D68","v":"BLOCK 1   COURT "},null,"SCORES"]
[null,{"$f":"RESULTS!G20","v":" Block 1 Player 4"},null,{"$f":"RESULTS!H20","v":-1E-3},null,{"$f":"RESULTS!O16","v":" Block 1 Player 1"},null,{"$f":"RESULTS!P16","v":-1E-3},null,{"$f":"RESULTS!W12","v":" Block 1 Player 9"},null,{"$f":"RESULTS!X12","v":-1E-3}]
[null,{"$f":"GAMES!$C$24+GAMES!B24","v":"00:00:00"},null,null,null,{"$f":"GAMES!$C$46+GAMES!B46","v":"00:00:00"},null,null,null,{"$f":"GAMES!$C$68+GAMES!B68","v":"00:00:00"}]
[null,{"$f":"RESULTS!G21","v":" Block 1 Player 8"},null,{"$f":"RESULTS!H21","v":-1E-3},null,{"$f":"RESULTS!O17","v":" Block 1 Player 10"},null,{"$f":"RESULTS!P17","v":-1E-3},null,{"$f":"RESULTS!W13","v":" Block 1 Player 6"},null,{"$f":"RESULTS!X13","v":-1E-3}]
[null,"INITIALS",null,null,null,"INITIALS",null,null,null,"INITIALS"]
[]
[]
[null,{"$f":"NAMES!$C$10 & \"   COURT \" & GAMES!D25","v":"BLOCK 1   COURT "},null,"SCORES",null,{"$f":"NAMES!$C$10 & \"   COURT \" & GAMES!D47","v":"BLOCK 1   COURT "},null,"SCORES",null,{"$f":"NAMES!$C$10 & \"   COURT \" & GAMES!D69","v":"BLOCK 1   COURT "},null,"SCORES"]
[null,{"$f":"RESULTS!G22","v":" Block 1 Player 3"},null,{"$f":"RESULTS!H22","v":-1E-3},null,{"$f":"RESULTS!O18","v":" Block 1 Player 9"},null,{"$f":"RESULTS!P18","v":-1E-3},null,{"$f":"RESULTS!W14","v":" Block 1 Player 8"},null,{"$f":"RESULTS!X14","v":-1E-3}]
[null,{"$f":"GAMES!$C$25+GAMES!B25","v":"00:00:00"},null,null,null,{"$f":"GAMES!$C$47+GAMES!B47","v":"00:00:00"},null,null,null,{"$f":"GAMES!$C$69+GAMES!B69","v":"00:00:00"}]
[null,{"$f":"RESULTS!G23","v":" Block 1 Player 9"},null,{"$f":"RESULTS!H23","v":-1E-3},null,{"$f":"RESULTS!O19","v":" Block 1 Player 11"},null,{"$f":"RESULTS!P19","v":-1E-3},null,{"$f":"RESULTS!W15","v":" Block 1 Player 7"},null,{"$f":"RESULTS!X15","v":-1E-3}]
[null,"INITIALS",null,null,null,"INITIALS",null,null,null,"INITIALS"]
[]
[]
[null,{"$f":"NAMES!$C$71& \"   COURT \" & GAMES!D72","v":"BLOCK 2   COURT "},null,"SCORES",null,{"$f":"NAMES!$C$71& \"   COURT \" & GAMES!D94","v":"BLOCK 2   COURT "},null,"SCORES",null,{"$f":"NAMES!$C$71& \"   COURT \" & GAMES!D116","v":"BLOCK 2   COURT "},null,"SCORES"]
[null,{"$f":"RESULTS!C34","v":" Block 2 Player 1"},null,{"$f":"RESULTS!D34","v":-1E-3},null,{"$f":"RESULTS!G54","v":" Block 2 Player 2"},null,{"$f":"RESULTS!H54","v":-1E-3},null,{"$f":"RESULTS!O50","v":" Block 2 Player 8"},null,{"$f":"RESULTS!P50","v":-1E-3}]
[null,{"$f":"GAMES!$C$72+GAMES!B72","v":"00:00:00"},null,null,null,{"$f":"GAMES!$C$94+GAMES!B94","v":"00:00:00"},null,null,null,{"$f":"GAMES!$C$116+GAMES!B116","v":"00:00:00"}]
[null,{"$f":"RESULTS!C35","v":" Block 2 Player 3"},null,{"$f":"RESULTS!D35","v":-1E-3},null,{"$f":"RESULTS!G55","v":" Block 2 Player 10"},null,{"$f":"RESULTS!H55","v":-1E-3},null,{"$f":"RESULTS!O51","v":" Block 2 Player 12"},null,{"$f":"RESULTS!P51","v":-1E-3}]
[null,"INITIALS",null,null,null,"INITIALS",null,null,null,"INITIALS"]
[]
[]
[null,{"$f":"NAMES!$C$71& \"   COURT \" & GAMES!D73","v":"BLOCK 2   COURT "},null,"SCORES",null,{"$f":"NAMES!$C$71& \"   COURT \" & GAMES!D95","v":"BLOCK 2   COURT "},null,"SCORES",null,{"$f":"NAMES!$C$71& \"   COURT \" & GAMES!D117","v":"BLOCK 2   COURT "},null,"SCORES"]
[null,{"$f":"RESULTS!C36","v":" Block 2 Player 2"},null,{"$f":"RESULTS!D36","v":-1E-3},null,{"$f":"RESULTS!G56","v":" Block 2 Player 12"},null,{"$f":"RESULTS!H56","v":-1E-3},null,{"$f":"RESULTS!O52","v":" Block 2 Player 7"},null,{"$f":"RESULTS!P52","v":-1E-3}]
[null,{"$f":"GAMES!$C$73+GAMES!B73","v":"00:00:00"},null,null,null,{"$f":"GAMES!$C$95+GAMES!B95","v":"00:00:00"},null,null,null,{"$f":"GAMES!$C$117+GAMES!B117","v":"00:00:00"}]
[null,{"$f":"RESULTS!C37","v":" Block 2 Player 4"},null,{"$f":"RESULTS!D37","v":-1E-3},null,{"$f":"RESULTS!G57","v":" Block 2 Player 11"},null,{"$f":"RESULTS!H57","v":-1E-3},null,{"$f":"RESULTS!O53","v":" Block 2 Player 2"},null,{"$f":"RESULTS!P53","v":-1E-3}]
[null,"INITIALS",null,null,null,"INITIALS",null,null,null,"INITIALS"]
[]
[]
[null,{"$f":"NAMES!$C$71& \"   COURT \" & GAMES!D74","v":"BLOCK 2   COURT "},null,"SCORES",null,{"$f":"NAMES!$C$71& \"   COURT \" & GAMES!D96","v":"BLOCK 2   COURT "},null,"SCORES",null,{"$f":"NAMES!$C$71& \"   COURT \" & GAMES!D118","v":"BLOCK 2   COURT "},null,"SCORES"]
[null,{"$f":"RESULTS!C38","v":" Block 2 Player 12"},null,{"$f":"RESULTS!D38","v":-1E-3},null,{"$f":"RESULTS!K34","v":" Block 2 Player 1"},null,{"$f":"RESULTS!L34","v":-1E-3},null,{"$f":"RESULTS!O54","v":" Block 2 Player 6"},null,{"$f":"RESULTS!P54","v":-1E-3}]
[null,{"$f":"GAMES!$C$74+GAMES!B74","v":"00:00:00"},null,null,null,{"$f":"GAMES!$C$96+GAMES!B96","v":"00:00:00"},null,null,null,{"$f":"GAMES!$C$118+GAMES!B118","v":"00:00:00"}]
[null,{"$f":"RESULTS!C39","v":" Block 2 Player 5"},null,{"$f":"RESULTS!D39","v":-1E-3},null,{"$f":"RESULTS!K35","v":" Block 2 Player 7"},null,{"$f":"RESULTS!L35","v":-1E-3},null,{"$f":"RESULTS!O55","v":" Block 2 Player 3"},null,{"$f":"RESULTS!P55","v":-1E-3}]
[null,"INITIALS",null,null,null,"INITIALS",null,null,null,"INITIALS"]
[]
[]
[null,{"$f":"NAMES!$C$71& \"   COURT \" & GAMES!D75","v":"BLOCK 2   COURT "},null,"SCORES",null,{"$f":"NAMES!$C$71& \"   COURT \" & GAMES!D97","v":"BLOCK 2   COURT "},null,"SCORES",null,{"$f":"NAMES!$C$71& \"   COURT \" & GAMES!D119","v":"BLOCK 2   COURT "},null,"SCORES"]
[null,{"$f":"RESULTS!C40","v":" Block 2 Player 11"},null,{"$f":"RESULTS!D40","v":-1E-3},null,{"$f":"RESULTS!K36","v":" Block 2 Player 6"},null,{"$f":"RESULTS!L36","v":-1E-3},null,{"$f":"RESULTS!O56","v":" Block 2 Player 5"},null,{"$f":"RESULTS!P56","v":-1E-3}]
[null,{"$f":"GAMES!$C$75+GAMES!B75","v":"00:00:00"},null,null,null,{"$f":"GAMES!$C$97+GAMES!B97","v":"00:00:00"},null,null,null,{"$f":"GAMES!$C$119+GAMES!B119","v":"00:00:00"}]
[null,{"$f":"RESULTS!C41","v":" Block 2 Player 6"},null,{"$f":"RESULTS!D41","v":-1E-3},null,{"$f":"RESULTS!K37","v":" Block 2 Player 8"},null,{"$f":"RESULTS!L37","v":-1E-3},null,{"$f":"RESULTS!O57","v":" Block 2 Player 4"},null,{"$f":"RESULTS!P57","v":-1E-3}]
[null,"INITIALS",null,null,null,"INITIALS",null,null,null,"INITIALS"]
[]
[]
[null,{"$f":"NAMES!$C$71& \"   COURT \" & GAMES!D76","v":"BLOCK 2   COURT "},null,"SCORES",null,{"$f":"NAMES!$C$71& \"   COURT \" & GAMES!D98","v":"BLOCK 2   COURT "},null,"SCORES",null,{"$f":"NAMES!$C$71& \"   COURT \" & GAMES!D120","v":"BLOCK 2   COURT "},null,"SCORES"]
[null,{"$f":"RESULTS!C42","v":" Block 2 Player 10"},null,{"$f":"RESULTS!D42","v":-1E-3},null,{"$f":"RESULTS!K38","v":" Block 2 Player 5"},null,{"$f":"RESULTS!L38","v":-1E-3},null,{"$f":"RESULTS!S34","v":" Block 2 Player 1"},null,{"$f":"RESULTS!T34","v":-1E-3}]
[null,{"$f":"GAMES!$C$76+GAMES!B76","v":"00:00:00"},null,null,null,{"$f":"GAMES!$C$98+GAMES!B98","v":"00:00:00"},null,null,null,{"$f":"GAMES!$C$120+GAMES!B120","v":"00:00:00"}]
[null,{"$f":"RESULTS!C43","v":" Block 2 Player 7"},null,{"$f":"RESULTS!D43","v":-1E-3},null,{"$f":"RESULTS!K39","v":" Block 2 Player 9"},null,{"$f":"RESULTS!L39","v":-1E-3},null,{"$f":"RESULTS!S35","v":" Block 2 Player 11"},null,{"$f":"RESULTS!T35","v":-1E-3}]
[null,"INITIALS",null,null,null,"INITIALS",null,null,null,"INITIALS"]
[]
[]
[null,{"$f":"NAMES!$C$71& \"   COURT \" & GAMES!D77","v":"BLOCK 2   COURT "},null,"SCORES",null,{"$f":"NAMES!$C$71& \"   COURT \" & GAMES!D99","v":"BLOCK 2   COURT "},null,"SCORES",null,{"$f":"NAMES!$C$71& \"   COURT \" & GAMES!D121","v":"BLOCK 2   COURT "},null,"SCORES"]
[null,{"$f":"RESULTS!C44","v":" Block 2 Player 9"},null,{"$f":"RESULTS!D44","v":-1E-3},null,{"$f":"RESULTS!K40","v":" Block 2 Player 4"},null,{"$f":"RESULTS!L40","v":-1E-3},null,{"$f":"RESULTS!S36","v":" Block 2 Player 10"},null,{"$f":"RESULTS!T36","v":-1E-3}]
[null,{"$f":"GAMES!$C$77+GAMES!B77","v":"00:00:00"},null,null,null,{"$f":"GAMES!$C$99+GAMES!B99","v":"00:00:00"},null,null,null,{"$f":"GAMES!$C$121+GAMES!B121","v":"00:00:00"}]
[null,{"$f":"RESULTS!C45","v":" Block 2 Player 8"},null,{"$f":"RESULTS!D45","v":-1E-3},null,{"$f":"RESULTS!K41","v":" Block 2 Player 10"},null,{"$f":"RESULTS!L41","v":-1E-3},null,{"$f":"RESULTS!S37","v":" Block 2 Player 12"},null,{"$f":"RESULTS!T37","v":-1E-3}]
[null,"INITIALS",null,null,null,"INITIALS",null,null,null,"INITIALS"]
[]
[]
[null,{"$f":"NAMES!$C$71& \"   COURT \" & GAMES!D78","v":"BLOCK 2   COURT "},null,"SCORES",null,{"$f":"NAMES!$C$71& \"   COURT \" & GAMES!D100","v":"BLOCK 2   COURT "},null,"SCORES",null,{"$f":"NAMES!$C$71& \"   COURT \" & GAMES!D122","v":"BLOCK 2   COURT "},null,"SCORES"]
[null,{"$f":"RESULTS!C46","v":" Block 2 Player 1"},null,{"$f":"RESULTS!D46","v":-1E-3},null,{"$f":"RESULTS!K42","v":" Block 2 Player 3"},null,{"$f":"RESULTS!L42","v":-1E-3},null,{"$f":"RESULTS!S38","v":" Block 2 Player 2"},null,{"$f":"RESULTS!T38","v":-1E-3}]
[null,{"$f":"GAMES!$C$78+GAMES!B78","v":"00:00:00"},null,null,null,{"$f":"GAMES!$C$100+GAMES!B100","v":"00:00:00"},null,null,null,{"$f":"GAMES!$C$122+GAMES!B122","v":"00:00:00"}]
[null,{"$f":"RESULTS!C47","v":" Block 2 Player 4"},null,{"$f":"RESULTS!D47","v":-1E-3},null,{"$f":"RESULTS!K43","v":" Block 2 Player 11"},null,{"$f":"RESULTS!L43","v":-1E-3},null,{"$f":"RESULTS!S39","v":" Block 2 Player 9"},null,{"$f":"RESULTS!T39","v":-1E-3}]
[null,"INITIALS",null,null,null,"INITIALS",null,null,null,"INITIALS"]
[]
[]
[null,{"$f":"NAMES!$C$71& \"   COURT \" & GAMES!D79","v":"BLOCK 2   COURT "},null,"SCORES",null,{"$f":"NAMES!$C$71& \"   COURT \" & GAMES!D101","v":"BLOCK 2   COURT "},null,"SCORES",null,{"$f":"NAMES!$C$71& \"   COURT \" & GAMES!D123","v":"BLOCK 2   COURT "},null,"SCORES"]
[null,{"$f":"RESULTS!C48","v":" Block 2 Player 5"},null,{"$f":"RESULTS!D48","v":-1E-3},null,{"$f":"RESULTS!K44","v":" Block 2 Player 2"},null,{"$f":"RESULTS!L44","v":-1E-3},null,{"$f":"RESULTS!S40","v":" Block 2 Player 3"},null,{"$f":"RESULTS!T40","v":-1E-3}]
[null,{"$f":"GAMES!$C$79+GAMES!B79","v":"00:00:00"},null,null,null,{"$f":"GAMES!$C$101+GAMES!B101","v":"00:00:00"},null,null,null,{"$f":"GAMES!$C$123+GAMES!B123","v":"00:00:00"}]
[null,{"$f":"RESULTS!C49","v":" Block 2 Player 3"},null,{"$f":"RESULTS!D49","v":-1E-3},null,{"$f":"RESULTS!K45","v":" Block 2 Player 12"},null,{"$f":"RESULTS!L45","v":-1E-3},null,{"$f":"RESULTS!S41","v":" Block 2 Player 8"},null,{"$f":"RESULTS!T41","v":-1E-3}]
[null,"INITIALS",null,null,null,"INITIALS",null,null,null,"INITIALS"]
[]
[]
[null,{"$f":"NAMES!$C$71& \"   COURT \" & GAMES!D80","v":"BLOCK 2   COURT "},null,"SCORES",null,{"$f":"NAMES!$C$71& \"   COURT \" & GAMES!D102","v":"BLOCK 2   COURT "},null,"SCORES",null,{"$f":"NAMES!$C$71& \"   COURT \" & GAMES!D124","v":"BLOCK 2   COURT "},null,"SCORES"]
[null,{"$f":"RESULTS!C50","v":" Block 2 Player 2"},null,{"$f":"RESULTS!D50","v":-1E-3},null,{"$f":"RESULTS!K46","v":" Block 2 Player 1"},null,{"$f":"RESULTS!L46","v":-1E-3},null,{"$f":"RESULTS!S42","v":" Block 2 Player 4"},null,{"$f":"RESULTS!T42","v":-1E-3}]
[null,{"$f":"GAMES!$C$80+GAMES!B80","v":"00:00:00"},null,null,null,{"$f":"GAMES!$C$102+GAMES!B102","v":"00:00:00"},null,null,null,{"$f":"GAMES!$C$124+GAMES!B124","v":"00:00:00"}]
[null,{"$f":"RESULTS!C51","v":" Block 2 Player 6"},null,{"$f":"RESULTS!D51","v":-1E-3},null,{"$f":"RESULTS!K47","v":" Block 2 Player 8"},null,{"$f":"RESULTS!L47","v":-1E-3},null,{"$f":"RESULTS!S43","v":" Block 2 Player 7"},null,{"$f":"RESULTS!T43","v":-1E-3}]
[null,"INITIALS",null,null,null,"INITIALS",null,null,null,"INITIALS"]
[]
[]
[null,{"$f":"NAMES!$C$71& \"   COURT \" & GAMES!D81","v":"BLOCK 2   COURT "},null,null,null,{"$f":"NAMES!$C$71& \"   COURT \" & GAMES!D103","v":"BLOCK 2   COURT "},null,null,null,{"$f":"NAMES!$C$71& \"   COURT \" & GAMES!D125","v":"BLOCK 2   COURT "}]
[null,{"$f":"RESULTS!C52","v":" Block 2 Player 12"},null,{"$f":"RESULTS!D52","v":-1E-3},null,{"$f":"RESULTS!K48","v":" Block 2 Player 7"},null,{"$f":"RESULTS!L48","v":-1E-3},null,{"$f":"RESULTS!S44","v":" Block 2 Player 5"},null,{"$f":"RESULTS!T44","v":-1E-3}]
[null,{"$f":"GAMES!$C$81+GAMES!B81","v":"00:00:00"},null,null,null,{"$f":"GAMES!$C$103+GAMES!B103","v":"00:00:00"},null,null,null,{"$f":"GAMES!$C$125+GAMES!B125","v":"00:00:00"}]
[null,{"$f":"RESULTS!C53","v":" Block 2 Player 7"},null,{"$f":"RESULTS!D53","v":-1E-3},null,{"$f":"RESULTS!K49","v":" Block 2 Player 9"},null,{"$f":"RESULTS!L49","v":-1E-3},null,{"$f":"RESULTS!S45","v":" Block 2 Player 6"},null,{"$f":"RESULTS!T45","v":-1E-3}]
[null,"INITIALS",null,null,null,"INITIALS",null,null,null,"INITIALS"]
[]
[]
[null,{"$f":"NAMES!$C$71& \"   COURT \" & GAMES!D82","v":"BLOCK 2   COURT "},null,"SCORES",null,{"$f":"NAMES!$C$71& \"   COURT \" & GAMES!D104","v":"BLOCK 2   COURT "},null,"SCORES",null,{"$f":"NAMES!$C$71& \"   COURT \" & GAMES!D126","v":"BLOCK 2   COURT "},null,"SCORES"]
[null,{"$f":"RESULTS!C54","v":" Block 2 Player 11"},null,{"$f":"RESULTS!D54","v":-1E-3},null,{"$f":"RESULTS!K50","v":" Block 2 Player 6"},null,{"$f":"RESULTS!L50","v":-1E-3},null,{"$f":"RESULTS!S46","v":" Block 2 Player 1"},null,{"$f":"RESULTS!T46","v":-1E-3}]
[null,{"$f":"GAMES!$C$82+GAMES!B82","v":"00:00:00"},null,null,null,{"$f":"GAMES!$C$104+GAMES!B104","v":"00:00:00"},null,null,null,{"$f":"GAMES!$C$126+GAMES!B126","v":"00:00:00"}]
[null,{"$f":"RESULTS!C55","v":" Block 2 Player 8"},null,{"$f":"RESULTS!D55","v":-1E-3},null,{"$f":"RESULTS!K51","v":" Block 2 Player 10"},null,{"$f":"RESULTS!L51","v":-1E-3},null,{"$f":"RESULTS!S47","v":" Block 2 Player 12"},null,{"$f":"RESULTS!T47","v":-1E-3}]
[null,"INITIALS",null,null,null,"INITIALS",null,null,null,"INITIALS"]
[]
[]
[]
[null,{"$f":"NAMES!$C$71& \"   COURT \" & GAMES!D83","v":"BLOCK 2   COURT "},null,"SCORES",null,{"$f":"NAMES!$C$71& \"   COURT \" & GAMES!D105","v":"BLOCK 2   COURT "},null,"SCORES",null,{"$f":"NAMES!$C$71& \"   COURT \" & GAMES!D127","v":"BLOCK 2   COURT "},null,"SCORES"]
[null,{"$f":"RESULTS!C56","v":" Block 2 Player 10"},null,{"$f":"RESULTS!D56","v":-1E-3},null,{"$f":"RESULTS!K52","v":" Block 2 Player 5"},null,{"$f":"RESULTS!L52","v":-1E-3},null,{"$f":"RESULTS!S48","v":" Block 2 Player 11"},null,{"$f":"RESULTS!T48","v":-1E-3}]
[null,{"$f":"GAMES!$C$83+GAMES!B83","v":"00:00:00"},null,null,null,{"$f":"GAMES!$C$105+GAMES!B105","v":"00:00:00"},null,null,null,{"$f":"GAMES!$C$127+GAMES!B127","v":"00:00:00"}]
[null,{"$f":"RESULTS!C57","v":" Block 2 Player 9"},null,{"$f":"RESULTS!D57","v":-1E-3},null,{"$f":"RESULTS!K53","v":" Block 2 Player 11"},null,{"$f":"RESULTS!L53","v":-1E-3},null,{"$f":"RESULTS!S49","v":" Block 2 Player 2"},null,{"$f":"RESULTS!T49","v":-1E-3}]
[null,"INITIALS",null,null,null,"INITIALS",null,null,null,"INITIALS"]
[]
[]
[null,{"$f":"NAMES!$C$71& \"   COURT \" & GAMES!D84","v":"BLOCK 2   COURT "},null,"SCORES",null,{"$f":"NAMES!$C$71& \"   COURT \" & GAMES!D106","v":"BLOCK 2   COURT "},null,"SCORES",null,{"$f":"NAMES!$C$71& \"   COURT \" & GAMES!D128","v":"BLOCK 2   COURT "},null,"SCORES"]
[null,{"$f":"RESULTS!G34","v":" Block 2 Player 1"},null,{"$f":"RESULTS!H34","v":-1E-3},null,{"$f":"RESULTS!K54","v":" Block 2 Player 4"},null,{"$f":"RESULTS!L54","v":-1E-3},null,{"$f":"RESULTS!S50","v":" Block 2 Player 10"},null,{"$f":"RESULTS!T50","v":-1E-3}]
[null,{"$f":"GAMES!$C$84+GAMES!B84","v":"00:00:00"},null,null,null,{"$f":"GAMES!$C$106+GAMES!B106","v":"00:00:00"},null,null,null,{"$f":"GAMES!$C$128+GAMES!B128","v":"00:00:00"}]
[null,{"$f":"RESULTS!G35","v":" Block 2 Player 5"},null,{"$f":"RESULTS!H35","v":-1E-3},null,{"$f":"RESULTS!K55","v":" Block 2 Player 12"},null,{"$f":"RESULTS!L55","v":-1E-3},null,{"$f":"RESULTS!S51","v":" Block 2 Player 3"},null,{"$f":"RESULTS!T51","v":-1E-3}]
[null,"INITIALS",null,null,null,"INITIALS",null,null,null,"INITIALS"]
[]
[]
[null,{"$f":"NAMES!$C$71& \"   COURT \" & GAMES!D85","v":"BLOCK 2   COURT "},null,"SCORES",null,{"$f":"NAMES!$C$71& \"   COURT \" & GAMES!D107","v":"BLOCK 2   COURT "},null,"SCORES",null,{"$f":"NAMES!$C$71& \"   COURT \" & GAMES!D129","v":"BLOCK 2   COURT "},null,"SCORES"]
[null,{"$f":"RESULTS!G36","v":" Block 2 Player 4"},null,{"$f":"RESULTS!H36","v":-1E-3},null,{"$f":"RESULTS!K56","v":" Block 2 Player 3"},null,{"$f":"RESULTS!L56","v":-1E-3},null,{"$f":"RESULTS!S52","v":" Block 2 Player 9"},null,{"$f":"RESULTS!T52","v":-1E-3}]
[null,{"$f":"GAMES!$C$85+GAMES!B85","v":"00:00:00"},null,null,null,{"$f":"GAMES!$C$107+GAMES!B107","v":"00:00:00"},null,null,null,{"$f":"GAMES!$C$129+GAMES!B129","v":"00:00:00"}]
[null,{"$f":"RESULTS!G37","v":" Block 2 Player 6"},null,{"$f":"RESULTS!H37","v":-1E-3},null,{"$f":"RESULTS!K57","v":" Block 2 Player 2"},null,{"$f":"RESULTS!L57","v":-1E-3},null,{"$f":"RESULTS!S53","v":" Block 2 Player 4"},null,{"$f":"RESULTS!T53","v":-1E-3}]
[null,"INITIALS",null,null,null,"INITIALS",null,null,null,"INITIALS"]
[]
[]
[null,{"$f":"NAMES!$C$71& \"   COURT \" & GAMES!D86","v":"BLOCK 2   COURT "},null,"SCORES",null,{"$f":"NAMES!$C$71& \"   COURT \" & GAMES!D108","v":"BLOCK 2   COURT "},null,"SCORES",null,{"$f":"NAMES!$C$71& \"   COURT \" & GAMES!D130","v":"BLOCK 2   COURT "},null,"SCORES"]
[null,{"$f":"RESULTS!G38","v":" Block 2 Player 3"},null,{"$f":"RESULTS!H38","v":-1E-3},null,{"$f":"RESULTS!O34","v":" Block 2 Player 1"},null,{"$f":"RESULTS!P34","v":-1E-3},null,{"$f":"RESULTS!S54","v":" Block 2 Player 8"},null,{"$f":"RESULTS!T54","v":-1E-3}]
[null,{"$f":"GAMES!$C$86+GAMES!B86","v":"00:00:00"},null,null,null,{"$f":"GAMES!$C$108+GAMES!B108","v":"00:00:00"},null,null,null,{"$f":"GAMES!$C$130+GAMES!B130","v":"00:00:00"}]
[null,{"$f":"RESULTS!G39","v":" Block 2 Player 7"},null,{"$f":"RESULTS!H39","v":-1E-3},null,{"$f":"RESULTS!O35","v":" Block 2 Player 9"},null,{"$f":"RESULTS!P35","v":-1E-3},null,{"$f":"RESULTS!S55","v":" Block 2 Player 5"},null,{"$f":"RESULTS!T55","v":-1E-3}]
[null,"INITIALS",null,null,null,"INITIALS",null,null,null,"INITIALS"]
[]
[]
[null,{"$f":"NAMES!$C$71& \"   COURT \" & GAMES!D87","v":"BLOCK 2   COURT "},null,"SCORES",null,{"$f":"NAMES!$C$71& \"   COURT \" & GAMES!D109","v":"BLOCK 2   COURT "},null,"SCORES",null,{"$f":"NAMES!$C$71& \"   COURT \" & GAMES!D131","v":"BLOCK 2   COURT "},null,"SCORES"]
[null,{"$f":"RESULTS!G40","v":" Block 2 Player 2"},null,{"$f":"RESULTS!H40","v":-1E-3},null,{"$f":"RESULTS!O36","v":" Block 2 Player 8"},null,{"$f":"RESULTS!P36","v":-1E-3},null,{"$f":"RESULTS!S56","v":" Block 2 Player 7"},null,{"$f":"RESULTS!T56","v":-1E-3}]
[null,{"$f":"GAMES!$C$87+GAMES!B87","v":"00:00:00"},null,null,null,{"$f":"GAMES!$C$109+GAMES!B109","v":"00:00:00"},null,null,null,{"$f":"GAMES!$C$131+GAMES!B131","v":"00:00:00"}]
[null,{"$f":"RESULTS!G41","v":" Block 2 Player 8"},null,{"$f":"RESULTS!H41","v":-1E-3},null,{"$f":"RESULTS!O37","v":" Block 2 Player 10"},null,{"$f":"RESULTS!P37","v":-1E-3},null,{"$f":"RESULTS!S57","v":" Block 2 Player 6"},null,{"$f":"RESULTS!T57","v":-1E-3}]
[null,"INITIALS",null,null,null,"INITIALS",null,null,null,"INITIALS"]
[]
[]
[null,{"$f":"NAMES!$C$71& \"   COURT \" & GAMES!D88","v":"BLOCK 2   COURT "},null,"SCORES",null,{"$f":"NAMES!$C$71& \"   COURT \" & GAMES!D110","v":"BLOCK 2   COURT "},null,"SCORES",null,{"$f":"NAMES!$C$71& \"   COURT \" & GAMES!D132","v":"BLOCK 2   COURT "},null,"SCORES"]
[null,{"$f":"RESULTS!G42","v":" Block 2 Player 12"},null,{"$f":"RESULTS!H42","v":-1E-3},null,{"$f":"RESULTS!O38","v":" Block 2 Player 7"},null,{"$f":"RESULTS!P38","v":-1E-3},null,{"$f":"RESULTS!W34","v":" Block 2 Player 1"},null,{"$f":"RESULTS!X34","v":-1E-3}]
[null,{"$f":"GAMES!$C$88+GAMES!B88","v":"00:00:00"},null,null,null,{"$f":"GAMES!$C$110+GAMES!B110","v":"00:00:00"},null,null,null,{"$f":"GAMES!$C$132+GAMES!B132","v":"00:00:00"}]
[null,{"$f":"RESULTS!G43","v":" Block 2 Player 9"},null,{"$f":"RESULTS!H43","v":-1E-3},null,{"$f":"RESULTS!O39","v":" Block 2 Player 11"},null,{"$f":"RESULTS!P39","v":-1E-3},null,{"$f":"RESULTS!W35","v":" Block 2 Player 2"},null,{"$f":"RESULTS!X35","v":-1E-3}]
[null,"INITIALS",null,null,null,"INITIALS",null,null,null,"INITIALS"]
[]
[]
[null,{"$f":"NAMES!$C$71& \"   COURT \" & GAMES!D89","v":"BLOCK 2   COURT "},null,"SCORES",null,{"$f":"NAMES!$C$71& \"   COURT \" & GAMES!D111","v":"BLOCK 2   COURT "},null,"SCORES",null,{"$f":"NAMES!$C$71& \"   COURT \" & GAMES!D133","v":"BLOCK 2   COURT "},null,"SCORES"]
[null,{"$f":"RESULTS!G44","v":" Block 2 Player 11"},null,{"$f":"RESULTS!H44","v":-1E-3},null,{"$f":"RESULTS!O40","v":" Block 2 Player 6"},null,{"$f":"RESULTS!P40","v":-1E-3},null,{"$f":"RESULTS!W36","v":" Block 2 Player 12"},null,{"$f":"RESULTS!X36","v":-1E-3}]
[null,{"$f":"GAMES!$C$89+GAMES!B89","v":"00:00:00"},null,null,null,{"$f":"GAMES!$C$111+GAMES!B111","v":"00:00:00"},null,null,null,{"$f":"GAMES!$C$133+GAMES!B133","v":"00:00:00"}]
[null,{"$f":"RESULTS!G45","v":" Block 2 Player 10"},null,{"$f":"RESULTS!H45","v":-1E-3},null,{"$f":"RESULTS!O41","v":" Block 2 Player 12"},null,{"$f":"RESULTS!P41","v":-1E-3},null,{"$f":"RESULTS!W37","v":" Block 2 Player 3"},null,{"$f":"RESULTS!X37","v":-1E-3}]
[null,"INITIALS",null,null,null,"INITIALS",null,null,null,"INITIALS"]
[]
[]
[null,{"$f":"NAMES!$C$71& \"   COURT \" & GAMES!D90","v":"BLOCK 2   COURT "},null,"SCORES",null,{"$f":"NAMES!$C$71& \"   COURT \" & GAMES!D112","v":"BLOCK 2   COURT "},null,"SCORES",null,{"$f":"NAMES!$C$71& \"   COURT \" & GAMES!D134","v":"BLOCK 2   COURT "},null,"SCORES"]
[null,{"$f":"RESULTS!G46","v":" Block 2 Player 1"},null,{"$f":"RESULTS!H46","v":-1E-3},null,{"$f":"RESULTS!O42","v":" Block 2 Player 5"},null,{"$f":"RESULTS!P42","v":-1E-3},null,{"$f":"RESULTS!W38","v":" Block 2 Player 11"},null,{"$f":"RESULTS!X38","v":-1E-3}]
[null,{"$f":"GAMES!$C$90+GAMES!B90","v":"00:00:00"},null,null,null,{"$f":"GAMES!$C$112+GAMES!B112","v":"00:00:00"},null,null,null,{"$f":"GAMES!$C$134+GAMES!B134","v":"00:00:00"}]
[null,{"$f":"RESULTS!G47","v":" Block 2 Player 6"},null,{"$f":"RESULTS!H47","v":-1E-3},null,{"$f":"RESULTS!O43","v":" Block 2 Player 2"},null,{"$f":"RESULTS!P43","v":-1E-3},null,{"$f":"RESULTS!W39","v":" Block 2 Player 4"},null,{"$f":"RESULTS!X39","v":-1E-3}]
[null,"INITIALS",null,null,null,"INITIALS",null,null,null,"INITIALS"]
[]
[]
[null,{"$f":"NAMES!$C$71& \"   COURT \" & GAMES!D91","v":"BLOCK 2   COURT "},null,"SCORES",null,{"$f":"NAMES!$C$71& \"   COURT \" & GAMES!D113","v":"BLOCK 2   COURT "},null,"SCORES",null,{"$f":"NAMES!$C$71& \"   COURT \" & GAMES!D135","v":"BLOCK 2   COURT "},null,"SCORES"]
[null,{"$f":"RESULTS!G48","v":" Block 2 Player 5"},null,{"$f":"RESULTS!H48","v":-1E-3},null,{"$f":"RESULTS!O44","v":" Block 2 Player 4"},null,{"$f":"RESULTS!P44","v":-1E-3},null,{"$f":"RESULTS!W40","v":" Block 2 Player 10"},null,{"$f":"RESULTS!X40","v":-1E-3}]
[null,{"$f":"GAMES!$C$91+GAMES!B91","v":"00:00:00"},null,null,null,{"$f":"GAMES!$C$113+GAMES!B113","v":"00:00:00"},null,null,null,{"$f":"GAMES!$C$135+GAMES!B135","v":"00:00:00"}]
[null,{"$f":"RESULTS!G49","v":" Block 2 Player 7"},null,{"$f":"RESULTS!H49","v":-1E-3},null,{"$f":"RESULTS!O45","v":" Block 2 Player 3"},null,{"$f":"RESULTS!P45","v":-1E-3},null,{"$f":"RESULTS!W41","v":" Block 2 Player 5"},null,{"$f":"RESULTS!X41","v":-1E-3}]
[null,"INITIALS",null,null,null,"INITIALS",null,null,null,"INITIALS"]
[]
[]
[null,{"$f":"NAMES!$C$71& \"   COURT \" & GAMES!D92","v":"BLOCK 2   COURT "},null,"SCORES",null,{"$f":"NAMES!$C$71& \"   COURT \" & GAMES!D114","v":"BLOCK 2   COURT "},null,"SCORES",null,{"$f":"NAMES!$C$71& \"   COURT \" & GAMES!D136","v":"BLOCK 2   COURT "},null,"SCORES"]
[null,{"$f":"RESULTS!G50","v":" Block 2 Player 4"},null,{"$f":"RESULTS!H50","v":-1E-3},null,{"$f":"RESULTS!O46","v":" Block 2 Player 1"},null,{"$f":"RESULTS!P46","v":-1E-3},null,{"$f":"RESULTS!W42","v":" Block 2 Player 9"},null,{"$f":"RESULTS!X42","v":-1E-3}]
[null,{"$f":"GAMES!$C$92+GAMES!B92","v":"00:00:00"},null,null,null,{"$f":"GAMES!$C$114+GAMES!B114","v":"00:00:00"},null,null,null,{"$f":"GAMES!$C$136+GAMES!B136","v":"00:00:00"}]
[null,{"$f":"RESULTS!G51","v":" Block 2 Player 8"},null,{"$f":"RESULTS!H51","v":-1E-3},null,{"$f":"RESULTS!O47","v":" Block 2 Player 10"},null,{"$f":"RESULTS!P47","v":-1E-3},null,{"$f":"RESULTS!W43","v":" Block 2 Player 6"},null,{"$f":"RESULTS!X43","v":-1E-3}]
[null,"INITIALS",null,null,null,"INITIALS",null,null,null,"INITIALS"]
[]
[]
[null,{"$f":"NAMES!$C$71& \"   COURT \" & GAMES!D93","v":"BLOCK 2   COURT "},null,"SCORES",null,{"$f":"NAMES!$C$71& \"   COURT \" & GAMES!D115","v":"BLOCK 2   COURT "},null,"SCORES",null,{"$f":"NAMES!$C$71& \"   COURT \" & GAMES!D137","v":"BLOCK 2   COURT "},null,"SCORES"]
[null,{"$f":"RESULTS!G52","v":" Block 2 Player 3"},null,{"$f":"RESULTS!H52","v":-1E-3},null,{"$f":"RESULTS!O48","v":" Block 2 Player 9"},null,{"$f":"RESULTS!P48","v":-1E-3},null,{"$f":"RESULTS!W44","v":" Block 2 Player 8"},null,{"$f":"RESULTS!X44","v":-1E-3}]
[null,{"$f":"GAMES!$C$93+GAMES!B93","v":"00:00:00"},null,null,null,{"$f":"GAMES!$C$115+GAMES!B115","v":"00:00:00"},null,null,null,{"$f":"GAMES!$C$137+GAMES!B137","v":"00:00:00"}]
[null,{"$f":"RESULTS!G53","v":" Block 2 Player 9"},null,{"$f":"RESULTS!H53","v":-1E-3},null,{"$f":"RESULTS!O49","v":" Block 2 Player 11"},null,{"$f":"RESULTS!P49","v":-1E-3},null,{"$f":"RESULTS!W45","v":" Block 2 Player 7"},null,{"$f":"RESULTS!X45","v":-1E-3}]
[null,"INITIALS",null,null,null,"INITIALS",null,null,null,"INITIALS"]

{"sheet":"BLOCK","index":8,"n_rows":84,"n_cols":52,"rows_kept":84,"cut":false,"hidden":false,"merged":[[47,20,47,22],[86,28,86,31],[5,2,5,4],[5,5,5,7],[5,8,5,10],[5,11,5,13],[5,14,5,16],[5,17,5,19],[5,20,5,22],[5,23,5,25],[47,2,47,4],[47,5,47,7],[47,8,47,10],[47,11,47,13],[47,14,47,16],[47,17,47,19],[47,35,47,37],[47,23,47,25],[47,26,47,28],[47,29,47,31],[47,32,47,34],[5,32,5,34],[5,35,5,37],[5,26,5,28],[45,11,45,28],[44,11,44,28],[1,11,1,28],[3,11,3,28],[2,11,2,28],[43,11,43,28],[5,29,5,31]]}
[]
[null,null,null,null,null,null,null,null,null,null,null,{"$f":"SEED!G2","v":"Tournament"}]
[null,null,null,null,null,null,null,null,null,null,null,{"$f":"NAMES!$C$9","v":"Date"}]
[null,null,null,null,null,null,null,null,null,null,null,{"$f":"SEED!G3","v":"Group"}]
[]
[null,{"$f":"SEED!D5","v":"BLOCK 1"},{"$f":"SEED!D7","v":" Block 1 Player 1"},null,null,{"$f":"SEED!D8","v":" Block 1 Player 2"},null,null,{"$f":"SEED!D9","v":" Block 1 Player 3"},null,null,{"$f":"SEED!D10","v":" Block 1 Player 4"},null,null,{"$f":"SEED!D11","v":" Block 1 Player 5"},null,null,{"$f":"SEED!D12","v":" Block 1 Player 6"},null,null,{"$f":"SEED!D13","v":" Block 1 Player 7"},null,null,{"$f":"SEED!D14","v":" Block 1 Player 8"},null,null,{"$f":"SEED!D15","v":" Block 1 Player 9"},null,null,{"$f":"SEED!D16","v":" Block 1 Player 10"},null,null,{"$f":"SEED!D17","v":" Block 1 Player 11"},null,null,{"$f":"SEED!D18","v":" Block 1 Player 12"},null,null,null," WINS"," POINTS FOR"," POINTS AGAIST"," NET POINTS",null," PLACE"]
[null,{"$f":"NAMES!C11","v":"Block 1"},"plyr1",null,null,null,{"$f":"IF(H7=1,\"W\",\"\")","v":""},{"$f":"IF(G9>0,1,0)","v":0},null,{"$f":"IF(K7=1,\"W\",\"\")","v":""},{"$f":"IF(J9>0,1,0)","v":0},null,{"$f":"IF(N7=1,\"W\",\"\")","v":""},{"$f":"IF(M9>0,1,0)","v":0},null,{"$f":"IF(Q7=1,\"W\",\"\")","v":""},{"$f":"IF(P9>0,1,0)","v":0},null,{"$f":"IF(T7=1,\"W\",\"\")","v":""},{"$f":"IF(S9>0,1,0)","v":0},null,{"$f":"IF(W7=1,\"W\",\"\")","v":""},{"$f":"IF(V9>0,1,0)","v":0},null,{"$f":"IF(Z7=1,\"W\",\"\")","v":""},{"$f":"IF(Y9>0,1,0)","v":0},null,{"$f":"IF(AC7=1,\"W\",\"\")","v":""},{"$f":"IF(AB9>0,1,0)","v":0},null,{"$f":"IF(AF7=1,\"W\",\"\")","v":""},{"$f":"IF(AE9>0,1,0)","v":0},null,{"$f":"IF(AI7=1,\"W\",\"\")","v":""},{"$f":"IF(AH9>0,1,0)","v":0},null,{"$f":"IF(AL7=1,\"W\",\"\")","v":""},{"$f":"IF(AK9>0,1,0)","v":0},null,null,null,null,null,null,null,null,null,"NAME","WINS","NET","FOR"]
[null,{"$f":"NAMES!C12","v":"Player 1"},null,null,null,{"$f":"SCORES!L117","v":-1E-3},{"$f":"RESULTS!$Y$4","v":-1E-3},{"$f":"SCORES!L119","v":-1E-3},{"$f":"SCORES!D5","v":-1E-3},{"$f":"RESULTS!$E$4","v":-1E-3},{"$f":"SCORES!D7","v":-1E-3},{"$f":"SCORES!D47","v":-1E-3},{"$f":"RESULTS!$E$16","v":-1E-3},{"$f":"SCORES!D49","v":-1E-3},{"$f":"SCORES!D89","v":-1E-3},{"$f":"RESULTS!$I$4","v":-1E-3},{"$f":"SCORES!D91","v":-1E-3},{"$f":"SCORES!D131","v":-1E-3},{"$f":"RESULTS!$I$16","v":-1E-3},{"$f":"SCORES!D133","v":-1E-3},{"$f":"SCORES!H19","v":-1E-3},{"$f":"RESULTS!$M$4","v":-1E-3},{"$f":"SCORES!H21","v":-1E-3},{"$f":"SCORES!H61","v":-1E-3},{"$f":"RESULTS!$M$16","v":-1E-3},{"$f":"SCORES!H63","v":-1E-3},{"$f":"SCORES!H103","v":-1E-3},{"$f":"RESULTS!$Q$4","v":-1E-3},{"$f":"SCORES!H105","v":-1E-3},{"$f":"SCORES!H145","v":-1E-3},{"$f":"RESULTS!$Q$16","v":-1E-3},{"$f":"SCORES!H147","v":-1E-3},{"$f":"SCORES!L33","v":-1E-3},{"$f":"RESULTS!$U$4","v":-1E-3},{"$f":"SCORES!L35","v":-1E-3},{"$f":"SCORES!L75","v":-1E-3},{"$f":"RESULTS!$U$16","v":-1E-3},{"$f":"SCORES!L77","v":-1E-3},null,{"$f":"SUM(C7:AL7)","v":0},{"$f":"SUM(C8,F8,I8,L8,O8,R8,U8,X8,AA8,AD8,AG8,AJ8)","v":-1.1000000000000003E-2},{"$f":"SUM(E8,H8,K8,N8,Q8,T8,W8,Z8,AC8,AF8,AI8,AL8)","v":-1.1000000000000003E-2},{"$f":"SUM(C9:AL9)","v":0},null,{"$f":"VLOOKUP(C7,PLACE1,5,FALSE)","v":12},null,null,{"$f":"$C$40","v":"plyr12"},{"$f":"$AN$41","v":0},{"$f":"$AQ$41","v":0},{"$f":"$AO$41","v":-1.1000000000000003E-2},1]
[null,{"$f":"SEED!E7","v":0},null,null,null,null,{"$f":"F8-H8","v":0},null,null,{"$f":"I8-K8","v":0},null,null,{"$f":"L8-N8","v":0},null,null,{"$f":"O8-Q8","v":0},null,null,{"$f":"R8-T8","v":0},null,null,{"$f":"U8-W8","v":0},null,null,{"$f":"X8-Z8","v":0},null,null,{"$f":"AA8-AC8","v":0},null,null,{"$f":"AD8-AF8","v":0},null,null,{"$f":"AG8-AI8","v":0},null,null,{"$f":"AJ8-AL8","v":0},null,null,null,null,null,null,null,null,null,null,{"$f":"$C$37","v":"plyr11"},{"$f":"$AN$38","v":0},{"$f":"$AQ$38","v":0},{"$f":"$AO$38","v":-1.1000000000000003E-2},2]
[null,{"$f":"NAMES!C16","v":"Block 1"},"plyr2",{"$f":"IF(E10=1,\"W\",\"\")","v":""},{"$f":"IF(D12>0,1,0)","v":0},null,null,null,null,{"$f":"IF(K10=1,\"W\",\"\")","v":""},{"$f":"IF(J12>0,1,0)","v":0},null,{"$f":"IF(N10=1,\"W\",\"\")","v":""},{"$f":"IF(M12>0,1,0)","v":0},null,{"$f":"IF(Q10=1,\"W\",\"\")","v":""},{"$f":"IF(P12>0,1,0)","v":0},null,{"$f":"IF(T10=1,\"W\",\"\")","v":""},{"$f":"IF(S12>0,1,0)","v":0},null,{"$f":"IF(W10=1,\"W\",\"\")","v":""},{"$f":"IF(V12>0,1,0)","v":0},null,{"$f":"IF(Z10=1,\"W\",\"\")","v":""},{"$f":"IF(Y12>0,1,0)","v":0},null,{"$f":"IF(AC10=1,\"W\",\"\")","v":""},{"$f":"IF(AB12>0,1,0)","v":0},null,{"$f":"IF(AF10=1,\"W\",\"\")","v":""},{"$f":"IF(AE12>0,1,0)","v":0},null,{"$f":"IF(AI10=1,\"W\",\"\")","v":""},{"$f":"IF(AH12>0,1,0)","v":0},null,{"$f":"IF(AL10=1,\"W\",\"\")","v":""},{"$f":"IF(AK12>0,1,0)","v":0},null,null,null,null,null,null,null,null,null,{"$f":"$C$34","v":"plyr10"},{"$f":"$AN$35","v":0},{"$f":"$AQ$35","v":0},{"$f":"$AO$35","v":-1.1000000000000003E-2},3]
[null,{"$f":"NAMES!C17","v":"Player 2"},{"$f":"H8","v":-1E-3},{"$f":"RESULTS!$Y$5","v":-1E-3},{"$f":"F8","v":-1E-3},null,null,null,{"$f":"SCORES!H98","v":-1E-3},{"$f":"RESULTS!$M$27","v":-1E-3},{"$f":"SCORES!H96","v":-1E-3},{"$f":"SCORES!D12","v":-1E-3},{"$f":"RESULTS!$E$6","v":-1E-3},{"$f":"SCORES!D14","v":-1E-3},{"$f":"SCORES!H133","v":-1E-3},{"$f":"RESULTS!$Q$13","v":-1E-3},{"$f":"SCORES!H131","v":-1E-3},{"$f":"SCORES!D61","v":-1E-3},{"$f":"RESULTS!$E$20","v":-1E-3},{"$f":"SCORES!D63","v":-1E-3},{"$f":"SCORES!L14","v":-1E-3},{"$f":"RESULTS!$Q$23","v":-1E-3},{"$f":"SCORES!L12","v":-1E-3},{"$f":"SCORES!D110","v":-1E-3},{"$f":"RESULTS!$I$10","v":-1E-3},{"$f":"SCORES!D112","v":-1E-3},{"$f":"SCORES!L47","v":-1E-3},{"$f":"RESULTS!$U$8","v":-1E-3},{"$f":"SCORES!L49","v":-1E-3},{"$f":"SCORES!H5","v":-1E-3},{"$f":"RESULTS!$I$24","v":-1E-3},{"$f":"SCORES!H7","v":-1E-3},{"$f":"SCORES!L84","v":-1E-3},{"$f":"RESULTS!$U$19","v":-1E-3},{"$f":"SCORES!L82","v":-1E-3},{"$f":"SCORES!H54","v":-1E-3},{"$f":"RESULTS!$M$14","v":-1E-3},{"$f":"SCORES!H56","v":-1E-3},null,{"$f":"SUM(C10:AL10)","v":0},{"$f":"SUM(C11,F11,I11,L11,O11,R11,U11,X11,AA11,AD11,AG11,AJ11)","v":-1.1000000000000003E-2},{"$f":"SUM(E11,H11,K11,N11,Q11,T11,W11,Z11,AC11,AF11,AI11,AL11)","v":-1.1000000000000003E-2},{"$f":"SUM(C12:AL12)","v":0},null,{"$f":"VLOOKUP(C10,PLACE1,5,FALSE)","v":11},null,null,{"$f":"$C$31","v":"plyr9"},{"$f":"$AN$32","v":0},{"$f":"$AQ$32","v":0},{"$f":"$AO$32","v":-1.1000000000000003E-2},4]
[null,{"$f":"SEED!E8","v":0},null,{"$f":"C11-E11","v":0},null,null,null,null,null,{"$f":"I11-K11","v":0},null,null,{"$f":"L11-N11","v":0},null,null,{"$f":"O11-Q11","v":0},null,null,{"$f":"R11-T11","v":0},null,null,{"$f":"U11-W11","v":0},null,null,{"$f":"X11-Z11","v":0},null,null,{"$f":"AA11-AC11","v":0},null,null,{"$f":"AD11-AF11","v":0},null,null,{"$f":"AG11-AI11","v":0},null,null,{"$f":"AJ11-AL11","v":0},null,null,null,null,null,null,null,null,null,null,{"$f":"$C$28","v":"plyr8"},{"$f":"$AN$29","v":0},{"$f":"$AQ$29","v":0},{"$f":"$AO$29","v":-1.1000000000000003E-2},5]
[null,{"$f":"NAMES!C21","v":"Block 1"},"plyr3",{"$f":"IF(E13=1,\"W\",\"\")","v":""},{"$f":"IF(D15>0,1,0)","v":0},null,{"$f":"IF(H13=1,\"W\",\"\")","v":""},{"$f":"IF(G15>0,1,0)","v":0},null,null,null,null,{"$f":"IF(N13=1,\"W\",\"\")","v":""},{"$f":"IF(M15>0,1,0)","v":0},null,{"$f":"IF(Q13=1,\"W\",\"\")","v":""},{"$f":"IF(P15>0,1,0)","v":0},null,{"$f":"IF(T13=1,\"W\",\"\")","v":""},{"$f":"IF(S15>0,1,0)","v":0},null,{"$f":"IF(W13=1,\"W\",\"\")","v":""},{"$f":"IF(V15>0,1,0)","v":0},null,{"$f":"IF(Z13=1,\"W\",\"\")","v":""},{"$f":"IF(Y15>0,1,0)","v":0},null,{"$f":"IF(AC13=1,\"W\",\"\")","v":""},{"$f":"IF(AB15>0,1,0)","v":0},null,{"$f":"IF(AF13=1,\"W\",\"\")","v":""},{"$f":"IF(AE15>0,1,0)","v":0},null,{"$f":"IF(AI13=1,\"W\",\"\")","v":""},{"$f":"IF(AH15>0,1,0)","v":0},null,{"$f":"IF(AL13=1,\"W\",\"\")","v":""},{"$f":"IF(AK15>0,1,0)","v":0},null,null,null,null,null,null,null,null,null,{"$f":"$C$25","v":"plyr7"},{"$f":"$AN$26","v":0},{"$f":"$AQ$26","v":0},{"$f":"$AO$26","v":-1.1000000000000003E-2},6]
[null,{"$f":"NAMES!C22","v":"Player 3"},{"$f":"K8","v":-1E-3},{"$f":"RESULTS!$E$5","v":-1E-3},{"$f":"I8","v":-1E-3},{"$f":"K11","v":-1E-3},{"$f":"RESULTS!$M$26","v":-1E-3},{"$f":"I11","v":-1E-3},null,null,null,{"$f":"SCORES!H140","v":-1E-3},{"$f":"RESULTS!$Q$15","v":-1E-3},{"$f":"SCORES!H138","v":-1E-3},{"$f":"SCORES!D56","v":-1E-3},{"$f":"RESULTS!$E$19","v":-1E-3},{"$f":"SCORES!D54","v":-1E-3},{"$f":"SCORES!L21","v":-1E-3},{"$f":"RESULTS!$Q$25","v":-1E-3},{"$f":"SCORES!L19","v":-1E-3},{"$f":"SCORES!D103","v":-1E-3},{"$f":"RESULTS!$I$8","v":-1E-3},{"$f":"SCORES!D105","v":-1E-3},{"$f":"SCORES!L54","v":-1E-3},{"$f":"RESULTS!$U$10","v":-1E-3},{"$f":"SCORES!L56","v":-1E-3},{"$f":"SCORES!D152","v":-1E-3},{"$f":"RESULTS!$I$22","v":-1E-3},{"$f":"SCORES!D154","v":-1E-3},{"$f":"SCORES!L91","v":-1E-3},{"$f":"RESULTS!$U$21","v":-1E-3},{"$f":"SCORES!L89","v":-1E-3},{"$f":"SCORES!H47","v":-1E-3},{"$f":"RESULTS!$M$12","v":-1E-3},{"$f":"SCORES!H49","v":-1E-3},{"$f":"SCORES!L126","v":-1E-3},{"$f":"RESULTS!$Y$7","v":-1E-3},{"$f":"SCORES!L124","v":-1E-3},null,{"$f":"SUM(C13:AL13)","v":0},{"$f":"SUM(C14,F14,I14,L14,O14,R14,U14,X14,AA14,AD14,AG14,AJ14)","v":-1.1000000000000003E-2},{"$f":"SUM(E14,H14,K14,N14,Q14,T14,W14,Z14,AC14,AF14,AI14,AL14)","v":-1.1000000000000003E-2},{"$f":"SUM(C15:AL15)","v":0},null,{"$f":"VLOOKUP(C13,PLACE1,5,FALSE)","v":10},null,null,{"$f":"$C$22","v":"plyr6"},{"$f":"$AN$23","v":0},{"$f":"$AQ$23","v":0},{"$f":"$AO$23","v":-1.1000000000000003E-2},7]
[null,{"$f":"SEED!E9","v":0},null,{"$f":"C14-E14","v":0},null,null,{"$f":"F14-H14","v":0},null,null,null,null,null,{"$f":"L14-N14","v":0},null,null,{"$f":"O14-Q14","v":0},null,null,{"$f":"R14-T14","v":0},null,null,{"$f":"U14-W14","v":0},null,null,{"$f":"X14-Z14","v":0},null,null,{"$f":"AA14-AC14","v":0},null,null,{"$f":"AD14-AF14","v":0},null,null,{"$f":"AG14-AI14","v":0},null,null,{"$f":"AJ14-AL14","v":0},null,null,null,null,null,null,null,null,null,null,{"$f":"$C$19","v":"plyr5"},{"$f":"$AN$20","v":0},{"$f":"$AQ$20","v":0},{"$f":"$AO$20","v":-1.1000000000000003E-2},8]
[null,{"$f":"NAMES!C26","v":"Block 1"},"plyr4",{"$f":"IF(E16=1,\"W\",\"\")","v":""},{"$f":"IF(D18>0,1,0)","v":0},null,{"$f":"IF(H16=1,\"W\",\"\")","v":""},{"$f":"IF(G18>0,1,0)","v":0},null,{"$f":"IF(K16=1,\"W\",\"\")","v":""},{"$f":"IF(J18>0,1,0)","v":0},null,null,null,null,{"$f":"IF(Q16=1,\"W\",\"\")","v":""},{"$f":"IF(P18>0,1,0)","v":0},null,{"$f":"IF(T16=1,\"W\",\"\")","v":""},{"$f":"IF(S18>0,1,0)","v":0},null,{"$f":"IF(W16=1,\"W\",\"\")","v":""},{"$f":"IF(V18>0,1,0)","v":0},null,{"$f":"IF(Z16=1,\"W\",\"\")","v":""},{"$f":"IF(Y18>0,1,0)","v":0},null,{"$f":"IF(AC16=1,\"W\",\"\")","v":""},{"$f":"IF(AB18>0,1,0)","v":0},null,{"$f":"IF(AF16=1,\"W\",\"\")","v":""},{"$f":"IF(AE18>0,1,0)","v":0},null,{"$f":"IF(AI16=1,\"W\",\"\")","v":""},{"$f":"IF(AH18>0,1,0)","v":0},null,{"$f":"IF(AL16=1,\"W\",\"\")","v":""},{"$f":"IF(AK18>0,1,0)","v":0},null,null,null,null,null,null,null,null,null,{"$f":"$C$16","v":"plyr4"},{"$f":"$AN$17","v":0},{"$f":"$AQ$17","v":0},{"$f":"$AO$17","v":-1.1000000000000003E-2},9]
[null,{"$f":"NAMES!C27","v":"Player 4"},{"$f":"N8","v":-1E-3},{"$f":"RESULTS!$E$17","v":-1E-3},{"$f":"L8","v":-1E-3},{"$f":"N11","v":-1E-3},{"$f":"RESULTS!$E$7","v":-1E-3},{"$f":"L11","v":-1E-3},{"$f":"N14","v":-1E-3},{"$f":"RESULTS!$Q$14","v":-1E-3},{"$f":"L14","v":-1E-3},null,null,null,{"$f":"SCORES!L28","v":-1E-3},{"$f":"RESULTS!$Q$27","v":-1E-3},{"$f":"SCORES!L26","v":-1E-3},{"$f":"SCORES!D96","v":-1E-3},{"$f":"RESULTS!$I$6","v":-1E-3},{"$f":"SCORES!D98","v":-1E-3},{"$f":"SCORES!L61","v":-1E-3},{"$f":"RESULTS!$U$12","v":-1E-3},{"$f":"SCORES!L63","v":-1E-3},{"$f":"SCORES!D145","v":-1E-3},{"$f":"RESULTS!$I$20","v":-1E-3},{"$f":"SCORES!D147","v":-1E-3},{"$f":"SCORES!L98","v":-1E-3},{"$f":"RESULTS!$U$23","v":-1E-3},{"$f":"SCORES!L96","v":-1E-3},{"$f":"SCORES!H40","v":-1E-3},{"$f":"RESULTS!$M$10","v":-1E-3},{"$f":"SCORES!H42","v":-1E-3},{"$f":"SCORES!L133","v":-1E-3},{"$f":"RESULTS!$Y$9","v":-1E-3},{"$f":"SCORES!L131","v":-1E-3},{"$f":"SCORES!H89","v":-1E-3},{"$f":"RESULTS!$M$24","v":-1E-3},{"$f":"SCORES!H91","v":-1E-3},null,{"$f":"SUM(C16:AL16)","v":0},{"$f":"SUM(C17,F17,I17,L17,O17,R17,U17,X17,AA17,AD17,AG17,AJ17)","v":-1.1000000000000003E-2},{"$f":"SUM(E17,H17,K17,N17,Q17,T17,W17,Z17,AC17,AF17,AI17,AL17)","v":-1.1000000000000003E-2},{"$f":"SUM(C18:AL18)","v":0},null,{"$f":"VLOOKUP(C16,PLACE1,5,FALSE)","v":9},null,null,{"$f":"$C$13","v":"plyr3"},{"$f":"$AN$14","v":0},{"$f":"$AQ$14","v":0},{"$f":"$AO$14","v":-1.1000000000000003E-2},10]
[null,{"$f":"SEED!E10","v":0},null,{"$f":"C17-E17","v":0},null,null,{"$f":"F17-H17","v":0},null,null,{"$f":"I17-K17","v":0},null,null,null,null,null,{"$f":"O17-Q17","v":0},null,null,{"$f":"R17-T17","v":0},null,null,{"$f":"U17-W17","v":0},null,null,{"$f":"X17-Z17","v":0},null,null,{"$f":"AA17-AC17","v":0},null,null,{"$f":"AD17-AF17","v":0},null,null,{"$f":"AG17-AI17","v":0},null,null,{"$f":"AJ17-AL17","v":0},null,null,null,null,null,null,null,null,null,null,{"$f":"$C$10","v":"plyr2"},{"$f":"$AN$11","v":0},{"$f":"$AQ$11","v":0},{"$f":"$AO$11","v":-1.1000000000000003E-2},11]
[null,{"$f":"NAMES!C31","v":"Block 1"},"plyr5",{"$f":"IF(E19=1,\"W\",\"\")","v":""},{"$f":"IF(D21>0,1,0)","v":0},null,{"$f":"IF(H19=1,\"W\",\"\")","v":""},{"$f":"IF(G21>0,1,0)","v":0},null,{"$f":"IF(K19=1,\"W\",\"\")","v":""},{"$f":"IF(J21>0,1,0)","v":0},null,{"$f":"IF(N19=1,\"W\",\"\")","v":""},{"$f":"IF(M21>0,1,0)","v":0},null,null,null,null,{"$f":"IF(T19=1,\"W\",\"\")","v":""},{"$f":"IF(S21>0,1,0)","v":0},null,{"$f":"IF(W19=1,\"W\",\"\")","v":""},{"$f":"IF(V21>0,1,0)","v":0},null,{"$f":"IF(Z19=1,\"W\",\"\")","v":""},{"$f":"IF(Y21>0,1,0)","v":0},null,{"$f":"IF(AC19=1,\"W\",\"\")","v":""},{"$f":"IF(AB21>0,1,0)","v":0},null,{"$f":"IF(AF19=1,\"W\",\"\")","v":""},{"$f":"IF(AE21>0,1,0)","v":0},null,{"$f":"IF(AI19=1,\"W\",\"\")","v":""},{"$f":"IF(AH21>0,1,0)","v":0},null,{"$f":"IF(AL19=1,\"W\",\"\")","v":""},{"$f":"IF(AK21>0,1,0)","v":0},null,null,null,null,null,null,null,null,null,{"$f":"$C$7","v":"plyr1"},{"$f":"$AN$8","v":0},{"$f":"$AQ$8","v":0},{"$f":"$AO$8","v":-1.1000000000000003E-2},12]
[null,{"$f":"NAMES!C32","v":"Player 5"},{"$f":"Q8","v":-1E-3},{"$f":"RESULTS!$I$5","v":-1E-3},{"$f":"O8","v":-1E-3},{"$f":"Q11","v":-1E-3},{"$f":"RESULTS!$Q$12","v":-1E-3},{"$f":"O11","v":-1E-3},{"$f":"Q14","v":-1E-3},{"$f":"RESULTS!$E$18","v":-1E-3},{"$f":"O14","v":-1E-3},{"$f":"Q17","v":-1E-3},{"$f":"RESULTS!$Q$26","v":-1E-3},{"$f":"O17","v":-1E-3},null,null,null,{"$f":"SCORES!L68","v":-1E-3},{"$f":"RESULTS!$U$14","v":-1E-3},{"$f":"SCORES!L70","v":-1E-3},{"$f":"SCORES!D138","v":-1E-3},{"$f":"RESULTS!$I$18","v":-1E-3},{"$f":"SCORES!D140","v":-1E-3},{"$f":"SCORES!L105","v":-1E-3},{"$f":"RESULTS!$U$25","v":-1E-3},{"$f":"SCORES!L103","v":-1E-3},{"$f":"SCORES!H33","v":-1E-3},{"$f":"RESULTS!$M$8","v":-1E-3},{"$f":"SCORES!H35","v":-1E-3},{"$f":"SCORES!L140","v":-1E-3},{"$f":"RESULTS!$Y$11","v":-1E-3},{"$f":"SCORES!L138","v":-1E-3},{"$f":"SCORES!H82","v":-1E-3},{"$f":"RESULTS!$M$22","v":-1E-3},{"$f":"SCORES!H84","v":-1E-3},{"$f":"SCORES!D21","v":-1E-3},{"$f":"RESULTS!$E$9","v":-1E-3},{"$f":"SCORES!D19","v":-1E-3},null,{"$f":"SUM(C19:AL19)","v":0},{"$f":"SUM(C20,F20,I20,L20,O20,R20,U20,X20,AA20,AD20,AG20,AJ20)","v":-1.1000000000000003E-2},{"$f":"SUM(E20,H20,K20,N20,Q20,T20,W20,Z20,AC20,AF20,AI20,AL20)","v":-1.1000000000000003E-2},{"$f":"SUM(C21:AL21)","v":0},null,{"$f":"VLOOKUP(C19,PLACE1,5,FALSE)","v":8}]
[null,{"$f":"SEED!E11","v":0},null,{"$f":"C20-E20","v":0},null,null,{"$f":"F20-H20","v":0},null,null,{"$f":"I20-K20","v":0},null,null,{"$f":"L20-N20","v":0},null,null,null,null,null,{"$f":"R20-T20","v":0},null,null,{"$f":"U20-W20","v":0},null,null,{"$f":"X20-Z20","v":0},null,null,{"$f":"AA20-AC20","v":0},null,null,{"$f":"AD20-AF20","v":0},null,null,{"$f":"AG20-AI20","v":0},null,null,{"$f":"AJ20-AL20","v":0}]
[null,{"$f":"NAMES!C36","v":"Block 1"},"plyr6",{"$f":"IF(E22=1,\"W\",\"\")","v":""},{"$f":"IF(D24>0,1,0)","v":0},null,{"$f":"IF(H22=1,\"W\",\"\")","v":""},{"$f":"IF(G24>0,1,0)","v":0},null,{"$f":"IF(K22=1,\"W\",\"\")","v":""},{"$f":"IF(J24>0,1,0)","v":0},null,{"$f":"IF(N22=1,\"W\",\"\")","v":""},{"$f":"IF(M24>0,1,0)","v":0},null,{"$f":"IF(Q22=1,\"W\",\"\")","v":""},{"$f":"IF(P24>0,1,0)","v":0},null,null,null,null,{"$f":"IF(W22=1,\"W\",\"\")","v":""},{"$f":"IF(V24>0,1,0)","v":0},null,{"$f":"IF(Z22=1,\"W\",\"\")","v":""},{"$f":"IF(Y24>0,1,0)","v":0},null,{"$f":"IF(AC22=1,\"W\",\"\")","v":""},{"$f":"IF(AB24>0,1,0)","v":0},null,{"$f":"IF(AF22=1,\"W\",\"\")","v":""},{"$f":"IF(AE24>0,1,0)","v":0},null,{"$f":"IF(AI22=1,\"W\",\"\")","v":""},{"$f":"IF(AH24>0,1,0)","v":0},null,{"$f":"IF(AL22=1,\"W\",\"\")","v":""},{"$f":"IF(AK24>0,1,0)","v":0}]
[null,{"$f":"NAMES!C37","v":"Player 6"},{"$f":"T8","v":-1E-3},{"$f":"RESULTS!$I$17","v":-1E-3},{"$f":"R8","v":-1E-3},{"$f":"T11","v":-1E-3},{"$f":"RESULTS!$E$21","v":-1E-3},{"$f":"R11","v":-1E-3},{"$f":"T14","v":-1E-3},{"$f":"RESULTS!$Q$24","v":-1E-3},{"$f":"R14","v":-1E-3},{"$f":"T17","v":-1E-3},{"$f":"RESULTS!$I$7","v":-1E-3},{"$f":"R17","v":-1E-3},{"$f":"T20","v":-1E-3},{"$f":"RESULTS!$U$15","v":-1E-3},{"$f":"R20","v":-1E-3},null,null,null,{"$f":"SCORES!L112","v":-1E-3},{"$f":"RESULTS!$U$27","v":-1E-3},{"$f":"SCORES!L110","v":-1E-3},{"$f":"SCORES!H26","v":-1E-3},{"$f":"RESULTS!$M$6","v":-1E-3},{"$f":"SCORES!H28","v":-1E-3},{"$f":"SCORES!L147","v":-1E-3},{"$f":"RESULTS!$Y$13","v":-1E-3},{"$f":"SCORES!L145","v":-1E-3},{"$f":"SCORES!H75","v":-1E-3},{"$f":"RESULTS!$M$20","v":-1E-3},{"$f":"SCORES!H77","v":-1E-3},{"$f":"SCORES!D28","v":-1E-3},{"$f":"RESULTS!$E$11","v":-1E-3},{"$f":"SCORES!D26","v":-1E-3},{"$f":"SCORES!H124","v":-1E-3},{"$f":"RESULTS!$Q$10","v":-1E-3},{"$f":"SCORES!H126","v":-1E-3},null,{"$f":"SUM(C22:AL22)","v":0},{"$f":"SUM(C23,F23,I23,L23,O23,R23,U23,X23,AA23,AD23,AG23,AJ23)","v":-1.1000000000000003E-2},{"$f":"SUM(E23,H23,K23,N23,Q23,T23,W23,Z23,AC23,AF23,AI23,AL23)","v":-1.1000000000000003E-2},{"$f":"SUM(C24:AL24)","v":0},null,{"$f":"VLOOKUP(C22,PLACE1,5,FALSE)","v":7}]
[null,{"$f":"SEED!E12","v":0},null,{"$f":"C23-E23","v":0},null,null,{"$f":"F23-H23","v":0},null,null,{"$f":"I23-K23","v":0},null,null,{"$f":"L23-N23","v":0},null,null,{"$f":"O23-Q23","v":0},null,null,null,null,null,{"$f":"U23-W23","v":0},null,null,{"$f":"X23-Z23","v":0},null,null,{"$f":"AA23-AC23","v":0},null,null,{"$f":"AD23-AF23","v":0},null,null,{"$f":"AG23-AI23","v":0},null,null,{"$f":"AJ23-AL23","v":0}]
[null,{"$f":"NAMES!C41","v":"Block 1"},"plyr7",{"$f":"IF(E25=1,\"W\",\"\")","v":""},{"$f":"IF(D27>0,1,0)","v":0},null,{"$f":"IF(H25=1,\"W\",\"\")","v":""},{"$f":"IF(G27>0,1,0)","v":0},null,{"$f":"IF(K25=1,\"W\",\"\")","v":""},{"$f":"IF(J27>0,1,0)","v":0},null,{"$f":"IF(N25=1,\"W\",\"\")","v":""},{"$f":"IF(M27>0,1,0)","v":0},null,{"$f":"IF(Q25=1,\"W\",\"\")","v":""},{"$f":"IF(P27>0,1,0)","v":0},null,{"$f":"IF(T25=1,\"W\",\"\")","v":""},{"$f":"IF(S27>0,1,0)","v":0},null,null,null,null,{"$f":"IF(Z25=1,\"W\",\"\")","v":""},{"$f":"IF(Y27>0,1,0)","v":0},null,{"$f":"IF(AC25=1,\"W\",\"\")","v":""},{"$f":"IF(AB27>0,1,0)","v":0},null,{"$f":"IF(AF25=1,\"W\",\"\")","v":""},{"$f":"IF(AE27>0,1,0)","v":0},null,{"$f":"IF(AI25=1,\"W\",\"\")","v":""},{"$f":"IF(AH27>0,1,0)","v":0},null,{"$f":"IF(AL25=1,\"W\",\"\")","v":""},{"$f":"IF(AK27>0,1,0)","v":0}]
[null,{"$f":"NAMES!C42","v":"Player 7"},{"$f":"W8","v":-1E-3},{"$f":"RESULTS!$M$5","v":-1E-3},{"$f":"U8","v":-1E-3},{"$f":"W11","v":-1E-3},{"$f":"RESULTS!$Q$22","v":-1E-3},{"$f":"U11","v":-1E-3},{"$f":"W14","v":-1E-3},{"$f":"RESULTS!$I$9","v":-1E-3},{"$f":"U14","v":-1E-3},{"$f":"W17","v":-1E-3},{"$f":"RESULTS!$U$13","v":-1E-3},{"$f":"U17","v":-1E-3},{"$f":"W20","v":-1E-3},{"$f":"RESULTS!$I$19","v":-1E-3},{"$f":"U20","v":-1E-3},{"$f":"W23","v":-1E-3},{"$f":"RESULTS!$U$26","v":-1E-3},{"$f":"U23","v":-1E-3},null,null,null,{"$f":"SCORES!L154","v":-1E-3},{"$f":"RESULTS!$Y$15","v":-1E-3},{"$f":"SCORES!L152","v":-1E-3},{"$f":"SCORES!H68","v":-1E-3},{"$f":"RESULTS!$M$18","v":-1E-3},{"$f":"SCORES!H70","v":-1E-3},{"$f":"SCORES!D35","v":-1E-3},{"$f":"RESULTS!$E$13","v":-1E-3},{"$f":"SCORES!D33","v":-1E-3},{"$f":"SCORES!H117","v":-1E-3},{"$f":"RESULTS!$Q$8","v":-1E-3},{"$f":"SCORES!H119","v":-1E-3},{"$f":"SCORES!D70","v":-1E-3},{"$f":"RESULTS!$E$23","v":-1E-3},{"$f":"SCORES!D68","v":-1E-3},null,{"$f":"SUM(C25:AL25)","v":0},{"$f":"SUM(C26,F26,I26,L26,O26,R26,U26,X26,AA26,AD26,AG26,AJ26)","v":-1.1000000000000003E-2},{"$f":"SUM(E26,H26,K26,N26,Q26,T26,W26,Z26,AC26,AF26,AI26,AL26)","v":-1.1000000000000003E-2},{"$f":"SUM(C27:AL27)","v":0},null,{"$f":"VLOOKUP(C25,PLACE1,5,FALSE)","v":6}]
[null,{"$f":"SEED!E13","v":0},null,{"$f":"C26-E26","v":0},null,null,{"$f":"F26-H26","v":0},null,null,{"$f":"I26-K26","v":0},null,null,{"$f":"L26-N26","v":0},null,null,{"$f":"O26-Q26","v":0},null,null,{"$f":"R26-T26","v":0},null,null,null,null,null,{"$f":"X26-Z26","v":0},null,null,{"$f":"AA26-AC26","v":0},null,null,{"$f":"AD26-AF26","v":0},null,null,{"$f":"AG26-AI26","v":0},null,null,{"$f":"AJ26-AL26","v":0}]
[null,{"$f":"NAMES!C46","v":"Block 1"},"plyr8",{"$f":"IF(E28=1,\"W\",\"\")","v":""},{"$f":"IF(D30>0,1,0)","v":0},null,{"$f":"IF(H28=1,\"W\",\"\")","v":""},{"$f":"IF(G30>0,1,0)","v":0},null,{"$f":"IF(K28=1,\"W\",\"\")","v":""},{"$f":"IF(J30>0,1,0)","v":0},null,{"$f":"IF(N28=1,\"W\",\"\")","v":""},{"$f":"IF(M30>0,1,0)","v":0},null,{"$f":"IF(Q28=1,\"W\",\"\")","v":""},{"$f":"IF(P30>0,1,0)","v":0},null,{"$f":"IF(T28=1,\"W\",\"\")","v":""},{"$f":"IF(S30>0,1,0)","v":0},null,{"$f":"IF(W28=1,\"W\",\"\")","v":""},{"$f":"IF(V30>0,1,0)","v":0},null,null,null,null,{"$f":"IF(AC28=1,\"W\",\"\")","v":""},{"$f":"IF(AB30>0,1,0)","v":0},null,{"$f":"IF(AF28=1,\"W\",\"\")","v":""},{"$f":"IF(AE30>0,1,0)","v":0},null,{"$f":"IF(AI28=1,\"W\",\"\")","v":""},{"$f":"IF(AH30>0,1,0)","v":0},null,{"$f":"IF(AL28=1,\"W\",\"\")","v":""},{"$f":"IF(AK30>0,1,0)","v":0}]
[null,{"$f":"NAMES!C47","v":"Player 8"},{"$f":"Z8","v":-1E-3},{"$f":"RESULTS!$M$17","v":-1E-3},{"$f":"X8","v":-1E-3},{"$f":"Z11","v":-1E-3},{"$f":"RESULTS!$I$11","v":-1E-3},{"$f":"X11","v":-1E-3},{"$f":"Z14","v":-1E-3},{"$f":"RESULTS!$U$11","v":-1E-3},{"$f":"X14","v":-1E-3},{"$f":"Z17","v":-1E-3},{"$f":"RESULTS!$I$21","v":-1E-3},{"$f":"X17","v":-1E-3},{"$f":"Z20","v":-1E-3},{"$f":"RESULTS!$U$24","v":-1E-3},{"$f":"X20","v":-1E-3},{"$f":"Z23","v":-1E-3},{"$f":"RESULTS!$M$7","v":-1E-3},{"$f":"X23","v":-1E-3},{"$f":"Z26","v":-1E-3},{"$f":"RESULTS!$Y$14","v":-1E-3},{"$f":"X26","v":-1E-3},null,null,null,{"$f":"SCORES!D42","v":-1E-3},{"$f":"RESULTS!$E$15","v":-1E-3},{"$f":"SCORES!D40","v":-1E-3},{"$f":"SCORES!H110","v":-1E-3},{"$f":"RESULTS!$Q$6","v":-1E-3},{"$f":"SCORES!H112","v":-1E-3},{"$f":"SCORES!D77","v":-1E-3},{"$f":"RESULTS!$E$25","v":-1E-3},{"$f":"SCORES!D75","v":-1E-3},{"$f":"SCORES!L5","v":-1E-3},{"$f":"RESULTS!$Q$20","v":-1E-3},{"$f":"SCORES!L7","v":-1E-3},null,{"$f":"SUM(C28:AL28)","v":0},{"$f":"SUM(C29,F29,I29,L29,O29,R29,U29,X29,AA29,AD29,AG29,AJ29)","v":-1.1000000000000003E-2},{"$f":"SUM(E29,H29,K29,N29,Q29,T29,W29,Z29,AC29,AF29,AI29,AL29)","v":-1.1000000000000003E-2},{"$f":"SUM(C30:AL30)","v":0},null,{"$f":"VLOOKUP(C28,PLACE1,5,FALSE)","v":5}]
[null,{"$f":"SEED!E14","v":0},null,{"$f":"C29-E29","v":0},null,null,{"$f":"F29-H29","v":0},null,null,{"$f":"I29-K29","v":0},null,null,{"$f":"L29-N29","v":0},null,null,{"$f":"O29-Q29","v":0},null,null,{"$f":"R29-T29","v":0},null,null,{"$f":"U29-W29","v":0},null,null,null,null,null,{"$f":"AA29-AC29","v":0},null,null,{"$f":"AD29-AF29","v":0},null,null,{"$f":"AG29-AI29","v":0},null,null,{"$f":"AJ29-AL29","v":0}]
[null,{"$f":"NAMES!C51","v":"Block 1"},"plyr9",{"$f":"IF(E31=1,\"W\",\"\")","v":""},{"$f":"IF(D33>0,1,0)","v":0},"plyr10",{"$f":"IF(H31=1,\"W\",\"\")","v":""},{"$f":"IF(G33>0,1,0)","v":0},"plyr10",{"$f":"IF(K31=1,\"W\",\"\")","v":""},{"$f":"IF(J33>0,1,0)","v":0},"plyr10",{"$f":"IF(N31=1,\"W\",\"\")","v":""},{"$f":"IF(M33>0,1,0)","v":0},"plyr10",{"$f":"IF(Q31=1,\"W\",\"\")","v":""},{"$f":"IF(P33>0,1,0)","v":0},"plyr10",{"$f":"IF(T31=1,\"W\",\"\")","v":""},{"$f":"IF(S33>0,1,0)","v":0},"plyr10",{"$f":"IF(W31=1,\"W\",\"\")","v":""},{"$f":"IF(V33>0,1,0)","v":0},"plyr10",{"$f":"IF(Z31=1,\"W\",\"\")","v":""},{"$f":"IF(Y33>0,1,0)","v":0},null,null,null,"plyr10",{"$f":"IF(AF31=1,\"W\",\"\")","v":""},{"$f":"IF(AE33>0,1,0)","v":0},"plyr10",{"$f":"IF(AI31=1,\"W\",\"\")","v":""},{"$f":"IF(AH33>0,1,0)","v":0},"plyr10",{"$f":"IF(AL31=1,\"W\",\"\")","v":""},{"$f":"IF(AK33>0,1,0)","v":0}]
[null,{"$f":"NAMES!C52","v":"Player 9"},{"$f":"AC8","v":-1E-3},{"$f":"RESULTS!$Q$5","v":-1E-3},{"$f":"AA8","v":-1E-3},{"$f":"AC11","v":-1E-3},{"$f":"RESULTS!$U$9","v":-1E-3},{"$f":"AA11","v":-1E-3},{"$f":"AC14","v":-1E-3},{"$f":"RESULTS!$I$23","v":-1E-3},{"$f":"AA14","v":-1E-3},{"$f":"AC17","v":-1E-3},{"$f":"RESULTS!$U$22","v":-1E-3},{"$f":"AA17","v":-1E-3},{"$f":"AC20","v":-1E-3},{"$f":"RESULTS!$M$9","v":-1E-3},{"$f":"AA20","v":-1E-3},{"$f":"AC23","v":-1E-3},{"$f":"RESULTS!$Y$12","v":-1E-3},{"$f":"AA23","v":-1E-3},{"$f":"AC26","v":-1E-3},{"$f":"RESULTS!$M$19","v":-1E-3},{"$f":"AA26","v":-1E-3},{"$f":"AC29","v":-1E-3},{"$f":"RESULTS!$E$14","v":-1E-3},{"$f":"AA29","v":-1E-3},null,null,null,{"$f":"SCORES!D84","v":-1E-3},{"$f":"RESULTS!$E$27","v":-1E-3},{"$f":"SCORES!D82","v":-1E-3},{"$f":"SCORES!H152","v":-1E-3},{"$f":"RESULTS!$Q$18","v":-1E-3},{"$f":"SCORES!H154","v":-1E-3},{"$f":"SCORES!D119","v":-1E-3},{"$f":"RESULTS!$I$13","v":-1E-3},{"$f":"SCORES!D117","v":-1E-3},null,{"$f":"SUM(C31:AL31)","v":0},{"$f":"SUM(C32,F32,I32,L32,O32,R32,U32,X32,AA32,AD32,AG32,AJ32)","v":-1.1000000000000003E-2},{"$f":"SUM(E32,H32,K32,N32,Q32,T32,W32,Z32,AC32,AF32,AI32,AL32)","v":-1.1000000000000003E-2},{"$f":"SUM(C33:AL33)","v":0},null,{"$f":"VLOOKUP(C31,PLACE1,5,FALSE)","v":4}]
[null,{"$f":"SEED!E15","v":0},null,{"$f":"C32-E32","v":0},null,null,{"$f":"F32-H32","v":0},null,null,{"$f":"I32-K32","v":0},null,null,{"$f":"L32-N32","v":0},null,null,{"$f":"O32-Q32","v":0},null,null,{"$f":"R32-T32","v":0},null,null,{"$f":"U32-W32","v":0},null,null,{"$f":"X32-Z32","v":0},null,null,null,null,null,{"$f":"AD32-AF32","v":0},null,null,{"$f":"AG32-AI32","v":0},null,null,{"$f":"AJ32-AL32","v":0}]
[null,{"$f":"NAMES!C56","v":"Block 1"},"plyr10",{"$f":"IF(E34=1,\"W\",\"\")","v":""},{"$f":"IF(D36>0,1,0)","v":0},null,{"$f":"IF(H34=1,\"W\",\"\")","v":""},{"$f":"IF(G36>0,1,0)","v":0},null,{"$f":"IF(K34=1,\"W\",\"\")","v":""},{"$f":"IF(J36>0,1,0)","v":0},null,{"$f":"IF(N34=1,\"W\",\"\")","v":""},{"$f":"IF(M36>0,1,0)","v":0},null,{"$f":"IF(Q34=1,\"W\",\"\")","v":""},{"$f":"IF(P36>0,1,0)","v":0},null,{"$f":"IF(T34=1,\"W\",\"\")","v":""},{"$f":"IF(S36>0,1,0)","v":0},null,{"$f":"IF(W34=1,\"W\",\"\")","v":""},{"$f":"IF(V36>0,1,0)","v":0},null,{"$f":"IF(Z34=1,\"W\",\"\")","v":""},{"$f":"IF(Y36>0,1,0)","v":0},null,{"$f":"IF(AC34=1,\"W\",\"\")","v":""},{"$f":"IF(AB36>0,1,0)","v":0},null,null,null,null,{"$f":"IF(AI34=1,\"W\",\"\")","v":""},{"$f":"IF(AH36>0,1,0)","v":0},null,{"$f":"IF(AL34=1,\"W\",\"\")","v":""},{"$f":"IF(AK36>0,1,0)","v":0}]
[null,{"$f":"NAMES!C57","v":"Player 10"},{"$f":"AF8","v":-1E-3},{"$f":"RESULTS!$Q$17","v":-1E-3},{"$f":"AD8","v":-1E-3},{"$f":"AF11","v":-1E-3},{"$f":"RESULTS!$I$25","v":-1E-3},{"$f":"AD11","v":-1E-3},{"$f":"AF14","v":-1E-3},{"$f":"RESULTS!$U$20","v":-1E-3},{"$f":"AD14","v":-1E-3},{"$f":"AF17","v":-1E-3},{"$f":"RESULTS!$M$11","v":-1E-3},{"$f":"AD17","v":-1E-3},{"$f":"AF20","v":-1E-3},{"$f":"RESULTS!$Y$10","v":-1E-3},{"$f":"AD20","v":-1E-3},{"$f":"AF23","v":-1E-3},{"$f":"RESULTS!$M$21","v":-1E-3},{"$f":"AD23","v":-1E-3},{"$f":"AF26","v":-1E-3},{"$f":"RESULTS!$E$12","v":-1E-3},{"$f":"AD26","v":-1E-3},{"$f":"AF29","v":-1E-3},{"$f":"RESULTS!$Q$7","v":-1E-3},{"$f":"AD29","v":-1E-3},{"$f":"AF32","v":-1E-3},{"$f":"RESULTS!$E$26","v":-1E-3},{"$f":"AD32","v":-1E-3},null,null,null,{"$f":"SCORES!D126","v":-1E-3},{"$f":"RESULTS!$I$15","v":-1E-3},{"$f":"SCORES!D124","v":-1E-3},{"$f":"SCORES!L40","v":-1E-3},{"$f":"RESULTS!$U$6","v":-1E-3},{"$f":"SCORES!L42","v":-1E-3},null,{"$f":"SUM(C34:AL34)","v":0},{"$f":"SUM(C35,F35,I35,L35,O35,R35,U35,X35,AA35,AD35,AG35,AJ35)","v":-1.1000000000000003E-2},{"$f":"SUM(E35,H35,K35,N35,Q35,T35,W35,Z35,AC35,AF35,AI35,AL35)","v":-1.1000000000000003E-2},{"$f":"SUM(C36:AL36)","v":0},null,{"$f":"VLOOKUP(C34,PLACE1,5,FALSE)","v":3}]
[null,{"$f":"SEED!E16","v":0},null,{"$f":"C35-E35","v":0},null,null,{"$f":"F35-H35","v":0},null,null,{"$f":"I35-K35","v":0},null,null,{"$f":"L35-N35","v":0},null,null,{"$f":"O35-Q35","v":0},null,null,{"$f":"R35-T35","v":0},null,null,{"$f":"U35-W35","v":0},null,null,{"$f":"X35-Z35","v":0},null,null,{"$f":"AA35-AC35","v":0},null,null,null,null,null,{"$f":"AG35-AI35","v":0},null,null,{"$f":"AJ35-AL35","v":0}]
[null,{"$f":"NAMES!C61","v":"Block 1"},"plyr11",{"$f":"IF(E37=1,\"W\",\"\")","v":""},{"$f":"IF(D39>0,1,0)","v":0},"plyr10",{"$f":"IF(H37=1,\"W\",\"\")","v":""},{"$f":"IF(G39>0,1,0)","v":0},"plyr10",{"$f":"IF(K37=1,\"W\",\"\")","v":""},{"$f":"IF(J39>0,1,0)","v":0},"plyr10",{"$f":"IF(N37=1,\"W\",\"\")","v":""},{"$f":"IF(M39>0,1,0)","v":0},"plyr10",{"$f":"IF(Q37=1,\"W\",\"\")","v":""},{"$f":"IF(P39>0,1,0)","v":0},"plyr10",{"$f":"IF(T37=1,\"W\",\"\")","v":""},{"$f":"IF(S39>0,1,0)","v":0},"plyr10",{"$f":"IF(W37=1,\"W\",\"\")","v":""},{"$f":"IF(V39>0,1,0)","v":0},"plyr10",{"$f":"IF(Z37=1,\"W\",\"\")","v":""},{"$f":"IF(Y39>0,1,0)","v":0},"plyr10",{"$f":"IF(AC37=1,\"W\",\"\")","v":""},{"$f":"IF(AB39>0,1,0)","v":0},"plyr10",{"$f":"IF(AF37=1,\"W\",\"\")","v":""},{"$f":"IF(AE39>0,1,0)","v":0},null,null,null,null,{"$f":"IF(AL37=1,\"W\",\"\")","v":""},{"$f":"IF(AK39>0,1,0)","v":0}]
[null,{"$f":"NAMES!C62","v":"Player 11"},{"$f":"AI8","v":-1E-3},{"$f":"RESULTS!$U$5","v":-1E-3},{"$f":"AG8","v":-1E-3},{"$f":"AI11","v":-1E-3},{"$f":"RESULTS!$U$18","v":-1E-3},{"$f":"AG11","v":-1E-3},{"$f":"AI14","v":-1E-3},{"$f":"RESULTS!$M$13","v":-1E-3},{"$f":"AG14","v":-1E-3},{"$f":"AI17","v":-1E-3},{"$f":"RESULTS!$Y$8","v":-1E-3},{"$f":"AG17","v":-1E-3},{"$f":"AI20","v":-1E-3},{"$f":"RESULTS!$M$23","v":-1E-3},{"$f":"AG20","v":-1E-3},{"$f":"AI23","v":-1E-3},{"$f":"RESULTS!$E$10","v":-1E-3},{"$f":"AG23","v":-1E-3},{"$f":"AI26","v":-1E-3},{"$f":"RESULTS!$Q$9","v":-1E-3},{"$f":"AG26","v":-1E-3},{"$f":"AI29","v":-1E-3},{"$f":"RESULTS!$E$24","v":-1E-3},{"$f":"AG29","v":-1E-3},{"$f":"AI32","v":-1E-3},{"$f":"RESULTS!$Q$19","v":-1E-3},{"$f":"AG32","v":-1E-3},{"$f":"AI35","v":-1E-3},{"$f":"RESULTS!$I$14","v":-1E-3},{"$f":"AG35","v":-1E-3},null,null,null,{"$f":"SCORES!H14","v":-1E-3},{"$f":"RESULTS!$I$27","v":-1E-3},{"$f":"SCORES!H12","v":-1E-3},null,{"$f":"SUM(C37:AL37)","v":0},{"$f":"SUM(C38,F38,I38,L38,O38,R38,U38,X38,AA38,AD38,AG38,AJ38)","v":-1.1000000000000003E-2},{"$f":"SUM(E38,H38,K38,N38,Q38,T38,W38,Z38,AC38,AF38,AI38,AL38)","v":-1.1000000000000003E-2},{"$f":"SUM(C39:AL39)","v":0},null,{"$f":"VLOOKUP(C37,PLACE1,5,FALSE)","v":2}]
[null,{"$f":"SEED!E17","v":0},null,{"$f":"C38-E38","v":0},null,null,{"$f":"F38-H38","v":0},null,null,{"$f":"I38-K38","v":0},null,null,{"$f":"L38-N38","v":0},null,null,{"$f":"O38-Q38","v":0},null,null,{"$f":"R38-T38","v":0},null,null,{"$f":"U38-W38","v":0},null,null,{"$f":"X38-Z38","v":0},null,null,{"$f":"AA38-AC38","v":0},null,null,{"$f":"AD38-AF38","v":0},null,null,null,null,null,{"$f":"AJ38-AL38","v":0}]
[null,{"$f":"NAMES!C66","v":"Block 1"},"plyr12",{"$f":"IF(E40=1,\"W\",\"\")","v":""},{"$f":"IF(D42>0,1,0)","v":0},"plyr10",{"$f":"IF(H40=1,\"W\",\"\")","v":""},{"$f":"IF(G42>0,1,0)","v":0},"plyr10",{"$f":"IF(K40=1,\"W\",\"\")","v":""},{"$f":"IF(J42>0,1,0)","v":0},"plyr10",{"$f":"IF(N40=1,\"W\",\"\")","v":""},{"$f":"IF(M42>0,1,0)","v":0},"plyr10",{"$f":"IF(Q40=1,\"W\",\"\")","v":""},{"$f":"IF(P42>0,1,0)","v":0},"plyr10",{"$f":"IF(T40=1,\"W\",\"\")","v":""},{"$f":"IF(S42>0,1,0)","v":0},"plyr10",{"$f":"IF(W40=1,\"W\",\"\")","v":""},{"$f":"IF(V42>0,1,0)","v":0},"plyr10",{"$f":"IF(Z40=1,\"W\",\"\")","v":""},{"$f":"IF(Y42>0,1,0)","v":0},"plyr10",{"$f":"IF(AC40=1,\"W\",\"\")","v":""},{"$f":"IF(AB42>0,1,0)","v":0},"plyr10",{"$f":"IF(AF40=1,\"W\",\"\")","v":""},{"$f":"IF(AE42>0,1,0)","v":0},"plyr10",{"$f":"IF(AI40=1,\"W\",\"\")","v":""},{"$f":"IF(AH42>0,1,0)","v":0}]
[null,{"$f":"NAMES!C67","v":"Player 12"},{"$f":"AL8","v":-1E-3},{"$f":"RESULTS!$U$17","v":-1E-3},{"$f":"AJ8","v":-1E-3},{"$f":"AL11","v":-1E-3},{"$f":"RESULTS!$M$15","v":-1E-3},{"$f":"AJ11","v":-1E-3},{"$f":"AL14","v":-1E-3},{"$f":"RESULTS!$Y$6","v":-1E-3},{"$f":"AJ14","v":-1E-3},{"$f":"AL17","v":-1E-3},{"$f":"RESULTS!$M$25","v":-1E-3},{"$f":"AJ17","v":-1E-3},{"$f":"AL20","v":-1E-3},{"$f":"RESULTS!$E$8","v":-1E-3},{"$f":"AJ20","v":-1E-3},{"$f":"AL23","v":-1E-3},{"$f":"RESULTS!$Q$11","v":-1E-3},{"$f":"AJ23","v":-1E-3},{"$f":"AL26","v":-1E-3},{"$f":"RESULTS!$E$22","v":-1E-3},{"$f":"AJ26","v":-1E-3},{"$f":"AL29","v":-1E-3},{"$f":"RESULTS!$Q$21","v":-1E-3},{"$f":"AJ29","v":-1E-3},{"$f":"AL32","v":-1E-3},{"$f":"RESULTS!$I$12","v":-1E-3},{"$f":"AJ32","v":-1E-3},{"$f":"AL35","v":-1E-3},{"$f":"RESULTS!$U$7","v":-1E-3},{"$f":"AJ35","v":-1E-3},{"$f":"AL38","v":-1E-3},{"$f":"RESULTS!$I$26","v":-1E-3},{"$f":"AJ38","v":-1E-3},null,null,null,null,{"$f":"SUM(C40:AL40)","v":0},{"$f":"SUM(C41,F41,I41,L41,O41,R41,U41,X41,AA41,AD41,AG41,AJ41)","v":-1.1000000000000003E-2},{"$f":"SUM(E41,H41,K41,N41,Q41,T41,W41,Z41,AC41,AF41,AI41,AL41)","v":-1.1000000000000003E-2},{"$f":"SUM(C42:AL42)","v":0},null,{"$f":"VLOOKUP(C40,PLACE1,5,FALSE)","v":1}]
[null,{"$f":"SEED!E18","v":0},null,{"$f":"C41-E41","v":0},null,null,{"$f":"F41-H41","v":0},null,null,{"$f":"I41-K41","v":0},null,null,{"$f":"L41-N41","v":0},null,null,{"$f":"O41-Q41","v":0},null,null,{"$f":"R41-T41","v":0},null,null,{"$f":"U41-W41","v":0},null,null,{"$f":"X41-Z41","v":0},null,null,{"$f":"AA41-AC41","v":0},null,null,{"$f":"AD41-AF41","v":0},null,null,{"$f":"AG41-AI41","v":0}]
[]
[null,null,null,null,null,null,null,null,null,null,null,{"$f":"L2","v":"Tournament"}]
[null,null,null,null,null,null,null,null,null,null,null,{"$f":"NAMES!$C$9","v":"Date"}]
[null,null,null,null,null,null,null,null,null,null,null,{"$f":"L4","v":"Group"}]
[]
[null,{"$f":"SEED!I5","v":"BLOCK 2"},{"$f":"SEED!I7","v":" Block 2 Player 1"},null,null,{"$f":"SEED!I8","v":" Block 2 Player 2"},null,null,{"$f":"SEED!I9","v":" Block 2 Player 3"},null,null,{"$f":"SEED!I10","v":" Block 2 Player 4"},null,null,{"$f":"SEED!I11","v":" Block 2 Player 5"},null,null,{"$f":"SEED!I12","v":" Block 2 Player 6"},null,null,{"$f":"SEED!I13","v":" Block 2 Player 7"},null,null,{"$f":"SEED!I14","v":" Block 2 Player 8"},null,null,{"$f":"SEED!I15","v":" Block 2 Player 9"},null,null,{"$f":"SEED!I16","v":" Block 2 Player 10"},null,null,{"$f":"SEED!I17","v":" Block 2 Player 11"},null,null,{"$f":"SEED!I18","v":" Block 2 Player 12"},null,null,null," WINS"," POINTS FOR"," POINT AGAIST"," NET   POINTS",null," PLACE"]
[null,{"$f":"NAMES!C72","v":"Block 2"},"plyr1",null,null,null,{"$f":"IF(H49=1,\"W\",\"\")","v":""},{"$f":"IF(G51>0,1,0)","v":0},null,{"$f":"IF(K49=1,\"W\",\"\")","v":""},{"$f":"IF(J51>0,1,0)","v":0},null,{"$f":"IF(N49=1,\"W\",\"\")","v":""},{"$f":"IF(M51>0,1,0)","v":0},null,{"$f":"IF(Q49=1,\"W\",\"\")","v":""},{"$f":"IF(P51>0,1,0)","v":0},null,{"$f":"IF(T49=1,\"W\",\"\")","v":""},{"$f":"IF(S51>0,1,0)","v":0},null,{"$f":"IF(W49=1,\"W\",\"\")","v":""},{"$f":"IF(V51>0,1,0)","v":0},null,{"$f":"IF(Z49=1,\"W\",\"\")","v":""},{"$f":"IF(Y51>0,1,0)","v":0},null,{"$f":"IF(AC49=1,\"W\",\"\")","v":""},{"$f":"IF(AB51>0,1,0)","v":0},null,{"$f":"IF(AF49=1,\"W\",\"\")","v":""},{"$f":"IF(AE51>0,1,0)","v":0},null,{"$f":"IF(AI49=1,\"W\",\"\")","v":""},{"$f":"IF(AH51>0,1,0)","v":0},null,{"$f":"IF(AL49=1,\"W\",\"\")","v":""},{"$f":"IF(AK51>0,1,0)","v":0},null,null,null,null,null,null,null,null,null,"NAME","WINS","NET","FOR"]
[null,{"$f":"NAMES!C73","v":"Player 1"},null,null,null,{"$f":"SCORES!L272","v":-1E-3},{"$f":"RESULTS!$Y$34","v":-1E-3},{"$f":"SCORES!L274","v":-1E-3},{"$f":"SCORES!D159","v":-1E-3},{"$f":"RESULTS!$E$34","v":-1E-3},{"$f":"SCORES!D161","v":-1E-3},{"$f":"SCORES!D201","v":-1E-3},{"$f":"RESULTS!$E$46","v":-1E-3},{"$f":"SCORES!D203","v":-1E-3},{"$f":"SCORES!D244","v":-1E-3},{"$f":"RESULTS!$I$34","v":-1E-3},{"$f":"SCORES!D246","v":-1E-3},{"$f":"SCORES!D286","v":-1E-3},{"$f":"RESULTS!$I$46","v":-1E-3},{"$f":"SCORES!D288","v":-1E-3},{"$f":"SCORES!H173","v":-1E-3},{"$f":"RESULTS!$M$34","v":-1E-3},{"$f":"SCORES!H175","v":-1E-3},{"$f":"SCORES!H215","v":-1E-3},{"$f":"RESULTS!$M$46","v":-1E-3},{"$f":"SCORES!H217","v":-1E-3},{"$f":"SCORES!H258","v":-1E-3},{"$f":"RESULTS!$Q$34","v":-1E-3},{"$f":"SCORES!H260","v":-1E-3},{"$f":"SCORES!H300","v":-1E-3},{"$f":"RESULTS!$Q$46","v":-1E-3},{"$f":"SCORES!H302","v":-1E-3},{"$f":"SCORES!L187","v":-1E-3},{"$f":"RESULTS!$U$34","v":-1E-3},{"$f":"SCORES!L189","v":-1E-3},{"$f":"SCORES!L229","v":-1E-3},{"$f":"RESULTS!$U$46","v":-1E-3},{"$f":"SCORES!L231","v":-1E-3},null,{"$f":"SUM(C49:AL49)","v":0},{"$f":"SUM(C50,F50,I50,L50,O50,R50,U50,X50,AA50,AD50,AG50,AJ50)","v":-1.1000000000000003E-2},{"$f":"SUM(E50,H50,K50,N50,Q50,T50,W50,Z50,AC50,AF50,AI50,AL50)","v":-1.1000000000000003E-2},{"$f":"SUM(C51:AL51)","v":0},null,{"$f":"VLOOKUP(C49,PLACE2,5,FALSE)","v":12},null,null,{"$f":"$C$82","v":"plyr12"},{"$f":"$AN$83","v":0},{"$f":"$AQ$83","v":0},{"$f":"$AO$83","v":-1.1000000000000003E-2},1]
[null,{"$f":"SEED!J7","v":0},null,null,null,null,{"$f":"F50-H50","v":0},null,null,{"$f":"I50-K50","v":0},null,null,{"$f":"L50-N50","v":0},null,null,{"$f":"O50-Q50","v":0},null,null,{"$f":"R50-T50","v":0},null,null,{"$f":"U50-W50","v":0},null,null,{"$f":"X50-Z50","v":0},null,null,{"$f":"AA50-AC50","v":0},null,null,{"$f":"AD50-AF50","v":0},null,null,{"$f":"AG50-AI50","v":0},null,null,{"$f":"AJ50-AL50","v":0},null,null,null,null,null,null,null,null,null,null,{"$f":"$C$79","v":"plyr11"},{"$f":"$AN$80","v":0},{"$f":"$AQ$80","v":0},{"$f":"$AO$80","v":-1.1000000000000003E-2},2]
[null,{"$f":"NAMES!C77","v":"Block 2"},"plyr2",{"$f":"IF(E52=1,\"W\",\"\")","v":""},{"$f":"IF(D54>0,1,0)","v":0},null,null,null,null,{"$f":"IF(K52=1,\"W\",\"\")","v":""},{"$f":"IF(J54>0,1,0)","v":0},null,{"$f":"IF(N52=1,\"W\",\"\")","v":""},{"$f":"IF(M54>0,1,0)","v":0},null,{"$f":"IF(Q52=1,\"W\",\"\")","v":""},{"$f":"IF(P54>0,1,0)","v":0},null,{"$f":"IF(T52=1,\"W\",\"\")","v":""},{"$f":"IF(S54>0,1,0)","v":0},null,{"$f":"IF(W52=1,\"W\",\"\")","v":""},{"$f":"IF(V54>0,1,0)","v":0},null,{"$f":"IF(Z52=1,\"W\",\"\")","v":""},{"$f":"IF(Y54>0,1,0)","v":0},null,{"$f":"IF(AC52=1,\"W\",\"\")","v":""},{"$f":"IF(AB54>0,1,0)","v":0},null,{"$f":"IF(AF52=1,\"W\",\"\")","v":""},{"$f":"IF(AE54>0,1,0)","v":0},null,{"$f":"IF(AI52=1,\"W\",\"\")","v":""},{"$f":"IF(AH54>0,1,0)","v":0},null,{"$f":"IF(AL52=1,\"W\",\"\")","v":""},{"$f":"IF(AK54>0,1,0)","v":0},null,null,null,null,null,null,null,null,null,{"$f":"$C$76","v":"plyr10"},{"$f":"$AN$77","v":0},{"$f":"$AQ$77","v":0},{"$f":"$AO$77","v":-1.1000000000000003E-2},3]
[null,{"$f":"NAMES!C78","v":"Player 2"},{"$f":"H50","v":-1E-3},{"$f":"RESULTS!$Y$35","v":-1E-3},{"$f":"F50","v":-1E-3},null,null,null,{"$f":"SCORES!H253","v":-1E-3},{"$f":"RESULTS!$M$57","v":-1E-3},{"$f":"SCORES!H251","v":-1E-3},{"$f":"SCORES!D166","v":-1E-3},{"$f":"RESULTS!$E$36","v":-1E-3},{"$f":"SCORES!D168","v":-1E-3},{"$f":"SCORES!H288","v":-1E-3},{"$f":"RESULTS!$Q$43","v":-1E-3},{"$f":"SCORES!H286","v":-1E-3},{"$f":"SCORES!D215","v":-1E-3},{"$f":"RESULTS!$E$50","v":-1E-3},{"$f":"SCORES!D217","v":-1E-3},{"$f":"SCORES!L168","v":-1E-3},{"$f":"RESULTS!$Q$53","v":-1E-3},{"$f":"SCORES!L166","v":-1E-3},{"$f":"SCORES!D265","v":-1E-3},{"$f":"RESULTS!$I$40","v":-1E-3},{"$f":"SCORES!D267","v":-1E-3},{"$f":"SCORES!L201","v":-1E-3},{"$f":"RESULTS!$U$38","v":-1E-3},{"$f":"SCORES!L203","v":-1E-3},{"$f":"SCORES!H159","v":-1E-3},{"$f":"RESULTS!$I$54","v":-1E-3},{"$f":"SCORES!H161","v":-1E-3},{"$f":"SCORES!L239","v":-1E-3},{"$f":"RESULTS!$U$49","v":-1E-3},{"$f":"SCORES!L237","v":-1E-3},{"$f":"SCORES!H208","v":-1E-3},{"$f":"RESULTS!$M$44","v":-1E-3},{"$f":"SCORES!H210","v":-1E-3},null,{"$f":"SUM(C52:AL52)","v":0},{"$f":"SUM(C53,F53,I53,L53,O53,R53,U53,X53,AA53,AD53,AG53,AJ53)","v":-1.1000000000000003E-2},{"$f":"SUM(E53,H53,K53,N53,Q53,T53,W53,Z53,AC53,AF53,AI53,AL53)","v":-1.1000000000000003E-2},{"$f":"SUM(C54:AL54)","v":0},null,{"$f":"VLOOKUP(C52,PLACE2,5,FALSE)","v":11},null,null,{"$f":"$C$73","v":"plyr9"},{"$f":"$AN$74","v":0},{"$f":"$AQ$74","v":0},{"$f":"$AO$74","v":-1.1000000000000003E-2},4]
[null,{"$f":"SEED!J8","v":0},null,{"$f":"C53-E53","v":0},null,null,null,null,null,{"$f":"I53-K53","v":0},null,null,{"$f":"L53-N53","v":0},null,null,{"$f":"O53-Q53","v":0},null,null,{"$f":"R53-T53","v":0},null,null,{"$f":"U53-W53","v":0},null,null,{"$f":"X53-Z53","v":0},null,null,{"$f":"AA53-AC53","v":0},null,null,{"$f":"AD53-AF53","v":0},null,null,{"$f":"AG53-AI53","v":0},null,null,{"$f":"AJ53-AL53","v":0},null,null,null,null,null,null,null,null,null,null,{"$f":"$C$70","v":"plyr8"},{"$f":"$AN$71","v":0},{"$f":"$AQ$71","v":0},{"$f":"$AO$71","v":-1.1000000000000003E-2},5]
[null,{"$f":"NAMES!C82","v":"Block 2"},"plyr3",{"$f":"IF(E55=1,\"W\",\"\")","v":""},{"$f":"IF(D57>0,1,0)","v":0},null,{"$f":"IF(H55=1,\"W\",\"\")","v":""},{"$f":"IF(G57>0,1,0)","v":0},null,null,null,null,{"$f":"IF(N55=1,\"W\",\"\")","v":""},{"$f":"IF(M57>0,1,0)","v":0},null,{"$f":"IF(Q55=1,\"W\",\"\")","v":""},{"$f":"IF(P57>0,1,0)","v":0},null,{"$f":"IF(T55=1,\"W\",\"\")","v":""},{"$f":"IF(S57>0,1,0)","v":0},null,{"$f":"IF(W55=1,\"W\",\"\")","v":""},{"$f":"IF(V57>0,1,0)","v":0},null,{"$f":"IF(Z55=1,\"W\",\"\")","v":""},{"$f":"IF(Y57>0,1,0)","v":0},null,{"$f":"IF(AC55=1,\"W\",\"\")","v":""},{"$f":"IF(AB57>0,1,0)","v":0},null,{"$f":"IF(AF55=1,\"W\",\"\")","v":""},{"$f":"IF(AE57>0,1,0)","v":0},null,{"$f":"IF(AI55=1,\"W\",\"\")","v":""},{"$f":"IF(AH57>0,1,0)","v":0},null,{"$f":"IF(AL55=1,\"W\",\"\")","v":""},{"$f":"IF(AK57>0,1,0)","v":0},null,null,null,null,null,null,null,null,null,{"$f":"$C$67","v":"plyr7"},{"$f":"$AN$68","v":0},{"$f":"$AQ$68","v":0},{"$f":"$AO$68","v":-1.1000000000000003E-2},6]
[null,{"$f":"NAMES!C83","v":"Player 3"},{"$f":"K50","v":-1E-3},{"$f":"RESULTS!$E$35","v":-1E-3},{"$f":"I50","v":-1E-3},{"$f":"K53","v":-1E-3},{"$f":"RESULTS!$M$56","v":-1E-3},{"$f":"I53","v":-1E-3},null,null,null,{"$f":"SCORES!H295","v":-1E-3},{"$f":"RESULTS!$Q$45","v":-1E-3},{"$f":"SCORES!H293","v":-1E-3},{"$f":"SCORES!D210","v":-1E-3},{"$f":"RESULTS!$E$49","v":-1E-3},{"$f":"SCORES!D208","v":-1E-3},{"$f":"SCORES!L175","v":-1E-3},{"$f":"RESULTS!$Q$55","v":-1E-3},{"$f":"SCORES!L173","v":-1E-3},{"$f":"SCORES!D258","v":-1E-3},{"$f":"RESULTS!$I$38","v":-1E-3},{"$f":"SCORES!D260","v":-1E-3},{"$f":"SCORES!L208","v":-1E-3},{"$f":"RESULTS!$U$40","v":-1E-3},{"$f":"SCORES!L210","v":-1E-3},{"$f":"SCORES!D307","v":-1E-3},{"$f":"RESULTS!$I$52","v":-1E-3},{"$f":"SCORES!D309","v":-1E-3},{"$f":"SCORES!L246","v":-1E-3},{"$f":"RESULTS!$U$51","v":-1E-3},{"$f":"SCORES!L244","v":-1E-3},{"$f":"SCORES!H201","v":-1E-3},{"$f":"RESULTS!$M$42","v":-1E-3},{"$f":"SCORES!H203","v":-1E-3},{"$f":"SCORES!L281","v":-1E-3},{"$f":"RESULTS!$Y$37","v":-1E-3},{"$f":"SCORES!L279","v":-1E-3},null,{"$f":"SUM(C55:AL55)","v":0},{"$f":"SUM(C56,F56,I56,L56,O56,R56,U56,X56,AA56,AD56,AG56,AJ56)","v":-1.1000000000000003E-2},{"$f":"SUM(E56,H56,K56,N56,Q56,T56,W56,Z56,AC56,AF56,AI56,AL56)","v":-1.1000000000000003E-2},{"$f":"SUM(C57:AL57)","v":0},null,{"$f":"VLOOKUP(C55,PLACE2,5,FALSE)","v":10},null,null,{"$f":"$C$64","v":"plyr6"},{"$f":"$AN$65","v":0},{"$f":"$AQ$65","v":0},{"$f":"$AO$65","v":-1.1000000000000003E-2},7]
[null,{"$f":"SEED!J9","v":0},null,{"$f":"C56-E56","v":0},null,null,{"$f":"F56-H56","v":0},null,null,null,null,null,{"$f":"L56-N56","v":0},null,null,{"$f":"O56-Q56","v":0},null,null,{"$f":"R56-T56","v":0},null,null,{"$f":"U56-W56","v":0},null,null,{"$f":"X56-Z56","v":0},null,null,{"$f":"AA56-AC56","v":0},null,null,{"$f":"AD56-AF56","v":0},null,null,{"$f":"AG56-AI56","v":0},null,null,{"$f":"AJ56-AL56","v":0},null,null,null,null,null,null,null,null,null,null,{"$f":"$C$61","v":"plyr5"},{"$f":"$AN$62","v":0},{"$f":"$AQ$62","v":0},{"$f":"$AO$62","v":-1.1000000000000003E-2},8]
[null,{"$f":"NAMES!C87","v":"Block 2"},"plyr4",{"$f":"IF(E58=1,\"W\",\"\")","v":""},{"$f":"IF(D60>0,1,0)","v":0},null,{"$f":"IF(H58=1,\"W\",\"\")","v":""},{"$f":"IF(G60>0,1,0)","v":0},null,{"$f":"IF(K58=1,\"W\",\"\")","v":""},{"$f":"IF(J60>0,1,0)","v":0},null,null,null,null,{"$f":"IF(Q58=1,\"W\",\"\")","v":""},{"$f":"IF(P60>0,1,0)","v":0},null,{"$f":"IF(T58=1,\"W\",\"\")","v":""},{"$f":"IF(S60>0,1,0)","v":0},null,{"$f":"IF(W58=1,\"W\",\"\")","v":""},{"$f":"IF(V60>0,1,0)","v":0},null,{"$f":"IF(Z58=1,\"W\",\"\")","v":""},{"$f":"IF(Y60>0,1,0)","v":0},null,{"$f":"IF(AC58=1,\"W\",\"\")","v":""},{"$f":"IF(AB60>0,1,0)","v":0},null,{"$f":"IF(AF58=1,\"W\",\"\")","v":""},{"$f":"IF(AE60>0,1,0)","v":0},null,{"$f":"IF(AI58=1,\"W\",\"\")","v":""},{"$f":"IF(AH60>0,1,0)","v":0},null,{"$f":"IF(AL58=1,\"W\",\"\")","v":""},{"$f":"IF(AK60>0,1,0)","v":0},null,null,null,null,null,null,null,null,null,{"$f":"$C$58","v":"plyr4"},{"$f":"$AN$59","v":0},{"$f":"$AQ$59","v":0},{"$f":"$AO$59","v":-1.1000000000000003E-2},9]
[null,{"$f":"NAMES!C88","v":"Player 4"},{"$f":"N50","v":-1E-3},{"$f":"RESULTS!$E$47","v":-1E-3},{"$f":"L50","v":-1E-3},{"$f":"N53","v":-1E-3},{"$f":"RESULTS!$E$37","v":-1E-3},{"$f":"L53","v":-1E-3},{"$f":"N56","v":-1E-3},{"$f":"RESULTS!$Q$44","v":-1E-3},{"$f":"L56","v":-1E-3},null,null,null,{"$f":"SCORES!L182","v":-1E-3},{"$f":"RESULTS!$Q$57","v":-1E-3},{"$f":"SCORES!L180","v":-1E-3},{"$f":"SCORES!D251","v":-1E-3},{"$f":"RESULTS!$I$36","v":-1E-3},{"$f":"SCORES!D253","v":-1E-3},{"$f":"SCORES!L215","v":-1E-3},{"$f":"RESULTS!$U$42","v":-1E-3},{"$f":"SCORES!L217","v":-1E-3},{"$f":"SCORES!D300","v":-1E-3},{"$f":"RESULTS!$I$50","v":-1E-3},{"$f":"SCORES!D302","v":-1E-3},{"$f":"SCORES!L253","v":-1E-3},{"$f":"RESULTS!$U$53","v":-1E-3},{"$f":"SCORES!L251","v":-1E-3},{"$f":"SCORES!H194","v":-1E-3},{"$f":"RESULTS!$M$40","v":-1E-3},{"$f":"SCORES!H196","v":-1E-3},{"$f":"SCORES!L288","v":-1E-3},{"$f":"RESULTS!$Y$39","v":-1E-3},{"$f":"SCORES!L286","v":-1E-3},{"$f":"SCORES!H244","v":-1E-3},{"$f":"RESULTS!$M$54","v":-1E-3},{"$f":"SCORES!H246","v":-1E-3},null,{"$f":"SUM(C58:AL58)","v":0},{"$f":"SUM(C59,F59,I59,L59,O59,R59,U59,X59,AA59,AD59,AG59,AJ59)","v":-1.1000000000000003E-2},{"$f":"SUM(E59,H59,K59,N59,Q59,T59,W59,Z59,AC59,AF59,AI59,AL59)","v":-1.1000000000000003E-2},{"$f":"SUM(C60:AL60)","v":0},null,{"$f":"VLOOKUP(C58,PLACE2,5,FALSE)","v":9},null,null,{"$f":"$C$55","v":"plyr3"},{"$f":"$AN$56","v":0},{"$f":"$AQ$56","v":0},{"$f":"$AO$56","v":-1.1000000000000003E-2},10]
[null,{"$f":"SEED!J10","v":0},null,{"$f":"C59-E59","v":0},null,null,{"$f":"F59-H59","v":0},null,null,{"$f":"I59-K59","v":0},null,null,null,null,null,{"$f":"O59-Q59","v":0},null,null,{"$f":"R59-T59","v":0},null,null,{"$f":"U59-W59","v":0},null,null,{"$f":"X59-Z59","v":0},null,null,{"$f":"AA59-AC59","v":0},null,null,{"$f":"AD59-AF59","v":0},null,null,{"$f":"AG59-AI59","v":0},null,null,{"$f":"AJ59-AL59","v":0},null,null,null,null,null,null,null,null,null,null,{"$f":"$C$52","v":"plyr2"},{"$f":"$AN$53","v":0},{"$f":"$AQ$53","v":0},{"$f":"$AO$53","v":-1.1000000000000003E-2},11]
[null,{"$f":"NAMES!C92","v":"Block 2"},"plyr5",{"$f":"IF(E61=1,\"W\",\"\")","v":""},{"$f":"IF(D63>0,1,0)","v":0},null,{"$f":"IF(H61=1,\"W\",\"\")","v":""},{"$f":"IF(G63>0,1,0)","v":0},null,{"$f":"IF(K61=1,\"W\",\"\")","v":""},{"$f":"IF(J63>0,1,0)","v":0},null,{"$f":"IF(N61=1,\"W\",\"\")","v":""},{"$f":"IF(M63>0,1,0)","v":0},null,null,null,null,{"$f":"IF(T61=1,\"W\",\"\")","v":""},{"$f":"IF(S63>0,1,0)","v":0},null,{"$f":"IF(W61=1,\"W\",\"\")","v":""},{"$f":"IF(V63>0,1,0)","v":0},null,{"$f":"IF(Z61=1,\"W\",\"\")","v":""},{"$f":"IF(Y63>0,1,0)","v":0},null,{"$f":"IF(AC61=1,\"W\",\"\")","v":""},{"$f":"IF(AB63>0,1,0)","v":0},null,{"$f":"IF(AF61=1,\"W\",\"\")","v":""},{"$f":"IF(AE63>0,1,0)","v":0},null,{"$f":"IF(AI61=1,\"W\",\"\")","v":""},{"$f":"IF(AH63>0,1,0)","v":0},null,{"$f":"IF(AL61=1,\"W\",\"\")","v":""},{"$f":"IF(AK63>0,1,0)","v":0},null,null,null,null,null,null,null,null,null,{"$f":"$C$49","v":"plyr1"},{"$f":"$AN$50","v":0},{"$f":"$AQ$50","v":0},{"$f":"$AO$50","v":-1.1000000000000003E-2},12]
[null,{"$f":"NAMES!C93","v":"Player 5"},{"$f":"Q50","v":-1E-3},{"$f":"RESULTS!$I$35","v":-1E-3},{"$f":"O50","v":-1E-3},{"$f":"Q53","v":-1E-3},{"$f":"RESULTS!$Q$42","v":-1E-3},{"$f":"O53","v":-1E-3},{"$f":"Q56","v":-1E-3},{"$f":"RESULTS!$E$48","v":-1E-3},{"$f":"O56","v":-1E-3},{"$f":"Q59","v":-1E-3},{"$f":"RESULTS!$Q$56","v":-1E-3},{"$f":"O59","v":-1E-3},null,null,null,{"$f":"SCORES!L222","v":-1E-3},{"$f":"RESULTS!$U$44","v":-1E-3},{"$f":"SCORES!L224","v":-1E-3},{"$f":"SCORES!D293","v":-1E-3},{"$f":"RESULTS!$I$48","v":-1E-3},{"$f":"SCORES!D295","v":-1E-3},{"$f":"SCORES!L260","v":-1E-3},{"$f":"RESULTS!$U$55","v":-1E-3},{"$f":"SCORES!L258","v":-1E-3},{"$f":"SCORES!H187","v":-1E-3},{"$f":"RESULTS!$M$38","v":-1E-3},{"$f":"SCORES!H189","v":-1E-3},{"$f":"SCORES!L295","v":-1E-3},{"$f":"RESULTS!$Y$41","v":-1E-3},{"$f":"SCORES!L293","v":-1E-3},{"$f":"SCORES!H237","v":-1E-3},{"$f":"RESULTS!$M$52","v":-1E-3},{"$f":"SCORES!H239","v":-1E-3},{"$f":"SCORES!D175","v":-1E-3},{"$f":"RESULTS!$E$39","v":-1E-3},{"$f":"SCORES!D173","v":-1E-3},null,{"$f":"SUM(C61:AL61)","v":0},{"$f":"SUM(C62,F62,I62,L62,O62,R62,U62,X62,AA62,AD62,AG62,AJ62)","v":-1.1000000000000003E-2},{"$f":"SUM(E62,H62,K62,N62,Q62,T62,W62,Z62,AC62,AF62,AI62,AL62)","v":-1.1000000000000003E-2},{"$f":"SUM(C63:AL63)","v":0},null,{"$f":"VLOOKUP(C61,PLACE2,5,FALSE)","v":8}]
[null,{"$f":"SEED!J11","v":0},null,{"$f":"C62-E62","v":0},null,null,{"$f":"F62-H62","v":0},null,null,{"$f":"I62-K62","v":0},null,null,{"$f":"L62-N62","v":0},null,null,null,null,null,{"$f":"R62-T62","v":0},null,null,{"$f":"U62-W62","v":0},null,null,{"$f":"X62-Z62","v":0},null,null,{"$f":"AA62-AC62","v":0},null,null,{"$f":"AD62-AF62","v":0},null,null,{"$f":"AG62-AI62","v":0},null,null,{"$f":"AJ62-AL62","v":0}]
[null,{"$f":"NAMES!C97","v":"Block 2"},"plyr6",{"$f":"IF(E64=1,\"W\",\"\")","v":""},{"$f":"IF(D66>0,1,0)","v":0},null,{"$f":"IF(H64=1,\"W\",\"\")","v":""},{"$f":"IF(G66>0,1,0)","v":0},null,{"$f":"IF(K64=1,\"W\",\"\")","v":""},{"$f":"IF(J66>0,1,0)","v":0},null,{"$f":"IF(N64=1,\"W\",\"\")","v":""},{"$f":"IF(M66>0,1,0)","v":0},null,{"$f":"IF(Q64=1,\"W\",\"\")","v":""},{"$f":"IF(P66>0,1,0)","v":0},null,null,null,null,{"$f":"IF(W64=1,\"W\",\"\")","v":""},{"$f":"IF(V66>0,1,0)","v":0},null,{"$f":"IF(Z64=1,\"W\",\"\")","v":""},{"$f":"IF(Y66>0,1,0)","v":0},null,{"$f":"IF(AC64=1,\"W\",\"\")","v":""},{"$f":"IF(AB66>0,1,0)","v":0},null,{"$f":"IF(AF64=1,\"W\",\"\")","v":""},{"$f":"IF(AE66>0,1,0)","v":0},null,{"$f":"IF(AI64=1,\"W\",\"\")","v":""},{"$f":"IF(AH66>0,1,0)","v":0},null,{"$f":"IF(AL64=1,\"W\",\"\")","v":""},{"$f":"IF(AK66>0,1,0)","v":0}]
[null,{"$f":"NAMES!C98","v":"Player 6"},{"$f":"T50","v":-1E-3},{"$f":"RESULTS!$I$47","v":-1E-3},{"$f":"R50","v":-1E-3},{"$f":"T53","v":-1E-3},{"$f":"RESULTS!$E$51","v":-1E-3},{"$f":"R53","v":-1E-3},{"$f":"T56","v":-1E-3},{"$f":"RESULTS!$Q$54","v":-1E-3},{"$f":"R56","v":-1E-3},{"$f":"T59","v":-1E-3},{"$f":"RESULTS!$I$37","v":-1E-3},{"$f":"R59","v":-1E-3},{"$f":"T62","v":-1E-3},{"$f":"RESULTS!$U$45","v":-1E-3},{"$f":"R62","v":-1E-3},null,null,null,{"$f":"SCORES!L267","v":-1E-3},{"$f":"RESULTS!$U$57","v":-1E-3},{"$f":"SCORES!L265","v":-1E-3},{"$f":"SCORES!H180","v":-1E-3},{"$f":"RESULTS!$M$36","v":-1E-3},{"$f":"SCORES!H182","v":-1E-3},{"$f":"SCORES!L302","v":-1E-3},{"$f":"RESULTS!$Y$43","v":-1E-3},{"$f":"SCORES!L300","v":-1E-3},{"$f":"SCORES!H229","v":-1E-3},{"$f":"RESULTS!$M$50","v":-1E-3},{"$f":"SCORES!H231","v":-1E-3},{"$f":"SCORES!D182","v":-1E-3},{"$f":"RESULTS!$E$41","v":-1E-3},{"$f":"SCORES!D180","v":-1E-3},{"$f":"SCORES!H279","v":-1E-3},{"$f":"RESULTS!$Q$40","v":-1E-3},{"$f":"SCORES!H281","v":-1E-3},null,{"$f":"SUM(C64:AL64)","v":0},{"$f":"SUM(C65,F65,I65,L65,O65,R65,U65,X65,AA65,AD65,AG65,AJ65)","v":-1.1000000000000003E-2},{"$f":"SUM(E65,H65,K65,N65,Q65,T65,W65,Z65,AC65,AF65,AI65,AL65)","v":-1.1000000000000003E-2},{"$f":"SUM(C66:AL66)","v":0},null,{"$f":"VLOOKUP(C64,PLACE2,5,FALSE)","v":7}]
[null,{"$f":"SEED!J12","v":0},null,{"$f":"C65-E65","v":0},null,null,{"$f":"F65-H65","v":0},null,null,{"$f":"I65-K65","v":0},null,null,{"$f":"L65-N65","v":0},null,null,{"$f":"O65-Q65","v":0},null,null,null,null,null,{"$f":"U65-W65","v":0},null,null,{"$f":"X65-Z65","v":0},null,null,{"$f":"AA65-AC65","v":0},null,null,{"$f":"AD65-AF65","v":0},null,null,{"$f":"AG65-AI65","v":0},null,null,{"$f":"AJ65-AL65","v":0}]
[null,{"$f":"NAMES!C102","v":"Block 2"},"plyr7",{"$f":"IF(E67=1,\"W\",\"\")","v":""},{"$f":"IF(D69>0,1,0)","v":0},null,{"$f":"IF(H67=1,\"W\",\"\")","v":""},{"$f":"IF(G69>0,1,0)","v":0},null,{"$f":"IF(K67=1,\"W\",\"\")","v":""},{"$f":"IF(J69>0,1,0)","v":0},null,{"$f":"IF(N67=1,\"W\",\"\")","v":""},{"$f":"IF(M69>0,1,0)","v":0},null,{"$f":"IF(Q67=1,\"W\",\"\")","v":""},{"$f":"IF(P69>0,1,0)","v":0},null,{"$f":"IF(T67=1,\"W\",\"\")","v":""},{"$f":"IF(S69>0,1,0)","v":0},null,null,null,null,{"$f":"IF(Z67=1,\"W\",\"\")","v":""},{"$f":"IF(Y69>0,1,0)","v":0},null,{"$f":"IF(AC67=1,\"W\",\"\")","v":""},{"$f":"IF(AB69>0,1,0)","v":0},null,{"$f":"IF(AF67=1,\"W\",\"\")","v":""},{"$f":"IF(AE69>0,1,0)","v":0},null,{"$f":"IF(AI67=1,\"W\",\"\")","v":""},{"$f":"IF(AH69>0,1,0)","v":0},null,{"$f":"IF(AL67=1,\"W\",\"\")","v":""},{"$f":"IF(AK69>0,1,0)","v":0}]
[null,{"$f":"NAMES!C103","v":"Player 7"},{"$f":"W50","v":-1E-3},{"$f":"RESULTS!$M$35","v":-1E-3},{"$f":"U50","v":-1E-3},{"$f":"W53","v":-1E-3},{"$f":"RESULTS!$Q$52","v":-1E-3},{"$f":"U53","v":-1E-3},{"$f":"W56","v":-1E-3},{"$f":"RESULTS!$I$39","v":-1E-3},{"$f":"U56","v":-1E-3},{"$f":"W59","v":-1E-3},{"$f":"RESULTS!$U$43","v":-1E-3},{"$f":"U59","v":-1E-3},{"$f":"W62","v":-1E-3},{"$f":"RESULTS!$I$49","v":-1E-3},{"$f":"U62","v":-1E-3},{"$f":"W65","v":-1E-3},{"$f":"RESULTS!$U$56","v":-1E-3},{"$f":"U65","v":-1E-3},null,null,null,{"$f":"SCORES!L309","v":-1E-3},{"$f":"RESULTS!$Y$45","v":-1E-3},{"$f":"SCORES!L307","v":-1E-3},{"$f":"SCORES!H222","v":-1E-3},{"$f":"RESULTS!$M$48","v":-1E-3},{"$f":"SCORES!H224","v":-1E-3},{"$f":"SCORES!D189","v":-1E-3},{"$f":"RESULTS!$E$43","v":-1E-3},{"$f":"SCORES!D187","v":-1E-3},{"$f":"SCORES!H272","v":-1E-3},{"$f":"RESULTS!$Q$38","v":-1E-3},{"$f":"SCORES!H274","v":-1E-3},{"$f":"SCORES!D224","v":-1E-3},{"$f":"RESULTS!$E$53","v":-1E-3},{"$f":"SCORES!D222","v":-1E-3},null,{"$f":"SUM(C67:AL67)","v":0},{"$f":"SUM(C68,F68,I68,L68,O68,R68,U68,X68,AA68,AD68,AG68,AJ68)","v":-1.1000000000000003E-2},{"$f":"SUM(E68,H68,K68,N68,Q68,T68,W68,Z68,AC68,AF68,AI68,AL68)","v":-1.1000000000000003E-2},{"$f":"SUM(C69:AL69)","v":0},null,{"$f":"VLOOKUP(C67,PLACE2,5,FALSE)","v":6}]
[null,{"$f":"SEED!J13","v":0},null,{"$f":"C68-E68","v":0},null,null,{"$f":"F68-H68","v":0},null,null,{"$f":"I68-K68","v":0},null,null,{"$f":"L68-N68","v":0},null,null,{"$f":"O68-Q68","v":0},null,null,{"$f":"R68-T68","v":0},null,null,null,null,null,{"$f":"X68-Z68","v":0},null,null,{"$f":"AA68-AC68","v":0},null,null,{"$f":"AD68-AF68","v":0},null,null,{"$f":"AG68-AI68","v":0},null,null,{"$f":"AJ68-AL68","v":0}]
[null,{"$f":"NAMES!C107","v":"Block 2"},"plyr8",{"$f":"IF(E70=1,\"W\",\"\")","v":""},{"$f":"IF(D72>0,1,0)","v":0},null,{"$f":"IF(H70=1,\"W\",\"\")","v":""},{"$f":"IF(G72>0,1,0)","v":0},null,{"$f":"IF(K70=1,\"W\",\"\")","v":""},{"$f":"IF(J72>0,1,0)","v":0},null,{"$f":"IF(N70=1,\"W\",\"\")","v":""},{"$f":"IF(M72>0,1,0)","v":0},null,{"$f":"IF(Q70=1,\"W\",\"\")","v":""},{"$f":"IF(P72>0,1,0)","v":0},null,{"$f":"IF(T70=1,\"W\",\"\")","v":""},{"$f":"IF(S72>0,1,0)","v":0},null,{"$f":"IF(W70=1,\"W\",\"\")","v":""},{"$f":"IF(V72>0,1,0)","v":0},null,null,null,null,{"$f":"IF(AC70=1,\"W\",\"\")","v":""},{"$f":"IF(AB72>0,1,0)","v":0},null,{"$f":"IF(AF70=1,\"W\",\"\")","v":""},{"$f":"IF(AE72>0,1,0)","v":0},null,{"$f":"IF(AI70=1,\"W\",\"\")","v":""},{"$f":"IF(AH72>0,1,0)","v":0},null,{"$f":"IF(AL70=1,\"W\",\"\")","v":""},{"$f":"IF(AK72>0,1,0)","v":0}]
[null,{"$f":"NAMES!C108","v":"Player 8"},{"$f":"Z50","v":-1E-3},{"$f":"RESULTS!$M$47","v":-1E-3},{"$f":"X50","v":-1E-3},{"$f":"Z53","v":-1E-3},{"$f":"RESULTS!$I$41","v":-1E-3},{"$f":"X53","v":-1E-3},{"$f":"Z56","v":-1E-3},{"$f":"RESULTS!$U$41","v":-1E-3},{"$f":"X56","v":-1E-3},{"$f":"Z59","v":-1E-3},{"$f":"RESULTS!$I$51","v":-1E-3},{"$f":"X59","v":-1E-3},{"$f":"Z62","v":-1E-3},{"$f":"RESULTS!$U$54","v":-1E-3},{"$f":"X62","v":-1E-3},{"$f":"Z65","v":-1E-3},{"$f":"RESULTS!$M$37","v":-1E-3},{"$f":"X65","v":-1E-3},{"$f":"Z68","v":-1E-3},{"$f":"RESULTS!$Y$44","v":-1E-3},{"$f":"X68","v":-1E-3},null,null,null,{"$f":"SCORES!D196","v":-1E-3},{"$f":"RESULTS!$E$45","v":-1E-3},{"$f":"SCORES!D194","v":-1E-3},{"$f":"SCORES!H265","v":-1E-3},{"$f":"RESULTS!$Q$36","v":-1E-3},{"$f":"SCORES!H267","v":-1E-3},{"$f":"SCORES!D231","v":-1E-3},{"$f":"RESULTS!$E$55","v":-1E-3},{"$f":"SCORES!D229","v":-1E-3},{"$f":"SCORES!L159","v":-1E-3},{"$f":"RESULTS!$Q$50","v":-1E-3},{"$f":"SCORES!L161","v":-1E-3},null,{"$f":"SUM(C70:AL70)","v":0},{"$f":"SUM(C71,F71,I71,L71,O71,R71,U71,X71,AA71,AD71,AG71,AJ71)","v":-1.1000000000000003E-2},{"$f":"SUM(E71,H71,K71,N71,Q71,T71,W71,Z71,AC71,AF71,AI71,AL71)","v":-1.1000000000000003E-2},{"$f":"SUM(C72:AL72)","v":0},null,{"$f":"VLOOKUP(C70,PLACE2,5,FALSE)","v":5}]
[null,{"$f":"SEED!J14","v":0},null,{"$f":"C71-E71","v":0},null,null,{"$f":"F71-H71","v":0},null,null,{"$f":"I71-K71","v":0},null,null,{"$f":"L71-N71","v":0},null,null,{"$f":"O71-Q71","v":0},null,null,{"$f":"R71-T71","v":0},null,null,{"$f":"U71-W71","v":0},null,null,null,null,null,{"$f":"AA71-AC71","v":0},null,null,{"$f":"AD71-AF71","v":0},null,null,{"$f":"AG71-AI71","v":0},null,null,{"$f":"AJ71-AL71","v":0}]
[null,{"$f":"NAMES!C112","v":"Block 2"},"plyr9",{"$f":"IF(E73=1,\"W\",\"\")","v":""},{"$f":"IF(D75>0,1,0)","v":0},null,{"$f":"IF(H73=1,\"W\",\"\")","v":""},{"$f":"IF(G75>0,1,0)","v":0},null,{"$f":"IF(K73=1,\"W\",\"\")","v":""},{"$f":"IF(J75>0,1,0)","v":0},null,{"$f":"IF(N73=1,\"W\",\"\")","v":""},{"$f":"IF(M75>0,1,0)","v":0},null,{"$f":"IF(Q73=1,\"W\",\"\")","v":""},{"$f":"IF(P75>0,1,0)","v":0},null,{"$f":"IF(T73=1,\"W\",\"\")","v":""},{"$f":"IF(S75>0,1,0)","v":0},null,{"$f":"IF(W73=1,\"W\",\"\")","v":""},{"$f":"IF(V75>0,1,0)","v":0},null,{"$f":"IF(Z73=1,\"W\",\"\")","v":""},{"$f":"IF(Y75>0,1,0)","v":0},null,null,null,null,{"$f":"IF(AF73=1,\"W\",\"\")","v":""},{"$f":"IF(AE75>0,1,0)","v":0},null,{"$f":"IF(AI73=1,\"W\",\"\")","v":""},{"$f":"IF(AH75>0,1,0)","v":0},null,{"$f":"IF(AL73=1,\"W\",\"\")","v":""},{"$f":"IF(AK75>0,1,0)","v":0}]
[null,{"$f":"NAMES!C113","v":"Player 9"},{"$f":"AC50","v":-1E-3},{"$f":"RESULTS!$Q$35","v":-1E-3},{"$f":"AA50","v":-1E-3},{"$f":"AC53","v":-1E-3},{"$f":"RESULTS!$U$39","v":-1E-3},{"$f":"AA53","v":-1E-3},{"$f":"AC56","v":-1E-3},{"$f":"RESULTS!$I$53","v":-1E-3},{"$f":"AA56","v":-1E-3},{"$f":"AC59","v":-1E-3},{"$f":"RESULTS!$U$52","v":-1E-3},{"$f":"AA59","v":-1E-3},{"$f":"AC62","v":-1E-3},{"$f":"RESULTS!$M$39","v":-1E-3},{"$f":"AA62","v":-1E-3},{"$f":"AC65","v":-1E-3},{"$f":"RESULTS!$Y$42","v":-1E-3},{"$f":"AA65","v":-1E-3},{"$f":"AC68","v":-1E-3},{"$f":"RESULTS!$M$49","v":-1E-3},{"$f":"AA68","v":-1E-3},{"$f":"AC71","v":-1E-3},{"$f":"RESULTS!$E$44","v":-1E-3},{"$f":"AA71","v":-1E-3},null,null,null,{"$f":"SCORES!D239","v":-1E-3},{"$f":"RESULTS!$E$57","v":-1E-3},{"$f":"SCORES!D237","v":-1E-3},{"$f":"SCORES!H307","v":-1E-3},{"$f":"RESULTS!$Q$48","v":-1E-3},{"$f":"SCORES!H309","v":-1E-3},{"$f":"SCORES!D274","v":-1E-3},{"$f":"RESULTS!$I$43","v":-1E-3},{"$f":"SCORES!D272","v":-1E-3},null,{"$f":"SUM(C73:AL73)","v":0},{"$f":"SUM(C74,F74,I74,L74,O74,R74,U74,X74,AA74,AD74,AG74,AJ74)","v":-1.1000000000000003E-2},{"$f":"SUM(E74,H74,K74,N74,Q74,T74,W74,Z74,AC74,AF74,AI74,AL74)","v":-1.1000000000000003E-2},{"$f":"SUM(C75:AL75)","v":0},null,{"$f":"VLOOKUP(C73,PLACE2,5,FALSE)","v":4}]
[null,{"$f":"SEED!J15","v":0},null,{"$f":"C74-E74","v":0},null,null,{"$f":"F74-H74","v":0},null,null,{"$f":"I74-K74","v":0},null,null,{"$f":"L74-N74","v":0},null,null,{"$f":"O74-Q74","v":0},null,null,{"$f":"R74-T74","v":0},null,null,{"$f":"U74-W74","v":0},null,null,{"$f":"X74-Z74","v":0},null,null,null,null,null,{"$f":"AD74-AF74","v":0},null,null,{"$f":"AG74-AI74","v":0},null,null,{"$f":"AJ74-AL74","v":0}]
[null,{"$f":"NAMES!C117","v":"Block 2"},"plyr10",{"$f":"IF(E76=1,\"W\",\"\")","v":""},{"$f":"IF(D78>0,1,0)","v":0},null,{"$f":"IF(H76=1,\"W\",\"\")","v":""},{"$f":"IF(G78>0,1,0)","v":0},null,{"$f":"IF(K76=1,\"W\",\"\")","v":""},{"$f":"IF(J78>0,1,0)","v":0},null,{"$f":"IF(N76=1,\"W\",\"\")","v":""},{"$f":"IF(M78>0,1,0)","v":0},null,{"$f":"IF(Q76=1,\"W\",\"\")","v":""},{"$f":"IF(P78>0,1,0)","v":0},null,{"$f":"IF(T76=1,\"W\",\"\")","v":""},{"$f":"IF(S78>0,1,0)","v":0},null,{"$f":"IF(W76=1,\"W\",\"\")","v":""},{"$f":"IF(V78>0,1,0)","v":0},null,{"$f":"IF(Z76=1,\"W\",\"\")","v":""},{"$f":"IF(Y78>0,1,0)","v":0},null,{"$f":"IF(AC76=1,\"W\",\"\")","v":""},{"$f":"IF(AB78>0,1,0)","v":0},null,null,null,null,{"$f":"IF(AI76=1,\"W\",\"\")","v":""},{"$f":"IF(AH78>0,1,0)","v":0},null,{"$f":"IF(AL76=1,\"W\",\"\")","v":""},{"$f":"IF(AK78>0,1,0)","v":0}]
[null,{"$f":"NAMES!C118","v":"Player 10"},{"$f":"AF50","v":-1E-3},{"$f":"RESULTS!$Q$47","v":-1E-3},{"$f":"AD50","v":-1E-3},{"$f":"AF53","v":-1E-3},{"$f":"RESULTS!$I$55","v":-1E-3},{"$f":"AD53","v":-1E-3},{"$f":"AF56","v":-1E-3},{"$f":"RESULTS!$U$50","v":-1E-3},{"$f":"AD56","v":-1E-3},{"$f":"AF59","v":-1E-3},{"$f":"RESULTS!$M$41","v":-1E-3},{"$f":"AD59","v":-1E-3},{"$f":"AF62","v":-1E-3},{"$f":"RESULTS!$Y$40","v":-1E-3},{"$f":"AD62","v":-1E-3},{"$f":"AF65","v":-1E-3},{"$f":"RESULTS!$M$51","v":-1E-3},{"$f":"AD65","v":-1E-3},{"$f":"AF68","v":-1E-3},{"$f":"RESULTS!$E$42","v":-1E-3},{"$f":"AD68","v":-1E-3},{"$f":"AF71","v":-1E-3},{"$f":"RESULTS!$Q$37","v":-1E-3},{"$f":"AD71","v":-1E-3},{"$f":"AF74","v":-1E-3},{"$f":"RESULTS!$E$56","v":-1E-3},{"$f":"AD74","v":-1E-3},null,null,null,{"$f":"SCORES!D281","v":-1E-3},{"$f":"RESULTS!$I$45","v":-1E-3},{"$f":"SCORES!D279","v":-1E-3},{"$f":"SCORES!L194","v":-1E-3},{"$f":"RESULTS!$U$36","v":-1E-3},{"$f":"SCORES!L196","v":-1E-3},null,{"$f":"SUM(C76:AL76)","v":0},{"$f":"SUM(C77,F77,I77,L77,O77,R77,U77,X77,AA77,AD77,AG77,AJ77)","v":-1.1000000000000003E-2},{"$f":"SUM(E77,H77,K77,N77,Q77,T77,W77,Z77,AC77,AF77,AI77,AL77)","v":-1.1000000000000003E-2},{"$f":"SUM(C78:AL78)","v":0},null,{"$f":"VLOOKUP(C76,PLACE2,5,FALSE)","v":3}]
[null,{"$f":"SEED!J16","v":0},null,{"$f":"C77-E77","v":0},null,null,{"$f":"F77-H77","v":0},null,null,{"$f":"I77-K77","v":0},null,null,{"$f":"L77-N77","v":0},null,null,{"$f":"O77-Q77","v":0},null,null,{"$f":"R77-T77","v":0},null,null,{"$f":"U77-W77","v":0},null,null,{"$f":"X77-Z77","v":0},null,null,{"$f":"AA77-AC77","v":0},null,null,null,null,null,{"$f":"AG77-AI77","v":0},null,null,{"$f":"AJ77-AL77","v":0}]
[null,{"$f":"NAMES!C122","v":"Block 2"},"plyr11",{"$f":"IF(E79=1,\"W\",\"\")","v":""},{"$f":"IF(D81>0,1,0)","v":0},null,{"$f":"IF(H79=1,\"W\",\"\")","v":""},{"$f":"IF(G81>0,1,0)","v":0},null,{"$f":"IF(K79=1,\"W\",\"\")","v":""},{"$f":"IF(J81>0,1,0)","v":0},null,{"$f":"IF(N79=1,\"W\",\"\")","v":""},{"$f":"IF(M81>0,1,0)","v":0},null,{"$f":"IF(Q79=1,\"W\",\"\")","v":""},{"$f":"IF(P81>0,1,0)","v":0},null,{"$f":"IF(T79=1,\"W\",\"\")","v":""},{"$f":"IF(S81>0,1,0)","v":0},null,{"$f":"IF(W79=1,\"W\",\"\")","v":""},{"$f":"IF(V81>0,1,0)","v":0},null,{"$f":"IF(Z79=1,\"W\",\"\")","v":""},{"$f":"IF(Y81>0,1,0)","v":0},null,{"$f":"IF(AC79=1,\"W\",\"\")","v":""},{"$f":"IF(AB81>0,1,0)","v":0},null,{"$f":"IF(AF79=1,\"W\",\"\")","v":""},{"$f":"IF(AE81>0,1,0)","v":0},null,null,null,null,{"$f":"IF(AL79=1,\"W\",\"\")","v":""},{"$f":"IF(AK81>0,1,0)","v":0}]
[null,{"$f":"NAMES!C123","v":"Player 11"},{"$f":"AI50","v":-1E-3},{"$f":"RESULTS!$U$35","v":-1E-3},{"$f":"AG50","v":-1E-3},{"$f":"AI53","v":-1E-3},{"$f":"RESULTS!$U$48","v":-1E-3},{"$f":"AG53","v":-1E-3},{"$f":"AI56","v":-1E-3},{"$f":"RESULTS!$M$43","v":-1E-3},{"$f":"AG56","v":-1E-3},{"$f":"AI59","v":-1E-3},{"$f":"RESULTS!$Y$38","v":-1E-3},{"$f":"AG59","v":-1E-3},{"$f":"AI62","v":-1E-3},{"$f":"RESULTS!$M$53","v":-1E-3},{"$f":"AG62","v":-1E-3},{"$f":"AI65","v":-1E-3},{"$f":"RESULTS!$E$40","v":-1E-3},{"$f":"AG65","v":-1E-3},{"$f":"AI68","v":-1E-3},{"$f":"RESULTS!$Q$39","v":-1E-3},{"$f":"AG68","v":-1E-3},{"$f":"AI71","v":-1E-3},{"$f":"RESULTS!$E$54","v":-1E-3},{"$f":"AG71","v":-1E-3},{"$f":"AI74","v":-1E-3},{"$f":"RESULTS!$Q$49","v":-1E-3},{"$f":"AG74","v":-1E-3},{"$f":"AI77","v":-1E-3},{"$f":"RESULTS!$I$44","v":-1E-3},{"$f":"AG77","v":-1E-3},null,null,null,{"$f":"SCORES!H168","v":-1E-3},{"$f":"RESULTS!$I$57","v":-1E-3},{"$f":"SCORES!H166","v":-1E-3},null,{"$f":"SUM(C79:AL79)","v":0},{"$f":"SUM(C80,F80,I80,L80,O80,R80,U80,X80,AA80,AD80,AG80,AJ80)","v":-1.1000000000000003E-2},{"$f":"SUM(E80,H80,K80,N80,Q80,T80,W80,Z80,AC80,AF80,AI80,AL80)","v":-1.1000000000000003E-2},{"$f":"SUM(C81:AL81)","v":0},null,{"$f":"VLOOKUP(C79,PLACE2,5,FALSE)","v":2}]
[null,{"$f":"SEED!J17","v":0},null,{"$f":"C80-E80","v":0},null,null,{"$f":"F80-H80","v":0},null,null,{"$f":"I80-K80","v":0},null,null,{"$f":"L80-N80","v":0},null,null,{"$f":"O80-Q80","v":0},null,null,{"$f":"R80-T80","v":0},null,null,{"$f":"U80-W80","v":0},null,null,{"$f":"X80-Z80","v":0},null,null,{"$f":"AA80-AC80","v":0},null,null,{"$f":"AD80-AF80","v":0},null,null,null,null,null,{"$f":"AJ80-AL80","v":0}]
[null,{"$f":"NAMES!C127","v":"Block 2"},"plyr12",{"$f":"IF(E82=1,\"W\",\"\")","v":""},{"$f":"IF(D84>0,1,0)","v":0},null,{"$f":"IF(H82=1,\"W\",\"\")","v":""},{"$f":"IF(G84>0,1,0)","v":0},null,{"$f":"IF(K82=1,\"W\",\"\")","v":""},{"$f":"IF(J84>0,1,0)","v":0},null,{"$f":"IF(N82=1,\"W\",\"\")","v":""},{"$f":"IF(M84>0,1,0)","v":0},null,{"$f":"IF(Q82=1,\"W\",\"\")","v":""},{"$f":"IF(P84>0,1,0)","v":0},null,{"$f":"IF(T82=1,\"W\",\"\")","v":""},{"$f":"IF(S84>0,1,0)","v":0},null,{"$f":"IF(W82=1,\"W\",\"\")","v":""},{"$f":"IF(V84>0,1,0)","v":0},null,{"$f":"IF(Z82=1,\"W\",\"\")","v":""},{"$f":"IF(Y84>0,1,0)","v":0},null,{"$f":"IF(AC82=1,\"W\",\"\")","v":""},{"$f":"IF(AB84>0,1,0)","v":0},null,{"$f":"IF(AF82=1,\"W\",\"\")","v":""},{"$f":"IF(AE84>0,1,0)","v":0},null,{"$f":"IF(AI82=1,\"W\",\"\")","v":""},{"$f":"IF(AH84>0,1,0)","v":0}]
[null,{"$f":"NAMES!C128","v":"Player 12"},{"$f":"AL50","v":-1E-3},{"$f":"RESULTS!$U$47","v":-1E-3},{"$f":"AJ50","v":-1E-3},{"$f":"AL53","v":-1E-3},{"$f":"RESULTS!$M$45","v":-1E-3},{"$f":"AJ53","v":-1E-3},{"$f":"AL56","v":-1E-3},{"$f":"RESULTS!$Y$36","v":-1E-3},{"$f":"AJ56","v":-1E-3},{"$f":"AL59","v":-1E-3},{"$f":"RESULTS!$M$55","v":-1E-3},{"$f":"AJ59","v":-1E-3},{"$f":"AL62","v":-1E-3},{"$f":"RESULTS!$E$38","v":-1E-3},{"$f":"AJ62","v":-1E-3},{"$f":"AL65","v":-1E-3},{"$f":"RESULTS!$Q$41","v":-1E-3},{"$f":"AJ65","v":-1E-3},{"$f":"AL68","v":-1E-3},{"$f":"RESULTS!$E$52","v":-1E-3},{"$f":"AJ68","v":-1E-3},{"$f":"AL71","v":-1E-3},{"$f":"RESULTS!$Q$51","v":-1E-3},{"$f":"AJ71","v":-1E-3},{"$f":"AL74","v":-1E-3},{"$f":"RESULTS!$I$42","v":-1E-3},{"$f":"AJ74","v":-1E-3},{"$f":"AL77","v":-1E-3},{"$f":"RESULTS!$U$37","v":-1E-3},{"$f":"AJ77","v":-1E-3},{"$f":"AL80","v":-1E-3},{"$f":"RESULTS!$I$56","v":-1E-3},{"$f":"AJ80","v":-1E-3},null,null,null,null,{"$f":"SUM(C82:AL82)","v":0},{"$f":"SUM(C83,F83,I83,L83,O83,R83,U83,X83,AA83,AD83,AG83,AJ83)","v":-1.1000000000000003E-2},{"$f":"SUM(E83,H83,K83,N83,Q83,T83,W83,Z83,AC83,AF83,AI83,AL83)","v":-1.1000000000000003E-2},{"$f":"SUM(C84:AL84)","v":0},null,{"$f":"VLOOKUP(C82,PLACE2,5,FALSE)","v":1}]
[null,{"$f":"SEED!J18","v":0},null,{"$f":"C83-E83","v":0},null,null,{"$f":"F83-H83","v":0},null,null,{"$f":"I83-K83","v":0},null,null,{"$f":"L83-N83","v":0},null,null,{"$f":"O83-Q83","v":0},null,null,{"$f":"R83-T83","v":0},null,null,{"$f":"U83-W83","v":0},null,null,{"$f":"X83-Z83","v":0},null,null,{"$f":"AA83-AC83","v":0},null,null,{"$f":"AD83-AF83","v":0},null,null,{"$f":"AG83-AI83","v":0}]

{"sheet":"SCORECARD","index":9,"n_rows":513,"n_cols":10,"rows_kept":513,"cut":false,"hidden":true,"merged":[]}
[]
[null,null,null,null,null,"TOURNAMENT SCORE CARD"]
[null,null,null,null,null,{"$f":"BLOCK!$L$2","v":"Tournament"}]
[null,null,null,null,null,{"$f":"BLOCK!$L$4","v":"Group"}]
[null,null,null,null,null,{"$f":"BLOCK!$B$6","v":"BLOCK 1"}]
[null,null,"PLAYER:",{"$f":"BLOCK!C6","v":" Block 1 Player 1"},null,null,null,"HANDICAP",{"$f":"BLOCK!B9","v":0}]
[null,null,null,null,null,"OPP.","PLAYER","OPP.","NET"]
[null,null,null,"OPPONENT",null,"HCP","SCORE","SCORE","PTS"]
[null,null,{"$f":"BLOCK!F6","v":" Block 1 Player 2"},null,null,{"$f":"BLOCK!B12","v":0},{"$f":"BLOCK!F8","v":-1E-3},{"$f":"BLOCK!H8","v":-1E-3},{"$f":"G9-H9","v":0},"BLOCK"]
[null,null,{"$f":"BLOCK!I6","v":" Block 1 Player 3"},null,null,{"$f":"BLOCK!B15","v":0},{"$f":"BLOCK!I8","v":-1E-3},{"$f":"BLOCK!K8","v":-1E-3},0,"NET"]
[null,null,{"$f":"BLOCK!L6","v":" Block 1 Player 4"},null,null,{"$f":"BLOCK!B18","v":0},{"$f":"BLOCK!L8","v":-1E-3},{"$f":"BLOCK!N8","v":-1E-3},0,{"$f":"SUM(I9:I19)","v":0}]
[null,null,{"$f":"BLOCK!O6","v":" Block 1 Player 5"},null,null,{"$f":"BLOCK!B21","v":0},{"$f":"BLOCK!O8","v":-1E-3},{"$f":"BLOCK!Q8","v":-1E-3},0]
[null,null,{"$f":"BLOCK!R6","v":" Block 1 Player 6"},null,null,{"$f":"BLOCK!B24","v":0},{"$f":"BLOCK!R8","v":-1E-3},{"$f":"BLOCK!T8","v":-1E-3},0]
[null,null,{"$f":"BLOCK!U6","v":" Block 1 Player 7"},null,null,{"$f":"BLOCK!B27","v":0},{"$f":"BLOCK!U8","v":-1E-3},{"$f":"BLOCK!W8","v":-1E-3},0]
[null,null,{"$f":"BLOCK!X6","v":" Block 1 Player 8"},null,null,{"$f":"BLOCK!B30","v":0},{"$f":"BLOCK!X8","v":-1E-3},{"$f":"BLOCK!Z8","v":-1E-3},0]
[null,null,{"$f":"BLOCK!AA6","v":" Block 1 Player 9"},null,null,{"$f":"BLOCK!B33","v":0},{"$f":"BLOCK!AA8","v":-1E-3},{"$f":"BLOCK!AC8","v":-1E-3},0]
[null,null,{"$f":"BLOCK!AD6","v":" Block 1 Player 10"},null,null,{"$f":"BLOCK!B36","v":0},{"$f":"BLOCK!AD8","v":-1E-3},{"$f":"BLOCK!AF8","v":-1E-3},0]
[null,null,{"$f":"BLOCK!AG6","v":" Block 1 Player 11"},null,null,{"$f":"BLOCK!B39","v":0},{"$f":"BLOCK!AG8","v":-1E-3},{"$f":"BLOCK!AI8","v":-1E-3},{"$f":"G18-H18","v":0}]
[null,null,{"$f":"BLOCK!AJ6","v":" Block 1 Player 12"},null,null,{"$f":"BLOCK!B42","v":0},{"$f":"BLOCK!AJ8","v":-1E-3},{"$f":"BLOCK!AL8","v":-1E-3},0]
[null,null,null,null,null," ",null,null,{"$f":"G20-H20","v":0}]
[null,null,null,null,null," ",null,null,{"$f":"G21-H21","v":0}]
[null,null,null,null,null," ",null,null,{"$f":"G22-H22","v":0}]
[null,null,null,null,null," ",null,null,{"$f":"G23-H23","v":0}]
[null,null,null,null,null," ",null,null,{"$f":"G24-H24","v":0}]
[]
[null,null,"PLAYER:",{"$f":"C9","v":" Block 1 Player 2"},null,null,null,"HANDICAP",{"$f":"F9","v":0}]
[null,null,null,null,null,"OPP.","PLAYER","OPP.","NET"]
[null,null,null,"OPPONENT",null,"HCP","SCORE","SCORE","PTS"]
[null,null,{"$f":"D6","v":" Block 1 Player 1"},null,null,{"$f":"I6","v":0},{"$f":"BLOCK!C11","v":-1E-3},{"$f":"BLOCK!E11","v":-1E-3},{"$f":"G29-H29","v":0},"BLOCK"]
[null,null,{"$f":"C10","v":" Block 1 Player 3"},null,null,{"$f":"F10","v":0},{"$f":"BLOCK!I11","v":-1E-3},{"$f":"BLOCK!K11","v":-1E-3},0,"NET"]
[null,null," Block 1 Player 4",null,null,0,{"$f":"BLOCK!L11","v":-1E-3},{"$f":"BLOCK!N11","v":-1E-3},0,{"$f":"SUM(I29:I39)","v":0}]
[null,null," Block 1 Player 5",null,null,0,{"$f":"BLOCK!O11","v":-1E-3},{"$f":"BLOCK!Q11","v":-1E-3},0]
[null,null," Block 1 Player 6",null,null,0,{"$f":"BLOCK!R11","v":-1E-3},{"$f":"BLOCK!T11","v":-1E-3},0]
[null,null," Block 1 Player 7",null,null,0,{"$f":"BLOCK!U11","v":-1E-3},{"$f":"BLOCK!W11","v":-1E-3},0]
[null,null," Block 1 Player 8",null,null,0,{"$f":"BLOCK!X11","v":-1E-3},{"$f":"BLOCK!Z11","v":-1E-3},0]
[null,null," Block 1 Player 9",null,null,0,{"$f":"BLOCK!AA11","v":-1E-3},{"$f":"BLOCK!AC11","v":-1E-3},0]
[null,null,{"$f":"C17","v":" Block 1 Player 10"},null,null,0,{"$f":"BLOCK!AD11","v":-1E-3},{"$f":"BLOCK!AF11","v":-1E-3},0]
[null,null,{"$f":"C18","v":" Block 1 Player 11"},null,null,0,{"$f":"BLOCK!AG11","v":-1E-3},{"$f":"BLOCK!AI11","v":-1E-3},0]
[null,null,{"$f":"C19","v":" Block 1 Player 12"},null,null,0,{"$f":"BLOCK!AJ11","v":-1E-3},{"$f":"BLOCK!AL11","v":-1E-3},0]
[null,null,null,null,null," ",null,null,0]
[null,null,null,null,null," ",null,null,0]
[null,null,null,null,null," ",null,null,0]
[null,null,null,null,null," ",null,null,0]
[null,null,null,null,null," ",null,null,{"$f":"G44-H44","v":0}]
[null,null,null,null,null,"TOURNAMENT SCORE CARD"]
[null,null,null,null,null,{"$f":"BLOCK!$L$2","v":"Tournament"}]
[null,null,null,null,null,{"$f":"BLOCK!$L$4","v":"Group"}]
[null,null,null,null,null,{"$f":"BLOCK!$B$6","v":"BLOCK 1"}]
[null,null,"PLAYER:",{"$f":"C10","v":" Block 1 Player 3"},null,null,null,"HANDICAP",{"$f":"F10","v":0}]
[null,null,null,null,null,"OPP.","PLAYER","OPP.","NET"]
[null,null,null,"OPPONENT",null,"HCP","SCORE","SCORE","PTS"]
[null,null,{"$f":"D6","v":" Block 1 Player 1"},null,null,{"$f":"I6","v":0},{"$f":"BLOCK!C14","v":-1E-3},{"$f":"BLOCK!E14","v":-1E-3},{"$f":"G52-H52","v":0},"BLOCK"]
[null,null,{"$f":"C9","v":" Block 1 Player 2"},null,null,{"$f":"F9","v":0},{"$f":"BLOCK!F14","v":-1E-3},{"$f":"BLOCK!H14","v":-1E-3},0,"NET"]
[null,null,{"$f":"C11","v":" Block 1 Player 4"},null,null,{"$f":"F11","v":0},{"$f":"BLOCK!L14","v":-1E-3},{"$f":"BLOCK!N14","v":-1E-3},0,{"$f":"SUM(I52:I62)","v":0}]
[null,null," Block 1 Player 5",null,null,0,{"$f":"BLOCK!O14","v":-1E-3},{"$f":"BLOCK!Q14","v":-1E-3},0]
[null,null," Block 1 Player 6",null,null,0,{"$f":"BLOCK!R14","v":-1E-3},{"$f":"BLOCK!T14","v":-1E-3},0]
[null,null," Block 1 Player 7",null,null,0,{"$f":"BLOCK!U14","v":-1E-3},{"$f":"BLOCK!W14","v":-1E-3},0]
[null,null," Block 1 Player 8",null,null,0,{"$f":"BLOCK!X14","v":-1E-3},{"$f":"BLOCK!Z14","v":-1E-3},0]
[null,null," Block 1 Player 9",null,null,0,{"$f":"BLOCK!AA14","v":-1E-3},{"$f":"BLOCK!AC14","v":-1E-3},0]
[null,null," Block 1 Player 10",null,null,0,{"$f":"BLOCK!AD14","v":-1E-3},{"$f":"BLOCK!AF14","v":-1E-3},0]
[null,null,{"$f":"C18","v":" Block 1 Player 11"},null,null,0,{"$f":"BLOCK!AG14","v":-1E-3},{"$f":"BLOCK!AI14","v":-1E-3},0]
[null,null,{"$f":"C19","v":" Block 1 Player 12"},null,null,0,{"$f":"BLOCK!AJ14","v":-1E-3},{"$f":"BLOCK!AL14","v":-1E-3},0]
[null,null,null,null,null," ",null,null,0]
[null,null,null,null,null," ",null,null,0]
[null,null,null,null,null," ",null,null,0]
[null,null,null,null,null," ",null,null,0]
[null,null,null,null,null," ",null,null,{"$f":"G67-H67","v":0}]
[null,null,null,null,null," "]
[null,null,"PLAYER:",{"$f":"C11","v":" Block 1 Player 4"},null,null,null,"HANDICAP",{"$f":"F11","v":0}]
[null,null,null,null,null,"OPP.","PLAYER","OPP.","NET"]
[null,null,null,"OPPONENT",null,"HCP","SCORE","SCORE","PTS"]
[null,null,{"$f":"D6","v":" Block 1 Player 1"},null,null,{"$f":"I6","v":0},{"$f":"BLOCK!C17","v":-1E-3},{"$f":"BLOCK!E17","v":-1E-3},{"$f":"G72-H72","v":0},"BLOCK"]
[null,null,{"$f":"C53","v":" Block 1 Player 2"},null,null,{"$f":"F9","v":0},{"$f":"BLOCK!F17","v":-1E-3},{"$f":"BLOCK!H17","v":-1E-3},0,"NET"]
[null,null,{"$f":"C10","v":" Block 1 Player 3"},null,null,{"$f":"F10","v":0},{"$f":"BLOCK!I17","v":-1E-3},{"$f":"BLOCK!K17","v":-1E-3},0,{"$f":"SUM(I72:I82)","v":0}]
[null,null,{"$f":"C12","v":" Block 1 Player 5"},null,null,{"$f":"F12","v":0},{"$f":"BLOCK!O17","v":-1E-3},{"$f":"BLOCK!Q17","v":-1E-3},0]
[null,null," Block 1 Player 6",null,null,0,{"$f":"BLOCK!R17","v":-1E-3},{"$f":"BLOCK!T17","v":-1E-3},0]
[null,null," Block 1 Player 7",null,null,0,{"$f":"BLOCK!U17","v":-1E-3},{"$f":"BLOCK!W17","v":-1E-3},0]
[null,null," Block 1 Player 8",null,null,0,{"$f":"BLOCK!X17","v":-1E-3},{"$f":"BLOCK!Z17","v":-1E-3},0]
[null,null," Block 1 Player 9",null,null,0,{"$f":"BLOCK!AA17","v":-1E-3},{"$f":"BLOCK!AC17","v":-1E-3},0]
[null,null," Block 1 Player 10",null,null,0,{"$f":"BLOCK!AD17","v":-1E-3},{"$f":"BLOCK!AF17","v":-1E-3},0]
[null,null,{"$f":"C18","v":" Block 1 Player 11"},null,null,0,{"$f":"BLOCK!AG17","v":-1E-3},{"$f":"BLOCK!AI17","v":-1E-3},0]
[null,null,{"$f":"C19","v":" Block 1 Player 12"},null,null,0,{"$f":"BLOCK!AJ17","v":-1E-3},{"$f":"BLOCK!AL17","v":-1E-3},0]
[null,null,null,null,null," ",null,null,0]
[null,null,null,null,null," ",null,null,0]
[null,null,null,null,null," ",null,null,0]
[null,null,null,null,null," ",null,null,0]
[null,null,null,null,null," ",null,null,{"$f":"G87-H87","v":0}]
[null,null,null,null,null,"TOURNAMENT SCORE CARD"]
[null,null,null,null,null,{"$f":"BLOCK!$L$2","v":"Tournament"}]
[null,null,null,null,null,{"$f":"BLOCK!$L$4","v":"Group"}]
[null,null,null,null,null,{"$f":"BLOCK!$B$6","v":"BLOCK 1"}]
[null,null,"PLAYER:",{"$f":"C12","v":" Block 1 Player 5"},null,null,null,"HANDICAP",{"$f":"F12","v":0}]
[null,null,null,null,null,"OPP.","PLAYER","OPP.","NET"]
[null,null,null,"OPPONENT",null,"HCP","SCORE","SCORE","PTS"]
[null,null,{"$f":"D6","v":" Block 1 Player 1"},null,null,{"$f":"I6","v":0},{"$f":"BLOCK!C20","v":-1E-3},{"$f":"BLOCK!E20","v":-1E-3},{"$f":"G95-H95","v":0},"BLOCK"]
[null,null,{"$f":"C73","v":" Block 1 Player 2"},null,null,{"$f":"F9","v":0},{"$f":"BLOCK!F20","v":-1E-3},{"$f":"BLOCK!H20","v":-1E-3},0,"NET"]
[null,null,{"$f":"C10","v":" Block 1 Player 3"},null,null,{"$f":"F10","v":0},{"$f":"BLOCK!I20","v":-1E-3},{"$f":"BLOCK!K20","v":-1E-3},0,{"$f":"SUM(I95:I105)","v":0}]
[null,null,{"$f":"C11","v":" Block 1 Player 4"},null,null,{"$f":"F11","v":0},{"$f":"BLOCK!L20","v":-1E-3},{"$f":"BLOCK!N20","v":-1E-3},0]
[null,null,{"$f":"C13","v":" Block 1 Player 6"},null,null,{"$f":"F13","v":0},{"$f":"BLOCK!R20","v":-1E-3},{"$f":"BLOCK!T20","v":-1E-3},0]
[null,null," Block 1 Player 7",null,null,0,{"$f":"BLOCK!U20","v":-1E-3},{"$f":"BLOCK!W20","v":-1E-3},0]
[null,null," Block 1 Player 8",null,null,0,{"$f":"BLOCK!X20","v":-1E-3},{"$f":"BLOCK!Z20","v":-1E-3},0]
[null,null," Block 1 Player 9",null,null,0,{"$f":"BLOCK!AA20","v":-1E-3},{"$f":"BLOCK!AC20","v":-1E-3},0]
[null,null," Block 1 Player 10",null,null,0,{"$f":"BLOCK!AD20","v":-1E-3},{"$f":"BLOCK!AF20","v":-1E-3},0]
[null,null," Block 1 Player 11",null,null,0,{"$f":"BLOCK!AG20","v":-1E-3},{"$f":"BLOCK!AI20","v":-1E-3},0]
[null,null," Block 1 Player 12",null,null,0,{"$f":"BLOCK!AJ20","v":-1E-3},{"$f":"BLOCK!AL20","v":-1E-3},0]
[null,null,null,null,null," ",null,null,0]
[null,null,null,null,null," ",null,null,0]
[null,null,null,null,null," ",null,null,0]
[null,null,null,null,null," ",null,null,0]
[null,null,null,null,null," ",null,null,{"$f":"G110-H110","v":0}]
[]
[null,null,"PLAYER:",{"$f":"C13","v":" Block 1 Player 6"},null,null,null,"HANDICAP",{"$f":"F13","v":0}]
[null,null,null,null,null,"OPP.","PLAYER","OPP.","NET"]
[null,null,null,"OPPONENT",null,"HCP","SCORE","SCORE","PTS"]
[null,null,{"$f":"D6","v":" Block 1 Player 1"},null,null,{"$f":"I6","v":0},{"$f":"BLOCK!C23","v":-1E-3},{"$f":"BLOCK!E23","v":-1E-3},{"$f":"G115-H115","v":0},"BLOCK"]
[null,null,{"$f":"C96","v":" Block 1 Player 2"},null,null,{"$f":"F9","v":0},{"$f":"BLOCK!F23","v":-1E-3},{"$f":"BLOCK!H23","v":-1E-3},0,"NET"]
[null,null,{"$f":"C10","v":" Block 1 Player 3"},null,null,{"$f":"F10","v":0},{"$f":"BLOCK!I23","v":-1E-3},{"$f":"BLOCK!K23","v":-1E-3},0,{"$f":"SUM(I115:I125)","v":0}]
[null,null,{"$f":"C11","v":" Block 1 Player 4"},null,null,{"$f":"F11","v":0},{"$f":"BLOCK!L23","v":-1E-3},{"$f":"BLOCK!N23","v":-1E-3},0]
[null,null,{"$f":"C12","v":" Block 1 Player 5"},null,null,{"$f":"F12","v":0},{"$f":"BLOCK!O23","v":-1E-3},{"$f":"BLOCK!Q23","v":-1E-3},0]
[null,null,{"$f":"C14","v":" Block 1 Player 7"},null,null,{"$f":"F14","v":0},{"$f":"BLOCK!U23","v":-1E-3},{"$f":"BLOCK!W23","v":-1E-3},0]
[null,null," Block 1 Player 8",null,null,0,{"$f":"BLOCK!X23","v":-1E-3},{"$f":"BLOCK!Z23","v":-1E-3},0]
[null,null," Block 1 Player 9",null,null,0,{"$f":"BLOCK!AA23","v":-1E-3},{"$f":"BLOCK!AC23","v":-1E-3},0]
[null,null," Block 1 Player 10",null,null,0,{"$f":"BLOCK!AD23","v":-1E-3},{"$f":"BLOCK!AF23","v":-1E-3},0]
[null,null," Block 1 Player 11",null,null,0,{"$f":"BLOCK!AG23","v":-1E-3},{"$f":"BLOCK!AI23","v":-1E-3},0]
[null,null," Block 1 Player 12",null,null,0,{"$f":"BLOCK!AJ23","v":-1E-3},{"$f":"BLOCK!AL23","v":-1E-3},0]
[null,null,null,null,null," ",null,null,0]
[null,null,null,null,null," ",null,null,0]
[null,null,null,null,null," ",null,null,0]
[null,null,null,null,null," ",null,null,0]
[null,null,null,null,null," ",null,null,{"$f":"G130-H130","v":0}]
[null,null,null,null,null,"TOURNAMENT SCORE CARD"]
[null,null,null,null,null,{"$f":"BLOCK!$L$2","v":"Tournament"}]
[null,null,null,null,null,{"$f":"BLOCK!$L$4","v":"Group"}]
[null,null,null,null,null,{"$f":"BLOCK!$B$6","v":"BLOCK 1"}]
[null,null,"PLAYER:",{"$f":"C34","v":" Block 1 Player 7"},null,null,null,"HANDICAP",{"$f":"F14","v":0}]
[null,null,null,null,null,"OPP.","PLAYER","OPP.","NET"]
[null,null,null,"OPPONENT",null,"HCP","SCORE","SCORE","PTS"]
[null,null,{"$f":"D6","v":" Block 1 Player 1"},null,null,{"$f":"I6","v":0},{"$f":"BLOCK!C26","v":-1E-3},{"$f":"BLOCK!E26","v":-1E-3},{"$f":"G138-H138","v":0},"BLOCK"]
[null,null,{"$f":"C116","v":" Block 1 Player 2"},null,null,{"$f":"F9","v":0},{"$f":"BLOCK!F26","v":-1E-3},{"$f":"BLOCK!H26","v":-1E-3},0,"NET"]
[null,null,{"$f":"C10","v":" Block 1 Player 3"},null,null,{"$f":"F10","v":0},{"$f":"BLOCK!I26","v":-1E-3},{"$f":"BLOCK!K26","v":-1E-3},0,{"$f":"SUM(I138:I148)","v":0}]
[null,null,{"$f":"C11","v":" Block 1 Player 4"},null,null,{"$f":"F11","v":0},{"$f":"BLOCK!L26","v":-1E-3},{"$f":"BLOCK!N26","v":-1E-3},0]
[null,null,{"$f":"C12","v":" Block 1 Player 5"},null,null,{"$f":"F12","v":0},{"$f":"BLOCK!O26","v":-1E-3},{"$f":"BLOCK!Q26","v":-1E-3},0]
[null,null,{"$f":"C13","v":" Block 1 Player 6"},null,null,{"$f":"F13","v":0},{"$f":"BLOCK!R26","v":-1E-3},{"$f":"BLOCK!T26","v":-1E-3},0]
[null,null,{"$f":"C15","v":" Block 1 Player 8"},null,null,{"$f":"F15","v":0},{"$f":"BLOCK!X26","v":-1E-3},{"$f":"BLOCK!Z26","v":-1E-3},0]
[null,null,{"$f":"C16","v":" Block 1 Player 9"},null,null,{"$f":"F16","v":0},{"$f":"BLOCK!AA26","v":-1E-3},{"$f":"BLOCK!AC26","v":-1E-3},0]
[null,null,{"$f":"C17","v":" Block 1 Player 10"},null,null,{"$f":"F17","v":0},{"$f":"BLOCK!AD26","v":-1E-3},{"$f":"BLOCK!AF26","v":-1E-3},0]
[null,null,{"$f":"C18","v":" Block 1 Player 11"},null,null,{"$f":"F18","v":0},{"$f":"BLOCK!AG26","v":-1E-3},{"$f":"BLOCK!AI26","v":-1E-3},0]
[null,null,{"$f":"C19","v":" Block 1 Player 12"},null,null,{"$f":"F19","v":0},{"$f":"BLOCK!AJ26","v":-1E-3},{"$f":"BLOCK!AL26","v":-1E-3},0]
[null,null,null,null,null," ",null,null,0]
[null,null,null,null,null," ",null,null,0]
[null,null,null,null,null," ",null,null,0]
[null,null,null,null,null," ",null,null,0]
[null,null,null,null,null," ",null,null,{"$f":"G153-H153","v":0}]
[]
[null,null,"PLAYER:",{"$f":"C15","v":" Block 1 Player 8"},null,null,null,"HANDICAP",{"$f":"F15","v":0}]
[null,null,null,null,null,"OPP.","PLAYER","OPP.","NET"]
[null,null,null,"OPPONENT",null,"HCP","SCORE","SCORE","PTS"]
[null,null,{"$f":"D6","v":" Block 1 Player 1"},null,null,{"$f":"I6","v":0},{"$f":"BLOCK!C29","v":-1E-3},{"$f":"BLOCK!E29","v":-1E-3},{"$f":"G158-H158","v":0},"BLOCK"]
[null,null,{"$f":"C139","v":" Block 1 Player 2"},null,null,{"$f":"F9","v":0},{"$f":"BLOCK!F29","v":-1E-3},{"$f":"BLOCK!H29","v":-1E-3},0,"NET"]
[null,null,{"$f":"C10","v":" Block 1 Player 3"},null,null,0,{"$f":"BLOCK!I29","v":-1E-3},{"$f":"BLOCK!K29","v":-1E-3},0,{"$f":"SUM(I158:I168)","v":0}]
[null,null,{"$f":"C11","v":" Block 1 Player 4"},null,null,0,{"$f":"BLOCK!L29","v":-1E-3},{"$f":"BLOCK!N29","v":-1E-3},0]
[null,null,{"$f":"C12","v":" Block 1 Player 5"},null,null,0,{"$f":"BLOCK!O29","v":-1E-3},{"$f":"BLOCK!Q29","v":-1E-3},0]
[null,null,{"$f":"C13","v":" Block 1 Player 6"},null,null,0,{"$f":"BLOCK!R29","v":-1E-3},{"$f":"BLOCK!T29","v":-1E-3},0]
[null,null,{"$f":"C14","v":" Block 1 Player 7"},null,null,0,{"$f":"BLOCK!U29","v":-1E-3},{"$f":"BLOCK!W29","v":-1E-3},0]
[null,null,{"$f":"C16","v":" Block 1 Player 9"},null,null,{"$f":"F16","v":0},{"$f":"BLOCK!AA29","v":-1E-3},{"$f":"BLOCK!AC29","v":-1E-3},0]
[null,null,{"$f":"C17","v":" Block 1 Player 10"},null,null,{"$f":"F17","v":0},{"$f":"BLOCK!AD29","v":-1E-3},{"$f":"BLOCK!AF29","v":-1E-3},0]
[null,null,{"$f":"C18","v":" Block 1 Player 11"},null,null,{"$f":"F18","v":0},{"$f":"BLOCK!AG29","v":-1E-3},{"$f":"BLOCK!AI29","v":-1E-3},0]
[null,null,{"$f":"C19","v":" Block 1 Player 12"},null,null,{"$f":"F19","v":0},{"$f":"BLOCK!AJ29","v":-1E-3},{"$f":"BLOCK!AL29","v":-1E-3},0]
[null,null,null,null,null," ",null,null,0]
[null,null,null,null,null," ",null,null,0]
[null,null,null,null,null," ",null,null,0]
[null,null,null,null,null," ",null,null,0]
[null,null,null,null,null," ",null,null,{"$f":"G173-H173","v":0}]
[null,null,null,null,null,"TOURNAMENT SCORE CARD"]
[null,null,null,null,null,{"$f":"BLOCK!$L$2","v":"Tournament"}]
[null,null,null,null,null,{"$f":"BLOCK!$L$4","v":"Group"}]
[null,null,null,null,null,{"$f":"BLOCK!$B$6","v":"BLOCK 1"}]
[null,null,"PLAYER:",{"$f":"C16","v":" Block 1 Player 9"},null,null,null,"HANDICAP",{"$f":"F16","v":0}]
[null,null,null,null,null,"OPP.","PLAYER","OPP.","NET"]
[null,null,null,"OPPONENT",null,"HCP","SCORE","SCORE","PTS"]
[null,null,{"$f":"D6","v":" Block 1 Player 1"},null,null,{"$f":"I6","v":0},{"$f":"BLOCK!C32","v":-1E-3},{"$f":"BLOCK!E32","v":-1E-3},{"$f":"G181-H181","v":0},"BLOCK"]
[null,null,{"$f":"C159","v":" Block 1 Player 2"},null,null,{"$f":"F9","v":0},{"$f":"BLOCK!F32","v":-1E-3},{"$f":"BLOCK!H32","v":-1E-3},0,"NET"]
[null,null,{"$f":"C10","v":" Block 1 Player 3"},null,null,0,{"$f":"BLOCK!I32","v":-1E-3},{"$f":"BLOCK!K32","v":-1E-3},0,{"$f":"SUM(I181:I191)","v":0}]
[null,null," Block 1 Player 4",null,null,0,{"$f":"BLOCK!L32","v":-1E-3},{"$f":"BLOCK!N32","v":-1E-3},0]
[null,null," Block 1 Player 5",null,null,0,{"$f":"BLOCK!O32","v":-1E-3},{"$f":"BLOCK!Q32","v":-1E-3},0]
[null,null," Block 1 Player 6",null,null,0,{"$f":"BLOCK!R32","v":-1E-3},{"$f":"BLOCK!T32","v":-1E-3},0]
[null,null," Block 1 Player 7",null,null,0,{"$f":"BLOCK!U32","v":-1E-3},{"$f":"BLOCK!W32","v":-1E-3},0]
[null,null," Block 1 Player 8",null,null,0,{"$f":"BLOCK!X32","v":-1E-3},{"$f":"BLOCK!Z32","v":-1E-3},0]
[null,null,{"$f":"C17","v":" Block 1 Player 10"},null,null,{"$f":"F17","v":0},{"$f":"BLOCK!AD32","v":-1E-3},{"$f":"BLOCK!AF32","v":-1E-3},0]
[null,null,{"$f":"C18","v":" Block 1 Player 11"},null,null,{"$f":"F18","v":0},{"$f":"BLOCK!AG32","v":-1E-3},{"$f":"BLOCK!AI32","v":-1E-3},0]
[null,null,{"$f":"C19","v":" Block 1 Player 12"},null,null,{"$f":"F19","v":0},{"$f":"BLOCK!AJ32","v":-1E-3},{"$f":"BLOCK!AL32","v":-1E-3},0]
[null,null,null,null,null," ",null,null,0]
[null,null,null,null,null," ",null,null,0]
[null,null,null,null,null," ",null,null,0]
[null,null,null,null,null," ",null,null,0]
[null,null,null,null,null," ",null,null,{"$f":"G196-H196","v":0}]
[]
[null,null,"PLAYER:",{"$f":"C17","v":" Block 1 Player 10"},null,null,null,"HANDICAP",{"$f":"F17","v":0}]
[null,null,null,null,null,"OPP.","PLAYER","OPP.","NET"]
[null,null,null,"OPPONENT",null,"HCP","SCORE","SCORE","PTS"]
[null,null,{"$f":"D6","v":" Block 1 Player 1"},null,null,{"$f":"I6","v":0},{"$f":"BLOCK!C35","v":-1E-3},{"$f":"BLOCK!E35","v":-1E-3},{"$f":"G201-H201","v":0},"BLOCK"]
[null,null,{"$f":"C182","v":" Block 1 Player 2"},null,null,{"$f":"F9","v":0},{"$f":"BLOCK!F35","v":-1E-3},{"$f":"BLOCK!H35","v":-1E-3},0,"NET"]
[null,null,{"$f":"C10","v":" Block 1 Player 3"},null,null,0,{"$f":"BLOCK!I35","v":-1E-3},{"$f":"BLOCK!K35","v":-1E-3},0,{"$f":"SUM(I201:I211)","v":0}]
[null,null," Block 1 Player 4",null,null,0,{"$f":"BLOCK!L35","v":-1E-3},{"$f":"BLOCK!N35","v":-1E-3},0]
[null,null," Block 1 Player 5",null,null,0,{"$f":"BLOCK!O35","v":-1E-3},{"$f":"BLOCK!Q35","v":-1E-3},0]
[null,null," Block 1 Player 6",null,null,0,{"$f":"BLOCK!R35","v":-1E-3},{"$f":"BLOCK!T35","v":-1E-3},0]
[null,null," Block 1 Player 7",null,null,0,{"$f":"BLOCK!U35","v":-1E-3},{"$f":"BLOCK!W35","v":-1E-3},0]
[null,null," Block 1 Player 8",null,null,0,{"$f":"BLOCK!X35","v":-1E-3},{"$f":"BLOCK!Z35","v":-1E-3},0]
[null,null," Block 1 Player 9",null,null,0,{"$f":"BLOCK!AA35","v":-1E-3},{"$f":"BLOCK!AC35","v":-1E-3},0]
[null,null,{"$f":"C18","v":" Block 1 Player 11"},null,null,{"$f":"F18","v":0},{"$f":"BLOCK!AG35","v":-1E-3},{"$f":"BLOCK!AI35","v":-1E-3},0]
[null,null,{"$f":"C19","v":" Block 1 Player 12"},null,null,{"$f":"F19","v":0},{"$f":"BLOCK!AJ35","v":-1E-3},{"$f":"BLOCK!AL35","v":-1E-3},0]
[null,null,null,null,null," ",null,null,0]
[null,null,null,null,null," ",null,null,0]
[null,null,null,null,null," ",null,null,0]
[null,null,null,null,null," ",null,null,0]
[null,null,null,null,null," ",null,null,{"$f":"G216-H216","v":0}]
[null,null,null,null,null,"TOURNAMENT SCORE CARD"]
[null,null,null,null,null,{"$f":"BLOCK!$L$2","v":"Tournament"}]
[null,null,null,null,null,{"$f":"BLOCK!$L$4","v":"Group"}]
[null,null,null,null,null,{"$f":"BLOCK!$B$6","v":"BLOCK 1"}]
[null,null,"PLAYER:",{"$f":"C18","v":" Block 1 Player 11"},null,null,null,"HANDICAP",{"$f":"F18","v":0}]
[null,null,null,null,null,"OPP.","PLAYER","OPP.","NET"]
[null,null,null,"OPPONENT",null,"HCP","SCORE","SCORE","PTS"]
[null,null,{"$f":"D6","v":" Block 1 Player 1"},null,null,{"$f":"I6","v":0},{"$f":"BLOCK!$C$38","v":-1E-3},{"$f":"BLOCK!$E$38","v":-1E-3},{"$f":"G224-H224","v":0},"BLOCK"]
[null,null,{"$f":"C9","v":" Block 1 Player 2"},null,null,{"$f":"F9","v":0},{"$f":"BLOCK!$F$38","v":-1E-3},{"$f":"BLOCK!$H$38","v":-1E-3},0,"NET"]
[null,null," Block 1 Player 3",null,null,0,{"$f":"BLOCK!$I$38","v":-1E-3},{"$f":"BLOCK!$K$38","v":-1E-3},0,{"$f":"SUM(I224:I234)","v":0}]
[null,null," Block 1 Player 4",null,null,0,{"$f":"BLOCK!$L$38","v":-1E-3},{"$f":"BLOCK!$N$38","v":-1E-3},0]
[null,null," Block 1 Player 5",null,null,0,{"$f":"BLOCK!$O$38","v":-1E-3},{"$f":"BLOCK!$Q$38","v":-1E-3},0]
[null,null," Block 1 Player 6",null,null,0,{"$f":"BLOCK!$R$38","v":-1E-3},{"$f":"BLOCK!$T$38","v":-1E-3},0]
[null,null," Block 1 Player 7",null,null,0,{"$f":"BLOCK!$U$38","v":-1E-3},{"$f":"BLOCK!$W$38","v":-1E-3},0]
[null,null," Block 1 Player 8",null,null,0,{"$f":"BLOCK!$X$38","v":-1E-3},{"$f":"BLOCK!$Z$38","v":-1E-3},0]
[null,null," Block 1 Player 9",null,null,0,{"$f":"BLOCK!$AA$38","v":-1E-3},{"$f":"BLOCK!$AC$38","v":-1E-3},0]
[null,null," Block 1 Player 10",null,null,0,{"$f":"BLOCK!$AD$38","v":-1E-3},{"$f":"BLOCK!$AF$38","v":-1E-3},0]
[null,null,{"$f":"$C$211","v":" Block 1 Player 12"},null,null,{"$f":"F19","v":0},{"$f":"BLOCK!$AJ$38","v":-1E-3},{"$f":"BLOCK!$AL$38","v":-1E-3},0]
[]
[]
[]
[]
[]
[]
[null,null,"PLAYER:",{"$f":"C19","v":" Block 1 Player 12"},null,null,null,"HANDICAP",{"$f":"F19","v":0}]
[null,null,null,null,null,"OPP.","PLAYER","OPP.","NET"]
[null,null,null,"OPPONENT",null,"HCP","SCORE","SCORE","PTS"]
[null,null,{"$f":"C224","v":" Block 1 Player 1"},null,null,{"$f":"I6","v":0},{"$f":"BLOCK!$C$41","v":-1E-3},{"$f":"BLOCK!$E$41","v":-1E-3},{"$f":"G244-H244","v":0},"BLOCK"]
[null,null," Block 1 Player 2",null,null,{"$f":"F9","v":0},{"$f":"BLOCK!$F$41","v":-1E-3},{"$f":"BLOCK!$H$41","v":-1E-3},0,"NET"]
[null,null," Block 1 Player 3",null,null,0,{"$f":"BLOCK!$I$41","v":-1E-3},{"$f":"BLOCK!$K$41","v":-1E-3},0,{"$f":"SUM(I244:I254)","v":0}]
[null,null," Block 1 Player 4",null,null,0,{"$f":"BLOCK!$L$41","v":-1E-3},{"$f":"BLOCK!$N$41","v":-1E-3},0]
[null,null," Block 1 Player 5",null,null,0,{"$f":"BLOCK!$O$41","v":-1E-3},{"$f":"BLOCK!$Q$41","v":-1E-3},0]
[null,null," Block 1 Player 6",null,null,0,{"$f":"BLOCK!$R$41","v":-1E-3},{"$f":"BLOCK!$T$41","v":-1E-3},0]
[null,null," Block 1 Player 7",null,null,0,{"$f":"BLOCK!$U$41","v":-1E-3},{"$f":"BLOCK!$W$41","v":-1E-3},0]
[null,null," Block 1 Player 8",null,null,0,{"$f":"BLOCK!$X$41","v":-1E-3},{"$f":"BLOCK!$Z$41","v":-1E-3},0]
[null,null," Block 1 Player 9",null,null,0,{"$f":"BLOCK!$AA$41","v":-1E-3},{"$f":"BLOCK!$AC$41","v":-1E-3},0]
[null,null," Block 1 Player 10",null,null,0,{"$f":"BLOCK!$AD$41","v":-1E-3},{"$f":"BLOCK!$AF$41","v":-1E-3},0]
[null,null,{"$f":"$D$221","v":" Block 1 Player 11"},null,null,0,{"$f":"BLOCK!$AG$41","v":-1E-3},{"$f":"BLOCK!$AI$41","v":-1E-3},{"$f":"G254-H254","v":0}]
[]
[]
[]
[]
[]
[]
[null,null,null,null,null,"TOURNAMENT SCORE CARD"]
[null,null,null,null,null,{"$f":"BLOCK!$L$44","v":"Tournament"}]
[null,null,null,null,null,{"$f":"BLOCK!$L$46","v":"Group"}]
[null,null,null,null,null,{"$f":"BLOCK!$B$48","v":"BLOCK 2"}]
[null,null,"PLAYER:",{"$f":"BLOCK!C48","v":" Block 2 Player 1"},null,null,null,"HANDICAP",{"$f":"BLOCK!B51","v":0}]
[null,null,null,null,null,"OPP.","PLAYER","OPP.","NET"]
[null,null,null,"OPPONENT",null,"HCP","SCORE","SCORE","PTS"]
[null,null,{"$f":"BLOCK!F48","v":" Block 2 Player 2"},null,null,{"$f":"BLOCK!B54","v":0},{"$f":"BLOCK!F50","v":-1E-3},{"$f":"BLOCK!H50","v":-1E-3},{"$f":"G268-H268","v":0},"BLOCK"]
[null,null,{"$f":"BLOCK!I48","v":" Block 2 Player 3"},null,null,{"$f":"BLOCK!B57","v":0},{"$f":"BLOCK!I50","v":-1E-3},{"$f":"BLOCK!K50","v":-1E-3},0,"NET"]
[null,null,{"$f":"BLOCK!L48","v":" Block 2 Player 4"},null,null,{"$f":"BLOCK!B60","v":0},{"$f":"BLOCK!L50","v":-1E-3},{"$f":"BLOCK!N50","v":-1E-3},0,{"$f":"SUM(I268:I278)","v":0}]
[null,null,{"$f":"BLOCK!O48","v":" Block 2 Player 5"},null,null,{"$f":"BLOCK!B63","v":0},{"$f":"BLOCK!O50","v":-1E-3},{"$f":"BLOCK!Q50","v":-1E-3},0]
[null,null,{"$f":"BLOCK!R48","v":" Block 2 Player 6"},null,null,{"$f":"BLOCK!B66","v":0},{"$f":"BLOCK!R50","v":-1E-3},{"$f":"BLOCK!T50","v":-1E-3},0]
[null,null,{"$f":"BLOCK!U48","v":" Block 2 Player 7"},null,null,{"$f":"BLOCK!B69","v":0},{"$f":"BLOCK!U50","v":-1E-3},{"$f":"BLOCK!W50","v":-1E-3},0]
[null,null,{"$f":"BLOCK!X48","v":" Block 2 Player 8"},null,null,{"$f":"BLOCK!B72","v":0},{"$f":"BLOCK!X50","v":-1E-3},{"$f":"BLOCK!Z50","v":-1E-3},0]
[null,null,{"$f":"BLOCK!AA48","v":" Block 2 Player 9"},null,null,{"$f":"BLOCK!B75","v":0},{"$f":"BLOCK!AA50","v":-1E-3},{"$f":"BLOCK!AC50","v":-1E-3},0]
[null,null,{"$f":"BLOCK!AD48","v":" Block 2 Player 10"},null,null,{"$f":"BLOCK!B78","v":0},{"$f":"BLOCK!AD50","v":-1E-3},{"$f":"BLOCK!AF50","v":-1E-3},0]
[null,null,{"$f":"BLOCK!AG48","v":" Block 2 Player 11"},null,null,{"$f":"BLOCK!$B$81","v":0},{"$f":"BLOCK!$AG$50","v":-1E-3},{"$f":"BLOCK!$AI$50","v":-1E-3},0]
[null,null,{"$f":"BLOCK!AJ48","v":" Block 2 Player 12"},null,null,{"$f":"BLOCK!$B$84","v":0},{"$f":"BLOCK!$AJ$50","v":-1E-3},{"$f":"BLOCK!$AL$50","v":-1E-3},0]
[null,null,null,null,null," ",null,null,0]
[null,null,null,null,null," ",null,null,0]
[null,null,null,null,null," ",null,null,0]
[null,null,null,null,null," ",null,null,0]
[null,null,null,null,null," ",null,null,{"$f":"G283-H283","v":0}]
[]
[null,null,"PLAYER:",{"$f":"C268","v":" Block 2 Player 2"},null,null,null,"HANDICAP",{"$f":"F268","v":0}]
[null,null,null,null,null,"OPP.","PLAYER","OPP.","NET"]
[null,null,null,"OPPONENT",null,"HCP","SCORE","SCORE","PTS"]
[null,null,{"$f":"D265","v":" Block 2 Player 1"},null,null,{"$f":"BLOCK!B51","v":0},{"$f":"BLOCK!C53","v":-1E-3},{"$f":"BLOCK!E53","v":-1E-3},{"$f":"G288-H288","v":0},"BLOCK"]
[null,null,{"$f":"C269","v":" Block 2 Player 3"},null,null,{"$f":"BLOCK!B57","v":0},{"$f":"BLOCK!I53","v":-1E-3},{"$f":"BLOCK!K53","v":-1E-3},0,"NET"]
[null,null," Block 2 Player 4",null,null,{"$f":"BLOCK!B60","v":0},{"$f":"BLOCK!L53","v":-1E-3},{"$f":"BLOCK!N53","v":-1E-3},0,{"$f":"SUM(I288:I298)","v":0}]
[null,null," Block 2 Player 5",null,null,{"$f":"BLOCK!B63","v":0},{"$f":"BLOCK!O53","v":-1E-3},{"$f":"BLOCK!Q53","v":-1E-3},0]
[null,null," Block 2 Player 6",null,null,{"$f":"BLOCK!B66","v":0},{"$f":"BLOCK!R53","v":-1E-3},{"$f":"BLOCK!T53","v":-1E-3},0]
[null,null," Block 2 Player 7",null,null,{"$f":"BLOCK!B69","v":0},{"$f":"BLOCK!U53","v":-1E-3},{"$f":"BLOCK!W53","v":-1E-3},0]
[null,null," Block 2 Player 8",null,null,{"$f":"BLOCK!B72","v":0},{"$f":"BLOCK!X53","v":-1E-3},{"$f":"BLOCK!Z53","v":-1E-3},0]
[null,null," Block 2 Player 9",null,null,{"$f":"BLOCK!B75","v":0},{"$f":"BLOCK!AA53","v":-1E-3},{"$f":"BLOCK!AC53","v":-1E-3},{"$f":"G295-H295","v":0}]
[null,null," Block 2 Player 10",null,null,{"$f":"BLOCK!B78","v":0},{"$f":"BLOCK!AD53","v":-1E-3},{"$f":"BLOCK!AF53","v":-1E-3},0]
[null,null,{"$f":"C277","v":" Block 2 Player 11"},null,null,{"$f":"BLOCK!$B$81","v":0},{"$f":"BLOCK!$AG$53","v":-1E-3},{"$f":"BLOCK!$AI$53","v":-1E-3},0]
[null,null,{"$f":"C278","v":" Block 2 Player 12"},null,null,{"$f":"BLOCK!$B$84","v":0},{"$f":"BLOCK!$AJ$53","v":-1E-3},{"$f":"BLOCK!$AL$53","v":-1E-3},0]
[null,null,null,null,null," ",null,null,0]
[null,null,null,null,null," ",null,null,0]
[null,null,null,null,null," ",null,null,0]
[null,null,null,null,null," ",null,null,0]
[null,null,null,null,null," ",null,null,{"$f":"G303-H303","v":0}]
[null,null,null,null,null,"TOURNAMENT SCORE CARD"]
[null,null,null,null,null,{"$f":"BLOCK!$L$44","v":"Tournament"}]
[null,null,null,null,null,{"$f":"BLOCK!$L$46","v":"Group"}]
[null,null,null,null,null,{"$f":"BLOCK!$B$48","v":"BLOCK 2"}]
[null,null,"PLAYER:",{"$f":"C269","v":" Block 2 Player 3"},null,null,null,"HANDICAP",{"$f":"F269","v":0}]
[null,null,null,null,null,"OPP.","PLAYER","OPP.","NET"]
[null,null,null,"OPPONENT",null,"HCP","SCORE","SCORE","PTS"]
[null,null,{"$f":"D265","v":" Block 2 Player 1"},null,null,{"$f":"BLOCK!B51","v":0},{"$f":"BLOCK!C56","v":-1E-3},{"$f":"BLOCK!E56","v":-1E-3},{"$f":"G311-H311","v":0},"BLOCK"]
[null,null,{"$f":"C268","v":" Block 2 Player 2"},null,null,{"$f":"BLOCK!B54","v":0},{"$f":"BLOCK!F56","v":-1E-3},{"$f":"BLOCK!H56","v":-1E-3},0,"NET"]
[null,null,{"$f":"C270","v":" Block 2 Player 4"},null,null,{"$f":"BLOCK!B60","v":0},{"$f":"BLOCK!L56","v":-1E-3},{"$f":"BLOCK!N56","v":-1E-3},0,{"$f":"SUM(I311:I321)","v":0}]
[null,null," Block 2 Player 5",null,null,{"$f":"BLOCK!B63","v":0},{"$f":"BLOCK!O56","v":-1E-3},{"$f":"BLOCK!Q56","v":-1E-3},0]
[null,null," Block 2 Player 6",null,null,{"$f":"BLOCK!B66","v":0},{"$f":"BLOCK!R56","v":-1E-3},{"$f":"BLOCK!T56","v":-1E-3},0]
[null,null," Block 2 Player 7",null,null,{"$f":"BLOCK!B69","v":0},{"$f":"BLOCK!U56","v":-1E-3},{"$f":"BLOCK!W56","v":-1E-3},0]
[null,null," Block 2 Player 8",null,null,{"$f":"BLOCK!B72","v":0},{"$f":"BLOCK!X56","v":-1E-3},{"$f":"BLOCK!Z56","v":-1E-3},0]
[null,null," Block 2 Player 9",null,null,{"$f":"BLOCK!B75","v":0},{"$f":"BLOCK!AA56","v":-1E-3},{"$f":"BLOCK!AC56","v":-1E-3},0]
[null,null," Block 2 Player 10",null,null,{"$f":"BLOCK!B78","v":0},{"$f":"BLOCK!AD56","v":-1E-3},{"$f":"BLOCK!AF56","v":-1E-3},0]
[null,null,{"$f":"C277","v":" Block 2 Player 11"},null,null,{"$f":"BLOCK!$B$81","v":0},{"$f":"BLOCK!$AG$56","v":-1E-3},{"$f":"BLOCK!$AI$56","v":-1E-3},0]
[null,null,{"$f":"C278","v":" Block 2 Player 12"},null,null,{"$f":"BLOCK!$B$84","v":0},{"$f":"BLOCK!$AJ$56","v":-1E-3},{"$f":"BLOCK!$AL$56","v":-1E-3},0]
[null,null,null,null,null," ",null,null,0]
[null,null,null,null,null," ",null,null,0]
[null,null,null,null,null," ",null,null,0]
[null,null,null,null,null," ",null,null,0]
[null,null,null,null,null," ",null,null,{"$f":"G326-H326","v":0}]
[]
[null,null,"PLAYER:",{"$f":"C270","v":" Block 2 Player 4"},null,null,null,"HANDICAP",{"$f":"F270","v":0}]
[null,null,null,null,null,"OPP.","PLAYER","OPP.","NET"]
[null,null,null,"OPPONENT",null,"HCP","SCORE","SCORE","PTS"]
[null,null,{"$f":"D265","v":" Block 2 Player 1"},null,null,{"$f":"BLOCK!B51","v":0},{"$f":"BLOCK!C59","v":-1E-3},{"$f":"BLOCK!E59","v":-1E-3},{"$f":"G331-H331","v":0},"BLOCK"]
[null,null,{"$f":"C268","v":" Block 2 Player 2"},null,null,{"$f":"BLOCK!B54","v":0},{"$f":"BLOCK!F59","v":-1E-3},{"$f":"BLOCK!H59","v":-1E-3},0,"NET"]
[null,null,{"$f":"C269","v":" Block 2 Player 3"},null,null,{"$f":"BLOCK!B57","v":0},{"$f":"BLOCK!I59","v":-1E-3},{"$f":"BLOCK!K59","v":-1E-3},0,{"$f":"SUM(I331:I337)","v":0}]
[null,null,{"$f":"C271","v":" Block 2 Player 5"},null,null,{"$f":"BLOCK!B63","v":0},{"$f":"BLOCK!O59","v":-1E-3},{"$f":"BLOCK!Q59","v":-1E-3},0]
[null,null," Block 2 Player 6",null,null,{"$f":"BLOCK!B66","v":0},{"$f":"BLOCK!R59","v":-1E-3},{"$f":"BLOCK!T59","v":-1E-3},0]
[null,null," Block 2 Player 7",null,null,{"$f":"BLOCK!B69","v":0},{"$f":"BLOCK!U59","v":-1E-3},{"$f":"BLOCK!W59","v":-1E-3},0]
[null,null," Block 2 Player 8",null,null,{"$f":"BLOCK!B72","v":0},{"$f":"BLOCK!X59","v":-1E-3},{"$f":"BLOCK!Z59","v":-1E-3},0]
[null,null," Block 2 Player 9",null,null,{"$f":"BLOCK!B75","v":0},{"$f":"BLOCK!AA59","v":-1E-3},{"$f":"BLOCK!AC59","v":-1E-3},0]
[null,null," Block 2 Player 10",null,null,{"$f":"BLOCK!B78","v":0},{"$f":"BLOCK!AD59","v":-1E-3},{"$f":"BLOCK!AF59","v":-1E-3},0]
[null,null,{"$f":"C277","v":" Block 2 Player 11"},null,null,{"$f":"BLOCK!$B$81","v":0},{"$f":"BLOCK!$AG$59","v":-1E-3},{"$f":"BLOCK!$AI$59","v":-1E-3},0]
[null,null,{"$f":"C278","v":" Block 2 Player 12"},null,null,{"$f":"BLOCK!$B$84","v":0},{"$f":"BLOCK!$AJ$59","v":-1E-3},{"$f":"BLOCK!$AL$59","v":-1E-3},0]
[null,null,null,null,null," ",null,null,0]
[null,null,null,null,null," ",null,null,0]
[null,null,null,null,null," ",null,null,0]
[null,null,null,null,null," ",null,null,0]
[null,null,null,null,null," ",null,null,{"$f":"G346-H346","v":0}]
[null,null,null,null,null,"TOURNAMENT SCORE CARD"]
[null,null,null,null,null,{"$f":"BLOCK!$L$44","v":"Tournament"}]
[null,null,null,null,null,{"$f":"BLOCK!$L$46","v":"Group"}]
[null,null,null,null,null,{"$f":"BLOCK!$B$48","v":"BLOCK 2"}]
[null,null,"PLAYER:",{"$f":"C271","v":" Block 2 Player 5"},null,null,null,"HANDICAP",{"$f":"F271","v":0}]
[null,null,null,null,null,"OPP.","PLAYER","OPP.","NET"]
[null,null,null,"OPPONENT",null,"HCP","SCORE","SCORE","PTS"]
[null,null,{"$f":"D265","v":" Block 2 Player 1"},null,null,{"$f":"BLOCK!B51","v":0},{"$f":"BLOCK!C62","v":-1E-3},{"$f":"BLOCK!E62","v":-1E-3},{"$f":"G354-H354","v":0},"BLOCK"]
[null,null,{"$f":"C268","v":" Block 2 Player 2"},null,null,{"$f":"BLOCK!B54","v":0},{"$f":"BLOCK!F62","v":-1E-3},{"$f":"BLOCK!H62","v":-1E-3},0,"NET"]
[null,null,{"$f":"C269","v":" Block 2 Player 3"},null,null,{"$f":"BLOCK!B57","v":0},{"$f":"BLOCK!I62","v":-1E-3},{"$f":"BLOCK!K62","v":-1E-3},0,{"$f":"SUM(I354:I364)","v":0}]
[null,null,{"$f":"C270","v":" Block 2 Player 4"},null,null,{"$f":"BLOCK!B60","v":0},{"$f":"BLOCK!L62","v":-1E-3},{"$f":"BLOCK!N62","v":-1E-3},0]
[null,null,{"$f":"C272","v":" Block 2 Player 6"},null,null,{"$f":"BLOCK!B66","v":0},{"$f":"BLOCK!R62","v":-1E-3},{"$f":"BLOCK!T62","v":-1E-3},0]
[null,null," Block 2 Player 7",null,null,{"$f":"BLOCK!B69","v":0},{"$f":"BLOCK!U62","v":-1E-3},{"$f":"BLOCK!W62","v":-1E-3},0]
[null,null," Block 2 Player 8",null,null,{"$f":"BLOCK!B72","v":0},{"$f":"BLOCK!X62","v":-1E-3},{"$f":"BLOCK!Z62","v":-1E-3},0]
[null,null," Block 2 Player 9",null,null,{"$f":"BLOCK!B75","v":0},{"$f":"BLOCK!AA62","v":-1E-3},{"$f":"BLOCK!AC62","v":-1E-3},0]
[null,null," Block 2 Player 10",null,null,{"$f":"BLOCK!B78","v":0},{"$f":"BLOCK!AD62","v":-1E-3},{"$f":"BLOCK!AF62","v":-1E-3},0]
[null,null," Block 2 Player 11",null,null,{"$f":"BLOCK!$B$81","v":0},{"$f":"BLOCK!$AG$62","v":-1E-3},{"$f":"BLOCK!$AI$62","v":-1E-3},0]
[null,null," Block 2 Player 12",null,null,{"$f":"BLOCK!$B$84","v":0},{"$f":"BLOCK!$AJ$62","v":-1E-3},{"$f":"BLOCK!$AL$62","v":-1E-3},0]
[null,null,null,null,null," ",null,null,0]
[null,null,null,null,null," ",null,null,0]
[null,null,null,null,null," ",null,null,0]
[null,null,null,null,null," ",null,null,0]
[null,null,null,null,null," ",null,null,{"$f":"G369-H369","v":0}]
[]
[null,null,"PLAYER:",{"$f":"C272","v":" Block 2 Player 6"},null,null,null,"HANDICAP",{"$f":"F272","v":0}]
[null,null,null,null,null,"OPP.","PLAYER","OPP.","NET"]
[null,null,null,"OPPONENT",null,"HCP","SCORE","SCORE","PTS"]
[null,null,{"$f":"D265","v":" Block 2 Player 1"},null,null,{"$f":"BLOCK!B51","v":0},{"$f":"BLOCK!C65","v":-1E-3},{"$f":"BLOCK!E65","v":-1E-3},{"$f":"G374-H374","v":0},"BLOCK"]
[null,null,{"$f":"C268","v":" Block 2 Player 2"},null,null,{"$f":"BLOCK!B54","v":0},{"$f":"BLOCK!F65","v":-1E-3},{"$f":"BLOCK!H65","v":-1E-3},0,"NET"]
[null,null,{"$f":"C269","v":" Block 2 Player 3"},null,null,{"$f":"BLOCK!B57","v":0},{"$f":"BLOCK!I65","v":-1E-3},{"$f":"BLOCK!K65","v":-1E-3},0,{"$f":"SUM(I374:I384)","v":0}]
[null,null,{"$f":"C270","v":" Block 2 Player 4"},null,null,{"$f":"BLOCK!B60","v":0},{"$f":"BLOCK!L65","v":-1E-3},{"$f":"BLOCK!N65","v":-1E-3},0]
[null,null,{"$f":"C271","v":" Block 2 Player 5"},null,null,{"$f":"BLOCK!B63","v":0},{"$f":"BLOCK!O65","v":-1E-3},{"$f":"BLOCK!Q65","v":-1E-3},0]
[null,null,{"$f":"C273","v":" Block 2 Player 7"},null,null,{"$f":"BLOCK!B69","v":0},{"$f":"BLOCK!U65","v":-1E-3},{"$f":"BLOCK!W65","v":-1E-3},0]
[null,null," Block 2 Player 8",null,null,{"$f":"BLOCK!B72","v":0},{"$f":"BLOCK!X65","v":-1E-3},{"$f":"BLOCK!Z65","v":-1E-3},0]
[null,null," Block 2 Player 9",null,null,{"$f":"BLOCK!B75","v":0},{"$f":"BLOCK!AA65","v":-1E-3},{"$f":"BLOCK!AC65","v":-1E-3},0]
[null,null," Block 2 Player 10",null,null,{"$f":"BLOCK!B78","v":0},{"$f":"BLOCK!AD65","v":-1E-3},{"$f":"BLOCK!AF65","v":-1E-3},0]
[null,null," Block 2 Player 11",null,null,{"$f":"BLOCK!$B$81","v":0},{"$f":"BLOCK!$AG$65","v":-1E-3},{"$f":"BLOCK!$AI$65","v":-1E-3},0]
[null,null," Block 2 Player 12",null,null,{"$f":"BLOCK!$B$84","v":0},{"$f":"BLOCK!$AJ$65","v":-1E-3},{"$f":"BLOCK!$AL$65","v":-1E-3},0]
[null,null,null,null,null," ",null,null,0]
[null,null,null,null,null," ",null,null,0]
[null,null,null,null,null," ",null,null,0]
[null,null,null,null,null," ",null,null,0]
[null,null,null,null,null," ",null,null,{"$f":"G389-H389","v":0}]
[null,null,null,null,null,"TOURNAMENT SCORE CARD"]
[null,null,null,null,null,{"$f":"BLOCK!$L$44","v":"Tournament"}]
[null,null,null,null,null,{"$f":"BLOCK!$L$46","v":"Group"}]
[null,null,null,null,null,{"$f":"BLOCK!$B$48","v":"BLOCK 2"}]
[null,null,"PLAYER:",{"$f":"C273","v":" Block 2 Player 7"},null,null,null,"HANDICAP",{"$f":"F273","v":0}]
[null,null,null,null,null,"OPP.","PLAYER","OPP.","NET"]
[null,null,null,"OPPONENT",null,"HCP","SCORE","SCORE","PTS"]
[null,null,{"$f":"D265","v":" Block 2 Player 1"},null,null,{"$f":"BLOCK!B51","v":0},{"$f":"BLOCK!C68","v":-1E-3},{"$f":"BLOCK!E68","v":-1E-3},{"$f":"G397-H397","v":0},"BLOCK"]
[null,null,{"$f":"C268","v":" Block 2 Player 2"},null,null,{"$f":"BLOCK!B54","v":0},{"$f":"BLOCK!F68","v":-1E-3},{"$f":"BLOCK!H68","v":-1E-3},0,"NET"]
[null,null,{"$f":"C269","v":" Block 2 Player 3"},null,null,{"$f":"BLOCK!B57","v":0},{"$f":"BLOCK!I68","v":-1E-3},{"$f":"BLOCK!K68","v":-1E-3},0,{"$f":"SUM(I397:I407)","v":0}]
[null,null,{"$f":"C270","v":" Block 2 Player 4"},null,null,{"$f":"BLOCK!B60","v":0},{"$f":"BLOCK!L68","v":-1E-3},{"$f":"BLOCK!N68","v":-1E-3},0]
[null,null,{"$f":"C271","v":" Block 2 Player 5"},null,null,{"$f":"BLOCK!B63","v":0},{"$f":"BLOCK!O68","v":-1E-3},{"$f":"BLOCK!Q68","v":-1E-3},0]
[null,null,{"$f":"C272","v":" Block 2 Player 6"},null,null,{"$f":"BLOCK!B66","v":0},{"$f":"BLOCK!R68","v":-1E-3},{"$f":"BLOCK!T68","v":-1E-3},0]
[null,null,{"$f":"C274","v":" Block 2 Player 8"},null,null,{"$f":"BLOCK!B72","v":0},{"$f":"BLOCK!X68","v":-1E-3},{"$f":"BLOCK!Z68","v":-1E-3},0]
[null,null,{"$f":"C275","v":" Block 2 Player 9"},null,null,{"$f":"BLOCK!B75","v":0},{"$f":"BLOCK!AA68","v":-1E-3},{"$f":"BLOCK!AC68","v":-1E-3},0]
[null,null,{"$f":"C276","v":" Block 2 Player 10"},null,null,{"$f":"BLOCK!B78","v":0},{"$f":"BLOCK!AD68","v":-1E-3},{"$f":"BLOCK!AF68","v":-1E-3},0]
[null,null,{"$f":"C277","v":" Block 2 Player 11"},null,null,{"$f":"BLOCK!$B$81","v":0},{"$f":"BLOCK!$AG$68","v":-1E-3},{"$f":"BLOCK!$AI$68","v":-1E-3},0]
[null,null,{"$f":"C278","v":" Block 2 Player 12"},null,null,{"$f":"BLOCK!$B$84","v":0},{"$f":"BLOCK!$AJ$68","v":-1E-3},{"$f":"BLOCK!$AL$68","v":-1E-3},0]
[null,null,null,null,null," ",null,null,0]
[null,null,null,null,null," ",null,null,0]
[null,null,null,null,null," ",null,null,0]
[null,null,null,null,null," ",null,null,0]
[null,null,null,null,null," ",null,null,{"$f":"G412-H412","v":0}]
[]
[null,null,"PLAYER:",{"$f":"C274","v":" Block 2 Player 8"},null,null,null,"HANDICAP",{"$f":"F274","v":0}]
[null,null,null,null,null,"OPP.","PLAYER","OPP.","NET"]
[null,null,null,"OPPONENT",null,"HCP","SCORE","SCORE","PTS"]
[null,null,{"$f":"D265","v":" Block 2 Player 1"},null,null,{"$f":"BLOCK!B51","v":0},{"$f":"BLOCK!C71","v":-1E-3},{"$f":"BLOCK!E71","v":-1E-3},{"$f":"G417-H417","v":0},"BLOCK"]
[null,null,{"$f":"C268","v":" Block 2 Player 2"},null,null,{"$f":"BLOCK!B54","v":0},{"$f":"BLOCK!F71","v":-1E-3},{"$f":"BLOCK!H71","v":-1E-3},0,"NET"]
[null,null," Block 2 Player 3",null,null,{"$f":"BLOCK!B57","v":0},{"$f":"BLOCK!I71","v":-1E-3},{"$f":"BLOCK!K71","v":-1E-3},0,{"$f":"SUM(I417:I427)","v":0}]
[null,null," Block 2 Player 4",null,null,{"$f":"BLOCK!B60","v":0},{"$f":"BLOCK!L71","v":-1E-3},{"$f":"BLOCK!N71","v":-1E-3},0]
[null,null," Block 2 Player 5",null,null,{"$f":"BLOCK!B63","v":0},{"$f":"BLOCK!O71","v":-1E-3},{"$f":"BLOCK!Q71","v":-1E-3},0]
[null,null," Block 2 Player 6",null,null,{"$f":"BLOCK!B66","v":0},{"$f":"BLOCK!R71","v":-1E-3},{"$f":"BLOCK!T71","v":-1E-3},0]
[null,null," Block 2 Player 7",null,null,{"$f":"BLOCK!B69","v":0},{"$f":"BLOCK!U71","v":-1E-3},{"$f":"BLOCK!W71","v":-1E-3},0]
[null,null,{"$f":"C275","v":" Block 2 Player 9"},null,null,{"$f":"BLOCK!B75","v":0},{"$f":"BLOCK!AA71","v":-1E-3},{"$f":"BLOCK!AC71","v":-1E-3},0]
[null,null,{"$f":"C276","v":" Block 2 Player 10"},null,null,{"$f":"BLOCK!B78","v":0},{"$f":"BLOCK!AD71","v":-1E-3},{"$f":"BLOCK!AF71","v":-1E-3},0]
[null,null,{"$f":"C277","v":" Block 2 Player 11"},null,null,{"$f":"BLOCK!$B$81","v":0},{"$f":"BLOCK!$AG$71","v":-1E-3},{"$f":"BLOCK!$AI$71","v":-1E-3},0]
[null,null,{"$f":"C278","v":" Block 2 Player 12"},null,null,{"$f":"BLOCK!$B$84","v":0},{"$f":"BLOCK!$AJ$71","v":-1E-3},{"$f":"BLOCK!$AL$71","v":-1E-3},0]
[null,null,null,null,null," ",null,null,0]
[null,null,null,null,null," ",null,null,0]
[null,null,null,null,null," ",null,null,0]
[null,null,null,null,null," ",null,null,0]
[null,null,null,null,null," ",null,null,{"$f":"G432-H432","v":0}]
[null,null,null,null,null,"TOURNAMENT SCORE CARD"]
[null,null,null,null,null,{"$f":"BLOCK!$L$44","v":"Tournament"}]
[null,null,null,null,null,{"$f":"BLOCK!$L$46","v":"Group"}]
[null,null,null,null,null,{"$f":"BLOCK!$B$48","v":"BLOCK 2"}]
[null,null,"PLAYER:",{"$f":"C275","v":" Block 2 Player 9"},null,null,null,"HANDICAP",{"$f":"F275","v":0}]
[null,null,null,null,null,"OPP.","PLAYER","OPP.","NET"]
[null,null,null,"OPPONENT",null,"HCP","SCORE","SCORE","PTS"]
[null,null,{"$f":"D265","v":" Block 2 Player 1"},null,null,{"$f":"BLOCK!B51","v":0},{"$f":"BLOCK!C74","v":-1E-3},{"$f":"BLOCK!E74","v":-1E-3},{"$f":"G440-H440","v":0},"BLOCK"]
[null,null,{"$f":"C268","v":" Block 2 Player 2"},null,null,{"$f":"BLOCK!B54","v":0},{"$f":"BLOCK!F74","v":-1E-3},{"$f":"BLOCK!H74","v":-1E-3},0,"NET"]
[null,null," Block 2 Player 3",null,null,{"$f":"BLOCK!B57","v":0},{"$f":"BLOCK!I74","v":-1E-3},{"$f":"BLOCK!K74","v":-1E-3},0,{"$f":"SUM(I440:I450)","v":0}]
[null,null," Block 2 Player 4",null,null,{"$f":"BLOCK!B60","v":0},{"$f":"BLOCK!L74","v":-1E-3},{"$f":"BLOCK!N74","v":-1E-3},0]
[null,null," Block 2 Player 5",null,null,{"$f":"BLOCK!B63","v":0},{"$f":"BLOCK!O74","v":-1E-3},{"$f":"BLOCK!Q74","v":-1E-3},0]
[null,null," Block 2 Player 6",null,null,{"$f":"BLOCK!B66","v":0},{"$f":"BLOCK!R74","v":-1E-3},{"$f":"BLOCK!T74","v":-1E-3},0]
[null,null," Block 2 Player 7",null,null,{"$f":"BLOCK!B69","v":0},{"$f":"BLOCK!U74","v":-1E-3},{"$f":"BLOCK!W74","v":-1E-3},0]
[null,null," Block 2 Player 8",null,null,{"$f":"BLOCK!B72","v":0},{"$f":"BLOCK!X74","v":-1E-3},{"$f":"BLOCK!Z74","v":-1E-3},0]
[null,null,{"$f":"C276","v":" Block 2 Player 10"},null,null,{"$f":"BLOCK!B78","v":0},{"$f":"BLOCK!AD74","v":-1E-3},{"$f":"BLOCK!AF74","v":-1E-3},0]
[null,null,{"$f":"C277","v":" Block 2 Player 11"},null,null,{"$f":"BLOCK!$B$81","v":0},{"$f":"BLOCK!$AG$74","v":-1E-3},{"$f":"BLOCK!$AI$74","v":-1E-3},0]
[null,null,{"$f":"C278","v":" Block 2 Player 12"},null,null,{"$f":"BLOCK!$B$84","v":0},{"$f":"BLOCK!$AJ$74","v":-1E-3},{"$f":"BLOCK!$AL$74","v":-1E-3},0]
[null,null,null,null,null," ",null,null,0]
[null,null,null,null,null," ",null,null,0]
[null,null,null,null,null," ",null,null,0]
[null,null,null,null,null," ",null,null,0]
[null,null,null,null,null," ",null,null,{"$f":"G455-H455","v":0}]
[]
[null,null,"PLAYER:",{"$f":"C276","v":" Block 2 Player 10"},null,null,null,"HANDICAP",{"$f":"F276","v":0}]
[null,null,null,null,null,"OPP.","PLAYER","OPP.","NET"]
[null,null,null,"OPPONENT",null,"HCP","SCORE","SCORE","PTS"]
[null,null,{"$f":"D265","v":" Block 2 Player 1"},null,null,{"$f":"BLOCK!B51","v":0},{"$f":"BLOCK!C77","v":-1E-3},{"$f":"BLOCK!E77","v":-1E-3},{"$f":"G460-H460","v":0},"BLOCK"]
[null,null,{"$f":"C268","v":" Block 2 Player 2"},null,null,{"$f":"BLOCK!B54","v":0},{"$f":"BLOCK!F77","v":-1E-3},{"$f":"BLOCK!H77","v":-1E-3},0,"NET"]
[null,null," Block 2 Player 3",null,null,{"$f":"BLOCK!B57","v":0},{"$f":"BLOCK!I77","v":-1E-3},{"$f":"BLOCK!K77","v":-1E-3},0,{"$f":"SUM(I460:I470)","v":0}]
[null,null," Block 2 Player 4",null,null,{"$f":"BLOCK!B60","v":0},{"$f":"BLOCK!L77","v":-1E-3},{"$f":"BLOCK!N77","v":-1E-3},0]
[null,null," Block 2 Player 5",null,null,{"$f":"BLOCK!B63","v":0},{"$f":"BLOCK!O77","v":-1E-3},{"$f":"BLOCK!Q77","v":-1E-3},0]
[null,null," Block 2 Player 6",null,null,{"$f":"BLOCK!B66","v":0},{"$f":"BLOCK!R77","v":-1E-3},{"$f":"BLOCK!T77","v":-1E-3},0]
[null,null," Block 2 Player 7",null,null,{"$f":"BLOCK!B69","v":0},{"$f":"BLOCK!U77","v":-1E-3},{"$f":"BLOCK!W77","v":-1E-3},0]
[null,null," Block 2 Player 8",null,null,{"$f":"BLOCK!B72","v":0},{"$f":"BLOCK!X77","v":-1E-3},{"$f":"BLOCK!Z77","v":-1E-3},0]
[null,null," Block 2 Player 9",null,null,{"$f":"BLOCK!B75","v":0},{"$f":"BLOCK!AA77","v":-1E-3},{"$f":"BLOCK!AC77","v":-1E-3},0]
[null,null,{"$f":"C277","v":" Block 2 Player 11"},null,null,{"$f":"BLOCK!$B$81","v":0},{"$f":"BLOCK!$AG$77","v":-1E-3},{"$f":"BLOCK!$AI$77","v":-1E-3},0]
[null,null,{"$f":"C278","v":" Block 2 Player 12"},null,null,{"$f":"BLOCK!$B$84","v":0},{"$f":"BLOCK!$AJ$77","v":-1E-3},{"$f":"BLOCK!$AL$77","v":-1E-3},0]
[null,null,null,null,null," ",null,null,0]
[null,null,null,null,null," ",null,null,0]
[null,null,null,null,null," ",null,null,0]
[null,null,null,null,null," ",null,null,0]
[null,null,null,null,null," ",null,null,{"$f":"G475-H475","v":0}]
[null,null,null,null,null,"TOURNAMENT SCORE CARD"]
[null,null,null,null,null,{"$f":"BLOCK!$L$44","v":"Tournament"}]
[null,null,null,null,null,{"$f":"BLOCK!$L$46","v":"Group"}]
[null,null,null,null,null,{"$f":"BLOCK!$B$48","v":"BLOCK 2"}]
[null,null,"PLAYER:",{"$f":"C277","v":" Block 2 Player 11"},null,null,null,"HANDICAP",{"$f":"F277","v":0}]
[null,null,null,null,null,"OPP.","PLAYER","OPP.","NET"]
[null,null,null,"OPPONENT",null,"HCP","SCORE","SCORE","PTS"]
[null,null,{"$f":"D265","v":" Block 2 Player 1"},null,null,{"$f":"BLOCK!$B$51","v":0},{"$f":"BLOCK!$C$80","v":-1E-3},{"$f":"BLOCK!$E$80","v":-1E-3},{"$f":"G483-H483","v":0},"BLOCK"]
[null,null,{"$f":"C268","v":" Block 2 Player 2"},null,null,{"$f":"BLOCK!$B$54","v":0},{"$f":"BLOCK!$F$80","v":-1E-3},{"$f":"BLOCK!$H$80","v":-1E-3},0,"NET"]
[null,null," Block 2 Player 3",null,null,{"$f":"BLOCK!$B$57","v":0},{"$f":"BLOCK!$I$80","v":-1E-3},{"$f":"BLOCK!$K$80","v":-1E-3},0,{"$f":"SUM(I483:I493)","v":0}]
[null,null," Block 2 Player 4",null,null,{"$f":"BLOCK!$B$60","v":0},{"$f":"BLOCK!$L$80","v":-1E-3},{"$f":"BLOCK!$N$80","v":-1E-3},0]
[null,null," Block 2 Player 5",null,null,{"$f":"BLOCK!$B$63","v":0},{"$f":"BLOCK!$O$80","v":-1E-3},{"$f":"BLOCK!$Q$80","v":-1E-3},0]
[null,null," Block 2 Player 6",null,null,{"$f":"BLOCK!$B$66","v":0},{"$f":"BLOCK!$R$80","v":-1E-3},{"$f":"BLOCK!$T$80","v":-1E-3},0]
[null,null," Block 2 Player 7",null,null,{"$f":"BLOCK!$B$69","v":0},{"$f":"BLOCK!$U$80","v":-1E-3},{"$f":"BLOCK!$W$80","v":-1E-3},0]
[null,null," Block 2 Player 8",null,null,{"$f":"BLOCK!$B$72","v":0},{"$f":"BLOCK!$X$80","v":-1E-3},{"$f":"BLOCK!$Z$80","v":-1E-3},0]
[null,null," Block 2 Player 9",null,null,{"$f":"BLOCK!$B$75","v":0},{"$f":"BLOCK!$AA$80","v":-1E-3},{"$f":"BLOCK!$AC$80","v":-1E-3},0]
[null,null," Block 2 Player 10",null,null,{"$f":"BLOCK!$B$78","v":0},{"$f":"BLOCK!$AD$80","v":-1E-3},{"$f":"BLOCK!$AF$80","v":-1E-3},0]
[null,null,{"$f":"C278","v":" Block 2 Player 12"},null,null,{"$f":"BLOCK!$B$84","v":0},{"$f":"BLOCK!$AJ$80","v":-1E-3},{"$f":"BLOCK!$AL$80","v":-1E-3},0]
[]
[]
[]
[]
[]
[]
[null,null,"PLAYER:",{"$f":"C278","v":" Block 2 Player 12"},null,null,null,"HANDICAP",{"$f":"F278","v":0}]
[null,null,null,null,null,"OPP.","PLAYER","OPP.","NET"]
[null,null,null,"OPPONENT",null,"HCP","SCORE","SCORE","PTS"]
[null,null,{"$f":"D265","v":" Block 2 Player 1"},null,null,{"$f":"BLOCK!$B$51","v":0},{"$f":"BLOCK!$C$83","v":-1E-3},{"$f":"BLOCK!$E$83","v":-1E-3},{"$f":"G503-H503","v":0},"BLOCK"]
[null,null,{"$f":"C268","v":" Block 2 Player 2"},null,null,{"$f":"BLOCK!$B$54","v":0},{"$f":"BLOCK!$F$83","v":-1E-3},{"$f":"BLOCK!$H$83","v":-1E-3},0,"NET"]
[null,null," Block 2 Player 3",null,null,{"$f":"BLOCK!$B$57","v":0},{"$f":"BLOCK!$I$83","v":-1E-3},{"$f":"BLOCK!$K$83","v":-1E-3},0,{"$f":"SUM(I503:I513)","v":0}]
[null,null," Block 2 Player 4",null,null,{"$f":"BLOCK!$B$60","v":0},{"$f":"BLOCK!$L$83","v":-1E-3},{"$f":"BLOCK!$N$83","v":-1E-3},0]
[null,null," Block 2 Player 5",null,null,{"$f":"BLOCK!$B$63","v":0},{"$f":"BLOCK!$O$83","v":-1E-3},{"$f":"BLOCK!$Q$83","v":-1E-3},0]
[null,null," Block 2 Player 6",null,null,{"$f":"BLOCK!$B$66","v":0},{"$f":"BLOCK!$R$83","v":-1E-3},{"$f":"BLOCK!$T$83","v":-1E-3},0]
[null,null," Block 2 Player 7",null,null,{"$f":"BLOCK!$B$69","v":0},{"$f":"BLOCK!$U$83","v":-1E-3},{"$f":"BLOCK!$W$83","v":-1E-3},0]
[null,null," Block 2 Player 8",null,null,{"$f":"BLOCK!$B$72","v":0},{"$f":"BLOCK!$X$83","v":-1E-3},{"$f":"BLOCK!$Z$83","v":-1E-3},0]
[null,null," Block 2 Player 9",null,null,{"$f":"BLOCK!$B$75","v":0},{"$f":"BLOCK!$AA$83","v":-1E-3},{"$f":"BLOCK!$AC$83","v":-1E-3},0]
[null,null," Block 2 Player 10",null,null,{"$f":"BLOCK!$B$78","v":0},{"$f":"BLOCK!$AD$83","v":-1E-3},{"$f":"BLOCK!$AF$83","v":-1E-3},0]
[null,null," Block 2 Player 11",null,null,{"$f":"BLOCK!$B$81","v":0},{"$f":"BLOCK!$AG$83","v":-1E-3},{"$f":"BLOCK!$AI$83","v":-1E-3},0]

{"sheet":"PLAYER","index":10,"n_rows":1225,"n_cols":10,"rows_kept":1225,"cut":false,"hidden":false,"merged":[[1222,0,1222,7],[1223,0,1223,7],[1224,0,1224,7],[558,0,558,7],[509,0,509,7],[510,0,510,7],[507,0,507,7],[508,0,508,7],[1221,0,1221,7],[1122,0,1122,7],[559,0,559,7],[1119,0,1119,7],[1120,0,1120,7],[1121,0,1121,7],[560,0,560,7],[561,0,561,7],[611,0,611,7],[609,0,609,7],[610,0,610,7]]}
[]
[null,null,null,null,{"$f":"BLOCK!C6","v":" Block 1 Player 1"}]
[null,null,null,null,{"$f":"BLOCK!L2","v":"Tournament"}]
[null,null,null,null,{"$f":"BLOCK!L4","v":"Group"}]
[null,null,null,null,{"$f":"BLOCK!B6","v":"BLOCK 1"}]
[]
[null,null,null,null,"BLOCK PLAY SCHEDULE"]
[null,"TIME","DAY","COURT",null,"OPPONENT",null,"Handicap","PS","OS"]
[null,{"$f":"GAMES!$B$4","v":"00:00:00"},{"$f":"GAMES!$C$4","v":"00:00:00"},{"$f":"GAMES!$D$4","v":0},null,{"$f":"GAMES!$G$4","v":" Block 1 Player 3"},null,{"$f":"$E$25","v":0},{"$f":"$F$25","v":-1E-3},{"$f":"$G$25","v":-1E-3}]
[null,{"$f":"GAMES!$B$10","v":"00:00:00"},{"$f":"GAMES!$C$10","v":"00:00:00"},{"$f":"GAMES!$D$10","v":0},null,{"$f":"GAMES!$G$10","v":" Block 1 Player 4"},null,{"$f":"$E$26","v":0},{"$f":"$F$26","v":-1E-3},{"$f":"$G$26","v":-1E-3}]
[null,{"$f":"GAMES!$B$16","v":"00:00:00"},{"$f":"GAMES!$C$16","v":"00:00:00"},{"$f":"GAMES!$D$16","v":0},null,{"$f":"GAMES!$G$16","v":" Block 1 Player 5"},null,{"$f":"$E$27","v":0},{"$f":"$F$27","v":-1E-3},{"$f":"$G$27","v":-1E-3}]
[null,{"$f":"GAMES!$B$22","v":"00:00:00"},{"$f":"GAMES!$C$22","v":"00:00:00"},{"$f":"GAMES!$D$22","v":0},null,{"$f":"GAMES!$G$22","v":" Block 1 Player 6"},null,{"$f":"$E$28","v":0},{"$f":"$F$28","v":-1E-3},{"$f":"$G$28","v":-1E-3}]
[null,{"$f":"GAMES!$B$28","v":"00:00:00"},{"$f":"GAMES!$C$28","v":"00:00:00"},{"$f":"GAMES!$D$28","v":0},null,{"$f":"GAMES!$G$28","v":" Block 1 Player 7"},null,{"$f":"$E$29","v":0},{"$f":"$F$29","v":-1E-3},{"$f":"$G$29","v":-1E-3}]
[null,{"$f":"GAMES!$B$34","v":"00:00:00"},{"$f":"GAMES!$C$34","v":"00:00:00"},{"$f":"GAMES!$D$34","v":0},null,{"$f":"GAMES!$G$34","v":" Block 1 Player 8"},null,{"$f":"$E$30","v":0},{"$f":"$F$30","v":-1E-3},{"$f":"$G$30","v":-1E-3}]
[null,{"$f":"GAMES!$B$40","v":"00:00:00"},{"$f":"GAMES!$C$40","v":"00:00:00"},{"$f":"GAMES!$D$40","v":0},null,{"$f":"GAMES!$G$40","v":" Block 1 Player 9"},null,{"$f":"$E$31","v":0},{"$f":"$F$31","v":-1E-3},{"$f":"$G$31","v":-1E-3}]
[null,{"$f":"GAMES!$B$46","v":"00:00:00"},{"$f":"GAMES!$C$46","v":"00:00:00"},{"$f":"GAMES!$D$46","v":0},null,{"$f":"GAMES!$G$46","v":" Block 1 Player 10"},null,{"$f":"$E$32","v":0},{"$f":"$F$32","v":-1E-3},{"$f":"$G$32","v":-1E-3}]
[null,{"$f":"GAMES!$B$52","v":"00:00:00"},{"$f":"GAMES!$C$52","v":"00:00:00"},{"$f":"GAMES!$D$52","v":0},null,{"$f":"GAMES!$G$52","v":" Block 1 Player 11"},null,{"$f":"$E$33","v":0},{"$f":"$F$33","v":-1E-3},{"$f":"$G$33","v":-1E-3}]
[null,{"$f":"GAMES!B58","v":"00:00:00"},{"$f":"GAMES!C58","v":"00:00:00"},{"$f":"GAMES!D58","v":0},null,{"$f":"GAMES!$G$58","v":" Block 1 Player 12"},null,{"$f":"$E$34","v":0},{"$f":"$F$34","v":-1E-3},{"$f":"$G$34","v":-1E-3}]
[null,{"$f":"GAMES!B64","v":"00:00:00"},{"$f":"GAMES!C64","v":"00:00:00"},{"$f":"GAMES!D64","v":0},null,{"$f":"GAMES!$G$64","v":" Block 1 Player 2"},null,{"$f":"$E$24","v":0},{"$f":"$F$24","v":-1E-3},{"$f":"$G$24","v":-1E-3}]
[]
[null,"PLAYER:",{"$f":"BLOCK!C6","v":" Block 1 Player 1"},null,null,null,"HANDICAP",{"$f":"BLOCK!B9","v":0}]
[null,null,null,null,"OPP","PLAYER","OPP","H/CAP"]
[null,null,"OPPONENT",null,"HCP","SCORE","SCORE","PTS"]
[null,{"$f":"SCORECARD!C9","v":" Block 1 Player 2"},null,null,{"$f":"SCORECARD!F9","v":0},{"$f":"SCORECARD!G9","v":-1E-3},{"$f":"SCORECARD!H9","v":-1E-3},{"$f":"IF(NOT(OR(F24>0,G24>0)),\"\",IF(HandicapPlay=\"x\",IF(F24>G24,10,-10),(IF((F24-G24>0),(VLOOKUP(OFFSET(H24,-3,0),(TABLE!WIN),(MATCH(E24,WINCOL,0)+1))),(VLOOKUP(OFFSET(H24,-3,0),(TABLE!LOSE),(MATCH(E24,LOSECOL,0)+1)))))))","v":""}]
[null,{"$f":"SCORECARD!C10","v":" Block 1 Player 3"},null,null,{"$f":"SCORECARD!F10","v":0},{"$f":"SCORECARD!G10","v":-1E-3},{"$f":"SCORECARD!H10","v":-1E-3},{"$f":"IF(NOT(OR(F25>0,G25>0)),\"\",IF(HandicapPlay=\"x\",IF(F25>G25,10,-10),(IF((F25-G25>0),(VLOOKUP(OFFSET(H25,-4,0),(TABLE!WIN),(MATCH(E25,WINCOL,0)+1))),(VLOOKUP(OFFSET(H25,-4,0),(TABLE!LOSE),(MATCH(E25,LOSECOL,0)+1)))))))","v":""}]
[null,{"$f":"SCORECARD!C11","v":" Block 1 Player 4"},null,null,{"$f":"SCORECARD!F11","v":0},{"$f":"SCORECARD!G11","v":-1E-3},{"$f":"SCORECARD!H11","v":-1E-3},{"$f":"IF(NOT(OR(F26>0,G26>0)),\"\",IF(HandicapPlay=\"x\",IF(F26>G26,10,-10),(IF((F26-G26>0),(VLOOKUP(OFFSET(H26,-5,0),(TABLE!WIN),(MATCH(E26,WINCOL,0)+1))),(VLOOKUP(OFFSET(H26,-5,0),(TABLE!LOSE),(MATCH(E26,LOSECOL,0)+1)))))))","v":""}]
[null,{"$f":"SCORECARD!C12","v":" Block 1 Player 5"},null,null,{"$f":"SCORECARD!F12","v":0},{"$f":"SCORECARD!G12","v":-1E-3},{"$f":"SCORECARD!H12","v":-1E-3},{"$f":"IF(NOT(OR(F27>0,G27>0)),\"\",IF(HandicapPlay=\"x\",IF(F27>G27,10,-10),(IF((F27-G27>0),(VLOOKUP(OFFSET(H27,-6,0),(TABLE!WIN),(MATCH(E27,WINCOL,0)+1))),(VLOOKUP(OFFSET(H27,-6,0),(TABLE!LOSE),(MATCH(E27,LOSECOL,0)+1)))))))","v":""}]
[null,{"$f":"SCORECARD!C13","v":" Block 1 Player 6"},null,null,{"$f":"SCORECARD!F13","v":0},{"$f":"SCORECARD!G13","v":-1E-3},{"$f":"SCORECARD!H13","v":-1E-3},{"$f":"IF(NOT(OR(F28>0,G28>0)),\"\",IF(HandicapPlay=\"x\",IF(F28>G28,10,-10),(IF((F28-G28>0),(VLOOKUP(OFFSET(H28,-7,0),(TABLE!WIN),(MATCH(E28,WINCOL,0)+1))),(VLOOKUP(OFFSET(H28,-7,0),(TABLE!LOSE),(MATCH(E28,LOSECOL,0)+1)))))))","v":""}]
[null,{"$f":"SCORECARD!C14","v":" Block 1 Player 7"},null,null,{"$f":"SCORECARD!F14","v":0},{"$f":"SCORECARD!G14","v":-1E-3},{"$f":"SCORECARD!H14","v":-1E-3},{"$f":"IF(NOT(OR(F29>0,G29>0)),\"\",IF(HandicapPlay=\"x\",IF(F29>G29,10,-10),(IF((F29-G29>0),(VLOOKUP(OFFSET(H29,-8,0),(TABLE!WIN),(MATCH(E29,WINCOL,0)+1))),(VLOOKUP(OFFSET(H29,-8,0),(TABLE!LOSE),(MATCH(E29,LOSECOL,0)+1)))))))","v":""}]
[null,{"$f":"SCORECARD!C15","v":" Block 1 Player 8"},null,null,{"$f":"SCORECARD!F15","v":0},{"$f":"SCORECARD!G15","v":-1E-3},{"$f":"SCORECARD!H15","v":-1E-3},{"$f":"IF(NOT(OR(F30>0,G30>0)),\"\",IF(HandicapPlay=\"x\",IF(F30>G30,10,-10),(IF((F30-G30>0),(VLOOKUP(OFFSET(H30,-9,0),(TABLE!WIN),(MATCH(E30,WINCOL,0)+1))),(VLOOKUP(OFFSET(H30,-9,0),(TABLE!LOSE),(MATCH(E30,LOSECOL,0)+1)))))))","v":""}]
[null,{"$f":"SCORECARD!C16","v":" Block 1 Player 9"},null,null,{"$f":"SCORECARD!F16","v":0},{"$f":"SCORECARD!G16","v":-1E-3},{"$f":"SCORECARD!H16","v":-1E-3},{"$f":"IF(NOT(OR(F31>0,G31>0)),\"\",IF(HandicapPlay=\"x\",IF(F31>G31,10,-10),(IF((F31-G31>0),(VLOOKUP(OFFSET(H31,-10,0),(TABLE!WIN),(MATCH(E31,WINCOL,0)+1))),(VLOOKUP(OFFSET(H31,-10,0),(TABLE!LOSE),(MATCH(E31,LOSECOL,0)+1)))))))","v":""}]
[null,{"$f":"SCORECARD!C17","v":" Block 1 Player 10"},null,null,{"$f":"SCORECARD!F17","v":0},{"$f":"SCORECARD!G17","v":-1E-3},{"$f":"SCORECARD!H17","v":-1E-3},{"$f":"IF(NOT(OR(F32>0,G32>0)),\"\",IF(HandicapPlay=\"x\",IF(F32>G32,10,-10),(IF((F32-G32>0),(VLOOKUP(OFFSET(H32,-11,0),(TABLE!WIN),(MATCH(E32,WINCOL,0)+1))),(VLOOKUP(OFFSET(H32,-11,0),(TABLE!LOSE),(MATCH(E32,LOSECOL,0)+1)))))))","v":""}]
[null,{"$f":"SCORECARD!C18","v":" Block 1 Player 11"},null,null,{"$f":"SCORECARD!F18","v":0},{"$f":"SCORECARD!G18","v":-1E-3},{"$f":"SCORECARD!H18","v":-1E-3},{"$f":"IF(NOT(OR(F33>0,G33>0)),\"\",IF(HandicapPlay=\"x\",IF(F33>G33,10,-10),(IF((F33-G33>0),(VLOOKUP(OFFSET(H33,-12,0),(TABLE!WIN),(MATCH(E33,WINCOL,0)+1))),(VLOOKUP(OFFSET(H33,-12,0),(TABLE!LOSE),(MATCH(E33,LOSECOL,0)+1)))))))","v":""}]
[null,{"$f":"SCORECARD!C19","v":" Block 1 Player 12"},null,null,{"$f":"SCORECARD!F19","v":0},{"$f":"SCORECARD!G19","v":-1E-3},{"$f":"SCORECARD!H19","v":-1E-3},{"$f":"IF(NOT(OR(F34>0,G34>0)),\"\",IF(HandicapPlay=\"x\",IF(F34>G34,10,-10),(IF((F34-G34>0),(VLOOKUP(OFFSET(H34,-13,0),(TABLE!WIN),(MATCH(E34,WINCOL,0)+1))),(VLOOKUP(OFFSET(H34,-13,0),(TABLE!LOSE),(MATCH(E34,LOSECOL,0)+1)))))))","v":""}]
[]
[]
[]
[]
[]
[]
[null,null,null,null,null,null,"Handicap adjustment points total   ",{"$f":"SUM(H24:H34)","v":0}]
[]
[]
[]
[]
[]
[]
[]
[{"$f":"note1","v":"Time limit 2.5 hours, Turn After Bell (61.1.6). Quadway hoops (3 11/16\"), Dawson International balls"}]
[{"$f":"note2","v":"Games may start early. Please be at the venue at least 30 minutes earlier than the scheduled start time."}]
[{"$f":"note3","v":"Entry Fee $40 will be invoiced by email. Please pay by EFT using the invoice No. as reference."}]
[{"$f":"note4","v":"Players please assist with setting and clearing courts."}]
[null,null,null,null,{"$f":"BLOCK!F6","v":" Block 1 Player 2"}]
[null,null,null,null,{"$f":"BLOCK!L2","v":"Tournament"}]
[null,null,null,null,{"$f":"BLOCK!L4","v":"Group"}]
[null,null,null,null,{"$f":"BLOCK!B6","v":"BLOCK 1"}]
[]
[null,null,null,null,"BLOCK PLAY SCHEDULE"]
[null,"TIME","DAY","COURT",null,"OPPONENT",null,"Handicap","PS","OS"]
[null,{"$f":"GAMES!B5","v":"00:00:00"},{"$f":"GAMES!C5","v":"00:00:00"},{"$f":"GAMES!D5","v":0},null,{"$f":"GAMES!$G$5","v":" Block 1 Player 4"},null,{"$f":"$E$77","v":0},{"$f":"$F$77","v":-1E-3},{"$f":"$G$77","v":-1E-3}]
[null,{"$f":"GAMES!B12","v":"00:00:00"},{"$f":"GAMES!C12","v":"00:00:00"},{"$f":"GAMES!D12","v":0},null,{"$f":"GAMES!$G$12","v":" Block 1 Player 6"},null,{"$f":"$E$79","v":0},{"$f":"$F$79","v":-1E-3},{"$f":"$G$79","v":-1E-3}]
[null,{"$f":"GAMES!B19","v":"00:00:00"},{"$f":"GAMES!C19","v":"00:00:00"},{"$f":"GAMES!D19","v":0},null,{"$f":"GAMES!$G$19","v":" Block 1 Player 8"},null,{"$f":"$E$81","v":0},{"$f":"$F$81","v":-1E-3},{"$f":"$G$81","v":-1E-3}]
[null,{"$f":"GAMES!B26","v":"00:00:00"},{"$f":"GAMES!C26","v":"00:00:00"},{"$f":"GAMES!D26","v":0},null,{"$f":"GAMES!$G$26","v":" Block 1 Player 10"},null,{"$f":"$E$83","v":0},{"$f":"$F$83","v":-1E-3},{"$f":"$G$83","v":-1E-3}]
[null,{"$f":"GAMES!B33","v":"00:00:00"},{"$f":"GAMES!C33","v":"00:00:00"},{"$f":"GAMES!D33","v":0},null,{"$f":"GAMES!$G$33","v":" Block 1 Player 12"},null,{"$f":"$E$85","v":0},{"$f":"$F$85","v":-1E-3},{"$f":"$G$85","v":-1E-3}]
[null,{"$f":"GAMES!B39","v":"00:00:00"},{"$f":"GAMES!C39","v":"00:00:00"},{"$f":"GAMES!D39","v":0},null,{"$f":"GAMES!$E$39","v":" Block 1 Player 3"},null,{"$f":"$E$76","v":0},{"$f":"$F$76","v":-1E-3},{"$f":"$G$76","v":-1E-3}]
[null,{"$f":"GAMES!B44","v":"00:00:00"},{"$f":"GAMES!C44","v":"00:00:00"},{"$f":"GAMES!D44","v":0},null,{"$f":"GAMES!$E$44","v":" Block 1 Player 5"},null,{"$f":"$E$78","v":0},{"$f":"$F$78","v":-1E-3},{"$f":"$G$78","v":-1E-3}]
[null,{"$f":"GAMES!B49","v":"00:00:00"},{"$f":"GAMES!C49","v":"00:00:00"},{"$f":"GAMES!D49","v":0},null,{"$f":"GAMES!$E$49","v":" Block 1 Player 7"},null,{"$f":"$E$80","v":0},{"$f":"$F$80","v":-1E-3},{"$f":"$G$80","v":-1E-3}]
[null,{"$f":"GAMES!B54","v":"00:00:00"},{"$f":"GAMES!C54","v":"00:00:00"},{"$f":"GAMES!D54","v":0},null,{"$f":"GAMES!$G$54","v":" Block 1 Player 9"},null,{"$f":"$E$82","v":0},{"$f":"$F$82","v":-1E-3},{"$f":"$G$82","v":-1E-3}]
[null,{"$f":"GAMES!B59","v":"00:00:00"},{"$f":"GAMES!C59","v":"00:00:00"},{"$f":"GAMES!D59","v":0},null,{"$f":"GAMES!$E$59","v":" Block 1 Player 11"},null,{"$f":"$E$84","v":0},{"$f":"$F$84","v":-1E-3},{"$f":"$G$84","v":-1E-3}]
[null,{"$f":"GAMES!B64","v":"00:00:00"},{"$f":"GAMES!C64","v":"00:00:00"},{"$f":"GAMES!D64","v":0},null,{"$f":"GAMES!$E$64","v":" Block 1 Player 1"},null,{"$f":"$E$75","v":0},{"$f":"$F$75","v":-1E-3},{"$f":"$G$75","v":-1E-3}]
[]
[null,"PLAYER:",{"$f":"BLOCK!F6","v":" Block 1 Player 2"},null,null,null,"HANDICAP",{"$f":"BLOCK!B12","v":0}]
[null,null,null,null,"OPP","PLAYER","OPP","H/CAP"]
[null,null,"OPPONENT",null,"HCP","SCORE","SCORE","PTS"]
[null,{"$f":"SCORECARD!C29","v":" Block 1 Player 1"},null,null,{"$f":"SCORECARD!F29","v":0},{"$f":"SCORECARD!G29","v":-1E-3},{"$f":"SCORECARD!H29","v":-1E-3},{"$f":"IF(NOT(OR(F75>0,G75>0)),\"\",IF(HandicapPlay=\"x\",IF(F75>G75,10,-10),(IF((F75-G75>0),(VLOOKUP(OFFSET(H75,-3,0),(TABLE!WIN),(MATCH(E75,WINCOL,0)+1))),(VLOOKUP(OFFSET(H75,-3,0),(TABLE!LOSE),(MATCH(E75,LOSECOL,0)+1)))))))","v":""}]
[null,{"$f":"SCORECARD!C30","v":" Block 1 Player 3"},null,null,{"$f":"SCORECARD!F30","v":0},{"$f":"SCORECARD!G30","v":-1E-3},{"$f":"SCORECARD!H30","v":-1E-3},{"$f":"IF(NOT(OR(F76>0,G76>0)),\"\",IF(HandicapPlay=\"x\",IF(F76>G76,10,-10),(IF((F76-G76>0),(VLOOKUP(OFFSET(H76,-4,0),(TABLE!WIN),(MATCH(E76,WINCOL,0)+1))),(VLOOKUP(OFFSET(H76,-4,0),(TABLE!LOSE),(MATCH(E76,LOSECOL,0)+1)))))))","v":""}]
[null,{"$f":"SCORECARD!C31","v":" Block 1 Player 4"},null,null,{"$f":"SCORECARD!F31","v":0},{"$f":"SCORECARD!G31","v":-1E-3},{"$f":"SCORECARD!H31","v":-1E-3},{"$f":"IF(NOT(OR(F77>0,G77>0)),\"\",IF(HandicapPlay=\"x\",IF(F77>G77,10,-10),(IF((F77-G77>0),(VLOOKUP(OFFSET(H77,-5,0),(TABLE!WIN),(MATCH(E77,WINCOL,0)+1))),(VLOOKUP(OFFSET(H77,-5,0),(TABLE!LOSE),(MATCH(E77,LOSECOL,0)+1)))))))","v":""}]
[null,{"$f":"SCORECARD!C32","v":" Block 1 Player 5"},null,null,{"$f":"SCORECARD!F32","v":0},{"$f":"SCORECARD!G32","v":-1E-3},{"$f":"SCORECARD!H32","v":-1E-3},{"$f":"IF(NOT(OR(F78>0,G78>0)),\"\",IF(HandicapPlay=\"x\",IF(F78>G78,10,-10),(IF((F78-G78>0),(VLOOKUP(OFFSET(H78,-6,0),(TABLE!WIN),(MATCH(E78,WINCOL,0)+1))),(VLOOKUP(OFFSET(H78,-6,0),(TABLE!LOSE),(MATCH(E78,LOSECOL,0)+1)))))))","v":""}]
[null,{"$f":"SCORECARD!C33","v":" Block 1 Player 6"},null,null,{"$f":"SCORECARD!F33","v":0},{"$f":"SCORECARD!G33","v":-1E-3},{"$f":"SCORECARD!H33","v":-1E-3},{"$f":"IF(NOT(OR(F79>0,G79>0)),\"\",IF(HandicapPlay=\"x\",IF(F79>G79,10,-10),(IF((F79-G79>0),(VLOOKUP(OFFSET(H79,-7,0),(TABLE!WIN),(MATCH(E79,WINCOL,0)+1))),(VLOOKUP(OFFSET(H79,-7,0),(TABLE!LOSE),(MATCH(E79,LOSECOL,0)+1)))))))","v":""}]
[null,{"$f":"SCORECARD!C34","v":" Block 1 Player 7"},null,null,{"$f":"SCORECARD!F34","v":0},{"$f":"SCORECARD!G34","v":-1E-3},{"$f":"SCORECARD!H34","v":-1E-3},{"$f":"IF(NOT(OR(F80>0,G80>0)),\"\",IF(HandicapPlay=\"x\",IF(F80>G80,10,-10),(IF((F80-G80>0),(VLOOKUP(OFFSET(H80,-8,0),(TABLE!WIN),(MATCH(E80,WINCOL,0)+1))),(VLOOKUP(OFFSET(H80,-8,0),(TABLE!LOSE),(MATCH(E80,LOSECOL,0)+1)))))))","v":""}]
[null,{"$f":"SCORECARD!C35","v":" Block 1 Player 8"},null,null,{"$f":"SCORECARD!F35","v":0},{"$f":"SCORECARD!G35","v":-1E-3},{"$f":"SCORECARD!H35","v":-1E-3},{"$f":"IF(NOT(OR(F81>0,G81>0)),\"\",IF(HandicapPlay=\"x\",IF(F81>G81,10,-10),(IF((F81-G81>0),(VLOOKUP(OFFSET(H81,-9,0),(TABLE!WIN),(MATCH(E81,WINCOL,0)+1))),(VLOOKUP(OFFSET(H81,-9,0),(TABLE!LOSE),(MATCH(E81,LOSECOL,0)+1)))))))","v":""}]
[null,{"$f":"SCORECARD!C36","v":" Block 1 Player 9"},null,null,{"$f":"SCORECARD!F36","v":0},{"$f":"SCORECARD!G36","v":-1E-3},{"$f":"SCORECARD!H36","v":-1E-3},{"$f":"IF(NOT(OR(F82>0,G82>0)),\"\",IF(HandicapPlay=\"x\",IF(F82>G82,10,-10),(IF((F82-G82>0),(VLOOKUP(OFFSET(H82,-10,0),(TABLE!WIN),(MATCH(E82,WINCOL,0)+1))),(VLOOKUP(OFFSET(H82,-10,0),(TABLE!LOSE),(MATCH(E82,LOSECOL,0)+1)))))))","v":""}]
[null,{"$f":"SCORECARD!C37","v":" Block 1 Player 10"},null,null,{"$f":"SCORECARD!F37","v":0},{"$f":"SCORECARD!G37","v":-1E-3},{"$f":"SCORECARD!H37","v":-1E-3},{"$f":"IF(NOT(OR(F83>0,G83>0)),\"\",IF(HandicapPlay=\"x\",IF(F83>G83,10,-10),(IF((F83-G83>0),(VLOOKUP(OFFSET(H83,-11,0),(TABLE!WIN),(MATCH(E83,WINCOL,0)+1))),(VLOOKUP(OFFSET(H83,-11,0),(TABLE!LOSE),(MATCH(E83,LOSECOL,0)+1)))))))","v":""}]
[null,{"$f":"SCORECARD!C38","v":" Block 1 Player 11"},null,null,{"$f":"SCORECARD!F38","v":0},{"$f":"SCORECARD!G38","v":-1E-3},{"$f":"SCORECARD!H38","v":-1E-3},{"$f":"IF(NOT(OR(F84>0,G84>0)),\"\",IF(HandicapPlay=\"x\",IF(F84>G84,10,-10),(IF((F84-G84>0),(VLOOKUP(OFFSET(H84,-12,0),(TABLE!WIN),(MATCH(E84,WINCOL,0)+1))),(VLOOKUP(OFFSET(H84,-12,0),(TABLE!LOSE),(MATCH(E84,LOSECOL,0)+1)))))))","v":""}]
[null,{"$f":"SCORECARD!C39","v":" Block 1 Player 12"},null,null,{"$f":"SCORECARD!F39","v":0},{"$f":"SCORECARD!G39","v":-1E-3},{"$f":"SCORECARD!H39","v":-1E-3},{"$f":"IF(NOT(OR(F85>0,G85>0)),\"\",IF(HandicapPlay=\"x\",IF(F85>G85,10,-10),(IF((F85-G85>0),(VLOOKUP(OFFSET(H85,-13,0),(TABLE!WIN),(MATCH(E85,WINCOL,0)+1))),(VLOOKUP(OFFSET(H85,-13,0),(TABLE!LOSE),(MATCH(E85,LOSECOL,0)+1)))))))","v":""}]
[]
[]
[]
[]
[]
[]
[null,null,null,null,null,null,"Handicap adjustment points total   ",{"$f":"SUM(H75:H85)","v":0}]
[]
[]
[]
[]
[]
[]
[]
[{"$f":"note1","v":"Time limit 2.5 hours, Turn After Bell (61.1.6). Quadway hoops (3 11/16\"), Dawson International balls"}]
[{"$f":"note2","v":"Games may start early. Please be at the venue at least 30 minutes earlier than the scheduled start time."}]
[{"$f":"note3","v":"Entry Fee $40 will be invoiced by email. Please pay by EFT using the invoice No. as reference."}]
[{"$f":"note4","v":"Players please assist with setting and clearing courts."}]
[null,null,null,null,{"$f":"BLOCK!I6","v":" Block 1 Player 3"}]
[null,null,null,null,{"$f":"BLOCK!L2","v":"Tournament"}]
[null,null,null,null,{"$f":"BLOCK!L4","v":"Group"}]
[null,null,null,null,{"$f":"BLOCK!B6","v":"BLOCK 1"}]
[]
[null,null,null,null,"BLOCK PLAY SCHEDULE"]
[null,"TIME","DAY","COURT",null,"OPPONENT",null,"Handicap","PS","OS"]
[null,{"$f":"GAMES!B4","v":"00:00:00"},{"$f":"GAMES!C4","v":"00:00:00"},{"$f":"GAMES!D4","v":0},null,{"$f":"GAMES!$E$4","v":" Block 1 Player 1"},null,{"$f":"$E$126","v":0},{"$f":"$F$126","v":-1E-3},{"$f":"$G$126","v":-1E-3}]
[null,{"$f":"GAMES!B11","v":"00:00:00"},{"$f":"GAMES!C11","v":"00:00:00"},{"$f":"GAMES!D11","v":0},null,{"$f":"GAMES!$E$11","v":" Block 1 Player 5"},null,{"$f":"$E$129","v":0},{"$f":"$F$129","v":-1E-3},{"$f":"$G$129","v":-1E-3}]
[null,{"$f":"GAMES!B18","v":"00:00:00"},{"$f":"GAMES!C18","v":"00:00:00"},{"$f":"GAMES!D18","v":0},null,{"$f":"GAMES!$G$18","v":" Block 1 Player 7"},null,{"$f":"$E$131","v":0},{"$f":"$F$131","v":-1E-3},{"$f":"$G$131","v":-1E-3}]
[null,{"$f":"GAMES!B25","v":"00:00:00"},{"$f":"GAMES!C25","v":"00:00:00"},{"$f":"GAMES!D25","v":0},null,{"$f":"GAMES!$G$25","v":" Block 1 Player 9"},null,{"$f":"$E$133","v":0},{"$f":"$F$133","v":-1E-3},{"$f":"$G$133","v":-1E-3}]
[null,{"$f":"GAMES!B32","v":"00:00:00"},{"$f":"GAMES!C32","v":"00:00:00"},{"$f":"GAMES!D32","v":0},null,{"$f":"GAMES!$G$32","v":" Block 1 Player 11"},null,{"$f":"$E$135","v":0},{"$f":"$F$135","v":-1E-3},{"$f":"$G$135","v":-1E-3}]
[null,{"$f":"GAMES!B39","v":"00:00:00"},{"$f":"GAMES!C39","v":"00:00:00"},{"$f":"GAMES!D39","v":0},null,{"$f":"GAMES!$G$39","v":" Block 1 Player 2"},null,{"$f":"$E$127","v":0},{"$f":"$F$127","v":-1E-3},{"$f":"$G$127","v":-1E-3}]
[null,{"$f":"GAMES!B45","v":"00:00:00"},{"$f":"GAMES!C45","v":"00:00:00"},{"$f":"GAMES!D45","v":0},null,{"$f":"GAMES!$E$45","v":" Block 1 Player 4"},null,{"$f":"$E$128","v":0},{"$f":"$F$128","v":-1E-3},{"$f":"$G$128","v":-1E-3}]
[null,{"$f":"GAMES!B50","v":"00:00:00"},{"$f":"GAMES!C50","v":"00:00:00"},{"$f":"GAMES!D50","v":0},null,{"$f":"GAMES!$E$50","v":" Block 1 Player 6"},null,{"$f":"$E$130","v":0},{"$f":"$F$130","v":-1E-3},{"$f":"$G$130","v":-1E-3}]
[null,{"$f":"GAMES!B55","v":"00:00:00"},{"$f":"GAMES!C55","v":"00:00:00"},{"$f":"GAMES!D55","v":0},null,{"$f":"GAMES!$G$55","v":" Block 1 Player 8"},null,{"$f":"$E$132","v":0},{"$f":"$F$132","v":-1E-3},{"$f":"$G$132","v":-1E-3}]
[null,{"$f":"GAMES!B60","v":"00:00:00"},{"$f":"GAMES!C60","v":"00:00:00"},{"$f":"GAMES!D60","v":0},null,{"$f":"GAMES!$E$60","v":" Block 1 Player 10"},null,{"$f":"$E$134","v":0},{"$f":"$F$134","v":-1E-3},{"$f":"$G$134","v":-1E-3}]
[null,{"$f":"GAMES!B65","v":"00:00:00"},{"$f":"GAMES!C65","v":"00:00:00"},{"$f":"GAMES!D65","v":0},null,{"$f":"GAMES!$E$65","v":" Block 1 Player 12"},null,{"$f":"$E$136","v":0},{"$f":"$F$136","v":-1E-3},{"$f":"$G$136","v":-1E-3}]
[]
[null,"PLAYER:",{"$f":"BLOCK!I6","v":" Block 1 Player 3"},null,null,null,"HANDICAP",{"$f":"BLOCK!B15","v":0}]
[null,null,"OPPONENT",null,"OPP","PLAYER","OPP","H/CAP"]
[null,null,null,null,"HCP","SCORE","SCORE","PTS"]
[null,{"$f":"SCORECARD!C52","v":" Block 1 Player 1"},null,null,{"$f":"SCORECARD!F52","v":0},{"$f":"SCORECARD!G52","v":-1E-3},{"$f":"SCORECARD!H52","v":-1E-3},{"$f":"IF(NOT(OR(F126>0,G126>0)),\"\",IF(HandicapPlay=\"x\",IF(F126>G126,10,-10),(IF((F126-G126>0),(VLOOKUP(OFFSET(H126,-3,0),(TABLE!WIN),(MATCH(E126,WINCOL,0)+1))),(VLOOKUP(OFFSET(H126,-3,0),(TABLE!LOSE),(MATCH(E126,LOSECOL,0)+1)))))))","v":""}]
[null,{"$f":"SCORECARD!C53","v":" Block 1 Player 2"},null,null,{"$f":"SCORECARD!F53","v":0},{"$f":"SCORECARD!G53","v":-1E-3},{"$f":"SCORECARD!H53","v":-1E-3},{"$f":"IF(NOT(OR(F127>0,G127>0)),\"\",IF(HandicapPlay=\"x\",IF(F127>G127,10,-10),(IF((F127-G127>0),(VLOOKUP(OFFSET(H127,-4,0),(TABLE!WIN),(MATCH(E127,WINCOL,0)+1))),(VLOOKUP(OFFSET(H127,-4,0),(TABLE!LOSE),(MATCH(E127,LOSECOL,0)+1)))))))","v":""}]
[null,{"$f":"SCORECARD!C54","v":" Block 1 Player 4"},null,null,{"$f":"SCORECARD!F54","v":0},{"$f":"SCORECARD!G54","v":-1E-3},{"$f":"SCORECARD!H54","v":-1E-3},{"$f":"IF(NOT(OR(F128>0,G128>0)),\"\",IF(HandicapPlay=\"x\",IF(F128>G128,10,-10),(IF((F128-G128>0),(VLOOKUP(OFFSET(H128,-5,0),(TABLE!WIN),(MATCH(E128,WINCOL,0)+1))),(VLOOKUP(OFFSET(H128,-5,0),(TABLE!LOSE),(MATCH(E128,LOSECOL,0)+1)))))))","v":""}]
[null,{"$f":"SCORECARD!C55","v":" Block 1 Player 5"},null,null,{"$f":"SCORECARD!F55","v":0},{"$f":"SCORECARD!G55","v":-1E-3},{"$f":"SCORECARD!H55","v":-1E-3},{"$f":"IF(NOT(OR(F129>0,G129>0)),\"\",IF(HandicapPlay=\"x\",IF(F129>G129,10,-10),(IF((F129-G129>0),(VLOOKUP(OFFSET(H129,-6,0),(TABLE!WIN),(MATCH(E129,WINCOL,0)+1))),(VLOOKUP(OFFSET(H129,-6,0),(TABLE!LOSE),(MATCH(E129,LOSECOL,0)+1)))))))","v":""}]
[null,{"$f":"SCORECARD!C56","v":" Block 1 Player 6"},null,null,{"$f":"SCORECARD!F56","v":0},{"$f":"SCORECARD!G56","v":-1E-3},{"$f":"SCORECARD!H56","v":-1E-3},{"$f":"IF(NOT(OR(F130>0,G130>0)),\"\",IF(HandicapPlay=\"x\",IF(F130>G130,10,-10),(IF((F130-G130>0),(VLOOKUP(OFFSET(H130,-7,0),(TABLE!WIN),(MATCH(E130,WINCOL,0)+1))),(VLOOKUP(OFFSET(H130,-7,0),(TABLE!LOSE),(MATCH(E130,LOSECOL,0)+1)))))))","v":""}]
[null,{"$f":"SCORECARD!C57","v":" Block 1 Player 7"},null,null,{"$f":"SCORECARD!F57","v":0},{"$f":"SCORECARD!G57","v":-1E-3},{"$f":"SCORECARD!H57","v":-1E-3},{"$f":"IF(NOT(OR(F131>0,G131>0)),\"\",IF(HandicapPlay=\"x\",IF(F131>G131,10,-10),(IF((F131-G131>0),(VLOOKUP(OFFSET(H131,-8,0),(TABLE!WIN),(MATCH(E131,WINCOL,0)+1))),(VLOOKUP(OFFSET(H131,-8,0),(TABLE!LOSE),(MATCH(E131,LOSECOL,0)+1)))))))","v":""}]
[null,{"$f":"SCORECARD!C58","v":" Block 1 Player 8"},null,null,{"$f":"SCORECARD!F58","v":0},{"$f":"SCORECARD!G58","v":-1E-3},{"$f":"SCORECARD!H58","v":-1E-3},{"$f":"IF(NOT(OR(F132>0,G132>0)),\"\",IF(HandicapPlay=\"x\",IF(F132>G132,10,-10),(IF((F132-G132>0),(VLOOKUP(OFFSET(H132,-9,0),(TABLE!WIN),(MATCH(E132,WINCOL,0)+1))),(VLOOKUP(OFFSET(H132,-9,0),(TABLE!LOSE),(MATCH(E132,LOSECOL,0)+1)))))))","v":""}]
[null,{"$f":"SCORECARD!C59","v":" Block 1 Player 9"},null,null,{"$f":"SCORECARD!F59","v":0},{"$f":"SCORECARD!G59","v":-1E-3},{"$f":"SCORECARD!H59","v":-1E-3},{"$f":"IF(NOT(OR(F133>0,G133>0)),\"\",IF(HandicapPlay=\"x\",IF(F133>G133,10,-10),(IF((F133-G133>0),(VLOOKUP(OFFSET(H133,-10,0),(TABLE!WIN),(MATCH(E133,WINCOL,0)+1))),(VLOOKUP(OFFSET(H133,-10,0),(TABLE!LOSE),(MATCH(E133,LOSECOL,0)+1)))))))","v":""}]
[null,{"$f":"SCORECARD!C60","v":" Block 1 Player 10"},null,null,{"$f":"SCORECARD!F60","v":0},{"$f":"SCORECARD!G60","v":-1E-3},{"$f":"SCORECARD!H60","v":-1E-3},{"$f":"IF(NOT(OR(F134>0,G134>0)),\"\",IF(HandicapPlay=\"x\",IF(F134>G134,10,-10),(IF((F134-G134>0),(VLOOKUP(OFFSET(H134,-11,0),(TABLE!WIN),(MATCH(E134,WINCOL,0)+1))),(VLOOKUP(OFFSET(H134,-11,0),(TABLE!LOSE),(MATCH(E134,LOSECOL,0)+1)))))))","v":""}]
[null,{"$f":"SCORECARD!C61","v":" Block 1 Player 11"},null,null,{"$f":"SCORECARD!F61","v":0},{"$f":"SCORECARD!G61","v":-1E-3},{"$f":"SCORECARD!H61","v":-1E-3},{"$f":"IF(NOT(OR(F135>0,G135>0)),\"\",IF(HandicapPlay=\"x\",IF(F135>G135,10,-10),(IF((F135-G135>0),(VLOOKUP(OFFSET(H135,-12,0),(TABLE!WIN),(MATCH(E135,WINCOL,0)+1))),(VLOOKUP(OFFSET(H135,-12,0),(TABLE!LOSE),(MATCH(E135,LOSECOL,0)+1)))))))","v":""}]
[null,{"$f":"SCORECARD!C62","v":" Block 1 Player 12"},null,null,{"$f":"SCORECARD!F62","v":0},{"$f":"SCORECARD!G62","v":-1E-3},{"$f":"SCORECARD!H62","v":-1E-3},{"$f":"IF(NOT(OR(F136>0,G136>0)),\"\",IF(HandicapPlay=\"x\",IF(F136>G136,10,-10),(IF((F136-G136>0),(VLOOKUP(OFFSET(H136,-13,0),(TABLE!WIN),(MATCH(E136,WINCOL,0)+1))),(VLOOKUP(OFFSET(H136,-13,0),(TABLE!LOSE),(MATCH(E136,LOSECOL,0)+1)))))))","v":""}]
[]
[]
[]
[]
[]
[]
[null,null,null,null,null,null,"Handicap adjustment points total   ",{"$f":"SUM(H126:H136)","v":0}]
[]
[]
[]
[]
[]
[]
[]
[{"$f":"note1","v":"Time limit 2.5 hours, Turn After Bell (61.1.6). Quadway hoops (3 11/16\"), Dawson International balls"}]
[{"$f":"note2","v":"Games may start early. Please be at the venue at least 30 minutes earlier than the scheduled start time."}]
[{"$f":"note3","v":"Entry Fee $40 will be invoiced by email. Please pay by EFT using the invoice No. as reference."}]
[{"$f":"note4","v":"Players please assist with setting and clearing courts."}]
[null,null,null,null,{"$f":"BLOCK!L6","v":" Block 1 Player 4"}]
[null,null,null,null,{"$f":"BLOCK!L2","v":"Tournament"}]
[null,null,null,null,{"$f":"BLOCK!L4","v":"Group"}]
[null,null,null,null,{"$f":"BLOCK!B6","v":"BLOCK 1"}]
[]
[null,null,null,null,"BLOCK PLAY SCHEDULE"]
[null,"TIME","DAY","COURT",null,"OPPONENT",null,"Handicap","PS","OS"]
[null,{"$f":"GAMES!B5","v":"00:00:00"},{"$f":"GAMES!C5","v":"00:00:00"},{"$f":"GAMES!D5","v":0},null,{"$f":"GAMES!$E$5","v":" Block 1 Player 2"},null,{"$f":"$E$178","v":0},{"$f":"$F$178","v":-1E-3},{"$f":"$G$178","v":-1E-3}]
[null,{"$f":"GAMES!B10","v":"00:00:00"},{"$f":"GAMES!C10","v":"00:00:00"},{"$f":"GAMES!D10","v":0},null,{"$f":"GAMES!$E$10","v":" Block 1 Player 1"},null,{"$f":"$E$177","v":0},{"$f":"$F$177","v":-1E-3},{"$f":"$G$177","v":-1E-3}]
[null,{"$f":"GAMES!B17","v":"00:00:00"},{"$f":"GAMES!C17","v":"00:00:00"},{"$f":"GAMES!D17","v":0},null,{"$f":"GAMES!$G$17","v":" Block 1 Player 6"},null,{"$f":"$E$181","v":0},{"$f":"$F$181","v":-1E-3},{"$f":"$G$181","v":-1E-3}]
[null,{"$f":"GAMES!B24","v":"00:00:00"},{"$f":"GAMES!C24","v":"00:00:00"},{"$f":"GAMES!D24","v":0},null,{"$f":"GAMES!$G$24","v":" Block 1 Player 8"},null,{"$f":"$E$183","v":0},{"$f":"$F$183","v":-1E-3},{"$f":"$G$183","v":-1E-3}]
[null,{"$f":"GAMES!B31","v":"00:00:00"},{"$f":"GAMES!C31","v":"00:00:00"},{"$f":"GAMES!D31","v":0},null,{"$f":"GAMES!$G$31","v":" Block 1 Player 10"},null,{"$f":"$E$185","v":0},{"$f":"$F$185","v":-1E-3},{"$f":"$G$185","v":-1E-3}]
[null,{"$f":"GAMES!B38","v":"00:00:00"},{"$f":"GAMES!C38","v":"00:00:00"},{"$f":"GAMES!D38","v":0},null,{"$f":"GAMES!$G$38","v":" Block 1 Player 12"},null,{"$f":"$E$187","v":0},{"$f":"$F$187","v":-1E-3},{"$f":"$G$187","v":-1E-3}]
[null,{"$f":"GAMES!B45","v":"00:00:00"},{"$f":"GAMES!C45","v":"00:00:00"},{"$f":"GAMES!D45","v":0},null,{"$f":"GAMES!$G$45","v":" Block 1 Player 3"},null,{"$f":"$E$179","v":0},{"$f":"$F$179","v":-1E-3},{"$f":"$G$179","v":-1E-3}]
[null,{"$f":"GAMES!B51","v":"00:00:00"},{"$f":"GAMES!C51","v":"00:00:00"},{"$f":"GAMES!D51","v":0},null,{"$f":"GAMES!$E$51","v":" Block 1 Player 5"},null,{"$f":"$E$180","v":0},{"$f":"$F$180","v":-1E-3},{"$f":"$G$180","v":-1E-3}]
[null,{"$f":"GAMES!B56","v":"00:00:00"},{"$f":"GAMES!C56","v":"00:00:00"},{"$f":"GAMES!D56","v":0},null,{"$f":"GAMES!$G$56","v":" Block 1 Player 7"},null,{"$f":"$E$182","v":0},{"$f":"$F$182","v":-1E-3},{"$f":"$G$182","v":-1E-3}]
[null,{"$f":"GAMES!B61","v":"00:00:00"},{"$f":"GAMES!C61","v":"00:00:00"},{"$f":"GAMES!D61","v":0},null,{"$f":"GAMES!$E$61","v":" Block 1 Player 9"},null,{"$f":"$E$184","v":0},{"$f":"$F$184","v":-1E-3},{"$f":"$G$184","v":-1E-3}]
[null,{"$f":"GAMES!B66","v":"00:00:00"},{"$f":"GAMES!C66","v":"00:00:00"},{"$f":"GAMES!D66","v":0},null,{"$f":"GAMES!$E$66","v":" Block 1 Player 11"},null,{"$f":"$E$186","v":0},{"$f":"$F$186","v":-1E-3},{"$f":"$G$186","v":-1E-3}]
[]
[null,"PLAYER:",{"$f":"BLOCK!L6","v":" Block 1 Player 4"},null,null,null,"HANDICAP",{"$f":"BLOCK!B18","v":0}]
[null,null,null,null,"OPP","PLAYER","OPP","H/CAP"]
[null,null,"OPPONENT",null,"HCP","SCORE","SCORE","PTS"]
[null,{"$f":"SCORECARD!C72","v":" Block 1 Player 1"},null,null,{"$f":"SCORECARD!F72","v":0},{"$f":"SCORECARD!G72","v":-1E-3},{"$f":"SCORECARD!H72","v":-1E-3},{"$f":"IF(NOT(OR(F177>0,G177>0)),\"\",IF(HandicapPlay=\"x\",IF(F177>G177,10,-10),(IF((F177-G177>0),(VLOOKUP(OFFSET(H177,-3,0),(TABLE!WIN),(MATCH(E177,WINCOL,0)+1))),(VLOOKUP(OFFSET(H177,-3,0),(TABLE!LOSE),(MATCH(E177,LOSECOL,0)+1)))))))","v":""}]
[null,{"$f":"SCORECARD!C73","v":" Block 1 Player 2"},null,null,{"$f":"SCORECARD!F73","v":0},{"$f":"SCORECARD!G73","v":-1E-3},{"$f":"SCORECARD!H73","v":-1E-3},{"$f":"IF(NOT(OR(F178>0,G178>0)),\"\",IF(HandicapPlay=\"x\",IF(F178>G178,10,-10),(IF((F178-G178>0),(VLOOKUP(OFFSET(H178,-4,0),(TABLE!WIN),(MATCH(E178,WINCOL,0)+1))),(VLOOKUP(OFFSET(H178,-4,0),(TABLE!LOSE),(MATCH(E178,LOSECOL,0)+1)))))))","v":""}]
[null,{"$f":"SCORECARD!C74","v":" Block 1 Player 3"},null,null,{"$f":"SCORECARD!F74","v":0},{"$f":"SCORECARD!G74","v":-1E-3},{"$f":"SCORECARD!H74","v":-1E-3},{"$f":"IF(NOT(OR(F179>0,G179>0)),\"\",IF(HandicapPlay=\"x\",IF(F179>G179,10,-10),(IF((F179-G179>0),(VLOOKUP(OFFSET(H179,-5,0),(TABLE!WIN),(MATCH(E179,WINCOL,0)+1))),(VLOOKUP(OFFSET(H179,-5,0),(TABLE!LOSE),(MATCH(E179,LOSECOL,0)+1)))))))","v":""}]
[null,{"$f":"SCORECARD!C75","v":" Block 1 Player 5"},null,null,{"$f":"SCORECARD!F75","v":0},{"$f":"SCORECARD!G75","v":-1E-3},{"$f":"SCORECARD!H75","v":-1E-3},{"$f":"IF(NOT(OR(F180>0,G180>0)),\"\",IF(HandicapPlay=\"x\",IF(F180>G180,10,-10),(IF((F180-G180>0),(VLOOKUP(OFFSET(H180,-6,0),(TABLE!WIN),(MATCH(E180,WINCOL,0)+1))),(VLOOKUP(OFFSET(H180,-6,0),(TABLE!LOSE),(MATCH(E180,LOSECOL,0)+1)))))))","v":""}]
[null,{"$f":"SCORECARD!C76","v":" Block 1 Player 6"},null,null,{"$f":"SCORECARD!F76","v":0},{"$f":"SCORECARD!G76","v":-1E-3},{"$f":"SCORECARD!H76","v":-1E-3},{"$f":"IF(NOT(OR(F181>0,G181>0)),\"\",IF(HandicapPlay=\"x\",IF(F181>G181,10,-10),(IF((F181-G181>0),(VLOOKUP(OFFSET(H181,-7,0),(TABLE!WIN),(MATCH(E181,WINCOL,0)+1))),(VLOOKUP(OFFSET(H181,-7,0),(TABLE!LOSE),(MATCH(E181,LOSECOL,0)+1)))))))","v":""}]
[null,{"$f":"SCORECARD!C77","v":" Block 1 Player 7"},null,null,{"$f":"SCORECARD!F77","v":0},{"$f":"SCORECARD!G77","v":-1E-3},{"$f":"SCORECARD!H77","v":-1E-3},{"$f":"IF(NOT(OR(F182>0,G182>0)),\"\",IF(HandicapPlay=\"x\",IF(F182>G182,10,-10),(IF((F182-G182>0),(VLOOKUP(OFFSET(H182,-8,0),(TABLE!WIN),(MATCH(E182,WINCOL,0)+1))),(VLOOKUP(OFFSET(H182,-8,0),(TABLE!LOSE),(MATCH(E182,LOSECOL,0)+1)))))))","v":""}]
[null,{"$f":"SCORECARD!C78","v":" Block 1 Player 8"},null,null,{"$f":"SCORECARD!F78","v":0},{"$f":"SCORECARD!G78","v":-1E-3},{"$f":"SCORECARD!H78","v":-1E-3},{"$f":"IF(NOT(OR(F183>0,G183>0)),\"\",IF(HandicapPlay=\"x\",IF(F183>G183,10,-10),(IF((F183-G183>0),(VLOOKUP(OFFSET(H183,-9,0),(TABLE!WIN),(MATCH(E183,WINCOL,0)+1))),(VLOOKUP(OFFSET(H183,-9,0),(TABLE!LOSE),(MATCH(E183,LOSECOL,0)+1)))))))","v":""}]
[null,{"$f":"SCORECARD!C79","v":" Block 1 Player 9"},null,null,{"$f":"SCORECARD!F79","v":0},{"$f":"SCORECARD!G79","v":-1E-3},{"$f":"SCORECARD!H79","v":-1E-3},{"$f":"IF(NOT(OR(F184>0,G184>0)),\"\",IF(HandicapPlay=\"x\",IF(F184>G184,10,-10),(IF((F184-G184>0),(VLOOKUP(OFFSET(H184,-10,0),(TABLE!WIN),(MATCH(E184,WINCOL,0)+1))),(VLOOKUP(OFFSET(H184,-10,0),(TABLE!LOSE),(MATCH(E184,LOSECOL,0)+1)))))))","v":""}]
[null,{"$f":"SCORECARD!C80","v":" Block 1 Player 10"},null,null,{"$f":"SCORECARD!F80","v":0},{"$f":"SCORECARD!G80","v":-1E-3},{"$f":"SCORECARD!H80","v":-1E-3},{"$f":"IF(NOT(OR(F185>0,G185>0)),\"\",IF(HandicapPlay=\"x\",IF(F185>G185,10,-10),(IF((F185-G185>0),(VLOOKUP(OFFSET(H185,-11,0),(TABLE!WIN),(MATCH(E185,WINCOL,0)+1))),(VLOOKUP(OFFSET(H185,-11,0),(TABLE!LOSE),(MATCH(E185,LOSECOL,0)+1)))))))","v":""}]
[null,{"$f":"SCORECARD!C81","v":" Block 1 Player 11"},null,null,{"$f":"SCORECARD!F81","v":0},{"$f":"SCORECARD!G81","v":-1E-3},{"$f":"SCORECARD!H81","v":-1E-3},{"$f":"IF(NOT(OR(F186>0,G186>0)),\"\",IF(HandicapPlay=\"x\",IF(F186>G186,10,-10),(IF((F186-G186>0),(VLOOKUP(OFFSET(H186,-12,0),(TABLE!WIN),(MATCH(E186,WINCOL,0)+1))),(VLOOKUP(OFFSET(H186,-12,0),(TABLE!LOSE),(MATCH(E186,LOSECOL,0)+1)))))))","v":""}]
[null,{"$f":"SCORECARD!C82","v":" Block 1 Player 12"},null,null,{"$f":"SCORECARD!F82","v":0},{"$f":"SCORECARD!G82","v":-1E-3},{"$f":"SCORECARD!H82","v":-1E-3},{"$f":"IF(NOT(OR(F187>0,G187>0)),\"\",IF(HandicapPlay=\"x\",IF(F187>G187,10,-10),(IF((F187-G187>0),(VLOOKUP(OFFSET(H187,-13,0),(TABLE!WIN),(MATCH(E187,WINCOL,0)+1))),(VLOOKUP(OFFSET(H187,-13,0),(TABLE!LOSE),(MATCH(E187,LOSECOL,0)+1)))))))","v":""}]
[]
[]
[]
[]
[]
[]
[null,null,null,null,null,null,"Handicap adjustment points total   ",{"$f":"SUM(H177:H187)","v":0}]
[]
[]
[]
[]
[]
[]
[]
[{"$f":"note1","v":"Time limit 2.5 hours, Turn After Bell (61.1.6). Quadway hoops (3 11/16\"), Dawson International balls"}]
[{"$f":"note2","v":"Games may start early. Please be at the venue at least 30 minutes earlier than the scheduled start time."}]
[{"$f":"note3","v":"Entry Fee $40 will be invoiced by email. Please pay by EFT using the invoice No. as reference."}]
[{"$f":"note4","v":"Players please assist with setting and clearing courts."}]
[null,null,null,null,{"$f":"BLOCK!O6","v":" Block 1 Player 5"}]
[null,null,null,null,{"$f":"BLOCK!L2","v":"Tournament"}]
[null,null,null,null,{"$f":"BLOCK!L4","v":"Group"}]
[null,null,null,null,{"$f":"BLOCK!B6","v":"BLOCK 1"}]
[]
[null,null,null,null,"BLOCK PLAY SCHEDULE"]
[null,"TIME","DAY","COURT",null,"OPPONENT",null,"Handicap","PS","OS"]
[null,{"$f":"GAMES!B6","v":"00:00:00"},{"$f":"GAMES!C6","v":"00:00:00"},{"$f":"GAMES!D6","v":0},null,{"$f":"GAMES!$E$6","v":" Block 1 Player 12"},null,{"$f":"$E$238","v":0},{"$f":"$F$238","v":-1E-3},{"$f":"$G$238","v":-1E-3}]
[null,{"$f":"GAMES!B11","v":"00:00:00"},{"$f":"GAMES!C11","v":"00:00:00"},{"$f":"GAMES!D11","v":0},null,{"$f":"GAMES!$G$11","v":" Block 1 Player 3"},null,{"$f":"$E$230","v":0},{"$f":"$F$230","v":-1E-3},{"$f":"$G$230","v":-1E-3}]
[null,{"$f":"GAMES!B16","v":"00:00:00"},{"$f":"GAMES!C16","v":"00:00:00"},{"$f":"GAMES!D16","v":0},null,{"$f":"GAMES!$E$16","v":" Block 1 Player 1"},null,{"$f":"$E$228","v":0},{"$f":"$F$228","v":-1E-3},{"$f":"$G$228","v":-1E-3}]
[null,{"$f":"GAMES!B23","v":"00:00:00"},{"$f":"GAMES!C23","v":"00:00:00"},{"$f":"GAMES!D23","v":0},null,{"$f":"GAMES!$G$23","v":" Block 1 Player 7"},null,{"$f":"$E$233","v":0},{"$f":"$F$233","v":-1E-3},{"$f":"$G$233","v":-1E-3}]
[null,{"$f":"GAMES!B30","v":"00:00:00"},{"$f":"GAMES!C30","v":"00:00:00"},{"$f":"GAMES!D30","v":0},null,{"$f":"GAMES!$G$30","v":" Block 1 Player 9"},null,{"$f":"$E$235","v":0},{"$f":"$F$235","v":-1E-3},{"$f":"$G$235","v":-1E-3}]
[null,{"$f":"GAMES!B37","v":"00:00:00"},{"$f":"GAMES!C37","v":"00:00:00"},{"$f":"GAMES!D37","v":0},null,{"$f":"GAMES!$G$37","v":" Block 1 Player 11"},null,{"$f":"$E$237","v":0},{"$f":"$F$237","v":-1E-3},{"$f":"$G$237","v":-1E-3}]
[null,{"$f":"GAMES!B44","v":"00:00:00"},{"$f":"GAMES!C44","v":"00:00:00"},{"$f":"GAMES!D44","v":0},null,{"$f":"GAMES!$G$44","v":" Block 1 Player 2"},null,{"$f":"$E$229","v":0},{"$f":"$F$229","v":-1E-3},{"$f":"$G$229","v":-1E-3}]
[null,{"$f":"GAMES!B51","v":"00:00:00"},{"$f":"GAMES!C51","v":"00:00:00"},{"$f":"GAMES!D51","v":0},null,{"$f":"GAMES!$G$51","v":" Block 1 Player 4"},null,{"$f":"$E$231","v":0},{"$f":"$F$231","v":-1E-3},{"$f":"$G$231","v":-1E-3}]
[null,{"$f":"GAMES!B57","v":"00:00:00"},{"$f":"GAMES!C57","v":"00:00:00"},{"$f":"GAMES!D57","v":0},null,{"$f":"GAMES!$G$57","v":" Block 1 Player 6"},null,{"$f":"$E$232","v":0},{"$f":"$F$232","v":-1E-3},{"$f":"$G$232","v":-1E-3}]
[null,{"$f":"GAMES!B62","v":"00:00:00"},{"$f":"GAMES!C62","v":"00:00:00"},{"$f":"GAMES!D62","v":0},null,{"$f":"GAMES!$E$62","v":" Block 1 Player 8"},null,{"$f":"$E$234","v":0},{"$f":"$F$234","v":-1E-3},{"$f":"$G$234","v":-1E-3}]
[null,{"$f":"GAMES!B67","v":"00:00:00"},{"$f":"GAMES!C67","v":"00:00:00"},{"$f":"GAMES!D67","v":0},null,{"$f":"GAMES!$E$67","v":" Block 1 Player 10"},null,{"$f":"$E$236","v":0},{"$f":"$F$236","v":-1E-3},{"$f":"$G$236","v":-1E-3}]
[]
[null,"PLAYER:",{"$f":"BLOCK!O6","v":" Block 1 Player 5"},null,null,null,"HANDICAP",{"$f":"BLOCK!B21","v":0}]
[null,null,null,null,"OPP","PLAYER","OPP","H/CAP"]
[null,null,"OPPONENT",null,"HCP","SCORE","SCORE","PTS"]
[null,{"$f":"SCORECARD!C95","v":" Block 1 Player 1"},null,null,{"$f":"SCORECARD!F95","v":0},{"$f":"SCORECARD!G95","v":-1E-3},{"$f":"SCORECARD!H95","v":-1E-3},{"$f":"IF(NOT(OR(F228>0,G228>0)),\"\",IF(HandicapPlay=\"x\",IF(F228>G228,10,-10),(IF((F228-G228>0),(VLOOKUP(OFFSET(H228,-3,0),(TABLE!WIN),(MATCH(E228,WINCOL,0)+1))),(VLOOKUP(OFFSET(H228,-3,0),(TABLE!LOSE),(MATCH(E228,LOSECOL,0)+1)))))))","v":""}]
[null,{"$f":"SCORECARD!C96","v":" Block 1 Player 2"},null,null,{"$f":"SCORECARD!F96","v":0},{"$f":"SCORECARD!G96","v":-1E-3},{"$f":"SCORECARD!H96","v":-1E-3},{"$f":"IF(NOT(OR(F229>0,G229>0)),\"\",IF(HandicapPlay=\"x\",IF(F229>G229,10,-10),(IF((F229-G229>0),(VLOOKUP(OFFSET(H229,-4,0),(TABLE!WIN),(MATCH(E229,WINCOL,0)+1))),(VLOOKUP(OFFSET(H229,-4,0),(TABLE!LOSE),(MATCH(E229,LOSECOL,0)+1)))))))","v":""}]
[null,{"$f":"SCORECARD!C97","v":" Block 1 Player 3"},null,null,{"$f":"SCORECARD!F97","v":0},{"$f":"SCORECARD!G97","v":-1E-3},{"$f":"SCORECARD!H97","v":-1E-3},{"$f":"IF(NOT(OR(F230>0,G230>0)),\"\",IF(HandicapPlay=\"x\",IF(F230>G230,10,-10),(IF((F230-G230>0),(VLOOKUP(OFFSET(H230,-5,0),(TABLE!WIN),(MATCH(E230,WINCOL,0)+1))),(VLOOKUP(OFFSET(H230,-5,0),(TABLE!LOSE),(MATCH(E230,LOSECOL,0)+1)))))))","v":""}]
[null,{"$f":"SCORECARD!C98","v":" Block 1 Player 4"},null,null,{"$f":"SCORECARD!F98","v":0},{"$f":"SCORECARD!G98","v":-1E-3},{"$f":"SCORECARD!H98","v":-1E-3},{"$f":"IF(NOT(OR(F231>0,G231>0)),\"\",IF(HandicapPlay=\"x\",IF(F231>G231,10,-10),(IF((F231-G231>0),(VLOOKUP(OFFSET(H231,-6,0),(TABLE!WIN),(MATCH(E231,WINCOL,0)+1))),(VLOOKUP(OFFSET(H231,-6,0),(TABLE!LOSE),(MATCH(E231,LOSECOL,0)+1)))))))","v":""}]
[null,{"$f":"SCORECARD!C99","v":" Block 1 Player 6"},null,null,{"$f":"SCORECARD!F99","v":0},{"$f":"SCORECARD!G99","v":-1E-3},{"$f":"SCORECARD!H99","v":-1E-3},{"$f":"IF(NOT(OR(F232>0,G232>0)),\"\",IF(HandicapPlay=\"x\",IF(F232>G232,10,-10),(IF((F232-G232>0),(VLOOKUP(OFFSET(H232,-7,0),(TABLE!WIN),(MATCH(E232,WINCOL,0)+1))),(VLOOKUP(OFFSET(H232,-7,0),(TABLE!LOSE),(MATCH(E232,LOSECOL,0)+1)))))))","v":""}]
[null,{"$f":"SCORECARD!C100","v":" Block 1 Player 7"},null,null,{"$f":"SCORECARD!F100","v":0},{"$f":"SCORECARD!G100","v":-1E-3},{"$f":"SCORECARD!H100","v":-1E-3},{"$f":"IF(NOT(OR(F233>0,G233>0)),\"\",IF(HandicapPlay=\"x\",IF(F233>G233,10,-10),(IF((F233-G233>0),(VLOOKUP(OFFSET(H233,-8,0),(TABLE!WIN),(MATCH(E233,WINCOL,0)+1))),(VLOOKUP(OFFSET(H233,-8,0),(TABLE!LOSE),(MATCH(E233,LOSECOL,0)+1)))))))","v":""}]
[null,{"$f":"SCORECARD!C101","v":" Block 1 Player 8"},null,null,{"$f":"SCORECARD!F101","v":0},{"$f":"SCORECARD!G101","v":-1E-3},{"$f":"SCORECARD!H101","v":-1E-3},{"$f":"IF(NOT(OR(F234>0,G234>0)),\"\",IF(HandicapPlay=\"x\",IF(F234>G234,10,-10),(IF((F234-G234>0),(VLOOKUP(OFFSET(H234,-9,0),(TABLE!WIN),(MATCH(E234,WINCOL,0)+1))),(VLOOKUP(OFFSET(H234,-9,0),(TABLE!LOSE),(MATCH(E234,LOSECOL,0)+1)))))))","v":""}]
[null,{"$f":"SCORECARD!C102","v":" Block 1 Player 9"},null,null,{"$f":"SCORECARD!F102","v":0},{"$f":"SCORECARD!G102","v":-1E-3},{"$f":"SCORECARD!H102","v":-1E-3},{"$f":"IF(NOT(OR(F235>0,G235>0)),\"\",IF(HandicapPlay=\"x\",IF(F235>G235,10,-10),(IF((F235-G235>0),(VLOOKUP(OFFSET(H235,-10,0),(TABLE!WIN),(MATCH(E235,WINCOL,0)+1))),(VLOOKUP(OFFSET(H235,-10,0),(TABLE!LOSE),(MATCH(E235,LOSECOL,0)+1)))))))","v":""}]
[null,{"$f":"SCORECARD!C103","v":" Block 1 Player 10"},null,null,{"$f":"SCORECARD!F103","v":0},{"$f":"SCORECARD!G103","v":-1E-3},{"$f":"SCORECARD!H103","v":-1E-3},{"$f":"IF(NOT(OR(F236>0,G236>0)),\"\",IF(HandicapPlay=\"x\",IF(F236>G236,10,-10),(IF((F236-G236>0),(VLOOKUP(OFFSET(H236,-11,0),(TABLE!WIN),(MATCH(E236,WINCOL,0)+1))),(VLOOKUP(OFFSET(H236,-11,0),(TABLE!LOSE),(MATCH(E236,LOSECOL,0)+1)))))))","v":""}]
[null,{"$f":"SCORECARD!C104","v":" Block 1 Player 11"},null,null,{"$f":"SCORECARD!F104","v":0},{"$f":"SCORECARD!G104","v":-1E-3},{"$f":"SCORECARD!H104","v":-1E-3},{"$f":"IF(NOT(OR(F237>0,G237>0)),\"\",IF(HandicapPlay=\"x\",IF(F237>G237,10,-10),(IF((F237-G237>0),(VLOOKUP(OFFSET(H237,-12,0),(TABLE!WIN),(MATCH(E237,WINCOL,0)+1))),(VLOOKUP(OFFSET(H237,-12,0),(TABLE!LOSE),(MATCH(E237,LOSECOL,0)+1)))))))","v":""}]
[null,{"$f":"SCORECARD!C105","v":" Block 1 Player 12"},null,null,{"$f":"SCORECARD!F105","v":0},{"$f":"SCORECARD!G105","v":-1E-3},{"$f":"SCORECARD!H105","v":-1E-3},{"$f":"IF(NOT(OR(F238>0,G238>0)),\"\",IF(HandicapPlay=\"x\",IF(F238>G238,10,-10),(IF((F238-G238>0),(VLOOKUP(OFFSET(H238,-13,0),(TABLE!WIN),(MATCH(E238,WINCOL,0)+1))),(VLOOKUP(OFFSET(H238,-13,0),(TABLE!LOSE),(MATCH(E238,LOSECOL,0)+1)))))))","v":""}]
[]
[]
[]
[]
[]
[]
[null,null,null,null,null,null,"Handicap adjustment points total   ",{"$f":"SUM(H228:H238)","v":0}]
[]
[]
[]
[]
[]
[]
[]
[{"$f":"note1","v":"Time limit 2.5 hours, Turn After Bell (61.1.6). Quadway hoops (3 11/16\"), Dawson International balls"}]
[{"$f":"note2","v":"Games may start early. Please be at the venue at least 30 minutes earlier than the scheduled start time."}]
[{"$f":"note3","v":"Entry Fee $40 will be invoiced by email. Please pay by EFT using the invoice No. as reference."}]
[{"$f":"note4","v":"Players please assist with setting and clearing courts."}]
[null,null,null,null,{"$f":"BLOCK!R6","v":" Block 1 Player 6"}]
[null,null,null,null,{"$f":"BLOCK!L2","v":"Tournament"}]
[null,null,null,null,{"$f":"BLOCK!L4","v":"Group"}]
[null,null,null,null,{"$f":"BLOCK!B6","v":"BLOCK 1"}]
[]
[null,null,null,null,"BLOCK PLAY SCHEDULE"]
[null,"TIME","DAY","COURT",null,"OPPONENT",null,"Handicap","PS","OS"]
[null,{"$f":"GAMES!B7","v":"00:00:00"},{"$f":"GAMES!C7","v":"00:00:00"},{"$f":"GAMES!D7","v":0},null,{"$f":"GAMES!$E$7","v":" Block 1 Player 11"},null,{"$f":"$E$288","v":0},{"$f":"$F$288","v":-1E-3},{"$f":"$G$288","v":-1E-3}]
[null,{"$f":"GAMES!B12","v":"00:00:00"},{"$f":"GAMES!C12","v":"00:00:00"},{"$f":"GAMES!D12","v":0},null,{"$f":"GAMES!$E$12","v":" Block 1 Player 2"},null,{"$f":"$E$280","v":0},{"$f":"$F$280","v":-1E-3},{"$f":"$G$280","v":-1E-3}]
[null,{"$f":"GAMES!B17","v":"00:00:00"},{"$f":"GAMES!C17","v":"00:00:00"},{"$f":"GAMES!D17","v":0},null,{"$f":"GAMES!$E$17","v":" Block 1 Player 4"},null,{"$f":"$E$282","v":0},{"$f":"$F$282","v":-1E-3},{"$f":"$G$282","v":-1E-3}]
[null,{"$f":"GAMES!B22","v":"00:00:00"},{"$f":"GAMES!C22","v":"00:00:00"},{"$f":"GAMES!D22","v":0},null,{"$f":"GAMES!$E$22","v":" Block 1 Player 1"},null,{"$f":"$E$279","v":0},{"$f":"$F$279","v":-1E-3},{"$f":"$G$279","v":-1E-3}]
[null,{"$f":"GAMES!B29","v":"00:00:00"},{"$f":"GAMES!C29","v":"00:00:00"},{"$f":"GAMES!D29","v":0},null,{"$f":"GAMES!$G$29","v":" Block 1 Player 8"},null,{"$f":"$E$285","v":0},{"$f":"$F$285","v":-1E-3},{"$f":"$G$285","v":-1E-3}]
[null,{"$f":"GAMES!B36","v":"00:00:00"},{"$f":"GAMES!C36","v":"00:00:00"},{"$f":"GAMES!D36","v":0},null,{"$f":"GAMES!$G$36","v":" Block 1 Player 10"},null,{"$f":"$E$287","v":0},{"$f":"$F$287","v":-1E-3},{"$f":"$G$287","v":-1E-3}]
[null,{"$f":"GAMES!B43","v":"00:00:00"},{"$f":"GAMES!C43","v":"00:00:00"},{"$f":"GAMES!D43","v":0},null,{"$f":"GAMES!$G$43","v":" Block 1 Player 12"},null,{"$f":"$E$289","v":0},{"$f":"$F$289","v":-1E-3},{"$f":"$G$289","v":-1E-3}]
[null,{"$f":"GAMES!B50","v":"00:00:00"},{"$f":"GAMES!C50","v":"00:00:00"},{"$f":"GAMES!D50","v":0},null,{"$f":"GAMES!$G$50","v":" Block 1 Player 3"},null,{"$f":"$E$281","v":0},{"$f":"$F$281","v":-1E-3},{"$f":"$G$281","v":-1E-3}]
[null,{"$f":"GAMES!B57","v":"00:00:00"},{"$f":"GAMES!C57","v":"00:00:00"},{"$f":"GAMES!D57","v":0},null,{"$f":"GAMES!$E$57","v":" Block 1 Player 5"},null,{"$f":"$E$283","v":0},{"$f":"$F$283","v":-1E-3},{"$f":"$G$283","v":-1E-3}]
[null,{"$f":"GAMES!B63","v":"00:00:00"},{"$f":"GAMES!C63","v":"00:00:00"},{"$f":"GAMES!D63","v":0},null,{"$f":"GAMES!$E$63","v":" Block 1 Player 7"},null,{"$f":"$E$284","v":0},{"$f":"$F$284","v":-1E-3},{"$f":"$G$284","v":-1E-3}]
[null,{"$f":"GAMES!B68","v":"00:00:00"},{"$f":"GAMES!C68","v":"00:00:00"},{"$f":"GAMES!D68","v":0},null,{"$f":"GAMES!$E$68","v":" Block 1 Player 9"},null,{"$f":"$E$286","v":0},{"$f":"$F$286","v":-1E-3},{"$f":"$G$286","v":-1E-3}]
[]
[null,"PLAYER:",{"$f":"BLOCK!R6","v":" Block 1 Player 6"},null,null,null,"HANDICAP",{"$f":"BLOCK!B24","v":0}]
[null,null,null,null,"OPP","PLAYER","OPP","H/CAP"]
[null,null,"OPPONENT",null,"HCP","SCORE","SCORE","PTS"]
[null,{"$f":"SCORECARD!C115","v":" Block 1 Player 1"},null,null,{"$f":"SCORECARD!F115","v":0},{"$f":"SCORECARD!G115","v":-1E-3},{"$f":"SCORECARD!H115","v":-1E-3},{"$f":"IF(NOT(OR(F279>0,G279>0)),\"\",IF(HandicapPlay=\"x\",IF(F279>G279,10,-10),(IF((F279-G279>0),(VLOOKUP(OFFSET(H279,-3,0),(TABLE!WIN),(MATCH(E279,WINCOL,0)+1))),(VLOOKUP(OFFSET(H279,-3,0),(TABLE!LOSE),(MATCH(E279,LOSECOL,0)+1)))))))","v":""}]
[null,{"$f":"SCORECARD!C116","v":" Block 1 Player 2"},null,null,{"$f":"SCORECARD!F116","v":0},{"$f":"SCORECARD!G116","v":-1E-3},{"$f":"SCORECARD!H116","v":-1E-3},{"$f":"IF(NOT(OR(F280>0,G280>0)),\"\",IF(HandicapPlay=\"x\",IF(F280>G280,10,-10),(IF((F280-G280>0),(VLOOKUP(OFFSET(H280,-4,0),(TABLE!WIN),(MATCH(E280,WINCOL,0)+1))),(VLOOKUP(OFFSET(H280,-4,0),(TABLE!LOSE),(MATCH(E280,LOSECOL,0)+1)))))))","v":""}]
[null,{"$f":"SCORECARD!C117","v":" Block 1 Player 3"},null,null,{"$f":"SCORECARD!F117","v":0},{"$f":"SCORECARD!G117","v":-1E-3},{"$f":"SCORECARD!H117","v":-1E-3},{"$f":"IF(NOT(OR(F281>0,G281>0)),\"\",IF(HandicapPlay=\"x\",IF(F281>G281,10,-10),(IF((F281-G281>0),(VLOOKUP(OFFSET(H281,-5,0),(TABLE!WIN),(MATCH(E281,WINCOL,0)+1))),(VLOOKUP(OFFSET(H281,-5,0),(TABLE!LOSE),(MATCH(E281,LOSECOL,0)+1)))))))","v":""}]
[null,{"$f":"SCORECARD!C118","v":" Block 1 Player 4"},null,null,{"$f":"SCORECARD!F118","v":0},{"$f":"SCORECARD!G118","v":-1E-3},{"$f":"SCORECARD!H118","v":-1E-3},{"$f":"IF(NOT(OR(F282>0,G282>0)),\"\",IF(HandicapPlay=\"x\",IF(F282>G282,10,-10),(IF((F282-G282>0),(VLOOKUP(OFFSET(H282,-6,0),(TABLE!WIN),(MATCH(E282,WINCOL,0)+1))),(VLOOKUP(OFFSET(H282,-6,0),(TABLE!LOSE),(MATCH(E282,LOSECOL,0)+1)))))))","v":""}]
[null,{"$f":"SCORECARD!C119","v":" Block 1 Player 5"},null,null,{"$f":"SCORECARD!F119","v":0},{"$f":"SCORECARD!G119","v":-1E-3},{"$f":"SCORECARD!H119","v":-1E-3},{"$f":"IF(NOT(OR(F283>0,G283>0)),\"\",IF(HandicapPlay=\"x\",IF(F283>G283,10,-10),(IF((F283-G283>0),(VLOOKUP(OFFSET(H283,-7,0),(TABLE!WIN),(MATCH(E283,WINCOL,0)+1))),(VLOOKUP(OFFSET(H283,-7,0),(TABLE!LOSE),(MATCH(E283,LOSECOL,0)+1)))))))","v":""}]
[null,{"$f":"SCORECARD!C120","v":" Block 1 Player 7"},null,null,{"$f":"SCORECARD!F120","v":0},{"$f":"SCORECARD!G120","v":-1E-3},{"$f":"SCORECARD!H120","v":-1E-3},{"$f":"IF(NOT(OR(F284>0,G284>0)),\"\",IF(HandicapPlay=\"x\",IF(F284>G284,10,-10),(IF((F284-G284>0),(VLOOKUP(OFFSET(H284,-8,0),(TABLE!WIN),(MATCH(E284,WINCOL,0)+1))),(VLOOKUP(OFFSET(H284,-8,0),(TABLE!LOSE),(MATCH(E284,LOSECOL,0)+1)))))))","v":""}]
[null,{"$f":"SCORECARD!C121","v":" Block 1 Player 8"},null,null,{"$f":"SCORECARD!F121","v":0},{"$f":"SCORECARD!G121","v":-1E-3},{"$f":"SCORECARD!H121","v":-1E-3},{"$f":"IF(NOT(OR(F285>0,G285>0)),\"\",IF(HandicapPlay=\"x\",IF(F285>G285,10,-10),(IF((F285-G285>0),(VLOOKUP(OFFSET(H285,-9,0),(TABLE!WIN),(MATCH(E285,WINCOL,0)+1))),(VLOOKUP(OFFSET(H285,-9,0),(TABLE!LOSE),(MATCH(E285,LOSECOL,0)+1)))))))","v":""}]
[null,{"$f":"SCORECARD!C122","v":" Block 1 Player 9"},null,null,{"$f":"SCORECARD!F122","v":0},{"$f":"SCORECARD!G122","v":-1E-3},{"$f":"SCORECARD!H122","v":-1E-3},{"$f":"IF(NOT(OR(F286>0,G286>0)),\"\",IF(HandicapPlay=\"x\",IF(F286>G286,10,-10),(IF((F286-G286>0),(VLOOKUP(OFFSET(H286,-10,0),(TABLE!WIN),(MATCH(E286,WINCOL,0)+1))),(VLOOKUP(OFFSET(H286,-10,0),(TABLE!LOSE),(MATCH(E286,LOSECOL,0)+1)))))))","v":""}]
[null,{"$f":"SCORECARD!C123","v":" Block 1 Player 10"},null,null,{"$f":"SCORECARD!F123","v":0},{"$f":"SCORECARD!G123","v":-1E-3},{"$f":"SCORECARD!H123","v":-1E-3},{"$f":"IF(NOT(OR(F287>0,G287>0)),\"\",IF(HandicapPlay=\"x\",IF(F287>G287,10,-10),(IF((F287-G287>0),(VLOOKUP(OFFSET(H287,-11,0),(TABLE!WIN),(MATCH(E287,WINCOL,0)+1))),(VLOOKUP(OFFSET(H287,-11,0),(TABLE!LOSE),(MATCH(E287,LOSECOL,0)+1)))))))","v":""}]
[null,{"$f":"SCORECARD!C124","v":" Block 1 Player 11"},null,null,{"$f":"SCORECARD!F124","v":0},{"$f":"SCORECARD!G124","v":-1E-3},{"$f":"SCORECARD!H124","v":-1E-3},{"$f":"IF(NOT(OR(F288>0,G288>0)),\"\",IF(HandicapPlay=\"x\",IF(F288>G288,10,-10),(IF((F288-G288>0),(VLOOKUP(OFFSET(H288,-12,0),(TABLE!WIN),(MATCH(E288,WINCOL,0)+1))),(VLOOKUP(OFFSET(H288,-12,0),(TABLE!LOSE),(MATCH(E288,LOSECOL,0)+1)))))))","v":""}]
[null,{"$f":"SCORECARD!C125","v":" Block 1 Player 12"},null,null,{"$f":"SCORECARD!F125","v":0},{"$f":"SCORECARD!G125","v":-1E-3},{"$f":"SCORECARD!H125","v":-1E-3},{"$f":"IF(NOT(OR(F289>0,G289>0)),\"\",IF(HandicapPlay=\"x\",IF(F289>G289,10,-10),(IF((F289-G289>0),(VLOOKUP(OFFSET(H289,-13,0),(TABLE!WIN),(MATCH(E289,WINCOL,0)+1))),(VLOOKUP(OFFSET(H289,-13,0),(TABLE!LOSE),(MATCH(E289,LOSECOL,0)+1)))))))","v":""}]
[]
[]
[]
[]
[]
[]
[null,null,null,null,null,null,"Handicap adjustment points total   ",{"$f":"SUM(H279:H289)","v":0}]
[]
[]
[]
[]
[]
[]
[]
[{"$f":"note1","v":"Time limit 2.5 hours, Turn After Bell (61.1.6). Quadway hoops (3 11/16\"), Dawson International balls"}]
[{"$f":"note2","v":"Games may start early. Please be at the venue at least 30 minutes earlier than the scheduled start time."}]
[{"$f":"note3","v":"Entry Fee $40 will be invoiced by email. Please pay by EFT using the invoice No. as reference."}]
[{"$f":"note4","v":"Players please assist with setting and clearing courts."}]
[null,null,null,null,{"$f":"BLOCK!U6","v":" Block 1 Player 7"}]
[null,null,null,null,{"$f":"BLOCK!L2","v":"Tournament"}]
[null,null,null,null,{"$f":"BLOCK!L4","v":"Group"}]
[null,null,null,null,{"$f":"BLOCK!B6","v":"BLOCK 1"}]
[]
[null,null,null,null,"BLOCK PLAY SCHEDULE"]
[null,"TIME","DAY","COURT",null,"OPPONENT",null,"Handicap","PS","OS"]
[null,{"$f":"GAMES!B8","v":"00:00:00"},{"$f":"GAMES!C8","v":"00:00:00"},{"$f":"GAMES!D8","v":0},null,{"$f":"GAMES!$E$8","v":" Block 1 Player 10"},null,{"$f":"$E$338","v":0},{"$f":"$F$338","v":-1E-3},{"$f":"$G$338","v":-1E-3}]
[null,{"$f":"GAMES!B13","v":"00:00:00"},{"$f":"GAMES!C13","v":"00:00:00"},{"$f":"GAMES!D13","v":0},null,{"$f":"GAMES!$E$13","v":" Block 1 Player 12"},null,{"$f":"$E$340","v":0},{"$f":"$F$340","v":-1E-3},{"$f":"$G$340","v":-1E-3}]
[null,{"$f":"GAMES!B18","v":"00:00:00"},{"$f":"GAMES!C18","v":"00:00:00"},{"$f":"GAMES!D18","v":0},null,{"$f":"GAMES!$E$18","v":" Block 1 Player 3"},null,{"$f":"$E$332","v":0},{"$f":"$F$332","v":-1E-3},{"$f":"$G$332","v":-1E-3}]
[null,{"$f":"GAMES!B23","v":"00:00:00"},{"$f":"GAMES!C23","v":"00:00:00"},{"$f":"GAMES!D23","v":0},null,{"$f":"GAMES!$E$23","v":" Block 1 Player 5"},null,{"$f":"$E$334","v":0},{"$f":"$F$334","v":-1E-3},{"$f":"$G$334","v":-1E-3}]
[null,{"$f":"GAMES!B28","v":"00:00:00"},{"$f":"GAMES!C28","v":"00:00:00"},{"$f":"GAMES!D28","v":0},null,{"$f":"GAMES!$E$28","v":" Block 1 Player 1"},null,{"$f":"$E$330","v":0},{"$f":"$F$330","v":-1E-3},{"$f":"$G$330","v":-1E-3}]
[null,{"$f":"GAMES!B35","v":"00:00:00"},{"$f":"GAMES!C35","v":"00:00:00"},{"$f":"GAMES!D35","v":0},null,{"$f":"GAMES!$G$35","v":" Block 1 Player 9"},null,{"$f":"$E$337","v":0},{"$f":"$F$337","v":-1E-3},{"$f":"$G$337","v":-1E-3}]
[null,{"$f":"GAMES!B42","v":"00:00:00"},{"$f":"GAMES!C42","v":"00:00:00"},{"$f":"GAMES!D42","v":0},null,{"$f":"GAMES!$G$42","v":" Block 1 Player 11"},null,{"$f":"$E$339","v":0},{"$f":"$F$339","v":-1E-3},{"$f":"$G$339","v":-1E-3}]
[null,{"$f":"GAMES!B49","v":"00:00:00"},{"$f":"GAMES!C49","v":"00:00:00"},{"$f":"GAMES!D49","v":0},null,{"$f":"GAMES!$G$49","v":" Block 1 Player 2"},null,{"$f":"$E$331","v":0},{"$f":"$F$331","v":-1E-3},{"$f":"$G$331","v":-1E-3}]
[null,{"$f":"GAMES!B56","v":"00:00:00"},{"$f":"GAMES!C56","v":"00:00:00"},{"$f":"GAMES!D56","v":0},null,{"$f":"GAMES!$E$56","v":" Block 1 Player 4"},null,{"$f":"$E$333","v":0},{"$f":"$F$333","v":-1E-3},{"$f":"$G$333","v":-1E-3}]
[null,{"$f":"GAMES!B63","v":"00:00:00"},{"$f":"GAMES!C63","v":"00:00:00"},{"$f":"GAMES!D63","v":0},null,{"$f":"GAMES!$G$63","v":" Block 1 Player 6"},null,{"$f":"$E$335","v":0},{"$f":"$F$335","v":-1E-3},{"$f":"$G$335","v":-1E-3}]
[null,{"$f":"GAMES!B69","v":"00:00:00"},{"$f":"GAMES!C69","v":"00:00:00"},{"$f":"GAMES!D69","v":0},null,{"$f":"GAMES!$E$69","v":" Block 1 Player 8"},null,{"$f":"$E$336","v":0},{"$f":"$F$336","v":-1E-3},{"$f":"$G$336","v":-1E-3}]
[]
[null,"PLAYER:",{"$f":"BLOCK!U6","v":" Block 1 Player 7"},null,null,null,"HANDICAP",{"$f":"BLOCK!B27","v":0}]
[null,null,null,null,"OPP","PLAYER","OPP","H/CAP"]
[null,null,"OPPONENT",null,"HCP","SCORE","SCORE","PTS"]
[null,{"$f":"SCORECARD!C138","v":" Block 1 Player 1"},null,null,{"$f":"SCORECARD!F138","v":0},{"$f":"SCORECARD!G138","v":-1E-3},{"$f":"SCORECARD!H138","v":-1E-3},{"$f":"IF(NOT(OR(F330>0,G330>0)),\"\",IF(HandicapPlay=\"x\",IF(F330>G330,10,-10),(IF((F330-G330>0),(VLOOKUP(OFFSET(H330,-3,0),(TABLE!WIN),(MATCH(E330,WINCOL,0)+1))),(VLOOKUP(OFFSET(H330,-3,0),(TABLE!LOSE),(MATCH(E330,LOSECOL,0)+1)))))))","v":""}]
[null,{"$f":"SCORECARD!C139","v":" Block 1 Player 2"},null,null,{"$f":"SCORECARD!F139","v":0},{"$f":"SCORECARD!G139","v":-1E-3},{"$f":"SCORECARD!H139","v":-1E-3},{"$f":"IF(NOT(OR(F331>0,G331>0)),\"\",IF(HandicapPlay=\"x\",IF(F331>G331,10,-10),(IF((F331-G331>0),(VLOOKUP(OFFSET(H331,-4,0),(TABLE!WIN),(MATCH(E331,WINCOL,0)+1))),(VLOOKUP(OFFSET(H331,-4,0),(TABLE!LOSE),(MATCH(E331,LOSECOL,0)+1)))))))","v":""}]
[null,{"$f":"SCORECARD!C140","v":" Block 1 Player 3"},null,null,{"$f":"SCORECARD!F140","v":0},{"$f":"SCORECARD!G140","v":-1E-3},{"$f":"SCORECARD!H140","v":-1E-3},{"$f":"IF(NOT(OR(F332>0,G332>0)),\"\",IF(HandicapPlay=\"x\",IF(F332>G332,10,-10),(IF((F332-G332>0),(VLOOKUP(OFFSET(H332,-5,0),(TABLE!WIN),(MATCH(E332,WINCOL,0)+1))),(VLOOKUP(OFFSET(H332,-5,0),(TABLE!LOSE),(MATCH(E332,LOSECOL,0)+1)))))))","v":""}]
[null,{"$f":"SCORECARD!C141","v":" Block 1 Player 4"},null,null,{"$f":"SCORECARD!F141","v":0},{"$f":"SCORECARD!G141","v":-1E-3},{"$f":"SCORECARD!H141","v":-1E-3},{"$f":"IF(NOT(OR(F333>0,G333>0)),\"\",IF(HandicapPlay=\"x\",IF(F333>G333,10,-10),(IF((F333-G333>0),(VLOOKUP(OFFSET(H333,-6,0),(TABLE!WIN),(MATCH(E333,WINCOL,0)+1))),(VLOOKUP(OFFSET(H333,-6,0),(TABLE!LOSE),(MATCH(E333,LOSECOL,0)+1)))))))","v":""}]
[null,{"$f":"SCORECARD!C142","v":" Block 1 Player 5"},null,null,{"$f":"SCORECARD!F142","v":0},{"$f":"SCORECARD!G142","v":-1E-3},{"$f":"SCORECARD!H142","v":-1E-3},{"$f":"IF(NOT(OR(F334>0,G334>0)),\"\",IF(HandicapPlay=\"x\",IF(F334>G334,10,-10),(IF((F334-G334>0),(VLOOKUP(OFFSET(H334,-7,0),(TABLE!WIN),(MATCH(E334,WINCOL,0)+1))),(VLOOKUP(OFFSET(H334,-7,0),(TABLE!LOSE),(MATCH(E334,LOSECOL,0)+1)))))))","v":""}]
[null,{"$f":"SCORECARD!C143","v":" Block 1 Player 6"},null,null,{"$f":"SCORECARD!F143","v":0},{"$f":"SCORECARD!G143","v":-1E-3},{"$f":"SCORECARD!H143","v":-1E-3},{"$f":"IF(NOT(OR(F335>0,G335>0)),\"\",IF(HandicapPlay=\"x\",IF(F335>G335,10,-10),(IF((F335-G335>0),(VLOOKUP(OFFSET(H335,-8,0),(TABLE!WIN),(MATCH(E335,WINCOL,0)+1))),(VLOOKUP(OFFSET(H335,-8,0),(TABLE!LOSE),(MATCH(E335,LOSECOL,0)+1)))))))","v":""}]
[null,{"$f":"SCORECARD!C144","v":" Block 1 Player 8"},null,null,{"$f":"SCORECARD!F144","v":0},{"$f":"SCORECARD!G144","v":-1E-3},{"$f":"SCORECARD!H144","v":-1E-3},{"$f":"IF(NOT(OR(F336>0,G336>0)),\"\",IF(HandicapPlay=\"x\",IF(F336>G336,10,-10),(IF((F336-G336>0),(VLOOKUP(OFFSET(H336,-9,0),(TABLE!WIN),(MATCH(E336,WINCOL,0)+1))),(VLOOKUP(OFFSET(H336,-9,0),(TABLE!LOSE),(MATCH(E336,LOSECOL,0)+1)))))))","v":""}]
[null,{"$f":"SCORECARD!C145","v":" Block 1 Player 9"},null,null,{"$f":"SCORECARD!F145","v":0},{"$f":"SCORECARD!G145","v":-1E-3},{"$f":"SCORECARD!H145","v":-1E-3},{"$f":"IF(NOT(OR(F337>0,G337>0)),\"\",IF(HandicapPlay=\"x\",IF(F337>G337,10,-10),(IF((F337-G337>0),(VLOOKUP(OFFSET(H337,-10,0),(TABLE!WIN),(MATCH(E337,WINCOL,0)+1))),(VLOOKUP(OFFSET(H337,-10,0),(TABLE!LOSE),(MATCH(E337,LOSECOL,0)+1)))))))","v":""}]
[null,{"$f":"SCORECARD!C146","v":" Block 1 Player 10"},null,null,{"$f":"SCORECARD!F146","v":0},{"$f":"SCORECARD!G146","v":-1E-3},{"$f":"SCORECARD!H146","v":-1E-3},{"$f":"IF(NOT(OR(F338>0,G338>0)),\"\",IF(HandicapPlay=\"x\",IF(F338>G338,10,-10),(IF((F338-G338>0),(VLOOKUP(OFFSET(H338,-11,0),(TABLE!WIN),(MATCH(E338,WINCOL,0)+1))),(VLOOKUP(OFFSET(H338,-11,0),(TABLE!LOSE),(MATCH(E338,LOSECOL,0)+1)))))))","v":""}]
[null,{"$f":"SCORECARD!C147","v":" Block 1 Player 11"},null,null,{"$f":"SCORECARD!F147","v":0},{"$f":"SCORECARD!G147","v":-1E-3},{"$f":"SCORECARD!H147","v":-1E-3},{"$f":"IF(NOT(OR(F339>0,G339>0)),\"\",IF(HandicapPlay=\"x\",IF(F339>G339,10,-10),(IF((F339-G339>0),(VLOOKUP(OFFSET(H339,-12,0),(TABLE!WIN),(MATCH(E339,WINCOL,0)+1))),(VLOOKUP(OFFSET(H339,-12,0),(TABLE!LOSE),(MATCH(E339,LOSECOL,0)+1)))))))","v":""}]
[null,{"$f":"SCORECARD!C148","v":" Block 1 Player 12"},null,null,{"$f":"SCORECARD!F148","v":0},{"$f":"SCORECARD!G148","v":-1E-3},{"$f":"SCORECARD!H148","v":-1E-3},{"$f":"IF(NOT(OR(F340>0,G340>0)),\"\",IF(HandicapPlay=\"x\",IF(F340>G340,10,-10),(IF((F340-G340>0),(VLOOKUP(OFFSET(H340,-13,0),(TABLE!WIN),(MATCH(E340,WINCOL,0)+1))),(VLOOKUP(OFFSET(H340,-13,0),(TABLE!LOSE),(MATCH(E340,LOSECOL,0)+1)))))))","v":""}]
[]
[]
[]
[]
[]
[]
[null,null,null,null,null,null,"Handicap adjustment points total   ",{"$f":"SUM(H330:H340)","v":0}]
[]
[]
[]
[]
[]
[]
[]
[{"$f":"note1","v":"Time limit 2.5 hours, Turn After Bell (61.1.6). Quadway hoops (3 11/16\"), Dawson International balls"}]
[{"$f":"note2","v":"Games may start early. Please be at the venue at least 30 minutes earlier than the scheduled start time."}]
[{"$f":"note3","v":"Entry Fee $40 will be invoiced by email. Please pay by EFT using the invoice No. as reference."}]
[{"$f":"note4","v":"Players please assist with setting and clearing courts."}]
[null,null,null,null,{"$f":"BLOCK!X6","v":" Block 1 Player 8"}]
[null,null,null,null,{"$f":"BLOCK!L2","v":"Tournament"}]
[null,null,null,null,{"$f":"BLOCK!L4","v":"Group"}]
[null,null,null,null,{"$f":"BLOCK!B6","v":"BLOCK 1"}]
[]
[null,null,null,null,"BLOCK PLAY SCHEDULE"]
[null,"TIME","DAY","COURT",null,"OPPONENT",null,"Handicap","PS","OS"]
[null,{"$f":"GAMES!B9","v":"00:00:00"},{"$f":"GAMES!C9","v":"00:00:00"},{"$f":"GAMES!D9","v":0},null,{"$f":"GAMES!$E$9","v":" Block 1 Player 9"},null,{"$f":"$E$388","v":0},{"$f":"$F$388","v":-1E-3},{"$f":"$G$388","v":-1E-3}]
[null,{"$f":"GAMES!B14","v":"00:00:00"},{"$f":"GAMES!C14","v":"00:00:00"},{"$f":"GAMES!D14","v":0},null,{"$f":"GAMES!$E$14","v":" Block 1 Player 11"},null,{"$f":"$E$390","v":0},{"$f":"$F$390","v":-1E-3},{"$f":"$G$390","v":-1E-3}]
[null,{"$f":"GAMES!B19","v":"00:00:00"},{"$f":"GAMES!C19","v":"00:00:00"},{"$f":"GAMES!D19","v":0},null,{"$f":"GAMES!$E$19","v":" Block 1 Player 2"},null,{"$f":"$E$382","v":0},{"$f":"$F$382","v":-1E-3},{"$f":"$G$382","v":-1E-3}]
[null,{"$f":"GAMES!B24","v":"00:00:00"},{"$f":"GAMES!C24","v":"00:00:00"},{"$f":"GAMES!D24","v":0},null,{"$f":"GAMES!$E$24","v":" Block 1 Player 4"},null,{"$f":"$E$384","v":0},{"$f":"$F$384","v":-1E-3},{"$f":"$G$384","v":-1E-3}]
[null,{"$f":"GAMES!B29","v":"00:00:00"},{"$f":"GAMES!C29","v":"00:00:00"},{"$f":"GAMES!D29","v":0},null,{"$f":"GAMES!$E$29","v":" Block 1 Player 6"},null,{"$f":"$E$386","v":0},{"$f":"$F$386","v":-1E-3},{"$f":"$G$386","v":-1E-3}]
[null,{"$f":"GAMES!B34","v":"00:00:00"},{"$f":"GAMES!C34","v":"00:00:00"},{"$f":"GAMES!D34","v":0},null,{"$f":"GAMES!$E$34","v":" Block 1 Player 1"},null,{"$f":"$E$381","v":0},{"$f":"$F$381","v":-1E-3},{"$f":"$G$381","v":-1E-3}]
[null,{"$f":"GAMES!B41","v":"00:00:00"},{"$f":"GAMES!C41","v":"00:00:00"},{"$f":"GAMES!D41","v":0},null,{"$f":"GAMES!$G$41","v":" Block 1 Player 10"},null,{"$f":"$E$389","v":0},{"$f":"$F$389","v":-1E-3},{"$f":"$G$389","v":-1E-3}]
[null,{"$f":"GAMES!B48","v":"00:00:00"},{"$f":"GAMES!C48","v":"00:00:00"},{"$f":"GAMES!D48","v":0},null,{"$f":"GAMES!$G$48","v":" Block 1 Player 12"},null,{"$f":"$E$391","v":0},{"$f":"$F$391","v":-1E-3},{"$f":"$G$391","v":-1E-3}]
[null,{"$f":"GAMES!B55","v":"00:00:00"},{"$f":"GAMES!C55","v":"00:00:00"},{"$f":"GAMES!D55","v":0},null,{"$f":"GAMES!$E$55","v":" Block 1 Player 3"},null,{"$f":"$E$383","v":0},{"$f":"$F$383","v":-1E-3},{"$f":"$G$383","v":-1E-3}]
[null,{"$f":"GAMES!B62","v":"00:00:00"},{"$f":"GAMES!C62","v":"00:00:00"},{"$f":"GAMES!D62","v":0},null,{"$f":"GAMES!$G$62","v":" Block 1 Player 5"},null,{"$f":"$E$385","v":0},{"$f":"$F$385","v":-1E-3},{"$f":"$G$385","v":-1E-3}]
[null,{"$f":"GAMES!B69","v":"00:00:00"},{"$f":"GAMES!C69","v":"00:00:00"},{"$f":"GAMES!D69","v":0},null,{"$f":"GAMES!$G$69","v":" Block 1 Player 7"},null,{"$f":"$E$387","v":0},{"$f":"$F$387","v":-1E-3},{"$f":"$G$387","v":-1E-3}]
[]
[null,"PLAYER:",{"$f":"BLOCK!X6","v":" Block 1 Player 8"},null,null,null,"HANDICAP",{"$f":"BLOCK!B30","v":0}]
[null,null,null,null,"OPP","PLAYER","OPP","H/CAP"]
[null,null,"OPPONENT",null,"HCP","SCORE","SCORE","PTS"]
[null,{"$f":"SCORECARD!C158","v":" Block 1 Player 1"},null,null,{"$f":"SCORECARD!F158","v":0},{"$f":"SCORECARD!G158","v":-1E-3},{"$f":"SCORECARD!H158","v":-1E-3},{"$f":"IF(NOT(OR(F381>0,G381>0)),\"\",IF(HandicapPlay=\"x\",IF(F381>G381,10,-10),(IF((F381-G381>0),(VLOOKUP(OFFSET(H381,-3,0),(TABLE!WIN),(MATCH(E381,WINCOL,0)+1))),(VLOOKUP(OFFSET(H381,-3,0),(TABLE!LOSE),(MATCH(E381,LOSECOL,0)+1)))))))","v":""}]
[null,{"$f":"SCORECARD!C159","v":" Block 1 Player 2"},null,null,{"$f":"SCORECARD!F159","v":0},{"$f":"SCORECARD!G159","v":-1E-3},{"$f":"SCORECARD!H159","v":-1E-3},{"$f":"IF(NOT(OR(F382>0,G382>0)),\"\",IF(HandicapPlay=\"x\",IF(F382>G382,10,-10),(IF((F382-G382>0),(VLOOKUP(OFFSET(H382,-4,0),(TABLE!WIN),(MATCH(E382,WINCOL,0)+1))),(VLOOKUP(OFFSET(H382,-4,0),(TABLE!LOSE),(MATCH(E382,LOSECOL,0)+1)))))))","v":""}]
[null,{"$f":"SCORECARD!C160","v":" Block 1 Player 3"},null,null,{"$f":"SCORECARD!F160","v":0},{"$f":"SCORECARD!G160","v":-1E-3},{"$f":"SCORECARD!H160","v":-1E-3},{"$f":"IF(NOT(OR(F383>0,G383>0)),\"\",IF(HandicapPlay=\"x\",IF(F383>G383,10,-10),(IF((F383-G383>0),(VLOOKUP(OFFSET(H383,-5,0),(TABLE!WIN),(MATCH(E383,WINCOL,0)+1))),(VLOOKUP(OFFSET(H383,-5,0),(TABLE!LOSE),(MATCH(E383,LOSECOL,0)+1)))))))","v":""}]
[null,{"$f":"SCORECARD!C161","v":" Block 1 Player 4"},null,null,{"$f":"SCORECARD!F161","v":0},{"$f":"SCORECARD!G161","v":-1E-3},{"$f":"SCORECARD!H161","v":-1E-3},{"$f":"IF(NOT(OR(F384>0,G384>0)),\"\",IF(HandicapPlay=\"x\",IF(F384>G384,10,-10),(IF((F384-G384>0),(VLOOKUP(OFFSET(H384,-6,0),(TABLE!WIN),(MATCH(E384,WINCOL,0)+1))),(VLOOKUP(OFFSET(H384,-6,0),(TABLE!LOSE),(MATCH(E384,LOSECOL,0)+1)))))))","v":""}]
[null,{"$f":"SCORECARD!C162","v":" Block 1 Player 5"},null,null,{"$f":"SCORECARD!F162","v":0},{"$f":"SCORECARD!G162","v":-1E-3},{"$f":"SCORECARD!H162","v":-1E-3},{"$f":"IF(NOT(OR(F385>0,G385>0)),\"\",IF(HandicapPlay=\"x\",IF(F385>G385,10,-10),(IF((F385-G385>0),(VLOOKUP(OFFSET(H385,-7,0),(TABLE!WIN),(MATCH(E385,WINCOL,0)+1))),(VLOOKUP(OFFSET(H385,-7,0),(TABLE!LOSE),(MATCH(E385,LOSECOL,0)+1)))))))","v":""}]
[null,{"$f":"SCORECARD!C163","v":" Block 1 Player 6"},null,null,{"$f":"SCORECARD!F163","v":0},{"$f":"SCORECARD!G163","v":-1E-3},{"$f":"SCORECARD!H163","v":-1E-3},{"$f":"IF(NOT(OR(F386>0,G386>0)),\"\",IF(HandicapPlay=\"x\",IF(F386>G386,10,-10),(IF((F386-G386>0),(VLOOKUP(OFFSET(H386,-8,0),(TABLE!WIN),(MATCH(E386,WINCOL,0)+1))),(VLOOKUP(OFFSET(H386,-8,0),(TABLE!LOSE),(MATCH(E386,LOSECOL,0)+1)))))))","v":""}]
[null,{"$f":"SCORECARD!C164","v":" Block 1 Player 7"},null,null,{"$f":"SCORECARD!F164","v":0},{"$f":"SCORECARD!G164","v":-1E-3},{"$f":"SCORECARD!H164","v":-1E-3},{"$f":"IF(NOT(OR(F387>0,G387>0)),\"\",IF(HandicapPlay=\"x\",IF(F387>G387,10,-10),(IF((F387-G387>0),(VLOOKUP(OFFSET(H387,-9,0),(TABLE!WIN),(MATCH(E387,WINCOL,0)+1))),(VLOOKUP(OFFSET(H387,-9,0),(TABLE!LOSE),(MATCH(E387,LOSECOL,0)+1)))))))","v":""}]
[null,{"$f":"SCORECARD!C165","v":" Block 1 Player 9"},null,null,{"$f":"SCORECARD!F165","v":0},{"$f":"SCORECARD!G165","v":-1E-3},{"$f":"SCORECARD!H165","v":-1E-3},{"$f":"IF(NOT(OR(F388>0,G388>0)),\"\",IF(HandicapPlay=\"x\",IF(F388>G388,10,-10),(IF((F388-G388>0),(VLOOKUP(OFFSET(H388,-10,0),(TABLE!WIN),(MATCH(E388,WINCOL,0)+1))),(VLOOKUP(OFFSET(H388,-10,0),(TABLE!LOSE),(MATCH(E388,LOSECOL,0)+1)))))))","v":""}]
[null,{"$f":"SCORECARD!C166","v":" Block 1 Player 10"},null,null,{"$f":"SCORECARD!F166","v":0},{"$f":"SCORECARD!G166","v":-1E-3},{"$f":"SCORECARD!H166","v":-1E-3},{"$f":"IF(NOT(OR(F389>0,G389>0)),\"\",IF(HandicapPlay=\"x\",IF(F389>G389,10,-10),(IF((F389-G389>0),(VLOOKUP(OFFSET(H389,-11,0),(TABLE!WIN),(MATCH(E389,WINCOL,0)+1))),(VLOOKUP(OFFSET(H389,-11,0),(TABLE!LOSE),(MATCH(E389,LOSECOL,0)+1)))))))","v":""}]
[null,{"$f":"SCORECARD!C167","v":" Block 1 Player 11"},null,null,{"$f":"SCORECARD!F167","v":0},{"$f":"SCORECARD!G167","v":-1E-3},{"$f":"SCORECARD!H167","v":-1E-3},{"$f":"IF(NOT(OR(F390>0,G390>0)),\"\",IF(HandicapPlay=\"x\",IF(F390>G390,10,-10),(IF((F390-G390>0),(VLOOKUP(OFFSET(H390,-12,0),(TABLE!WIN),(MATCH(E390,WINCOL,0)+1))),(VLOOKUP(OFFSET(H390,-12,0),(TABLE!LOSE),(MATCH(E390,LOSECOL,0)+1)))))))","v":""}]
[null,{"$f":"SCORECARD!C168","v":" Block 1 Player 12"},null,null,{"$f":"SCORECARD!F168","v":0},{"$f":"SCORECARD!G168","v":-1E-3},{"$f":"SCORECARD!H168","v":-1E-3},{"$f":"IF(NOT(OR(F391>0,G391>0)),\"\",IF(HandicapPlay=\"x\",IF(F391>G391,10,-10),(IF((F391-G391>0),(VLOOKUP(OFFSET(H391,-13,0),(TABLE!WIN),(MATCH(E391,WINCOL,0)+1))),(VLOOKUP(OFFSET(H391,-13,0),(TABLE!LOSE),(MATCH(E391,LOSECOL,0)+1)))))))","v":""}]
[]
[]
[]
[]
[]
[]
[null,null,null,null,null,null,"Handicap adjustment points total   ",{"$f":"SUM(H381:H391)","v":0}]
[]
[]
[]
[]
[]
[]
[]
[{"$f":"note1","v":"Time limit 2.5 hours, Turn After Bell (61.1.6). Quadway hoops (3 11/16\"), Dawson International balls"}]
[{"$f":"note2","v":"Games may start early. Please be at the venue at least 30 minutes earlier than the scheduled start time."}]
[{"$f":"note3","v":"Entry Fee $40 will be invoiced by email. Please pay by EFT using the invoice No. as reference."}]
[{"$f":"note4","v":"Players please assist with setting and clearing courts."}]
[null,null,null,null,{"$f":"BLOCK!AA6","v":" Block 1 Player 9"}]
[null,null,null,null,{"$f":"BLOCK!L2","v":"Tournament"}]
[null,null,null,null,{"$f":"BLOCK!L4","v":"Group"}]
[null,null,null,null,{"$f":"BLOCK!B6","v":"BLOCK 1"}]
[]
[null,null,null,null,"BLOCK PLAY SCHEDULE"]
[null,"TIME","DAY","COURT",null,"OPPONENT",null,"Handicap","PS","OS"]
[null,{"$f":"GAMES!B9","v":"00:00:00"},{"$f":"GAMES!C9","v":"00:00:00"},{"$f":"GAMES!D9","v":0},null,{"$f":"GAMES!$G$9","v":" Block 1 Player 8"},null,{"$f":"$E$439","v":0},{"$f":"$F$439","v":-1E-3},{"$f":"$G$439","v":-1E-3}]
[null,{"$f":"GAMES!B15","v":"00:00:00"},{"$f":"GAMES!C15","v":"00:00:00"},{"$f":"GAMES!D15","v":0},null,{"$f":"GAMES!$E$15","v":" Block 1 Player 10"},null,{"$f":"$E$440","v":0},{"$f":"$F$440","v":-1E-3},{"$f":"$G$440","v":-1E-3}]
[null,{"$f":"GAMES!B20","v":"00:00:00"},{"$f":"GAMES!C20","v":"00:00:00"},{"$f":"GAMES!D20","v":0},null,{"$f":"GAMES!$E$20","v":" Block 1 Player 12"},null,{"$f":"$E$442","v":0},{"$f":"$F$442","v":-1E-3},{"$f":"$G$442","v":-1E-3}]
[null,{"$f":"GAMES!B25","v":"00:00:00"},{"$f":"GAMES!C25","v":"00:00:00"},{"$f":"GAMES!D25","v":0},null,{"$f":"GAMES!$E$25","v":" Block 1 Player 3"},null,{"$f":"$E$434","v":0},{"$f":"$F$434","v":-1E-3},{"$f":"$G$434","v":-1E-3}]
[null,{"$f":"GAMES!B30","v":"00:00:00"},{"$f":"GAMES!C30","v":"00:00:00"},{"$f":"GAMES!D30","v":0},null,{"$f":"GAMES!$E$30","v":" Block 1 Player 5"},null,{"$f":"$E$436","v":0},{"$f":"$F$436","v":-1E-3},{"$f":"$G$436","v":-1E-3}]
[null,{"$f":"GAMES!B35","v":"00:00:00"},{"$f":"GAMES!C35","v":"00:00:00"},{"$f":"GAMES!D35","v":0},null,{"$f":"GAMES!$E$35","v":" Block 1 Player 7"},null,{"$f":"$E$438","v":0},{"$f":"$F$438","v":-1E-3},{"$f":"$G$438","v":-1E-3}]
[null,{"$f":"GAMES!B40","v":"00:00:00"},{"$f":"GAMES!C40","v":"00:00:00"},{"$f":"GAMES!D40","v":0},null,{"$f":"GAMES!$E$40","v":" Block 1 Player 1"},null,{"$f":"$E$432","v":0},{"$f":"$F$432","v":-1E-3},{"$f":"$G$432","v":-1E-3}]
[null,{"$f":"GAMES!B47","v":"00:00:00"},{"$f":"GAMES!C47","v":"00:00:00"},{"$f":"GAMES!D47","v":0},null,{"$f":"GAMES!$G$47","v":" Block 1 Player 11"},null,{"$f":"$E$441","v":0},{"$f":"$F$441","v":-1E-3},{"$f":"$G$441","v":-1E-3}]
[null,{"$f":"GAMES!B54","v":"00:00:00"},{"$f":"GAMES!C54","v":"00:00:00"},{"$f":"GAMES!D54","v":0},null,{"$f":"GAMES!$E$54","v":" Block 1 Player 2"},null,{"$f":"$E$433","v":0},{"$f":"$F$433","v":-1E-3},{"$f":"$G$433","v":-1E-3}]
[null,{"$f":"GAMES!B61","v":"00:00:00"},{"$f":"GAMES!C61","v":"00:00:00"},{"$f":"GAMES!D61","v":0},null,{"$f":"GAMES!$G$61","v":" Block 1 Player 4"},null,{"$f":"$E$435","v":0},{"$f":"$F$435","v":-1E-3},{"$f":"$G$435","v":-1E-3}]
[null,{"$f":"GAMES!B68","v":"00:00:00"},{"$f":"GAMES!C68","v":"00:00:00"},{"$f":"GAMES!D68","v":0},null,{"$f":"GAMES!$G$68","v":" Block 1 Player 6"},null,{"$f":"$E$437","v":0},{"$f":"$F$437","v":-1E-3},{"$f":"$G$437","v":-1E-3}]
[]
[null,"PLAYER:",{"$f":"BLOCK!AA6","v":" Block 1 Player 9"},null,null,null,"HANDICAP",{"$f":"BLOCK!B33","v":0}]
[null,null,null,null,"OPP","PLAYER","OPP","H/CAP"]
[null,null,"OPPONENT",null,"HCP","SCORE","SCORE","PTS"]
[null,{"$f":"SCORECARD!C181","v":" Block 1 Player 1"},null,null,{"$f":"SCORECARD!F181","v":0},{"$f":"SCORECARD!G181","v":-1E-3},{"$f":"SCORECARD!H181","v":-1E-3},{"$f":"IF(NOT(OR(F432>0,G432>0)),\"\",IF(HandicapPlay=\"x\",IF(F432>G432,10,-10),(IF((F432-G432>0),(VLOOKUP(OFFSET(H432,-3,0),(TABLE!WIN),(MATCH(E432,WINCOL,0)+1))),(VLOOKUP(OFFSET(H432,-3,0),(TABLE!LOSE),(MATCH(E432,LOSECOL,0)+1)))))))","v":""}]
[null,{"$f":"SCORECARD!C182","v":" Block 1 Player 2"},null,null,{"$f":"SCORECARD!F182","v":0},{"$f":"SCORECARD!G182","v":-1E-3},{"$f":"SCORECARD!H182","v":-1E-3},{"$f":"IF(NOT(OR(F433>0,G433>0)),\"\",IF(HandicapPlay=\"x\",IF(F433>G433,10,-10),(IF((F433-G433>0),(VLOOKUP(OFFSET(H433,-4,0),(TABLE!WIN),(MATCH(E433,WINCOL,0)+1))),(VLOOKUP(OFFSET(H433,-4,0),(TABLE!LOSE),(MATCH(E433,LOSECOL,0)+1)))))))","v":""}]
[null,{"$f":"SCORECARD!C183","v":" Block 1 Player 3"},null,null,{"$f":"SCORECARD!F183","v":0},{"$f":"SCORECARD!G183","v":-1E-3},{"$f":"SCORECARD!H183","v":-1E-3},{"$f":"IF(NOT(OR(F434>0,G434>0)),\"\",IF(HandicapPlay=\"x\",IF(F434>G434,10,-10),(IF((F434-G434>0),(VLOOKUP(OFFSET(H434,-5,0),(TABLE!WIN),(MATCH(E434,WINCOL,0)+1))),(VLOOKUP(OFFSET(H434,-5,0),(TABLE!LOSE),(MATCH(E434,LOSECOL,0)+1)))))))","v":""}]
[null,{"$f":"SCORECARD!C184","v":" Block 1 Player 4"},null,null,{"$f":"SCORECARD!F184","v":0},{"$f":"SCORECARD!G184","v":-1E-3},{"$f":"SCORECARD!H184","v":-1E-3},{"$f":"IF(NOT(OR(F435>0,G435>0)),\"\",IF(HandicapPlay=\"x\",IF(F435>G435,10,-10),(IF((F435-G435>0),(VLOOKUP(OFFSET(H435,-6,0),(TABLE!WIN),(MATCH(E435,WINCOL,0)+1))),(VLOOKUP(OFFSET(H435,-6,0),(TABLE!LOSE),(MATCH(E435,LOSECOL,0)+1)))))))","v":""}]
[null,{"$f":"SCORECARD!C185","v":" Block 1 Player 5"},null,null,{"$f":"SCORECARD!F185","v":0},{"$f":"SCORECARD!G185","v":-1E-3},{"$f":"SCORECARD!H185","v":-1E-3},{"$f":"IF(NOT(OR(F436>0,G436>0)),\"\",IF(HandicapPlay=\"x\",IF(F436>G436,10,-10),(IF((F436-G436>0),(VLOOKUP(OFFSET(H436,-7,0),(TABLE!WIN),(MATCH(E436,WINCOL,0)+1))),(VLOOKUP(OFFSET(H436,-7,0),(TABLE!LOSE),(MATCH(E436,LOSECOL,0)+1)))))))","v":""}]
[null,{"$f":"SCORECARD!C186","v":" Block 1 Player 6"},null,null,{"$f":"SCORECARD!F186","v":0},{"$f":"SCORECARD!G186","v":-1E-3},{"$f":"SCORECARD!H186","v":-1E-3},{"$f":"IF(NOT(OR(F437>0,G437>0)),\"\",IF(HandicapPlay=\"x\",IF(F437>G437,10,-10),(IF((F437-G437>0),(VLOOKUP(OFFSET(H437,-8,0),(TABLE!WIN),(MATCH(E437,WINCOL,0)+1))),(VLOOKUP(OFFSET(H437,-8,0),(TABLE!LOSE),(MATCH(E437,LOSECOL,0)+1)))))))","v":""}]
[null,{"$f":"SCORECARD!C187","v":" Block 1 Player 7"},null,null,{"$f":"SCORECARD!F187","v":0},{"$f":"SCORECARD!G187","v":-1E-3},{"$f":"SCORECARD!H187","v":-1E-3},{"$f":"IF(NOT(OR(F438>0,G438>0)),\"\",IF(HandicapPlay=\"x\",IF(F438>G438,10,-10),(IF((F438-G438>0),(VLOOKUP(OFFSET(H438,-9,0),(TABLE!WIN),(MATCH(E438,WINCOL,0)+1))),(VLOOKUP(OFFSET(H438,-9,0),(TABLE!LOSE),(MATCH(E438,LOSECOL,0)+1)))))))","v":""}]
[null,{"$f":"SCORECARD!C188","v":" Block 1 Player 8"},null,null,{"$f":"SCORECARD!F188","v":0},{"$f":"SCORECARD!G188","v":-1E-3},{"$f":"SCORECARD!H188","v":-1E-3},{"$f":"IF(NOT(OR(F439>0,G439>0)),\"\",IF(HandicapPlay=\"x\",IF(F439>G439,10,-10),(IF((F439-G439>0),(VLOOKUP(OFFSET(H439,-10,0),(TABLE!WIN),(MATCH(E439,WINCOL,0)+1))),(VLOOKUP(OFFSET(H439,-10,0),(TABLE!LOSE),(MATCH(E439,LOSECOL,0)+1)))))))","v":""}]
[null,{"$f":"SCORECARD!C189","v":" Block 1 Player 10"},null,null,{"$f":"SCORECARD!F189","v":0},{"$f":"SCORECARD!G189","v":-1E-3},{"$f":"SCORECARD!H189","v":-1E-3},{"$f":"IF(NOT(OR(F440>0,G440>0)),\"\",IF(HandicapPlay=\"x\",IF(F440>G440,10,-10),(IF((F440-G440>0),(VLOOKUP(OFFSET(H440,-11,0),(TABLE!WIN),(MATCH(E440,WINCOL,0)+1))),(VLOOKUP(OFFSET(H440,-11,0),(TABLE!LOSE),(MATCH(E440,LOSECOL,0)+1)))))))","v":""}]
[null,{"$f":"SCORECARD!C190","v":" Block 1 Player 11"},null,null,{"$f":"SCORECARD!F190","v":0},{"$f":"SCORECARD!G190","v":-1E-3},{"$f":"SCORECARD!H190","v":-1E-3},{"$f":"IF(NOT(OR(F441>0,G441>0)),\"\",IF(HandicapPlay=\"x\",IF(F441>G441,10,-10),(IF((F441-G441>0),(VLOOKUP(OFFSET(H441,-12,0),(TABLE!WIN),(MATCH(E441,WINCOL,0)+1))),(VLOOKUP(OFFSET(H441,-12,0),(TABLE!LOSE),(MATCH(E441,LOSECOL,0)+1)))))))","v":""}]
[null,{"$f":"SCORECARD!C191","v":" Block 1 Player 12"},null,null,{"$f":"SCORECARD!F191","v":0},{"$f":"SCORECARD!G191","v":-1E-3},{"$f":"SCORECARD!H191","v":-1E-3},{"$f":"IF(NOT(OR(F442>0,G442>0)),\"\",IF(HandicapPlay=\"x\",IF(F442>G442,10,-10),(IF((F442-G442>0),(VLOOKUP(OFFSET(H442,-13,0),(TABLE!WIN),(MATCH(E442,WINCOL,0)+1))),(VLOOKUP(OFFSET(H442,-13,0),(TABLE!LOSE),(MATCH(E442,LOSECOL,0)+1)))))))","v":""}]
[]
[]
[]
[]
[]
[]
[null,null,null,null,null,null,"Handicap adjustment points total   ",{"$f":"SUM(H432:H442)","v":0}]
[]
[]
[]
[]
[]
[]
[]
[{"$f":"note1","v":"Time limit 2.5 hours, Turn After Bell (61.1.6). Quadway hoops (3 11/16\"), Dawson International balls"}]
[{"$f":"note2","v":"Games may start early. Please be at the venue at least 30 minutes earlier than the scheduled start time."}]
[{"$f":"note3","v":"Entry Fee $40 will be invoiced by email. Please pay by EFT using the invoice No. as reference."}]
[{"$f":"note4","v":"Players please assist with setting and clearing courts."}]
[null,null,null,null,{"$f":"BLOCK!AD6","v":" Block 1 Player 10"}]
[null,null,null,null,{"$f":"BLOCK!L2","v":"Tournament"}]
[null,null,null,null,{"$f":"BLOCK!L4","v":"Group"}]
[null,null,null,null,{"$f":"BLOCK!B6","v":"BLOCK 1"}]
[]
[null,null,null,null,"BLOCK PLAY SCHEDULE"]
[null,"TIME","DAY","COURT",null,"OPPONENT",null,"Handicap","PS","OS"]
[null,{"$f":"GAMES!B8","v":"00:00:00"},{"$f":"GAMES!C8","v":"00:00:00"},{"$f":"GAMES!D8","v":0},null,{"$f":"GAMES!$G$8","v":" Block 1 Player 7"},null,{"$f":"$E$489","v":0},{"$f":"$F$489","v":-1E-3},{"$f":"$G$489","v":-1E-3}]
[null,{"$f":"GAMES!B15","v":"00:00:00"},{"$f":"GAMES!C15","v":"00:00:00"},{"$f":"GAMES!D15","v":0},null,{"$f":"GAMES!$G$15","v":" Block 1 Player 9"},null,{"$f":"$E$491","v":0},{"$f":"$F$491","v":-1E-3},{"$f":"$G$491","v":-1E-3}]
[null,{"$f":"GAMES!B21","v":"00:00:00"},{"$f":"GAMES!C21","v":"00:00:00"},{"$f":"GAMES!D21","v":0},null,{"$f":"GAMES!$E$21","v":" Block 1 Player 11"},null,{"$f":"$E$492","v":0},{"$f":"$F$492","v":-1E-3},{"$f":"$G$492","v":-1E-3}]
[null,{"$f":"GAMES!B26","v":"00:00:00"},{"$f":"GAMES!C26","v":"00:00:00"},{"$f":"GAMES!D26","v":0},null,{"$f":"GAMES!$E$26","v":" Block 1 Player 2"},null,{"$f":"$E$484","v":0},{"$f":"$F$484","v":-1E-3},{"$f":"$G$484","v":-1E-3}]
[null,{"$f":"GAMES!B31","v":"00:00:00"},{"$f":"GAMES!C31","v":"00:00:00"},{"$f":"GAMES!D31","v":0},null,{"$f":"GAMES!$E$31","v":" Block 1 Player 4"},null,{"$f":"$E$486","v":0},{"$f":"$F$486","v":-1E-3},{"$f":"$G$486","v":-1E-3}]
[null,{"$f":"GAMES!B36","v":"00:00:00"},{"$f":"GAMES!C36","v":"00:00:00"},{"$f":"GAMES!D36","v":0},null,{"$f":"GAMES!$E$36","v":" Block 1 Player 6"},null,{"$f":"$E$488","v":0},{"$f":"$F$488","v":-1E-3},{"$f":"$G$488","v":-1E-3}]
[null,{"$f":"GAMES!B41","v":"00:00:00"},{"$f":"GAMES!C41","v":"00:00:00"},{"$f":"GAMES!D41","v":0},null,{"$f":"GAMES!$E$41","v":" Block 1 Player 8"},null,{"$f":"$E$490","v":0},{"$f":"$F$490","v":-1E-3},{"$f":"$G$490","v":-1E-3}]
[null,{"$f":"GAMES!B46","v":"00:00:00"},{"$f":"GAMES!C46","v":"00:00:00"},{"$f":"GAMES!D46","v":0},null,{"$f":"GAMES!$E$46","v":" Block 1 Player 1"},null,{"$f":"$E$483","v":0},{"$f":"$F$483","v":-1E-3},{"$f":"$G$483","v":-1E-3}]
[null,{"$f":"GAMES!B53","v":"00:00:00"},{"$f":"GAMES!C53","v":"00:00:00"},{"$f":"GAMES!D53","v":0},null,{"$f":"GAMES!$G$53","v":" Block 1 Player 12"},null,{"$f":"$E$493","v":0},{"$f":"$F$493","v":-1E-3},{"$f":"$G$493","v":-1E-3}]
[null,{"$f":"GAMES!B60","v":"00:00:00"},{"$f":"GAMES!C60","v":"00:00:00"},{"$f":"GAMES!D60","v":0},null,{"$f":"GAMES!$G$60","v":" Block 1 Player 3"},null,{"$f":"$E$485","v":0},{"$f":"$F$485","v":-1E-3},{"$f":"$G$485","v":-1E-3}]
[null,{"$f":"GAMES!B67","v":"00:00:00"},{"$f":"GAMES!C67","v":"00:00:00"},{"$f":"GAMES!D67","v":0},null,{"$f":"GAMES!$G$67","v":" Block 1 Player 5"},null,{"$f":"$E$487","v":0},{"$f":"$F$487","v":-1E-3},{"$f":"$G$487","v":-1E-3}]
[]
[null,"PLAYER:",{"$f":"BLOCK!AD6","v":" Block 1 Player 10"},null,null,null,"HANDICAP",{"$f":"BLOCK!B36","v":0}]
[null,null,null,null,"OPP","PLAYER","OPP","H/CAP"]
[null,null,"OPPONENT",null,"HCP","SCORE","SCORE","PTS"]
[null,{"$f":"SCORECARD!C201","v":" Block 1 Player 1"},null,null,{"$f":"SCORECARD!F201","v":0},{"$f":"SCORECARD!G201","v":-1E-3},{"$f":"SCORECARD!H201","v":-1E-3},{"$f":"IF(NOT(OR(F483>0,G483>0)),\"\",IF(HandicapPlay=\"x\",IF(F483>G483,10,-10),(IF((F483-G483>0),(VLOOKUP(OFFSET(H483,-3,0),(TABLE!WIN),(MATCH(E483,WINCOL,0)+1))),(VLOOKUP(OFFSET(H483,-3,0),(TABLE!LOSE),(MATCH(E483,LOSECOL,0)+1)))))))","v":""}]
[null,{"$f":"SCORECARD!C202","v":" Block 1 Player 2"},null,null,{"$f":"SCORECARD!F202","v":0},{"$f":"SCORECARD!G202","v":-1E-3},{"$f":"SCORECARD!H202","v":-1E-3},{"$f":"IF(NOT(OR(F484>0,G484>0)),\"\",IF(HandicapPlay=\"x\",IF(F484>G484,10,-10),(IF((F484-G484>0),(VLOOKUP(OFFSET(H484,-4,0),(TABLE!WIN),(MATCH(E484,WINCOL,0)+1))),(VLOOKUP(OFFSET(H484,-4,0),(TABLE!LOSE),(MATCH(E484,LOSECOL,0)+1)))))))","v":""}]
[null,{"$f":"SCORECARD!C203","v":" Block 1 Player 3"},null,null,{"$f":"SCORECARD!F203","v":0},{"$f":"SCORECARD!G203","v":-1E-3},{"$f":"SCORECARD!H203","v":-1E-3},{"$f":"IF(NOT(OR(F485>0,G485>0)),\"\",IF(HandicapPlay=\"x\",IF(F485>G485,10,-10),(IF((F485-G485>0),(VLOOKUP(OFFSET(H485,-5,0),(TABLE!WIN),(MATCH(E485,WINCOL,0)+1))),(VLOOKUP(OFFSET(H485,-5,0),(TABLE!LOSE),(MATCH(E485,LOSECOL,0)+1)))))))","v":""}]
[null,{"$f":"SCORECARD!C204","v":" Block 1 Player 4"},null,null,{"$f":"SCORECARD!F204","v":0},{"$f":"SCORECARD!G204","v":-1E-3},{"$f":"SCORECARD!H204","v":-1E-3},{"$f":"IF(NOT(OR(F486>0,G486>0)),\"\",IF(HandicapPlay=\"x\",IF(F486>G486,10,-10),(IF((F486-G486>0),(VLOOKUP(OFFSET(H486,-6,0),(TABLE!WIN),(MATCH(E486,WINCOL,0)+1))),(VLOOKUP(OFFSET(H486,-6,0),(TABLE!LOSE),(MATCH(E486,LOSECOL,0)+1)))))))","v":""}]
[null,{"$f":"SCORECARD!C205","v":" Block 1 Player 5"},null,null,{"$f":"SCORECARD!F205","v":0},{"$f":"SCORECARD!G205","v":-1E-3},{"$f":"SCORECARD!H205","v":-1E-3},{"$f":"IF(NOT(OR(F487>0,G487>0)),\"\",IF(HandicapPlay=\"x\",IF(F487>G487,10,-10),(IF((F487-G487>0),(VLOOKUP(OFFSET(H487,-7,0),(TABLE!WIN),(MATCH(E487,WINCOL,0)+1))),(VLOOKUP(OFFSET(H487,-7,0),(TABLE!LOSE),(MATCH(E487,LOSECOL,0)+1)))))))","v":""}]
[null,{"$f":"SCORECARD!C206","v":" Block 1 Player 6"},null,null,{"$f":"SCORECARD!F206","v":0},{"$f":"SCORECARD!G206","v":-1E-3},{"$f":"SCORECARD!H206","v":-1E-3},{"$f":"IF(NOT(OR(F488>0,G488>0)),\"\",IF(HandicapPlay=\"x\",IF(F488>G488,10,-10),(IF((F488-G488>0),(VLOOKUP(OFFSET(H488,-8,0),(TABLE!WIN),(MATCH(E488,WINCOL,0)+1))),(VLOOKUP(OFFSET(H488,-8,0),(TABLE!LOSE),(MATCH(E488,LOSECOL,0)+1)))))))","v":""}]
[null,{"$f":"SCORECARD!C207","v":" Block 1 Player 7"},null,null,{"$f":"SCORECARD!F207","v":0},{"$f":"SCORECARD!G207","v":-1E-3},{"$f":"SCORECARD!H207","v":-1E-3},{"$f":"IF(NOT(OR(F489>0,G489>0)),\"\",IF(HandicapPlay=\"x\",IF(F489>G489,10,-10),(IF((F489-G489>0),(VLOOKUP(OFFSET(H489,-9,0),(TABLE!WIN),(MATCH(E489,WINCOL,0)+1))),(VLOOKUP(OFFSET(H489,-9,0),(TABLE!LOSE),(MATCH(E489,LOSECOL,0)+1)))))))","v":""}]
[null,{"$f":"SCORECARD!C208","v":" Block 1 Player 8"},null,null,{"$f":"SCORECARD!F208","v":0},{"$f":"SCORECARD!G208","v":-1E-3},{"$f":"SCORECARD!H208","v":-1E-3},{"$f":"IF(NOT(OR(F490>0,G490>0)),\"\",IF(HandicapPlay=\"x\",IF(F490>G490,10,-10),(IF((F490-G490>0),(VLOOKUP(OFFSET(H490,-10,0),(TABLE!WIN),(MATCH(E490,WINCOL,0)+1))),(VLOOKUP(OFFSET(H490,-10,0),(TABLE!LOSE),(MATCH(E490,LOSECOL,0)+1)))))))","v":""}]
[null,{"$f":"SCORECARD!C209","v":" Block 1 Player 9"},null,null,{"$f":"SCORECARD!F209","v":0},{"$f":"SCORECARD!G209","v":-1E-3},{"$f":"SCORECARD!H209","v":-1E-3},{"$f":"IF(NOT(OR(F491>0,G491>0)),\"\",IF(HandicapPlay=\"x\",IF(F491>G491,10,-10),(IF((F491-G491>0),(VLOOKUP(OFFSET(H491,-11,0),(TABLE!WIN),(MATCH(E491,WINCOL,0)+1))),(VLOOKUP(OFFSET(H491,-11,0),(TABLE!LOSE),(MATCH(E491,LOSECOL,0)+1)))))))","v":""}]
[null,{"$f":"SCORECARD!C210","v":" Block 1 Player 11"},null,null,{"$f":"SCORECARD!F210","v":0},{"$f":"SCORECARD!G210","v":-1E-3},{"$f":"SCORECARD!H210","v":-1E-3},{"$f":"IF(NOT(OR(F492>0,G492>0)),\"\",IF(HandicapPlay=\"x\",IF(F492>G492,10,-10),(IF((F492-G492>0),(VLOOKUP(OFFSET(H492,-12,0),(TABLE!WIN),(MATCH(E492,WINCOL,0)+1))),(VLOOKUP(OFFSET(H492,-12,0),(TABLE!LOSE),(MATCH(E492,LOSECOL,0)+1)))))))","v":""}]
[null,{"$f":"SCORECARD!C211","v":" Block 1 Player 12"},null,null,{"$f":"SCORECARD!F211","v":0},{"$f":"SCORECARD!G211","v":-1E-3},{"$f":"SCORECARD!H211","v":-1E-3},{"$f":"IF(NOT(OR(F493>0,G493>0)),\"\",IF(HandicapPlay=\"x\",IF(F493>G493,10,-10),(IF((F493-G493>0),(VLOOKUP(OFFSET(H493,-13,0),(TABLE!WIN),(MATCH(E493,WINCOL,0)+1))),(VLOOKUP(OFFSET(H493,-13,0),(TABLE!LOSE),(MATCH(E493,LOSECOL,0)+1)))))))","v":""}]
[]
[]
[]
[]
[]
[]
[null,null,null,null,null,null,"Handicap adjustment points total   ",{"$f":"SUM(H483:H493)","v":0}]
[]
[]
[]
[]
[]
[]
[]
[{"$f":"note1","v":"Time limit 2.5 hours, Turn After Bell (61.1.6). Quadway hoops (3 11/16\"), Dawson International balls"}]
[{"$f":"note2","v":"Games may start early. Please be at the venue at least 30 minutes earlier than the scheduled start time."}]
[{"$f":"note3","v":"Entry Fee $40 will be invoiced by email. Please pay by EFT using the invoice No. as reference."}]
[{"$f":"note4","v":"Players please assist with setting and clearing courts."}]
[null,null,null,null,{"$f":"BLOCK!$AG$6","v":" Block 1 Player 11"}]
[null,null,null,null,{"$f":"BLOCK!L2","v":"Tournament"}]
[null,null,null,null,{"$f":"BLOCK!L4","v":"Group"}]
[null,null,null,null,{"$f":"BLOCK!B6","v":"BLOCK 1"}]
[]
[null,null,null,null,"BLOCK PLAY SCHEDULE"]
[null,"TIME","DAY","COURT",null,"OPPONENT",null,"Handicap","PS","OS"]
[null,{"$f":"GAMES!B7","v":"00:00:00"},{"$f":"GAMES!C7","v":"00:00:00"},{"$f":"GAMES!D7","v":0},null,{"$f":"GAMES!$G$7","v":" Block 1 Player 6"},null,{"$f":"$E$539","v":0},{"$f":"$F$539","v":-1E-3},{"$f":"$G$539","v":-1E-3}]
[null,{"$f":"GAMES!B14","v":"00:00:00"},{"$f":"GAMES!C14","v":"00:00:00"},{"$f":"GAMES!D14","v":0},null,{"$f":"GAMES!$G$14","v":" Block 1 Player 8"},null,{"$f":"$E$541","v":0},{"$f":"$F$541","v":-1E-3},{"$f":"$G$541","v":-1E-3}]
[null,{"$f":"GAMES!B21","v":"00:00:00"},{"$f":"GAMES!C21","v":"00:00:00"},{"$f":"GAMES!D21","v":0},null,{"$f":"GAMES!$G$21","v":" Block 1 Player 10"},null,{"$f":"$E$543","v":0},{"$f":"$F$543","v":-1E-3},{"$f":"$G$543","v":-1E-3}]
[null,{"$f":"GAMES!B27","v":"00:00:00"},{"$f":"GAMES!C27","v":"00:00:00"},{"$f":"GAMES!D27","v":0},null,{"$f":"GAMES!$E$27","v":" Block 1 Player 12"},null,{"$f":"$E$544","v":0},{"$f":"$F$544","v":-1E-3},{"$f":"$G$544","v":-1E-3}]
[null,{"$f":"GAMES!B32","v":"00:00:00"},{"$f":"GAMES!C32","v":"00:00:00"},{"$f":"GAMES!D32","v":0},null,{"$f":"GAMES!$E$32","v":" Block 1 Player 3"},null,{"$f":"$E$536","v":0},{"$f":"$F$536","v":-1E-3},{"$f":"$G$536","v":-1E-3}]
[null,{"$f":"GAMES!B37","v":"00:00:00"},{"$f":"GAMES!C37","v":"00:00:00"},{"$f":"GAMES!D37","v":0},null,{"$f":"GAMES!$E$37","v":" Block 1 Player 5"},null,{"$f":"$E$538","v":0},{"$f":"$F$538","v":-1E-3},{"$f":"$G$538","v":-1E-3}]
[null,{"$f":"GAMES!B42","v":"00:00:00"},{"$f":"GAMES!C42","v":"00:00:00"},{"$f":"GAMES!D42","v":0},null,{"$f":"GAMES!$E$42","v":" Block 1 Player 7"},null,{"$f":"$E$540","v":0},{"$f":"$F$540","v":-1E-3},{"$f":"$G$540","v":-1E-3}]
[null,{"$f":"GAMES!B47","v":"00:00:00"},{"$f":"GAMES!C47","v":"00:00:00"},{"$f":"GAMES!D47","v":0},null,{"$f":"GAMES!$E$47","v":" Block 1 Player 9"},null,{"$f":"$E$542","v":0},{"$f":"$F$542","v":-1E-3},{"$f":"$G$542","v":-1E-3}]
[null,{"$f":"GAMES!B52","v":"00:00:00"},{"$f":"GAMES!C52","v":"00:00:00"},{"$f":"GAMES!D52","v":0},null,{"$f":"GAMES!$E$52","v":" Block 1 Player 1"},null,{"$f":"$E$534","v":0},{"$f":"$F$534","v":-1E-3},{"$f":"$G$534","v":-1E-3}]
[null,{"$f":"GAMES!B59","v":"00:00:00"},{"$f":"GAMES!C59","v":"00:00:00"},{"$f":"GAMES!D59","v":0},null,{"$f":"GAMES!$G$59","v":" Block 1 Player 2"},null,{"$f":"$E$535","v":0},{"$f":"$F$535","v":-1E-3},{"$f":"$G$535","v":-1E-3}]
[null,{"$f":"GAMES!B66","v":"00:00:00"},{"$f":"GAMES!C66","v":"00:00:00"},{"$f":"GAMES!D66","v":0},null,{"$f":"GAMES!$G$66","v":" Block 1 Player 4"},null,{"$f":"$E$537","v":0},{"$f":"$F$537","v":-1E-3},{"$f":"$G$537","v":-1E-3}]
[]
[null,"PLAYER:",{"$f":"BLOCK!AG6","v":" Block 1 Player 11"},null,null,null,"HANDICAP",{"$f":"BLOCK!B39","v":0}]
[null,null,null,null,"OPP","PLAYER","OPP","H/CAP"]
[null,null,"OPPONENT",null,"HCP","SCORE","SCORE","PTS"]
[null,{"$f":"SCORECARD!C224","v":" Block 1 Player 1"},null,null,{"$f":"SCORECARD!F224","v":0},{"$f":"SCORECARD!G224","v":-1E-3},{"$f":"SCORECARD!H224","v":-1E-3},{"$f":"IF(NOT(OR(F534>0,G534>0)),\"\",IF(HandicapPlay=\"x\",IF(F534>G534,10,-10),(IF((F534-G534>0),(VLOOKUP(OFFSET(H534,-3,0),(TABLE!WIN),(MATCH(E534,WINCOL,0)+1))),(VLOOKUP(OFFSET(H534,-3,0),(TABLE!LOSE),(MATCH(E534,LOSECOL,0)+1)))))))","v":""}]
[null,{"$f":"SCORECARD!C225","v":" Block 1 Player 2"},null,null,{"$f":"SCORECARD!F225","v":0},{"$f":"SCORECARD!G225","v":-1E-3},{"$f":"SCORECARD!H225","v":-1E-3},{"$f":"IF(NOT(OR(F535>0,G535>0)),\"\",IF(HandicapPlay=\"x\",IF(F535>G535,10,-10),(IF((F535-G535>0),(VLOOKUP(OFFSET(H535,-4,0),(TABLE!WIN),(MATCH(E535,WINCOL,0)+1))),(VLOOKUP(OFFSET(H535,-4,0),(TABLE!LOSE),(MATCH(E535,LOSECOL,0)+1)))))))","v":""}]
[null,{"$f":"SCORECARD!C226","v":" Block 1 Player 3"},null,null,{"$f":"SCORECARD!F226","v":0},{"$f":"SCORECARD!G226","v":-1E-3},{"$f":"SCORECARD!H226","v":-1E-3},{"$f":"IF(NOT(OR(F536>0,G536>0)),\"\",IF(HandicapPlay=\"x\",IF(F536>G536,10,-10),(IF((F536-G536>0),(VLOOKUP(OFFSET(H536,-5,0),(TABLE!WIN),(MATCH(E536,WINCOL,0)+1))),(VLOOKUP(OFFSET(H536,-5,0),(TABLE!LOSE),(MATCH(E536,LOSECOL,0)+1)))))))","v":""}]
[null,{"$f":"SCORECARD!C227","v":" Block 1 Player 4"},null,null,{"$f":"SCORECARD!F227","v":0},{"$f":"SCORECARD!G227","v":-1E-3},{"$f":"SCORECARD!H227","v":-1E-3},{"$f":"IF(NOT(OR(F537>0,G537>0)),\"\",IF(HandicapPlay=\"x\",IF(F537>G537,10,-10),(IF((F537-G537>0),(VLOOKUP(OFFSET(H537,-6,0),(TABLE!WIN),(MATCH(E537,WINCOL,0)+1))),(VLOOKUP(OFFSET(H537,-6,0),(TABLE!LOSE),(MATCH(E537,LOSECOL,0)+1)))))))","v":""}]
[null,{"$f":"SCORECARD!C228","v":" Block 1 Player 5"},null,null,{"$f":"SCORECARD!F228","v":0},{"$f":"SCORECARD!G228","v":-1E-3},{"$f":"SCORECARD!H228","v":-1E-3},{"$f":"IF(NOT(OR(F538>0,G538>0)),\"\",IF(HandicapPlay=\"x\",IF(F538>G538,10,-10),(IF((F538-G538>0),(VLOOKUP(OFFSET(H538,-7,0),(TABLE!WIN),(MATCH(E538,WINCOL,0)+1))),(VLOOKUP(OFFSET(H538,-7,0),(TABLE!LOSE),(MATCH(E538,LOSECOL,0)+1)))))))","v":""}]
[null,{"$f":"SCORECARD!C229","v":" Block 1 Player 6"},null,null,{"$f":"SCORECARD!F229","v":0},{"$f":"SCORECARD!G229","v":-1E-3},{"$f":"SCORECARD!H229","v":-1E-3},{"$f":"IF(NOT(OR(F539>0,G539>0)),\"\",IF(HandicapPlay=\"x\",IF(F539>G539,10,-10),(IF((F539-G539>0),(VLOOKUP(OFFSET(H539,-8,0),(TABLE!WIN),(MATCH(E539,WINCOL,0)+1))),(VLOOKUP(OFFSET(H539,-8,0),(TABLE!LOSE),(MATCH(E539,LOSECOL,0)+1)))))))","v":""}]
[null,{"$f":"SCORECARD!C230","v":" Block 1 Player 7"},null,null,{"$f":"SCORECARD!F230","v":0},{"$f":"SCORECARD!G230","v":-1E-3},{"$f":"SCORECARD!H230","v":-1E-3},{"$f":"IF(NOT(OR(F540>0,G540>0)),\"\",IF(HandicapPlay=\"x\",IF(F540>G540,10,-10),(IF((F540-G540>0),(VLOOKUP(OFFSET(H540,-9,0),(TABLE!WIN),(MATCH(E540,WINCOL,0)+1))),(VLOOKUP(OFFSET(H540,-9,0),(TABLE!LOSE),(MATCH(E540,LOSECOL,0)+1)))))))","v":""}]
[null,{"$f":"SCORECARD!C231","v":" Block 1 Player 8"},null,null,{"$f":"SCORECARD!F231","v":0},{"$f":"SCORECARD!G231","v":-1E-3},{"$f":"SCORECARD!H231","v":-1E-3},{"$f":"IF(NOT(OR(F541>0,G541>0)),\"\",IF(HandicapPlay=\"x\",IF(F541>G541,10,-10),(IF((F541-G541>0),(VLOOKUP(OFFSET(H541,-10,0),(TABLE!WIN),(MATCH(E541,WINCOL,0)+1))),(VLOOKUP(OFFSET(H541,-10,0),(TABLE!LOSE),(MATCH(E541,LOSECOL,0)+1)))))))","v":""}]
[null,{"$f":"SCORECARD!C232","v":" Block 1 Player 9"},null,null,{"$f":"SCORECARD!F232","v":0},{"$f":"SCORECARD!G232","v":-1E-3},{"$f":"SCORECARD!H232","v":-1E-3},{"$f":"IF(NOT(OR(F542>0,G542>0)),\"\",IF(HandicapPlay=\"x\",IF(F542>G542,10,-10),(IF((F542-G542>0),(VLOOKUP(OFFSET(H542,-11,0),(TABLE!WIN),(MATCH(E542,WINCOL,0)+1))),(VLOOKUP(OFFSET(H542,-11,0),(TABLE!LOSE),(MATCH(E542,LOSECOL,0)+1)))))))","v":""}]
[null,{"$f":"SCORECARD!C233","v":" Block 1 Player 10"},null,null,{"$f":"SCORECARD!F233","v":0},{"$f":"SCORECARD!G233","v":-1E-3},{"$f":"SCORECARD!H233","v":-1E-3},{"$f":"IF(NOT(OR(F543>0,G543>0)),\"\",IF(HandicapPlay=\"x\",IF(F543>G543,10,-10),(IF((F543-G543>0),(VLOOKUP(OFFSET(H543,-12,0),(TABLE!WIN),(MATCH(E543,WINCOL,0)+1))),(VLOOKUP(OFFSET(H543,-12,0),(TABLE!LOSE),(MATCH(E543,LOSECOL,0)+1)))))))","v":""}]
[null,{"$f":"SCORECARD!C234","v":" Block 1 Player 12"},null,null,{"$f":"SCORECARD!F234","v":0},{"$f":"SCORECARD!G234","v":-1E-3},{"$f":"SCORECARD!H234","v":-1E-3},{"$f":"IF(NOT(OR(F544>0,G544>0)),\"\",IF(HandicapPlay=\"x\",IF(F544>G544,10,-10),(IF((F544-G544>0),(VLOOKUP(OFFSET(H544,-13,0),(TABLE!WIN),(MATCH(E544,WINCOL,0)+1))),(VLOOKUP(OFFSET(H544,-13,0),(TABLE!LOSE),(MATCH(E544,LOSECOL,0)+1)))))))","v":""}]
[]
[]
[]
[]
[]
[]
[null,null,null,null,null,null,"Handicap adjustment points total   ",{"$f":"SUM(H534:H544)","v":0}]
[]
[]
[]
[]
[]
[]
[]
[{"$f":"note1","v":"Time limit 2.5 hours, Turn After Bell (61.1.6). Quadway hoops (3 11/16\"), Dawson International balls"}]
[{"$f":"note2","v":"Games may start early. Please be at the venue at least 30 minutes earlier than the scheduled start time."}]
[{"$f":"note3","v":"Entry Fee $40 will be invoiced by email. Please pay by EFT using the invoice No. as reference."}]
[{"$f":"note4","v":"Players please assist with setting and clearing courts."}]
[null,null,null,null,{"$f":"BLOCK!$AJ$6","v":" Block 1 Player 12"}]
[null,null,null,null,{"$f":"BLOCK!L2","v":"Tournament"}]
[null,null,null,null,{"$f":"BLOCK!L4","v":"Group"}]
[null,null,null,null,{"$f":"BLOCK!B6","v":"BLOCK 1"}]
[]
[null,null,null,null,"BLOCK PLAY SCHEDULE"]
[null,"TIME","DAY","COURT",null,"OPPONENT",null,"Handicap","PS","OS"]
[null,{"$f":"GAMES!B6","v":"00:00:00"},{"$f":"GAMES!C6","v":"00:00:00"},{"$f":"GAMES!D6","v":0},null,{"$f":"GAMES!$G$6","v":" Block 1 Player 5"},null,{"$f":"$E$589","v":0},{"$f":"$F$589","v":-1E-3},{"$f":"$G$589","v":-1E-3}]
[null,{"$f":"GAMES!B13","v":"00:00:00"},{"$f":"GAMES!C13","v":"00:00:00"},{"$f":"GAMES!D13","v":0},null,{"$f":"GAMES!$G$13","v":" Block 1 Player 7"},null,{"$f":"$E$591","v":0},{"$f":"$F$591","v":-1E-3},{"$f":"$G$591","v":-1E-3}]
[null,{"$f":"GAMES!B20","v":"00:00:00"},{"$f":"GAMES!C20","v":"00:00:00"},{"$f":"GAMES!D20","v":0},null,{"$f":"GAMES!$G$20","v":" Block 1 Player 9"},null,{"$f":"$E$593","v":0},{"$f":"$F$593","v":-1E-3},{"$f":"$G$593","v":-1E-3}]
[null,{"$f":"GAMES!B27","v":"00:00:00"},{"$f":"GAMES!C27","v":"00:00:00"},{"$f":"GAMES!D27","v":0},null,{"$f":"GAMES!$G$27","v":" Block 1 Player 11"},null,{"$f":"$E$595","v":0},{"$f":"$F$595","v":-1E-3},{"$f":"$G$595","v":-1E-3}]
[null,{"$f":"GAMES!B33","v":"00:00:00"},{"$f":"GAMES!C33","v":"00:00:00"},{"$f":"GAMES!D33","v":0},null,{"$f":"GAMES!$E$33","v":" Block 1 Player 2"},null,{"$f":"$E$586","v":0},{"$f":"$F$586","v":-1E-3},{"$f":"$G$586","v":-1E-3}]
[null,{"$f":"GAMES!B38","v":"00:00:00"},{"$f":"GAMES!C38","v":"00:00:00"},{"$f":"GAMES!D38","v":0},null,{"$f":"GAMES!$E$38","v":" Block 1 Player 4"},null,{"$f":"$E$588","v":0},{"$f":"$F$588","v":-1E-3},{"$f":"$G$588","v":-1E-3}]
[null,{"$f":"GAMES!B43","v":"00:00:00"},{"$f":"GAMES!C43","v":"00:00:00"},{"$f":"GAMES!D43","v":0},null,{"$f":"GAMES!$E$43","v":" Block 1 Player 6"},null,{"$f":"$E$590","v":0},{"$f":"$F$590","v":-1E-3},{"$f":"$G$590","v":-1E-3}]
[null,{"$f":"GAMES!B48","v":"00:00:00"},{"$f":"GAMES!C48","v":"00:00:00"},{"$f":"GAMES!D48","v":0},null,{"$f":"GAMES!$E$48","v":" Block 1 Player 8"},null,{"$f":"$E$592","v":0},{"$f":"$F$592","v":-1E-3},{"$f":"$G$592","v":-1E-3}]
[null,{"$f":"GAMES!B53","v":"00:00:00"},{"$f":"GAMES!C53","v":"00:00:00"},{"$f":"GAMES!D53","v":0},null,{"$f":"GAMES!$E$53","v":" Block 1 Player 10"},null,{"$f":"$E$594","v":0},{"$f":"$F$594","v":-1E-3},{"$f":"$G$594","v":-1E-3}]
[null,{"$f":"GAMES!B58","v":"00:00:00"},{"$f":"GAMES!C58","v":"00:00:00"},{"$f":"GAMES!D58","v":0},null,{"$f":"GAMES!$E$58","v":" Block 1 Player 1"},null,{"$f":"$E$585","v":0},{"$f":"$F$585","v":-1E-3},{"$f":"$G$585","v":-1E-3}]
[null,{"$f":"GAMES!B65","v":"00:00:00"},{"$f":"GAMES!C65","v":"00:00:00"},{"$f":"GAMES!D65","v":0},null,{"$f":"GAMES!$G$65","v":" Block 1 Player 3"},null,{"$f":"$E$587","v":0},{"$f":"$F$587","v":-1E-3},{"$f":"$G$587","v":-1E-3}]
[]
[null,"PLAYER:",{"$f":"BLOCK!AJ6","v":" Block 1 Player 12"},null,null,null,"HANDICAP",{"$f":"BLOCK!B42","v":0}]
[null,null,null,null,"OPP","PLAYER","OPP","H/CAP"]
[null,null,"OPPONENT",null,"HCP","SCORE","SCORE","PTS"]
[null,{"$f":"SCORECARD!C244","v":" Block 1 Player 1"},null,null,{"$f":"SCORECARD!F244","v":0},{"$f":"SCORECARD!G244","v":-1E-3},{"$f":"SCORECARD!H244","v":-1E-3},{"$f":"IF(NOT(OR(F585>0,G585>0)),\"\",IF(HandicapPlay=\"x\",IF(F585>G585,10,-10),(IF((F585-G585>0),(VLOOKUP(OFFSET(H585,-3,0),(TABLE!WIN),(MATCH(E585,WINCOL,0)+1))),(VLOOKUP(OFFSET(H585,-3,0),(TABLE!LOSE),(MATCH(E585,LOSECOL,0)+1)))))))","v":""}]
[null,{"$f":"SCORECARD!C245","v":" Block 1 Player 2"},null,null,{"$f":"SCORECARD!F245","v":0},{"$f":"SCORECARD!G245","v":-1E-3},{"$f":"SCORECARD!H245","v":-1E-3},{"$f":"IF(NOT(OR(F586>0,G586>0)),\"\",IF(HandicapPlay=\"x\",IF(F586>G586,10,-10),(IF((F586-G586>0),(VLOOKUP(OFFSET(H586,-4,0),(TABLE!WIN),(MATCH(E586,WINCOL,0)+1))),(VLOOKUP(OFFSET(H586,-4,0),(TABLE!LOSE),(MATCH(E586,LOSECOL,0)+1)))))))","v":""}]
[null,{"$f":"SCORECARD!C246","v":" Block 1 Player 3"},null,null,{"$f":"SCORECARD!F246","v":0},{"$f":"SCORECARD!G246","v":-1E-3},{"$f":"SCORECARD!H246","v":-1E-3},{"$f":"IF(NOT(OR(F587>0,G587>0)),\"\",IF(HandicapPlay=\"x\",IF(F587>G587,10,-10),(IF((F587-G587>0),(VLOOKUP(OFFSET(H587,-5,0),(TABLE!WIN),(MATCH(E587,WINCOL,0)+1))),(VLOOKUP(OFFSET(H587,-5,0),(TABLE!LOSE),(MATCH(E587,LOSECOL,0)+1)))))))","v":""}]
[null,{"$f":"SCORECARD!C247","v":" Block 1 Player 4"},null,null,{"$f":"SCORECARD!F247","v":0},{"$f":"SCORECARD!G247","v":-1E-3},{"$f":"SCORECARD!H247","v":-1E-3},{"$f":"IF(NOT(OR(F588>0,G588>0)),\"\",IF(HandicapPlay=\"x\",IF(F588>G588,10,-10),(IF((F588-G588>0),(VLOOKUP(OFFSET(H588,-6,0),(TABLE!WIN),(MATCH(E588,WINCOL,0)+1))),(VLOOKUP(OFFSET(H588,-6,0),(TABLE!LOSE),(MATCH(E588,LOSECOL,0)+1)))))))","v":""}]
[null,{"$f":"SCORECARD!C248","v":" Block 1 Player 5"},null,null,{"$f":"SCORECARD!F248","v":0},{"$f":"SCORECARD!G248","v":-1E-3},{"$f":"SCORECARD!H248","v":-1E-3},{"$f":"IF(NOT(OR(F589>0,G589>0)),\"\",IF(HandicapPlay=\"x\",IF(F589>G589,10,-10),(IF((F589-G589>0),(VLOOKUP(OFFSET(H589,-7,0),(TABLE!WIN),(MATCH(E589,WINCOL,0)+1))),(VLOOKUP(OFFSET(H589,-7,0),(TABLE!LOSE),(MATCH(E589,LOSECOL,0)+1)))))))","v":""}]
[null,{"$f":"SCORECARD!C249","v":" Block 1 Player 6"},null,null,{"$f":"SCORECARD!F249","v":0},{"$f":"SCORECARD!G249","v":-1E-3},{"$f":"SCORECARD!H249","v":-1E-3},{"$f":"IF(NOT(OR(F590>0,G590>0)),\"\",IF(HandicapPlay=\"x\",IF(F590>G590,10,-10),(IF((F590-G590>0),(VLOOKUP(OFFSET(H590,-8,0),(TABLE!WIN),(MATCH(E590,WINCOL,0)+1))),(VLOOKUP(OFFSET(H590,-8,0),(TABLE!LOSE),(MATCH(E590,LOSECOL,0)+1)))))))","v":""}]
[null,{"$f":"SCORECARD!C250","v":" Block 1 Player 7"},null,null,{"$f":"SCORECARD!F250","v":0},{"$f":"SCORECARD!G250","v":-1E-3},{"$f":"SCORECARD!H250","v":-1E-3},{"$f":"IF(NOT(OR(F591>0,G591>0)),\"\",IF(HandicapPlay=\"x\",IF(F591>G591,10,-10),(IF((F591-G591>0),(VLOOKUP(OFFSET(H591,-9,0),(TABLE!WIN),(MATCH(E591,WINCOL,0)+1))),(VLOOKUP(OFFSET(H591,-9,0),(TABLE!LOSE),(MATCH(E591,LOSECOL,0)+1)))))))","v":""}]
[null,{"$f":"SCORECARD!C251","v":" Block 1 Player 8"},null,null,{"$f":"SCORECARD!F251","v":0},{"$f":"SCORECARD!G251","v":-1E-3},{"$f":"SCORECARD!H251","v":-1E-3},{"$f":"IF(NOT(OR(F592>0,G592>0)),\"\",IF(HandicapPlay=\"x\",IF(F592>G592,10,-10),(IF((F592-G592>0),(VLOOKUP(OFFSET(H592,-10,0),(TABLE!WIN),(MATCH(E592,WINCOL,0)+1))),(VLOOKUP(OFFSET(H592,-10,0),(TABLE!LOSE),(MATCH(E592,LOSECOL,0)+1)))))))","v":""}]
[null,{"$f":"SCORECARD!C252","v":" Block 1 Player 9"},null,null,{"$f":"SCORECARD!F252","v":0},{"$f":"SCORECARD!G252","v":-1E-3},{"$f":"SCORECARD!H252","v":-1E-3},{"$f":"IF(NOT(OR(F593>0,G593>0)),\"\",IF(HandicapPlay=\"x\",IF(F593>G593,10,-10),(IF((F593-G593>0),(VLOOKUP(OFFSET(H593,-11,0),(TABLE!WIN),(MATCH(E593,WINCOL,0)+1))),(VLOOKUP(OFFSET(H593,-11,0),(TABLE!LOSE),(MATCH(E593,LOSECOL,0)+1)))))))","v":""}]
[null,{"$f":"SCORECARD!C253","v":" Block 1 Player 10"},null,null,{"$f":"SCORECARD!F253","v":0},{"$f":"SCORECARD!G253","v":-1E-3},{"$f":"SCORECARD!H253","v":-1E-3},{"$f":"IF(NOT(OR(F594>0,G594>0)),\"\",IF(HandicapPlay=\"x\",IF(F594>G594,10,-10),(IF((F594-G594>0),(VLOOKUP(OFFSET(H594,-12,0),(TABLE!WIN),(MATCH(E594,WINCOL,0)+1))),(VLOOKUP(OFFSET(H594,-12,0),(TABLE!LOSE),(MATCH(E594,LOSECOL,0)+1)))))))","v":""}]
[null,{"$f":"SCORECARD!C254","v":" Block 1 Player 11"},null,null,{"$f":"SCORECARD!F254","v":0},{"$f":"SCORECARD!G254","v":-1E-3},{"$f":"SCORECARD!H254","v":-1E-3},{"$f":"IF(NOT(OR(F595>0,G595>0)),\"\",IF(HandicapPlay=\"x\",IF(F595>G595,10,-10),(IF((F595-G595>0),(VLOOKUP(OFFSET(H595,-13,0),(TABLE!WIN),(MATCH(E595,WINCOL,0)+1))),(VLOOKUP(OFFSET(H595,-13,0),(TABLE!LOSE),(MATCH(E595,LOSECOL,0)+1)))))))","v":""}]
[]
[]
[]
[]
[]
[]
[null,null,null,null,null,null,"Handicap adjustment points total   ",{"$f":"SUM(H585:H595)","v":0}]
[]
[]
[]
[]
[]
[]
[]
[{"$f":"note1","v":"Time limit 2.5 hours, Turn After Bell (61.1.6). Quadway hoops (3 11/16\"), Dawson International balls"}]
[{"$f":"note2","v":"Games may start early. Please be at the venue at least 30 minutes earlier than the scheduled start time."}]
[{"$f":"note3","v":"Entry Fee $40 will be invoiced by email. Please pay by EFT using the invoice No. as reference."}]
[{"$f":"note4","v":"Players please assist with setting and clearing courts."}]
[null,null,null,null,{"$f":"BLOCK!C48","v":" Block 2 Player 1"}]
[null,null,null,null,{"$f":"BLOCK!L44","v":"Tournament"}]
[null,null,null,null,{"$f":"BLOCK!L46","v":"Group"}]
[null,null,null,null,{"$f":"BLOCK!B48","v":"BLOCK 2"}]
[]
[null,null,null,null,"BLOCK PLAY SCHEDULE"]
[null,"TIME","DAY","COURT",null,"OPPONENT",null,"Handicap","PS","OS"]
[null,{"$f":"GAMES!B72","v":"00:00:00"},{"$f":"GAMES!C72","v":"00:00:00"},{"$f":"GAMES!$D72","v":0},null,{"$f":"GAMES!$G$72","v":" Block 2 Player 3"},null,{"$f":"$E$637","v":0},{"$f":"$F$637","v":-1E-3},{"$f":"$G$637","v":-1E-3}]
[null,{"$f":"GAMES!B78","v":"00:00:00"},{"$f":"GAMES!C78","v":"00:00:00"},{"$f":"GAMES!D78","v":0},null,{"$f":"GAMES!$G$78","v":" Block 2 Player 4"},null,{"$f":"$E$638","v":0},{"$f":"$F$638","v":-1E-3},{"$f":"$G$638","v":-1E-3}]
[null,{"$f":"GAMES!B84","v":"00:00:00"},{"$f":"GAMES!C84","v":"00:00:00"},{"$f":"GAMES!D84","v":0},null,{"$f":"GAMES!$G$84","v":" Block 2 Player 5"},null,{"$f":"$E$639","v":0},{"$f":"$F$639","v":-1E-3},{"$f":"$G$639","v":-1E-3}]
[null,{"$f":"GAMES!B90","v":"00:00:00"},{"$f":"GAMES!C90","v":"00:00:00"},{"$f":"GAMES!D90","v":0},null,{"$f":"GAMES!$G$90","v":" Block 2 Player 6"},null,{"$f":"$E$640","v":0},{"$f":"$F$640","v":-1E-3},{"$f":"$G$640","v":-1E-3}]
[null,{"$f":"GAMES!B96","v":"00:00:00"},{"$f":"GAMES!C96","v":"00:00:00"},{"$f":"GAMES!D96","v":0},null,{"$f":"GAMES!$G$96","v":" Block 2 Player 7"},null,{"$f":"$E$641","v":0},{"$f":"$F$641","v":-1E-3},{"$f":"$G$641","v":-1E-3}]
[null,{"$f":"GAMES!B102","v":"00:00:00"},{"$f":"GAMES!C102","v":"00:00:00"},{"$f":"GAMES!D102","v":0},null,{"$f":"GAMES!$G$102","v":" Block 2 Player 8"},null,{"$f":"$E$642","v":0},{"$f":"$F$642","v":-1E-3},{"$f":"$G$642","v":-1E-3}]
[null,{"$f":"GAMES!B108","v":"00:00:00"},{"$f":"GAMES!C108","v":"00:00:00"},{"$f":"GAMES!D108","v":0},null,{"$f":"GAMES!$G$108","v":" Block 2 Player 9"},null,{"$f":"$E$643","v":0},{"$f":"$F$643","v":-1E-3},{"$f":"$G$643","v":-1E-3}]
[null,{"$f":"GAMES!B114","v":"00:00:00"},{"$f":"GAMES!C114","v":"00:00:00"},{"$f":"GAMES!D114","v":0},null,{"$f":"GAMES!$G$114","v":" Block 2 Player 10"},null,{"$f":"$E$644","v":0},{"$f":"$F$644","v":-1E-3},{"$f":"$G$644","v":-1E-3}]
[null,{"$f":"GAMES!B120","v":"00:00:00"},{"$f":"GAMES!C120","v":"00:00:00"},{"$f":"GAMES!D120","v":0},null,{"$f":"GAMES!$G$120","v":" Block 2 Player 11"},null,{"$f":"$E$645","v":0},{"$f":"$F$645","v":-1E-3},{"$f":"$G$645","v":-1E-3}]
[null,{"$f":"GAMES!B126","v":"00:00:00"},{"$f":"GAMES!C126","v":"00:00:00"},{"$f":"GAMES!D126","v":0},null,{"$f":"GAMES!$G$126","v":" Block 2 Player 12"},null,{"$f":"$E$646","v":0},{"$f":"$F$646","v":-1E-3},{"$f":"$G$646","v":-1E-3}]
[null,{"$f":"GAMES!B132","v":"00:00:00"},{"$f":"GAMES!C132","v":"00:00:00"},{"$f":"GAMES!D132","v":0},null,{"$f":"GAMES!$G$132","v":" Block 2 Player 2"},null,{"$f":"$E$636","v":0},{"$f":"$F$636","v":-1E-3},{"$f":"$G$636","v":-1E-3}]
[]
[null,"PLAYER:",{"$f":"BLOCK!C48","v":" Block 2 Player 1"},null,null,null,"HANDICAP",{"$f":"BLOCK!B51","v":0}]
[null,null,null,null,"OPP","PLAYER","OPP","H/CAP"]
[null,null,"OPPONENT",null,"HCP","SCORE","SCORE","PTS"]
[null,{"$f":"SCORECARD!C268","v":" Block 2 Player 2"},null,null,{"$f":"SCORECARD!F268","v":0},{"$f":"SCORECARD!G268","v":-1E-3},{"$f":"SCORECARD!H268","v":-1E-3},{"$f":"IF(NOT(OR(F636>0,G636>0)),\"\",IF(HandicapPlay=\"x\",IF(F636>G636,10,-10),(IF((F636-G636>0),(VLOOKUP(OFFSET(H636,-3,0),(TABLE!WIN),(MATCH(E636,WINCOL,0)+1))),(VLOOKUP(OFFSET(H636,-3,0),(TABLE!LOSE),(MATCH(E636,LOSECOL,0)+1)))))))","v":""}]
[null,{"$f":"SCORECARD!C269","v":" Block 2 Player 3"},null,null,{"$f":"SCORECARD!F269","v":0},{"$f":"SCORECARD!G269","v":-1E-3},{"$f":"SCORECARD!H269","v":-1E-3},{"$f":"IF(NOT(OR(F637>0,G637>0)),\"\",IF(HandicapPlay=\"x\",IF(F637>G637,10,-10),(IF((F637-G637>0),(VLOOKUP(OFFSET(H637,-4,0),(TABLE!WIN),(MATCH(E637,WINCOL,0)+1))),(VLOOKUP(OFFSET(H637,-4,0),(TABLE!LOSE),(MATCH(E637,LOSECOL,0)+1)))))))","v":""}]
[null,{"$f":"SCORECARD!C270","v":" Block 2 Player 4"},null,null,{"$f":"SCORECARD!F270","v":0},{"$f":"SCORECARD!G270","v":-1E-3},{"$f":"SCORECARD!H270","v":-1E-3},{"$f":"IF(NOT(OR(F638>0,G638>0)),\"\",IF(HandicapPlay=\"x\",IF(F638>G638,10,-10),(IF((F638-G638>0),(VLOOKUP(OFFSET(H638,-5,0),(TABLE!WIN),(MATCH(E638,WINCOL,0)+1))),(VLOOKUP(OFFSET(H638,-5,0),(TABLE!LOSE),(MATCH(E638,LOSECOL,0)+1)))))))","v":""}]
[null,{"$f":"SCORECARD!C271","v":" Block 2 Player 5"},null,null,{"$f":"SCORECARD!F271","v":0},{"$f":"SCORECARD!G271","v":-1E-3},{"$f":"SCORECARD!H271","v":-1E-3},{"$f":"IF(NOT(OR(F639>0,G639>0)),\"\",IF(HandicapPlay=\"x\",IF(F639>G639,10,-10),(IF((F639-G639>0),(VLOOKUP(OFFSET(H639,-6,0),(TABLE!WIN),(MATCH(E639,WINCOL,0)+1))),(VLOOKUP(OFFSET(H639,-6,0),(TABLE!LOSE),(MATCH(E639,LOSECOL,0)+1)))))))","v":""}]
[null,{"$f":"SCORECARD!C272","v":" Block 2 Player 6"},null,null,{"$f":"SCORECARD!F272","v":0},{"$f":"SCORECARD!G272","v":-1E-3},{"$f":"SCORECARD!H272","v":-1E-3},{"$f":"IF(NOT(OR(F640>0,G640>0)),\"\",IF(HandicapPlay=\"x\",IF(F640>G640,10,-10),(IF((F640-G640>0),(VLOOKUP(OFFSET(H640,-7,0),(TABLE!WIN),(MATCH(E640,WINCOL,0)+1))),(VLOOKUP(OFFSET(H640,-7,0),(TABLE!LOSE),(MATCH(E640,LOSECOL,0)+1)))))))","v":""}]
[null,{"$f":"SCORECARD!C273","v":" Block 2 Player 7"},null,null,{"$f":"SCORECARD!F273","v":0},{"$f":"SCORECARD!G273","v":-1E-3},{"$f":"SCORECARD!H273","v":-1E-3},{"$f":"IF(NOT(OR(F641>0,G641>0)),\"\",IF(HandicapPlay=\"x\",IF(F641>G641,10,-10),(IF((F641-G641>0),(VLOOKUP(OFFSET(H641,-8,0),(TABLE!WIN),(MATCH(E641,WINCOL,0)+1))),(VLOOKUP(OFFSET(H641,-8,0),(TABLE!LOSE),(MATCH(E641,LOSECOL,0)+1)))))))","v":""}]
[null,{"$f":"SCORECARD!C274","v":" Block 2 Player 8"},null,null,{"$f":"SCORECARD!F274","v":0},{"$f":"SCORECARD!G274","v":-1E-3},{"$f":"SCORECARD!H274","v":-1E-3},{"$f":"IF(NOT(OR(F642>0,G642>0)),\"\",IF(HandicapPlay=\"x\",IF(F642>G642,10,-10),(IF((F642-G642>0),(VLOOKUP(OFFSET(H642,-9,0),(TABLE!WIN),(MATCH(E642,WINCOL,0)+1))),(VLOOKUP(OFFSET(H642,-9,0),(TABLE!LOSE),(MATCH(E642,LOSECOL,0)+1)))))))","v":""}]
[null,{"$f":"SCORECARD!C275","v":" Block 2 Player 9"},null,null,{"$f":"SCORECARD!F275","v":0},{"$f":"SCORECARD!G275","v":-1E-3},{"$f":"SCORECARD!H275","v":-1E-3},{"$f":"IF(NOT(OR(F643>0,G643>0)),\"\",IF(HandicapPlay=\"x\",IF(F643>G643,10,-10),(IF((F643-G643>0),(VLOOKUP(OFFSET(H643,-10,0),(TABLE!WIN),(MATCH(E643,WINCOL,0)+1))),(VLOOKUP(OFFSET(H643,-10,0),(TABLE!LOSE),(MATCH(E643,LOSECOL,0)+1)))))))","v":""}]
[null,{"$f":"SCORECARD!C276","v":" Block 2 Player 10"},null,null,{"$f":"SCORECARD!F276","v":0},{"$f":"SCORECARD!G276","v":-1E-3},{"$f":"SCORECARD!H276","v":-1E-3},{"$f":"IF(NOT(OR(F644>0,G644>0)),\"\",IF(HandicapPlay=\"x\",IF(F644>G644,10,-10),(IF((F644-G644>0),(VLOOKUP(OFFSET(H644,-11,0),(TABLE!WIN),(MATCH(E644,WINCOL,0)+1))),(VLOOKUP(OFFSET(H644,-11,0),(TABLE!LOSE),(MATCH(E644,LOSECOL,0)+1)))))))","v":""}]
[null,{"$f":"SCORECARD!C277","v":" Block 2 Player 11"},null,null,{"$f":"SCORECARD!F277","v":0},{"$f":"SCORECARD!G277","v":-1E-3},{"$f":"SCORECARD!H277","v":-1E-3},{"$f":"IF(NOT(OR(F645>0,G645>0)),\"\",IF(HandicapPlay=\"x\",IF(F645>G645,10,-10),(IF((F645-G645>0),(VLOOKUP(OFFSET(H645,-12,0),(TABLE!WIN),(MATCH(E645,WINCOL,0)+1))),(VLOOKUP(OFFSET(H645,-12,0),(TABLE!LOSE),(MATCH(E645,LOSECOL,0)+1)))))))","v":""}]
[null,{"$f":"SCORECARD!C278","v":" Block 2 Player 12"},null,null,{"$f":"SCORECARD!F278","v":0},{"$f":"SCORECARD!G278","v":-1E-3},{"$f":"SCORECARD!H278","v":-1E-3},{"$f":"IF(NOT(OR(F646>0,G646>0)),\"\",IF(HandicapPlay=\"x\",IF(F646>G646,10,-10),(IF((F646-G646>0),(VLOOKUP(OFFSET(H646,-13,0),(TABLE!WIN),(MATCH(E646,WINCOL,0)+1))),(VLOOKUP(OFFSET(H646,-13,0),(TABLE!LOSE),(MATCH(E646,LOSECOL,0)+1)))))))","v":""}]
[]
[]
[]
[]
[]
[]
[null,null,null,null,null,null,"Handicap adjustment points total   ",{"$f":"SUM(H636:H646)","v":0}]
[]
[]
[]
[]
[]
[]
[]
[{"$f":"note1","v":"Time limit 2.5 hours, Turn After Bell (61.1.6). Quadway hoops (3 11/16\"), Dawson International balls"}]
[{"$f":"note2","v":"Games may start early. Please be at the venue at least 30 minutes earlier than the scheduled start time."}]
[{"$f":"note3","v":"Entry Fee $40 will be invoiced by email. Please pay by EFT using the invoice No. as reference."}]
[{"$f":"note4","v":"Players please assist with setting and clearing courts."}]
[null,null,null,null,{"$f":"BLOCK!F48","v":" Block 2 Player 2"}]
[null,null,null,null,{"$f":"BLOCK!L44","v":"Tournament"}]
[null,null,null,null,{"$f":"BLOCK!L46","v":"Group"}]
[null,null,null,null,{"$f":"BLOCK!B48","v":"BLOCK 2"}]
[]
[null,null,null,null,"BLOCK PLAY SCHEDULE"]
[null,"TIME","DAY","COURT",null,"OPPONENT",null,"Handicap","PS","OS"]
[null,{"$f":"GAMES!B73","v":"00:00:00"},{"$f":"GAMES!C73","v":"00:00:00"},{"$f":"GAMES!D73","v":0},null,{"$f":"GAMES!$G$73","v":" Block 2 Player 4"},null,{"$f":"$E$689","v":0},{"$f":"$F$689","v":-1E-3},{"$f":"$G$689","v":-1E-3}]
[null,{"$f":"GAMES!B80","v":"00:00:00"},{"$f":"GAMES!C80","v":"00:00:00"},{"$f":"GAMES!D80","v":0},null,{"$f":"GAMES!$G$80","v":" Block 2 Player 6"},null,{"$f":"$E$691","v":0},{"$f":"$F$691","v":-1E-3},{"$f":"$G$691","v":-1E-3}]
[null,{"$f":"GAMES!B87","v":"00:00:00"},{"$f":"GAMES!C87","v":"00:00:00"},{"$f":"GAMES!D87","v":0},null,{"$f":"GAMES!$G$87","v":" Block 2 Player 8"},null,{"$f":"$E$693","v":0},{"$f":"$F$693","v":-1E-3},{"$f":"$G$693","v":-1E-3}]
[null,{"$f":"GAMES!B94","v":"00:00:00"},{"$f":"GAMES!C94","v":"00:00:00"},{"$f":"GAMES!D94","v":0},null,{"$f":"GAMES!$G$94","v":" Block 2 Player 10"},null,{"$f":"$E$695","v":0},{"$f":"$F$695","v":-1E-3},{"$f":"$G$695","v":-1E-3}]
[null,{"$f":"GAMES!B101","v":"00:00:00"},{"$f":"GAMES!C101","v":"00:00:00"},{"$f":"GAMES!D101","v":0},null,{"$f":"GAMES!$G$101","v":" Block 2 Player 12"},null,{"$f":"$E$697","v":0},{"$f":"$F$697","v":-1E-3},{"$f":"$G$697","v":-1E-3}]
[null,{"$f":"GAMES!B107","v":"00:00:00"},{"$f":"GAMES!C107","v":"00:00:00"},{"$f":"GAMES!D107","v":0},null,{"$f":"GAMES!$E$107","v":" Block 2 Player 3"},null,{"$f":"$E$688","v":0},{"$f":"$F$688","v":-1E-3},{"$f":"$G$688","v":-1E-3}]
[null,{"$f":"GAMES!B112","v":"00:00:00"},{"$f":"GAMES!C112","v":"00:00:00"},{"$f":"GAMES!D112","v":0},null,{"$f":"GAMES!$E$112","v":" Block 2 Player 5"},null,{"$f":"$E$690","v":0},{"$f":"$F$690","v":-1E-3},{"$f":"$G$690","v":-1E-3}]
[null,{"$f":"GAMES!B117","v":"00:00:00"},{"$f":"GAMES!C117","v":"00:00:00"},{"$f":"GAMES!D117","v":0},null,{"$f":"GAMES!$E$117","v":" Block 2 Player 7"},null,{"$f":"$E$692","v":0},{"$f":"$F$692","v":-1E-3},{"$f":"$G$692","v":-1E-3}]
[null,{"$f":"GAMES!B122","v":"00:00:00"},{"$f":"GAMES!C122","v":"00:00:00"},{"$f":"GAMES!D122","v":0},null,{"$f":"GAMES!$G$122","v":" Block 2 Player 9"},null,{"$f":"$E$694","v":0},{"$f":"$F$694","v":-1E-3},{"$f":"$G$694","v":-1E-3}]
[null,{"$f":"GAMES!B127","v":"00:00:00"},{"$f":"GAMES!C127","v":"00:00:00"},{"$f":"GAMES!D127","v":0},null,{"$f":"GAMES!$E$127","v":" Block 2 Player 11"},null,{"$f":"$E$696","v":0},{"$f":"$F$696","v":-1E-3},{"$f":"$G$696","v":-1E-3}]
[null,{"$f":"GAMES!B132","v":"00:00:00"},{"$f":"GAMES!C132","v":"00:00:00"},{"$f":"GAMES!D132","v":0},null,{"$f":"GAMES!$E$132","v":" Block 2 Player 1"},null,{"$f":"$E$687","v":0},{"$f":"$F$687","v":-1E-3},{"$f":"$G$687","v":-1E-3}]
[]
[null,"PLAYER:",{"$f":"BLOCK!F48","v":" Block 2 Player 2"},null,null,null,"HANDICAP",{"$f":"BLOCK!B54","v":0}]
[null,null,null,null,"OPP","PLAYER","OPP","H/CAP"]
[null,null,"OPPONENT",null,"HCP","SCORE","SCORE","PTS"]
[null,{"$f":"SCORECARD!C288","v":" Block 2 Player 1"},null,null,{"$f":"SCORECARD!F288","v":0},{"$f":"SCORECARD!G288","v":-1E-3},{"$f":"SCORECARD!H288","v":-1E-3},{"$f":"IF(NOT(OR(F687>0,G687>0)),\"\",IF(HandicapPlay=\"x\",IF(F687>G687,10,-10),(IF((F687-G687>0),(VLOOKUP(OFFSET(H687,-3,0),(TABLE!WIN),(MATCH(E687,WINCOL,0)+1))),(VLOOKUP(OFFSET(H687,-3,0),(TABLE!LOSE),(MATCH(E687,LOSECOL,0)+1)))))))","v":""}]
[null,{"$f":"SCORECARD!C289","v":" Block 2 Player 3"},null,null,{"$f":"SCORECARD!F289","v":0},{"$f":"SCORECARD!G289","v":-1E-3},{"$f":"SCORECARD!H289","v":-1E-3},{"$f":"IF(NOT(OR(F688>0,G688>0)),\"\",IF(HandicapPlay=\"x\",IF(F688>G688,10,-10),(IF((F688-G688>0),(VLOOKUP(OFFSET(H688,-4,0),(TABLE!WIN),(MATCH(E688,WINCOL,0)+1))),(VLOOKUP(OFFSET(H688,-4,0),(TABLE!LOSE),(MATCH(E688,LOSECOL,0)+1)))))))","v":""}]
[null,{"$f":"SCORECARD!C290","v":" Block 2 Player 4"},null,null,{"$f":"SCORECARD!F290","v":0},{"$f":"SCORECARD!G290","v":-1E-3},{"$f":"SCORECARD!H290","v":-1E-3},{"$f":"IF(NOT(OR(F689>0,G689>0)),\"\",IF(HandicapPlay=\"x\",IF(F689>G689,10,-10),(IF((F689-G689>0),(VLOOKUP(OFFSET(H689,-5,0),(TABLE!WIN),(MATCH(E689,WINCOL,0)+1))),(VLOOKUP(OFFSET(H689,-5,0),(TABLE!LOSE),(MATCH(E689,LOSECOL,0)+1)))))))","v":""}]
[null,{"$f":"SCORECARD!C291","v":" Block 2 Player 5"},null,null,{"$f":"SCORECARD!F291","v":0},{"$f":"SCORECARD!G291","v":-1E-3},{"$f":"SCORECARD!H291","v":-1E-3},{"$f":"IF(NOT(OR(F690>0,G690>0)),\"\",IF(HandicapPlay=\"x\",IF(F690>G690,10,-10),(IF((F690-G690>0),(VLOOKUP(OFFSET(H690,-6,0),(TABLE!WIN),(MATCH(E690,WINCOL,0)+1))),(VLOOKUP(OFFSET(H690,-6,0),(TABLE!LOSE),(MATCH(E690,LOSECOL,0)+1)))))))","v":""}]
[null,{"$f":"SCORECARD!C292","v":" Block 2 Player 6"},null,null,{"$f":"SCORECARD!F292","v":0},{"$f":"SCORECARD!G292","v":-1E-3},{"$f":"SCORECARD!H292","v":-1E-3},{"$f":"IF(NOT(OR(F691>0,G691>0)),\"\",IF(HandicapPlay=\"x\",IF(F691>G691,10,-10),(IF((F691-G691>0),(VLOOKUP(OFFSET(H691,-7,0),(TABLE!WIN),(MATCH(E691,WINCOL,0)+1))),(VLOOKUP(OFFSET(H691,-7,0),(TABLE!LOSE),(MATCH(E691,LOSECOL,0)+1)))))))","v":""}]
[null,{"$f":"SCORECARD!C293","v":" Block 2 Player 7"},null,null,{"$f":"SCORECARD!F293","v":0},{"$f":"SCORECARD!G293","v":-1E-3},{"$f":"SCORECARD!H293","v":-1E-3},{"$f":"IF(NOT(OR(F692>0,G692>0)),\"\",IF(HandicapPlay=\"x\",IF(F692>G692,10,-10),(IF((F692-G692>0),(VLOOKUP(OFFSET(H692,-8,0),(TABLE!WIN),(MATCH(E692,WINCOL,0)+1))),(VLOOKUP(OFFSET(H692,-8,0),(TABLE!LOSE),(MATCH(E692,LOSECOL,0)+1)))))))","v":""}]
[null,{"$f":"SCORECARD!C294","v":" Block 2 Player 8"},null,null,{"$f":"SCORECARD!F294","v":0},{"$f":"SCORECARD!G294","v":-1E-3},{"$f":"SCORECARD!H294","v":-1E-3},{"$f":"IF(NOT(OR(F693>0,G693>0)),\"\",IF(HandicapPlay=\"x\",IF(F693>G693,10,-10),(IF((F693-G693>0),(VLOOKUP(OFFSET(H693,-9,0),(TABLE!WIN),(MATCH(E693,WINCOL,0)+1))),(VLOOKUP(OFFSET(H693,-9,0),(TABLE!LOSE),(MATCH(E693,LOSECOL,0)+1)))))))","v":""}]
[null,{"$f":"SCORECARD!C295","v":" Block 2 Player 9"},null,null,{"$f":"SCORECARD!F295","v":0},{"$f":"SCORECARD!G295","v":-1E-3},{"$f":"SCORECARD!H295","v":-1E-3},{"$f":"IF(NOT(OR(F694>0,G694>0)),\"\",IF(HandicapPlay=\"x\",IF(F694>G694,10,-10),(IF((F694-G694>0),(VLOOKUP(OFFSET(H694,-10,0),(TABLE!WIN),(MATCH(E694,WINCOL,0)+1))),(VLOOKUP(OFFSET(H694,-10,0),(TABLE!LOSE),(MATCH(E694,LOSECOL,0)+1)))))))","v":""}]
[null,{"$f":"SCORECARD!C296","v":" Block 2 Player 10"},null,null,{"$f":"SCORECARD!F296","v":0},{"$f":"SCORECARD!G296","v":-1E-3},{"$f":"SCORECARD!H296","v":-1E-3},{"$f":"IF(NOT(OR(F695>0,G695>0)),\"\",IF(HandicapPlay=\"x\",IF(F695>G695,10,-10),(IF((F695-G695>0),(VLOOKUP(OFFSET(H695,-11,0),(TABLE!WIN),(MATCH(E695,WINCOL,0)+1))),(VLOOKUP(OFFSET(H695,-11,0),(TABLE!LOSE),(MATCH(E695,LOSECOL,0)+1)))))))","v":""}]
[null,{"$f":"SCORECARD!C297","v":" Block 2 Player 11"},null,null,{"$f":"SCORECARD!F297","v":0},{"$f":"SCORECARD!G297","v":-1E-3},{"$f":"SCORECARD!H297","v":-1E-3},{"$f":"IF(NOT(OR(F696>0,G696>0)),\"\",IF(HandicapPlay=\"x\",IF(F696>G696,10,-10),(IF((F696-G696>0),(VLOOKUP(OFFSET(H696,-12,0),(TABLE!WIN),(MATCH(E696,WINCOL,0)+1))),(VLOOKUP(OFFSET(H696,-12,0),(TABLE!LOSE),(MATCH(E696,LOSECOL,0)+1)))))))","v":""}]
[null,{"$f":"SCORECARD!C298","v":" Block 2 Player 12"},null,null,{"$f":"SCORECARD!F298","v":0},{"$f":"SCORECARD!G298","v":-1E-3},{"$f":"SCORECARD!H298","v":-1E-3},{"$f":"IF(NOT(OR(F697>0,G697>0)),\"\",IF(HandicapPlay=\"x\",IF(F697>G697,10,-10),(IF((F697-G697>0),(VLOOKUP(OFFSET(H697,-13,0),(TABLE!WIN),(MATCH(E697,WINCOL,0)+1))),(VLOOKUP(OFFSET(H697,-13,0),(TABLE!LOSE),(MATCH(E697,LOSECOL,0)+1)))))))","v":""}]
[]
[]
[]
[]
[]
[]
[null,null,null,null,null,null,"Handicap adjustment points total   ",{"$f":"SUM(H687:H697)","v":0}]
[]
[]
[]
[]
[]
[]
[]
[{"$f":"note1","v":"Time limit 2.5 hours, Turn After Bell (61.1.6). Quadway hoops (3 11/16\"), Dawson International balls"}]
[{"$f":"note2","v":"Games may start early. Please be at the venue at least 30 minutes earlier than the scheduled start time."}]
[{"$f":"note3","v":"Entry Fee $40 will be invoiced by email. Please pay by EFT using the invoice No. as reference."}]
[{"$f":"note4","v":"Players please assist with setting and clearing courts."}]
[null,null,null,null,{"$f":"BLOCK!I48","v":" Block 2 Player 3"}]
[null,null,null,null,{"$f":"BLOCK!L44","v":"Tournament"}]
[null,null,null,null,{"$f":"BLOCK!L46","v":"Group"}]
[null,null,null,null,{"$f":"BLOCK!B48","v":"BLOCK 2"}]
[]
[null,null,null,null,"BLOCK PLAY SCHEDULE"]
[null,"TIME","DAY","COURT",null,"OPPONENT",null,"Handicap","PS","OS"]
[null,{"$f":"GAMES!B72","v":"00:00:00"},{"$f":"GAMES!C72","v":"00:00:00"},{"$f":"GAMES!D72","v":0},null,{"$f":"GAMES!$E$72","v":" Block 2 Player 1"},null,{"$f":"$E$738","v":0},{"$f":"$F$738","v":-1E-3},{"$f":"$G$738","v":-1E-3}]
[null,{"$f":"GAMES!B79","v":"00:00:00"},{"$f":"GAMES!C79","v":"00:00:00"},{"$f":"GAMES!D79","v":0},null,{"$f":"GAMES!$E$79","v":" Block 2 Player 5"},null,{"$f":"$E$741","v":0},{"$f":"$F$741","v":-1E-3},{"$f":"$G$741","v":-1E-3}]
[null,{"$f":"GAMES!B86","v":"00:00:00"},{"$f":"GAMES!C86","v":"00:00:00"},{"$f":"GAMES!D86","v":0},null,{"$f":"GAMES!$G$86","v":" Block 2 Player 7"},null,{"$f":"$E$743","v":0},{"$f":"$F$743","v":-1E-3},{"$f":"$G$743","v":-1E-3}]
[null,{"$f":"GAMES!B93","v":"00:00:00"},{"$f":"GAMES!C93","v":"00:00:00"},{"$f":"GAMES!D93","v":0},null,{"$f":"GAMES!$G$93","v":" Block 2 Player 9"},null,{"$f":"$E$745","v":0},{"$f":"$F$745","v":-1E-3},{"$f":"$G$745","v":-1E-3}]
[null,{"$f":"GAMES!B100","v":"00:00:00"},{"$f":"GAMES!C100","v":"00:00:00"},{"$f":"GAMES!D100","v":0},null,{"$f":"GAMES!$G$100","v":" Block 2 Player 11"},null,{"$f":"$E$747","v":0},{"$f":"$F$747","v":-1E-3},{"$f":"$G$747","v":-1E-3}]
[null,{"$f":"GAMES!B107","v":"00:00:00"},{"$f":"GAMES!C107","v":"00:00:00"},{"$f":"GAMES!D107","v":0},null,{"$f":"GAMES!$G$107","v":" Block 2 Player 2"},null,{"$f":"$E$739","v":0},{"$f":"$F$739","v":-1E-3},{"$f":"$G$739","v":-1E-3}]
[null,{"$f":"GAMES!B113","v":"00:00:00"},{"$f":"GAMES!C113","v":"00:00:00"},{"$f":"GAMES!D113","v":0},null,{"$f":"GAMES!$E$113","v":" Block 2 Player 4"},null,{"$f":"$E$740","v":0},{"$f":"$F$740","v":-1E-3},{"$f":"$G$740","v":-1E-3}]
[null,{"$f":"GAMES!B118","v":"00:00:00"},{"$f":"GAMES!C118","v":"00:00:00"},{"$f":"GAMES!D118","v":0},null,{"$f":"GAMES!$E$118","v":" Block 2 Player 6"},null,{"$f":"$E$742","v":0},{"$f":"$F$742","v":-1E-3},{"$f":"$G$742","v":-1E-3}]
[null,{"$f":"GAMES!B123","v":"00:00:00"},{"$f":"GAMES!C123","v":"00:00:00"},{"$f":"GAMES!D123","v":0},null,{"$f":"GAMES!$G$123","v":" Block 2 Player 8"},null,{"$f":"$E$744","v":0},{"$f":"$F$744","v":-1E-3},{"$f":"$G$744","v":-1E-3}]
[null,{"$f":"GAMES!B128","v":"00:00:00"},{"$f":"GAMES!C128","v":"00:00:00"},{"$f":"GAMES!D128","v":0},null,{"$f":"GAMES!$E$128","v":" Block 2 Player 10"},null,{"$f":"$E$746","v":0},{"$f":"$F$746","v":-1E-3},{"$f":"$G$746","v":-1E-3}]
[null,{"$f":"GAMES!B133","v":"00:00:00"},{"$f":"GAMES!C133","v":"00:00:00"},{"$f":"GAMES!D133","v":0},null,{"$f":"GAMES!$E$133","v":" Block 2 Player 12"},null,{"$f":"$E$748","v":0},{"$f":"$F$748","v":-1E-3},{"$f":"$G$748","v":-1E-3}]
[]
[null,"PLAYER:",{"$f":"BLOCK!I48","v":" Block 2 Player 3"},null,null,null,"HANDICAP",{"$f":"BLOCK!B57","v":0}]
[null,null,null,null,"OPP","PLAYER","OPP","H/CAP"]
[null,null,"OPPONENT",null,"HCP","SCORE","SCORE","PTS"]
[null,{"$f":"SCORECARD!C311","v":" Block 2 Player 1"},null,null,{"$f":"SCORECARD!F311","v":0},{"$f":"SCORECARD!G311","v":-1E-3},{"$f":"SCORECARD!H311","v":-1E-3},{"$f":"IF(NOT(OR(F738>0,G738>0)),\"\",IF(HandicapPlay=\"x\",IF(F738>G738,10,-10),(IF((F738-G738>0),(VLOOKUP(OFFSET(H738,-3,0),(TABLE!WIN),(MATCH(E738,WINCOL,0)+1))),(VLOOKUP(OFFSET(H738,-3,0),(TABLE!LOSE),(MATCH(E738,LOSECOL,0)+1)))))))","v":""}]
[null,{"$f":"SCORECARD!C312","v":" Block 2 Player 2"},null,null,{"$f":"SCORECARD!F312","v":0},{"$f":"SCORECARD!G312","v":-1E-3},{"$f":"SCORECARD!H312","v":-1E-3},{"$f":"IF(NOT(OR(F739>0,G739>0)),\"\",IF(HandicapPlay=\"x\",IF(F739>G739,10,-10),(IF((F739-G739>0),(VLOOKUP(OFFSET(H739,-4,0),(TABLE!WIN),(MATCH(E739,WINCOL,0)+1))),(VLOOKUP(OFFSET(H739,-4,0),(TABLE!LOSE),(MATCH(E739,LOSECOL,0)+1)))))))","v":""}]
[null,{"$f":"SCORECARD!C313","v":" Block 2 Player 4"},null,null,{"$f":"SCORECARD!F313","v":0},{"$f":"SCORECARD!G313","v":-1E-3},{"$f":"SCORECARD!H313","v":-1E-3},{"$f":"IF(NOT(OR(F740>0,G740>0)),\"\",IF(HandicapPlay=\"x\",IF(F740>G740,10,-10),(IF((F740-G740>0),(VLOOKUP(OFFSET(H740,-5,0),(TABLE!WIN),(MATCH(E740,WINCOL,0)+1))),(VLOOKUP(OFFSET(H740,-5,0),(TABLE!LOSE),(MATCH(E740,LOSECOL,0)+1)))))))","v":""}]
[null,{"$f":"SCORECARD!C314","v":" Block 2 Player 5"},null,null,{"$f":"SCORECARD!F314","v":0},{"$f":"SCORECARD!G314","v":-1E-3},{"$f":"SCORECARD!H314","v":-1E-3},{"$f":"IF(NOT(OR(F741>0,G741>0)),\"\",IF(HandicapPlay=\"x\",IF(F741>G741,10,-10),(IF((F741-G741>0),(VLOOKUP(OFFSET(H741,-6,0),(TABLE!WIN),(MATCH(E741,WINCOL,0)+1))),(VLOOKUP(OFFSET(H741,-6,0),(TABLE!LOSE),(MATCH(E741,LOSECOL,0)+1)))))))","v":""}]
[null,{"$f":"SCORECARD!C315","v":" Block 2 Player 6"},null,null,{"$f":"SCORECARD!F315","v":0},{"$f":"SCORECARD!G315","v":-1E-3},{"$f":"SCORECARD!H315","v":-1E-3},{"$f":"IF(NOT(OR(F742>0,G742>0)),\"\",IF(HandicapPlay=\"x\",IF(F742>G742,10,-10),(IF((F742-G742>0),(VLOOKUP(OFFSET(H742,-7,0),(TABLE!WIN),(MATCH(E742,WINCOL,0)+1))),(VLOOKUP(OFFSET(H742,-7,0),(TABLE!LOSE),(MATCH(E742,LOSECOL,0)+1)))))))","v":""}]
[null,{"$f":"SCORECARD!C316","v":" Block 2 Player 7"},null,null,{"$f":"SCORECARD!F316","v":0},{"$f":"SCORECARD!G316","v":-1E-3},{"$f":"SCORECARD!H316","v":-1E-3},{"$f":"IF(NOT(OR(F743>0,G743>0)),\"\",IF(HandicapPlay=\"x\",IF(F743>G743,10,-10),(IF((F743-G743>0),(VLOOKUP(OFFSET(H743,-8,0),(TABLE!WIN),(MATCH(E743,WINCOL,0)+1))),(VLOOKUP(OFFSET(H743,-8,0),(TABLE!LOSE),(MATCH(E743,LOSECOL,0)+1)))))))","v":""}]
[null,{"$f":"SCORECARD!C317","v":" Block 2 Player 8"},null,null,{"$f":"SCORECARD!F317","v":0},{"$f":"SCORECARD!G317","v":-1E-3},{"$f":"SCORECARD!H317","v":-1E-3},{"$f":"IF(NOT(OR(F744>0,G744>0)),\"\",IF(HandicapPlay=\"x\",IF(F744>G744,10,-10),(IF((F744-G744>0),(VLOOKUP(OFFSET(H744,-9,0),(TABLE!WIN),(MATCH(E744,WINCOL,0)+1))),(VLOOKUP(OFFSET(H744,-9,0),(TABLE!LOSE),(MATCH(E744,LOSECOL,0)+1)))))))","v":""}]
[null,{"$f":"SCORECARD!C318","v":" Block 2 Player 9"},null,null,{"$f":"SCORECARD!F318","v":0},{"$f":"SCORECARD!G318","v":-1E-3},{"$f":"SCORECARD!H318","v":-1E-3},{"$f":"IF(NOT(OR(F745>0,G745>0)),\"\",IF(HandicapPlay=\"x\",IF(F745>G745,10,-10),(IF((F745-G745>0),(VLOOKUP(OFFSET(H745,-10,0),(TABLE!WIN),(MATCH(E745,WINCOL,0)+1))),(VLOOKUP(OFFSET(H745,-10,0),(TABLE!LOSE),(MATCH(E745,LOSECOL,0)+1)))))))","v":""}]
[null,{"$f":"SCORECARD!C319","v":" Block 2 Player 10"},null,null,{"$f":"SCORECARD!F319","v":0},{"$f":"SCORECARD!G319","v":-1E-3},{"$f":"SCORECARD!H319","v":-1E-3},{"$f":"IF(NOT(OR(F746>0,G746>0)),\"\",IF(HandicapPlay=\"x\",IF(F746>G746,10,-10),(IF((F746-G746>0),(VLOOKUP(OFFSET(H746,-11,0),(TABLE!WIN),(MATCH(E746,WINCOL,0)+1))),(VLOOKUP(OFFSET(H746,-11,0),(TABLE!LOSE),(MATCH(E746,LOSECOL,0)+1)))))))","v":""}]
[null,{"$f":"SCORECARD!C320","v":" Block 2 Player 11"},null,null,{"$f":"SCORECARD!F320","v":0},{"$f":"SCORECARD!G320","v":-1E-3},{"$f":"SCORECARD!H320","v":-1E-3},{"$f":"IF(NOT(OR(F747>0,G747>0)),\"\",IF(HandicapPlay=\"x\",IF(F747>G747,10,-10),(IF((F747-G747>0),(VLOOKUP(OFFSET(H747,-12,0),(TABLE!WIN),(MATCH(E747,WINCOL,0)+1))),(VLOOKUP(OFFSET(H747,-12,0),(TABLE!LOSE),(MATCH(E747,LOSECOL,0)+1)))))))","v":""}]
[null,{"$f":"SCORECARD!C321","v":" Block 2 Player 12"},null,null,{"$f":"SCORECARD!F321","v":0},{"$f":"SCORECARD!G321","v":-1E-3},{"$f":"SCORECARD!H321","v":-1E-3},{"$f":"IF(NOT(OR(F748>0,G748>0)),\"\",IF(HandicapPlay=\"x\",IF(F748>G748,10,-10),(IF((F748-G748>0),(VLOOKUP(OFFSET(H748,-13,0),(TABLE!WIN),(MATCH(E748,WINCOL,0)+1))),(VLOOKUP(OFFSET(H748,-13,0),(TABLE!LOSE),(MATCH(E748,LOSECOL,0)+1)))))))","v":""}]
[]
[]
[]
[]
[]
[]
[null,null,null,null,null,null,"Handicap adjustment points total   ",{"$f":"SUM(H738:H748)","v":0}]
[]
[]
[]
[]
[]
[]
[]
[{"$f":"note1","v":"Time limit 2.5 hours, Turn After Bell (61.1.6). Quadway hoops (3 11/16\"), Dawson International balls"}]
[{"$f":"note2","v":"Games may start early. Please be at the venue at least 30 minutes earlier than the scheduled start time."}]
[{"$f":"note3","v":"Entry Fee $40 will be invoiced by email. Please pay by EFT using the invoice No. as reference."}]
[{"$f":"note4","v":"Players please assist with setting and clearing courts."}]
[null,null,null,null,{"$f":"BLOCK!L48","v":" Block 2 Player 4"}]
[null,null,null,null,{"$f":"BLOCK!L44","v":"Tournament"}]
[null,null,null,null,{"$f":"BLOCK!L46","v":"Group"}]
[null,null,null,null,{"$f":"BLOCK!B48","v":"BLOCK 2"}]
[]
[null,null,null,null,"BLOCK PLAY SCHEDULE"]
[null,"TIME","DAY","COURT",null,"OPPONENT",null,"Handicap","PS","OS"]
[null,{"$f":"GAMES!B73","v":"00:00:00"},{"$f":"GAMES!C73","v":"00:00:00"},{"$f":"GAMES!D73","v":0},null,{"$f":"GAMES!$E$73","v":" Block 2 Player 2"},null,{"$f":"$E$790","v":0},{"$f":"$F$790","v":-1E-3},{"$f":"$G$790","v":-1E-3}]
[null,{"$f":"GAMES!B78","v":"00:00:00"},{"$f":"GAMES!C78","v":"00:00:00"},{"$f":"GAMES!D78","v":0},null,{"$f":"GAMES!$E$78","v":" Block 2 Player 1"},null,{"$f":"$E$789","v":0},{"$f":"$F$789","v":-1E-3},{"$f":"$G$789","v":-1E-3}]
[null,{"$f":"GAMES!B85","v":"00:00:00"},{"$f":"GAMES!C85","v":"00:00:00"},{"$f":"GAMES!D85","v":0},null,{"$f":"GAMES!$G$85","v":" Block 2 Player 6"},null,{"$f":"$E$793","v":0},{"$f":"$F$793","v":-1E-3},{"$f":"$G$793","v":-1E-3}]
[null,{"$f":"GAMES!B92","v":"00:00:00"},{"$f":"GAMES!C92","v":"00:00:00"},{"$f":"GAMES!D92","v":0},null,{"$f":"GAMES!$G$92","v":" Block 2 Player 8"},null,{"$f":"$E$795","v":0},{"$f":"$F$795","v":-1E-3},{"$f":"$G$795","v":-1E-3}]
[null,{"$f":"GAMES!B99","v":"00:00:00"},{"$f":"GAMES!C99","v":"00:00:00"},{"$f":"GAMES!D99","v":0},null,{"$f":"GAMES!$G$99","v":" Block 2 Player 10"},null,{"$f":"$E$797","v":0},{"$f":"$F$797","v":-1E-3},{"$f":"$G$797","v":-1E-3}]
[null,{"$f":"GAMES!B106","v":"00:00:00"},{"$f":"GAMES!C106","v":"00:00:00"},{"$f":"GAMES!D106","v":0},null,{"$f":"GAMES!$G$106","v":" Block 2 Player 12"},null,{"$f":"$E$799","v":0},{"$f":"$F$799","v":-1E-3},{"$f":"$G$799","v":-1E-3}]
[null,{"$f":"GAMES!B113","v":"00:00:00"},{"$f":"GAMES!C113","v":"00:00:00"},{"$f":"GAMES!D113","v":0},null,{"$f":"GAMES!$G$113","v":" Block 2 Player 3"},null,{"$f":"$E$791","v":0},{"$f":"$F$791","v":-1E-3},{"$f":"$G$791","v":-1E-3}]
[null,{"$f":"GAMES!B119","v":"00:00:00"},{"$f":"GAMES!C119","v":"00:00:00"},{"$f":"GAMES!D119","v":0},null,{"$f":"GAMES!$E$119","v":" Block 2 Player 5"},null,{"$f":"$E$792","v":0},{"$f":"$F$792","v":-1E-3},{"$f":"$G$792","v":-1E-3}]
[null,{"$f":"GAMES!B124","v":"00:00:00"},{"$f":"GAMES!C124","v":"00:00:00"},{"$f":"GAMES!D124","v":0},null,{"$f":"GAMES!$G$124","v":" Block 2 Player 7"},null,{"$f":"$E$794","v":0},{"$f":"$F$794","v":-1E-3},{"$f":"$G$794","v":-1E-3}]
[null,{"$f":"GAMES!B129","v":"00:00:00"},{"$f":"GAMES!C129","v":"00:00:00"},{"$f":"GAMES!D129","v":0},null,{"$f":"GAMES!$E$129","v":" Block 2 Player 9"},null,{"$f":"$E$796","v":0},{"$f":"$F$796","v":-1E-3},{"$f":"$G$796","v":-1E-3}]
[null,{"$f":"GAMES!B134","v":"00:00:00"},{"$f":"GAMES!C134","v":"00:00:00"},{"$f":"GAMES!D134","v":0},null,{"$f":"GAMES!$E$134","v":" Block 2 Player 11"},null,{"$f":"$E$798","v":0},{"$f":"$F$798","v":-1E-3},{"$f":"$G$798","v":-1E-3}]
[]
[null,"PLAYER:",{"$f":"BLOCK!L48","v":" Block 2 Player 4"},null,null,null,"HANDICAP",{"$f":"BLOCK!B60","v":0}]
[null,null,null,null,"OPP","PLAYER","OPP","H/CAP"]
[null,null,"OPPONENT",null,"HCP","SCORE","SCORE","PTS"]
[null,{"$f":"SCORECARD!C331","v":" Block 2 Player 1"},null,null,{"$f":"SCORECARD!F331","v":0},{"$f":"SCORECARD!G331","v":-1E-3},{"$f":"SCORECARD!H331","v":-1E-3},{"$f":"IF(NOT(OR(F789>0,G789>0)),\"\",IF(HandicapPlay=\"x\",IF(F789>G789,10,-10),(IF((F789-G789>0),(VLOOKUP(OFFSET(H789,-3,0),(TABLE!WIN),(MATCH(E789,WINCOL,0)+1))),(VLOOKUP(OFFSET(H789,-3,0),(TABLE!LOSE),(MATCH(E789,LOSECOL,0)+1)))))))","v":""}]
[null,{"$f":"SCORECARD!C332","v":" Block 2 Player 2"},null,null,{"$f":"SCORECARD!F332","v":0},{"$f":"SCORECARD!G332","v":-1E-3},{"$f":"SCORECARD!H332","v":-1E-3},{"$f":"IF(NOT(OR(F790>0,G790>0)),\"\",IF(HandicapPlay=\"x\",IF(F790>G790,10,-10),(IF((F790-G790>0),(VLOOKUP(OFFSET(H790,-4,0),(TABLE!WIN),(MATCH(E790,WINCOL,0)+1))),(VLOOKUP(OFFSET(H790,-4,0),(TABLE!LOSE),(MATCH(E790,LOSECOL,0)+1)))))))","v":""}]
[null,{"$f":"SCORECARD!C333","v":" Block 2 Player 3"},null,null,{"$f":"SCORECARD!F333","v":0},{"$f":"SCORECARD!G333","v":-1E-3},{"$f":"SCORECARD!H333","v":-1E-3},{"$f":"IF(NOT(OR(F791>0,G791>0)),\"\",IF(HandicapPlay=\"x\",IF(F791>G791,10,-10),(IF((F791-G791>0),(VLOOKUP(OFFSET(H791,-5,0),(TABLE!WIN),(MATCH(E791,WINCOL,0)+1))),(VLOOKUP(OFFSET(H791,-5,0),(TABLE!LOSE),(MATCH(E791,LOSECOL,0)+1)))))))","v":""}]
[null,{"$f":"SCORECARD!C334","v":" Block 2 Player 5"},null,null,{"$f":"SCORECARD!F334","v":0},{"$f":"SCORECARD!G334","v":-1E-3},{"$f":"SCORECARD!H334","v":-1E-3},{"$f":"IF(NOT(OR(F792>0,G792>0)),\"\",IF(HandicapPlay=\"x\",IF(F792>G792,10,-10),(IF((F792-G792>0),(VLOOKUP(OFFSET(H792,-6,0),(TABLE!WIN),(MATCH(E792,WINCOL,0)+1))),(VLOOKUP(OFFSET(H792,-6,0),(TABLE!LOSE),(MATCH(E792,LOSECOL,0)+1)))))))","v":""}]
[null,{"$f":"SCORECARD!C335","v":" Block 2 Player 6"},null,null,{"$f":"SCORECARD!F335","v":0},{"$f":"SCORECARD!G335","v":-1E-3},{"$f":"SCORECARD!H335","v":-1E-3},{"$f":"IF(NOT(OR(F793>0,G793>0)),\"\",IF(HandicapPlay=\"x\",IF(F793>G793,10,-10),(IF((F793-G793>0),(VLOOKUP(OFFSET(H793,-7,0),(TABLE!WIN),(MATCH(E793,WINCOL,0)+1))),(VLOOKUP(OFFSET(H793,-7,0),(TABLE!LOSE),(MATCH(E793,LOSECOL,0)+1)))))))","v":""}]
[null,{"$f":"SCORECARD!C336","v":" Block 2 Player 7"},null,null,{"$f":"SCORECARD!F336","v":0},{"$f":"SCORECARD!G336","v":-1E-3},{"$f":"SCORECARD!H336","v":-1E-3},{"$f":"IF(NOT(OR(F794>0,G794>0)),\"\",IF(HandicapPlay=\"x\",IF(F794>G794,10,-10),(IF((F794-G794>0),(VLOOKUP(OFFSET(H794,-8,0),(TABLE!WIN),(MATCH(E794,WINCOL,0)+1))),(VLOOKUP(OFFSET(H794,-8,0),(TABLE!LOSE),(MATCH(E794,LOSECOL,0)+1)))))))","v":""}]
[null,{"$f":"SCORECARD!C337","v":" Block 2 Player 8"},null,null,{"$f":"SCORECARD!F337","v":0},{"$f":"SCORECARD!G337","v":-1E-3},{"$f":"SCORECARD!H337","v":-1E-3},{"$f":"IF(NOT(OR(F795>0,G795>0)),\"\",IF(HandicapPlay=\"x\",IF(F795>G795,10,-10),(IF((F795-G795>0),(VLOOKUP(OFFSET(H795,-9,0),(TABLE!WIN),(MATCH(E795,WINCOL,0)+1))),(VLOOKUP(OFFSET(H795,-9,0),(TABLE!LOSE),(MATCH(E795,LOSECOL,0)+1)))))))","v":""}]
[null,{"$f":"SCORECARD!C338","v":" Block 2 Player 9"},null,null,{"$f":"SCORECARD!F338","v":0},{"$f":"SCORECARD!G338","v":-1E-3},{"$f":"SCORECARD!H338","v":-1E-3},{"$f":"IF(NOT(OR(F796>0,G796>0)),\"\",IF(HandicapPlay=\"x\",IF(F796>G796,10,-10),(IF((F796-G796>0),(VLOOKUP(OFFSET(H796,-10,0),(TABLE!WIN),(MATCH(E796,WINCOL,0)+1))),(VLOOKUP(OFFSET(H796,-10,0),(TABLE!LOSE),(MATCH(E796,LOSECOL,0)+1)))))))","v":""}]
[null,{"$f":"SCORECARD!C339","v":" Block 2 Player 10"},null,null,{"$f":"SCORECARD!F339","v":0},{"$f":"SCORECARD!G339","v":-1E-3},{"$f":"SCORECARD!H339","v":-1E-3},{"$f":"IF(NOT(OR(F797>0,G797>0)),\"\",IF(HandicapPlay=\"x\",IF(F797>G797,10,-10),(IF((F797-G797>0),(VLOOKUP(OFFSET(H797,-11,0),(TABLE!WIN),(MATCH(E797,WINCOL,0)+1))),(VLOOKUP(OFFSET(H797,-11,0),(TABLE!LOSE),(MATCH(E797,LOSECOL,0)+1)))))))","v":""}]
[null,{"$f":"SCORECARD!C340","v":" Block 2 Player 11"},null,null,{"$f":"SCORECARD!F340","v":0},{"$f":"SCORECARD!G340","v":-1E-3},{"$f":"SCORECARD!H340","v":-1E-3},{"$f":"IF(NOT(OR(F798>0,G798>0)),\"\",IF(HandicapPlay=\"x\",IF(F798>G798,10,-10),(IF((F798-G798>0),(VLOOKUP(OFFSET(H798,-12,0),(TABLE!WIN),(MATCH(E798,WINCOL,0)+1))),(VLOOKUP(OFFSET(H798,-12,0),(TABLE!LOSE),(MATCH(E798,LOSECOL,0)+1)))))))","v":""}]
[null,{"$f":"SCORECARD!C341","v":" Block 2 Player 12"},null,null,{"$f":"SCORECARD!F341","v":0},{"$f":"SCORECARD!G341","v":-1E-3},{"$f":"SCORECARD!H341","v":-1E-3},{"$f":"IF(NOT(OR(F799>0,G799>0)),\"\",IF(HandicapPlay=\"x\",IF(F799>G799,10,-10),(IF((F799-G799>0),(VLOOKUP(OFFSET(H799,-13,0),(TABLE!WIN),(MATCH(E799,WINCOL,0)+1))),(VLOOKUP(OFFSET(H799,-13,0),(TABLE!LOSE),(MATCH(E799,LOSECOL,0)+1)))))))","v":""}]
[]
[]
[]
[]
[]
[]
[null,null,null,null,null,null,"Handicap adjustment points total   ",{"$f":"SUM(H789:H799)","v":0}]
[]
[]
[]
[]
[]
[]
[]
[{"$f":"note1","v":"Time limit 2.5 hours, Turn After Bell (61.1.6). Quadway hoops (3 11/16\"), Dawson International balls"}]
[{"$f":"note2","v":"Games may start early. Please be at the venue at least 30 minutes earlier than the scheduled start time."}]
[{"$f":"note3","v":"Entry Fee $40 will be invoiced by email. Please pay by EFT using the invoice No. as reference."}]
[{"$f":"note4","v":"Players please assist with setting and clearing courts."}]
[null,null,null,null,{"$f":"BLOCK!O48","v":" Block 2 Player 5"}]
[null,null,null,null,{"$f":"BLOCK!L44","v":"Tournament"}]
[null,null,null,null,{"$f":"BLOCK!L46","v":"Group"}]
[null,null,null,null,{"$f":"BLOCK!B48","v":"BLOCK 2"}]
[]
[null,null,null,null,"BLOCK PLAY SCHEDULE"]
[null,"TIME","DAY","COURT",null,"OPPONENT",null,"Handicap","PS","OS"]
[null,{"$f":"GAMES!B74","v":"00:00:00"},{"$f":"GAMES!C74","v":"00:00:00"},{"$f":"GAMES!D74","v":0},null,{"$f":"GAMES!$E$74","v":" Block 2 Player 12"},null,{"$f":"$E$850","v":0},{"$f":"$F$850","v":-1E-3},{"$f":"$G$850","v":-1E-3}]
[null,{"$f":"GAMES!B79","v":"00:00:00"},{"$f":"GAMES!C79","v":"00:00:00"},{"$f":"GAMES!D79","v":0},null,{"$f":"GAMES!$G$79","v":" Block 2 Player 3"},null,{"$f":"$E$842","v":0},{"$f":"$F$842","v":-1E-3},{"$f":"$G$842","v":-1E-3}]
[null,{"$f":"GAMES!B84","v":"00:00:00"},{"$f":"GAMES!C84","v":"00:00:00"},{"$f":"GAMES!D84","v":0},null,{"$f":"GAMES!$E$84","v":" Block 2 Player 1"},null,{"$f":"$E$840","v":0},{"$f":"$F$840","v":-1E-3},{"$f":"$G$840","v":-1E-3}]
[null,{"$f":"GAMES!B91","v":"00:00:00"},{"$f":"GAMES!C91","v":"00:00:00"},{"$f":"GAMES!D91","v":0},null,{"$f":"GAMES!$G$91","v":" Block 2 Player 7"},null,{"$f":"$E$845","v":0},{"$f":"$F$845","v":-1E-3},{"$f":"$G$845","v":-1E-3}]
[null,{"$f":"GAMES!B98","v":"00:00:00"},{"$f":"GAMES!C98","v":"00:00:00"},{"$f":"GAMES!D98","v":0},null,{"$f":"GAMES!$G$98","v":" Block 2 Player 9"},null,{"$f":"$E$847","v":0},{"$f":"$F$847","v":-1E-3},{"$f":"$G$847","v":-1E-3}]
[null,{"$f":"GAMES!B105","v":"00:00:00"},{"$f":"GAMES!C105","v":"00:00:00"},{"$f":"GAMES!D105","v":0},null,{"$f":"GAMES!$G$105","v":" Block 2 Player 11"},null,{"$f":"$E$849","v":0},{"$f":"$F$849","v":-1E-3},{"$f":"$G$849","v":-1E-3}]
[null,{"$f":"GAMES!B112","v":"00:00:00"},{"$f":"GAMES!C112","v":"00:00:00"},{"$f":"GAMES!D112","v":0},null,{"$f":"GAMES!$G$112","v":" Block 2 Player 2"},null,{"$f":"$E$841","v":0},{"$f":"$F$841","v":-1E-3},{"$f":"$G$841","v":-1E-3}]
[null,{"$f":"GAMES!B119","v":"00:00:00"},{"$f":"GAMES!C119","v":"00:00:00"},{"$f":"GAMES!D119","v":0},null,{"$f":"GAMES!$G$119","v":" Block 2 Player 4"},null,{"$f":"$E$843","v":0},{"$f":"$F$843","v":-1E-3},{"$f":"$G$843","v":-1E-3}]
[null,{"$f":"GAMES!B125","v":"00:00:00"},{"$f":"GAMES!C125","v":"00:00:00"},{"$f":"GAMES!D125","v":0},null,{"$f":"GAMES!$G$125","v":" Block 2 Player 6"},null,{"$f":"$E$844","v":0},{"$f":"$F$844","v":-1E-3},{"$f":"$G$844","v":-1E-3}]
[null,{"$f":"GAMES!B130","v":"00:00:00"},{"$f":"GAMES!C130","v":"00:00:00"},{"$f":"GAMES!D130","v":0},null,{"$f":"GAMES!$E$130","v":" Block 2 Player 8"},null,{"$f":"$E$846","v":0},{"$f":"$F$846","v":-1E-3},{"$f":"$G$846","v":-1E-3}]
[null,{"$f":"GAMES!B135","v":"00:00:00"},{"$f":"GAMES!C135","v":"00:00:00"},{"$f":"GAMES!D135","v":0},null,{"$f":"GAMES!$E$135","v":" Block 2 Player 10"},null,{"$f":"$E$848","v":0},{"$f":"$F$848","v":-1E-3},{"$f":"$G$848","v":-1E-3}]
[]
[null,"PLAYER:",{"$f":"BLOCK!O48","v":" Block 2 Player 5"},null,null,null,"HANDICAP",{"$f":"BLOCK!B63","v":0}]
[null,null,null,null,"OPP","PLAYER","OPP","H/CAP"]
[null,null,"OPPONENT",null,"HCP","SCORE","SCORE","PTS"]
[null,{"$f":"SCORECARD!C354","v":" Block 2 Player 1"},null,null,{"$f":"SCORECARD!F354","v":0},{"$f":"SCORECARD!G354","v":-1E-3},{"$f":"SCORECARD!H354","v":-1E-3},{"$f":"IF(NOT(OR(F840>0,G840>0)),\"\",IF(HandicapPlay=\"x\",IF(F840>G840,10,-10),(IF((F840-G840>0),(VLOOKUP(OFFSET(H840,-3,0),(TABLE!WIN),(MATCH(E840,WINCOL,0)+1))),(VLOOKUP(OFFSET(H840,-3,0),(TABLE!LOSE),(MATCH(E840,LOSECOL,0)+1)))))))","v":""}]
[null,{"$f":"SCORECARD!C355","v":" Block 2 Player 2"},null,null,{"$f":"SCORECARD!F355","v":0},{"$f":"SCORECARD!G355","v":-1E-3},{"$f":"SCORECARD!H355","v":-1E-3},{"$f":"IF(NOT(OR(F841>0,G841>0)),\"\",IF(HandicapPlay=\"x\",IF(F841>G841,10,-10),(IF((F841-G841>0),(VLOOKUP(OFFSET(H841,-4,0),(TABLE!WIN),(MATCH(E841,WINCOL,0)+1))),(VLOOKUP(OFFSET(H841,-4,0),(TABLE!LOSE),(MATCH(E841,LOSECOL,0)+1)))))))","v":""}]
[null,{"$f":"SCORECARD!C356","v":" Block 2 Player 3"},null,null,{"$f":"SCORECARD!F356","v":0},{"$f":"SCORECARD!G356","v":-1E-3},{"$f":"SCORECARD!H356","v":-1E-3},{"$f":"IF(NOT(OR(F842>0,G842>0)),\"\",IF(HandicapPlay=\"x\",IF(F842>G842,10,-10),(IF((F842-G842>0),(VLOOKUP(OFFSET(H842,-5,0),(TABLE!WIN),(MATCH(E842,WINCOL,0)+1))),(VLOOKUP(OFFSET(H842,-5,0),(TABLE!LOSE),(MATCH(E842,LOSECOL,0)+1)))))))","v":""}]
[null,{"$f":"SCORECARD!C357","v":" Block 2 Player 4"},null,null,{"$f":"SCORECARD!F357","v":0},{"$f":"SCORECARD!G357","v":-1E-3},{"$f":"SCORECARD!H357","v":-1E-3},{"$f":"IF(NOT(OR(F843>0,G843>0)),\"\",IF(HandicapPlay=\"x\",IF(F843>G843,10,-10),(IF((F843-G843>0),(VLOOKUP(OFFSET(H843,-6,0),(TABLE!WIN),(MATCH(E843,WINCOL,0)+1))),(VLOOKUP(OFFSET(H843,-6,0),(TABLE!LOSE),(MATCH(E843,LOSECOL,0)+1)))))))","v":""}]
[null,{"$f":"SCORECARD!C358","v":" Block 2 Player 6"},null,null,{"$f":"SCORECARD!F358","v":0},{"$f":"SCORECARD!G358","v":-1E-3},{"$f":"SCORECARD!H358","v":-1E-3},{"$f":"IF(NOT(OR(F844>0,G844>0)),\"\",IF(HandicapPlay=\"x\",IF(F844>G844,10,-10),(IF((F844-G844>0),(VLOOKUP(OFFSET(H844,-7,0),(TABLE!WIN),(MATCH(E844,WINCOL,0)+1))),(VLOOKUP(OFFSET(H844,-7,0),(TABLE!LOSE),(MATCH(E844,LOSECOL,0)+1)))))))","v":""}]
[null,{"$f":"SCORECARD!C359","v":" Block 2 Player 7"},null,null,{"$f":"SCORECARD!F359","v":0},{"$f":"SCORECARD!G359","v":-1E-3},{"$f":"SCORECARD!H359","v":-1E-3},{"$f":"IF(NOT(OR(F845>0,G845>0)),\"\",IF(HandicapPlay=\"x\",IF(F845>G845,10,-10),(IF((F845-G845>0),(VLOOKUP(OFFSET(H845,-8,0),(TABLE!WIN),(MATCH(E845,WINCOL,0)+1))),(VLOOKUP(OFFSET(H845,-8,0),(TABLE!LOSE),(MATCH(E845,LOSECOL,0)+1)))))))","v":""}]
[null,{"$f":"SCORECARD!C360","v":" Block 2 Player 8"},null,null,{"$f":"SCORECARD!F360","v":0},{"$f":"SCORECARD!G360","v":-1E-3},{"$f":"SCORECARD!H360","v":-1E-3},{"$f":"IF(NOT(OR(F846>0,G846>0)),\"\",IF(HandicapPlay=\"x\",IF(F846>G846,10,-10),(IF((F846-G846>0),(VLOOKUP(OFFSET(H846,-9,0),(TABLE!WIN),(MATCH(E846,WINCOL,0)+1))),(VLOOKUP(OFFSET(H846,-9,0),(TABLE!LOSE),(MATCH(E846,LOSECOL,0)+1)))))))","v":""}]
[null,{"$f":"SCORECARD!C361","v":" Block 2 Player 9"},null,null,{"$f":"SCORECARD!F361","v":0},{"$f":"SCORECARD!G361","v":-1E-3},{"$f":"SCORECARD!H361","v":-1E-3},{"$f":"IF(NOT(OR(F847>0,G847>0)),\"\",IF(HandicapPlay=\"x\",IF(F847>G847,10,-10),(IF((F847-G847>0),(VLOOKUP(OFFSET(H847,-10,0),(TABLE!WIN),(MATCH(E847,WINCOL,0)+1))),(VLOOKUP(OFFSET(H847,-10,0),(TABLE!LOSE),(MATCH(E847,LOSECOL,0)+1)))))))","v":""}]
[null,{"$f":"SCORECARD!C362","v":" Block 2 Player 10"},null,null,{"$f":"SCORECARD!F362","v":0},{"$f":"SCORECARD!G362","v":-1E-3},{"$f":"SCORECARD!H362","v":-1E-3},{"$f":"IF(NOT(OR(F848>0,G848>0)),\"\",IF(HandicapPlay=\"x\",IF(F848>G848,10,-10),(IF((F848-G848>0),(VLOOKUP(OFFSET(H848,-11,0),(TABLE!WIN),(MATCH(E848,WINCOL,0)+1))),(VLOOKUP(OFFSET(H848,-11,0),(TABLE!LOSE),(MATCH(E848,LOSECOL,0)+1)))))))","v":""}]
[null,{"$f":"SCORECARD!C363","v":" Block 2 Player 11"},null,null,{"$f":"SCORECARD!F363","v":0},{"$f":"SCORECARD!G363","v":-1E-3},{"$f":"SCORECARD!H363","v":-1E-3},{"$f":"IF(NOT(OR(F849>0,G849>0)),\"\",IF(HandicapPlay=\"x\",IF(F849>G849,10,-10),(IF((F849-G849>0),(VLOOKUP(OFFSET(H849,-12,0),(TABLE!WIN),(MATCH(E849,WINCOL,0)+1))),(VLOOKUP(OFFSET(H849,-12,0),(TABLE!LOSE),(MATCH(E849,LOSECOL,0)+1)))))))","v":""}]
[null,{"$f":"SCORECARD!C364","v":" Block 2 Player 12"},null,null,{"$f":"SCORECARD!F364","v":0},{"$f":"SCORECARD!G364","v":-1E-3},{"$f":"SCORECARD!H364","v":-1E-3},{"$f":"IF(NOT(OR(F850>0,G850>0)),\"\",IF(HandicapPlay=\"x\",IF(F850>G850,10,-10),(IF((F850-G850>0),(VLOOKUP(OFFSET(H850,-13,0),(TABLE!WIN),(MATCH(E850,WINCOL,0)+1))),(VLOOKUP(OFFSET(H850,-13,0),(TABLE!LOSE),(MATCH(E850,LOSECOL,0)+1)))))))","v":""}]
[]
[]
[]
[]
[]
[]
[null,null,null,null,null,null,"Handicap adjustment points total   ",{"$f":"SUM(H840:H850)","v":0}]
[]
[]
[]
[]
[]
[]
[]
[{"$f":"note1","v":"Time limit 2.5 hours, Turn After Bell (61.1.6). Quadway hoops (3 11/16\"), Dawson International balls"}]
[{"$f":"note2","v":"Games may start early. Please be at the venue at least 30 minutes earlier than the scheduled start time."}]
[{"$f":"note3","v":"Entry Fee $40 will be invoiced by email. Please pay by EFT using the invoice No. as reference."}]
[{"$f":"note4","v":"Players please assist with setting and clearing courts."}]
[null,null,null,null,{"$f":"BLOCK!R48","v":" Block 2 Player 6"}]
[null,null,null,null,{"$f":"BLOCK!L44","v":"Tournament"}]
[null,null,null,null,{"$f":"BLOCK!L46","v":"Group"}]
[null,null,null,null,{"$f":"BLOCK!B48","v":"BLOCK 2"}]
[]
[null,null,null,null,"BLOCK PLAY SCHEDULE"]
[null,"TIME","DAY","COURT",null,"OPPONENT",null,"Handicap","PS","OS"]
[null,{"$f":"GAMES!B75","v":"00:00:00"},{"$f":"GAMES!C75","v":"00:00:00"},{"$f":"GAMES!D75","v":0},null,{"$f":"GAMES!$E$75","v":" Block 2 Player 11"},null,{"$f":"$E$900","v":0},{"$f":"$F$900","v":-1E-3},{"$f":"$G$900","v":-1E-3}]
[null,{"$f":"GAMES!B80","v":"00:00:00"},{"$f":"GAMES!C80","v":"00:00:00"},{"$f":"GAMES!D80","v":0},null,{"$f":"GAMES!$E$80","v":" Block 2 Player 2"},null,{"$f":"$E$892","v":0},{"$f":"$F$892","v":-1E-3},{"$f":"$G$892","v":-1E-3}]
[null,{"$f":"GAMES!B85","v":"00:00:00"},{"$f":"GAMES!C85","v":"00:00:00"},{"$f":"GAMES!D85","v":0},null,{"$f":"GAMES!$E$85","v":" Block 2 Player 4"},null,{"$f":"$E$894","v":0},{"$f":"$F$894","v":-1E-3},{"$f":"$G$894","v":-1E-3}]
[null,{"$f":"GAMES!B90","v":"00:00:00"},{"$f":"GAMES!C90","v":"00:00:00"},{"$f":"GAMES!D90","v":0},null,{"$f":"GAMES!$E$90","v":" Block 2 Player 1"},null,{"$f":"$E$891","v":0},{"$f":"$F$891","v":-1E-3},{"$f":"$G$891","v":-1E-3}]
[null,{"$f":"GAMES!B97","v":"00:00:00"},{"$f":"GAMES!C97","v":"00:00:00"},{"$f":"GAMES!D97","v":0},null,{"$f":"GAMES!$G$97","v":" Block 2 Player 8"},null,{"$f":"$E$897","v":0},{"$f":"$F$897","v":-1E-3},{"$f":"$G$897","v":-1E-3}]
[null,{"$f":"GAMES!B104","v":"00:00:00"},{"$f":"GAMES!C104","v":"00:00:00"},{"$f":"GAMES!D104","v":0},null,{"$f":"GAMES!$G$104","v":" Block 2 Player 10"},null,{"$f":"$E$899","v":0},{"$f":"$F$899","v":-1E-3},{"$f":"$G$899","v":-1E-3}]
[null,{"$f":"GAMES!B111","v":"00:00:00"},{"$f":"GAMES!C111","v":"00:00:00"},{"$f":"GAMES!D111","v":0},null,{"$f":"GAMES!$G$111","v":" Block 2 Player 12"},null,{"$f":"$E$901","v":0},{"$f":"$F$901","v":-1E-3},{"$f":"$G$901","v":-1E-3}]
[null,{"$f":"GAMES!B118","v":"00:00:00"},{"$f":"GAMES!C118","v":"00:00:00"},{"$f":"GAMES!D118","v":0},null,{"$f":"GAMES!$G$118","v":" Block 2 Player 3"},null,{"$f":"$E$893","v":0},{"$f":"$F$893","v":-1E-3},{"$f":"$G$893","v":-1E-3}]
[null,{"$f":"GAMES!B125","v":"00:00:00"},{"$f":"GAMES!C125","v":"00:00:00"},{"$f":"GAMES!D125","v":0},null,{"$f":"GAMES!$E$125","v":" Block 2 Player 5"},null,{"$f":"$E$895","v":0},{"$f":"$F$895","v":-1E-3},{"$f":"$G$895","v":-1E-3}]
[null,{"$f":"GAMES!B131","v":"00:00:00"},{"$f":"GAMES!C131","v":"00:00:00"},{"$f":"GAMES!D131","v":0},null,{"$f":"GAMES!$E$131","v":" Block 2 Player 7"},null,{"$f":"$E$896","v":0},{"$f":"$F$896","v":-1E-3},{"$f":"$G$896","v":-1E-3}]
[null,{"$f":"GAMES!B136","v":"00:00:00"},{"$f":"GAMES!C136","v":"00:00:00"},{"$f":"GAMES!D136","v":0},null,{"$f":"GAMES!$E$136","v":" Block 2 Player 9"},null,{"$f":"$E$898","v":0},{"$f":"$F$898","v":-1E-3},{"$f":"$G$898","v":-1E-3}]
[]
[null,"PLAYER:",{"$f":"BLOCK!R48","v":" Block 2 Player 6"},null,null,null,"HANDICAP",{"$f":"BLOCK!B66","v":0}]
[null,null,null,null,"OPP","PLAYER","OPP","H/CAP"]
[null,null,"OPPONENT",null,"HCP","SCORE","SCORE","PTS"]
[null,{"$f":"SCORECARD!C374","v":" Block 2 Player 1"},null,null,{"$f":"SCORECARD!F374","v":0},{"$f":"SCORECARD!G374","v":-1E-3},{"$f":"SCORECARD!H374","v":-1E-3},{"$f":"IF(NOT(OR(F891>0,G891>0)),\"\",IF(HandicapPlay=\"x\",IF(F891>G891,10,-10),(IF((F891-G891>0),(VLOOKUP(OFFSET(H891,-3,0),(TABLE!WIN),(MATCH(E891,WINCOL,0)+1))),(VLOOKUP(OFFSET(H891,-3,0),(TABLE!LOSE),(MATCH(E891,LOSECOL,0)+1)))))))","v":""}]
[null,{"$f":"SCORECARD!C375","v":" Block 2 Player 2"},null,null,{"$f":"SCORECARD!F375","v":0},{"$f":"SCORECARD!G375","v":-1E-3},{"$f":"SCORECARD!H375","v":-1E-3},{"$f":"IF(NOT(OR(F892>0,G892>0)),\"\",IF(HandicapPlay=\"x\",IF(F892>G892,10,-10),(IF((F892-G892>0),(VLOOKUP(OFFSET(H892,-4,0),(TABLE!WIN),(MATCH(E892,WINCOL,0)+1))),(VLOOKUP(OFFSET(H892,-4,0),(TABLE!LOSE),(MATCH(E892,LOSECOL,0)+1)))))))","v":""}]
[null,{"$f":"SCORECARD!C376","v":" Block 2 Player 3"},null,null,{"$f":"SCORECARD!F376","v":0},{"$f":"SCORECARD!G376","v":-1E-3},{"$f":"SCORECARD!H376","v":-1E-3},{"$f":"IF(NOT(OR(F893>0,G893>0)),\"\",IF(HandicapPlay=\"x\",IF(F893>G893,10,-10),(IF((F893-G893>0),(VLOOKUP(OFFSET(H893,-5,0),(TABLE!WIN),(MATCH(E893,WINCOL,0)+1))),(VLOOKUP(OFFSET(H893,-5,0),(TABLE!LOSE),(MATCH(E893,LOSECOL,0)+1)))))))","v":""}]
[null,{"$f":"SCORECARD!C377","v":" Block 2 Player 4"},null,null,{"$f":"SCORECARD!F377","v":0},{"$f":"SCORECARD!G377","v":-1E-3},{"$f":"SCORECARD!H377","v":-1E-3},{"$f":"IF(NOT(OR(F894>0,G894>0)),\"\",IF(HandicapPlay=\"x\",IF(F894>G894,10,-10),(IF((F894-G894>0),(VLOOKUP(OFFSET(H894,-6,0),(TABLE!WIN),(MATCH(E894,WINCOL,0)+1))),(VLOOKUP(OFFSET(H894,-6,0),(TABLE!LOSE),(MATCH(E894,LOSECOL,0)+1)))))))","v":""}]
[null,{"$f":"SCORECARD!C378","v":" Block 2 Player 5"},null,null,{"$f":"SCORECARD!F378","v":0},{"$f":"SCORECARD!G378","v":-1E-3},{"$f":"SCORECARD!H378","v":-1E-3},{"$f":"IF(NOT(OR(F895>0,G895>0)),\"\",IF(HandicapPlay=\"x\",IF(F895>G895,10,-10),(IF((F895-G895>0),(VLOOKUP(OFFSET(H895,-7,0),(TABLE!WIN),(MATCH(E895,WINCOL,0)+1))),(VLOOKUP(OFFSET(H895,-7,0),(TABLE!LOSE),(MATCH(E895,LOSECOL,0)+1)))))))","v":""}]
[null,{"$f":"SCORECARD!C379","v":" Block 2 Player 7"},null,null,{"$f":"SCORECARD!F379","v":0},{"$f":"SCORECARD!G379","v":-1E-3},{"$f":"SCORECARD!H379","v":-1E-3},{"$f":"IF(NOT(OR(F896>0,G896>0)),\"\",IF(HandicapPlay=\"x\",IF(F896>G896,10,-10),(IF((F896-G896>0),(VLOOKUP(OFFSET(H896,-8,0),(TABLE!WIN),(MATCH(E896,WINCOL,0)+1))),(VLOOKUP(OFFSET(H896,-8,0),(TABLE!LOSE),(MATCH(E896,LOSECOL,0)+1)))))))","v":""}]
[null,{"$f":"SCORECARD!C380","v":" Block 2 Player 8"},null,null,{"$f":"SCORECARD!F380","v":0},{"$f":"SCORECARD!G380","v":-1E-3},{"$f":"SCORECARD!H380","v":-1E-3},{"$f":"IF(NOT(OR(F897>0,G897>0)),\"\",IF(HandicapPlay=\"x\",IF(F897>G897,10,-10),(IF((F897-G897>0),(VLOOKUP(OFFSET(H897,-9,0),(TABLE!WIN),(MATCH(E897,WINCOL,0)+1))),(VLOOKUP(OFFSET(H897,-9,0),(TABLE!LOSE),(MATCH(E897,LOSECOL,0)+1)))))))","v":""}]
[null,{"$f":"SCORECARD!C381","v":" Block 2 Player 9"},null,null,{"$f":"SCORECARD!F381","v":0},{"$f":"SCORECARD!G381","v":-1E-3},{"$f":"SCORECARD!H381","v":-1E-3},{"$f":"IF(NOT(OR(F898>0,G898>0)),\"\",IF(HandicapPlay=\"x\",IF(F898>G898,10,-10),(IF((F898-G898>0),(VLOOKUP(OFFSET(H898,-10,0),(TABLE!WIN),(MATCH(E898,WINCOL,0)+1))),(VLOOKUP(OFFSET(H898,-10,0),(TABLE!LOSE),(MATCH(E898,LOSECOL,0)+1)))))))","v":""}]
[null,{"$f":"SCORECARD!C382","v":" Block 2 Player 10"},null,null,{"$f":"SCORECARD!F382","v":0},{"$f":"SCORECARD!G382","v":-1E-3},{"$f":"SCORECARD!H382","v":-1E-3},{"$f":"IF(NOT(OR(F899>0,G899>0)),\"\",IF(HandicapPlay=\"x\",IF(F899>G899,10,-10),(IF((F899-G899>0),(VLOOKUP(OFFSET(H899,-11,0),(TABLE!WIN),(MATCH(E899,WINCOL,0)+1))),(VLOOKUP(OFFSET(H899,-11,0),(TABLE!LOSE),(MATCH(E899,LOSECOL,0)+1)))))))","v":""}]
[null,{"$f":"SCORECARD!C383","v":" Block 2 Player 11"},null,null,{"$f":"SCORECARD!F383","v":0},{"$f":"SCORECARD!G383","v":-1E-3},{"$f":"SCORECARD!H383","v":-1E-3},{"$f":"IF(NOT(OR(F900>0,G900>0)),\"\",IF(HandicapPlay=\"x\",IF(F900>G900,10,-10),(IF((F900-G900>0),(VLOOKUP(OFFSET(H900,-12,0),(TABLE!WIN),(MATCH(E900,WINCOL,0)+1))),(VLOOKUP(OFFSET(H900,-12,0),(TABLE!LOSE),(MATCH(E900,LOSECOL,0)+1)))))))","v":""}]
[null,{"$f":"SCORECARD!C384","v":" Block 2 Player 12"},null,null,{"$f":"SCORECARD!F384","v":0},{"$f":"SCORECARD!G384","v":-1E-3},{"$f":"SCORECARD!H384","v":-1E-3},{"$f":"IF(NOT(OR(F901>0,G901>0)),\"\",IF(HandicapPlay=\"x\",IF(F901>G901,10,-10),(IF((F901-G901>0),(VLOOKUP(OFFSET(H901,-13,0),(TABLE!WIN),(MATCH(E901,WINCOL,0)+1))),(VLOOKUP(OFFSET(H901,-13,0),(TABLE!LOSE),(MATCH(E901,LOSECOL,0)+1)))))))","v":""}]
[]
[]
[]
[]
[]
[]
[null,null,null,null,null,null,"Handicap adjustment points total   ",{"$f":"SUM(H891:H901)","v":0}]
[]
[]
[]
[]
[]
[]
[]
[{"$f":"note1","v":"Time limit 2.5 hours, Turn After Bell (61.1.6). Quadway hoops (3 11/16\"), Dawson International balls"}]
[{"$f":"note2","v":"Games may start early. Please be at the venue at least 30 minutes earlier than the scheduled start time."}]
[{"$f":"note3","v":"Entry Fee $40 will be invoiced by email. Please pay by EFT using the invoice No. as reference."}]
[{"$f":"note4","v":"Players please assist with setting and clearing courts."}]
[null,null,null,null,{"$f":"BLOCK!U48","v":" Block 2 Player 7"}]
[null,null,null,null,{"$f":"BLOCK!L44","v":"Tournament"}]
[null,null,null,null,{"$f":"BLOCK!L46","v":"Group"}]
[null,null,null,null,{"$f":"BLOCK!B48","v":"BLOCK 2"}]
[]
[null,null,null,null,"BLOCK PLAY SCHEDULE"]
[null,"TIME","DAY","COURT",null,"OPPONENT",null,"Handicap","PS","OS"]
[null,{"$f":"GAMES!B76","v":"00:00:00"},{"$f":"GAMES!C76","v":"00:00:00"},{"$f":"GAMES!D76","v":0},null,{"$f":"GAMES!$E$76","v":" Block 2 Player 10"},null,{"$f":"$E$950","v":0},{"$f":"$F$950","v":-1E-3},{"$f":"$G$950","v":-1E-3}]
[null,{"$f":"GAMES!B81","v":"00:00:00"},{"$f":"GAMES!C81","v":"00:00:00"},{"$f":"GAMES!D81","v":0},null,{"$f":"GAMES!$E$81","v":" Block 2 Player 12"},null,{"$f":"$E$952","v":0},{"$f":"$F$952","v":-1E-3},{"$f":"$G$952","v":-1E-3}]
[null,{"$f":"GAMES!B86","v":"00:00:00"},{"$f":"GAMES!C86","v":"00:00:00"},{"$f":"GAMES!D86","v":0},null,{"$f":"GAMES!$E$86","v":" Block 2 Player 3"},null,{"$f":"$E$944","v":0},{"$f":"$F$944","v":-1E-3},{"$f":"$G$944","v":-1E-3}]
[null,{"$f":"GAMES!B91","v":"00:00:00"},{"$f":"GAMES!C91","v":"00:00:00"},{"$f":"GAMES!D91","v":0},null,{"$f":"GAMES!$E$91","v":" Block 2 Player 5"},null,{"$f":"$E$946","v":0},{"$f":"$F$946","v":-1E-3},{"$f":"$G$946","v":-1E-3}]
[null,{"$f":"GAMES!B96","v":"00:00:00"},{"$f":"GAMES!C96","v":"00:00:00"},{"$f":"GAMES!D96","v":0},null,{"$f":"GAMES!$E$96","v":" Block 2 Player 1"},null,{"$f":"$E$942","v":0},{"$f":"$F$942","v":-1E-3},{"$f":"$G$942","v":-1E-3}]
[null,{"$f":"GAMES!B103","v":"00:00:00"},{"$f":"GAMES!C103","v":"00:00:00"},{"$f":"GAMES!D103","v":0},null,{"$f":"GAMES!$G$103","v":" Block 2 Player 9"},null,{"$f":"$E$949","v":0},{"$f":"$F$949","v":-1E-3},{"$f":"$G$949","v":-1E-3}]
[null,{"$f":"GAMES!B110","v":"00:00:00"},{"$f":"GAMES!C110","v":"00:00:00"},{"$f":"GAMES!D110","v":0},null,{"$f":"GAMES!$G$110","v":" Block 2 Player 11"},null,{"$f":"$E$951","v":0},{"$f":"$F$951","v":-1E-3},{"$f":"$G$951","v":-1E-3}]
[null,{"$f":"GAMES!B117","v":"00:00:00"},{"$f":"GAMES!C117","v":"00:00:00"},{"$f":"GAMES!D117","v":0},null,{"$f":"GAMES!$G$117","v":" Block 2 Player 2"},null,{"$f":"$E$943","v":0},{"$f":"$F$943","v":-1E-3},{"$f":"$G$943","v":-1E-3}]
[null,{"$f":"GAMES!B124","v":"00:00:00"},{"$f":"GAMES!C124","v":"00:00:00"},{"$f":"GAMES!D124","v":0},null,{"$f":"GAMES!$E$124","v":" Block 2 Player 4"},null,{"$f":"$E$945","v":0},{"$f":"$F$945","v":-1E-3},{"$f":"$G$945","v":-1E-3}]
[null,{"$f":"GAMES!B131","v":"00:00:00"},{"$f":"GAMES!C131","v":"00:00:00"},{"$f":"GAMES!D131","v":0},null,{"$f":"GAMES!$G$131","v":" Block 2 Player 6"},null,{"$f":"$E$947","v":0},{"$f":"$F$947","v":-1E-3},{"$f":"$G$947","v":-1E-3}]
[null,{"$f":"GAMES!B137","v":"00:00:00"},{"$f":"GAMES!C137","v":"00:00:00"},{"$f":"GAMES!D137","v":0},null,{"$f":"GAMES!$E$137","v":" Block 2 Player 8"},null,{"$f":"$E$948","v":0},{"$f":"$F$948","v":-1E-3},{"$f":"$G$948","v":-1E-3}]
[]
[null,"PLAYER:",{"$f":"BLOCK!U48","v":" Block 2 Player 7"},null,null,null,"HANDICAP",{"$f":"BLOCK!B69","v":0}]
[null,null,null,null,"OPP","PLAYER","OPP","H/CAP"]
[null,null,"OPPONENT",null,"HCP","SCORE","SCORE","PTS"]
[null,{"$f":"SCORECARD!C397","v":" Block 2 Player 1"},null,null,{"$f":"SCORECARD!F397","v":0},{"$f":"SCORECARD!G397","v":-1E-3},{"$f":"SCORECARD!H397","v":-1E-3},{"$f":"IF(NOT(OR(F942>0,G942>0)),\"\",IF(HandicapPlay=\"x\",IF(F942>G942,10,-10),(IF((F942-G942>0),(VLOOKUP(OFFSET(H942,-3,0),(TABLE!WIN),(MATCH(E942,WINCOL,0)+1))),(VLOOKUP(OFFSET(H942,-3,0),(TABLE!LOSE),(MATCH(E942,LOSECOL,0)+1)))))))","v":""}]
[null,{"$f":"SCORECARD!C398","v":" Block 2 Player 2"},null,null,{"$f":"SCORECARD!F398","v":0},{"$f":"SCORECARD!G398","v":-1E-3},{"$f":"SCORECARD!H398","v":-1E-3},{"$f":"IF(NOT(OR(F943>0,G943>0)),\"\",IF(HandicapPlay=\"x\",IF(F943>G943,10,-10),(IF((F943-G943>0),(VLOOKUP(OFFSET(H943,-4,0),(TABLE!WIN),(MATCH(E943,WINCOL,0)+1))),(VLOOKUP(OFFSET(H943,-4,0),(TABLE!LOSE),(MATCH(E943,LOSECOL,0)+1)))))))","v":""}]
[null,{"$f":"SCORECARD!C399","v":" Block 2 Player 3"},null,null,{"$f":"SCORECARD!F399","v":0},{"$f":"SCORECARD!G399","v":-1E-3},{"$f":"SCORECARD!H399","v":-1E-3},{"$f":"IF(NOT(OR(F944>0,G944>0)),\"\",IF(HandicapPlay=\"x\",IF(F944>G944,10,-10),(IF((F944-G944>0),(VLOOKUP(OFFSET(H944,-5,0),(TABLE!WIN),(MATCH(E944,WINCOL,0)+1))),(VLOOKUP(OFFSET(H944,-5,0),(TABLE!LOSE),(MATCH(E944,LOSECOL,0)+1)))))))","v":""}]
[null,{"$f":"SCORECARD!C400","v":" Block 2 Player 4"},null,null,{"$f":"SCORECARD!F400","v":0},{"$f":"SCORECARD!G400","v":-1E-3},{"$f":"SCORECARD!H400","v":-1E-3},{"$f":"IF(NOT(OR(F945>0,G945>0)),\"\",IF(HandicapPlay=\"x\",IF(F945>G945,10,-10),(IF((F945-G945>0),(VLOOKUP(OFFSET(H945,-6,0),(TABLE!WIN),(MATCH(E945,WINCOL,0)+1))),(VLOOKUP(OFFSET(H945,-6,0),(TABLE!LOSE),(MATCH(E945,LOSECOL,0)+1)))))))","v":""}]
[null,{"$f":"SCORECARD!C401","v":" Block 2 Player 5"},null,null,{"$f":"SCORECARD!F401","v":0},{"$f":"SCORECARD!G401","v":-1E-3},{"$f":"SCORECARD!H401","v":-1E-3},{"$f":"IF(NOT(OR(F946>0,G946>0)),\"\",IF(HandicapPlay=\"x\",IF(F946>G946,10,-10),(IF((F946-G946>0),(VLOOKUP(OFFSET(H946,-7,0),(TABLE!WIN),(MATCH(E946,WINCOL,0)+1))),(VLOOKUP(OFFSET(H946,-7,0),(TABLE!LOSE),(MATCH(E946,LOSECOL,0)+1)))))))","v":""}]
[null,{"$f":"SCORECARD!C402","v":" Block 2 Player 6"},null,null,{"$f":"SCORECARD!F402","v":0},{"$f":"SCORECARD!G402","v":-1E-3},{"$f":"SCORECARD!H402","v":-1E-3},{"$f":"IF(NOT(OR(F947>0,G947>0)),\"\",IF(HandicapPlay=\"x\",IF(F947>G947,10,-10),(IF((F947-G947>0),(VLOOKUP(OFFSET(H947,-8,0),(TABLE!WIN),(MATCH(E947,WINCOL,0)+1))),(VLOOKUP(OFFSET(H947,-8,0),(TABLE!LOSE),(MATCH(E947,LOSECOL,0)+1)))))))","v":""}]
[null,{"$f":"SCORECARD!C403","v":" Block 2 Player 8"},null,null,{"$f":"SCORECARD!F403","v":0},{"$f":"SCORECARD!G403","v":-1E-3},{"$f":"SCORECARD!H403","v":-1E-3},{"$f":"IF(NOT(OR(F948>0,G948>0)),\"\",IF(HandicapPlay=\"x\",IF(F948>G948,10,-10),(IF((F948-G948>0),(VLOOKUP(OFFSET(H948,-9,0),(TABLE!WIN),(MATCH(E948,WINCOL,0)+1))),(VLOOKUP(OFFSET(H948,-9,0),(TABLE!LOSE),(MATCH(E948,LOSECOL,0)+1)))))))","v":""}]
[null,{"$f":"SCORECARD!C404","v":" Block 2 Player 9"},null,null,{"$f":"SCORECARD!F404","v":0},{"$f":"SCORECARD!G404","v":-1E-3},{"$f":"SCORECARD!H404","v":-1E-3},{"$f":"IF(NOT(OR(F949>0,G949>0)),\"\",IF(HandicapPlay=\"x\",IF(F949>G949,10,-10),(IF((F949-G949>0),(VLOOKUP(OFFSET(H949,-10,0),(TABLE!WIN),(MATCH(E949,WINCOL,0)+1))),(VLOOKUP(OFFSET(H949,-10,0),(TABLE!LOSE),(MATCH(E949,LOSECOL,0)+1)))))))","v":""}]
[null,{"$f":"SCORECARD!C405","v":" Block 2 Player 10"},null,null,{"$f":"SCORECARD!F405","v":0},{"$f":"SCORECARD!G405","v":-1E-3},{"$f":"SCORECARD!H405","v":-1E-3},{"$f":"IF(NOT(OR(F950>0,G950>0)),\"\",IF(HandicapPlay=\"x\",IF(F950>G950,10,-10),(IF((F950-G950>0),(VLOOKUP(OFFSET(H950,-11,0),(TABLE!WIN),(MATCH(E950,WINCOL,0)+1))),(VLOOKUP(OFFSET(H950,-11,0),(TABLE!LOSE),(MATCH(E950,LOSECOL,0)+1)))))))","v":""}]
[null,{"$f":"SCORECARD!C406","v":" Block 2 Player 11"},null,null,{"$f":"SCORECARD!F406","v":0},{"$f":"SCORECARD!G406","v":-1E-3},{"$f":"SCORECARD!H406","v":-1E-3},{"$f":"IF(NOT(OR(F951>0,G951>0)),\"\",IF(HandicapPlay=\"x\",IF(F951>G951,10,-10),(IF((F951-G951>0),(VLOOKUP(OFFSET(H951,-12,0),(TABLE!WIN),(MATCH(E951,WINCOL,0)+1))),(VLOOKUP(OFFSET(H951,-12,0),(TABLE!LOSE),(MATCH(E951,LOSECOL,0)+1)))))))","v":""}]
[null,{"$f":"SCORECARD!C407","v":" Block 2 Player 12"},null,null,{"$f":"SCORECARD!F407","v":0},{"$f":"SCORECARD!G407","v":-1E-3},{"$f":"SCORECARD!H407","v":-1E-3},{"$f":"IF(NOT(OR(F952>0,G952>0)),\"\",IF(HandicapPlay=\"x\",IF(F952>G952,10,-10),(IF((F952-G952>0),(VLOOKUP(OFFSET(H952,-13,0),(TABLE!WIN),(MATCH(E952,WINCOL,0)+1))),(VLOOKUP(OFFSET(H952,-13,0),(TABLE!LOSE),(MATCH(E952,LOSECOL,0)+1)))))))","v":""}]
[]
[]
[]
[]
[]
[]
[null,null,null,null,null,null,"Handicap adjustment points total   ",{"$f":"SUM(H942:H952)","v":0}]
[]
[]
[]
[]
[]
[]
[]
[{"$f":"note1","v":"Time limit 2.5 hours, Turn After Bell (61.1.6). Quadway hoops (3 11/16\"), Dawson International balls"}]
[{"$f":"note2","v":"Games may start early. Please be at the venue at least 30 minutes earlier than the scheduled start time."}]
[{"$f":"note3","v":"Entry Fee $40 will be invoiced by email. Please pay by EFT using the invoice No. as reference."}]
[{"$f":"note4","v":"Players please assist with setting and clearing courts."}]
[null,null,null,null,{"$f":"BLOCK!X48","v":" Block 2 Player 8"}]
[null,null,null,null,{"$f":"BLOCK!L44","v":"Tournament"}]
[null,null,null,null,{"$f":"BLOCK!L46","v":"Group"}]
[null,null,null,null,{"$f":"BLOCK!B48","v":"BLOCK 2"}]
[]
[null,null,null,null,"BLOCK PLAY SCHEDULE"]
[null,"TIME","DAY","COURT",null,"OPPONENT",null,"Handicap","PS","OS"]
[null,{"$f":"GAMES!B77","v":"00:00:00"},{"$f":"GAMES!C77","v":"00:00:00"},{"$f":"GAMES!D77","v":0},null,{"$f":"GAMES!$E$77","v":" Block 2 Player 9"},null,{"$f":"$E$1000","v":0},{"$f":"$F$1000","v":-1E-3},{"$f":"$G$1000","v":-1E-3}]
[null,{"$f":"GAMES!B82","v":"00:00:00"},{"$f":"GAMES!C82","v":"00:00:00"},{"$f":"GAMES!D82","v":0},null,{"$f":"GAMES!$E$82","v":" Block 2 Player 11"},null,{"$f":"$E$1002","v":0},{"$f":"$F$1002","v":-1E-3},{"$f":"$G$1002","v":-1E-3}]
[null,{"$f":"GAMES!B87","v":"00:00:00"},{"$f":"GAMES!C87","v":"00:00:00"},{"$f":"GAMES!D87","v":0},null,{"$f":"GAMES!$E$87","v":" Block 2 Player 2"},null,{"$f":"$E$994","v":0},{"$f":"$F$994","v":-1E-3},{"$f":"$G$994","v":-1E-3}]
[null,{"$f":"GAMES!B92","v":"00:00:00"},{"$f":"GAMES!C92","v":"00:00:00"},{"$f":"GAMES!D92","v":0},null,{"$f":"GAMES!$E$92","v":" Block 2 Player 4"},null,{"$f":"$E$996","v":0},{"$f":"$F$996","v":-1E-3},{"$f":"$G$996","v":-1E-3}]
[null,{"$f":"GAMES!B97","v":"00:00:00"},{"$f":"GAMES!C97","v":"00:00:00"},{"$f":"GAMES!D97","v":0},null,{"$f":"GAMES!$E$97","v":" Block 2 Player 6"},null,{"$f":"$E$998","v":0},{"$f":"$F$998","v":-1E-3},{"$f":"$G$998","v":-1E-3}]
[null,{"$f":"GAMES!B102","v":"00:00:00"},{"$f":"GAMES!C102","v":"00:00:00"},{"$f":"GAMES!D102","v":0},null,{"$f":"GAMES!$E$102","v":" Block 2 Player 1"},null,{"$f":"$E$993","v":0},{"$f":"$F$993","v":-1E-3},{"$f":"$G$993","v":-1E-3}]
[null,{"$f":"GAMES!B109","v":"00:00:00"},{"$f":"GAMES!C109","v":"00:00:00"},{"$f":"GAMES!D109","v":0},null,{"$f":"GAMES!$G$109","v":" Block 2 Player 10"},null,{"$f":"$E$1001","v":0},{"$f":"$F$1001","v":-1E-3},{"$f":"$G$1001","v":-1E-3}]
[null,{"$f":"GAMES!B116","v":"00:00:00"},{"$f":"GAMES!C116","v":"00:00:00"},{"$f":"GAMES!D116","v":0},null,{"$f":"GAMES!$G$116","v":" Block 2 Player 12"},null,{"$f":"$E$1003","v":0},{"$f":"$F$1003","v":-1E-3},{"$f":"$G$1003","v":-1E-3}]
[null,{"$f":"GAMES!B123","v":"00:00:00"},{"$f":"GAMES!C123","v":"00:00:00"},{"$f":"GAMES!D123","v":0},null,{"$f":"GAMES!$E$123","v":" Block 2 Player 3"},null,{"$f":"$E$995","v":0},{"$f":"$F$995","v":-1E-3},{"$f":"$G$995","v":-1E-3}]
[null,{"$f":"GAMES!B130","v":"00:00:00"},{"$f":"GAMES!C130","v":"00:00:00"},{"$f":"GAMES!D130","v":0},null,{"$f":"GAMES!$G$130","v":" Block 2 Player 5"},null,{"$f":"$E$997","v":0},{"$f":"$F$997","v":-1E-3},{"$f":"$G$997","v":-1E-3}]
[null,{"$f":"GAMES!B137","v":"00:00:00"},{"$f":"GAMES!C137","v":"00:00:00"},{"$f":"GAMES!D137","v":0},null,{"$f":"GAMES!$G$137","v":" Block 2 Player 7"},null,{"$f":"$E$999","v":0},{"$f":"$F$999","v":-1E-3},{"$f":"$G$999","v":-1E-3}]
[]
[null,"PLAYER:",{"$f":"BLOCK!X48","v":" Block 2 Player 8"},null,null,null,"HANDICAP",{"$f":"BLOCK!B72","v":0}]
[null,null,null,null,"OPP","PLAYER","OPP","H/CAP"]
[null,null,"OPPONENT",null,"HCP","SCORE","SCORE","PTS"]
[null,{"$f":"SCORECARD!C417","v":" Block 2 Player 1"},null,null,{"$f":"SCORECARD!F417","v":0},{"$f":"SCORECARD!G417","v":-1E-3},{"$f":"SCORECARD!H417","v":-1E-3},{"$f":"IF(NOT(OR(F993>0,G993>0)),\"\",IF(HandicapPlay=\"x\",IF(F993>G993,10,-10),(IF((F993-G993>0),(VLOOKUP(OFFSET(H993,-3,0),(TABLE!WIN),(MATCH(E993,WINCOL,0)+1))),(VLOOKUP(OFFSET(H993,-3,0),(TABLE!LOSE),(MATCH(E993,LOSECOL,0)+1)))))))","v":""}]
[null,{"$f":"SCORECARD!C418","v":" Block 2 Player 2"},null,null,{"$f":"SCORECARD!F418","v":0},{"$f":"SCORECARD!G418","v":-1E-3},{"$f":"SCORECARD!H418","v":-1E-3},{"$f":"IF(NOT(OR(F994>0,G994>0)),\"\",IF(HandicapPlay=\"x\",IF(F994>G994,10,-10),(IF((F994-G994>0),(VLOOKUP(OFFSET(H994,-4,0),(TABLE!WIN),(MATCH(E994,WINCOL,0)+1))),(VLOOKUP(OFFSET(H994,-4,0),(TABLE!LOSE),(MATCH(E994,LOSECOL,0)+1)))))))","v":""}]
[null,{"$f":"SCORECARD!C419","v":" Block 2 Player 3"},null,null,{"$f":"SCORECARD!F419","v":0},{"$f":"SCORECARD!G419","v":-1E-3},{"$f":"SCORECARD!H419","v":-1E-3},{"$f":"IF(NOT(OR(F995>0,G995>0)),\"\",IF(HandicapPlay=\"x\",IF(F995>G995,10,-10),(IF((F995-G995>0),(VLOOKUP(OFFSET(H995,-5,0),(TABLE!WIN),(MATCH(E995,WINCOL,0)+1))),(VLOOKUP(OFFSET(H995,-5,0),(TABLE!LOSE),(MATCH(E995,LOSECOL,0)+1)))))))","v":""}]
[null,{"$f":"SCORECARD!C420","v":" Block 2 Player 4"},null,null,{"$f":"SCORECARD!F420","v":0},{"$f":"SCORECARD!G420","v":-1E-3},{"$f":"SCORECARD!H420","v":-1E-3},{"$f":"IF(NOT(OR(F996>0,G996>0)),\"\",IF(HandicapPlay=\"x\",IF(F996>G996,10,-10),(IF((F996-G996>0),(VLOOKUP(OFFSET(H996,-6,0),(TABLE!WIN),(MATCH(E996,WINCOL,0)+1))),(VLOOKUP(OFFSET(H996,-6,0),(TABLE!LOSE),(MATCH(E996,LOSECOL,0)+1)))))))","v":""}]
[null,{"$f":"SCORECARD!C421","v":" Block 2 Player 5"},null,null,{"$f":"SCORECARD!F421","v":0},{"$f":"SCORECARD!G421","v":-1E-3},{"$f":"SCORECARD!H421","v":-1E-3},{"$f":"IF(NOT(OR(F997>0,G997>0)),\"\",IF(HandicapPlay=\"x\",IF(F997>G997,10,-10),(IF((F997-G997>0),(VLOOKUP(OFFSET(H997,-7,0),(TABLE!WIN),(MATCH(E997,WINCOL,0)+1))),(VLOOKUP(OFFSET(H997,-7,0),(TABLE!LOSE),(MATCH(E997,LOSECOL,0)+1)))))))","v":""}]
[null,{"$f":"SCORECARD!C422","v":" Block 2 Player 6"},null,null,{"$f":"SCORECARD!F422","v":0},{"$f":"SCORECARD!G422","v":-1E-3},{"$f":"SCORECARD!H422","v":-1E-3},{"$f":"IF(NOT(OR(F998>0,G998>0)),\"\",IF(HandicapPlay=\"x\",IF(F998>G998,10,-10),(IF((F998-G998>0),(VLOOKUP(OFFSET(H998,-8,0),(TABLE!WIN),(MATCH(E998,WINCOL,0)+1))),(VLOOKUP(OFFSET(H998,-8,0),(TABLE!LOSE),(MATCH(E998,LOSECOL,0)+1)))))))","v":""}]
[null,{"$f":"SCORECARD!C423","v":" Block 2 Player 7"},null,null,{"$f":"SCORECARD!F423","v":0},{"$f":"SCORECARD!G423","v":-1E-3},{"$f":"SCORECARD!H423","v":-1E-3},{"$f":"IF(NOT(OR(F999>0,G999>0)),\"\",IF(HandicapPlay=\"x\",IF(F999>G999,10,-10),(IF((F999-G999>0),(VLOOKUP(OFFSET(H999,-9,0),(TABLE!WIN),(MATCH(E999,WINCOL,0)+1))),(VLOOKUP(OFFSET(H999,-9,0),(TABLE!LOSE),(MATCH(E999,LOSECOL,0)+1)))))))","v":""}]
[null,{"$f":"SCORECARD!C424","v":" Block 2 Player 9"},null,null,{"$f":"SCORECARD!F424","v":0},{"$f":"SCORECARD!G424","v":-1E-3},{"$f":"SCORECARD!H424","v":-1E-3},{"$f":"IF(NOT(OR(F1000>0,G1000>0)),\"\",IF(HandicapPlay=\"x\",IF(F1000>G1000,10,-10),(IF((F1000-G1000>0),(VLOOKUP(OFFSET(H1000,-10,0),(TABLE!WIN),(MATCH(E1000,WINCOL,0)+1))),(VLOOKUP(OFFSET(H1000,-10,0),(TABLE!LOSE),(MATCH(E1000,LOSECOL,0)+1)))))))","v":""}]
[null,{"$f":"SCORECARD!C425","v":" Block 2 Player 10"},null,null,{"$f":"SCORECARD!F425","v":0},{"$f":"SCORECARD!G425","v":-1E-3},{"$f":"SCORECARD!H425","v":-1E-3},{"$f":"IF(NOT(OR(F1001>0,G1001>0)),\"\",IF(HandicapPlay=\"x\",IF(F1001>G1001,10,-10),(IF((F1001-G1001>0),(VLOOKUP(OFFSET(H1001,-11,0),(TABLE!WIN),(MATCH(E1001,WINCOL,0)+1))),(VLOOKUP(OFFSET(H1001,-11,0),(TABLE!LOSE),(MATCH(E1001,LOSECOL,0)+1)))))))","v":""}]
[null,{"$f":"SCORECARD!C426","v":" Block 2 Player 11"},null,null,{"$f":"SCORECARD!F426","v":0},{"$f":"SCORECARD!G426","v":-1E-3},{"$f":"SCORECARD!H426","v":-1E-3},{"$f":"IF(NOT(OR(F1002>0,G1002>0)),\"\",IF(HandicapPlay=\"x\",IF(F1002>G1002,10,-10),(IF((F1002-G1002>0),(VLOOKUP(OFFSET(H1002,-12,0),(TABLE!WIN),(MATCH(E1002,WINCOL,0)+1))),(VLOOKUP(OFFSET(H1002,-12,0),(TABLE!LOSE),(MATCH(E1002,LOSECOL,0)+1)))))))","v":""}]
[null,{"$f":"SCORECARD!C427","v":" Block 2 Player 12"},null,null,{"$f":"SCORECARD!F427","v":0},{"$f":"SCORECARD!G427","v":-1E-3},{"$f":"SCORECARD!H427","v":-1E-3},{"$f":"IF(NOT(OR(F1003>0,G1003>0)),\"\",IF(HandicapPlay=\"x\",IF(F1003>G1003,10,-10),(IF((F1003-G1003>0),(VLOOKUP(OFFSET(H1003,-13,0),(TABLE!WIN),(MATCH(E1003,WINCOL,0)+1))),(VLOOKUP(OFFSET(H1003,-13,0),(TABLE!LOSE),(MATCH(E1003,LOSECOL,0)+1)))))))","v":""}]
[]
[]
[]
[]
[]
[]
[null,null,null,null,null,null,"Handicap adjustment points total   ",{"$f":"SUM(H993:H1003)","v":0}]
[]
[]
[]
[]
[]
[]
[]
[{"$f":"note1","v":"Time limit 2.5 hours, Turn After Bell (61.1.6). Quadway hoops (3 11/16\"), Dawson International balls"}]
[{"$f":"note2","v":"Games may start early. Please be at the venue at least 30 minutes earlier than the scheduled start time."}]
[{"$f":"note3","v":"Entry Fee $40 will be invoiced by email. Please pay by EFT using the invoice No. as reference."}]
[{"$f":"note4","v":"Players please assist with setting and clearing courts."}]
[null,null,null,null,{"$f":"BLOCK!AA48","v":" Block 2 Player 9"}]
[null,null,null,null,{"$f":"BLOCK!L44","v":"Tournament"}]
[null,null,null,null,{"$f":"BLOCK!L46","v":"Group"}]
[null,null,null,null,{"$f":"BLOCK!B48","v":"BLOCK 2"}]
[]
[null,null,null,null,"BLOCK PLAY SCHEDULE"]
[null,"TIME","DAY","COURT",null,"OPPONENT",null,"Handicap","PS","OS"]
[null,{"$f":"GAMES!B77","v":"00:00:00"},{"$f":"GAMES!C77","v":"00:00:00"},{"$f":"GAMES!D77","v":0},null,{"$f":"GAMES!$G$77","v":" Block 2 Player 8"},null,{"$f":"$E$1051","v":0},{"$f":"$F$1051","v":-1E-3},{"$f":"$G$1051","v":-1E-3}]
[null,{"$f":"GAMES!B83","v":"00:00:00"},{"$f":"GAMES!C83","v":"00:00:00"},{"$f":"GAMES!D83","v":0},null,{"$f":"GAMES!$E$83","v":" Block 2 Player 10"},null,{"$f":"$E$1052","v":0},{"$f":"$F$1052","v":-1E-3},{"$f":"$G$1052","v":-1E-3}]
[null,{"$f":"GAMES!B88","v":"00:00:00"},{"$f":"GAMES!C88","v":"00:00:00"},{"$f":"GAMES!D88","v":0},null,{"$f":"GAMES!$E$88","v":" Block 2 Player 12"},null,{"$f":"$E$1054","v":0},{"$f":"$F$1054","v":-1E-3},{"$f":"$G$1054","v":-1E-3}]
[null,{"$f":"GAMES!B93","v":"00:00:00"},{"$f":"GAMES!C93","v":"00:00:00"},{"$f":"GAMES!D93","v":0},null,{"$f":"GAMES!$E$93","v":" Block 2 Player 3"},null,{"$f":"$E$1046","v":0},{"$f":"$F$1046","v":-1E-3},{"$f":"$G$1046","v":-1E-3}]
[null,{"$f":"GAMES!B98","v":"00:00:00"},{"$f":"GAMES!C98","v":"00:00:00"},{"$f":"GAMES!D98","v":0},null,{"$f":"GAMES!$E$98","v":" Block 2 Player 5"},null,{"$f":"$E$1048","v":0},{"$f":"$F$1048","v":-1E-3},{"$f":"$G$1048","v":-1E-3}]
[null,{"$f":"GAMES!B103","v":"00:00:00"},{"$f":"GAMES!C103","v":"00:00:00"},{"$f":"GAMES!D103","v":0},null,{"$f":"GAMES!$E$103","v":" Block 2 Player 7"},null,{"$f":"$E$1050","v":0},{"$f":"$F$1050","v":-1E-3},{"$f":"$G$1050","v":-1E-3}]
[null,{"$f":"GAMES!B108","v":"00:00:00"},{"$f":"GAMES!C108","v":"00:00:00"},{"$f":"GAMES!D108","v":0},null,{"$f":"GAMES!$E$108","v":" Block 2 Player 1"},null,{"$f":"$E$1044","v":0},{"$f":"$F$1044","v":-1E-3},{"$f":"$G$1044","v":-1E-3}]
[null,{"$f":"GAMES!B115","v":"00:00:00"},{"$f":"GAMES!C115","v":"00:00:00"},{"$f":"GAMES!D115","v":0},null,{"$f":"GAMES!$G$115","v":" Block 2 Player 11"},null,{"$f":"$E$1053","v":0},{"$f":"$F$1053","v":-1E-3},{"$f":"$G$1053","v":-1E-3}]
[null,{"$f":"GAMES!B122","v":"00:00:00"},{"$f":"GAMES!C122","v":"00:00:00"},{"$f":"GAMES!D122","v":0},null,{"$f":"GAMES!$E$122","v":" Block 2 Player 2"},null,{"$f":"$E$1045","v":0},{"$f":"$F$1045","v":-1E-3},{"$f":"$G$1045","v":-1E-3}]
[null,{"$f":"GAMES!B129","v":"00:00:00"},{"$f":"GAMES!C129","v":"00:00:00"},{"$f":"GAMES!D129","v":0},null,{"$f":"GAMES!$G$129","v":" Block 2 Player 4"},null,{"$f":"$E$1047","v":0},{"$f":"$F$1047","v":-1E-3},{"$f":"$G$1047","v":-1E-3}]
[null,{"$f":"GAMES!B136","v":"00:00:00"},{"$f":"GAMES!C136","v":"00:00:00"},{"$f":"GAMES!D136","v":0},null,{"$f":"GAMES!$G$136","v":" Block 2 Player 6"},null,{"$f":"$E$1049","v":0},{"$f":"$F$1049","v":-1E-3},{"$f":"$G$1049","v":-1E-3}]
[]
[null,"PLAYER:",{"$f":"BLOCK!AA48","v":" Block 2 Player 9"},null,null,null,"HANDICAP",{"$f":"BLOCK!B75","v":0}]
[null,null,null,null,"OPP","PLAYER","OPP","H/CAP"]
[null,null,"OPPONENT",null,"HCP","SCORE","SCORE","PTS"]
[null,{"$f":"SCORECARD!C440","v":" Block 2 Player 1"},null,null,{"$f":"SCORECARD!F440","v":0},{"$f":"SCORECARD!G440","v":-1E-3},{"$f":"SCORECARD!H440","v":-1E-3},{"$f":"IF(NOT(OR(F1044>0,G1044>0)),\"\",IF(HandicapPlay=\"x\",IF(F1044>G1044,10,-10),(IF((F1044-G1044>0),(VLOOKUP(OFFSET(H1044,-3,0),(TABLE!WIN),(MATCH(E1044,WINCOL,0)+1))),(VLOOKUP(OFFSET(H1044,-3,0),(TABLE!LOSE),(MATCH(E1044,LOSECOL,0)+1)))))))","v":""}]
[null,{"$f":"SCORECARD!C441","v":" Block 2 Player 2"},null,null,{"$f":"SCORECARD!F441","v":0},{"$f":"SCORECARD!G441","v":-1E-3},{"$f":"SCORECARD!H441","v":-1E-3},{"$f":"IF(NOT(OR(F1045>0,G1045>0)),\"\",IF(HandicapPlay=\"x\",IF(F1045>G1045,10,-10),(IF((F1045-G1045>0),(VLOOKUP(OFFSET(H1045,-4,0),(TABLE!WIN),(MATCH(E1045,WINCOL,0)+1))),(VLOOKUP(OFFSET(H1045,-4,0),(TABLE!LOSE),(MATCH(E1045,LOSECOL,0)+1)))))))","v":""}]
[null,{"$f":"SCORECARD!C442","v":" Block 2 Player 3"},null,null,{"$f":"SCORECARD!F442","v":0},{"$f":"SCORECARD!G442","v":-1E-3},{"$f":"SCORECARD!H442","v":-1E-3},{"$f":"IF(NOT(OR(F1046>0,G1046>0)),\"\",IF(HandicapPlay=\"x\",IF(F1046>G1046,10,-10),(IF((F1046-G1046>0),(VLOOKUP(OFFSET(H1046,-5,0),(TABLE!WIN),(MATCH(E1046,WINCOL,0)+1))),(VLOOKUP(OFFSET(H1046,-5,0),(TABLE!LOSE),(MATCH(E1046,LOSECOL,0)+1)))))))","v":""}]
[null,{"$f":"SCORECARD!C443","v":" Block 2 Player 4"},null,null,{"$f":"SCORECARD!F443","v":0},{"$f":"SCORECARD!G443","v":-1E-3},{"$f":"SCORECARD!H443","v":-1E-3},{"$f":"IF(NOT(OR(F1047>0,G1047>0)),\"\",IF(HandicapPlay=\"x\",IF(F1047>G1047,10,-10),(IF((F1047-G1047>0),(VLOOKUP(OFFSET(H1047,-6,0),(TABLE!WIN),(MATCH(E1047,WINCOL,0)+1))),(VLOOKUP(OFFSET(H1047,-6,0),(TABLE!LOSE),(MATCH(E1047,LOSECOL,0)+1)))))))","v":""}]
[null,{"$f":"SCORECARD!C444","v":" Block 2 Player 5"},null,null,{"$f":"SCORECARD!F444","v":0},{"$f":"SCORECARD!G444","v":-1E-3},{"$f":"SCORECARD!H444","v":-1E-3},{"$f":"IF(NOT(OR(F1048>0,G1048>0)),\"\",IF(HandicapPlay=\"x\",IF(F1048>G1048,10,-10),(IF((F1048-G1048>0),(VLOOKUP(OFFSET(H1048,-7,0),(TABLE!WIN),(MATCH(E1048,WINCOL,0)+1))),(VLOOKUP(OFFSET(H1048,-7,0),(TABLE!LOSE),(MATCH(E1048,LOSECOL,0)+1)))))))","v":""}]
[null,{"$f":"SCORECARD!C445","v":" Block 2 Player 6"},null,null,{"$f":"SCORECARD!F445","v":0},{"$f":"SCORECARD!G445","v":-1E-3},{"$f":"SCORECARD!H445","v":-1E-3},{"$f":"IF(NOT(OR(F1049>0,G1049>0)),\"\",IF(HandicapPlay=\"x\",IF(F1049>G1049,10,-10),(IF((F1049-G1049>0),(VLOOKUP(OFFSET(H1049,-8,0),(TABLE!WIN),(MATCH(E1049,WINCOL,0)+1))),(VLOOKUP(OFFSET(H1049,-8,0),(TABLE!LOSE),(MATCH(E1049,LOSECOL,0)+1)))))))","v":""}]
[null,{"$f":"SCORECARD!C446","v":" Block 2 Player 7"},null,null,{"$f":"SCORECARD!F446","v":0},{"$f":"SCORECARD!G446","v":-1E-3},{"$f":"SCORECARD!H446","v":-1E-3},{"$f":"IF(NOT(OR(F1050>0,G1050>0)),\"\",IF(HandicapPlay=\"x\",IF(F1050>G1050,10,-10),(IF((F1050-G1050>0),(VLOOKUP(OFFSET(H1050,-9,0),(TABLE!WIN),(MATCH(E1050,WINCOL,0)+1))),(VLOOKUP(OFFSET(H1050,-9,0),(TABLE!LOSE),(MATCH(E1050,LOSECOL,0)+1)))))))","v":""}]
[null,{"$f":"SCORECARD!C447","v":" Block 2 Player 8"},null,null,{"$f":"SCORECARD!F447","v":0},{"$f":"SCORECARD!G447","v":-1E-3},{"$f":"SCORECARD!H447","v":-1E-3},{"$f":"IF(NOT(OR(F1051>0,G1051>0)),\"\",IF(HandicapPlay=\"x\",IF(F1051>G1051,10,-10),(IF((F1051-G1051>0),(VLOOKUP(OFFSET(H1051,-10,0),(TABLE!WIN),(MATCH(E1051,WINCOL,0)+1))),(VLOOKUP(OFFSET(H1051,-10,0),(TABLE!LOSE),(MATCH(E1051,LOSECOL,0)+1)))))))","v":""}]
[null,{"$f":"SCORECARD!C448","v":" Block 2 Player 10"},null,null,{"$f":"SCORECARD!F448","v":0},{"$f":"SCORECARD!G448","v":-1E-3},{"$f":"SCORECARD!H448","v":-1E-3},{"$f":"IF(NOT(OR(F1052>0,G1052>0)),\"\",IF(HandicapPlay=\"x\",IF(F1052>G1052,10,-10),(IF((F1052-G1052>0),(VLOOKUP(OFFSET(H1052,-11,0),(TABLE!WIN),(MATCH(E1052,WINCOL,0)+1))),(VLOOKUP(OFFSET(H1052,-11,0),(TABLE!LOSE),(MATCH(E1052,LOSECOL,0)+1)))))))","v":""}]
[null,{"$f":"SCORECARD!C449","v":" Block 2 Player 11"},null,null,{"$f":"SCORECARD!F449","v":0},{"$f":"SCORECARD!G449","v":-1E-3},{"$f":"SCORECARD!H449","v":-1E-3},{"$f":"IF(NOT(OR(F1053>0,G1053>0)),\"\",IF(HandicapPlay=\"x\",IF(F1053>G1053,10,-10),(IF((F1053-G1053>0),(VLOOKUP(OFFSET(H1053,-12,0),(TABLE!WIN),(MATCH(E1053,WINCOL,0)+1))),(VLOOKUP(OFFSET(H1053,-12,0),(TABLE!LOSE),(MATCH(E1053,LOSECOL,0)+1)))))))","v":""}]
[null,{"$f":"SCORECARD!C450","v":" Block 2 Player 12"},null,null,{"$f":"SCORECARD!F450","v":0},{"$f":"SCORECARD!G450","v":-1E-3},{"$f":"SCORECARD!H450","v":-1E-3},{"$f":"IF(NOT(OR(F1054>0,G1054>0)),\"\",IF(HandicapPlay=\"x\",IF(F1054>G1054,10,-10),(IF((F1054-G1054>0),(VLOOKUP(OFFSET(H1054,-13,0),(TABLE!WIN),(MATCH(E1054,WINCOL,0)+1))),(VLOOKUP(OFFSET(H1054,-13,0),(TABLE!LOSE),(MATCH(E1054,LOSECOL,0)+1)))))))","v":""}]
[]
[]
[]
[]
[]
[]
[null,null,null,null,null,null,"Handicap adjustment points total   ",{"$f":"SUM(H1044:H1054)","v":0}]
[]
[]
[]
[]
[]
[]
[]
[{"$f":"note1","v":"Time limit 2.5 hours, Turn After Bell (61.1.6). Quadway hoops (3 11/16\"), Dawson International balls"}]
[{"$f":"note2","v":"Games may start early. Please be at the venue at least 30 minutes earlier than the scheduled start time."}]
[{"$f":"note3","v":"Entry Fee $40 will be invoiced by email. Please pay by EFT using the invoice No. as reference."}]
[{"$f":"note4","v":"Players please assist with setting and clearing courts."}]
[null,null,null,null,{"$f":"BLOCK!AD48","v":" Block 2 Player 10"}]
[null,null,null,null,{"$f":"BLOCK!L44","v":"Tournament"}]
[null,null,null,null,{"$f":"BLOCK!L46","v":"Group"}]
[null,null,null,null,{"$f":"BLOCK!B48","v":"BLOCK 2"}]
[]
[null,null,null,null,"BLOCK PLAY SCHEDULE"]
[null,"TIME","DAY","COURT",null,"OPPONENT",null,"Handicap","PS","OS"]
[null,{"$f":"GAMES!B76","v":"00:00:00"},{"$f":"GAMES!C76","v":"00:00:00"},{"$f":"GAMES!D76","v":0},null,{"$f":"GAMES!$G$76","v":" Block 2 Player 7"},null,{"$f":"$E$1101","v":0},{"$f":"$F$1101","v":-1E-3},{"$f":"$G$1101","v":-1E-3}]
[null,{"$f":"GAMES!B83","v":"00:00:00"},{"$f":"GAMES!C83","v":"00:00:00"},{"$f":"GAMES!D83","v":0},null,{"$f":"GAMES!$G$83","v":" Block 2 Player 9"},null,{"$f":"$E$1103","v":0},{"$f":"$F$1103","v":-1E-3},{"$f":"$G$1103","v":-1E-3}]
[null,{"$f":"GAMES!B89","v":"00:00:00"},{"$f":"GAMES!C89","v":"00:00:00"},{"$f":"GAMES!D89","v":0},null,{"$f":"GAMES!$E$89","v":" Block 2 Player 11"},null,{"$f":"$E$1104","v":0},{"$f":"$F$1104","v":-1E-3},{"$f":"$G$1104","v":-1E-3}]
[null,{"$f":"GAMES!B94","v":"00:00:00"},{"$f":"GAMES!C94","v":"00:00:00"},{"$f":"GAMES!D94","v":0},null,{"$f":"GAMES!$E$94","v":" Block 2 Player 2"},null,{"$f":"$E$1096","v":0},{"$f":"$F$1096","v":-1E-3},{"$f":"$G$1096","v":-1E-3}]
[null,{"$f":"GAMES!B99","v":"00:00:00"},{"$f":"GAMES!C99","v":"00:00:00"},{"$f":"GAMES!D99","v":0},null,{"$f":"GAMES!$E$99","v":" Block 2 Player 4"},null,{"$f":"$E$1098","v":0},{"$f":"$F$1098","v":-1E-3},{"$f":"$G$1098","v":-1E-3}]
[null,{"$f":"GAMES!B104","v":"00:00:00"},{"$f":"GAMES!C104","v":"00:00:00"},{"$f":"GAMES!D104","v":0},null,{"$f":"GAMES!$E$104","v":" Block 2 Player 6"},null,{"$f":"$E$1100","v":0},{"$f":"$F$1100","v":-1E-3},{"$f":"$G$1100","v":-1E-3}]
[null,{"$f":"GAMES!B109","v":"00:00:00"},{"$f":"GAMES!C109","v":"00:00:00"},{"$f":"GAMES!D109","v":0},null,{"$f":"GAMES!$E$109","v":" Block 2 Player 8"},null,{"$f":"$E$1102","v":0},{"$f":"$F$1102","v":-1E-3},{"$f":"$G$1102","v":-1E-3}]
[null,{"$f":"GAMES!B114","v":"00:00:00"},{"$f":"GAMES!C114","v":"00:00:00"},{"$f":"GAMES!D114","v":0},null,{"$f":"GAMES!$E$114","v":" Block 2 Player 1"},null,{"$f":"$E$1095","v":0},{"$f":"$F$1095","v":-1E-3},{"$f":"$G$1095","v":-1E-3}]
[null,{"$f":"GAMES!B121","v":"00:00:00"},{"$f":"GAMES!C121","v":"00:00:00"},{"$f":"GAMES!D121","v":0},null,{"$f":"GAMES!$G$121","v":" Block 2 Player 12"},null,{"$f":"$E$1105","v":0},{"$f":"$F$1105","v":-1E-3},{"$f":"$G$1105","v":-1E-3}]
[null,{"$f":"GAMES!B128","v":"00:00:00"},{"$f":"GAMES!C128","v":"00:00:00"},{"$f":"GAMES!D128","v":0},null,{"$f":"GAMES!$G$128","v":" Block 2 Player 3"},null,{"$f":"$E$1097","v":0},{"$f":"$F$1097","v":-1E-3},{"$f":"$G$1097","v":-1E-3}]
[null,{"$f":"GAMES!B135","v":"00:00:00"},{"$f":"GAMES!C135","v":"00:00:00"},{"$f":"GAMES!D135","v":0},null,{"$f":"GAMES!$G$135","v":" Block 2 Player 5"},null,{"$f":"$E$1099","v":0},{"$f":"$F$1099","v":-1E-3},{"$f":"$G$1099","v":-1E-3}]
[]
[null,"PLAYER:",{"$f":"BLOCK!AD48","v":" Block 2 Player 10"},null,null,null,"HANDICAP",{"$f":"BLOCK!B78","v":0}]
[null,null,null,null,"OPP","PLAYER","OPP","H/CAP"]
[null,null,"OPPONENT",null,"HCP","SCORE","SCORE","PTS"]
[null,{"$f":"SCORECARD!C460","v":" Block 2 Player 1"},null,null,{"$f":"SCORECARD!F460","v":0},{"$f":"SCORECARD!G460","v":-1E-3},{"$f":"SCORECARD!H460","v":-1E-3},{"$f":"IF(NOT(OR(F1095>0,G1095>0)),\"\",IF(HandicapPlay=\"x\",IF(F1095>G1095,10,-10),(IF((F1095-G1095>0),(VLOOKUP(OFFSET(H1095,-3,0),(TABLE!WIN),(MATCH(E1095,WINCOL,0)+1))),(VLOOKUP(OFFSET(H1095,-3,0),(TABLE!LOSE),(MATCH(E1095,LOSECOL,0)+1)))))))","v":""}]
[null,{"$f":"SCORECARD!C461","v":" Block 2 Player 2"},null,null,{"$f":"SCORECARD!F461","v":0},{"$f":"SCORECARD!G461","v":-1E-3},{"$f":"SCORECARD!H461","v":-1E-3},{"$f":"IF(NOT(OR(F1096>0,G1096>0)),\"\",IF(HandicapPlay=\"x\",IF(F1096>G1096,10,-10),(IF((F1096-G1096>0),(VLOOKUP(OFFSET(H1096,-4,0),(TABLE!WIN),(MATCH(E1096,WINCOL,0)+1))),(VLOOKUP(OFFSET(H1096,-4,0),(TABLE!LOSE),(MATCH(E1096,LOSECOL,0)+1)))))))","v":""}]
[null,{"$f":"SCORECARD!C462","v":" Block 2 Player 3"},null,null,{"$f":"SCORECARD!F462","v":0},{"$f":"SCORECARD!G462","v":-1E-3},{"$f":"SCORECARD!H462","v":-1E-3},{"$f":"IF(NOT(OR(F1097>0,G1097>0)),\"\",IF(HandicapPlay=\"x\",IF(F1097>G1097,10,-10),(IF((F1097-G1097>0),(VLOOKUP(OFFSET(H1097,-5,0),(TABLE!WIN),(MATCH(E1097,WINCOL,0)+1))),(VLOOKUP(OFFSET(H1097,-5,0),(TABLE!LOSE),(MATCH(E1097,LOSECOL,0)+1)))))))","v":""}]
[null,{"$f":"SCORECARD!C463","v":" Block 2 Player 4"},null,null,{"$f":"SCORECARD!F463","v":0},{"$f":"SCORECARD!G463","v":-1E-3},{"$f":"SCORECARD!H463","v":-1E-3},{"$f":"IF(NOT(OR(F1098>0,G1098>0)),\"\",IF(HandicapPlay=\"x\",IF(F1098>G1098,10,-10),(IF((F1098-G1098>0),(VLOOKUP(OFFSET(H1098,-6,0),(TABLE!WIN),(MATCH(E1098,WINCOL,0)+1))),(VLOOKUP(OFFSET(H1098,-6,0),(TABLE!LOSE),(MATCH(E1098,LOSECOL,0)+1)))))))","v":""}]
[null,{"$f":"SCORECARD!C464","v":" Block 2 Player 5"},null,null,{"$f":"SCORECARD!F464","v":0},{"$f":"SCORECARD!G464","v":-1E-3},{"$f":"SCORECARD!H464","v":-1E-3},{"$f":"IF(NOT(OR(F1099>0,G1099>0)),\"\",IF(HandicapPlay=\"x\",IF(F1099>G1099,10,-10),(IF((F1099-G1099>0),(VLOOKUP(OFFSET(H1099,-7,0),(TABLE!WIN),(MATCH(E1099,WINCOL,0)+1))),(VLOOKUP(OFFSET(H1099,-7,0),(TABLE!LOSE),(MATCH(E1099,LOSECOL,0)+1)))))))","v":""}]
[null,{"$f":"SCORECARD!C465","v":" Block 2 Player 6"},null,null,{"$f":"SCORECARD!F465","v":0},{"$f":"SCORECARD!G465","v":-1E-3},{"$f":"SCORECARD!H465","v":-1E-3},{"$f":"IF(NOT(OR(F1100>0,G1100>0)),\"\",IF(HandicapPlay=\"x\",IF(F1100>G1100,10,-10),(IF((F1100-G1100>0),(VLOOKUP(OFFSET(H1100,-8,0),(TABLE!WIN),(MATCH(E1100,WINCOL,0)+1))),(VLOOKUP(OFFSET(H1100,-8,0),(TABLE!LOSE),(MATCH(E1100,LOSECOL,0)+1)))))))","v":""}]
[null,{"$f":"SCORECARD!C466","v":" Block 2 Player 7"},null,null,{"$f":"SCORECARD!F466","v":0},{"$f":"SCORECARD!G466","v":-1E-3},{"$f":"SCORECARD!H466","v":-1E-3},{"$f":"IF(NOT(OR(F1101>0,G1101>0)),\"\",IF(HandicapPlay=\"x\",IF(F1101>G1101,10,-10),(IF((F1101-G1101>0),(VLOOKUP(OFFSET(H1101,-9,0),(TABLE!WIN),(MATCH(E1101,WINCOL,0)+1))),(VLOOKUP(OFFSET(H1101,-9,0),(TABLE!LOSE),(MATCH(E1101,LOSECOL,0)+1)))))))","v":""}]
[null,{"$f":"SCORECARD!C467","v":" Block 2 Player 8"},null,null,{"$f":"SCORECARD!F467","v":0},{"$f":"SCORECARD!G467","v":-1E-3},{"$f":"SCORECARD!H467","v":-1E-3},{"$f":"IF(NOT(OR(F1102>0,G1102>0)),\"\",IF(HandicapPlay=\"x\",IF(F1102>G1102,10,-10),(IF((F1102-G1102>0),(VLOOKUP(OFFSET(H1102,-10,0),(TABLE!WIN),(MATCH(E1102,WINCOL,0)+1))),(VLOOKUP(OFFSET(H1102,-10,0),(TABLE!LOSE),(MATCH(E1102,LOSECOL,0)+1)))))))","v":""}]
[null,{"$f":"SCORECARD!C468","v":" Block 2 Player 9"},null,null,{"$f":"SCORECARD!F468","v":0},{"$f":"SCORECARD!G468","v":-1E-3},{"$f":"SCORECARD!H468","v":-1E-3},{"$f":"IF(NOT(OR(F1103>0,G1103>0)),\"\",IF(HandicapPlay=\"x\",IF(F1103>G1103,10,-10),(IF((F1103-G1103>0),(VLOOKUP(OFFSET(H1103,-11,0),(TABLE!WIN),(MATCH(E1103,WINCOL,0)+1))),(VLOOKUP(OFFSET(H1103,-11,0),(TABLE!LOSE),(MATCH(E1103,LOSECOL,0)+1)))))))","v":""}]
[null,{"$f":"SCORECARD!C469","v":" Block 2 Player 11"},null,null,{"$f":"SCORECARD!F469","v":0},{"$f":"SCORECARD!G469","v":-1E-3},{"$f":"SCORECARD!H469","v":-1E-3},{"$f":"IF(NOT(OR(F1104>0,G1104>0)),\"\",IF(HandicapPlay=\"x\",IF(F1104>G1104,10,-10),(IF((F1104-G1104>0),(VLOOKUP(OFFSET(H1104,-12,0),(TABLE!WIN),(MATCH(E1104,WINCOL,0)+1))),(VLOOKUP(OFFSET(H1104,-12,0),(TABLE!LOSE),(MATCH(E1104,LOSECOL,0)+1)))))))","v":""}]
[null,{"$f":"SCORECARD!C470","v":" Block 2 Player 12"},null,null,{"$f":"SCORECARD!F470","v":0},{"$f":"SCORECARD!G470","v":-1E-3},{"$f":"SCORECARD!H470","v":-1E-3},{"$f":"IF(NOT(OR(F1105>0,G1105>0)),\"\",IF(HandicapPlay=\"x\",IF(F1105>G1105,10,-10),(IF((F1105-G1105>0),(VLOOKUP(OFFSET(H1105,-13,0),(TABLE!WIN),(MATCH(E1105,WINCOL,0)+1))),(VLOOKUP(OFFSET(H1105,-13,0),(TABLE!LOSE),(MATCH(E1105,LOSECOL,0)+1)))))))","v":""}]
[]
[]
[]
[]
[]
[]
[null,null,null,null,null,null,"Handicap adjustment points total   ",{"$f":"SUM(H1095:H1105)","v":0}]
[]
[]
[]
[]
[]
[]
[]
[{"$f":"note1","v":"Time limit 2.5 hours, Turn After Bell (61.1.6). Quadway hoops (3 11/16\"), Dawson International balls"}]
[{"$f":"note2","v":"Games may start early. Please be at the venue at least 30 minutes earlier than the scheduled start time."}]
[{"$f":"note3","v":"Entry Fee $40 will be invoiced by email. Please pay by EFT using the invoice No. as reference."}]
[{"$f":"note4","v":"Players please assist with setting and clearing courts."}]
[null,null,null,null,{"$f":"BLOCK!$AG$48","v":" Block 2 Player 11"}]
[null,null,null,null,{"$f":"BLOCK!L44","v":"Tournament"}]
[null,null,null,null,{"$f":"BLOCK!L46","v":"Group"}]
[null,null,null,null,{"$f":"BLOCK!B48","v":"BLOCK 2"}]
[]
[null,null,null,null,"BLOCK PLAY SCHEDULE"]
[null,"TIME","DAY","COURT",null,"OPPONENT",null,"Handicap","PS","OS"]
[null,{"$f":"GAMES!B75","v":"00:00:00"},{"$f":"GAMES!C75","v":"00:00:00"},{"$f":"GAMES!D75","v":0},null,{"$f":"GAMES!$G$75","v":" Block 2 Player 6"},null,{"$f":"$E$1151","v":0},{"$f":"$F$1151","v":-1E-3},{"$f":"$G$1151","v":-1E-3}]
[null,{"$f":"GAMES!B82","v":"00:00:00"},{"$f":"GAMES!C82","v":"00:00:00"},{"$f":"GAMES!D82","v":0},null,{"$f":"GAMES!$G$82","v":" Block 2 Player 8"},null,{"$f":"$E$1153","v":0},{"$f":"$F$1153","v":-1E-3},{"$f":"$G$1153","v":-1E-3}]
[null,{"$f":"GAMES!B89","v":"00:00:00"},{"$f":"GAMES!C89","v":"00:00:00"},{"$f":"GAMES!D89","v":0},null,{"$f":"GAMES!$G$89","v":" Block 2 Player 10"},null,{"$f":"$E$1155","v":0},{"$f":"$F$1155","v":-1E-3},{"$f":"$G$1155","v":-1E-3}]
[null,{"$f":"GAMES!B95","v":"00:00:00"},{"$f":"GAMES!C95","v":"00:00:00"},{"$f":"GAMES!D95","v":0},null,{"$f":"GAMES!$E$95","v":" Block 2 Player 12"},null,{"$f":"$E$1156","v":0},{"$f":"$F$1156","v":-1E-3},{"$f":"$G$1156","v":-1E-3}]
[null,{"$f":"GAMES!B100","v":"00:00:00"},{"$f":"GAMES!C100","v":"00:00:00"},{"$f":"GAMES!D100","v":0},null,{"$f":"GAMES!$E$100","v":" Block 2 Player 3"},null,{"$f":"$E$1148","v":0},{"$f":"$F$1148","v":-1E-3},{"$f":"$G$1148","v":-1E-3}]
[null,{"$f":"GAMES!B105","v":"00:00:00"},{"$f":"GAMES!C105","v":"00:00:00"},{"$f":"GAMES!D105","v":0},null,{"$f":"GAMES!$E$105","v":" Block 2 Player 5"},null,{"$f":"$E$1150","v":0},{"$f":"$F$1150","v":-1E-3},{"$f":"$G$1150","v":-1E-3}]
[null,{"$f":"GAMES!B110","v":"00:00:00"},{"$f":"GAMES!C110","v":"00:00:00"},{"$f":"GAMES!D110","v":0},null,{"$f":"GAMES!$E$110","v":" Block 2 Player 7"},null,{"$f":"$E$1152","v":0},{"$f":"$F$1152","v":-1E-3},{"$f":"$G$1152","v":-1E-3}]
[null,{"$f":"GAMES!B115","v":"00:00:00"},{"$f":"GAMES!C115","v":"00:00:00"},{"$f":"GAMES!D115","v":0},null,{"$f":"GAMES!$E$115","v":" Block 2 Player 9"},null,{"$f":"$E$1154","v":0},{"$f":"$F$1154","v":-1E-3},{"$f":"$G$1154","v":-1E-3}]
[null,{"$f":"GAMES!B120","v":"00:00:00"},{"$f":"GAMES!C120","v":"00:00:00"},{"$f":"GAMES!D120","v":0},null,{"$f":"GAMES!$E$120","v":" Block 2 Player 1"},null,{"$f":"$E$1146","v":0},{"$f":"$F$1146","v":-1E-3},{"$f":"$G$1146","v":-1E-3}]
[null,{"$f":"GAMES!B127","v":"00:00:00"},{"$f":"GAMES!C127","v":"00:00:00"},{"$f":"GAMES!D127","v":0},null,{"$f":"GAMES!$G$127","v":" Block 2 Player 2"},null,{"$f":"$E$1147","v":0},{"$f":"$F$1147","v":-1E-3},{"$f":"$G$1147","v":-1E-3}]
[null,{"$f":"GAMES!B134","v":"00:00:00"},{"$f":"GAMES!C134","v":"00:00:00"},{"$f":"GAMES!D134","v":0},null,{"$f":"GAMES!$G$134","v":" Block 2 Player 4"},null,{"$f":"$E$1149","v":0},{"$f":"$F$1149","v":-1E-3},{"$f":"$G$1149","v":-1E-3}]
[]
[null,"PLAYER:",{"$f":"BLOCK!$AG$48","v":" Block 2 Player 11"},null,null,null,"HANDICAP",{"$f":"BLOCK!$B$81","v":0}]
[null,null,null,null,"OPP","PLAYER","OPP","H/CAP"]
[null,null,"OPPONENT",null,"HCP","SCORE","SCORE","PTS"]
[null,{"$f":"SCORECARD!C483","v":" Block 2 Player 1"},null,null,{"$f":"SCORECARD!F483","v":0},{"$f":"SCORECARD!G483","v":-1E-3},{"$f":"SCORECARD!H483","v":-1E-3},{"$f":"IF(NOT(OR(F1146>0,G1146>0)),\"\",IF(HandicapPlay=\"x\",IF(F1146>G1146,10,-10),(IF((F1146-G1146>0),(VLOOKUP(OFFSET(H1146,-3,0),(TABLE!WIN),(MATCH(E1146,WINCOL,0)+1))),(VLOOKUP(OFFSET(H1146,-3,0),(TABLE!LOSE),(MATCH(E1146,LOSECOL,0)+1)))))))","v":""}]
[null,{"$f":"SCORECARD!C484","v":" Block 2 Player 2"},null,null,{"$f":"SCORECARD!F484","v":0},{"$f":"SCORECARD!G484","v":-1E-3},{"$f":"SCORECARD!H484","v":-1E-3},{"$f":"IF(NOT(OR(F1147>0,G1147>0)),\"\",IF(HandicapPlay=\"x\",IF(F1147>G1147,10,-10),(IF((F1147-G1147>0),(VLOOKUP(OFFSET(H1147,-4,0),(TABLE!WIN),(MATCH(E1147,WINCOL,0)+1))),(VLOOKUP(OFFSET(H1147,-4,0),(TABLE!LOSE),(MATCH(E1147,LOSECOL,0)+1)))))))","v":""}]
[null,{"$f":"SCORECARD!C485","v":" Block 2 Player 3"},null,null,{"$f":"SCORECARD!F485","v":0},{"$f":"SCORECARD!G485","v":-1E-3},{"$f":"SCORECARD!H485","v":-1E-3},{"$f":"IF(NOT(OR(F1148>0,G1148>0)),\"\",IF(HandicapPlay=\"x\",IF(F1148>G1148,10,-10),(IF((F1148-G1148>0),(VLOOKUP(OFFSET(H1148,-5,0),(TABLE!WIN),(MATCH(E1148,WINCOL,0)+1))),(VLOOKUP(OFFSET(H1148,-5,0),(TABLE!LOSE),(MATCH(E1148,LOSECOL,0)+1)))))))","v":""}]
[null,{"$f":"SCORECARD!C486","v":" Block 2 Player 4"},null,null,{"$f":"SCORECARD!F486","v":0},{"$f":"SCORECARD!G486","v":-1E-3},{"$f":"SCORECARD!H486","v":-1E-3},{"$f":"IF(NOT(OR(F1149>0,G1149>0)),\"\",IF(HandicapPlay=\"x\",IF(F1149>G1149,10,-10),(IF((F1149-G1149>0),(VLOOKUP(OFFSET(H1149,-6,0),(TABLE!WIN),(MATCH(E1149,WINCOL,0)+1))),(VLOOKUP(OFFSET(H1149,-6,0),(TABLE!LOSE),(MATCH(E1149,LOSECOL,0)+1)))))))","v":""}]
[null,{"$f":"SCORECARD!C487","v":" Block 2 Player 5"},null,null,{"$f":"SCORECARD!F487","v":0},{"$f":"SCORECARD!G487","v":-1E-3},{"$f":"SCORECARD!H487","v":-1E-3},{"$f":"IF(NOT(OR(F1150>0,G1150>0)),\"\",IF(HandicapPlay=\"x\",IF(F1150>G1150,10,-10),(IF((F1150-G1150>0),(VLOOKUP(OFFSET(H1150,-7,0),(TABLE!WIN),(MATCH(E1150,WINCOL,0)+1))),(VLOOKUP(OFFSET(H1150,-7,0),(TABLE!LOSE),(MATCH(E1150,LOSECOL,0)+1)))))))","v":""}]
[null,{"$f":"SCORECARD!C488","v":" Block 2 Player 6"},null,null,{"$f":"SCORECARD!F488","v":0},{"$f":"SCORECARD!G488","v":-1E-3},{"$f":"SCORECARD!H488","v":-1E-3},{"$f":"IF(NOT(OR(F1151>0,G1151>0)),\"\",IF(HandicapPlay=\"x\",IF(F1151>G1151,10,-10),(IF((F1151-G1151>0),(VLOOKUP(OFFSET(H1151,-8,0),(TABLE!WIN),(MATCH(E1151,WINCOL,0)+1))),(VLOOKUP(OFFSET(H1151,-8,0),(TABLE!LOSE),(MATCH(E1151,LOSECOL,0)+1)))))))","v":""}]
[null,{"$f":"SCORECARD!C489","v":" Block 2 Player 7"},null,null,{"$f":"SCORECARD!F489","v":0},{"$f":"SCORECARD!G489","v":-1E-3},{"$f":"SCORECARD!H489","v":-1E-3},{"$f":"IF(NOT(OR(F1152>0,G1152>0)),\"\",IF(HandicapPlay=\"x\",IF(F1152>G1152,10,-10),(IF((F1152-G1152>0),(VLOOKUP(OFFSET(H1152,-9,0),(TABLE!WIN),(MATCH(E1152,WINCOL,0)+1))),(VLOOKUP(OFFSET(H1152,-9,0),(TABLE!LOSE),(MATCH(E1152,LOSECOL,0)+1)))))))","v":""}]
[null,{"$f":"SCORECARD!C490","v":" Block 2 Player 8"},null,null,{"$f":"SCORECARD!F490","v":0},{"$f":"SCORECARD!G490","v":-1E-3},{"$f":"SCORECARD!H490","v":-1E-3},{"$f":"IF(NOT(OR(F1153>0,G1153>0)),\"\",IF(HandicapPlay=\"x\",IF(F1153>G1153,10,-10),(IF((F1153-G1153>0),(VLOOKUP(OFFSET(H1153,-10,0),(TABLE!WIN),(MATCH(E1153,WINCOL,0)+1))),(VLOOKUP(OFFSET(H1153,-10,0),(TABLE!LOSE),(MATCH(E1153,LOSECOL,0)+1)))))))","v":""}]
[null,{"$f":"SCORECARD!C491","v":" Block 2 Player 9"},null,null,{"$f":"SCORECARD!F491","v":0},{"$f":"SCORECARD!G491","v":-1E-3},{"$f":"SCORECARD!H491","v":-1E-3},{"$f":"IF(NOT(OR(F1154>0,G1154>0)),\"\",IF(HandicapPlay=\"x\",IF(F1154>G1154,10,-10),(IF((F1154-G1154>0),(VLOOKUP(OFFSET(H1154,-11,0),(TABLE!WIN),(MATCH(E1154,WINCOL,0)+1))),(VLOOKUP(OFFSET(H1154,-11,0),(TABLE!LOSE),(MATCH(E1154,LOSECOL,0)+1)))))))","v":""}]
[null,{"$f":"SCORECARD!C492","v":" Block 2 Player 10"},null,null,{"$f":"SCORECARD!F492","v":0},{"$f":"SCORECARD!G492","v":-1E-3},{"$f":"SCORECARD!H492","v":-1E-3},{"$f":"IF(NOT(OR(F1155>0,G1155>0)),\"\",IF(HandicapPlay=\"x\",IF(F1155>G1155,10,-10),(IF((F1155-G1155>0),(VLOOKUP(OFFSET(H1155,-12,0),(TABLE!WIN),(MATCH(E1155,WINCOL,0)+1))),(VLOOKUP(OFFSET(H1155,-12,0),(TABLE!LOSE),(MATCH(E1155,LOSECOL,0)+1)))))))","v":""}]
[null,{"$f":"SCORECARD!C493","v":" Block 2 Player 12"},null,null,{"$f":"SCORECARD!F493","v":0},{"$f":"SCORECARD!G493","v":-1E-3},{"$f":"SCORECARD!H493","v":-1E-3},{"$f":"IF(NOT(OR(F1156>0,G1156>0)),\"\",IF(HandicapPlay=\"x\",IF(F1156>G1156,10,-10),(IF((F1156-G1156>0),(VLOOKUP(OFFSET(H1156,-13,0),(TABLE!WIN),(MATCH(E1156,WINCOL,0)+1))),(VLOOKUP(OFFSET(H1156,-13,0),(TABLE!LOSE),(MATCH(E1156,LOSECOL,0)+1)))))))","v":""}]
[]
[]
[]
[]
[]
[]
[null,null,null,null,null,null,"Handicap adjustment points total   ",{"$f":"SUM(H1146:H1156)","v":0}]
[]
[]
[]
[]
[]
[]
[]
[{"$f":"note1","v":"Time limit 2.5 hours, Turn After Bell (61.1.6). Quadway hoops (3 11/16\"), Dawson International balls"}]
[{"$f":"note2","v":"Games may start early. Please be at the venue at least 30 minutes earlier than the scheduled start time."}]
[{"$f":"note3","v":"Entry Fee $40 will be invoiced by email. Please pay by EFT using the invoice No. as reference."}]
[{"$f":"note4","v":"Players please assist with setting and clearing courts."}]
[null,null,null,null,{"$f":"BLOCK!$AJ$48","v":" Block 2 Player 12"}]
[null,null,null,null,{"$f":"BLOCK!L44","v":"Tournament"}]
[null,null,null,null,{"$f":"BLOCK!L46","v":"Group"}]
[null,null,null,null,{"$f":"BLOCK!B48","v":"BLOCK 2"}]
[]
[null,null,null,null,"BLOCK PLAY SCHEDULE"]
[null,"TIME","DAY","COURT",null,"OPPONENT",null,"Handicap","PS","OS"]
[null,{"$f":"GAMES!B74","v":"00:00:00"},{"$f":"GAMES!C74","v":"00:00:00"},{"$f":"GAMES!D74","v":0},null,{"$f":"GAMES!$G$74","v":" Block 2 Player 5"},null,{"$f":"$E$1200","v":0},{"$f":"$F$1200","v":-1E-3},{"$f":"$G$1200","v":-1E-3}]
[null,{"$f":"GAMES!B81","v":"00:00:00"},{"$f":"GAMES!C81","v":"00:00:00"},{"$f":"GAMES!D81","v":0},null,{"$f":"GAMES!$G$81","v":" Block 2 Player 7"},null,{"$f":"$E$1202","v":0},{"$f":"$F$1202","v":-1E-3},{"$f":"$G$1202","v":-1E-3}]
[null,{"$f":"GAMES!B88","v":"00:00:00"},{"$f":"GAMES!C88","v":"00:00:00"},{"$f":"GAMES!D88","v":0},null,{"$f":"GAMES!$G$88","v":" Block 2 Player 9"},null,{"$f":"$E$1204","v":0},{"$f":"$F$1204","v":-1E-3},{"$f":"$G$1204","v":-1E-3}]
[null,{"$f":"GAMES!B95","v":"00:00:00"},{"$f":"GAMES!C95","v":"00:00:00"},{"$f":"GAMES!D95","v":0},null,{"$f":"GAMES!$G$95","v":" Block 2 Player 11"},null,{"$f":"$E$1207","v":0},{"$f":"$F$1207","v":-1E-3},{"$f":"$G$1207","v":-1E-3}]
[null,{"$f":"GAMES!B101","v":"00:00:00"},{"$f":"GAMES!C101","v":"00:00:00"},{"$f":"GAMES!D101","v":0},null,{"$f":"GAMES!$E$101","v":" Block 2 Player 2"},null,{"$f":"$E$1198","v":0},{"$f":"$F$1198","v":-1E-3},{"$f":"$G$1198","v":-1E-3}]
[null,{"$f":"GAMES!B106","v":"00:00:00"},{"$f":"GAMES!C106","v":"00:00:00"},{"$f":"GAMES!D106","v":0},null,{"$f":"GAMES!$E$106","v":" Block 2 Player 4"},null,{"$f":"$E$1199","v":0},{"$f":"$F$1199","v":-1E-3},{"$f":"$G$1199","v":-1E-3}]
[null,{"$f":"GAMES!B111","v":"00:00:00"},{"$f":"GAMES!C111","v":"00:00:00"},{"$f":"GAMES!D111","v":0},null,{"$f":"GAMES!$E$111","v":" Block 2 Player 6"},null,{"$f":"$E$1201","v":0},{"$f":"$F$1201","v":-1E-3},{"$f":"$G$1201","v":-1E-3}]
[null,{"$f":"GAMES!B116","v":"00:00:00"},{"$f":"GAMES!C116","v":"00:00:00"},{"$f":"GAMES!D116","v":0},null,{"$f":"GAMES!$E$116","v":" Block 2 Player 8"},null,{"$f":"$E$1203","v":0},{"$f":"$F$1203","v":-1E-3},{"$f":"$G$1203","v":-1E-3}]
[null,{"$f":"GAMES!B121","v":"00:00:00"},{"$f":"GAMES!C121","v":"00:00:00"},{"$f":"GAMES!D121","v":0},null,{"$f":"GAMES!$E$121","v":" Block 2 Player 10"},null,{"$f":"$E$1206","v":0},{"$f":"$F$1206","v":-1E-3},{"$f":"$G$1206","v":-1E-3}]
[null,{"$f":"GAMES!B126","v":"00:00:00"},{"$f":"GAMES!C126","v":"00:00:00"},{"$f":"GAMES!D126","v":0},null,{"$f":"GAMES!$E$126","v":" Block 2 Player 1"},null,{"$f":"$E$1197","v":0},{"$f":"$F$1197","v":-1E-3},{"$f":"$G$1197","v":-1E-3}]
[null,{"$f":"GAMES!B133","v":"00:00:00"},{"$f":"GAMES!C133","v":"00:00:00"},{"$f":"GAMES!D133","v":0},null,{"$f":"GAMES!$G$133","v":" Block 2 Player 3"},null,{"$f":"$E$1205","v":0},{"$f":"$F$1205","v":-1E-3},{"$f":"$G$1205","v":-1E-3}]
[]
[null,"PLAYER:",{"$f":"BLOCK!$AJ$48","v":" Block 2 Player 12"},null,null,null,"HANDICAP",{"$f":"BLOCK!$B$84","v":0}]
[null,null,null,null,"OPP","PLAYER","OPP","H/CAP"]
[null,null,"OPPONENT",null,"HCP","SCORE","SCORE","PTS"]
[null,{"$f":"SCORECARD!C503","v":" Block 2 Player 1"},null,null,{"$f":"SCORECARD!F503","v":0},{"$f":"SCORECARD!G503","v":-1E-3},{"$f":"SCORECARD!H503","v":-1E-3},{"$f":"IF(NOT(OR(F1197>0,G1197>0)),\"\",IF(HandicapPlay=\"x\",IF(F1197>G1197,10,-10),(IF((F1197-G1197>0),(VLOOKUP(OFFSET(H1197,-3,0),(TABLE!WIN),(MATCH(E1197,WINCOL,0)+1))),(VLOOKUP(OFFSET(H1197,-3,0),(TABLE!LOSE),(MATCH(E1197,LOSECOL,0)+1)))))))","v":""}]
[null,{"$f":"SCORECARD!C504","v":" Block 2 Player 2"},null,null,{"$f":"SCORECARD!F504","v":0},{"$f":"SCORECARD!G504","v":-1E-3},{"$f":"SCORECARD!H504","v":-1E-3},{"$f":"IF(NOT(OR(F1198>0,G1198>0)),\"\",IF(HandicapPlay=\"x\",IF(F1198>G1198,10,-10),(IF((F1198-G1198>0),(VLOOKUP(OFFSET(H1198,-4,0),(TABLE!WIN),(MATCH(E1198,WINCOL,0)+1))),(VLOOKUP(OFFSET(H1198,-4,0),(TABLE!LOSE),(MATCH(E1198,LOSECOL,0)+1)))))))","v":""}]
[null,{"$f":"SCORECARD!C505","v":" Block 2 Player 3"},null,null,{"$f":"SCORECARD!F505","v":0},{"$f":"SCORECARD!G505","v":-1E-3},{"$f":"SCORECARD!H505","v":-1E-3},{"$f":"IF(NOT(OR(F1199>0,G1199>0)),\"\",IF(HandicapPlay=\"x\",IF(F1199>G1199,10,-10),(IF((F1199-G1199>0),(VLOOKUP(OFFSET(H1199,-5,0),(TABLE!WIN),(MATCH(E1199,WINCOL,0)+1))),(VLOOKUP(OFFSET(H1199,-5,0),(TABLE!LOSE),(MATCH(E1199,LOSECOL,0)+1)))))))","v":""}]
[null,{"$f":"SCORECARD!C506","v":" Block 2 Player 4"},null,null,{"$f":"SCORECARD!F506","v":0},{"$f":"SCORECARD!G506","v":-1E-3},{"$f":"SCORECARD!H506","v":-1E-3},{"$f":"IF(NOT(OR(F1200>0,G1200>0)),\"\",IF(HandicapPlay=\"x\",IF(F1200>G1200,10,-10),(IF((F1200-G1200>0),(VLOOKUP(OFFSET(H1200,-6,0),(TABLE!WIN),(MATCH(E1200,WINCOL,0)+1))),(VLOOKUP(OFFSET(H1200,-6,0),(TABLE!LOSE),(MATCH(E1200,LOSECOL,0)+1)))))))","v":""}]
[null,{"$f":"SCORECARD!C507","v":" Block 2 Player 5"},null,null,{"$f":"SCORECARD!F507","v":0},{"$f":"SCORECARD!G507","v":-1E-3},{"$f":"SCORECARD!H507","v":-1E-3},{"$f":"IF(NOT(OR(F1201>0,G1201>0)),\"\",IF(HandicapPlay=\"x\",IF(F1201>G1201,10,-10),(IF((F1201-G1201>0),(VLOOKUP(OFFSET(H1201,-7,0),(TABLE!WIN),(MATCH(E1201,WINCOL,0)+1))),(VLOOKUP(OFFSET(H1201,-7,0),(TABLE!LOSE),(MATCH(E1201,LOSECOL,0)+1)))))))","v":""}]
[null,{"$f":"SCORECARD!C508","v":" Block 2 Player 6"},null,null,{"$f":"SCORECARD!F508","v":0},{"$f":"SCORECARD!G508","v":-1E-3},{"$f":"SCORECARD!H508","v":-1E-3},{"$f":"IF(NOT(OR(F1202>0,G1202>0)),\"\",IF(HandicapPlay=\"x\",IF(F1202>G1202,10,-10),(IF((F1202-G1202>0),(VLOOKUP(OFFSET(H1202,-8,0),(TABLE!WIN),(MATCH(E1202,WINCOL,0)+1))),(VLOOKUP(OFFSET(H1202,-8,0),(TABLE!LOSE),(MATCH(E1202,LOSECOL,0)+1)))))))","v":""}]
[null,{"$f":"SCORECARD!C509","v":" Block 2 Player 7"},null,null,{"$f":"SCORECARD!F509","v":0},{"$f":"SCORECARD!G509","v":-1E-3},{"$f":"SCORECARD!H509","v":-1E-3},{"$f":"IF(NOT(OR(F1203>0,G1203>0)),\"\",IF(HandicapPlay=\"x\",IF(F1203>G1203,10,-10),(IF((F1203-G1203>0),(VLOOKUP(OFFSET(H1203,-9,0),(TABLE!WIN),(MATCH(E1203,WINCOL,0)+1))),(VLOOKUP(OFFSET(H1203,-9,0),(TABLE!LOSE),(MATCH(E1203,LOSECOL,0)+1)))))))","v":""}]
[null,{"$f":"SCORECARD!C510","v":" Block 2 Player 8"},null,null,{"$f":"SCORECARD!F510","v":0},{"$f":"SCORECARD!G510","v":-1E-3},{"$f":"SCORECARD!H510","v":-1E-3},{"$f":"IF(NOT(OR(F1204>0,G1204>0)),\"\",IF(HandicapPlay=\"x\",IF(F1204>G1204,10,-10),(IF((F1204-G1204>0),(VLOOKUP(OFFSET(H1204,-10,0),(TABLE!WIN),(MATCH(E1204,WINCOL,0)+1))),(VLOOKUP(OFFSET(H1204,-10,0),(TABLE!LOSE),(MATCH(E1204,LOSECOL,0)+1)))))))","v":""}]
[null,{"$f":"SCORECARD!C511","v":" Block 2 Player 9"},null,null,{"$f":"SCORECARD!F511","v":0},{"$f":"SCORECARD!G511","v":-1E-3},{"$f":"SCORECARD!H511","v":-1E-3},{"$f":"IF(NOT(OR(F1205>0,G1205>0)),\"\",IF(HandicapPlay=\"x\",IF(F1205>G1205,10,-10),(IF((F1205-G1205>0),(VLOOKUP(OFFSET(H1205,-11,0),(TABLE!WIN),(MATCH(E1205,WINCOL,0)+1))),(VLOOKUP(OFFSET(H1205,-11,0),(TABLE!LOSE),(MATCH(E1205,LOSECOL,0)+1)))))))","v":""}]
[null,{"$f":"SCORECARD!C512","v":" Block 2 Player 10"},null,null,{"$f":"SCORECARD!F512","v":0},{"$f":"SCORECARD!G512","v":-1E-3},{"$f":"SCORECARD!H512","v":-1E-3},{"$f":"IF(NOT(OR(F1206>0,G1206>0)),\"\",IF(HandicapPlay=\"x\",IF(F1206>G1206,10,-10),(IF((F1206-G1206>0),(VLOOKUP(OFFSET(H1206,-12,0),(TABLE!WIN),(MATCH(E1206,WINCOL,0)+1))),(VLOOKUP(OFFSET(H1206,-12,0),(TABLE!LOSE),(MATCH(E1206,LOSECOL,0)+1)))))))","v":""}]
[null,{"$f":"SCORECARD!C513","v":" Block 2 Player 11"},null,null,{"$f":"SCORECARD!F513","v":0},{"$f":"SCORECARD!G513","v":-1E-3},{"$f":"SCORECARD!H513","v":-1E-3},{"$f":"IF(NOT(OR(F1207>0,G1207>0)),\"\",IF(HandicapPlay=\"x\",IF(F1207>G1207,10,-10),(IF((F1207-G1207>0),(VLOOKUP(OFFSET(H1207,-13,0),(TABLE!WIN),(MATCH(E1207,WINCOL,0)+1))),(VLOOKUP(OFFSET(H1207,-13,0),(TABLE!LOSE),(MATCH(E1207,LOSECOL,0)+1)))))))","v":""}]
[]
[]
[]
[]
[]
[]
[null,null,null,null,null,null,"Handicap adjustment points total   ",{"$f":"SUM(H1197:H1207)","v":0}]
[]
[]
[]
[]
[]
[]
[]
[{"$f":"note1","v":"Time limit 2.5 hours, Turn After Bell (61.1.6). Quadway hoops (3 11/16\"), Dawson International balls"}]
[{"$f":"note2","v":"Games may start early. Please be at the venue at least 30 minutes earlier than the scheduled start time."}]
[{"$f":"note3","v":"Entry Fee $40 will be invoiced by email. Please pay by EFT using the invoice No. as reference."}]
[{"$f":"note4","v":"Players please assist with setting and clearing courts."}]

{"sheet":"WORLD RANKING RESULTS","index":11,"n_rows":414,"n_cols":13,"rows_kept":414,"cut":false,"hidden":false,"merged":[]}
[]
[]
["BLOCK 1",null,"Name",null,"Name","Margin","Peels","Time","Day",null,"LU Name","Score","Peels"]
[null,null,{"$f":"IF(L4<0,\"\",IF(L4>L5,K4,K5))","v":""},"beat",{"$f":"IF(L4<0,\"\",IF(L4>L5,K5,K4))","v":""},{"$f":"IF(L4>L5,L4-L5,L5-L4)","v":0},{"$f":"IF(C4=\"\",\"\",IF(ISTEXT(M4),M4,IF(ISTEXT(M5),M5,\"\")))","v":""},{"$f":"GAMES!B4","v":"00:00:00"},{"$f":"GAMES!C4","v":"00:00:00"},null,{"$f":"RESULTS!C4","v":" Block 1 Player 1"},{"$f":"RESULTS!D4","v":-1E-3},{"$f":"RESULTS!E4","v":-1E-3}]
[null,null,{"$f":"IF(L6<0,\"\",IF(L6>L7,K6,K7))","v":""},"beat",{"$f":"IF(L6<0,\"\",IF(L6>L7,K7,K6))","v":""},{"$f":"IF(L6>L7,L6-L7,L7-L6)","v":0},{"$f":"IF(C5=\"\",\"\",IF(ISTEXT(M6),M6,IF(ISTEXT(M7),M7,\"\")))","v":""},{"$f":"GAMES!B5","v":"00:00:00"},{"$f":"GAMES!C5","v":"00:00:00"},null,{"$f":"RESULTS!C5","v":" Block 1 Player 3"},{"$f":"RESULTS!D5","v":-1E-3},{"$f":"RESULTS!E5","v":-1E-3}]
[null,null,{"$f":"IF(L8<0,\"\",IF(L8>L9,K8,K9))","v":""},"beat",{"$f":"IF(L8<0,\"\",IF(L8>L9,K9,K8))","v":""},{"$f":"IF(L8>L9,L8-L9,L9-L8)","v":0},{"$f":"IF(C6=\"\",\"\",IF(ISTEXT(M8),M8,IF(ISTEXT(M9),M9,\"\")))","v":""},{"$f":"GAMES!B6","v":"00:00:00"},{"$f":"GAMES!C6","v":"00:00:00"},null,{"$f":"RESULTS!C6","v":" Block 1 Player 2"},{"$f":"RESULTS!D6","v":-1E-3},{"$f":"RESULTS!E6","v":-1E-3}]
[null,null,{"$f":"IF(L10<0,\"\",IF(L10>L11,K10,K11))","v":""},"beat",{"$f":"IF(L10<0,\"\",IF(L10>L11,K11,K10))","v":""},{"$f":"IF(L10>L11,L10-L11,L11-L10)","v":0},{"$f":"IF(C7=\"\",\"\",IF(ISTEXT(M10),M10,IF(ISTEXT(M11),M11,\"\")))","v":""},{"$f":"GAMES!B7","v":"00:00:00"},{"$f":"GAMES!C7","v":"00:00:00"},null,{"$f":"RESULTS!C7","v":" Block 1 Player 4"},{"$f":"RESULTS!D7","v":-1E-3},{"$f":"RESULTS!E7","v":-1E-3}]
[null,null,{"$f":"IF(L12<0,\"\",IF(L12>L13,K12,K13))","v":""},"beat",{"$f":"IF(L12<0,\"\",IF(L12>L13,K13,K12))","v":""},{"$f":"IF(L12>L13,L12-L13,L13-L12)","v":0},{"$f":"IF(C8=\"\",\"\",IF(ISTEXT(M12),M12,IF(ISTEXT(M13),M13,\"\")))","v":""},{"$f":"GAMES!B8","v":"00:00:00"},{"$f":"GAMES!C8","v":"00:00:00"},null,{"$f":"RESULTS!C8","v":" Block 1 Player 12"},{"$f":"RESULTS!D8","v":-1E-3},{"$f":"RESULTS!E8","v":-1E-3}]
[null,null,{"$f":"IF(L14<0,\"\",IF(L14>L15,K14,K15))","v":""},"beat",{"$f":"IF(L14<0,\"\",IF(L14>L15,K15,K14))","v":""},{"$f":"IF(L14>L15,L14-L15,L15-L14)","v":0},{"$f":"IF(C9=\"\",\"\",IF(ISTEXT(M14),M14,IF(ISTEXT(M15),M15,\"\")))","v":""},{"$f":"GAMES!B9","v":"00:00:00"},{"$f":"GAMES!C9","v":"00:00:00"},null,{"$f":"RESULTS!C9","v":" Block 1 Player 5"},{"$f":"RESULTS!D9","v":-1E-3},{"$f":"RESULTS!E9","v":-1E-3}]
[null,null,{"$f":"IF(L16<0,\"\",IF(L16>L17,K16,K17))","v":""},"beat",{"$f":"IF(L16<0,\"\",IF(L16>L17,K17,K16))","v":""},{"$f":"IF(L16>L17,L16-L17,L17-L16)","v":0},{"$f":"IF(C10=\"\",\"\",IF(ISTEXT(M16),M16,IF(ISTEXT(M17),M17,\"\")))","v":""},{"$f":"GAMES!B10","v":"00:00:00"},{"$f":"GAMES!C10","v":"00:00:00"},null,{"$f":"RESULTS!C10","v":" Block 1 Player 11"},{"$f":"RESULTS!D10","v":-1E-3},{"$f":"RESULTS!E10","v":-1E-3}]
[null,null,{"$f":"IF(L18<0,\"\",IF(L18>L19,K18,K19))","v":""},"beat",{"$f":"IF(L18<0,\"\",IF(L18>L19,K19,K18))","v":""},{"$f":"IF(L18>L19,L18-L19,L19-L18)","v":0},{"$f":"IF(C11=\"\",\"\",IF(ISTEXT(M18),M18,IF(ISTEXT(M19),M19,\"\")))","v":""},{"$f":"GAMES!B11","v":"00:00:00"},{"$f":"GAMES!C11","v":"00:00:00"},null,{"$f":"RESULTS!C11","v":" Block 1 Player 6"},{"$f":"RESULTS!D11","v":-1E-3},{"$f":"RESULTS!E11","v":-1E-3}]
[null,null,{"$f":"IF(L20<0,\"\",IF(L20>L21,K20,K21))","v":""},"beat",{"$f":"IF(L20<0,\"\",IF(L20>L21,K21,K20))","v":""},{"$f":"IF(L20>L21,L20-L21,L21-L20)","v":0},{"$f":"IF(C12=\"\",\"\",IF(ISTEXT(M20),M20,IF(ISTEXT(M21),M21,\"\")))","v":""},{"$f":"GAMES!B12","v":"00:00:00"},{"$f":"GAMES!C12","v":"00:00:00"},null,{"$f":"RESULTS!C12","v":" Block 1 Player 10"},{"$f":"RESULTS!D12","v":-1E-3},{"$f":"RESULTS!E12","v":-1E-3}]
[null,null,{"$f":"IF(L22<0,\"\",IF(L22>L23,K22,K23))","v":""},"beat",{"$f":"IF(L22<0,\"\",IF(L22>L23,K23,K22))","v":""},{"$f":"IF(L22>L23,L22-L23,L23-L22)","v":0},{"$f":"IF(C13=\"\",\"\",IF(ISTEXT(M22),M22,IF(ISTEXT(M23),M23,\"\")))","v":""},{"$f":"GAMES!B13","v":"00:00:00"},{"$f":"GAMES!C13","v":"00:00:00"},null,{"$f":"RESULTS!C13","v":" Block 1 Player 7"},{"$f":"RESULTS!D13","v":-1E-3},{"$f":"RESULTS!E13","v":-1E-3}]
[null,null,{"$f":"IF(L24<0,\"\",IF(L24>L25,K24,K25))","v":""},"beat",{"$f":"IF(L24<0,\"\",IF(L24>L25,K25,K24))","v":""},{"$f":"IF(L24>L25,L24-L25,L25-L24)","v":0},{"$f":"IF(C14=\"\",\"\",IF(ISTEXT(M24),M24,IF(ISTEXT(M25),M25,\"\")))","v":""},{"$f":"GAMES!B14","v":"00:00:00"},{"$f":"GAMES!C14","v":"00:00:00"},null,{"$f":"RESULTS!C14","v":" Block 1 Player 9"},{"$f":"RESULTS!D14","v":-1E-3},{"$f":"RESULTS!E14","v":-1E-3}]
[null,null,{"$f":"IF(L26<0,\"\",IF(L26>L27,K26,K27))","v":""},"beat",{"$f":"IF(L26<0,\"\",IF(L26>L27,K27,K26))","v":""},{"$f":"IF(L26>L27,L26-L27,L27-L26)","v":0},{"$f":"IF(C15=\"\",\"\",IF(ISTEXT(M26),M26,IF(ISTEXT(M27),M27,\"\")))","v":""},{"$f":"GAMES!B15","v":"00:00:00"},{"$f":"GAMES!C15","v":"00:00:00"},null,{"$f":"RESULTS!C15","v":" Block 1 Player 8"},{"$f":"RESULTS!D15","v":-1E-3},{"$f":"RESULTS!E15","v":-1E-3}]
[null,null,{"$f":"IF(L28<0,\"\",IF(L28>L29,K28,K29))","v":""},"beat",{"$f":"IF(L28<0,\"\",IF(L28>L29,K29,K28))","v":""},{"$f":"IF(L28>L29,L28-L29,L29-L28)","v":0},{"$f":"IF(C16=\"\",\"\",IF(ISTEXT(M28),M28,IF(ISTEXT(M29),M29,\"\")))","v":""},{"$f":"GAMES!B16","v":"00:00:00"},{"$f":"GAMES!C16","v":"00:00:00"},null,{"$f":"RESULTS!C16","v":" Block 1 Player 1"},{"$f":"RESULTS!D16","v":-1E-3},{"$f":"RESULTS!E16","v":-1E-3}]
[null,null,{"$f":"IF(L30<0,\"\",IF(L30>L31,K30,K31))","v":""},"beat",{"$f":"IF(L30<0,\"\",IF(L30>L31,K31,K30))","v":""},{"$f":"IF(L30>L31,L30-L31,L31-L30)","v":0},{"$f":"IF(C17=\"\",\"\",IF(ISTEXT(M30),M30,IF(ISTEXT(M31),M31,\"\")))","v":""},{"$f":"GAMES!B17","v":"00:00:00"},{"$f":"GAMES!C17","v":"00:00:00"},null,{"$f":"RESULTS!C17","v":" Block 1 Player 4"},{"$f":"RESULTS!D17","v":-1E-3},{"$f":"RESULTS!E17","v":-1E-3}]
[null,null,{"$f":"IF(L32<0,\"\",IF(L32>L33,K32,K33))","v":""},"beat",{"$f":"IF(L32<0,\"\",IF(L32>L33,K33,K32))","v":""},{"$f":"IF(L32>L33,L32-L33,L33-L32)","v":0},{"$f":"IF(C18=\"\",\"\",IF(ISTEXT(M32),M32,IF(ISTEXT(M33),M33,\"\")))","v":""},{"$f":"GAMES!B18","v":"00:00:00"},{"$f":"GAMES!C18","v":"00:00:00"},null,{"$f":"RESULTS!C18","v":" Block 1 Player 5"},{"$f":"RESULTS!D18","v":-1E-3},{"$f":"RESULTS!E18","v":-1E-3}]
[null,null,{"$f":"IF(L34<0,\"\",IF(L34>L35,K34,K35))","v":""},"beat",{"$f":"IF(L34<0,\"\",IF(L34>L35,K35,K34))","v":""},{"$f":"IF(L34>L35,L34-L35,L35-L34)","v":0},{"$f":"IF(C19=\"\",\"\",IF(ISTEXT(M34),M34,IF(ISTEXT(M35),M35,\"\")))","v":""},{"$f":"GAMES!B19","v":"00:00:00"},{"$f":"GAMES!C19","v":"00:00:00"},null,{"$f":"RESULTS!C19","v":" Block 1 Player 3"},{"$f":"RESULTS!D19","v":-1E-3},{"$f":"RESULTS!E19","v":-1E-3}]
[null,null,{"$f":"IF(L36<0,\"\",IF(L36>L37,K36,K37))","v":""},"beat",{"$f":"IF(L36<0,\"\",IF(L36>L37,K37,K36))","v":""},{"$f":"IF(L36>L37,L36-L37,L37-L36)","v":0},{"$f":"IF(C20=\"\",\"\",IF(ISTEXT(M36),M36,IF(ISTEXT(M37),M37,\"\")))","v":""},{"$f":"GAMES!B20","v":"00:00:00"},{"$f":"GAMES!C20","v":"00:00:00"},null,{"$f":"RESULTS!C20","v":" Block 1 Player 2"},{"$f":"RESULTS!D20","v":-1E-3},{"$f":"RESULTS!E20","v":-1E-3}]
[null,null,{"$f":"IF(L38<0,\"\",IF(L38>L39,K38,K39))","v":""},"beat",{"$f":"IF(L38<0,\"\",IF(L38>L39,K39,K38))","v":""},{"$f":"IF(L38>L39,L38-L39,L39-L38)","v":0},{"$f":"IF(C21=\"\",\"\",IF(ISTEXT(M38),M38,IF(ISTEXT(M39),M39,\"\")))","v":""},{"$f":"GAMES!B21","v":"00:00:00"},{"$f":"GAMES!C21","v":"00:00:00"},null,{"$f":"RESULTS!C21","v":" Block 1 Player 6"},{"$f":"RESULTS!D21","v":-1E-3},{"$f":"RESULTS!E21","v":-1E-3}]
[null,null,{"$f":"IF(L40<0,\"\",IF(L40>L41,K40,K41))","v":""},"beat",{"$f":"IF(L40<0,\"\",IF(L40>L41,K41,K40))","v":""},{"$f":"IF(L40>L41,L40-L41,L41-L40)","v":0},{"$f":"IF(C22=\"\",\"\",IF(ISTEXT(M40),M40,IF(ISTEXT(M41),M41,\"\")))","v":""},{"$f":"GAMES!B22","v":"00:00:00"},{"$f":"GAMES!C22","v":"00:00:00"},null,{"$f":"RESULTS!C22","v":" Block 1 Player 12"},{"$f":"RESULTS!D22","v":-1E-3},{"$f":"RESULTS!E22","v":-1E-3}]
[null,null,{"$f":"IF(L42<0,\"\",IF(L42>L43,K42,K43))","v":""},"beat",{"$f":"IF(L42<0,\"\",IF(L42>L43,K43,K42))","v":""},{"$f":"IF(L42>L43,L42-L43,L43-L42)","v":0},{"$f":"IF(C23=\"\",\"\",IF(ISTEXT(M42),M42,IF(ISTEXT(M43),M43,\"\")))","v":""},{"$f":"GAMES!B23","v":"00:00:00"},{"$f":"GAMES!C23","v":"00:00:00"},null,{"$f":"RESULTS!C23","v":" Block 1 Player 7"},{"$f":"RESULTS!D23","v":-1E-3},{"$f":"RESULTS!E23","v":-1E-3}]
[null,null,{"$f":"IF(L44<0,\"\",IF(L44>L45,K44,K45))","v":""},"beat",{"$f":"IF(L44<0,\"\",IF(L44>L45,K45,K44))","v":""},{"$f":"IF(L44>L45,L44-L45,L45-L44)","v":0},{"$f":"IF(C24=\"\",\"\",IF(ISTEXT(M44),M44,IF(ISTEXT(M45),M45,\"\")))","v":""},{"$f":"GAMES!B24","v":"00:00:00"},{"$f":"GAMES!C24","v":"00:00:00"},null,{"$f":"RESULTS!C24","v":" Block 1 Player 11"},{"$f":"RESULTS!D24","v":-1E-3},{"$f":"RESULTS!E24","v":-1E-3}]
[null,null,{"$f":"IF(L46<0,\"\",IF(L46>L47,K46,K47))","v":""},"beat",{"$f":"IF(L46<0,\"\",IF(L46>L47,K47,K46))","v":""},{"$f":"IF(L46>L47,L46-L47,L47-L46)","v":0},{"$f":"IF(C25=\"\",\"\",IF(ISTEXT(M46),M46,IF(ISTEXT(M47),M47,\"\")))","v":""},{"$f":"GAMES!B25","v":"00:00:00"},{"$f":"GAMES!C25","v":"00:00:00"},null,{"$f":"RESULTS!C25","v":" Block 1 Player 8"},{"$f":"RESULTS!D25","v":-1E-3},{"$f":"RESULTS!E25","v":-1E-3}]
[null,null,{"$f":"IF(L48<0,\"\",IF(L48>L49,K48,K49))","v":""},"beat",{"$f":"IF(L48<0,\"\",IF(L48>L49,K49,K48))","v":""},{"$f":"IF(L48>L49,L48-L49,L49-L48)","v":0},{"$f":"IF(C26=\"\",\"\",IF(ISTEXT(M48),M48,IF(ISTEXT(M49),M49,\"\")))","v":""},{"$f":"GAMES!B26","v":"00:00:00"},{"$f":"GAMES!C26","v":"00:00:00"},null,{"$f":"RESULTS!C26","v":" Block 1 Player 10"},{"$f":"RESULTS!D26","v":-1E-3},{"$f":"RESULTS!E26","v":-1E-3}]
[null,null,{"$f":"IF(L50<0,\"\",IF(L50>L51,K50,K51))","v":""},"beat",{"$f":"IF(L50<0,\"\",IF(L50>L51,K51,K50))","v":""},{"$f":"IF(L50>L51,L50-L51,L51-L50)","v":0},{"$f":"IF(C27=\"\",\"\",IF(ISTEXT(M50),M50,IF(ISTEXT(M51),M51,\"\")))","v":""},{"$f":"GAMES!B27","v":"00:00:00"},{"$f":"GAMES!C27","v":"00:00:00"},null,{"$f":"RESULTS!C27","v":" Block 1 Player 9"},{"$f":"RESULTS!D27","v":-1E-3},{"$f":"RESULTS!E27","v":-1E-3}]
[null,null,{"$f":"IF(L52<0,\"\",IF(L52>L53,K52,K53))","v":""},"beat",{"$f":"IF(L52<0,\"\",IF(L52>L53,K53,K52))","v":""},{"$f":"IF(L52>L53,L52-L53,L53-L52)","v":0},{"$f":"IF(C28=\"\",\"\",IF(ISTEXT(M52),M52,IF(ISTEXT(M53),M53,\"\")))","v":""},{"$f":"GAMES!B28","v":"00:00:00"},{"$f":"GAMES!C28","v":"00:00:00"},null,{"$f":"RESULTS!G4","v":" Block 1 Player 1"},{"$f":"RESULTS!H4","v":-1E-3},{"$f":"RESULTS!I4","v":-1E-3}]
[null,null,{"$f":"IF(L54<0,\"\",IF(L54>L55,K54,K55))","v":""},"beat",{"$f":"IF(L54<0,\"\",IF(L54>L55,K55,K54))","v":""},{"$f":"IF(L54>L55,L54-L55,L55-L54)","v":0},{"$f":"IF(C29=\"\",\"\",IF(ISTEXT(M54),M54,IF(ISTEXT(M55),M55,\"\")))","v":""},{"$f":"GAMES!B29","v":"00:00:00"},{"$f":"GAMES!C29","v":"00:00:00"},null,{"$f":"RESULTS!G5","v":" Block 1 Player 5"},{"$f":"RESULTS!H5","v":-1E-3},{"$f":"RESULTS!I5","v":-1E-3}]
[null,null,{"$f":"IF(L56<0,\"\",IF(L56>L57,K56,K57))","v":""},"beat",{"$f":"IF(L56<0,\"\",IF(L56>L57,K57,K56))","v":""},{"$f":"IF(L56>L57,L56-L57,L57-L56)","v":0},{"$f":"IF(C30=\"\",\"\",IF(ISTEXT(M56),M56,IF(ISTEXT(M57),M57,\"\")))","v":""},{"$f":"GAMES!B30","v":"00:00:00"},{"$f":"GAMES!C30","v":"00:00:00"},null,{"$f":"RESULTS!G6","v":" Block 1 Player 4"},{"$f":"RESULTS!H6","v":-1E-3},{"$f":"RESULTS!I6","v":-1E-3}]
[null,null,{"$f":"IF(L58<0,\"\",IF(L58>L59,K58,K59))","v":""},"beat",{"$f":"IF(L58<0,\"\",IF(L58>L59,K59,K58))","v":""},{"$f":"IF(L58>L59,L58-L59,L59-L58)","v":0},{"$f":"IF(C31=\"\",\"\",IF(ISTEXT(M58),M58,IF(ISTEXT(M59),M59,\"\")))","v":""},{"$f":"GAMES!B31","v":"00:00:00"},{"$f":"GAMES!C31","v":"00:00:00"},null,{"$f":"RESULTS!G7","v":" Block 1 Player 6"},{"$f":"RESULTS!H7","v":-1E-3},{"$f":"RESULTS!I7","v":-1E-3}]
[null,null,{"$f":"IF(L60<0,\"\",IF(L60>L61,K60,K61))","v":""},"beat",{"$f":"IF(L60<0,\"\",IF(L60>L61,K61,K60))","v":""},{"$f":"IF(L60>L61,L60-L61,L61-L60)","v":0},{"$f":"IF(C32=\"\",\"\",IF(ISTEXT(M60),M60,IF(ISTEXT(M61),M61,\"\")))","v":""},{"$f":"GAMES!B32","v":"00:00:00"},{"$f":"GAMES!C32","v":"00:00:00"},null,{"$f":"RESULTS!G8","v":" Block 1 Player 3"},{"$f":"RESULTS!H8","v":-1E-3},{"$f":"RESULTS!I8","v":-1E-3}]
[null,null,{"$f":"IF(L62<0,\"\",IF(L62>L63,K62,K63))","v":""},"beat",{"$f":"IF(L62<0,\"\",IF(L62>L63,K63,K62))","v":""},{"$f":"IF(L62>L63,L62-L63,L63-L62)","v":0},{"$f":"IF(C33=\"\",\"\",IF(ISTEXT(M62),M62,IF(ISTEXT(M63),M63,\"\")))","v":""},{"$f":"GAMES!B33","v":"00:00:00"},{"$f":"GAMES!C33","v":"00:00:00"},null,{"$f":"RESULTS!G9","v":" Block 1 Player 7"},{"$f":"RESULTS!H9","v":-1E-3},{"$f":"RESULTS!I9","v":-1E-3}]
[null,null,{"$f":"IF(L64<0,\"\",IF(L64>L65,K64,K65))","v":""},"beat",{"$f":"IF(L64<0,\"\",IF(L64>L65,K65,K64))","v":""},{"$f":"IF(L64>L65,L64-L65,L65-L64)","v":0},{"$f":"IF(C34=\"\",\"\",IF(ISTEXT(M64),M64,IF(ISTEXT(M65),M65,\"\")))","v":""},{"$f":"GAMES!B34","v":"00:00:00"},{"$f":"GAMES!C34","v":"00:00:00"},null,{"$f":"RESULTS!G10","v":" Block 1 Player 2"},{"$f":"RESULTS!H10","v":-1E-3},{"$f":"RESULTS!I10","v":-1E-3}]
[null,null,{"$f":"IF(L66<0,\"\",IF(L66>L67,K66,K67))","v":""},"beat",{"$f":"IF(L66<0,\"\",IF(L66>L67,K67,K66))","v":""},{"$f":"IF(L66>L67,L66-L67,L67-L66)","v":0},{"$f":"IF(C35=\"\",\"\",IF(ISTEXT(M66),M66,IF(ISTEXT(M67),M67,\"\")))","v":""},{"$f":"GAMES!B35","v":"00:00:00"},{"$f":"GAMES!C35","v":"00:00:00"},null,{"$f":"RESULTS!G11","v":" Block 1 Player 8"},{"$f":"RESULTS!H11","v":-1E-3},{"$f":"RESULTS!I11","v":-1E-3}]
[null,null,{"$f":"IF(L68<0,\"\",IF(L68>L69,K68,K69))","v":""},"beat",{"$f":"IF(L68<0,\"\",IF(L68>L69,K69,K68))","v":""},{"$f":"IF(L68>L69,L68-L69,L69-L68)","v":0},{"$f":"IF(C36=\"\",\"\",IF(ISTEXT(M68),M68,IF(ISTEXT(M69),M69,\"\")))","v":""},{"$f":"GAMES!B36","v":"00:00:00"},{"$f":"GAMES!C36","v":"00:00:00"},null,{"$f":"RESULTS!G12","v":" Block 1 Player 12"},{"$f":"RESULTS!H12","v":-1E-3},{"$f":"RESULTS!I12","v":-1E-3}]
[null,null,{"$f":"IF(L70<0,\"\",IF(L70>L71,K70,K71))","v":""},"beat",{"$f":"IF(L70<0,\"\",IF(L70>L71,K71,K70))","v":""},{"$f":"IF(L70>L71,L70-L71,L71-L70)","v":0},{"$f":"IF(C37=\"\",\"\",IF(ISTEXT(M70),M70,IF(ISTEXT(M71),M71,\"\")))","v":""},{"$f":"GAMES!B37","v":"00:00:00"},{"$f":"GAMES!C37","v":"00:00:00"},null,{"$f":"RESULTS!G13","v":" Block 1 Player 9"},{"$f":"RESULTS!H13","v":-1E-3},{"$f":"RESULTS!I13","v":-1E-3}]
[null,null,{"$f":"IF(L72<0,\"\",IF(L72>L73,K72,K73))","v":""},"beat",{"$f":"IF(L72<0,\"\",IF(L72>L73,K73,K72))","v":""},{"$f":"IF(L72>L73,L72-L73,L73-L72)","v":0},{"$f":"IF(C38=\"\",\"\",IF(ISTEXT(M72),M72,IF(ISTEXT(M73),M73,\"\")))","v":""},{"$f":"GAMES!B38","v":"00:00:00"},{"$f":"GAMES!C38","v":"00:00:00"},null,{"$f":"RESULTS!G14","v":" Block 1 Player 11"},{"$f":"RESULTS!H14","v":-1E-3},{"$f":"RESULTS!I14","v":-1E-3}]
[null,null,{"$f":"IF(L74<0,\"\",IF(L74>L75,K74,K75))","v":""},"beat",{"$f":"IF(L74<0,\"\",IF(L74>L75,K75,K74))","v":""},{"$f":"IF(L74>L75,L74-L75,L75-L74)","v":0},{"$f":"IF(C39=\"\",\"\",IF(ISTEXT(M74),M74,IF(ISTEXT(M75),M75,\"\")))","v":""},{"$f":"GAMES!B39","v":"00:00:00"},{"$f":"GAMES!C39","v":"00:00:00"},null,{"$f":"RESULTS!G15","v":" Block 1 Player 10"},{"$f":"RESULTS!H15","v":-1E-3},{"$f":"RESULTS!I15","v":-1E-3}]
[null,null,{"$f":"IF(L76<0,\"\",IF(L76>L77,K76,K77))","v":""},"beat",{"$f":"IF(L76<0,\"\",IF(L76>L77,K77,K76))","v":""},{"$f":"IF(L76>L77,L76-L77,L77-L76)","v":0},{"$f":"IF(C40=\"\",\"\",IF(ISTEXT(M76),M76,IF(ISTEXT(M77),M77,\"\")))","v":""},{"$f":"GAMES!B40","v":"00:00:00"},{"$f":"GAMES!C40","v":"00:00:00"},null,{"$f":"RESULTS!G16","v":" Block 1 Player 1"},{"$f":"RESULTS!H16","v":-1E-3},{"$f":"RESULTS!I16","v":-1E-3}]
[null,null,{"$f":"IF(L78<0,\"\",IF(L78>L79,K78,K79))","v":""},"beat",{"$f":"IF(L78<0,\"\",IF(L78>L79,K79,K78))","v":""},{"$f":"IF(L78>L79,L78-L79,L79-L78)","v":0},{"$f":"IF(C41=\"\",\"\",IF(ISTEXT(M78),M78,IF(ISTEXT(M79),M79,\"\")))","v":""},{"$f":"GAMES!B41","v":"00:00:00"},{"$f":"GAMES!C41","v":"00:00:00"},null,{"$f":"RESULTS!G17","v":" Block 1 Player 6"},{"$f":"RESULTS!H17","v":-1E-3},{"$f":"RESULTS!I17","v":-1E-3}]
[null,null,{"$f":"IF(L80<0,\"\",IF(L80>L81,K80,K81))","v":""},"beat",{"$f":"IF(L80<0,\"\",IF(L80>L81,K81,K80))","v":""},{"$f":"IF(L80>L81,L80-L81,L81-L80)","v":0},{"$f":"IF(C42=\"\",\"\",IF(ISTEXT(M80),M80,IF(ISTEXT(M81),M81,\"\")))","v":""},{"$f":"GAMES!B42","v":"00:00:00"},{"$f":"GAMES!C42","v":"00:00:00"},null,{"$f":"RESULTS!G18","v":" Block 1 Player 5"},{"$f":"RESULTS!H18","v":-1E-3},{"$f":"RESULTS!I18","v":-1E-3}]
[null,null,{"$f":"IF(L82<0,\"\",IF(L82>L83,K82,K83))","v":""},"beat",{"$f":"IF(L82<0,\"\",IF(L82>L83,K83,K82))","v":""},{"$f":"IF(L82>L83,L82-L83,L83-L82)","v":0},{"$f":"IF(C43=\"\",\"\",IF(ISTEXT(M82),M82,IF(ISTEXT(M83),M83,\"\")))","v":""},{"$f":"GAMES!B43","v":"00:00:00"},{"$f":"GAMES!C43","v":"00:00:00"},null,{"$f":"RESULTS!G19","v":" Block 1 Player 7"},{"$f":"RESULTS!H19","v":-1E-3},{"$f":"RESULTS!I19","v":-1E-3}]
[null,null,{"$f":"IF(L84<0,\"\",IF(L84>L85,K84,K85))","v":""},"beat",{"$f":"IF(L84<0,\"\",IF(L84>L85,K85,K84))","v":""},{"$f":"IF(L84>L85,L84-L85,L85-L84)","v":0},{"$f":"IF(C44=\"\",\"\",IF(ISTEXT(M84),M84,IF(ISTEXT(M85),M85,\"\")))","v":""},{"$f":"GAMES!B44","v":"00:00:00"},{"$f":"GAMES!C44","v":"00:00:00"},null,{"$f":"RESULTS!G20","v":" Block 1 Player 4"},{"$f":"RESULTS!H20","v":-1E-3},{"$f":"RESULTS!I20","v":-1E-3}]
[null,null,{"$f":"IF(L86<0,\"\",IF(L86>L87,K86,K87))","v":""},"beat",{"$f":"IF(L86<0,\"\",IF(L86>L87,K87,K86))","v":""},{"$f":"IF(L86>L87,L86-L87,L87-L86)","v":0},{"$f":"IF(C45=\"\",\"\",IF(ISTEXT(M86),M86,IF(ISTEXT(M87),M87,\"\")))","v":""},{"$f":"GAMES!B45","v":"00:00:00"},{"$f":"GAMES!C45","v":"00:00:00"},null,{"$f":"RESULTS!G21","v":" Block 1 Player 8"},{"$f":"RESULTS!H21","v":-1E-3},{"$f":"RESULTS!I21","v":-1E-3}]
[null,null,{"$f":"IF(L88<0,\"\",IF(L88>L89,K88,K89))","v":""},"beat",{"$f":"IF(L88<0,\"\",IF(L88>L89,K89,K88))","v":""},{"$f":"IF(L88>L89,L88-L89,L89-L88)","v":0},{"$f":"IF(C46=\"\",\"\",IF(ISTEXT(M88),M88,IF(ISTEXT(M89),M89,\"\")))","v":""},{"$f":"GAMES!B46","v":"00:00:00"},{"$f":"GAMES!C46","v":"00:00:00"},null,{"$f":"RESULTS!G22","v":" Block 1 Player 3"},{"$f":"RESULTS!H22","v":-1E-3},{"$f":"RESULTS!I22","v":-1E-3}]
[null,null,{"$f":"IF(L90<0,\"\",IF(L90>L91,K90,K91))","v":""},"beat",{"$f":"IF(L90<0,\"\",IF(L90>L91,K91,K90))","v":""},{"$f":"IF(L90>L91,L90-L91,L91-L90)","v":0},{"$f":"IF(C47=\"\",\"\",IF(ISTEXT(M90),M90,IF(ISTEXT(M91),M91,\"\")))","v":""},{"$f":"GAMES!B47","v":"00:00:00"},{"$f":"GAMES!C47","v":"00:00:00"},null,{"$f":"RESULTS!G23","v":" Block 1 Player 9"},{"$f":"RESULTS!H23","v":-1E-3},{"$f":"RESULTS!I23","v":-1E-3}]
[null,null,{"$f":"IF(L92<0,\"\",IF(L92>L93,K92,K93))","v":""},"beat",{"$f":"IF(L92<0,\"\",IF(L92>L93,K93,K92))","v":""},{"$f":"IF(L92>L93,L92-L93,L93-L92)","v":0},{"$f":"IF(C48=\"\",\"\",IF(ISTEXT(M92),M92,IF(ISTEXT(M93),M93,\"\")))","v":""},{"$f":"GAMES!B48","v":"00:00:00"},{"$f":"GAMES!C48","v":"00:00:00"},null,{"$f":"RESULTS!G24","v":" Block 1 Player 2"},{"$f":"RESULTS!H24","v":-1E-3},{"$f":"RESULTS!I24","v":-1E-3}]
[null,null,{"$f":"IF(L94<0,\"\",IF(L94>L95,K94,K95))","v":""},"beat",{"$f":"IF(L94<0,\"\",IF(L94>L95,K95,K94))","v":""},{"$f":"IF(L94>L95,L94-L95,L95-L94)","v":0},{"$f":"IF(C49=\"\",\"\",IF(ISTEXT(M94),M94,IF(ISTEXT(M95),M95,\"\")))","v":""},{"$f":"GAMES!B49","v":"00:00:00"},{"$f":"GAMES!C49","v":"00:00:00"},null,{"$f":"RESULTS!G25","v":" Block 1 Player 10"},{"$f":"RESULTS!H25","v":-1E-3},{"$f":"RESULTS!I25","v":-1E-3}]
[null,null,{"$f":"IF(L96<0,\"\",IF(L96>L97,K96,K97))","v":""},"beat",{"$f":"IF(L96<0,\"\",IF(L96>L97,K97,K96))","v":""},{"$f":"IF(L96>L97,L96-L97,L97-L96)","v":0},{"$f":"IF(C50=\"\",\"\",IF(ISTEXT(M96),M96,IF(ISTEXT(M97),M97,\"\")))","v":""},{"$f":"GAMES!B50","v":"00:00:00"},{"$f":"GAMES!C50","v":"00:00:00"},null,{"$f":"RESULTS!G26","v":" Block 1 Player 12"},{"$f":"RESULTS!H26","v":-1E-3},{"$f":"RESULTS!I26","v":-1E-3}]
[null,null,{"$f":"IF(L98<0,\"\",IF(L98>L99,K98,K99))","v":""},"beat",{"$f":"IF(L98<0,\"\",IF(L98>L99,K99,K98))","v":""},{"$f":"IF(L98>L99,L98-L99,L99-L98)","v":0},{"$f":"IF(C51=\"\",\"\",IF(ISTEXT(M98),M98,IF(ISTEXT(M99),M99,\"\")))","v":""},{"$f":"GAMES!B51","v":"00:00:00"},{"$f":"GAMES!C51","v":"00:00:00"},null,{"$f":"RESULTS!G27","v":" Block 1 Player 11"},{"$f":"RESULTS!H27","v":-1E-3},{"$f":"RESULTS!I27","v":-1E-3}]
[null,null,{"$f":"IF(L100<0,\"\",IF(L100>L101,K100,K101))","v":""},"beat",{"$f":"IF(L100<0,\"\",IF(L100>L101,K101,K100))","v":""},{"$f":"IF(L100>L101,L100-L101,L101-L100)","v":0},{"$f":"IF(C52=\"\",\"\",IF(ISTEXT(M100),M100,IF(ISTEXT(M101),M101,\"\")))","v":""},{"$f":"GAMES!B52","v":"00:00:00"},{"$f":"GAMES!C52","v":"00:00:00"},null,{"$f":"RESULTS!K4","v":" Block 1 Player 1"},{"$f":"RESULTS!L4","v":-1E-3},{"$f":"RESULTS!M4","v":-1E-3}]
[null,null,{"$f":"IF(L102<0,\"\",IF(L102>L103,K102,K103))","v":""},"beat",{"$f":"IF(L102<0,\"\",IF(L102>L103,K103,K102))","v":""},{"$f":"IF(L102>L103,L102-L103,L103-L102)","v":0},{"$f":"IF(C53=\"\",\"\",IF(ISTEXT(M102),M102,IF(ISTEXT(M103),M103,\"\")))","v":""},{"$f":"GAMES!B53","v":"00:00:00"},{"$f":"GAMES!C53","v":"00:00:00"},null,{"$f":"RESULTS!K5","v":" Block 1 Player 7"},{"$f":"RESULTS!L5","v":-1E-3},{"$f":"RESULTS!M5","v":-1E-3}]
[null,null,{"$f":"IF(L104<0,\"\",IF(L104>L105,K104,K105))","v":""},"beat",{"$f":"IF(L104<0,\"\",IF(L104>L105,K105,K104))","v":""},{"$f":"IF(L104>L105,L104-L105,L105-L104)","v":0},{"$f":"IF(C54=\"\",\"\",IF(ISTEXT(M104),M104,IF(ISTEXT(M105),M105,\"\")))","v":""},{"$f":"GAMES!B54","v":"00:00:00"},{"$f":"GAMES!C54","v":"00:00:00"},null,{"$f":"RESULTS!K6","v":" Block 1 Player 6"},{"$f":"RESULTS!L6","v":-1E-3},{"$f":"RESULTS!M6","v":-1E-3}]
[null,null,{"$f":"IF(L106<0,\"\",IF(L106>L107,K106,K107))","v":""},"beat",{"$f":"IF(L106<0,\"\",IF(L106>L107,K107,K106))","v":""},{"$f":"IF(L106>L107,L106-L107,L107-L106)","v":0},{"$f":"IF(C55=\"\",\"\",IF(ISTEXT(M106),M106,IF(ISTEXT(M107),M107,\"\")))","v":""},{"$f":"GAMES!B55","v":"00:00:00"},{"$f":"GAMES!C55","v":"00:00:00"},null,{"$f":"RESULTS!K7","v":" Block 1 Player 8"},{"$f":"RESULTS!L7","v":-1E-3},{"$f":"RESULTS!M7","v":-1E-3}]
[null,null,{"$f":"IF(L108<0,\"\",IF(L108>L109,K108,K109))","v":""},"beat",{"$f":"IF(L108<0,\"\",IF(L108>L109,K109,K108))","v":""},{"$f":"IF(L108>L109,L108-L109,L109-L108)","v":0},{"$f":"IF(C56=\"\",\"\",IF(ISTEXT(M108),M108,IF(ISTEXT(M109),M109,\"\")))","v":""},{"$f":"GAMES!B56","v":"00:00:00"},{"$f":"GAMES!C56","v":"00:00:00"},null,{"$f":"RESULTS!K8","v":" Block 1 Player 5"},{"$f":"RESULTS!L8","v":-1E-3},{"$f":"RESULTS!M8","v":-1E-3}]
[null,null,{"$f":"IF(L110<0,\"\",IF(L110>L111,K110,K111))","v":""},"beat",{"$f":"IF(L110<0,\"\",IF(L110>L111,K111,K110))","v":""},{"$f":"IF(L110>L111,L110-L111,L111-L110)","v":0},{"$f":"IF(C57=\"\",\"\",IF(ISTEXT(M110),M110,IF(ISTEXT(M111),M111,\"\")))","v":""},{"$f":"GAMES!B57","v":"00:00:00"},{"$f":"GAMES!C57","v":"00:00:00"},null,{"$f":"RESULTS!K9","v":" Block 1 Player 9"},{"$f":"RESULTS!L9","v":-1E-3},{"$f":"RESULTS!M9","v":-1E-3}]
[null,null,{"$f":"IF(L112<0,\"\",IF(L112>L113,K112,K113))","v":""},"beat",{"$f":"IF(L112<0,\"\",IF(L112>L113,K113,K112))","v":""},{"$f":"IF(L112>L113,L112-L113,L113-L112)","v":0},{"$f":"IF(C58=\"\",\"\",IF(ISTEXT(M112),M112,IF(ISTEXT(M113),M113,\"\")))","v":""},{"$f":"GAMES!B58","v":"00:00:00"},{"$f":"GAMES!C58","v":"00:00:00"},null,{"$f":"RESULTS!K10","v":" Block 1 Player 4"},{"$f":"RESULTS!L10","v":-1E-3},{"$f":"RESULTS!M10","v":-1E-3}]
[null,null,{"$f":"IF(L114<0,\"\",IF(L114>L115,K114,K115))","v":""},"beat",{"$f":"IF(L114<0,\"\",IF(L114>L115,K115,K114))","v":""},{"$f":"IF(L114>L115,L114-L115,L115-L114)","v":0},{"$f":"IF(C59=\"\",\"\",IF(ISTEXT(M114),M114,IF(ISTEXT(M115),M115,\"\")))","v":""},{"$f":"GAMES!B59","v":"00:00:00"},{"$f":"GAMES!C59","v":"00:00:00"},null,{"$f":"RESULTS!K11","v":" Block 1 Player 10"},{"$f":"RESULTS!L11","v":-1E-3},{"$f":"RESULTS!M11","v":-1E-3}]
[null,null,{"$f":"IF(L116<0,\"\",IF(L116>L117,K116,K117))","v":""},"beat",{"$f":"IF(L116<0,\"\",IF(L116>L117,K117,K116))","v":""},{"$f":"IF(L116>L117,L116-L117,L117-L116)","v":0},{"$f":"IF(C60=\"\",\"\",IF(ISTEXT(M116),M116,IF(ISTEXT(M117),M117,\"\")))","v":""},{"$f":"GAMES!B60","v":"00:00:00"},{"$f":"GAMES!C60","v":"00:00:00"},null,{"$f":"RESULTS!K12","v":" Block 1 Player 3"},{"$f":"RESULTS!L12","v":-1E-3},{"$f":"RESULTS!M12","v":-1E-3}]
[null,null,{"$f":"IF(L118<0,\"\",IF(L118>L119,K118,K119))","v":""},"beat",{"$f":"IF(L118<0,\"\",IF(L118>L119,K119,K118))","v":""},{"$f":"IF(L118>L119,L118-L119,L119-L118)","v":0},{"$f":"IF(C61=\"\",\"\",IF(ISTEXT(M118),M118,IF(ISTEXT(M119),M119,\"\")))","v":""},{"$f":"GAMES!B61","v":"00:00:00"},{"$f":"GAMES!C61","v":"00:00:00"},null,{"$f":"RESULTS!K13","v":" Block 1 Player 11"},{"$f":"RESULTS!L13","v":-1E-3},{"$f":"RESULTS!M13","v":-1E-3}]
[null,null,{"$f":"IF(L120<0,\"\",IF(L120>L121,K120,K121))","v":""},"beat",{"$f":"IF(L120<0,\"\",IF(L120>L121,K121,K120))","v":""},{"$f":"IF(L120>L121,L120-L121,L121-L120)","v":0},{"$f":"IF(C62=\"\",\"\",IF(ISTEXT(M120),M120,IF(ISTEXT(M121),M121,\"\")))","v":""},{"$f":"GAMES!B62","v":"00:00:00"},{"$f":"GAMES!C62","v":"00:00:00"},null,{"$f":"RESULTS!K14","v":" Block 1 Player 2"},{"$f":"RESULTS!L14","v":-1E-3},{"$f":"RESULTS!M14","v":-1E-3}]
[null,null,{"$f":"IF(L122<0,\"\",IF(L122>L123,K122,K123))","v":""},"beat",{"$f":"IF(L122<0,\"\",IF(L122>L123,K123,K122))","v":""},{"$f":"IF(L122>L123,L122-L123,L123-L122)","v":0},{"$f":"IF(C63=\"\",\"\",IF(ISTEXT(M122),M122,IF(ISTEXT(M123),M123,\"\")))","v":""},{"$f":"GAMES!B63","v":"00:00:00"},{"$f":"GAMES!C63","v":"00:00:00"},null,{"$f":"RESULTS!K15","v":" Block 1 Player 12"},{"$f":"RESULTS!L15","v":-1E-3},{"$f":"RESULTS!M15","v":-1E-3}]
[null,null,{"$f":"IF(L124<0,\"\",IF(L124>L125,K124,K125))","v":""},"beat",{"$f":"IF(L124<0,\"\",IF(L124>L125,K125,K124))","v":""},{"$f":"IF(L124>L125,L124-L125,L125-L124)","v":0},{"$f":"IF(C64=\"\",\"\",IF(ISTEXT(M124),M124,IF(ISTEXT(M125),M125,\"\")))","v":""},{"$f":"GAMES!B64","v":"00:00:00"},{"$f":"GAMES!C64","v":"00:00:00"},null,{"$f":"RESULTS!K16","v":" Block 1 Player 1"},{"$f":"RESULTS!L16","v":-1E-3},{"$f":"RESULTS!M16","v":-1E-3}]
[null,null,{"$f":"IF(L126<0,\"\",IF(L126>L127,K126,K127))","v":""},"beat",{"$f":"IF(L126<0,\"\",IF(L126>L127,K127,K126))","v":""},{"$f":"IF(L126>L127,L126-L127,L127-L126)","v":0},{"$f":"IF(C65=\"\",\"\",IF(ISTEXT(M126),M126,IF(ISTEXT(M127),M127,\"\")))","v":""},{"$f":"GAMES!B65","v":"00:00:00"},{"$f":"GAMES!C65","v":"00:00:00"},null,{"$f":"RESULTS!K17","v":" Block 1 Player 8"},{"$f":"RESULTS!L17","v":-1E-3},{"$f":"RESULTS!M17","v":-1E-3}]
[null,null,{"$f":"IF(L128<0,\"\",IF(L128>L129,K128,K129))","v":""},"beat",{"$f":"IF(L128<0,\"\",IF(L128>L129,K129,K128))","v":""},{"$f":"IF(L128>L129,L128-L129,L129-L128)","v":0},{"$f":"IF(C66=\"\",\"\",IF(ISTEXT(M128),M128,IF(ISTEXT(M129),M129,\"\")))","v":""},{"$f":"GAMES!B66","v":"00:00:00"},{"$f":"GAMES!C66","v":"00:00:00"},null,{"$f":"RESULTS!K18","v":" Block 1 Player 7"},{"$f":"RESULTS!L18","v":-1E-3},{"$f":"RESULTS!M18","v":-1E-3}]
[null,null,{"$f":"IF(L130<0,\"\",IF(L130>L131,K130,K131))","v":""},"beat",{"$f":"IF(L130<0,\"\",IF(L130>L131,K131,K130))","v":""},{"$f":"IF(L130>L131,L130-L131,L131-L130)","v":0},{"$f":"IF(C67=\"\",\"\",IF(ISTEXT(M130),M130,IF(ISTEXT(M131),M131,\"\")))","v":""},{"$f":"GAMES!B67","v":"00:00:00"},{"$f":"GAMES!C67","v":"00:00:00"},null,{"$f":"RESULTS!K19","v":" Block 1 Player 9"},{"$f":"RESULTS!L19","v":-1E-3},{"$f":"RESULTS!M19","v":-1E-3}]
[null,null,{"$f":"IF(L132<0,\"\",IF(L132>L133,K132,K133))","v":""},"beat",{"$f":"IF(L132<0,\"\",IF(L132>L133,K133,K132))","v":""},{"$f":"IF(L132>L133,L132-L133,L133-L132)","v":0},{"$f":"IF(C68=\"\",\"\",IF(ISTEXT(M132),M132,IF(ISTEXT(M133),M133,\"\")))","v":""},{"$f":"GAMES!B68","v":"00:00:00"},{"$f":"GAMES!C68","v":"00:00:00"},null,{"$f":"RESULTS!K20","v":" Block 1 Player 6"},{"$f":"RESULTS!L20","v":-1E-3},{"$f":"RESULTS!M20","v":-1E-3}]
[null,null,{"$f":"IF(L134<0,\"\",IF(L134>L135,K134,K135))","v":""},"beat",{"$f":"IF(L134<0,\"\",IF(L134>L135,K135,K134))","v":""},{"$f":"IF(L134>L135,L134-L135,L135-L134)","v":0},{"$f":"IF(C69=\"\",\"\",IF(ISTEXT(M134),M134,IF(ISTEXT(M135),M135,\"\")))","v":""},{"$f":"GAMES!B69","v":"00:00:00"},{"$f":"GAMES!C69","v":"00:00:00"},null,{"$f":"RESULTS!K21","v":" Block 1 Player 10"},{"$f":"RESULTS!L21","v":-1E-3},{"$f":"RESULTS!M21","v":-1E-3}]
[null,null,null,null,null,null,null,null,null,null,{"$f":"RESULTS!K22","v":" Block 1 Player 5"},{"$f":"RESULTS!L22","v":-1E-3},{"$f":"RESULTS!M22","v":-1E-3}]
[null,null,null,null,null,null,null,null,null,null,{"$f":"RESULTS!K23","v":" Block 1 Player 11"},{"$f":"RESULTS!L23","v":-1E-3},{"$f":"RESULTS!M23","v":-1E-3}]
[null,null,null,null,null,null,null,null,null,null,{"$f":"RESULTS!K24","v":" Block 1 Player 4"},{"$f":"RESULTS!L24","v":-1E-3},{"$f":"RESULTS!M24","v":-1E-3}]
[null,null,null,null,null,null,null,null,null,null,{"$f":"RESULTS!K25","v":" Block 1 Player 12"},{"$f":"RESULTS!L25","v":-1E-3},{"$f":"RESULTS!M25","v":-1E-3}]
[null,null,null,null,null,null,null,null,null,null,{"$f":"RESULTS!K26","v":" Block 1 Player 3"},{"$f":"RESULTS!L26","v":-1E-3},{"$f":"RESULTS!M26","v":-1E-3}]
[null,null,null,null,null,null,null,null,null,null,{"$f":"RESULTS!K27","v":" Block 1 Player 2"},{"$f":"RESULTS!L27","v":-1E-3},{"$f":"RESULTS!M27","v":-1E-3}]
[null,null,null,null,null,null,null,null,null,null,{"$f":"RESULTS!O4","v":" Block 1 Player 1"},{"$f":"RESULTS!P4","v":-1E-3},{"$f":"RESULTS!Q4","v":-1E-3}]
[null,null,null,null,null,null,null,null,null,null,{"$f":"RESULTS!O5","v":" Block 1 Player 9"},{"$f":"RESULTS!P5","v":-1E-3},{"$f":"RESULTS!Q5","v":-1E-3}]
[null,null,null,null,null,null,null,null,null,null,{"$f":"RESULTS!O6","v":" Block 1 Player 8"},{"$f":"RESULTS!P6","v":-1E-3},{"$f":"RESULTS!Q6","v":-1E-3}]
[null,null,null,null,null,null,null,null,null,null,{"$f":"RESULTS!O7","v":" Block 1 Player 10"},{"$f":"RESULTS!P7","v":-1E-3},{"$f":"RESULTS!Q7","v":-1E-3}]
[null,null,null,null,null,null,null,null,null,null,{"$f":"RESULTS!O8","v":" Block 1 Player 7"},{"$f":"RESULTS!P8","v":-1E-3},{"$f":"RESULTS!Q8","v":-1E-3}]
[null,null,null,null,null,null,null,null,null,null,{"$f":"RESULTS!O9","v":" Block 1 Player 11"},{"$f":"RESULTS!P9","v":-1E-3},{"$f":"RESULTS!Q9","v":-1E-3}]
[null,null,null,null,null,null,null,null,null,null,{"$f":"RESULTS!O10","v":" Block 1 Player 6"},{"$f":"RESULTS!P10","v":-1E-3},{"$f":"RESULTS!Q10","v":-1E-3}]
[null,null,null,null,null,null,null,null,null,null,{"$f":"RESULTS!O11","v":" Block 1 Player 12"},{"$f":"RESULTS!P11","v":-1E-3},{"$f":"RESULTS!Q11","v":-1E-3}]
[null,null,null,null,null,null,null,null,null,null,{"$f":"RESULTS!O12","v":" Block 1 Player 5"},{"$f":"RESULTS!P12","v":-1E-3},{"$f":"RESULTS!Q12","v":-1E-3}]
[null,null,null,null,null,null,null,null,null,null,{"$f":"RESULTS!O13","v":" Block 1 Player 2"},{"$f":"RESULTS!P13","v":-1E-3},{"$f":"RESULTS!Q13","v":-1E-3}]
[null,null,null,null,null,null,null,null,null,null,{"$f":"RESULTS!O14","v":" Block 1 Player 4"},{"$f":"RESULTS!P14","v":-1E-3},{"$f":"RESULTS!Q14","v":-1E-3}]
[null,null,null,null,null,null,null,null,null,null,{"$f":"RESULTS!O15","v":" Block 1 Player 3"},{"$f":"RESULTS!P15","v":-1E-3},{"$f":"RESULTS!Q15","v":-1E-3}]
[null,null,null,null,null,null,null,null,null,null,{"$f":"RESULTS!O16","v":" Block 1 Player 1"},{"$f":"RESULTS!P16","v":-1E-3},{"$f":"RESULTS!Q16","v":-1E-3}]
[null,null,null,null,null,null,null,null,null,null,{"$f":"RESULTS!O17","v":" Block 1 Player 10"},{"$f":"RESULTS!P17","v":-1E-3},{"$f":"RESULTS!Q17","v":-1E-3}]
[null,null,null,null,null,null,null,null,null,null,{"$f":"RESULTS!O18","v":" Block 1 Player 9"},{"$f":"RESULTS!P18","v":-1E-3},{"$f":"RESULTS!Q18","v":-1E-3}]
[null,null,null,null,null,null,null,null,null,null,{"$f":"RESULTS!O19","v":" Block 1 Player 11"},{"$f":"RESULTS!P19","v":-1E-3},{"$f":"RESULTS!Q19","v":-1E-3}]
[null,null,null,null,null,null,null,null,null,null,{"$f":"RESULTS!O20","v":" Block 1 Player 8"},{"$f":"RESULTS!P20","v":-1E-3},{"$f":"RESULTS!Q20","v":-1E-3}]
[null,null,null,null,null,null,null,null,null,null,{"$f":"RESULTS!O21","v":" Block 1 Player 12"},{"$f":"RESULTS!P21","v":-1E-3},{"$f":"RESULTS!Q21","v":-1E-3}]
[null,null,null,null,null,null,null,null,null,null,{"$f":"RESULTS!O22","v":" Block 1 Player 7"},{"$f":"RESULTS!P22","v":-1E-3},{"$f":"RESULTS!Q22","v":-1E-3}]
[null,null,null,null,null,null,null,null,null,null,{"$f":"RESULTS!O23","v":" Block 1 Player 2"},{"$f":"RESULTS!P23","v":-1E-3},{"$f":"RESULTS!Q23","v":-1E-3}]
[null,null,null,null,null,null,null,null,null,null,{"$f":"RESULTS!O24","v":" Block 1 Player 6"},{"$f":"RESULTS!P24","v":-1E-3},{"$f":"RESULTS!Q24","v":-1E-3}]
[null,null,null,null,null,null,null,null,null,null,{"$f":"RESULTS!O25","v":" Block 1 Player 3"},{"$f":"RESULTS!P25","v":-1E-3},{"$f":"RESULTS!Q25","v":-1E-3}]
[null,null,null,null,null,null,null,null,null,null,{"$f":"RESULTS!O26","v":" Block 1 Player 5"},{"$f":"RESULTS!P26","v":-1E-3},{"$f":"RESULTS!Q26","v":-1E-3}]
[null,null,null,null,null,null,null,null,null,null,{"$f":"RESULTS!O27","v":" Block 1 Player 4"},{"$f":"RESULTS!P27","v":-1E-3},{"$f":"RESULTS!Q27","v":-1E-3}]
[null,null,null,null,null,null,null,null,null,null,{"$f":"RESULTS!S4","v":" Block 1 Player 1"},{"$f":"RESULTS!T4","v":-1E-3},{"$f":"RESULTS!U4","v":-1E-3}]
[null,null,null,null,null,null,null,null,null,null,{"$f":"RESULTS!S5","v":" Block 1 Player 11"},{"$f":"RESULTS!T5","v":-1E-3},{"$f":"RESULTS!U5","v":-1E-3}]
[null,null,null,null,null,null,null,null,null,null,{"$f":"RESULTS!S6","v":" Block 1 Player 10"},{"$f":"RESULTS!T6","v":-1E-3},{"$f":"RESULTS!U6","v":-1E-3}]
[null,null,null,null,null,null,null,null,null,null,{"$f":"RESULTS!S7","v":" Block 1 Player 12"},{"$f":"RESULTS!T7","v":-1E-3},{"$f":"RESULTS!U7","v":-1E-3}]
[null,null,null,null,null,null,null,null,null,null,{"$f":"RESULTS!S8","v":" Block 1 Player 2"},{"$f":"RESULTS!T8","v":-1E-3},{"$f":"RESULTS!U8","v":-1E-3}]
[null,null,null,null,null,null,null,null,null,null,{"$f":"RESULTS!S9","v":" Block 1 Player 9"},{"$f":"RESULTS!T9","v":-1E-3},{"$f":"RESULTS!U9","v":-1E-3}]
[null,null,null,null,null,null,null,null,null,null,{"$f":"RESULTS!S10","v":" Block 1 Player 3"},{"$f":"RESULTS!T10","v":-1E-3},{"$f":"RESULTS!U10","v":-1E-3}]
[null,null,null,null,null,null,null,null,null,null,{"$f":"RESULTS!S11","v":" Block 1 Player 8"},{"$f":"RESULTS!T11","v":-1E-3},{"$f":"RESULTS!U11","v":-1E-3}]
[null,null,null,null,null,null,null,null,null,null,{"$f":"RESULTS!S12","v":" Block 1 Player 4"},{"$f":"RESULTS!T12","v":-1E-3},{"$f":"RESULTS!U12","v":-1E-3}]
[null,null,null,null,null,null,null,null,null,null,{"$f":"RESULTS!S13","v":" Block 1 Player 7"},{"$f":"RESULTS!T13","v":-1E-3},{"$f":"RESULTS!U13","v":-1E-3}]
[null,null,null,null,null,null,null,null,null,null,{"$f":"RESULTS!S14","v":" Block 1 Player 5"},{"$f":"RESULTS!T14","v":-1E-3},{"$f":"RESULTS!U14","v":-1E-3}]
[null,null,null,null,null,null,null,null,null,null,{"$f":"RESULTS!S15","v":" Block 1 Player 6"},{"$f":"RESULTS!T15","v":-1E-3},{"$f":"RESULTS!U15","v":-1E-3}]
[null,null,null,null,null,null,null,null,null,null,{"$f":"RESULTS!S16","v":" Block 1 Player 1"},{"$f":"RESULTS!T16","v":-1E-3},{"$f":"RESULTS!U16","v":-1E-3}]
[null,null,null,null,null,null,null,null,null,null,{"$f":"RESULTS!S17","v":" Block 1 Player 12"},{"$f":"RESULTS!T17","v":-1E-3},{"$f":"RESULTS!U17","v":-1E-3}]
[null,null,null,null,null,null,null,null,null,null,{"$f":"RESULTS!S18","v":" Block 1 Player 11"},{"$f":"RESULTS!T18","v":-1E-3},{"$f":"RESULTS!U18","v":-1E-3}]
[null,null,null,null,null,null,null,null,null,null,{"$f":"RESULTS!S19","v":" Block 1 Player 2"},{"$f":"RESULTS!T19","v":-1E-3},{"$f":"RESULTS!U19","v":-1E-3}]
[null,null,null,null,null,null,null,null,null,null,{"$f":"RESULTS!S20","v":" Block 1 Player 10"},{"$f":"RESULTS!T20","v":-1E-3},{"$f":"RESULTS!U20","v":-1E-3}]
[null,null,null,null,null,null,null,null,null,null,{"$f":"RESULTS!S21","v":" Block 1 Player 3"},{"$f":"RESULTS!T21","v":-1E-3},{"$f":"RESULTS!U21","v":-1E-3}]
[null,null,null,null,null,null,null,null,null,null,{"$f":"RESULTS!S22","v":" Block 1 Player 9"},{"$f":"RESULTS!T22","v":-1E-3},{"$f":"RESULTS!U22","v":-1E-3}]
[null,null,null,null,null,null,null,null,null,null,{"$f":"RESULTS!S23","v":" Block 1 Player 4"},{"$f":"RESULTS!T23","v":-1E-3},{"$f":"RESULTS!U23","v":-1E-3}]
[null,null,null,null,null,null,null,null,null,null,{"$f":"RESULTS!S24","v":" Block 1 Player 8"},{"$f":"RESULTS!T24","v":-1E-3},{"$f":"RESULTS!U24","v":-1E-3}]
[null,null,null,null,null,null,null,null,null,null,{"$f":"RESULTS!S25","v":" Block 1 Player 5"},{"$f":"RESULTS!T25","v":-1E-3},{"$f":"RESULTS!U25","v":-1E-3}]
[null,null,null,null,null,null,null,null,null,null,{"$f":"RESULTS!S26","v":" Block 1 Player 7"},{"$f":"RESULTS!T26","v":-1E-3},{"$f":"RESULTS!U26","v":-1E-3}]
[null,null,null,null,null,null,null,null,null,null,{"$f":"RESULTS!S27","v":" Block 1 Player 6"},{"$f":"RESULTS!T27","v":-1E-3},{"$f":"RESULTS!U27","v":-1E-3}]
[null,null,null,null,null,null,null,null,null,null,{"$f":"RESULTS!W4","v":" Block 1 Player 1"},{"$f":"RESULTS!X4","v":-1E-3},{"$f":"RESULTS!Y4","v":-1E-3}]
[null,null,null,null,null,null,null,null,null,null,{"$f":"RESULTS!W5","v":" Block 1 Player 2"},{"$f":"RESULTS!X5","v":-1E-3},{"$f":"RESULTS!Y5","v":-1E-3}]
[null,null,null,null,null,null,null,null,null,null,{"$f":"RESULTS!W6","v":" Block 1 Player 12"},{"$f":"RESULTS!X6","v":-1E-3},{"$f":"RESULTS!Y6","v":-1E-3}]
[null,null,null,null,null,null,null,null,null,null,{"$f":"RESULTS!W7","v":" Block 1 Player 3"},{"$f":"RESULTS!X7","v":-1E-3},{"$f":"RESULTS!Y7","v":-1E-3}]
[null,null,null,null,null,null,null,null,null,null,{"$f":"RESULTS!W8","v":" Block 1 Player 11"},{"$f":"RESULTS!X8","v":-1E-3},{"$f":"RESULTS!Y8","v":-1E-3}]
[null,null,null,null,null,null,null,null,null,null,{"$f":"RESULTS!W9","v":" Block 1 Player 4"},{"$f":"RESULTS!X9","v":-1E-3},{"$f":"RESULTS!Y9","v":-1E-3}]
[null,null,null,null,null,null,null,null,null,null,{"$f":"RESULTS!W10","v":" Block 1 Player 10"},{"$f":"RESULTS!X10","v":-1E-3},{"$f":"RESULTS!Y10","v":-1E-3}]
[null,null,null,null,null,null,null,null,null,null,{"$f":"RESULTS!W11","v":" Block 1 Player 5"},{"$f":"RESULTS!X11","v":-1E-3},{"$f":"RESULTS!Y11","v":-1E-3}]
[null,null,null,null,null,null,null,null,null,null,{"$f":"RESULTS!W12","v":" Block 1 Player 9"},{"$f":"RESULTS!X12","v":-1E-3},{"$f":"RESULTS!Y12","v":-1E-3}]
[null,null,null,null,null,null,null,null,null,null,{"$f":"RESULTS!W13","v":" Block 1 Player 6"},{"$f":"RESULTS!X13","v":-1E-3},{"$f":"RESULTS!Y13","v":-1E-3}]
[null,null,null,null,null,null,null,null,null,null,{"$f":"RESULTS!W14","v":" Block 1 Player 8"},{"$f":"RESULTS!X14","v":-1E-3},{"$f":"RESULTS!Y14","v":-1E-3}]
[null,null,null,null,null,null,null,null,null,null,{"$f":"RESULTS!W15","v":" Block 1 Player 7"},{"$f":"RESULTS!X15","v":-1E-3},{"$f":"RESULTS!Y15","v":-1E-3}]
[]
[]
["BLOCK 2",null,"Name",null,"Name","Margin","Peels","Time","Day",null,"LU Name","Score","Peels"]
[null,null,{"$f":"IF(L139<0,\"\",IF(L139>L140,K139,K140))","v":""},"beat",{"$f":"IF(L139<0,\"\",IF(L139>L140,K140,K139))","v":""},{"$f":"IF(L139>L140,L139-L140,L140-L139)","v":0},{"$f":"IF(C139=\"\",\"\",IF(L139>L140,M139,M140))","v":""},{"$f":"GAMES!B72","v":"00:00:00"},{"$f":"GAMES!C72","v":"00:00:00"},null,{"$f":"RESULTS!C34","v":" Block 2 Player 1"},{"$f":"RESULTS!D34","v":-1E-3},{"$f":"RESULTS!E34","v":-1E-3}]
[null,null,{"$f":"IF(L141<0,\"\",IF(L141>L142,K141,K142))","v":""},"beat",{"$f":"IF(L141<0,\"\",IF(L141>L142,K142,K141))","v":""},{"$f":"IF(L141>L142,L141-L142,L142-L141)","v":0},{"$f":"IF(C140=\"\",\"\",IF(L141>L142,M141,M142))","v":""},{"$f":"GAMES!B73","v":"00:00:00"},{"$f":"GAMES!C73","v":"00:00:00"},null,{"$f":"RESULTS!C35","v":" Block 2 Player 3"},{"$f":"RESULTS!D35","v":-1E-3},{"$f":"RESULTS!E35","v":-1E-3}]
[null,null,{"$f":"IF(L143<0,\"\",IF(L143>L144,K143,K144))","v":""},"beat",{"$f":"IF(L143<0,\"\",IF(L143>L144,K144,K143))","v":""},{"$f":"IF(L143>L144,L143-L144,L144-L143)","v":0},{"$f":"IF(C141=\"\",\"\",IF(L143>L144,M143,M144))","v":""},{"$f":"GAMES!B74","v":"00:00:00"},{"$f":"GAMES!C74","v":"00:00:00"},null,{"$f":"RESULTS!C36","v":" Block 2 Player 2"},{"$f":"RESULTS!D36","v":-1E-3},{"$f":"RESULTS!E36","v":-1E-3}]
[null,null,{"$f":"IF(L145<0,\"\",IF(L145>L146,K145,K146))","v":""},"beat",{"$f":"IF(L145<0,\"\",IF(L145>L146,K146,K145))","v":""},{"$f":"IF(L145>L146,L145-L146,L146-L145)","v":0},{"$f":"IF(C142=\"\",\"\",IF(L145>L146,M145,M146))","v":""},{"$f":"GAMES!B75","v":"00:00:00"},{"$f":"GAMES!C75","v":"00:00:00"},null,{"$f":"RESULTS!C37","v":" Block 2 Player 4"},{"$f":"RESULTS!D37","v":-1E-3},{"$f":"RESULTS!E37","v":-1E-3}]
[null,null,{"$f":"IF(L147<0,\"\",IF(L147>L148,K147,K148))","v":""},"beat",{"$f":"IF(L147<0,\"\",IF(L147>L148,K148,K147))","v":""},{"$f":"IF(L147>L148,L147-L148,L148-L147)","v":0},{"$f":"IF(C143=\"\",\"\",IF(L147>L148,M147,M148))","v":""},{"$f":"GAMES!B76","v":"00:00:00"},{"$f":"GAMES!C76","v":"00:00:00"},null,{"$f":"RESULTS!C38","v":" Block 2 Player 12"},{"$f":"RESULTS!D38","v":-1E-3},{"$f":"RESULTS!E38","v":-1E-3}]
[null,null,{"$f":"IF(L149<0,\"\",IF(L149>L150,K149,K150))","v":""},"beat",{"$f":"IF(L149<0,\"\",IF(L149>L150,K150,K149))","v":""},{"$f":"IF(L149>L150,L149-L150,L150-L149)","v":0},{"$f":"IF(C144=\"\",\"\",IF(L149>L150,M149,M150))","v":""},{"$f":"GAMES!B77","v":"00:00:00"},{"$f":"GAMES!C77","v":"00:00:00"},null,{"$f":"RESULTS!C39","v":" Block 2 Player 5"},{"$f":"RESULTS!D39","v":-1E-3},{"$f":"RESULTS!E39","v":-1E-3}]
[null,null,{"$f":"IF(L151<0,\"\",IF(L151>L152,K151,K152))","v":""},"beat",{"$f":"IF(L151<0,\"\",IF(L151>L152,K152,K151))","v":""},{"$f":"IF(L151>L152,L151-L152,L152-L151)","v":0},{"$f":"IF(C145=\"\",\"\",IF(L151>L152,M151,M152))","v":""},{"$f":"GAMES!B78","v":"00:00:00"},{"$f":"GAMES!C78","v":"00:00:00"},null,{"$f":"RESULTS!C40","v":" Block 2 Player 11"},{"$f":"RESULTS!D40","v":-1E-3},{"$f":"RESULTS!E40","v":-1E-3}]
[null,null,{"$f":"IF(L153<0,\"\",IF(L153>L154,K153,K154))","v":""},"beat",{"$f":"IF(L153<0,\"\",IF(L153>L154,K154,K153))","v":""},{"$f":"IF(L153>L154,L153-L154,L154-L153)","v":0},{"$f":"IF(C146=\"\",\"\",IF(L153>L154,M153,M154))","v":""},{"$f":"GAMES!B79","v":"00:00:00"},{"$f":"GAMES!C79","v":"00:00:00"},null,{"$f":"RESULTS!C41","v":" Block 2 Player 6"},{"$f":"RESULTS!D41","v":-1E-3},{"$f":"RESULTS!E41","v":-1E-3}]
[null,null,{"$f":"IF(L155<0,\"\",IF(L155>L156,K155,K156))","v":""},"beat",{"$f":"IF(L155<0,\"\",IF(L155>L156,K156,K155))","v":""},{"$f":"IF(L155>L156,L155-L156,L156-L155)","v":0},{"$f":"IF(C147=\"\",\"\",IF(L155>L156,M155,M156))","v":""},{"$f":"GAMES!B80","v":"00:00:00"},{"$f":"GAMES!C80","v":"00:00:00"},null,{"$f":"RESULTS!C42","v":" Block 2 Player 10"},{"$f":"RESULTS!D42","v":-1E-3},{"$f":"RESULTS!E42","v":-1E-3}]
[null,null,{"$f":"IF(L157<0,\"\",IF(L157>L158,K157,K158))","v":""},"beat",{"$f":"IF(L157<0,\"\",IF(L157>L158,K158,K157))","v":""},{"$f":"IF(L157>L158,L157-L158,L158-L157)","v":0},{"$f":"IF(C148=\"\",\"\",IF(L157>L158,M157,M158))","v":""},{"$f":"GAMES!B81","v":"00:00:00"},{"$f":"GAMES!C81","v":"00:00:00"},null,{"$f":"RESULTS!C43","v":" Block 2 Player 7"},{"$f":"RESULTS!D43","v":-1E-3},{"$f":"RESULTS!E43","v":-1E-3}]
[null,null,{"$f":"IF(L159<0,\"\",IF(L159>L160,K159,K160))","v":""},"beat",{"$f":"IF(L159<0,\"\",IF(L159>L160,K160,K159))","v":""},{"$f":"IF(L159>L160,L159-L160,L160-L159)","v":0},{"$f":"IF(C149=\"\",\"\",IF(L159>L160,M159,M160))","v":""},{"$f":"GAMES!B82","v":"00:00:00"},{"$f":"GAMES!C82","v":"00:00:00"},null,{"$f":"RESULTS!C44","v":" Block 2 Player 9"},{"$f":"RESULTS!D44","v":-1E-3},{"$f":"RESULTS!E44","v":-1E-3}]
[null,null,{"$f":"IF(L161<0,\"\",IF(L161>L162,K161,K162))","v":""},"beat",{"$f":"IF(L161<0,\"\",IF(L161>L162,K162,K161))","v":""},{"$f":"IF(L161>L162,L161-L162,L162-L161)","v":0},{"$f":"IF(C150=\"\",\"\",IF(L161>L162,M161,M162))","v":""},{"$f":"GAMES!B83","v":"00:00:00"},{"$f":"GAMES!C83","v":"00:00:00"},null,{"$f":"RESULTS!C45","v":" Block 2 Player 8"},{"$f":"RESULTS!D45","v":-1E-3},{"$f":"RESULTS!E45","v":-1E-3}]
[null,null,{"$f":"IF(L163<0,\"\",IF(L163>L164,K163,K164))","v":""},"beat",{"$f":"IF(L163<0,\"\",IF(L163>L164,K164,K163))","v":""},{"$f":"IF(L163>L164,L163-L164,L164-L163)","v":0},{"$f":"IF(C151=\"\",\"\",IF(L163>L164,M163,M164))","v":""},{"$f":"GAMES!B84","v":"00:00:00"},{"$f":"GAMES!C84","v":"00:00:00"},null,{"$f":"RESULTS!C46","v":" Block 2 Player 1"},{"$f":"RESULTS!D46","v":-1E-3},{"$f":"RESULTS!E46","v":-1E-3}]
[null,null,{"$f":"IF(L165<0,\"\",IF(L165>L166,K165,K166))","v":""},"beat",{"$f":"IF(L165<0,\"\",IF(L165>L166,K166,K165))","v":""},{"$f":"IF(L165>L166,L165-L166,L166-L165)","v":0},{"$f":"IF(C152=\"\",\"\",IF(L165>L166,M165,M166))","v":""},{"$f":"GAMES!B85","v":"00:00:00"},{"$f":"GAMES!C85","v":"00:00:00"},null,{"$f":"RESULTS!C47","v":" Block 2 Player 4"},{"$f":"RESULTS!D47","v":-1E-3},{"$f":"RESULTS!E47","v":-1E-3}]
[null,null,{"$f":"IF(L167<0,\"\",IF(L167>L168,K167,K168))","v":""},"beat",{"$f":"IF(L167<0,\"\",IF(L167>L168,K168,K167))","v":""},{"$f":"IF(L167>L168,L167-L168,L168-L167)","v":0},{"$f":"IF(C153=\"\",\"\",IF(L167>L168,M167,M168))","v":""},{"$f":"GAMES!B86","v":"00:00:00"},{"$f":"GAMES!C86","v":"00:00:00"},null,{"$f":"RESULTS!C48","v":" Block 2 Player 5"},{"$f":"RESULTS!D48","v":-1E-3},{"$f":"RESULTS!E48","v":-1E-3}]
[null,null,{"$f":"IF(L169<0,\"\",IF(L169>L170,K169,K170))","v":""},"beat",{"$f":"IF(L169<0,\"\",IF(L169>L170,K170,K169))","v":""},{"$f":"IF(L169>L170,L169-L170,L170-L169)","v":0},{"$f":"IF(C154=\"\",\"\",IF(L169>L170,M169,M170))","v":""},{"$f":"GAMES!B87","v":"00:00:00"},{"$f":"GAMES!C87","v":"00:00:00"},null,{"$f":"RESULTS!C49","v":" Block 2 Player 3"},{"$f":"RESULTS!D49","v":-1E-3},{"$f":"RESULTS!E49","v":-1E-3}]
[null,null,{"$f":"IF(L171<0,\"\",IF(L171>L172,K171,K172))","v":""},"beat",{"$f":"IF(L171<0,\"\",IF(L171>L172,K172,K171))","v":""},{"$f":"IF(L171>L172,L171-L172,L172-L171)","v":0},{"$f":"IF(C155=\"\",\"\",IF(L171>L172,M171,M172))","v":""},{"$f":"GAMES!B88","v":"00:00:00"},{"$f":"GAMES!C88","v":"00:00:00"},null,{"$f":"RESULTS!C50","v":" Block 2 Player 2"},{"$f":"RESULTS!D50","v":-1E-3},{"$f":"RESULTS!E50","v":-1E-3}]
[null,null,{"$f":"IF(L173<0,\"\",IF(L173>L174,K173,K174))","v":""},"beat",{"$f":"IF(L173<0,\"\",IF(L173>L174,K174,K173))","v":""},{"$f":"IF(L173>L174,L173-L174,L174-L173)","v":0},{"$f":"IF(C156=\"\",\"\",IF(L173>L174,M173,M174))","v":""},{"$f":"GAMES!B89","v":"00:00:00"},{"$f":"GAMES!C89","v":"00:00:00"},null,{"$f":"RESULTS!C51","v":" Block 2 Player 6"},{"$f":"RESULTS!D51","v":-1E-3},{"$f":"RESULTS!E51","v":-1E-3}]
[null,null,{"$f":"IF(L175<0,\"\",IF(L175>L176,K175,K176))","v":""},"beat",{"$f":"IF(L175<0,\"\",IF(L175>L176,K176,K175))","v":""},{"$f":"IF(L175>L176,L175-L176,L176-L175)","v":0},{"$f":"IF(C157=\"\",\"\",IF(L175>L176,M175,M176))","v":""},{"$f":"GAMES!B90","v":"00:00:00"},{"$f":"GAMES!C90","v":"00:00:00"},null,{"$f":"RESULTS!C52","v":" Block 2 Player 12"},{"$f":"RESULTS!D52","v":-1E-3},{"$f":"RESULTS!E52","v":-1E-3}]
[null,null,{"$f":"IF(L177<0,\"\",IF(L177>L178,K177,K178))","v":""},"beat",{"$f":"IF(L177<0,\"\",IF(L177>L178,K178,K177))","v":""},{"$f":"IF(L177>L178,L177-L178,L178-L177)","v":0},{"$f":"IF(C158=\"\",\"\",IF(L177>L178,M177,M178))","v":""},{"$f":"GAMES!B91","v":"00:00:00"},{"$f":"GAMES!C91","v":"00:00:00"},null,{"$f":"RESULTS!C53","v":" Block 2 Player 7"},{"$f":"RESULTS!D53","v":-1E-3},{"$f":"RESULTS!E53","v":-1E-3}]
[null,null,{"$f":"IF(L179<0,\"\",IF(L179>L180,K179,K180))","v":""},"beat",{"$f":"IF(L179<0,\"\",IF(L179>L180,K180,K179))","v":""},{"$f":"IF(L179>L180,L179-L180,L180-L179)","v":0},{"$f":"IF(C159=\"\",\"\",IF(L179>L180,M179,M180))","v":""},{"$f":"GAMES!B92","v":"00:00:00"},{"$f":"GAMES!C92","v":"00:00:00"},null,{"$f":"RESULTS!C54","v":" Block 2 Player 11"},{"$f":"RESULTS!D54","v":-1E-3},{"$f":"RESULTS!E54","v":-1E-3}]
[null,null,{"$f":"IF(L181<0,\"\",IF(L181>L182,K181,K182))","v":""},"beat",{"$f":"IF(L181<0,\"\",IF(L181>L182,K182,K181))","v":""},{"$f":"IF(L181>L182,L181-L182,L182-L181)","v":0},{"$f":"IF(C160=\"\",\"\",IF(L181>L182,M181,M182))","v":""},{"$f":"GAMES!B93","v":"00:00:00"},{"$f":"GAMES!C93","v":"00:00:00"},null,{"$f":"RESULTS!C55","v":" Block 2 Player 8"},{"$f":"RESULTS!D55","v":-1E-3},{"$f":"RESULTS!E55","v":-1E-3}]
[null,null,{"$f":"IF(L183<0,\"\",IF(L183>L184,K183,K184))","v":""},"beat",{"$f":"IF(L183<0,\"\",IF(L183>L184,K184,K183))","v":""},{"$f":"IF(L183>L184,L183-L184,L184-L183)","v":0},{"$f":"IF(C161=\"\",\"\",IF(L183>L184,M183,M184))","v":""},{"$f":"GAMES!B94","v":"00:00:00"},{"$f":"GAMES!C94","v":"00:00:00"},null,{"$f":"RESULTS!C56","v":" Block 2 Player 10"},{"$f":"RESULTS!D56","v":-1E-3},{"$f":"RESULTS!E56","v":-1E-3}]
[null,null,{"$f":"IF(L185<0,\"\",IF(L185>L186,K185,K186))","v":""},"beat",{"$f":"IF(L185<0,\"\",IF(L185>L186,K186,K185))","v":""},{"$f":"IF(L185>L186,L185-L186,L186-L185)","v":0},{"$f":"IF(C162=\"\",\"\",IF(L185>L186,M185,M186))","v":""},{"$f":"GAMES!B95","v":"00:00:00"},{"$f":"GAMES!C95","v":"00:00:00"},null,{"$f":"RESULTS!C57","v":" Block 2 Player 9"},{"$f":"RESULTS!D57","v":-1E-3},{"$f":"RESULTS!E57","v":-1E-3}]
[null,null,{"$f":"IF(L187<0,\"\",IF(L187>L188,K187,K188))","v":""},"beat",{"$f":"IF(L187<0,\"\",IF(L187>L188,K188,K187))","v":""},{"$f":"IF(L187>L188,L187-L188,L188-L187)","v":0},{"$f":"IF(C163=\"\",\"\",IF(L187>L188,M187,M188))","v":""},{"$f":"GAMES!B96","v":"00:00:00"},{"$f":"GAMES!C96","v":"00:00:00"},null,{"$f":"RESULTS!G34","v":" Block 2 Player 1"},{"$f":"RESULTS!H34","v":-1E-3},{"$f":"RESULTS!I34","v":-1E-3}]
[null,null,{"$f":"IF(L189<0,\"\",IF(L189>L190,K189,K190))","v":""},"beat",{"$f":"IF(L189<0,\"\",IF(L189>L190,K190,K189))","v":""},{"$f":"IF(L189>L190,L189-L190,L190-L189)","v":0},{"$f":"IF(C164=\"\",\"\",IF(L189>L190,M189,M190))","v":""},{"$f":"GAMES!B97","v":"00:00:00"},{"$f":"GAMES!C97","v":"00:00:00"},null,{"$f":"RESULTS!G35","v":" Block 2 Player 5"},{"$f":"RESULTS!H35","v":-1E-3},{"$f":"RESULTS!I35","v":-1E-3}]
[null,null,{"$f":"IF(L191<0,\"\",IF(L191>L192,K191,K192))","v":""},"beat",{"$f":"IF(L191<0,\"\",IF(L191>L192,K192,K191))","v":""},{"$f":"IF(L191>L192,L191-L192,L192-L191)","v":0},{"$f":"IF(C165=\"\",\"\",IF(L191>L192,M191,M192))","v":""},{"$f":"GAMES!B98","v":"00:00:00"},{"$f":"GAMES!C98","v":"00:00:00"},null,{"$f":"RESULTS!G36","v":" Block 2 Player 4"},{"$f":"RESULTS!H36","v":-1E-3},{"$f":"RESULTS!I36","v":-1E-3}]
[null,null,{"$f":"IF(L193<0,\"\",IF(L193>L194,K193,K194))","v":""},"beat",{"$f":"IF(L193<0,\"\",IF(L193>L194,K194,K193))","v":""},{"$f":"IF(L193>L194,L193-L194,L194-L193)","v":0},{"$f":"IF(C166=\"\",\"\",IF(L193>L194,M193,M194))","v":""},{"$f":"GAMES!B99","v":"00:00:00"},{"$f":"GAMES!C99","v":"00:00:00"},null,{"$f":"RESULTS!G37","v":" Block 2 Player 6"},{"$f":"RESULTS!H37","v":-1E-3},{"$f":"RESULTS!I37","v":-1E-3}]
[null,null,{"$f":"IF(L195<0,\"\",IF(L195>L196,K195,K196))","v":""},"beat",{"$f":"IF(L195<0,\"\",IF(L195>L196,K196,K195))","v":""},{"$f":"IF(L195>L196,L195-L196,L196-L195)","v":0},{"$f":"IF(C167=\"\",\"\",IF(L195>L196,M195,M196))","v":""},{"$f":"GAMES!B100","v":"00:00:00"},{"$f":"GAMES!C100","v":"00:00:00"},null,{"$f":"RESULTS!G38","v":" Block 2 Player 3"},{"$f":"RESULTS!H38","v":-1E-3},{"$f":"RESULTS!I38","v":-1E-3}]
[null,null,{"$f":"IF(L197<0,\"\",IF(L197>L198,K197,K198))","v":""},"beat",{"$f":"IF(L197<0,\"\",IF(L197>L198,K198,K197))","v":""},{"$f":"IF(L197>L198,L197-L198,L198-L197)","v":0},{"$f":"IF(C168=\"\",\"\",IF(L197>L198,M197,M198))","v":""},{"$f":"GAMES!B101","v":"00:00:00"},{"$f":"GAMES!C101","v":"00:00:00"},null,{"$f":"RESULTS!G39","v":" Block 2 Player 7"},{"$f":"RESULTS!H39","v":-1E-3},{"$f":"RESULTS!I39","v":-1E-3}]
[null,null,{"$f":"IF(L199<0,\"\",IF(L199>L200,K199,K200))","v":""},"beat",{"$f":"IF(L199<0,\"\",IF(L199>L200,K200,K199))","v":""},{"$f":"IF(L199>L200,L199-L200,L200-L199)","v":0},{"$f":"IF(C169=\"\",\"\",IF(L199>L200,M199,M200))","v":""},{"$f":"GAMES!B102","v":"00:00:00"},{"$f":"GAMES!C102","v":"00:00:00"},null,{"$f":"RESULTS!G40","v":" Block 2 Player 2"},{"$f":"RESULTS!H40","v":-1E-3},{"$f":"RESULTS!I40","v":-1E-3}]
[null,null,{"$f":"IF(L201<0,\"\",IF(L201>L202,K201,K202))","v":""},"beat",{"$f":"IF(L201<0,\"\",IF(L201>L202,K202,K201))","v":""},{"$f":"IF(L201>L202,L201-L202,L202-L201)","v":0},{"$f":"IF(C170=\"\",\"\",IF(L201>L202,M201,M202))","v":""},{"$f":"GAMES!B103","v":"00:00:00"},{"$f":"GAMES!C103","v":"00:00:00"},null,{"$f":"RESULTS!G41","v":" Block 2 Player 8"},{"$f":"RESULTS!H41","v":-1E-3},{"$f":"RESULTS!I41","v":-1E-3}]
[null,null,{"$f":"IF(L203<0,\"\",IF(L203>L204,K203,K204))","v":""},"beat",{"$f":"IF(L203<0,\"\",IF(L203>L204,K204,K203))","v":""},{"$f":"IF(L203>L204,L203-L204,L204-L203)","v":0},{"$f":"IF(C171=\"\",\"\",IF(L203>L204,M203,M204))","v":""},{"$f":"GAMES!B104","v":"00:00:00"},{"$f":"GAMES!C104","v":"00:00:00"},null,{"$f":"RESULTS!G42","v":" Block 2 Player 12"},{"$f":"RESULTS!H42","v":-1E-3},{"$f":"RESULTS!I42","v":-1E-3}]
[null,null,{"$f":"IF(L205<0,\"\",IF(L205>L206,K205,K206))","v":""},"beat",{"$f":"IF(L205<0,\"\",IF(L205>L206,K206,K205))","v":""},{"$f":"IF(L205>L206,L205-L206,L206-L205)","v":0},{"$f":"IF(C172=\"\",\"\",IF(L205>L206,M205,M206))","v":""},{"$f":"GAMES!B105","v":"00:00:00"},{"$f":"GAMES!C105","v":"00:00:00"},null,{"$f":"RESULTS!G43","v":" Block 2 Player 9"},{"$f":"RESULTS!H43","v":-1E-3},{"$f":"RESULTS!I43","v":-1E-3}]
[null,null,{"$f":"IF(L207<0,\"\",IF(L207>L208,K207,K208))","v":""},"beat",{"$f":"IF(L207<0,\"\",IF(L207>L208,K208,K207))","v":""},{"$f":"IF(L207>L208,L207-L208,L208-L207)","v":0},{"$f":"IF(C173=\"\",\"\",IF(L207>L208,M207,M208))","v":""},{"$f":"GAMES!B106","v":"00:00:00"},{"$f":"GAMES!C106","v":"00:00:00"},null,{"$f":"RESULTS!G44","v":" Block 2 Player 11"},{"$f":"RESULTS!H44","v":-1E-3},{"$f":"RESULTS!I44","v":-1E-3}]
[null,null,{"$f":"IF(L209<0,\"\",IF(L209>L210,K209,K210))","v":""},"beat",{"$f":"IF(L209<0,\"\",IF(L209>L210,K210,K209))","v":""},{"$f":"IF(L209>L210,L209-L210,L210-L209)","v":0},{"$f":"IF(C174=\"\",\"\",IF(L209>L210,M209,M210))","v":""},{"$f":"GAMES!B107","v":"00:00:00"},{"$f":"GAMES!C107","v":"00:00:00"},null,{"$f":"RESULTS!G45","v":" Block 2 Player 10"},{"$f":"RESULTS!H45","v":-1E-3},{"$f":"RESULTS!I45","v":-1E-3}]
[null,null,{"$f":"IF(L211<0,\"\",IF(L211>L212,K211,K212))","v":""},"beat",{"$f":"IF(L211<0,\"\",IF(L211>L212,K212,K211))","v":""},{"$f":"IF(L211>L212,L211-L212,L212-L211)","v":0},{"$f":"IF(C175=\"\",\"\",IF(L211>L212,M211,M212))","v":""},{"$f":"GAMES!B108","v":"00:00:00"},{"$f":"GAMES!C108","v":"00:00:00"},null,{"$f":"RESULTS!G46","v":" Block 2 Player 1"},{"$f":"RESULTS!H46","v":-1E-3},{"$f":"RESULTS!I46","v":-1E-3}]
[null,null,{"$f":"IF(L213<0,\"\",IF(L213>L214,K213,K214))","v":""},"beat",{"$f":"IF(L213<0,\"\",IF(L213>L214,K214,K213))","v":""},{"$f":"IF(L213>L214,L213-L214,L214-L213)","v":0},{"$f":"IF(C176=\"\",\"\",IF(L213>L214,M213,M214))","v":""},{"$f":"GAMES!B109","v":"00:00:00"},{"$f":"GAMES!C109","v":"00:00:00"},null,{"$f":"RESULTS!G47","v":" Block 2 Player 6"},{"$f":"RESULTS!H47","v":-1E-3},{"$f":"RESULTS!I47","v":-1E-3}]
[null,null,{"$f":"IF(L215<0,\"\",IF(L215>L216,K215,K216))","v":""},"beat",{"$f":"IF(L215<0,\"\",IF(L215>L216,K216,K215))","v":""},{"$f":"IF(L215>L216,L215-L216,L216-L215)","v":0},{"$f":"IF(C177=\"\",\"\",IF(L215>L216,M215,M216))","v":""},{"$f":"GAMES!B110","v":"00:00:00"},{"$f":"GAMES!C110","v":"00:00:00"},null,{"$f":"RESULTS!G48","v":" Block 2 Player 5"},{"$f":"RESULTS!H48","v":-1E-3},{"$f":"RESULTS!I48","v":-1E-3}]
[null,null,{"$f":"IF(L217<0,\"\",IF(L217>L218,K217,K218))","v":""},"beat",{"$f":"IF(L217<0,\"\",IF(L217>L218,K218,K217))","v":""},{"$f":"IF(L217>L218,L217-L218,L218-L217)","v":0},{"$f":"IF(C178=\"\",\"\",IF(L217>L218,M217,M218))","v":""},{"$f":"GAMES!B111","v":"00:00:00"},{"$f":"GAMES!C111","v":"00:00:00"},null,{"$f":"RESULTS!G49","v":" Block 2 Player 7"},{"$f":"RESULTS!H49","v":-1E-3},{"$f":"RESULTS!I49","v":-1E-3}]
[null,null,{"$f":"IF(L219<0,\"\",IF(L219>L220,K219,K220))","v":""},"beat",{"$f":"IF(L219<0,\"\",IF(L219>L220,K220,K219))","v":""},{"$f":"IF(L219>L220,L219-L220,L220-L219)","v":0},{"$f":"IF(C179=\"\",\"\",IF(L219>L220,M219,M220))","v":""},{"$f":"GAMES!B112","v":"00:00:00"},{"$f":"GAMES!C112","v":"00:00:00"},null,{"$f":"RESULTS!G50","v":" Block 2 Player 4"},{"$f":"RESULTS!H50","v":-1E-3},{"$f":"RESULTS!I50","v":-1E-3}]
[null,null,{"$f":"IF(L221<0,\"\",IF(L221>L222,K221,K222))","v":""},"beat",{"$f":"IF(L221<0,\"\",IF(L221>L222,K222,K221))","v":""},{"$f":"IF(L221>L222,L221-L222,L222-L221)","v":0},{"$f":"IF(C180=\"\",\"\",IF(L221>L222,M221,M222))","v":""},{"$f":"GAMES!B113","v":"00:00:00"},{"$f":"GAMES!C113","v":"00:00:00"},null,{"$f":"RESULTS!G51","v":" Block 2 Player 8"},{"$f":"RESULTS!H51","v":-1E-3},{"$f":"RESULTS!I51","v":-1E-3}]
[null,null,{"$f":"IF(L223<0,\"\",IF(L223>L224,K223,K224))","v":""},"beat",{"$f":"IF(L223<0,\"\",IF(L223>L224,K224,K223))","v":""},{"$f":"IF(L223>L224,L223-L224,L224-L223)","v":0},{"$f":"IF(C181=\"\",\"\",IF(L223>L224,M223,M224))","v":""},{"$f":"GAMES!B114","v":"00:00:00"},{"$f":"GAMES!C114","v":"00:00:00"},null,{"$f":"RESULTS!G52","v":" Block 2 Player 3"},{"$f":"RESULTS!H52","v":-1E-3},{"$f":"RESULTS!I52","v":-1E-3}]
[null,null,{"$f":"IF(L225<0,\"\",IF(L225>L226,K225,K226))","v":""},"beat",{"$f":"IF(L225<0,\"\",IF(L225>L226,K226,K225))","v":""},{"$f":"IF(L225>L226,L225-L226,L226-L225)","v":0},{"$f":"IF(C182=\"\",\"\",IF(L225>L226,M225,M226))","v":""},{"$f":"GAMES!B115","v":"00:00:00"},{"$f":"GAMES!C115","v":"00:00:00"},null,{"$f":"RESULTS!G53","v":" Block 2 Player 9"},{"$f":"RESULTS!H53","v":-1E-3},{"$f":"RESULTS!I53","v":-1E-3}]
[null,null,{"$f":"IF(L227<0,\"\",IF(L227>L228,K227,K228))","v":""},"beat",{"$f":"IF(L227<0,\"\",IF(L227>L228,K228,K227))","v":""},{"$f":"IF(L227>L228,L227-L228,L228-L227)","v":0},{"$f":"IF(C183=\"\",\"\",IF(L227>L228,M227,M228))","v":""},{"$f":"GAMES!B116","v":"00:00:00"},{"$f":"GAMES!C116","v":"00:00:00"},null,{"$f":"RESULTS!G54","v":" Block 2 Player 2"},{"$f":"RESULTS!H54","v":-1E-3},{"$f":"RESULTS!I54","v":-1E-3}]
[null,null,{"$f":"IF(L229<0,\"\",IF(L229>L230,K229,K230))","v":""},"beat",{"$f":"IF(L229<0,\"\",IF(L229>L230,K230,K229))","v":""},{"$f":"IF(L229>L230,L229-L230,L230-L229)","v":0},{"$f":"IF(C184=\"\",\"\",IF(L229>L230,M229,M230))","v":""},{"$f":"GAMES!B117","v":"00:00:00"},{"$f":"GAMES!C117","v":"00:00:00"},null,{"$f":"RESULTS!G55","v":" Block 2 Player 10"},{"$f":"RESULTS!H55","v":-1E-3},{"$f":"RESULTS!I55","v":-1E-3}]
[null,null,{"$f":"IF(L231<0,\"\",IF(L231>L232,K231,K232))","v":""},"beat",{"$f":"IF(L231<0,\"\",IF(L231>L232,K232,K231))","v":""},{"$f":"IF(L231>L232,L231-L232,L232-L231)","v":0},{"$f":"IF(C185=\"\",\"\",IF(L231>L232,M231,M232))","v":""},{"$f":"GAMES!B118","v":"00:00:00"},{"$f":"GAMES!C118","v":"00:00:00"},null,{"$f":"RESULTS!G56","v":" Block 2 Player 12"},{"$f":"RESULTS!H56","v":-1E-3},{"$f":"RESULTS!I56","v":-1E-3}]
[null,null,{"$f":"IF(L233<0,\"\",IF(L233>L234,K233,K234))","v":""},"beat",{"$f":"IF(L233<0,\"\",IF(L233>L234,K234,K233))","v":""},{"$f":"IF(L233>L234,L233-L234,L234-L233)","v":0},{"$f":"IF(C186=\"\",\"\",IF(L233>L234,M233,M234))","v":""},{"$f":"GAMES!B119","v":"00:00:00"},{"$f":"GAMES!C119","v":"00:00:00"},null,{"$f":"RESULTS!G57","v":" Block 2 Player 11"},{"$f":"RESULTS!H57","v":-1E-3},{"$f":"RESULTS!I57","v":-1E-3}]
[null,null,{"$f":"IF(L235<0,\"\",IF(L235>L236,K235,K236))","v":""},"beat",{"$f":"IF(L235<0,\"\",IF(L235>L236,K236,K235))","v":""},{"$f":"IF(L235>L236,L235-L236,L236-L235)","v":0},{"$f":"IF(C187=\"\",\"\",IF(L235>L236,M235,M236))","v":""},{"$f":"GAMES!B120","v":"00:00:00"},{"$f":"GAMES!C120","v":"00:00:00"},null,{"$f":"RESULTS!K34","v":" Block 2 Player 1"},{"$f":"RESULTS!L34","v":-1E-3},{"$f":"RESULTS!M34","v":-1E-3}]
[null,null,{"$f":"IF(L237<0,\"\",IF(L237>L238,K237,K238))","v":""},"beat",{"$f":"IF(L237<0,\"\",IF(L237>L238,K238,K237))","v":""},{"$f":"IF(L237>L238,L237-L238,L238-L237)","v":0},{"$f":"IF(C188=\"\",\"\",IF(L237>L238,M237,M238))","v":""},{"$f":"GAMES!B121","v":"00:00:00"},{"$f":"GAMES!C121","v":"00:00:00"},null,{"$f":"RESULTS!K35","v":" Block 2 Player 7"},{"$f":"RESULTS!L35","v":-1E-3},{"$f":"RESULTS!M35","v":-1E-3}]
[null,null,{"$f":"IF(L239<0,\"\",IF(L239>L240,K239,K240))","v":""},"beat",{"$f":"IF(L239<0,\"\",IF(L239>L240,K240,K239))","v":""},{"$f":"IF(L239>L240,L239-L240,L240-L239)","v":0},{"$f":"IF(C189=\"\",\"\",IF(L239>L240,M239,M240))","v":""},{"$f":"GAMES!B122","v":"00:00:00"},{"$f":"GAMES!C122","v":"00:00:00"},null,{"$f":"RESULTS!K36","v":" Block 2 Player 6"},{"$f":"RESULTS!L36","v":-1E-3},{"$f":"RESULTS!M36","v":-1E-3}]
[null,null,{"$f":"IF(L241<0,\"\",IF(L241>L242,K241,K242))","v":""},"beat",{"$f":"IF(L241<0,\"\",IF(L241>L242,K242,K241))","v":""},{"$f":"IF(L241>L242,L241-L242,L242-L241)","v":0},{"$f":"IF(C190=\"\",\"\",IF(L241>L242,M241,M242))","v":""},{"$f":"GAMES!B123","v":"00:00:00"},{"$f":"GAMES!C123","v":"00:00:00"},null,{"$f":"RESULTS!K37","v":" Block 2 Player 8"},{"$f":"RESULTS!L37","v":-1E-3},{"$f":"RESULTS!M37","v":-1E-3}]
[null,null,{"$f":"IF(L243<0,\"\",IF(L243>L244,K243,K244))","v":""},"beat",{"$f":"IF(L243<0,\"\",IF(L243>L244,K244,K243))","v":""},{"$f":"IF(L243>L244,L243-L244,L244-L243)","v":0},{"$f":"IF(C191=\"\",\"\",IF(L243>L244,M243,M244))","v":""},{"$f":"GAMES!B124","v":"00:00:00"},{"$f":"GAMES!C124","v":"00:00:00"},null,{"$f":"RESULTS!K38","v":" Block 2 Player 5"},{"$f":"RESULTS!L38","v":-1E-3},{"$f":"RESULTS!M38","v":-1E-3}]
[null,null,{"$f":"IF(L245<0,\"\",IF(L245>L246,K245,K246))","v":""},"beat",{"$f":"IF(L245<0,\"\",IF(L245>L246,K246,K245))","v":""},{"$f":"IF(L245>L246,L245-L246,L246-L245)","v":0},{"$f":"IF(C192=\"\",\"\",IF(L245>L246,M245,M246))","v":""},{"$f":"GAMES!B125","v":"00:00:00"},{"$f":"GAMES!C125","v":"00:00:00"},null,{"$f":"RESULTS!K39","v":" Block 2 Player 9"},{"$f":"RESULTS!L39","v":-1E-3},{"$f":"RESULTS!M39","v":-1E-3}]
[null,null,{"$f":"IF(L247<0,\"\",IF(L247>L248,K247,K248))","v":""},"beat",{"$f":"IF(L247<0,\"\",IF(L247>L248,K248,K247))","v":""},{"$f":"IF(L247>L248,L247-L248,L248-L247)","v":0},{"$f":"IF(C193=\"\",\"\",IF(L247>L248,M247,M248))","v":""},{"$f":"GAMES!B126","v":"00:00:00"},{"$f":"GAMES!C126","v":"00:00:00"},null,{"$f":"RESULTS!K40","v":" Block 2 Player 4"},{"$f":"RESULTS!L40","v":-1E-3},{"$f":"RESULTS!M40","v":-1E-3}]
[null,null,{"$f":"IF(L249<0,\"\",IF(L249>L250,K249,K250))","v":""},"beat",{"$f":"IF(L249<0,\"\",IF(L249>L250,K250,K249))","v":""},{"$f":"IF(L249>L250,L249-L250,L250-L249)","v":0},{"$f":"IF(C194=\"\",\"\",IF(L249>L250,M249,M250))","v":""},{"$f":"GAMES!B127","v":"00:00:00"},{"$f":"GAMES!C127","v":"00:00:00"},null,{"$f":"RESULTS!K41","v":" Block 2 Player 10"},{"$f":"RESULTS!L41","v":-1E-3},{"$f":"RESULTS!M41","v":-1E-3}]
[null,null,{"$f":"IF(L251<0,\"\",IF(L251>L252,K251,K252))","v":""},"beat",{"$f":"IF(L251<0,\"\",IF(L251>L252,K252,K251))","v":""},{"$f":"IF(L251>L252,L251-L252,L252-L251)","v":0},{"$f":"IF(C195=\"\",\"\",IF(L251>L252,M251,M252))","v":""},{"$f":"GAMES!B128","v":"00:00:00"},{"$f":"GAMES!C128","v":"00:00:00"},null,{"$f":"RESULTS!K42","v":" Block 2 Player 3"},{"$f":"RESULTS!L42","v":-1E-3},{"$f":"RESULTS!M42","v":-1E-3}]
[null,null,{"$f":"IF(L253<0,\"\",IF(L253>L254,K253,K254))","v":""},"beat",{"$f":"IF(L253<0,\"\",IF(L253>L254,K254,K253))","v":""},{"$f":"IF(L253>L254,L253-L254,L254-L253)","v":0},{"$f":"IF(C196=\"\",\"\",IF(L253>L254,M253,M254))","v":""},{"$f":"GAMES!B129","v":"00:00:00"},{"$f":"GAMES!C129","v":"00:00:00"},null,{"$f":"RESULTS!K43","v":" Block 2 Player 11"},{"$f":"RESULTS!L43","v":-1E-3},{"$f":"RESULTS!M43","v":-1E-3}]
[null,null,{"$f":"IF(L255<0,\"\",IF(L255>L256,K255,K256))","v":""},"beat",{"$f":"IF(L255<0,\"\",IF(L255>L256,K256,K255))","v":""},{"$f":"IF(L255>L256,L255-L256,L256-L255)","v":0},{"$f":"IF(C197=\"\",\"\",IF(L255>L256,M255,M256))","v":""},{"$f":"GAMES!B130","v":"00:00:00"},{"$f":"GAMES!C130","v":"00:00:00"},null,{"$f":"RESULTS!K44","v":" Block 2 Player 2"},{"$f":"RESULTS!L44","v":-1E-3},{"$f":"RESULTS!M44","v":-1E-3}]
[null,null,{"$f":"IF(L257<0,\"\",IF(L257>L258,K257,K258))","v":""},"beat",{"$f":"IF(L257<0,\"\",IF(L257>L258,K258,K257))","v":""},{"$f":"IF(L257>L258,L257-L258,L258-L257)","v":0},{"$f":"IF(C198=\"\",\"\",IF(L257>L258,M257,M258))","v":""},{"$f":"GAMES!B131","v":"00:00:00"},{"$f":"GAMES!C131","v":"00:00:00"},null,{"$f":"RESULTS!K45","v":" Block 2 Player 12"},{"$f":"RESULTS!L45","v":-1E-3},{"$f":"RESULTS!M45","v":-1E-3}]
[null,null,{"$f":"IF(L259<0,\"\",IF(L259>L260,K259,K260))","v":""},"beat",{"$f":"IF(L259<0,\"\",IF(L259>L260,K260,K259))","v":""},{"$f":"IF(L259>L260,L259-L260,L260-L259)","v":0},{"$f":"IF(C199=\"\",\"\",IF(L259>L260,M259,M260))","v":""},{"$f":"GAMES!B132","v":"00:00:00"},{"$f":"GAMES!C132","v":"00:00:00"},null,{"$f":"RESULTS!K46","v":" Block 2 Player 1"},{"$f":"RESULTS!L46","v":-1E-3},{"$f":"RESULTS!M46","v":-1E-3}]
[null,null,{"$f":"IF(L261<0,\"\",IF(L261>L262,K261,K262))","v":""},"beat",{"$f":"IF(L261<0,\"\",IF(L261>L262,K262,K261))","v":""},{"$f":"IF(L261>L262,L261-L262,L262-L261)","v":0},{"$f":"IF(C200=\"\",\"\",IF(L261>L262,M261,M262))","v":""},{"$f":"GAMES!B133","v":"00:00:00"},{"$f":"GAMES!C133","v":"00:00:00"},null,{"$f":"RESULTS!K47","v":" Block 2 Player 8"},{"$f":"RESULTS!L47","v":-1E-3},{"$f":"RESULTS!M47","v":-1E-3}]
[null,null,{"$f":"IF(L263<0,\"\",IF(L263>L264,K263,K264))","v":""},"beat",{"$f":"IF(L263<0,\"\",IF(L263>L264,K264,K263))","v":""},{"$f":"IF(L263>L264,L263-L264,L264-L263)","v":0},{"$f":"IF(C201=\"\",\"\",IF(L263>L264,M263,M264))","v":""},{"$f":"GAMES!B134","v":"00:00:00"},{"$f":"GAMES!C134","v":"00:00:00"},null,{"$f":"RESULTS!K48","v":" Block 2 Player 7"},{"$f":"RESULTS!L48","v":-1E-3},{"$f":"RESULTS!M48","v":-1E-3}]
[null,null,{"$f":"IF(L265<0,\"\",IF(L265>L266,K265,K266))","v":""},"beat",{"$f":"IF(L265<0,\"\",IF(L265>L266,K266,K265))","v":""},{"$f":"IF(L265>L266,L265-L266,L266-L265)","v":0},{"$f":"IF(C202=\"\",\"\",IF(L265>L266,M265,M266))","v":""},{"$f":"GAMES!B135","v":"00:00:00"},{"$f":"GAMES!C135","v":"00:00:00"},null,{"$f":"RESULTS!K49","v":" Block 2 Player 9"},{"$f":"RESULTS!L49","v":-1E-3},{"$f":"RESULTS!M49","v":-1E-3}]
[null,null,{"$f":"IF(L267<0,\"\",IF(L267>L268,K267,K268))","v":""},"beat",{"$f":"IF(L267<0,\"\",IF(L267>L268,K268,K267))","v":""},{"$f":"IF(L267>L268,L267-L268,L268-L267)","v":0},{"$f":"IF(C203=\"\",\"\",IF(L267>L268,M267,M268))","v":""},{"$f":"GAMES!B136","v":"00:00:00"},{"$f":"GAMES!C136","v":"00:00:00"},null,{"$f":"RESULTS!K50","v":" Block 2 Player 6"},{"$f":"RESULTS!L50","v":-1E-3},{"$f":"RESULTS!M50","v":-1E-3}]
[null,null,{"$f":"IF(L269<0,\"\",IF(L269>L270,K269,K270))","v":""},"beat",{"$f":"IF(L269<0,\"\",IF(L269>L270,K270,K269))","v":""},{"$f":"IF(L269>L270,L269-L270,L270-L269)","v":0},{"$f":"IF(C204=\"\",\"\",IF(L269>L270,M269,M270))","v":""},{"$f":"GAMES!B137","v":"00:00:00"},{"$f":"GAMES!C137","v":"00:00:00"},null,{"$f":"RESULTS!K51","v":" Block 2 Player 10"},{"$f":"RESULTS!L51","v":-1E-3},{"$f":"RESULTS!M51","v":-1E-3}]
[null,null,null,null,null,null,null,null,null,null,{"$f":"RESULTS!K52","v":" Block 2 Player 5"},{"$f":"RESULTS!L52","v":-1E-3},{"$f":"RESULTS!M52","v":-1E-3}]
[null,null,null,null,null,null,null,null,null,null,{"$f":"RESULTS!K53","v":" Block 2 Player 11"},{"$f":"RESULTS!L53","v":-1E-3},{"$f":"RESULTS!M53","v":-1E-3}]
[null,null,null,null,null,null,null,null,null,null,{"$f":"RESULTS!K54","v":" Block 2 Player 4"},{"$f":"RESULTS!L54","v":-1E-3},{"$f":"RESULTS!M54","v":-1E-3}]
[null,null,null,null,null,null,null,null,null,null,{"$f":"RESULTS!K55","v":" Block 2 Player 12"},{"$f":"RESULTS!L55","v":-1E-3},{"$f":"RESULTS!M55","v":-1E-3}]
[null,null,null,null,null,null,null,null,null,null,{"$f":"RESULTS!K56","v":" Block 2 Player 3"},{"$f":"RESULTS!L56","v":-1E-3},{"$f":"RESULTS!M56","v":-1E-3}]
[null,null,null,null,null,null,null,null,null,null,{"$f":"RESULTS!K57","v":" Block 2 Player 2"},{"$f":"RESULTS!L57","v":-1E-3},{"$f":"RESULTS!M57","v":-1E-3}]
[null,null,null,null,null,null,null,null,null,null,{"$f":"RESULTS!O34","v":" Block 2 Player 1"},{"$f":"RESULTS!P34","v":-1E-3},{"$f":"RESULTS!Q34","v":-1E-3}]
[null,null,null,null,null,null,null,null,null,null,{"$f":"RESULTS!O35","v":" Block 2 Player 9"},{"$f":"RESULTS!P35","v":-1E-3},{"$f":"RESULTS!Q35","v":-1E-3}]
[null,null,null,null,null,null,null,null,null,null,{"$f":"RESULTS!O36","v":" Block 2 Player 8"},{"$f":"RESULTS!P36","v":-1E-3},{"$f":"RESULTS!Q36","v":-1E-3}]
[null,null,null,null,null,null,null,null,null,null,{"$f":"RESULTS!O37","v":" Block 2 Player 10"},{"$f":"RESULTS!P37","v":-1E-3},{"$f":"RESULTS!Q37","v":-1E-3}]
[null,null,null,null,null,null,null,null,null,null,{"$f":"RESULTS!O38","v":" Block 2 Player 7"},{"$f":"RESULTS!P38","v":-1E-3},{"$f":"RESULTS!Q38","v":-1E-3}]
[null,null,null,null,null,null,null,null,null,null,{"$f":"RESULTS!O39","v":" Block 2 Player 11"},{"$f":"RESULTS!P39","v":-1E-3},{"$f":"RESULTS!Q39","v":-1E-3}]
[null,null,null,null,null,null,null,null,null,null,{"$f":"RESULTS!O40","v":" Block 2 Player 6"},{"$f":"RESULTS!P40","v":-1E-3},{"$f":"RESULTS!Q40","v":-1E-3}]
[null,null,null,null,null,null,null,null,null,null,{"$f":"RESULTS!O41","v":" Block 2 Player 12"},{"$f":"RESULTS!P41","v":-1E-3},{"$f":"RESULTS!Q41","v":-1E-3}]
[null,null,null,null,null,null,null,null,null,null,{"$f":"RESULTS!O42","v":" Block 2 Player 5"},{"$f":"RESULTS!P42","v":-1E-3},{"$f":"RESULTS!Q42","v":-1E-3}]
[null,null,null,null,null,null,null,null,null,null,{"$f":"RESULTS!O43","v":" Block 2 Player 2"},{"$f":"RESULTS!P43","v":-1E-3},{"$f":"RESULTS!Q43","v":-1E-3}]
[null,null,null,null,null,null,null,null,null,null,{"$f":"RESULTS!O44","v":" Block 2 Player 4"},{"$f":"RESULTS!P44","v":-1E-3},{"$f":"RESULTS!Q44","v":-1E-3}]
[null,null,null,null,null,null,null,null,null,null,{"$f":"RESULTS!O45","v":" Block 2 Player 3"},{"$f":"RESULTS!P45","v":-1E-3},{"$f":"RESULTS!Q45","v":-1E-3}]
[null,null,null,null,null,null,null,null,null,null,{"$f":"RESULTS!O46","v":" Block 2 Player 1"},{"$f":"RESULTS!P46","v":-1E-3},{"$f":"RESULTS!Q46","v":-1E-3}]
[null,null,null,null,null,null,null,null,null,null,{"$f":"RESULTS!O47","v":" Block 2 Player 10"},{"$f":"RESULTS!P47","v":-1E-3},{"$f":"RESULTS!Q47","v":-1E-3}]
[null,null,null,null,null,null,null,null,null,null,{"$f":"RESULTS!O48","v":" Block 2 Player 9"},{"$f":"RESULTS!P48","v":-1E-3},{"$f":"RESULTS!Q48","v":-1E-3}]
[null,null,null,null,null,null,null,null,null,null,{"$f":"RESULTS!O49","v":" Block 2 Player 11"},{"$f":"RESULTS!P49","v":-1E-3},{"$f":"RESULTS!Q49","v":-1E-3}]
[null,null,null,null,null,null,null,null,null,null,{"$f":"RESULTS!O50","v":" Block 2 Player 8"},{"$f":"RESULTS!P50","v":-1E-3},{"$f":"RESULTS!Q50","v":-1E-3}]
[null,null,null,null,null,null,null,null,null,null,{"$f":"RESULTS!O51","v":" Block 2 Player 12"},{"$f":"RESULTS!P51","v":-1E-3},{"$f":"RESULTS!Q51","v":-1E-3}]
[null,null,null,null,null,null,null,null,null,null,{"$f":"RESULTS!O52","v":" Block 2 Player 7"},{"$f":"RESULTS!P52","v":-1E-3},{"$f":"RESULTS!Q52","v":-1E-3}]
[null,null,null,null,null,null,null,null,null,null,{"$f":"RESULTS!O53","v":" Block 2 Player 2"},{"$f":"RESULTS!P53","v":-1E-3},{"$f":"RESULTS!Q53","v":-1E-3}]
[null,null,null,null,null,null,null,null,null,null,{"$f":"RESULTS!O54","v":" Block 2 Player 6"},{"$f":"RESULTS!P54","v":-1E-3},{"$f":"RESULTS!Q54","v":-1E-3}]
[null,null,null,null,null,null,null,null,null,null,{"$f":"RESULTS!O55","v":" Block 2 Player 3"},{"$f":"RESULTS!P55","v":-1E-3},{"$f":"RESULTS!Q55","v":-1E-3}]
[null,null,null,null,null,null,null,null,null,null,{"$f":"RESULTS!O56","v":" Block 2 Player 5"},{"$f":"RESULTS!P56","v":-1E-3},{"$f":"RESULTS!Q56","v":-1E-3}]
[null,null,null,null,null,null,null,null,null,null,{"$f":"RESULTS!O57","v":" Block 2 Player 4"},{"$f":"RESULTS!P57","v":-1E-3},{"$f":"RESULTS!Q57","v":-1E-3}]
[null,null,null,null,null,null,null,null,null,null,{"$f":"RESULTS!S34","v":" Block 2 Player 1"},{"$f":"RESULTS!T34","v":-1E-3},{"$f":"RESULTS!U34","v":-1E-3}]
[null,null,null,null,null,null,null,null,null,null,{"$f":"RESULTS!S35","v":" Block 2 Player 11"},{"$f":"RESULTS!T35","v":-1E-3},{"$f":"RESULTS!U35","v":-1E-3}]
[null,null,null,null,null,null,null,null,null,null,{"$f":"RESULTS!S36","v":" Block 2 Player 10"},{"$f":"RESULTS!T36","v":-1E-3},{"$f":"RESULTS!U36","v":-1E-3}]
[null,null,null,null,null,null,null,null,null,null,{"$f":"RESULTS!S37","v":" Block 2 Player 12"},{"$f":"RESULTS!T37","v":-1E-3},{"$f":"RESULTS!U37","v":-1E-3}]
[null,null,null,null,null,null,null,null,null,null,{"$f":"RESULTS!S38","v":" Block 2 Player 2"},{"$f":"RESULTS!T38","v":-1E-3},{"$f":"RESULTS!U38","v":-1E-3}]
[null,null,null,null,null,null,null,null,null,null,{"$f":"RESULTS!S39","v":" Block 2 Player 9"},{"$f":"RESULTS!T39","v":-1E-3},{"$f":"RESULTS!U39","v":-1E-3}]
[null,null,null,null,null,null,null,null,null,null,{"$f":"RESULTS!S40","v":" Block 2 Player 3"},{"$f":"RESULTS!T40","v":-1E-3},{"$f":"RESULTS!U40","v":-1E-3}]
[null,null,null,null,null,null,null,null,null,null,{"$f":"RESULTS!S41","v":" Block 2 Player 8"},{"$f":"RESULTS!T41","v":-1E-3},{"$f":"RESULTS!U41","v":-1E-3}]
[null,null,null,null,null,null,null,null,null,null,{"$f":"RESULTS!S42","v":" Block 2 Player 4"},{"$f":"RESULTS!T42","v":-1E-3},{"$f":"RESULTS!U42","v":-1E-3}]
[null,null,null,null,null,null,null,null,null,null,{"$f":"RESULTS!S43","v":" Block 2 Player 7"},{"$f":"RESULTS!T43","v":-1E-3},{"$f":"RESULTS!U43","v":-1E-3}]
[null,null,null,null,null,null,null,null,null,null,{"$f":"RESULTS!S44","v":" Block 2 Player 5"},{"$f":"RESULTS!T44","v":-1E-3},{"$f":"RESULTS!U44","v":-1E-3}]
[null,null,null,null,null,null,null,null,null,null,{"$f":"RESULTS!S45","v":" Block 2 Player 6"},{"$f":"RESULTS!T45","v":-1E-3},{"$f":"RESULTS!U45","v":-1E-3}]
[null,null,null,null,null,null,null,null,null,null,{"$f":"RESULTS!S46","v":" Block 2 Player 1"},{"$f":"RESULTS!T46","v":-1E-3},{"$f":"RESULTS!U46","v":-1E-3}]
[null,null,null,null,null,null,null,null,null,null,{"$f":"RESULTS!S47","v":" Block 2 Player 12"},{"$f":"RESULTS!T47","v":-1E-3},{"$f":"RESULTS!U47","v":-1E-3}]
[null,null,null,null,null,null,null,null,null,null,{"$f":"RESULTS!S48","v":" Block 2 Player 11"},{"$f":"RESULTS!T48","v":-1E-3},{"$f":"RESULTS!U48","v":-1E-3}]
[null,null,null,null,null,null,null,null,null,null,{"$f":"RESULTS!S49","v":" Block 2 Player 2"},{"$f":"RESULTS!T49","v":-1E-3},{"$f":"RESULTS!U49","v":-1E-3}]
[null,null,null,null,null,null,null,null,null,null,{"$f":"RESULTS!S50","v":" Block 2 Player 10"},{"$f":"RESULTS!T50","v":-1E-3},{"$f":"RESULTS!U50","v":-1E-3}]
[null,null,null,null,null,null,null,null,null,null,{"$f":"RESULTS!S51","v":" Block 2 Player 3"},{"$f":"RESULTS!T51","v":-1E-3},{"$f":"RESULTS!U51","v":-1E-3}]
[null,null,null,null,null,null,null,null,null,null,{"$f":"RESULTS!S52","v":" Block 2 Player 9"},{"$f":"RESULTS!T52","v":-1E-3},{"$f":"RESULTS!U52","v":-1E-3}]
[null,null,null,null,null,null,null,null,null,null,{"$f":"RESULTS!S53","v":" Block 2 Player 4"},{"$f":"RESULTS!T53","v":-1E-3},{"$f":"RESULTS!U53","v":-1E-3}]
[null,null,null,null,null,null,null,null,null,null,{"$f":"RESULTS!S54","v":" Block 2 Player 8"},{"$f":"RESULTS!T54","v":-1E-3},{"$f":"RESULTS!U54","v":-1E-3}]
[null,null,null,null,null,null,null,null,null,null,{"$f":"RESULTS!S55","v":" Block 2 Player 5"},{"$f":"RESULTS!T55","v":-1E-3},{"$f":"RESULTS!U55","v":-1E-3}]
[null,null,null,null,null,null,null,null,null,null,{"$f":"RESULTS!S56","v":" Block 2 Player 7"},{"$f":"RESULTS!T56","v":-1E-3},{"$f":"RESULTS!U56","v":-1E-3}]
[null,null,null,null,null,null,null,null,null,null,{"$f":"RESULTS!S57","v":" Block 2 Player 6"},{"$f":"RESULTS!T57","v":-1E-3},{"$f":"RESULTS!U57","v":-1E-3}]
[null,null,null,null,null,null,null,null,null,null,{"$f":"RESULTS!W34","v":" Block 2 Player 1"},{"$f":"RESULTS!X34","v":-1E-3},{"$f":"RESULTS!Y34","v":-1E-3}]
[null,null,null,null,null,null,null,null,null,null,{"$f":"RESULTS!W35","v":" Block 2 Player 2"},{"$f":"RESULTS!X35","v":-1E-3},{"$f":"RESULTS!Y35","v":-1E-3}]
[null,null,null,null,null,null,null,null,null,null,{"$f":"RESULTS!W36","v":" Block 2 Player 12"},{"$f":"RESULTS!X36","v":-1E-3},{"$f":"RESULTS!Y36","v":-1E-3}]
[null,null,null,null,null,null,null,null,null,null,{"$f":"RESULTS!W37","v":" Block 2 Player 3"},{"$f":"RESULTS!X37","v":-1E-3},{"$f":"RESULTS!Y37","v":-1E-3}]
[null,null,null,null,null,null,null,null,null,null,{"$f":"RESULTS!W38","v":" Block 2 Player 11"},{"$f":"RESULTS!X38","v":-1E-3},{"$f":"RESULTS!Y38","v":-1E-3}]
[null,null,null,null,null,null,null,null,null,null,{"$f":"RESULTS!W39","v":" Block 2 Player 4"},{"$f":"RESULTS!X39","v":-1E-3},{"$f":"RESULTS!Y39","v":-1E-3}]
[null,null,null,null,null,null,null,null,null,null,{"$f":"RESULTS!W40","v":" Block 2 Player 10"},{"$f":"RESULTS!X40","v":-1E-3},{"$f":"RESULTS!Y40","v":-1E-3}]
[null,null,null,null,null,null,null,null,null,null,{"$f":"RESULTS!W41","v":" Block 2 Player 5"},{"$f":"RESULTS!X41","v":-1E-3},{"$f":"RESULTS!Y41","v":-1E-3}]
[null,null,null,null,null,null,null,null,null,null,{"$f":"RESULTS!W42","v":" Block 2 Player 9"},{"$f":"RESULTS!X42","v":-1E-3},{"$f":"RESULTS!Y42","v":-1E-3}]
[null,null,null,null,null,null,null,null,null,null,{"$f":"RESULTS!W43","v":" Block 2 Player 6"},{"$f":"RESULTS!X43","v":-1E-3},{"$f":"RESULTS!Y43","v":-1E-3}]
[null,null,null,null,null,null,null,null,null,null,{"$f":"RESULTS!W44","v":" Block 2 Player 8"},{"$f":"RESULTS!X44","v":-1E-3},{"$f":"RESULTS!Y44","v":-1E-3}]
[null,null,null,null,null,null,null,null,null,null,{"$f":"RESULTS!W45","v":" Block 2 Player 7"},{"$f":"RESULTS!X45","v":-1E-3},{"$f":"RESULTS!Y45","v":-1E-3}]
[]
[]
[null,null,{"$f":"NAMES!$C$7","v":"Tournament"}]
[null,null,{"$f":"NAMES!$C$9","v":"Date"}]
[null,null,{"$f":"NAMES!$C$8","v":"Group"},null,{"$f":"NAMES!$C$10","v":"BLOCK 1"}]
[null,null,"Name",null,"Name","Margin","Peels","Time","Day"]
[null,1,"","beat","",0,"","00:00:00","00:00:00"]
[null,2,"","beat","",0,"","00:00:00","00:00:00"]
[null,3,"","beat","",0,"","00:00:00","00:00:00"]
[null,4,"","beat","",0,"","00:00:00","00:00:00"]
[null,5,"","beat","",0,"","00:00:00","00:00:00"]
[null,6,"","beat","",0,"","00:00:00","00:00:00"]
[null,7,"","beat","",0,"","00:00:00","00:00:00"]
[null,8,"","beat","",0,"","00:00:00","00:00:00"]
[null,9,"","beat","",0,"","00:00:00","00:00:00"]
[null,10,"","beat","",0,"","00:00:00","00:00:00"]
[null,11,"","beat","",0,"","00:00:00","00:00:00"]
[null,12,"","beat","",0,"","00:00:00","00:00:00"]
[null,13,"","beat","",0,"","00:00:00","00:00:00"]
[null,14,"","beat","",0,"","00:00:00","00:00:00"]
[null,15,"","beat","",0,"","00:00:00","00:00:00"]
[null,16,"","beat","",0,"","00:00:00","00:00:00"]
[null,17,"","beat","",0,"","00:00:00","00:00:00"]
[null,18,"","beat","",0,"","00:00:00","00:00:00"]
[null,19,"","beat","",0,"","00:00:00","00:00:00"]
[null,20,"","beat","",0,"","00:00:00","00:00:00"]
[null,21,"","beat","",0,"","00:00:00","00:00:00"]
[null,22,"","beat","",0,"","00:00:00","00:00:00"]
[null,23,"","beat","",0,"","00:00:00","00:00:00"]
[null,24,"","beat","",0,"","00:00:00","00:00:00"]
[null,25,"","beat","",0,"","00:00:00","00:00:00"]
[null,26,"","beat","",0,"","00:00:00","00:00:00"]
[null,27,"","beat","",0,"","00:00:00","00:00:00"]
[null,28,"","beat","",0,"","00:00:00","00:00:00"]
[null,29,"","beat","",0,"","00:00:00","00:00:00"]
[null,30,"","beat","",0,"","00:00:00","00:00:00"]
[null,31,"","beat","",0,"","00:00:00","00:00:00"]
[null,32,"","beat","",0,"","00:00:00","00:00:00"]
[null,33,"","beat","",0,"","00:00:00","00:00:00"]
[null,34,"","beat","",0,"","00:00:00","00:00:00"]
[null,35,"","beat","",0,"","00:00:00","00:00:00"]
[null,36,"","beat","",0,"","00:00:00","00:00:00"]
[null,37,"","beat","",0,"","00:00:00","00:00:00"]
[null,38,"","beat","",0,"","00:00:00","00:00:00"]
[null,39,"","beat","",0,"","00:00:00","00:00:00"]
[null,40,"","beat","",0,"","00:00:00","00:00:00"]
[null,41,"","beat","",0,"","00:00:00","00:00:00"]
[null,42,"","beat","",0,"","00:00:00","00:00:00"]
[null,43,"","beat","",0,"","00:00:00","00:00:00"]
[null,44,"","beat","",0,"","00:00:00","00:00:00"]
[null,45,"","beat","",0,"","00:00:00","00:00:00"]
[null,46,"","beat","",0,"","00:00:00","00:00:00"]
[null,47,"","beat","",0,"","00:00:00","00:00:00"]
[null,48,"","beat","",0,"","00:00:00","00:00:00"]
[null,49,"","beat","",0,"","00:00:00","00:00:00"]
[null,50,"","beat","",0,"","00:00:00","00:00:00"]
[null,51,"","beat","",0,"","00:00:00","00:00:00"]
[null,52,"","beat","",0,"","00:00:00","00:00:00"]
[null,53,"","beat","",0,"","00:00:00","00:00:00"]
[null,54,"","beat","",0,"","00:00:00","00:00:00"]
[null,55,"","beat","",0,"","00:00:00","00:00:00"]
[null,56,"","beat","",0,"","00:00:00","00:00:00"]
[null,57,"","beat","",0,"","00:00:00","00:00:00"]
[null,58,"","beat","",0,"","00:00:00","00:00:00"]
[null,59,"","beat","",0,"","00:00:00","00:00:00"]
[null,60,"","beat","",0,"","00:00:00","00:00:00"]
[null,61,"","beat","",0,"","00:00:00","00:00:00"]
[null,62,"","beat","",0,"","00:00:00","00:00:00"]
[null,63,"","beat","",0,"","00:00:00","00:00:00"]
[null,64,"","beat","",0,"","00:00:00","00:00:00"]
[null,65,"","beat","",0,"","00:00:00","00:00:00"]
[null,66,"","beat","",0,"","00:00:00","00:00:00"]
[]
[]
[null,null,{"$f":"NAMES!$C$7","v":"Tournament"}]
[null,null,{"$f":"NAMES!$C$9","v":"Date"}]
[null,null,{"$f":"NAMES!$C$8","v":"Group"},null,{"$f":"NAMES!$C$71","v":"BLOCK 2"}]
[null,null,"Name",null,"Name","Margin","Peels","Time","Day"]
[null,1,"","beat","",0,"","00:00:00","00:00:00"]
[null,2,"","beat","",0,"","00:00:00","00:00:00"]
[null,3,"","beat","",0,"","00:00:00","00:00:00"]
[null,4,"","beat","",0,"","00:00:00","00:00:00"]
[null,5,"","beat","",0,"","00:00:00","00:00:00"]
[null,6,"","beat","",0,"","00:00:00","00:00:00"]
[null,7,"","beat","",0,"","00:00:00","00:00:00"]
[null,8,"","beat","",0,"","00:00:00","00:00:00"]
[null,9,"","beat","",0,"","00:00:00","00:00:00"]
[null,10,"","beat","",0,"","00:00:00","00:00:00"]
[null,11,"","beat","",0,"","00:00:00","00:00:00"]
[null,12,"","beat","",0,"","00:00:00","00:00:00"]
[null,13,"","beat","",0,"","00:00:00","00:00:00"]
[null,14,"","beat","",0,"","00:00:00","00:00:00"]
[null,15,"","beat","",0,"","00:00:00","00:00:00"]
[null,16,"","beat","",0,"","00:00:00","00:00:00"]
[null,17,"","beat","",0,"","00:00:00","00:00:00"]
[null,18,"","beat","",0,"","00:00:00","00:00:00"]
[null,19,"","beat","",0,"","00:00:00","00:00:00"]
[null,20,"","beat","",0,"","00:00:00","00:00:00"]
[null,21,"","beat","",0,"","00:00:00","00:00:00"]
[null,22,"","beat","",0,"","00:00:00","00:00:00"]
[null,23,"","beat","",0,"","00:00:00","00:00:00"]
[null,24,"","beat","",0,"","00:00:00","00:00:00"]
[null,25,"","beat","",0,"","00:00:00","00:00:00"]
[null,26,"","beat","",0,"","00:00:00","00:00:00"]
[null,27,"","beat","",0,"","00:00:00","00:00:00"]
[null,28,"","beat","",0,"","00:00:00","00:00:00"]
[null,29,"","beat","",0,"","00:00:00","00:00:00"]
[null,30,"","beat","",0,"","00:00:00","00:00:00"]
[null,31,"","beat","",0,"","00:00:00","00:00:00"]
[null,32,"","beat","",0,"","00:00:00","00:00:00"]
[null,33,"","beat","",0,"","00:00:00","00:00:00"]
[null,34,"","beat","",0,"","00:00:00","00:00:00"]
[null,35,"","beat","",0,"","00:00:00","00:00:00"]
[null,36,"","beat","",0,"","00:00:00","00:00:00"]
[null,37,"","beat","",0,"","00:00:00","00:00:00"]
[null,38,"","beat","",0,"","00:00:00","00:00:00"]
[null,39,"","beat","",0,"","00:00:00","00:00:00"]
[null,40,"","beat","",0,"","00:00:00","00:00:00"]
[null,41,"","beat","",0,"","00:00:00","00:00:00"]
[null,42,"","beat","",0,"","00:00:00","00:00:00"]
[null,43,"","beat","",0,"","00:00:00","00:00:00"]
[null,44,"","beat","",0,"","00:00:00","00:00:00"]
[null,45,"","beat","",0,"","00:00:00","00:00:00"]
[null,46,"","beat","",0,"","00:00:00","00:00:00"]
[null,47,"","beat","",0,"","00:00:00","00:00:00"]
[null,48,"","beat","",0,"","00:00:00","00:00:00"]
[null,49,"","beat","",0,"","00:00:00","00:00:00"]
[null,50,"","beat","",0,"","00:00:00","00:00:00"]
[null,51,"","beat","",0,"","00:00:00","00:00:00"]
[null,52,"","beat","",0,"","00:00:00","00:00:00"]
[null,53,"","beat","",0,"","00:00:00","00:00:00"]
[null,54,"","beat","",0,"","00:00:00","00:00:00"]
[null,55,"","beat","",0,"","00:00:00","00:00:00"]
[null,56,"","beat","",0,"","00:00:00","00:00:00"]
[null,57,"","beat","",0,"","00:00:00","00:00:00"]
[null,58,"","beat","",0,"","00:00:00","00:00:00"]
[null,59,"","beat","",0,"","00:00:00","00:00:00"]
[null,60,"","beat","",0,"","00:00:00","00:00:00"]
[null,61,"","beat","",0,"","00:00:00","00:00:00"]
[null,62,"","beat","",0,"","00:00:00","00:00:00"]
[null,63,"","beat","",0,"","00:00:00","00:00:00"]
[null,64,"","beat","",0,"","00:00:00","00:00:00"]
[null,65,"","beat","",0,"","00:00:00","00:00:00"]
[null,66,"","beat","",0,"","00:00:00","00:00:00"]

{"sheet":"HANDICAP CARD","index":12,"n_rows":336,"n_cols":20,"rows_kept":336,"cut":false,"hidden":false,"merged":[[0,1,0,12],[1,1,1,2],[1,12,2,12],[1,13,1,14],[2,6,2,7],[29,1,29,2],[29,12,30,12],[29,13,29,14],[30,6,30,7],[15,1,15,2],[15,12,16,12],[15,13,15,14],[16,6,16,7],[57,1,57,2],[57,12,58,12],[57,13,57,14],[58,6,58,7],[43,1,43,2],[43,12,44,12],[43,13,43,14],[44,6,44,7],[85,1,85,2],[85,12,86,12],[85,13,85,14],[86,6,86,7],[71,1,71,2],[71,12,72,12],[71,13,71,14],[72,6,72,7],[113,1,113,2],[113,12,114,12],[113,13,113,14],[114,6,114,7],[99,1,99,2],[99,12,100,12],[99,13,99,14],[100,6,100,7],[156,6,156,7],[127,1,127,2],[127,12,128,12],[127,13,127,14],[128,6,128,7],[141,1,141,2],[141,12,142,12],[141,13,141,14],[142,6,142,7],[183,1,183,2],[183,12,184,12],[183,13,183,14],[184,6,184,7],[169,1,169,2],[169,12,170,12],[169,13,169,14],[170,6,170,7],[168,1,168,12],[155,1,155,2],[155,12,156,12],[155,13,155,14],[211,1,211,2],[211,12,212,12],[211,13,211,14],[212,6,212,7],[197,1,197,2],[197,12,198,12],[197,13,197,14],[198,6,198,7],[239,1,239,2],[239,12,240,12],[239,13,239,14],[240,6,240,7],[225,1,225,2],[225,12,226,12],[225,13,225,14],[226,6,226,7],[267,1,267,2],[267,12,268,12],[267,13,267,14],[268,6,268,7],[253,1,253,2],[253,12,254,12],[253,13,253,14],[254,6,254,7],[295,1,295,2],[295,12,296,12],[295,13,295,14],[296,6,296,7],[281,1,281,2],[281,12,282,12],[281,13,281,14],[282,6,282,7],[323,1,323,2],[323,12,324,12],[323,13,323,14],[324,6,324,7],[309,1,309,2],[309,12,310,12],[309,13,309,14],[310,6,310,7]]}
[null,{"$f":"SEED!$D$5","v":"BLOCK 1"}]
[null,"Player",null,{"$f":"SEED!$D$7","v":" Block 1 Player 1"},null,null,"Start H/C",{"$f":"SEED!$E$7","v":0},"New H/C",{"$f":"VLOOKUP(D2,HCTableBlk1,2,FALSE)","v":0},"Start Index",{"$f":"SEED!$C$7","v":0},"HC Change Indicator","BLOCK 1"]
[null,"Date","Event","Opponent","Op Hcap","Lev / Hcap","Score",null,"Won / Lost","Change +/-",null,"New Index",null,"Player","H/C","Temp H/C",null,null,"HC Change Flags"]
[null,{"$f":"NAMES!$C$9","v":"Date"},{"$f":"SEED!$G$2","v":"Tournament"},{"$f":"PLAYER!F9","v":" Block 1 Player 3"},{"$f":"VLOOKUP($D$4,HCTableBlk1,2,FALSE)","v":0},{"$f":"IF(HandicapPlay=\"x\",\"H\",\"L\")","v":"L"},{"$f":"PLAYER!I9","v":-1E-3},{"$f":"PLAYER!J9","v":-1E-3},{"$f":"IF(G4<0,\"\",IF(G4>H4,\"W\",\"L\"))","v":""},null,null,{"$f":"IF(J4=\"\",\"\",IF((L2+J4)<900,900,(L2+J4)))","v":""},null,{"$f":"SEED!D7","v":" Block 1 Player 1"},{"$f":"SEED!E7","v":0},null,{"$f":"VLOOKUP($D$4,HCTableBlk1,2,FALSE)","v":0},null,0,1]
[null,"\"","\"                  \"",{"$f":"PLAYER!F10","v":" Block 1 Player 4"},{"$f":"VLOOKUP($D$5,HCTableBlk1,2,FALSE)","v":0},"L",{"$f":"PLAYER!I10","v":-1E-3},{"$f":"PLAYER!J10","v":-1E-3},{"$f":"IF(G5<0,\"\",IF(G5>H5,\"W\",\"L\"))","v":""},null,null,{"$f":"IF(J5=\"\",\"\",IF((L4+J5)<900,900,(L4+J5)))","v":""},null,{"$f":"SEED!D8","v":" Block 1 Player 2"},{"$f":"SEED!E8","v":0},null,{"$f":"VLOOKUP($D$5,HCTableBlk1,2,FALSE)","v":0},null,0,2]
[null,"\"","\"                  \"",{"$f":"PLAYER!F11","v":" Block 1 Player 5"},{"$f":"VLOOKUP($D$6,HCTableBlk1,2,FALSE)","v":0},"L",{"$f":"PLAYER!I11","v":-1E-3},{"$f":"PLAYER!J11","v":-1E-3},"",null,null,"",null,{"$f":"SEED!D9","v":" Block 1 Player 3"},{"$f":"SEED!E9","v":0},null,{"$f":"VLOOKUP($D$6,HCTableBlk1,2,FALSE)","v":0},null,0,3]
[null,"\"","\"                  \"",{"$f":"PLAYER!F12","v":" Block 1 Player 6"},{"$f":"VLOOKUP($D$7,HCTableBlk1,2,FALSE)","v":0},"L",{"$f":"PLAYER!I12","v":-1E-3},{"$f":"PLAYER!J12","v":-1E-3},"",null,null,"",null,{"$f":"SEED!D10","v":" Block 1 Player 4"},{"$f":"SEED!E10","v":0},null,{"$f":"VLOOKUP($D$7,HCTableBlk1,2,FALSE)","v":0},null,0,4]
[null,"\"","\"                  \"",{"$f":"PLAYER!F13","v":" Block 1 Player 7"},{"$f":"VLOOKUP($D$8,HCTableBlk1,2,FALSE)","v":0},"L",{"$f":"PLAYER!I13","v":-1E-3},{"$f":"PLAYER!J13","v":-1E-3},"",null,null,"",null,{"$f":"SEED!D11","v":" Block 1 Player 5"},{"$f":"SEED!E11","v":0},null,{"$f":"VLOOKUP($D$8,HCTableBlk1,2,FALSE)","v":0},null,0,5]
[null,"\"","\"                  \"",{"$f":"PLAYER!F14","v":" Block 1 Player 8"},{"$f":"VLOOKUP($D$9,HCTableBlk1,2,FALSE)","v":0},"L",{"$f":"PLAYER!I14","v":-1E-3},{"$f":"PLAYER!J14","v":-1E-3},"",null,null,"",null,{"$f":"SEED!D12","v":" Block 1 Player 6"},{"$f":"SEED!E12","v":0},null,{"$f":"VLOOKUP($D$9,HCTableBlk1,2,FALSE)","v":0},null,0,6]
[null,"\"","\"                  \"",{"$f":"PLAYER!F15","v":" Block 1 Player 9"},{"$f":"VLOOKUP($D$10,HCTableBlk1,2,FALSE)","v":0},"L",{"$f":"PLAYER!I15","v":-1E-3},{"$f":"PLAYER!J15","v":-1E-3},"",null,null,"",null,{"$f":"SEED!D13","v":" Block 1 Player 7"},{"$f":"SEED!E13","v":0},null,{"$f":"VLOOKUP($D$10,HCTableBlk1,2,FALSE)","v":0},null,0,7]
[null,"\"","\"                  \"",{"$f":"PLAYER!F16","v":" Block 1 Player 10"},{"$f":"VLOOKUP($D$11,HCTableBlk1,2,FALSE)","v":0},"L",{"$f":"PLAYER!I16","v":-1E-3},{"$f":"PLAYER!J16","v":-1E-3},"",null,null,"",null,{"$f":"SEED!D14","v":" Block 1 Player 8"},{"$f":"SEED!E14","v":0},null,{"$f":"VLOOKUP($D$11,HCTableBlk1,2,FALSE)","v":0},null,0,8]
[null,"\"","\"                  \"",{"$f":"PLAYER!F17","v":" Block 1 Player 11"},{"$f":"VLOOKUP($D$12,HCTableBlk1,2,FALSE)","v":0},"L",{"$f":"PLAYER!I17","v":-1E-3},{"$f":"PLAYER!J17","v":-1E-3},"",null,null,"",null,{"$f":"SEED!D15","v":" Block 1 Player 9"},{"$f":"SEED!E15","v":0},null,{"$f":"VLOOKUP($D$12,HCTableBlk1,2,FALSE)","v":0},null,0,9]
[null,"\"","\"                  \"",{"$f":"PLAYER!F18","v":" Block 1 Player 12"},{"$f":"VLOOKUP($D$13,HCTableBlk1,2,FALSE)","v":0},"L",{"$f":"PLAYER!I18","v":-1E-3},{"$f":"PLAYER!J18","v":-1E-3},"",null,null,"",null,{"$f":"SEED!D16","v":" Block 1 Player 10"},{"$f":"SEED!E16","v":0},null,{"$f":"VLOOKUP($D$13,HCTableBlk1,2,FALSE)","v":0},null,0,10]
[null,"\"","\"                  \"",{"$f":"PLAYER!F19","v":" Block 1 Player 2"},{"$f":"VLOOKUP($D$14,HCTableBlk1,2,FALSE)","v":0},"L",{"$f":"PLAYER!I19","v":-1E-3},{"$f":"PLAYER!J19","v":-1E-3},"",null,"Finish >","",null,{"$f":"SEED!D17","v":" Block 1 Player 11"},{"$f":"SEED!E17","v":0},null,{"$f":"VLOOKUP($D$14,HCTableBlk1,2,FALSE)","v":0},null,0,11]
[null,null,null,null,null,null,null,null,null,null,null,null,null,{"$f":"SEED!D18","v":" Block 1 Player 12"},{"$f":"SEED!E18","v":0},null,null,null,0,12]
[null,"Player",null,{"$f":"SEED!$D$8","v":" Block 1 Player 2"},null,null,"Start H/C",{"$f":"SEED!$E$8","v":0},"New H/C",{"$f":"VLOOKUP(D16,HCTableBlk1,2,FALSE)","v":0},"Start Index",{"$f":"SEED!$C$8","v":0},"HC Change Indicator",null,null,4]
[null,"Date","Event","Opponent","Op Hcap","Lev / Hcap","Score",null,"Won / Lost","Change +/-",null,"New Index"]
[null,{"$f":"NAMES!$C$9","v":"Date"},{"$f":"SEED!$G$2","v":"Tournament"},{"$f":"PLAYER!F60","v":" Block 1 Player 4"},{"$f":"VLOOKUP($D$18,HCTableBlk1,2,FALSE)","v":0},{"$f":"IF(HandicapPlay=\"x\",\"H\",\"L\")","v":"L"},{"$f":"PLAYER!I60","v":-1E-3},{"$f":"PLAYER!J60","v":-1E-3},{"$f":"IF(G18<0,\"\",IF(G18>H18,\"W\",\"L\"))","v":""},null,null,{"$f":"IF(J18=\"\",\"\",IF((L16+J18)<900,900,(L16+J18)))","v":""},null,null,null,null,{"$f":"VLOOKUP($D$18,HCTableBlk1,2,FALSE)","v":0}]
[null,"\"","\"                  \"",{"$f":"PLAYER!F61","v":" Block 1 Player 6"},{"$f":"VLOOKUP($D$19,HCTableBlk1,2,FALSE)","v":0},"L",{"$f":"PLAYER!I61","v":-1E-3},{"$f":"PLAYER!J61","v":-1E-3},{"$f":"IF(G19<0,\"\",IF(G19>H19,\"W\",\"L\"))","v":""},null,null,{"$f":"IF(J19=\"\",\"\",IF((L18+J19)<900,900,(L18+J19)))","v":""},null,null,null,null,{"$f":"VLOOKUP($D$19,HCTableBlk1,2,FALSE)","v":0}]
[null,"\"","\"                  \"",{"$f":"PLAYER!F62","v":" Block 1 Player 8"},{"$f":"VLOOKUP($D$20,HCTableBlk1,2,FALSE)","v":0},"L",{"$f":"PLAYER!I62","v":-1E-3},{"$f":"PLAYER!J62","v":-1E-3},"",null,null,"",null,null,null,null,{"$f":"VLOOKUP($D$20,HCTableBlk1,2,FALSE)","v":0}]
[null,"\"","\"                  \"",{"$f":"PLAYER!F63","v":" Block 1 Player 10"},{"$f":"VLOOKUP($D$21,HCTableBlk1,2,FALSE)","v":0},"L",{"$f":"PLAYER!I63","v":-1E-3},{"$f":"PLAYER!J63","v":-1E-3},"",null,null,"",null,null,null,null,{"$f":"VLOOKUP($D$21,HCTableBlk1,2,FALSE)","v":0}]
[null,"\"","\"                  \"",{"$f":"PLAYER!F64","v":" Block 1 Player 12"},{"$f":"VLOOKUP($D$22,HCTableBlk1,2,FALSE)","v":0},"L",{"$f":"PLAYER!I64","v":-1E-3},{"$f":"PLAYER!J64","v":-1E-3},"",null,null,"",null,null,null,null,{"$f":"VLOOKUP($D$22,HCTableBlk1,2,FALSE)","v":0}]
[null,"\"","\"                  \"",{"$f":"PLAYER!F65","v":" Block 1 Player 3"},{"$f":"VLOOKUP($D$23,HCTableBlk1,2,FALSE)","v":0},"L",{"$f":"PLAYER!I65","v":-1E-3},{"$f":"PLAYER!J65","v":-1E-3},"",null,null,"",null,null,null,null,{"$f":"VLOOKUP($D$23,HCTableBlk1,2,FALSE)","v":0}]
[null,"\"","\"                  \"",{"$f":"PLAYER!F66","v":" Block 1 Player 5"},{"$f":"VLOOKUP($D$24,HCTableBlk1,2,FALSE)","v":0},"L",{"$f":"PLAYER!I66","v":-1E-3},{"$f":"PLAYER!J66","v":-1E-3},"",null,null,"",null,null,null,null,{"$f":"VLOOKUP($D$24,HCTableBlk1,2,FALSE)","v":0}]
[null,"\"","\"                  \"",{"$f":"PLAYER!F67","v":" Block 1 Player 7"},{"$f":"VLOOKUP($D$25,HCTableBlk1,2,FALSE)","v":0},"L",{"$f":"PLAYER!I67","v":-1E-3},{"$f":"PLAYER!J67","v":-1E-3},"",null,null,"",null,null,null,null,{"$f":"VLOOKUP($D$25,HCTableBlk1,2,FALSE)","v":0}]
[null,"\"","\"                  \"",{"$f":"PLAYER!F68","v":" Block 1 Player 9"},{"$f":"VLOOKUP($D$26,HCTableBlk1,2,FALSE)","v":0},"L",{"$f":"PLAYER!I68","v":-1E-3},{"$f":"PLAYER!J68","v":-1E-3},"",null,null,"",null,null,null,null,{"$f":"VLOOKUP($D$26,HCTableBlk1,2,FALSE)","v":0}]
[null,"\"","\"                  \"",{"$f":"PLAYER!F69","v":" Block 1 Player 11"},{"$f":"VLOOKUP($D$27,HCTableBlk1,2,FALSE)","v":0},"L",{"$f":"PLAYER!I69","v":-1E-3},{"$f":"PLAYER!J69","v":-1E-3},"",null,null,"",null,null,null,null,{"$f":"VLOOKUP($D$27,HCTableBlk1,2,FALSE)","v":0}]
[null,"\"","\"                  \"",{"$f":"PLAYER!F70","v":" Block 1 Player 1"},{"$f":"VLOOKUP($D$28,HCTableBlk1,2,FALSE)","v":0},"L",{"$f":"PLAYER!I70","v":-1E-3},{"$f":"PLAYER!J70","v":-1E-3},"",null,"Finish >","",null,null,null,null,{"$f":"VLOOKUP($D$28,HCTableBlk1,2,FALSE)","v":0}]
[]
[null,"Player",null,{"$f":"SEED!$D$9","v":" Block 1 Player 3"},null,null,"Start H/C",{"$f":"SEED!$E$9","v":0},"New H/C",{"$f":"VLOOKUP(D30,HCTableBlk1,2,FALSE)","v":0},"Start Index",{"$f":"SEED!$C$9","v":0},"HC Change Indicator"]
[null,"Date","Event","Opponent","Op Hcap","Lev / Hcap","Score",null,"Won / Lost","Change +/-",null,"New Index"]
[null,{"$f":"NAMES!$C$9","v":"Date"},{"$f":"SEED!$G$2","v":"Tournament"},{"$f":"PLAYER!F111","v":" Block 1 Player 1"},{"$f":"VLOOKUP($D$32,HCTableBlk1,2,FALSE)","v":0},{"$f":"IF(HandicapPlay=\"x\",\"H\",\"L\")","v":"L"},{"$f":"PLAYER!I111","v":-1E-3},{"$f":"PLAYER!J111","v":-1E-3},{"$f":"IF(G32<0,\"\",IF(G32>H32,\"W\",\"L\"))","v":""},null,null,{"$f":"IF(J32=\"\",\"\",IF((L30+J32)<900,900,(L30+J32)))","v":""},null,null,null,null,{"$f":"VLOOKUP($D$32,HCTableBlk1,2,FALSE)","v":0}]
[null,"\"","\"                  \"",{"$f":"PLAYER!F112","v":" Block 1 Player 5"},{"$f":"VLOOKUP($D$33,HCTableBlk1,2,FALSE)","v":0},"L",{"$f":"PLAYER!I112","v":-1E-3},{"$f":"PLAYER!J112","v":-1E-3},{"$f":"IF(G33<0,\"\",IF(G33>H33,\"W\",\"L\"))","v":""},null,null,{"$f":"IF(J33=\"\",\"\",IF((L32+J33)<900,900,(L32+J33)))","v":""},null,null,null,null,{"$f":"VLOOKUP($D$33,HCTableBlk1,2,FALSE)","v":0}]
[null,"\"","\"                  \"",{"$f":"PLAYER!F113","v":" Block 1 Player 7"},{"$f":"VLOOKUP($D$34,HCTableBlk1,2,FALSE)","v":0},"L",{"$f":"PLAYER!I113","v":-1E-3},{"$f":"PLAYER!J113","v":-1E-3},"",null,null,"",null,null,null,null,{"$f":"VLOOKUP($D$34,HCTableBlk1,2,FALSE)","v":0}]
[null,"\"","\"                  \"",{"$f":"PLAYER!F114","v":" Block 1 Player 9"},{"$f":"VLOOKUP($D$35,HCTableBlk1,2,FALSE)","v":0},"L",{"$f":"PLAYER!I114","v":-1E-3},{"$f":"PLAYER!J114","v":-1E-3},"",null,null,"",null,null,null,null,{"$f":"VLOOKUP($D$35,HCTableBlk1,2,FALSE)","v":0}]
[null,"\"","\"                  \"",{"$f":"PLAYER!F115","v":" Block 1 Player 11"},{"$f":"VLOOKUP($D$36,HCTableBlk1,2,FALSE)","v":0},"L",{"$f":"PLAYER!I115","v":-1E-3},{"$f":"PLAYER!J115","v":-1E-3},"",null,null,"",null,null,null,null,{"$f":"VLOOKUP($D$36,HCTableBlk1,2,FALSE)","v":0}]
[null,"\"","\"                  \"",{"$f":"PLAYER!F116","v":" Block 1 Player 2"},{"$f":"VLOOKUP($D$37,HCTableBlk1,2,FALSE)","v":0},"L",{"$f":"PLAYER!I116","v":-1E-3},{"$f":"PLAYER!J116","v":-1E-3},"",null,null,"",null,null,null,null,{"$f":"VLOOKUP($D$37,HCTableBlk1,2,FALSE)","v":0}]
[null,"\"","\"                  \"",{"$f":"PLAYER!F117","v":" Block 1 Player 4"},{"$f":"VLOOKUP($D$38,HCTableBlk1,2,FALSE)","v":0},"L",{"$f":"PLAYER!I117","v":-1E-3},{"$f":"PLAYER!J117","v":-1E-3},"",null,null,"",null,null,null,null,{"$f":"VLOOKUP($D$38,HCTableBlk1,2,FALSE)","v":0}]
[null,"\"","\"                  \"",{"$f":"PLAYER!F118","v":" Block 1 Player 6"},{"$f":"VLOOKUP($D$39,HCTableBlk1,2,FALSE)","v":0},"L",{"$f":"PLAYER!I118","v":-1E-3},{"$f":"PLAYER!J118","v":-1E-3},"",null,null,"",null,null,null,null,{"$f":"VLOOKUP($D$39,HCTableBlk1,2,FALSE)","v":0}]
[null,"\"","\"                  \"",{"$f":"PLAYER!F119","v":" Block 1 Player 8"},{"$f":"VLOOKUP($D$40,HCTableBlk1,2,FALSE)","v":0},"L",{"$f":"PLAYER!I119","v":-1E-3},{"$f":"PLAYER!J119","v":-1E-3},"",null,null,"",null,null,null,null,{"$f":"VLOOKUP($D$40,HCTableBlk1,2,FALSE)","v":0}]
[null,"\"","\"                  \"",{"$f":"PLAYER!F120","v":" Block 1 Player 10"},{"$f":"VLOOKUP($D$41,HCTableBlk1,2,FALSE)","v":0},"L",{"$f":"PLAYER!I120","v":-1E-3},{"$f":"PLAYER!J120","v":-1E-3},"",null,null,"",null,null,null,null,{"$f":"VLOOKUP($D$41,HCTableBlk1,2,FALSE)","v":0}]
[null,"\"","\"                  \"",{"$f":"PLAYER!F121","v":" Block 1 Player 12"},{"$f":"VLOOKUP($D$42,HCTableBlk1,2,FALSE)","v":0},"L",{"$f":"PLAYER!I121","v":-1E-3},{"$f":"PLAYER!J121","v":-1E-3},"",null,"Finish >","",null,null,null,null,{"$f":"VLOOKUP($D$42,HCTableBlk1,2,FALSE)","v":0}]
[]
[null,"Player",null,{"$f":"SEED!$D$10","v":" Block 1 Player 4"},null,null,"Start H/C",{"$f":"SEED!$E$10","v":0},"New H/C",{"$f":"VLOOKUP(D44,HCTableBlk1,2,FALSE)","v":0},"Start Index",{"$f":"SEED!$C$10","v":0},"HC Change Indicator"]
[null,"Date","Event","Opponent","Op Hcap","Lev / Hcap","Score",null,"Won / Lost","Change +/-",null,"New Index"]
[null,{"$f":"NAMES!$C$9","v":"Date"},{"$f":"SEED!$G$2","v":"Tournament"},{"$f":"PLAYER!F162","v":" Block 1 Player 2"},{"$f":"VLOOKUP($D$46,HCTableBlk1,2,FALSE)","v":0},{"$f":"IF(HandicapPlay=\"x\",\"H\",\"L\")","v":"L"},{"$f":"PLAYER!I162","v":-1E-3},{"$f":"PLAYER!J162","v":-1E-3},{"$f":"IF(G46<0,\"\",IF(G46>H46,\"W\",\"L\"))","v":""},null,null,{"$f":"IF(J46=\"\",\"\",IF((L44+J46)<900,900,(L44+J46)))","v":""},null,null,null,null,{"$f":"VLOOKUP($D$46,HCTableBlk1,2,FALSE)","v":0}]
[null,"\"","\"                  \"",{"$f":"PLAYER!F163","v":" Block 1 Player 1"},{"$f":"VLOOKUP($D$47,HCTableBlk1,2,FALSE)","v":0},"L",{"$f":"PLAYER!I163","v":-1E-3},{"$f":"PLAYER!J163","v":-1E-3},{"$f":"IF(G47<0,\"\",IF(G47>H47,\"W\",\"L\"))","v":""},null,null,{"$f":"IF(J47=\"\",\"\",IF((L46+J47)<900,900,(L46+J47)))","v":""},null,null,null,null,{"$f":"VLOOKUP($D$47,HCTableBlk1,2,FALSE)","v":0}]
[null,"\"","\"                  \"",{"$f":"PLAYER!F164","v":" Block 1 Player 6"},{"$f":"VLOOKUP($D$48,HCTableBlk1,2,FALSE)","v":0},"L",{"$f":"PLAYER!I164","v":-1E-3},{"$f":"PLAYER!J164","v":-1E-3},"",null,null,"",null,null,null,null,{"$f":"VLOOKUP($D$48,HCTableBlk1,2,FALSE)","v":0}]
[null,"\"","\"                  \"",{"$f":"PLAYER!F165","v":" Block 1 Player 8"},{"$f":"VLOOKUP($D$49,HCTableBlk1,2,FALSE)","v":0},"L",{"$f":"PLAYER!I165","v":-1E-3},{"$f":"PLAYER!J165","v":-1E-3},"",null,null,"",null,null,null,null,{"$f":"VLOOKUP($D$49,HCTableBlk1,2,FALSE)","v":0}]
[null,"\"","\"                  \"",{"$f":"PLAYER!F166","v":" Block 1 Player 10"},{"$f":"VLOOKUP($D$50,HCTableBlk1,2,FALSE)","v":0},"L",{"$f":"PLAYER!I166","v":-1E-3},{"$f":"PLAYER!J166","v":-1E-3},"",null,null,"",null,null,null,null,{"$f":"VLOOKUP($D$50,HCTableBlk1,2,FALSE)","v":0}]
[null,"\"","\"                  \"",{"$f":"PLAYER!F167","v":" Block 1 Player 12"},{"$f":"VLOOKUP($D$51,HCTableBlk1,2,FALSE)","v":0},"L",{"$f":"PLAYER!I167","v":-1E-3},{"$f":"PLAYER!J167","v":-1E-3},"",null,null,"",null,null,null,null,{"$f":"VLOOKUP($D$51,HCTableBlk1,2,FALSE)","v":0}]
[null,"\"","\"                  \"",{"$f":"PLAYER!F168","v":" Block 1 Player 3"},{"$f":"VLOOKUP($D$52,HCTableBlk1,2,FALSE)","v":0},"L",{"$f":"PLAYER!I168","v":-1E-3},{"$f":"PLAYER!J168","v":-1E-3},"",null,null,"",null,null,null,null,{"$f":"VLOOKUP($D$52,HCTableBlk1,2,FALSE)","v":0}]
[null,"\"","\"                  \"",{"$f":"PLAYER!F169","v":" Block 1 Player 5"},{"$f":"VLOOKUP($D$53,HCTableBlk1,2,FALSE)","v":0},"L",{"$f":"PLAYER!I169","v":-1E-3},{"$f":"PLAYER!J169","v":-1E-3},"",null,null,"",null,null,null,null,{"$f":"VLOOKUP($D$53,HCTableBlk1,2,FALSE)","v":0}]
[null,"\"","\"                  \"",{"$f":"PLAYER!F170","v":" Block 1 Player 7"},{"$f":"VLOOKUP($D$54,HCTableBlk1,2,FALSE)","v":0},"L",{"$f":"PLAYER!I170","v":-1E-3},{"$f":"PLAYER!J170","v":-1E-3},"",null,null,"",null,null,null,null,{"$f":"VLOOKUP($D$54,HCTableBlk1,2,FALSE)","v":0}]
[null,"\"","\"                  \"",{"$f":"PLAYER!F171","v":" Block 1 Player 9"},{"$f":"VLOOKUP($D$55,HCTableBlk1,2,FALSE)","v":0},"L",{"$f":"PLAYER!I171","v":-1E-3},{"$f":"PLAYER!J171","v":-1E-3},"",null,null,"",null,null,null,null,{"$f":"VLOOKUP($D$55,HCTableBlk1,2,FALSE)","v":0}]
[null,"\"","\"                  \"",{"$f":"PLAYER!F172","v":" Block 1 Player 11"},{"$f":"VLOOKUP($D$56,HCTableBlk1,2,FALSE)","v":0},"L",{"$f":"PLAYER!I172","v":-1E-3},{"$f":"PLAYER!J172","v":-1E-3},"",null,"Finish >","",null,null,null,null,{"$f":"VLOOKUP($D$56,HCTableBlk1,2,FALSE)","v":0}]
[]
[null,"Player",null,{"$f":"SEED!$D$11","v":" Block 1 Player 5"},null,null,"Start H/C",{"$f":"SEED!$E$11","v":0},"New H/C",{"$f":"VLOOKUP(D58,HCTableBlk1,2,FALSE)","v":0},"Start Index",{"$f":"SEED!$C$11","v":0},"HC Change Indicator"]
[null,"Date","Event","Opponent","Op Hcap","Lev / Hcap","Score",null,"Won / Lost","Change +/-",null,"New Index"]
[null,{"$f":"NAMES!$C$9","v":"Date"},{"$f":"SEED!$G$2","v":"Tournament"},{"$f":"PLAYER!F213","v":" Block 1 Player 12"},{"$f":"VLOOKUP($D$60,HCTableBlk1,2,FALSE)","v":0},{"$f":"IF(HandicapPlay=\"x\",\"H\",\"L\")","v":"L"},{"$f":"PLAYER!I213","v":-1E-3},{"$f":"PLAYER!J213","v":-1E-3},{"$f":"IF(G60<0,\"\",IF(G60>H60,\"W\",\"L\"))","v":""},null,null,{"$f":"IF(J60=\"\",\"\",IF((L58+J60)<900,900,(L58+J60)))","v":""},null,null,null,null,{"$f":"VLOOKUP($D$60,HCTableBlk1,2,FALSE)","v":0}]
[null,"\"","\"                  \"",{"$f":"PLAYER!F214","v":" Block 1 Player 3"},{"$f":"VLOOKUP($D$61,HCTableBlk1,2,FALSE)","v":0},"L",{"$f":"PLAYER!I214","v":-1E-3},{"$f":"PLAYER!J214","v":-1E-3},"",null,null,{"$f":"IF(J61=\"\",\"\",IF((L60+J61)<900,900,(L60+J61)))","v":""},null,null,null,null,{"$f":"VLOOKUP($D$61,HCTableBlk1,2,FALSE)","v":0}]
[null,"\"","\"                  \"",{"$f":"PLAYER!F215","v":" Block 1 Player 1"},{"$f":"VLOOKUP($D$62,HCTableBlk1,2,FALSE)","v":0},"L",{"$f":"PLAYER!I215","v":-1E-3},{"$f":"PLAYER!J215","v":-1E-3},"",null,null,"",null,null,null,null,{"$f":"VLOOKUP($D$62,HCTableBlk1,2,FALSE)","v":0}]
[null,"\"","\"                  \"",{"$f":"PLAYER!F216","v":" Block 1 Player 7"},{"$f":"VLOOKUP($D$63,HCTableBlk1,2,FALSE)","v":0},"L",{"$f":"PLAYER!I216","v":-1E-3},{"$f":"PLAYER!J216","v":-1E-3},"",null,null,"",null,null,null,null,{"$f":"VLOOKUP($D$63,HCTableBlk1,2,FALSE)","v":0}]
[null,"\"","\"                  \"",{"$f":"PLAYER!F217","v":" Block 1 Player 9"},{"$f":"VLOOKUP($D$64,HCTableBlk1,2,FALSE)","v":0},"L",{"$f":"PLAYER!I217","v":-1E-3},{"$f":"PLAYER!J217","v":-1E-3},"",null,null,"",null,null,null,null,{"$f":"VLOOKUP($D$64,HCTableBlk1,2,FALSE)","v":0}]
[null,"\"","\"                  \"",{"$f":"PLAYER!F218","v":" Block 1 Player 11"},{"$f":"VLOOKUP($D$65,HCTableBlk1,2,FALSE)","v":0},"L",{"$f":"PLAYER!I218","v":-1E-3},{"$f":"PLAYER!J218","v":-1E-3},"",null,null,"",null,null,null,null,{"$f":"VLOOKUP($D$65,HCTableBlk1,2,FALSE)","v":0}]
[null,"\"","\"                  \"",{"$f":"PLAYER!F219","v":" Block 1 Player 2"},{"$f":"VLOOKUP($D$66,HCTableBlk1,2,FALSE)","v":0},"L",{"$f":"PLAYER!I219","v":-1E-3},{"$f":"PLAYER!J219","v":-1E-3},"",null,null,"",null,null,null,null,{"$f":"VLOOKUP($D$66,HCTableBlk1,2,FALSE)","v":0}]
[null,"\"","\"                  \"",{"$f":"PLAYER!F220","v":" Block 1 Player 4"},{"$f":"VLOOKUP($D$67,HCTableBlk1,2,FALSE)","v":0},"L",{"$f":"PLAYER!I220","v":-1E-3},{"$f":"PLAYER!J220","v":-1E-3},"",null,null,"",null,null,null,null,{"$f":"VLOOKUP($D$67,HCTableBlk1,2,FALSE)","v":0}]
[null,"\"","\"                  \"",{"$f":"PLAYER!F221","v":" Block 1 Player 6"},{"$f":"VLOOKUP($D$68,HCTableBlk1,2,FALSE)","v":0},"L",{"$f":"PLAYER!I221","v":-1E-3},{"$f":"PLAYER!J221","v":-1E-3},"",null,null,"",null,null,null,null,{"$f":"VLOOKUP($D$68,HCTableBlk1,2,FALSE)","v":0}]
[null,"\"","\"                  \"",{"$f":"PLAYER!F222","v":" Block 1 Player 8"},{"$f":"VLOOKUP($D$69,HCTableBlk1,2,FALSE)","v":0},"L",{"$f":"PLAYER!I222","v":-1E-3},{"$f":"PLAYER!J222","v":-1E-3},"",null,null,"",null,null,null,null,{"$f":"VLOOKUP($D$69,HCTableBlk1,2,FALSE)","v":0}]
[null,"\"","\"                  \"",{"$f":"PLAYER!F223","v":" Block 1 Player 10"},{"$f":"VLOOKUP($D$70,HCTableBlk1,2,FALSE)","v":0},"L",{"$f":"PLAYER!I223","v":-1E-3},{"$f":"PLAYER!J223","v":-1E-3},"",null,"Finish >","",null,null,null,null,{"$f":"VLOOKUP($D$70,HCTableBlk1,2,FALSE)","v":0}]
[]
[null,"Player",null,{"$f":"SEED!$D$12","v":" Block 1 Player 6"},null,null,"Start H/C",{"$f":"SEED!$E$12","v":0},"New H/C",{"$f":"VLOOKUP(D72,HCTableBlk1,2,FALSE)","v":0},"Start Index",{"$f":"SEED!$C$12","v":0},"HC Change Indicator"]
[null,"Date","Event","Opponent","Op Hcap","Lev / Hcap","Score",null,"Won / Lost","Change +/-",null,"New Index"]
[null,{"$f":"NAMES!$C$9","v":"Date"},{"$f":"SEED!$G$2","v":"Tournament"},{"$f":"PLAYER!F264","v":" Block 1 Player 11"},{"$f":"VLOOKUP($D$74,HCTableBlk1,2,FALSE)","v":0},{"$f":"IF(HandicapPlay=\"x\",\"H\",\"L\")","v":"L"},{"$f":"PLAYER!I264","v":-1E-3},{"$f":"PLAYER!J264","v":-1E-3},{"$f":"IF(G74<0,\"\",IF(G74>H74,\"W\",\"L\"))","v":""},null,null,{"$f":"IF(J74=\"\",\"\",IF((L72+J74)<900,900,(L72+J74)))","v":""},null,null,null,null,{"$f":"VLOOKUP($D$74,HCTableBlk1,2,FALSE)","v":0}]
[null,"\"","\"                  \"",{"$f":"PLAYER!F265","v":" Block 1 Player 2"},{"$f":"VLOOKUP($D$75,HCTableBlk1,2,FALSE)","v":0},"L",{"$f":"PLAYER!I265","v":-1E-3},{"$f":"PLAYER!J265","v":-1E-3},{"$f":"IF(G75<0,\"\",IF(G75>H75,\"W\",\"L\"))","v":""},null,null,{"$f":"IF(J75=\"\",\"\",IF((L74+J75)<900,900,(L74+J75)))","v":""},null,null,null,null,{"$f":"VLOOKUP($D$75,HCTableBlk1,2,FALSE)","v":0}]
[null,"\"","\"                  \"",{"$f":"PLAYER!F266","v":" Block 1 Player 4"},{"$f":"VLOOKUP($D$76,HCTableBlk1,2,FALSE)","v":0},"L",{"$f":"PLAYER!I266","v":-1E-3},{"$f":"PLAYER!J266","v":-1E-3},"",null,null,"",null,null,null,null,{"$f":"VLOOKUP($D$76,HCTableBlk1,2,FALSE)","v":0}]
[null,"\"","\"                  \"",{"$f":"PLAYER!F267","v":" Block 1 Player 1"},{"$f":"VLOOKUP($D$77,HCTableBlk1,2,FALSE)","v":0},"L",{"$f":"PLAYER!I267","v":-1E-3},{"$f":"PLAYER!J267","v":-1E-3},"",null,null,"",null,null,null,null,{"$f":"VLOOKUP($D$77,HCTableBlk1,2,FALSE)","v":0}]
[null,"\"","\"                  \"",{"$f":"PLAYER!F268","v":" Block 1 Player 8"},{"$f":"VLOOKUP($D$78,HCTableBlk1,2,FALSE)","v":0},"L",{"$f":"PLAYER!I268","v":-1E-3},{"$f":"PLAYER!J268","v":-1E-3},"",null,null,"",null,null,null,null,{"$f":"VLOOKUP($D$78,HCTableBlk1,2,FALSE)","v":0}]
[null,"\"","\"                  \"",{"$f":"PLAYER!F269","v":" Block 1 Player 10"},{"$f":"VLOOKUP($D$79,HCTableBlk1,2,FALSE)","v":0},"L",{"$f":"PLAYER!I269","v":-1E-3},{"$f":"PLAYER!J269","v":-1E-3},"",null,null,"",null,null,null,null,{"$f":"VLOOKUP($D$79,HCTableBlk1,2,FALSE)","v":0}]
[null,"\"","\"                  \"",{"$f":"PLAYER!F270","v":" Block 1 Player 12"},{"$f":"VLOOKUP($D$80,HCTableBlk1,2,FALSE)","v":0},"L",{"$f":"PLAYER!I270","v":-1E-3},{"$f":"PLAYER!J270","v":-1E-3},"",null,null,"",null,null,null,null,{"$f":"VLOOKUP($D$80,HCTableBlk1,2,FALSE)","v":0}]
[null,"\"","\"                  \"",{"$f":"PLAYER!F271","v":" Block 1 Player 3"},{"$f":"VLOOKUP($D$81,HCTableBlk1,2,FALSE)","v":0},"L",{"$f":"PLAYER!I271","v":-1E-3},{"$f":"PLAYER!J271","v":-1E-3},"",null,null,"",null,null,null,null,{"$f":"VLOOKUP($D$81,HCTableBlk1,2,FALSE)","v":0}]
[null,"\"","\"                  \"",{"$f":"PLAYER!F272","v":" Block 1 Player 5"},{"$f":"VLOOKUP($D$82,HCTableBlk1,2,FALSE)","v":0},"L",{"$f":"PLAYER!I272","v":-1E-3},{"$f":"PLAYER!J272","v":-1E-3},"",null,null,"",null,null,null,null,{"$f":"VLOOKUP($D$82,HCTableBlk1,2,FALSE)","v":0}]
[null,"\"","\"                  \"",{"$f":"PLAYER!F273","v":" Block 1 Player 7"},{"$f":"VLOOKUP($D$83,HCTableBlk1,2,FALSE)","v":0},"L",{"$f":"PLAYER!I273","v":-1E-3},{"$f":"PLAYER!J273","v":-1E-3},"",null,null,"",null,null,null,null,{"$f":"VLOOKUP($D$83,HCTableBlk1,2,FALSE)","v":0}]
[null,"\"","\"                  \"",{"$f":"PLAYER!F274","v":" Block 1 Player 9"},{"$f":"VLOOKUP($D$84,HCTableBlk1,2,FALSE)","v":0},"L",{"$f":"PLAYER!I274","v":-1E-3},{"$f":"PLAYER!J274","v":-1E-3},"",null,"Finish >","",null,null,null,null,{"$f":"VLOOKUP($D$84,HCTableBlk1,2,FALSE)","v":0}]
[]
[null,"Player",null,{"$f":"SEED!$D$13","v":" Block 1 Player 7"},null,null,"Start H/C",{"$f":"SEED!$E$13","v":0},"New H/C",{"$f":"VLOOKUP(D86,HCTableBlk1,2,FALSE)","v":0},"Start Index",{"$f":"SEED!$C$13","v":0},"HC Change Indicator"]
[null,"Date","Event","Opponent","Op Hcap","Lev / Hcap","Score",null,"Won / Lost","Change +/-",null,"New Index"]
[null,{"$f":"NAMES!$C$9","v":"Date"},{"$f":"SEED!$G$2","v":"Tournament"},{"$f":"PLAYER!F315","v":" Block 1 Player 10"},{"$f":"VLOOKUP($D$88,HCTableBlk1,2,FALSE)","v":0},{"$f":"IF(HandicapPlay=\"x\",\"H\",\"L\")","v":"L"},{"$f":"PLAYER!I315","v":-1E-3},{"$f":"PLAYER!J315","v":-1E-3},{"$f":"IF(G88<0,\"\",IF(G88>H88,\"W\",\"L\"))","v":""},null,null,{"$f":"IF(J88=\"\",\"\",IF((L86+J88)<900,900,(L86+J88)))","v":""},null,null,null,null,{"$f":"VLOOKUP($D$88,HCTableBlk1,2,FALSE)","v":0}]
[null,"\"","\"                  \"",{"$f":"PLAYER!F316","v":" Block 1 Player 12"},{"$f":"VLOOKUP($D$89,HCTableBlk1,2,FALSE)","v":0},"L",{"$f":"PLAYER!I316","v":-1E-3},{"$f":"PLAYER!J316","v":-1E-3},{"$f":"IF(G89<0,\"\",IF(G89>H89,\"W\",\"L\"))","v":""},null,null,{"$f":"IF(J89=\"\",\"\",IF((L88+J89)<900,900,(L88+J89)))","v":""},null,null,null,null,{"$f":"VLOOKUP($D$89,HCTableBlk1,2,FALSE)","v":0}]
[null,"\"","\"                  \"",{"$f":"PLAYER!F317","v":" Block 1 Player 3"},{"$f":"VLOOKUP($D$90,HCTableBlk1,2,FALSE)","v":0},"L",{"$f":"PLAYER!I317","v":-1E-3},{"$f":"PLAYER!J317","v":-1E-3},"",null,null,"",null,null,null,null,{"$f":"VLOOKUP($D$90,HCTableBlk1,2,FALSE)","v":0}]
[null,"\"","\"                  \"",{"$f":"PLAYER!F318","v":" Block 1 Player 5"},{"$f":"VLOOKUP($D$91,HCTableBlk1,2,FALSE)","v":0},"L",{"$f":"PLAYER!I318","v":-1E-3},{"$f":"PLAYER!J318","v":-1E-3},"",null,null,"",null,null,null,null,{"$f":"VLOOKUP($D$91,HCTableBlk1,2,FALSE)","v":0}]
[null,"\"","\"                  \"",{"$f":"PLAYER!F319","v":" Block 1 Player 1"},{"$f":"VLOOKUP($D$92,HCTableBlk1,2,FALSE)","v":0},"L",{"$f":"PLAYER!I319","v":-1E-3},{"$f":"PLAYER!J319","v":-1E-3},"",null,null,"",null,null,null,null,{"$f":"VLOOKUP($D$92,HCTableBlk1,2,FALSE)","v":0}]
[null,"\"","\"                  \"",{"$f":"PLAYER!F320","v":" Block 1 Player 9"},{"$f":"VLOOKUP($D$93,HCTableBlk1,2,FALSE)","v":0},"L",{"$f":"PLAYER!I320","v":-1E-3},{"$f":"PLAYER!J320","v":-1E-3},"",null,null,"",null,null,null,null,{"$f":"VLOOKUP($D$93,HCTableBlk1,2,FALSE)","v":0}]
[null,"\"","\"                  \"",{"$f":"PLAYER!F321","v":" Block 1 Player 11"},{"$f":"VLOOKUP($D$94,HCTableBlk1,2,FALSE)","v":0},"L",{"$f":"PLAYER!I321","v":-1E-3},{"$f":"PLAYER!J321","v":-1E-3},"",null,null,"",null,null,null,null,{"$f":"VLOOKUP($D$94,HCTableBlk1,2,FALSE)","v":0}]
[null,"\"","\"                  \"",{"$f":"PLAYER!F322","v":" Block 1 Player 2"},{"$f":"VLOOKUP($D$95,HCTableBlk1,2,FALSE)","v":0},"L",{"$f":"PLAYER!I322","v":-1E-3},{"$f":"PLAYER!J322","v":-1E-3},"",null,null,"",null,null,null,null,{"$f":"VLOOKUP($D$95,HCTableBlk1,2,FALSE)","v":0}]
[null,"\"","\"                  \"",{"$f":"PLAYER!F323","v":" Block 1 Player 4"},{"$f":"VLOOKUP($D$96,HCTableBlk1,2,FALSE)","v":0},"L",{"$f":"PLAYER!I323","v":-1E-3},{"$f":"PLAYER!J323","v":-1E-3},"",null,null,"",null,null,null,null,{"$f":"VLOOKUP($D$96,HCTableBlk1,2,FALSE)","v":0}]
[null,"\"","\"                  \"",{"$f":"PLAYER!F324","v":" Block 1 Player 6"},{"$f":"VLOOKUP($D$97,HCTableBlk1,2,FALSE)","v":0},"L",{"$f":"PLAYER!I324","v":-1E-3},{"$f":"PLAYER!J324","v":-1E-3},"",null,null,"",null,null,null,null,{"$f":"VLOOKUP($D$97,HCTableBlk1,2,FALSE)","v":0}]
[null,"\"","\"                  \"",{"$f":"PLAYER!F325","v":" Block 1 Player 8"},{"$f":"VLOOKUP($D$98,HCTableBlk1,2,FALSE)","v":0},"L",{"$f":"PLAYER!I325","v":-1E-3},{"$f":"PLAYER!J325","v":-1E-3},"",null,"Finish >","",null,null,null,null,{"$f":"VLOOKUP($D$98,HCTableBlk1,2,FALSE)","v":0}]
[]
[null,"Player",null,{"$f":"SEED!$D$14","v":" Block 1 Player 8"},null,null,"Start H/C",{"$f":"SEED!$E$14","v":0},"New H/C",{"$f":"VLOOKUP(D100,HCTableBlk1,2,FALSE)","v":0},"Start Index",{"$f":"SEED!$C$14","v":0},"HC Change Indicator"]
[null,"Date","Event","Opponent","Op Hcap","Lev / Hcap","Score",null,"Won / Lost","Change +/-",null,"New Index"]
[null,{"$f":"NAMES!$C$9","v":"Date"},{"$f":"SEED!$G$2","v":"Tournament"},{"$f":"PLAYER!F366","v":" Block 1 Player 9"},{"$f":"VLOOKUP($D$102,HCTableBlk1,2,FALSE)","v":0},{"$f":"IF(HandicapPlay=\"x\",\"H\",\"L\")","v":"L"},{"$f":"PLAYER!I366","v":-1E-3},{"$f":"PLAYER!J366","v":-1E-3},{"$f":"IF(G102<0,\"\",IF(G102>H102,\"W\",\"L\"))","v":""},null,null,{"$f":"IF(J102=\"\",\"\",IF((L100+J102)<900,900,(L100+J102)))","v":""},null,null,null,null,{"$f":"VLOOKUP($D$102,HCTableBlk1,2,FALSE)","v":0}]
[null,"\"","\"                  \"",{"$f":"PLAYER!F367","v":" Block 1 Player 11"},{"$f":"VLOOKUP($D$103,HCTableBlk1,2,FALSE)","v":0},"L",{"$f":"PLAYER!I367","v":-1E-3},{"$f":"PLAYER!J367","v":-1E-3},{"$f":"IF(G103<0,\"\",IF(G103>H103,\"W\",\"L\"))","v":""},null,null,{"$f":"IF(J103=\"\",\"\",IF((L102+J103)<900,900,(L102+J103)))","v":""},null,null,null,null,{"$f":"VLOOKUP($D$103,HCTableBlk1,2,FALSE)","v":0}]
[null,"\"","\"                  \"",{"$f":"PLAYER!F368","v":" Block 1 Player 2"},{"$f":"VLOOKUP($D$104,HCTableBlk1,2,FALSE)","v":0},"L",{"$f":"PLAYER!I368","v":-1E-3},{"$f":"PLAYER!J368","v":-1E-3},"",null,null,"",null,null,null,null,{"$f":"VLOOKUP($D$104,HCTableBlk1,2,FALSE)","v":0}]
[null,"\"","\"                  \"",{"$f":"PLAYER!F369","v":" Block 1 Player 4"},{"$f":"VLOOKUP($D$105,HCTableBlk1,2,FALSE)","v":0},"L",{"$f":"PLAYER!I369","v":-1E-3},{"$f":"PLAYER!J369","v":-1E-3},"",null,null,"",null,null,null,null,{"$f":"VLOOKUP($D$105,HCTableBlk1,2,FALSE)","v":0}]
[null,"\"","\"                  \"",{"$f":"PLAYER!F370","v":" Block 1 Player 6"},{"$f":"VLOOKUP($D$106,HCTableBlk1,2,FALSE)","v":0},"L",{"$f":"PLAYER!I370","v":-1E-3},{"$f":"PLAYER!J370","v":-1E-3},"",null,null,"",null,null,null,null,{"$f":"VLOOKUP($D$106,HCTableBlk1,2,FALSE)","v":0}]
[null,"\"","\"                  \"",{"$f":"PLAYER!F371","v":" Block 1 Player 1"},{"$f":"VLOOKUP($D$107,HCTableBlk1,2,FALSE)","v":0},"L",{"$f":"PLAYER!I371","v":-1E-3},{"$f":"PLAYER!J371","v":-1E-3},"",null,null,"",null,null,null,null,{"$f":"VLOOKUP($D$107,HCTableBlk1,2,FALSE)","v":0}]
[null,"\"","\"                  \"",{"$f":"PLAYER!F372","v":" Block 1 Player 10"},{"$f":"VLOOKUP($D$108,HCTableBlk1,2,FALSE)","v":0},"L",{"$f":"PLAYER!I372","v":-1E-3},{"$f":"PLAYER!J372","v":-1E-3},"",null,null,"",null,null,null,null,{"$f":"VLOOKUP($D$108,HCTableBlk1,2,FALSE)","v":0}]
[null,"\"","\"                  \"",{"$f":"PLAYER!F373","v":" Block 1 Player 12"},{"$f":"VLOOKUP($D$109,HCTableBlk1,2,FALSE)","v":0},"L",{"$f":"PLAYER!I373","v":-1E-3},{"$f":"PLAYER!J373","v":-1E-3},"",null,null,"",null,null,null,null,{"$f":"VLOOKUP($D$109,HCTableBlk1,2,FALSE)","v":0}]
[null,"\"","\"                  \"",{"$f":"PLAYER!F374","v":" Block 1 Player 3"},{"$f":"VLOOKUP($D$110,HCTableBlk1,2,FALSE)","v":0},"L",{"$f":"PLAYER!I374","v":-1E-3},{"$f":"PLAYER!J374","v":-1E-3},"",null,null,"",null,null,null,null,{"$f":"VLOOKUP($D$110,HCTableBlk1,2,FALSE)","v":0}]
[null,"\"","\"                  \"",{"$f":"PLAYER!F375","v":" Block 1 Player 5"},{"$f":"VLOOKUP($D$111,HCTableBlk1,2,FALSE)","v":0},"L",{"$f":"PLAYER!I375","v":-1E-3},{"$f":"PLAYER!J375","v":-1E-3},"",null,null,"",null,null,null,null,{"$f":"VLOOKUP($D$111,HCTableBlk1,2,FALSE)","v":0}]
[null,"\"","\"                  \"",{"$f":"PLAYER!F376","v":" Block 1 Player 7"},{"$f":"VLOOKUP($D$112,HCTableBlk1,2,FALSE)","v":0},"L",{"$f":"PLAYER!I376","v":-1E-3},{"$f":"PLAYER!J376","v":-1E-3},"",null,"Finish >","",null,null,null,null,{"$f":"VLOOKUP($D$112,HCTableBlk1,2,FALSE)","v":0}]
[]
[null,"Player",null,{"$f":"SEED!$D$15","v":" Block 1 Player 9"},null,null,"Start H/C",{"$f":"SEED!$E$15","v":0},"New H/C",{"$f":"VLOOKUP(D114,HCTableBlk1,2,FALSE)","v":0},"Start Index",{"$f":"SEED!$C$15","v":0},"HC Change Indicator"]
[null,"Date","Event","Opponent","Op Hcap","Lev / Hcap","Score",null,"Won / Lost","Change +/-",null,"New Index"]
[null,{"$f":"NAMES!$C$9","v":"Date"},{"$f":"SEED!$G$2","v":"Tournament"},{"$f":"PLAYER!F417","v":" Block 1 Player 8"},{"$f":"VLOOKUP($D$116,HCTableBlk1,2,FALSE)","v":0},{"$f":"IF(HandicapPlay=\"x\",\"H\",\"L\")","v":"L"},{"$f":"PLAYER!I417","v":-1E-3},{"$f":"PLAYER!J417","v":-1E-3},{"$f":"IF(G116<0,\"\",IF(G116>H116,\"W\",\"L\"))","v":""},null,null,{"$f":"IF(J116=\"\",\"\",IF((L114+J116)<900,900,(L114+J116)))","v":""},null,null,null,null,{"$f":"VLOOKUP($D$116,HCTableBlk1,2,FALSE)","v":0}]
[null,"\"","\"                  \"",{"$f":"PLAYER!F418","v":" Block 1 Player 10"},{"$f":"VLOOKUP($D$117,HCTableBlk1,2,FALSE)","v":0},"L",{"$f":"PLAYER!I418","v":-1E-3},{"$f":"PLAYER!J418","v":-1E-3},{"$f":"IF(G117<0,\"\",IF(G117>H117,\"W\",\"L\"))","v":""},null,null,{"$f":"IF(J117=\"\",\"\",IF((L116+J117)<900,900,(L116+J117)))","v":""},null,null,null,null,{"$f":"VLOOKUP($D$117,HCTableBlk1,2,FALSE)","v":0}]
[null,"\"","\"                  \"",{"$f":"PLAYER!F419","v":" Block 1 Player 12"},{"$f":"VLOOKUP($D$118,HCTableBlk1,2,FALSE)","v":0},"L",{"$f":"PLAYER!I419","v":-1E-3},{"$f":"PLAYER!J419","v":-1E-3},"",null,null,"",null,null,null,null,{"$f":"VLOOKUP($D$118,HCTableBlk1,2,FALSE)","v":0}]
[null,"\"","\"                  \"",{"$f":"PLAYER!F420","v":" Block 1 Player 3"},{"$f":"VLOOKUP($D$119,HCTableBlk1,2,FALSE)","v":0},"L",{"$f":"PLAYER!I420","v":-1E-3},{"$f":"PLAYER!J420","v":-1E-3},"",null,null,"",null,null,null,null,{"$f":"VLOOKUP($D$119,HCTableBlk1,2,FALSE)","v":0}]
[null,"\"","\"                  \"",{"$f":"PLAYER!F421","v":" Block 1 Player 5"},{"$f":"VLOOKUP($D$120,HCTableBlk1,2,FALSE)","v":0},"L",{"$f":"PLAYER!I421","v":-1E-3},{"$f":"PLAYER!J421","v":-1E-3},"",null,null,"",null,null,null,null,{"$f":"VLOOKUP($D$120,HCTableBlk1,2,FALSE)","v":0}]
[null,"\"","\"                  \"",{"$f":"PLAYER!F422","v":" Block 1 Player 7"},{"$f":"VLOOKUP($D$121,HCTableBlk1,2,FALSE)","v":0},"L",{"$f":"PLAYER!I422","v":-1E-3},{"$f":"PLAYER!J422","v":-1E-3},"",null,null,"",null,null,null,null,{"$f":"VLOOKUP($D$121,HCTableBlk1,2,FALSE)","v":0}]
[null,"\"","\"                  \"",{"$f":"PLAYER!F423","v":" Block 1 Player 1"},{"$f":"VLOOKUP($D$122,HCTableBlk1,2,FALSE)","v":0},"L",{"$f":"PLAYER!I423","v":-1E-3},{"$f":"PLAYER!J423","v":-1E-3},"",null,null,"",null,null,null,null,{"$f":"VLOOKUP($D$122,HCTableBlk1,2,FALSE)","v":0}]
[null,"\"","\"                  \"",{"$f":"PLAYER!F424","v":" Block 1 Player 11"},{"$f":"VLOOKUP($D$123,HCTableBlk1,2,FALSE)","v":0},"L",{"$f":"PLAYER!I424","v":-1E-3},{"$f":"PLAYER!J424","v":-1E-3},"",null,null,"",null,null,null,null,{"$f":"VLOOKUP($D$123,HCTableBlk1,2,FALSE)","v":0}]
[null,"\"","\"                  \"",{"$f":"PLAYER!F425","v":" Block 1 Player 2"},{"$f":"VLOOKUP($D$124,HCTableBlk1,2,FALSE)","v":0},"L",{"$f":"PLAYER!I425","v":-1E-3},{"$f":"PLAYER!J425","v":-1E-3},"",null,null,"",null,null,null,null,{"$f":"VLOOKUP($D$124,HCTableBlk1,2,FALSE)","v":0}]
[null,"\"","\"                  \"",{"$f":"PLAYER!F426","v":" Block 1 Player 4"},{"$f":"VLOOKUP($D$125,HCTableBlk1,2,FALSE)","v":0},"L",{"$f":"PLAYER!I426","v":-1E-3},{"$f":"PLAYER!J426","v":-1E-3},"",null,null,"",null,null,null,null,{"$f":"VLOOKUP($D$125,HCTableBlk1,2,FALSE)","v":0}]
[null,"\"","\"                  \"",{"$f":"PLAYER!F427","v":" Block 1 Player 6"},{"$f":"VLOOKUP($D$126,HCTableBlk1,2,FALSE)","v":0},"L",{"$f":"PLAYER!I427","v":-1E-3},{"$f":"PLAYER!J427","v":-1E-3},"",null,"Finish >","",null,null,null,null,{"$f":"VLOOKUP($D$126,HCTableBlk1,2,FALSE)","v":0}]
[]
[null,"Player",null,{"$f":"SEED!$D$16","v":" Block 1 Player 10"},null,null,"Start H/C",{"$f":"SEED!$E$16","v":0},"New H/C",{"$f":"VLOOKUP(D128,HCTableBlk1,2,FALSE)","v":0},"Start Index",{"$f":"SEED!$C$16","v":0},"HC Change Indicator"]
[null,"Date","Event","Opponent","Op Hcap","Lev / Hcap","Score",null,"Won / Lost","Change +/-",null,"New Index"]
[null,{"$f":"NAMES!$C$9","v":"Date"},{"$f":"SEED!$G$2","v":"Tournament"},{"$f":"PLAYER!F468","v":" Block 1 Player 7"},{"$f":"VLOOKUP($D$130,HCTableBlk1,2,FALSE)","v":0},{"$f":"IF(HandicapPlay=\"x\",\"H\",\"L\")","v":"L"},{"$f":"PLAYER!I468","v":-1E-3},{"$f":"PLAYER!J468","v":-1E-3},{"$f":"IF(G130<0,\"\",IF(G130>H130,\"W\",\"L\"))","v":""},null,null,{"$f":"IF(J130=\"\",\"\",IF((L128+J130)<900,900,(L128+J130)))","v":""},null,null,null,null,{"$f":"VLOOKUP($D$130,HCTableBlk1,2,FALSE)","v":0}]
[null,"\"","\"                  \"",{"$f":"PLAYER!F469","v":" Block 1 Player 9"},{"$f":"VLOOKUP($D$131,HCTableBlk1,2,FALSE)","v":0},"L",{"$f":"PLAYER!I469","v":-1E-3},{"$f":"PLAYER!J469","v":-1E-3},{"$f":"IF(G131<0,\"\",IF(G131>H131,\"W\",\"L\"))","v":""},null,null,{"$f":"IF(J131=\"\",\"\",IF((L130+J131)<900,900,(L130+J131)))","v":""},null,null,null,null,{"$f":"VLOOKUP($D$131,HCTableBlk1,2,FALSE)","v":0}]
[null,"\"","\"                  \"",{"$f":"PLAYER!F470","v":" Block 1 Player 11"},{"$f":"VLOOKUP($D$132,HCTableBlk1,2,FALSE)","v":0},"L",{"$f":"PLAYER!I470","v":-1E-3},{"$f":"PLAYER!J470","v":-1E-3},"",null,null,"",null,null,null,null,{"$f":"VLOOKUP($D$132,HCTableBlk1,2,FALSE)","v":0}]
[null,"\"","\"                  \"",{"$f":"PLAYER!F471","v":" Block 1 Player 2"},{"$f":"VLOOKUP($D$133,HCTableBlk1,2,FALSE)","v":0},"L",{"$f":"PLAYER!I471","v":-1E-3},{"$f":"PLAYER!J471","v":-1E-3},"",null,null,"",null,null,null,null,{"$f":"VLOOKUP($D$133,HCTableBlk1,2,FALSE)","v":0}]
[null,"\"","\"                  \"",{"$f":"PLAYER!F472","v":" Block 1 Player 4"},{"$f":"VLOOKUP($D$134,HCTableBlk1,2,FALSE)","v":0},"L",{"$f":"PLAYER!I472","v":-1E-3},{"$f":"PLAYER!J472","v":-1E-3},"",null,null,"",null,null,null,null,{"$f":"VLOOKUP($D$134,HCTableBlk1,2,FALSE)","v":0}]
[null,"\"","\"                  \"",{"$f":"PLAYER!F473","v":" Block 1 Player 6"},{"$f":"VLOOKUP($D$135,HCTableBlk1,2,FALSE)","v":0},"L",{"$f":"PLAYER!I473","v":-1E-3},{"$f":"PLAYER!J473","v":-1E-3},"",null,null,"",null,null,null,null,{"$f":"VLOOKUP($D$135,HCTableBlk1,2,FALSE)","v":0}]
[null,"\"","\"                  \"",{"$f":"PLAYER!F474","v":" Block 1 Player 8"},{"$f":"VLOOKUP($D$136,HCTableBlk1,2,FALSE)","v":0},"L",{"$f":"PLAYER!I474","v":-1E-3},{"$f":"PLAYER!J474","v":-1E-3},"",null,null,"",null,null,null,null,{"$f":"VLOOKUP($D$136,HCTableBlk1,2,FALSE)","v":0}]
[null,"\"","\"                  \"",{"$f":"PLAYER!F475","v":" Block 1 Player 1"},{"$f":"VLOOKUP($D$137,HCTableBlk1,2,FALSE)","v":0},"L",{"$f":"PLAYER!I475","v":-1E-3},{"$f":"PLAYER!J475","v":-1E-3},"",null,null,"",null,null,null,null,{"$f":"VLOOKUP($D$137,HCTableBlk1,2,FALSE)","v":0}]
[null,"\"","\"                  \"",{"$f":"PLAYER!F476","v":" Block 1 Player 12"},{"$f":"VLOOKUP($D$138,HCTableBlk1,2,FALSE)","v":0},"L",{"$f":"PLAYER!I476","v":-1E-3},{"$f":"PLAYER!J476","v":-1E-3},"",null,null,"",null,null,null,null,{"$f":"VLOOKUP($D$138,HCTableBlk1,2,FALSE)","v":0}]
[null,"\"","\"                  \"",{"$f":"PLAYER!F477","v":" Block 1 Player 3"},{"$f":"VLOOKUP($D$139,HCTableBlk1,2,FALSE)","v":0},"L",{"$f":"PLAYER!I477","v":-1E-3},{"$f":"PLAYER!J477","v":-1E-3},"",null,null,"",null,null,null,null,{"$f":"VLOOKUP($D$139,HCTableBlk1,2,FALSE)","v":0}]
[null,"\"","\"                  \"",{"$f":"PLAYER!F478","v":" Block 1 Player 5"},{"$f":"VLOOKUP($D$140,HCTableBlk1,2,FALSE)","v":0},"L",{"$f":"PLAYER!I478","v":-1E-3},{"$f":"PLAYER!J478","v":-1E-3},"",null,"Finish >","",null,null,null,null,{"$f":"VLOOKUP($D$140,HCTableBlk1,2,FALSE)","v":0}]
[]
[null,"Player",null,{"$f":"SEED!$D$17","v":" Block 1 Player 11"},null,null,"Start H/C",{"$f":"SEED!$E$17","v":0},"New H/C",{"$f":"VLOOKUP(D142,HCTableBlk1,2,FALSE)","v":0},"Start Index",{"$f":"SEED!$C$17","v":0},"HC Change Indicator"]
[null,"Date","Event","Opponent","Op Hcap","Lev / Hcap","Score",null,"Won / Lost","Change +/-",null,"New Index"]
[null,{"$f":"NAMES!$C$9","v":"Date"},{"$f":"SEED!$G$2","v":"Tournament"},{"$f":"PLAYER!F519","v":" Block 1 Player 6"},{"$f":"VLOOKUP($D$144,HCTableBlk1,2,FALSE)","v":0},{"$f":"IF(HandicapPlay=\"x\",\"H\",\"L\")","v":"L"},{"$f":"PLAYER!I519","v":-1E-3},{"$f":"PLAYER!J519","v":-1E-3},{"$f":"IF(G144<0,\"\",IF(G144>H144,\"W\",\"L\"))","v":""},null,null,{"$f":"IF(J144=\"\",\"\",IF((L142+J144)<900,900,(L142+J144)))","v":""},null,null,null,null,{"$f":"VLOOKUP($D$144,HCTableBlk1,2,FALSE)","v":0}]
[null,"\"","\"                  \"",{"$f":"PLAYER!F520","v":" Block 1 Player 8"},{"$f":"VLOOKUP($D$145,HCTableBlk1,2,FALSE)","v":0},"L",{"$f":"PLAYER!I520","v":-1E-3},{"$f":"PLAYER!J520","v":-1E-3},{"$f":"IF(G145<0,\"\",IF(G145>H145,\"W\",\"L\"))","v":""},null,null,{"$f":"IF(J145=\"\",\"\",IF((L144+J145)<900,900,(L144+J145)))","v":""},null,null,null,null,{"$f":"VLOOKUP($D$145,HCTableBlk1,2,FALSE)","v":0}]
[null,"\"","\"                  \"",{"$f":"PLAYER!F521","v":" Block 1 Player 10"},{"$f":"VLOOKUP($D$146,HCTableBlk1,2,FALSE)","v":0},"L",{"$f":"PLAYER!I521","v":-1E-3},{"$f":"PLAYER!J521","v":-1E-3},"",null,null,"",null,null,null,null,{"$f":"VLOOKUP($D$146,HCTableBlk1,2,FALSE)","v":0}]
[null,"\"","\"                  \"",{"$f":"PLAYER!F522","v":" Block 1 Player 12"},{"$f":"VLOOKUP($D$147,HCTableBlk1,2,FALSE)","v":0},"L",{"$f":"PLAYER!I522","v":-1E-3},{"$f":"PLAYER!J522","v":-1E-3},"",null,null,"",null,null,null,null,{"$f":"VLOOKUP($D$147,HCTableBlk1,2,FALSE)","v":0}]
[null,"\"","\"                  \"",{"$f":"PLAYER!F523","v":" Block 1 Player 3"},{"$f":"VLOOKUP($D$148,HCTableBlk1,2,FALSE)","v":0},"L",{"$f":"PLAYER!I523","v":-1E-3},{"$f":"PLAYER!J523","v":-1E-3},"",null,null,"",null,null,null,null,{"$f":"VLOOKUP($D$148,HCTableBlk1,2,FALSE)","v":0}]
[null,"\"","\"                  \"",{"$f":"PLAYER!F524","v":" Block 1 Player 5"},{"$f":"VLOOKUP($D$149,HCTableBlk1,2,FALSE)","v":0},"L",{"$f":"PLAYER!I524","v":-1E-3},{"$f":"PLAYER!J524","v":-1E-3},"",null,null,"",null,null,null,null,{"$f":"VLOOKUP($D$149,HCTableBlk1,2,FALSE)","v":0}]
[null,"\"","\"                  \"",{"$f":"PLAYER!F525","v":" Block 1 Player 7"},{"$f":"VLOOKUP($D$150,HCTableBlk1,2,FALSE)","v":0},"L",{"$f":"PLAYER!I525","v":-1E-3},{"$f":"PLAYER!J525","v":-1E-3},"",null,null,"",null,null,null,null,{"$f":"VLOOKUP($D$150,HCTableBlk1,2,FALSE)","v":0}]
[null,"\"","\"                  \"",{"$f":"PLAYER!F526","v":" Block 1 Player 9"},{"$f":"VLOOKUP($D$151,HCTableBlk1,2,FALSE)","v":0},"L",{"$f":"PLAYER!I526","v":-1E-3},{"$f":"PLAYER!J526","v":-1E-3},"",null,null,"",null,null,null,null,{"$f":"VLOOKUP($D$151,HCTableBlk1,2,FALSE)","v":0}]
[null,"\"","\"                  \"",{"$f":"PLAYER!F527","v":" Block 1 Player 1"},{"$f":"VLOOKUP($D$152,HCTableBlk1,2,FALSE)","v":0},"L",{"$f":"PLAYER!I527","v":-1E-3},{"$f":"PLAYER!J527","v":-1E-3},"",null,null,"",null,null,null,null,{"$f":"VLOOKUP($D$152,HCTableBlk1,2,FALSE)","v":0}]
[null,"\"","\"                  \"",{"$f":"PLAYER!F528","v":" Block 1 Player 2"},{"$f":"VLOOKUP($D$153,HCTableBlk1,2,FALSE)","v":0},"L",{"$f":"PLAYER!I528","v":-1E-3},{"$f":"PLAYER!J528","v":-1E-3},"",null,null,"",null,null,null,null,{"$f":"VLOOKUP($D$153,HCTableBlk1,2,FALSE)","v":0}]
[null,"\"","\"                  \"",{"$f":"PLAYER!F529","v":" Block 1 Player 4"},{"$f":"VLOOKUP($D$154,HCTableBlk1,2,FALSE)","v":0},"L",{"$f":"PLAYER!I529","v":-1E-3},{"$f":"PLAYER!J529","v":-1E-3},"",null,"Finish >","",null,null,null,null,{"$f":"VLOOKUP($D$154,HCTableBlk1,2,FALSE)","v":0}]
[]
[null,"Player",null,{"$f":"SEED!$D$18","v":" Block 1 Player 12"},null,null,"Start H/C",{"$f":"SEED!$E$18","v":0},"New H/C",{"$f":"VLOOKUP(D156,HCTableBlk1,2,FALSE)","v":0},"Start Index",{"$f":"SEED!$C$18","v":0},"HC Change Indicator"]
[null,"Date","Event","Opponent","Op Hcap","Lev / Hcap","Score",null,"Won / Lost","Change +/-",null,"New Index"]
[null,{"$f":"NAMES!$C$9","v":"Date"},{"$f":"SEED!$G$2","v":"Tournament"},{"$f":"PLAYER!F570","v":" Block 1 Player 5"},{"$f":"VLOOKUP($D$158,HCTableBlk1,2,FALSE)","v":0},{"$f":"IF(HandicapPlay=\"x\",\"H\",\"L\")","v":"L"},{"$f":"PLAYER!I570","v":-1E-3},{"$f":"PLAYER!J570","v":-1E-3},{"$f":"IF(G158<0,\"\",IF(G158>H158,\"W\",\"L\"))","v":""},null,null,{"$f":"IF(J158=\"\",\"\",IF((L156+J158)<900,900,(L156+J158)))","v":""},null,null,null,null,{"$f":"VLOOKUP($D$158,HCTableBlk1,2,FALSE)","v":0}]
[null,"\"","\"                  \"",{"$f":"PLAYER!F571","v":" Block 1 Player 7"},{"$f":"VLOOKUP($D$159,HCTableBlk1,2,FALSE)","v":0},"L",{"$f":"PLAYER!I571","v":-1E-3},{"$f":"PLAYER!J571","v":-1E-3},{"$f":"IF(G159<0,\"\",IF(G159>H159,\"W\",\"L\"))","v":""},null,null,{"$f":"IF(J159=\"\",\"\",IF((L158+J159)<900,900,(L158+J159)))","v":""},null,null,null,null,{"$f":"VLOOKUP($D$159,HCTableBlk1,2,FALSE)","v":0}]
[null,"\"","\"                  \"",{"$f":"PLAYER!F572","v":" Block 1 Player 9"},{"$f":"VLOOKUP($D$160,HCTableBlk1,2,FALSE)","v":0},"L",{"$f":"PLAYER!I572","v":-1E-3},{"$f":"PLAYER!J572","v":-1E-3},"",null,null,"",null,null,null,null,{"$f":"VLOOKUP($D$160,HCTableBlk1,2,FALSE)","v":0}]
[null,"\"","\"                  \"",{"$f":"PLAYER!F573","v":" Block 1 Player 11"},{"$f":"VLOOKUP($D$161,HCTableBlk1,2,FALSE)","v":0},"L",{"$f":"PLAYER!I573","v":-1E-3},{"$f":"PLAYER!J573","v":-1E-3},"",null,null,"",null,null,null,null,{"$f":"VLOOKUP($D$161,HCTableBlk1,2,FALSE)","v":0}]
[null,"\"","\"                  \"",{"$f":"PLAYER!F574","v":" Block 1 Player 2"},{"$f":"VLOOKUP($D$162,HCTableBlk1,2,FALSE)","v":0},"L",{"$f":"PLAYER!I574","v":-1E-3},{"$f":"PLAYER!J574","v":-1E-3},"",null,null,"",null,null,null,null,{"$f":"VLOOKUP($D$162,HCTableBlk1,2,FALSE)","v":0}]
[null,"\"","\"                  \"",{"$f":"PLAYER!F575","v":" Block 1 Player 4"},{"$f":"VLOOKUP($D$163,HCTableBlk1,2,FALSE)","v":0},"L",{"$f":"PLAYER!I575","v":-1E-3},{"$f":"PLAYER!J575","v":-1E-3},"",null,null,"",null,null,null,null,{"$f":"VLOOKUP($D$163,HCTableBlk1,2,FALSE)","v":0}]
[null,"\"","\"                  \"",{"$f":"PLAYER!F576","v":" Block 1 Player 6"},{"$f":"VLOOKUP($D$164,HCTableBlk1,2,FALSE)","v":0},"L",{"$f":"PLAYER!I576","v":-1E-3},{"$f":"PLAYER!J576","v":-1E-3},"",null,null,"",null,null,null,null,{"$f":"VLOOKUP($D$164,HCTableBlk1,2,FALSE)","v":0}]
[null,"\"","\"                  \"",{"$f":"PLAYER!F577","v":" Block 1 Player 8"},{"$f":"VLOOKUP($D$165,HCTableBlk1,2,FALSE)","v":0},"L",{"$f":"PLAYER!I577","v":-1E-3},{"$f":"PLAYER!J577","v":-1E-3},"",null,null,"",null,null,null,null,{"$f":"VLOOKUP($D$165,HCTableBlk1,2,FALSE)","v":0}]
[null,"\"","\"                  \"",{"$f":"PLAYER!F578","v":" Block 1 Player 10"},{"$f":"VLOOKUP($D$166,HCTableBlk1,2,FALSE)","v":0},"L",{"$f":"PLAYER!I578","v":-1E-3},{"$f":"PLAYER!J578","v":-1E-3},"",null,null,"",null,null,null,null,{"$f":"VLOOKUP($D$166,HCTableBlk1,2,FALSE)","v":0}]
[null,"\"","\"                  \"",{"$f":"PLAYER!F579","v":" Block 1 Player 1"},{"$f":"VLOOKUP($D$167,HCTableBlk1,2,FALSE)","v":0},"L",{"$f":"PLAYER!I579","v":-1E-3},{"$f":"PLAYER!J579","v":-1E-3},"",null,null,"",null,null,null,null,{"$f":"VLOOKUP($D$167,HCTableBlk1,2,FALSE)","v":0}]
[null,"\"","\"                  \"",{"$f":"PLAYER!F580","v":" Block 1 Player 3"},{"$f":"VLOOKUP($D$168,HCTableBlk1,2,FALSE)","v":0},"L",{"$f":"PLAYER!I580","v":-1E-3},{"$f":"PLAYER!J580","v":-1E-3},"",null,"Finish >","",null,null,null,null,{"$f":"VLOOKUP($D$168,HCTableBlk1,2,FALSE)","v":0}]
[null,{"$f":"SEED!$I$5","v":"BLOCK 2"}]
[null,"Player",null,{"$f":"SEED!$I$7","v":" Block 2 Player 1"},null,null,"Start H/C",{"$f":"SEED!$J$7","v":0},"New H/C",{"$f":"VLOOKUP(D170,HCTableBlk2,2,FALSE)","v":0},"Start Index",{"$f":"SEED!$H$7","v":0},"HC Change Indicator","BLOCK 2"]
[null,"Date","Event","Opponent","Op Hcap","Lev / Hcap","Score",null,"Won / Lost","Change +/-",null,"New Index",null,"Player","H/C","Temp H/C",null,null,"HC Change Flags"]
[null,{"$f":"NAMES!$C$9","v":"Date"},{"$f":"SEED!$G$2","v":"Tournament"},{"$f":"PLAYER!F621","v":" Block 2 Player 3"},{"$f":"VLOOKUP($D$172,HCTableBlk2,2,FALSE)","v":0},{"$f":"IF(HandicapPlay=\"x\",\"H\",\"L\")","v":"L"},{"$f":"PLAYER!I621","v":-1E-3},{"$f":"PLAYER!J621","v":-1E-3},{"$f":"IF(G172<0,\"\",IF(G172>H172,\"W\",\"L\"))","v":""},null,null,{"$f":"IF(J172=\"\",\"\",IF((L170+J172)<900,900,(L170+J172)))","v":""},null,{"$f":"SEED!I7","v":" Block 2 Player 1"},{"$f":"SEED!J7","v":0},null,{"$f":"VLOOKUP($D$172,HCTableBlk2,2,FALSE)","v":0},null,0,13]
[null,"\"","\"                  \"",{"$f":"PLAYER!F622","v":" Block 2 Player 4"},{"$f":"VLOOKUP($D$173,HCTableBlk2,2,FALSE)","v":0},"L",{"$f":"PLAYER!I622","v":-1E-3},{"$f":"PLAYER!J622","v":-1E-3},{"$f":"IF(G173<0,\"\",IF(G173>H173,\"W\",\"L\"))","v":""},null,null,{"$f":"IF(J173=\"\",\"\",IF((L172+J173)<900,900,(L172+J173)))","v":""},null,{"$f":"SEED!I8","v":" Block 2 Player 2"},{"$f":"SEED!J8","v":0},null,{"$f":"VLOOKUP($D$173,HCTableBlk2,2,FALSE)","v":0},null,0,14]
[null,"\"","\"                  \"",{"$f":"PLAYER!F623","v":" Block 2 Player 5"},{"$f":"VLOOKUP($D$174,HCTableBlk2,2,FALSE)","v":0},"L",{"$f":"PLAYER!I623","v":-1E-3},{"$f":"PLAYER!J623","v":-1E-3},"",null,null,"",null,{"$f":"SEED!I9","v":" Block 2 Player 3"},{"$f":"SEED!J9","v":0},null,{"$f":"VLOOKUP($D$174,HCTableBlk2,2,FALSE)","v":0},null,0,15]
[null,"\"","\"                  \"",{"$f":"PLAYER!F624","v":" Block 2 Player 6"},{"$f":"VLOOKUP($D$175,HCTableBlk2,2,FALSE)","v":0},"L",{"$f":"PLAYER!I624","v":-1E-3},{"$f":"PLAYER!J624","v":-1E-3},"",null,null,"",null,{"$f":"SEED!I10","v":" Block 2 Player 4"},{"$f":"SEED!J10","v":0},null,{"$f":"VLOOKUP($D$175,HCTableBlk2,2,FALSE)","v":0},null,0,16]
[null,"\"","\"                  \"",{"$f":"PLAYER!F625","v":" Block 2 Player 7"},{"$f":"VLOOKUP($D$176,HCTableBlk2,2,FALSE)","v":0},"L",{"$f":"PLAYER!I625","v":-1E-3},{"$f":"PLAYER!J625","v":-1E-3},"",null,null,"",null,{"$f":"SEED!I11","v":" Block 2 Player 5"},{"$f":"SEED!J11","v":0},null,{"$f":"VLOOKUP($D$176,HCTableBlk2,2,FALSE)","v":0},null,0,17]
[null,"\"","\"                  \"",{"$f":"PLAYER!F626","v":" Block 2 Player 8"},{"$f":"VLOOKUP($D$177,HCTableBlk2,2,FALSE)","v":0},"L",{"$f":"PLAYER!I626","v":-1E-3},{"$f":"PLAYER!J626","v":-1E-3},"",null,null,"",null,{"$f":"SEED!I12","v":" Block 2 Player 6"},{"$f":"SEED!J12","v":0},null,{"$f":"VLOOKUP($D$177,HCTableBlk2,2,FALSE)","v":0},null,0,18]
[null,"\"","\"                  \"",{"$f":"PLAYER!F627","v":" Block 2 Player 9"},{"$f":"VLOOKUP($D$178,HCTableBlk2,2,FALSE)","v":0},"L",{"$f":"PLAYER!I627","v":-1E-3},{"$f":"PLAYER!J627","v":-1E-3},"",null,null,"",null,{"$f":"SEED!I13","v":" Block 2 Player 7"},{"$f":"SEED!J13","v":0},null,{"$f":"VLOOKUP($D$178,HCTableBlk2,2,FALSE)","v":0},null,0,19]
[null,"\"","\"                  \"",{"$f":"PLAYER!F628","v":" Block 2 Player 10"},{"$f":"VLOOKUP($D$179,HCTableBlk2,2,FALSE)","v":0},"L",{"$f":"PLAYER!I628","v":-1E-3},{"$f":"PLAYER!J628","v":-1E-3},"",null,null,"",null,{"$f":"SEED!I14","v":" Block 2 Player 8"},{"$f":"SEED!J14","v":0},null,{"$f":"VLOOKUP($D$179,HCTableBlk2,2,FALSE)","v":0},null,0,20]
[null,"\"","\"                  \"",{"$f":"PLAYER!F629","v":" Block 2 Player 11"},{"$f":"VLOOKUP($D$180,HCTableBlk2,2,FALSE)","v":0},"L",{"$f":"PLAYER!I629","v":-1E-3},{"$f":"PLAYER!J629","v":-1E-3},"",null,null,"",null,{"$f":"SEED!I15","v":" Block 2 Player 9"},{"$f":"SEED!J15","v":0},null,{"$f":"VLOOKUP($D$180,HCTableBlk2,2,FALSE)","v":0},null,0,21]
[null,"\"","\"                  \"",{"$f":"PLAYER!F630","v":" Block 2 Player 12"},{"$f":"VLOOKUP($D$181,HCTableBlk2,2,FALSE)","v":0},"L",{"$f":"PLAYER!I630","v":-1E-3},{"$f":"PLAYER!J630","v":-1E-3},"",null,null,"",null,{"$f":"SEED!I16","v":" Block 2 Player 10"},{"$f":"SEED!J16","v":0},null,{"$f":"VLOOKUP($D$181,HCTableBlk2,2,FALSE)","v":0},null,0,22]
[null,"\"","\"                  \"",{"$f":"PLAYER!F631","v":" Block 2 Player 2"},{"$f":"VLOOKUP($D$182,HCTableBlk2,2,FALSE)","v":0},"L",{"$f":"PLAYER!I631","v":-1E-3},{"$f":"PLAYER!J631","v":-1E-3},"",null,"Finish >","",null,{"$f":"SEED!I17","v":" Block 2 Player 11"},{"$f":"SEED!J17","v":0},null,{"$f":"VLOOKUP($D$182,HCTableBlk2,2,FALSE)","v":0},null,0,23]
[null,null,null,null,null,null,null,null,null,null,null,null,null,{"$f":"SEED!I18","v":" Block 2 Player 12"},{"$f":"SEED!J18","v":0},null,null,null,0,24]
[null,"Player",null,{"$f":"SEED!$I$8","v":" Block 2 Player 2"},null,null,"Start H/C",{"$f":"SEED!$J$8","v":0},"New H/C",{"$f":"VLOOKUP(D184,HCTableBlk2,2,FALSE)","v":0},"Start Index",{"$f":"SEED!$H$8","v":0},"HC Change Indicator",null,null,4]
[null,"Date","Event","Opponent","Op Hcap","Lev / Hcap","Score",null,"Won / Lost","Change +/-",null,"New Index"]
[null,{"$f":"NAMES!$C$9","v":"Date"},{"$f":"SEED!$G$2","v":"Tournament"},{"$f":"PLAYER!F672","v":" Block 2 Player 4"},{"$f":"VLOOKUP($D$186,HCTableBlk2,2,FALSE)","v":0},{"$f":"IF(HandicapPlay=\"x\",\"H\",\"L\")","v":"L"},{"$f":"PLAYER!I672","v":-1E-3},{"$f":"PLAYER!J672","v":-1E-3},{"$f":"IF(G186<0,\"\",IF(G186>H186,\"W\",\"L\"))","v":""},null,null,{"$f":"IF(J186=\"\",\"\",IF((L184+J186)<900,900,(L184+J186)))","v":""},null,null,null,null,{"$f":"VLOOKUP($D$186,HCTableBlk2,2,FALSE)","v":0}]
[null,"\"","\"                  \"",{"$f":"PLAYER!F673","v":" Block 2 Player 6"},{"$f":"VLOOKUP($D$187,HCTableBlk2,2,FALSE)","v":0},"L",{"$f":"PLAYER!I673","v":-1E-3},{"$f":"PLAYER!J673","v":-1E-3},{"$f":"IF(G187<0,\"\",IF(G187>H187,\"W\",\"L\"))","v":""},null,null,{"$f":"IF(J187=\"\",\"\",IF((L186+J187)<900,900,(L186+J187)))","v":""},null,null,null,null,{"$f":"VLOOKUP($D$187,HCTableBlk2,2,FALSE)","v":0}]
[null,"\"","\"                  \"",{"$f":"PLAYER!F674","v":" Block 2 Player 8"},{"$f":"VLOOKUP($D$188,HCTableBlk2,2,FALSE)","v":0},"L",{"$f":"PLAYER!I674","v":-1E-3},{"$f":"PLAYER!J674","v":-1E-3},"",null,null,"",null,null,null,null,{"$f":"VLOOKUP($D$188,HCTableBlk2,2,FALSE)","v":0}]
[null,"\"","\"                  \"",{"$f":"PLAYER!F675","v":" Block 2 Player 10"},{"$f":"VLOOKUP($D$189,HCTableBlk2,2,FALSE)","v":0},"L",{"$f":"PLAYER!I675","v":-1E-3},{"$f":"PLAYER!J675","v":-1E-3},"",null,null,"",null,null,null,null,{"$f":"VLOOKUP($D$189,HCTableBlk2,2,FALSE)","v":0}]
[null,"\"","\"                  \"",{"$f":"PLAYER!F676","v":" Block 2 Player 12"},{"$f":"VLOOKUP($D$190,HCTableBlk2,2,FALSE)","v":0},"L",{"$f":"PLAYER!I676","v":-1E-3},{"$f":"PLAYER!J676","v":-1E-3},"",null,null,"",null,null,null,null,{"$f":"VLOOKUP($D$190,HCTableBlk2,2,FALSE)","v":0}]
[null,"\"","\"                  \"",{"$f":"PLAYER!F677","v":" Block 2 Player 3"},{"$f":"VLOOKUP($D$191,HCTableBlk2,2,FALSE)","v":0},"L",{"$f":"PLAYER!I677","v":-1E-3},{"$f":"PLAYER!J677","v":-1E-3},"",null,null,"",null,null,null,null,{"$f":"VLOOKUP($D$191,HCTableBlk2,2,FALSE)","v":0}]
[null,"\"","\"                  \"",{"$f":"PLAYER!F678","v":" Block 2 Player 5"},{"$f":"VLOOKUP($D$192,HCTableBlk2,2,FALSE)","v":0},"L",{"$f":"PLAYER!I678","v":-1E-3},{"$f":"PLAYER!J678","v":-1E-3},"",null,null,"",null,null,null,null,{"$f":"VLOOKUP($D$192,HCTableBlk2,2,FALSE)","v":0}]
[null,"\"","\"                  \"",{"$f":"PLAYER!F679","v":" Block 2 Player 7"},{"$f":"VLOOKUP($D$193,HCTableBlk2,2,FALSE)","v":0},"L",{"$f":"PLAYER!I679","v":-1E-3},{"$f":"PLAYER!J679","v":-1E-3},"",null,null,"",null,null,null,null,{"$f":"VLOOKUP($D$193,HCTableBlk2,2,FALSE)","v":0}]
[null,"\"","\"                  \"",{"$f":"PLAYER!F680","v":" Block 2 Player 9"},{"$f":"VLOOKUP($D$194,HCTableBlk2,2,FALSE)","v":0},"L",{"$f":"PLAYER!I680","v":-1E-3},{"$f":"PLAYER!J680","v":-1E-3},"",null,null,"",null,null,null,null,{"$f":"VLOOKUP($D$194,HCTableBlk2,2,FALSE)","v":0}]
[null,"\"","\"                  \"",{"$f":"PLAYER!F681","v":" Block 2 Player 11"},{"$f":"VLOOKUP($D$195,HCTableBlk2,2,FALSE)","v":0},"L",{"$f":"PLAYER!I681","v":-1E-3},{"$f":"PLAYER!J681","v":-1E-3},"",null,null,"",null,null,null,null,{"$f":"VLOOKUP($D$195,HCTableBlk2,2,FALSE)","v":0}]
[null,"\"","\"                  \"",{"$f":"PLAYER!F682","v":" Block 2 Player 1"},{"$f":"VLOOKUP($D$196,HCTableBlk2,2,FALSE)","v":0},"L",{"$f":"PLAYER!I682","v":-1E-3},{"$f":"PLAYER!J682","v":-1E-3},"",null,"Finish >","",null,null,null,null,{"$f":"VLOOKUP($D$196,HCTableBlk2,2,FALSE)","v":0}]
[]
[null,"Player",null,{"$f":"SEED!$I$9","v":" Block 2 Player 3"},null,null,"Start H/C",{"$f":"SEED!$J$9","v":0},"New H/C",{"$f":"VLOOKUP(D198,HCTableBlk2,2,FALSE)","v":0},"Start Index",{"$f":"SEED!$H$9","v":0},"HC Change Indicator"]
[null,"Date","Event","Opponent","Op Hcap","Lev / Hcap","Score",null,"Won / Lost","Change +/-",null,"New Index"]
[null,{"$f":"NAMES!$C$9","v":"Date"},{"$f":"SEED!$G$2","v":"Tournament"},{"$f":"PLAYER!F723","v":" Block 2 Player 1"},{"$f":"VLOOKUP($D$200,HCTableBlk2,2,FALSE)","v":0},{"$f":"IF(HandicapPlay=\"x\",\"H\",\"L\")","v":"L"},{"$f":"PLAYER!I723","v":-1E-3},{"$f":"PLAYER!J723","v":-1E-3},{"$f":"IF(G200<0,\"\",IF(G200>H200,\"W\",\"L\"))","v":""},null,null,{"$f":"IF(J200=\"\",\"\",IF((L198+J200)<900,900,(L198+J200)))","v":""},null,null,null,null,{"$f":"VLOOKUP($D$200,HCTableBlk2,2,FALSE)","v":0}]
[null,"\"","\"                  \"",{"$f":"PLAYER!F724","v":" Block 2 Player 5"},{"$f":"VLOOKUP($D$201,HCTableBlk2,2,FALSE)","v":0},"L",{"$f":"PLAYER!I724","v":-1E-3},{"$f":"PLAYER!J724","v":-1E-3},{"$f":"IF(G201<0,\"\",IF(G201>H201,\"W\",\"L\"))","v":""},null,null,{"$f":"IF(J201=\"\",\"\",IF((L200+J201)<900,900,(L200+J201)))","v":""},null,null,null,null,{"$f":"VLOOKUP($D$201,HCTableBlk2,2,FALSE)","v":0}]
[null,"\"","\"                  \"",{"$f":"PLAYER!F725","v":" Block 2 Player 7"},{"$f":"VLOOKUP($D$202,HCTableBlk2,2,FALSE)","v":0},"L",{"$f":"PLAYER!I725","v":-1E-3},{"$f":"PLAYER!J725","v":-1E-3},"",null,null,"",null,null,null,null,{"$f":"VLOOKUP($D$202,HCTableBlk2,2,FALSE)","v":0}]
[null,"\"","\"                  \"",{"$f":"PLAYER!F726","v":" Block 2 Player 9"},{"$f":"VLOOKUP($D$203,HCTableBlk2,2,FALSE)","v":0},"L",{"$f":"PLAYER!I726","v":-1E-3},{"$f":"PLAYER!J726","v":-1E-3},"",null,null,"",null,null,null,null,{"$f":"VLOOKUP($D$203,HCTableBlk2,2,FALSE)","v":0}]
[null,"\"","\"                  \"",{"$f":"PLAYER!F727","v":" Block 2 Player 11"},{"$f":"VLOOKUP($D$204,HCTableBlk2,2,FALSE)","v":0},"L",{"$f":"PLAYER!I727","v":-1E-3},{"$f":"PLAYER!J727","v":-1E-3},"",null,null,"",null,null,null,null,{"$f":"VLOOKUP($D$204,HCTableBlk2,2,FALSE)","v":0}]
[null,"\"","\"                  \"",{"$f":"PLAYER!F728","v":" Block 2 Player 2"},{"$f":"VLOOKUP($D$205,HCTableBlk2,2,FALSE)","v":0},"L",{"$f":"PLAYER!I728","v":-1E-3},{"$f":"PLAYER!J728","v":-1E-3},"",null,null,"",null,null,null,null,{"$f":"VLOOKUP($D$205,HCTableBlk2,2,FALSE)","v":0}]
[null,"\"","\"                  \"",{"$f":"PLAYER!F729","v":" Block 2 Player 4"},{"$f":"VLOOKUP($D$206,HCTableBlk2,2,FALSE)","v":0},"L",{"$f":"PLAYER!I729","v":-1E-3},{"$f":"PLAYER!J729","v":-1E-3},"",null,null,"",null,null,null,null,{"$f":"VLOOKUP($D$206,HCTableBlk2,2,FALSE)","v":0}]
[null,"\"","\"                  \"",{"$f":"PLAYER!F730","v":" Block 2 Player 6"},{"$f":"VLOOKUP($D$207,HCTableBlk2,2,FALSE)","v":0},"L",{"$f":"PLAYER!I730","v":-1E-3},{"$f":"PLAYER!J730","v":-1E-3},"",null,null,"",null,null,null,null,{"$f":"VLOOKUP($D$207,HCTableBlk2,2,FALSE)","v":0}]
[null,"\"","\"                  \"",{"$f":"PLAYER!F731","v":" Block 2 Player 8"},{"$f":"VLOOKUP($D$208,HCTableBlk2,2,FALSE)","v":0},"L",{"$f":"PLAYER!I731","v":-1E-3},{"$f":"PLAYER!J731","v":-1E-3},"",null,null,"",null,null,null,null,{"$f":"VLOOKUP($D$208,HCTableBlk2,2,FALSE)","v":0}]
[null,"\"","\"                  \"",{"$f":"PLAYER!F732","v":" Block 2 Player 10"},{"$f":"VLOOKUP($D$209,HCTableBlk2,2,FALSE)","v":0},"L",{"$f":"PLAYER!I732","v":-1E-3},{"$f":"PLAYER!J732","v":-1E-3},"",null,null,"",null,null,null,null,{"$f":"VLOOKUP($D$209,HCTableBlk2,2,FALSE)","v":0}]
[null,"\"","\"                  \"",{"$f":"PLAYER!F733","v":" Block 2 Player 12"},{"$f":"VLOOKUP($D$210,HCTableBlk2,2,FALSE)","v":0},"L",{"$f":"PLAYER!I733","v":-1E-3},{"$f":"PLAYER!J733","v":-1E-3},"",null,"Finish >","",null,null,null,null,{"$f":"VLOOKUP($D$210,HCTableBlk2,2,FALSE)","v":0}]
[]
[null,"Player",null,{"$f":"SEED!$I$10","v":" Block 2 Player 4"},null,null,"Start H/C",{"$f":"SEED!$J$10","v":0},"New H/C",{"$f":"VLOOKUP(D212,HCTableBlk2,2,FALSE)","v":0},"Start Index",{"$f":"SEED!$H$10","v":0},"HC Change Indicator"]
[null,"Date","Event","Opponent","Op Hcap","Lev / Hcap","Score",null,"Won / Lost","Change +/-",null,"New Index"]
[null,{"$f":"NAMES!$C$9","v":"Date"},{"$f":"SEED!$G$2","v":"Tournament"},{"$f":"PLAYER!F774","v":" Block 2 Player 2"},{"$f":"VLOOKUP($D$214,HCTableBlk2,2,FALSE)","v":0},{"$f":"IF(HandicapPlay=\"x\",\"H\",\"L\")","v":"L"},{"$f":"PLAYER!I774","v":-1E-3},{"$f":"PLAYER!J774","v":-1E-3},{"$f":"IF(G214<0,\"\",IF(G214>H214,\"W\",\"L\"))","v":""},null,null,{"$f":"IF(J214=\"\",\"\",IF((L212+J214)<900,900,(L212+J214)))","v":""},null,null,null,null,{"$f":"VLOOKUP($D$214,HCTableBlk2,2,FALSE)","v":0}]
[null,"\"","\"                  \"",{"$f":"PLAYER!F775","v":" Block 2 Player 1"},{"$f":"VLOOKUP($D$215,HCTableBlk2,2,FALSE)","v":0},"L",{"$f":"PLAYER!I775","v":-1E-3},{"$f":"PLAYER!J775","v":-1E-3},{"$f":"IF(G215<0,\"\",IF(G215>H215,\"W\",\"L\"))","v":""},null,null,{"$f":"IF(J215=\"\",\"\",IF((L214+J215)<900,900,(L214+J215)))","v":""},null,null,null,null,{"$f":"VLOOKUP($D$215,HCTableBlk2,2,FALSE)","v":0}]
[null,"\"","\"                  \"",{"$f":"PLAYER!F776","v":" Block 2 Player 6"},{"$f":"VLOOKUP($D$216,HCTableBlk2,2,FALSE)","v":0},"L",{"$f":"PLAYER!I776","v":-1E-3},{"$f":"PLAYER!J776","v":-1E-3},"",null,null,"",null,null,null,null,{"$f":"VLOOKUP($D$216,HCTableBlk2,2,FALSE)","v":0}]
[null,"\"","\"                  \"",{"$f":"PLAYER!F777","v":" Block 2 Player 8"},{"$f":"VLOOKUP($D$217,HCTableBlk2,2,FALSE)","v":0},"L",{"$f":"PLAYER!I777","v":-1E-3},{"$f":"PLAYER!J777","v":-1E-3},"",null,null,"",null,null,null,null,{"$f":"VLOOKUP($D$217,HCTableBlk2,2,FALSE)","v":0}]
[null,"\"","\"                  \"",{"$f":"PLAYER!F778","v":" Block 2 Player 10"},{"$f":"VLOOKUP($D$218,HCTableBlk2,2,FALSE)","v":0},"L",{"$f":"PLAYER!I778","v":-1E-3},{"$f":"PLAYER!J778","v":-1E-3},"",null,null,"",null,null,null,null,{"$f":"VLOOKUP($D$218,HCTableBlk2,2,FALSE)","v":0}]
[null,"\"","\"                  \"",{"$f":"PLAYER!F779","v":" Block 2 Player 12"},{"$f":"VLOOKUP($D$219,HCTableBlk2,2,FALSE)","v":0},"L",{"$f":"PLAYER!I779","v":-1E-3},{"$f":"PLAYER!J779","v":-1E-3},"",null,null,"",null,null,null,null,{"$f":"VLOOKUP($D$219,HCTableBlk2,2,FALSE)","v":0}]
[null,"\"","\"                  \"",{"$f":"PLAYER!F780","v":" Block 2 Player 3"},{"$f":"VLOOKUP($D$220,HCTableBlk2,2,FALSE)","v":0},"L",{"$f":"PLAYER!I780","v":-1E-3},{"$f":"PLAYER!J780","v":-1E-3},"",null,null,"",null,null,null,null,{"$f":"VLOOKUP($D$220,HCTableBlk2,2,FALSE)","v":0}]
[null,"\"","\"                  \"",{"$f":"PLAYER!F781","v":" Block 2 Player 5"},{"$f":"VLOOKUP($D$221,HCTableBlk2,2,FALSE)","v":0},"L",{"$f":"PLAYER!I781","v":-1E-3},{"$f":"PLAYER!J781","v":-1E-3},"",null,null,"",null,null,null,null,{"$f":"VLOOKUP($D$221,HCTableBlk2,2,FALSE)","v":0}]
[null,"\"","\"                  \"",{"$f":"PLAYER!F782","v":" Block 2 Player 7"},{"$f":"VLOOKUP($D$222,HCTableBlk2,2,FALSE)","v":0},"L",{"$f":"PLAYER!I782","v":-1E-3},{"$f":"PLAYER!J782","v":-1E-3},"",null,null,"",null,null,null,null,{"$f":"VLOOKUP($D$222,HCTableBlk2,2,FALSE)","v":0}]
[null,"\"","\"                  \"",{"$f":"PLAYER!F783","v":" Block 2 Player 9"},{"$f":"VLOOKUP($D$223,HCTableBlk2,2,FALSE)","v":0},"L",{"$f":"PLAYER!I783","v":-1E-3},{"$f":"PLAYER!J783","v":-1E-3},"",null,null,"",null,null,null,null,{"$f":"VLOOKUP($D$223,HCTableBlk2,2,FALSE)","v":0}]
[null,"\"","\"                  \"",{"$f":"PLAYER!F784","v":" Block 2 Player 11"},{"$f":"VLOOKUP($D$224,HCTableBlk2,2,FALSE)","v":0},"L",{"$f":"PLAYER!I784","v":-1E-3},{"$f":"PLAYER!J784","v":-1E-3},"",null,"Finish >","",null,null,null,null,{"$f":"VLOOKUP($D$224,HCTableBlk2,2,FALSE)","v":0}]
[]
[null,"Player",null,{"$f":"SEED!$I$11","v":" Block 2 Player 5"},null,null,"Start H/C",{"$f":"SEED!$J$11","v":0},"New H/C",{"$f":"VLOOKUP(D226,HCTableBlk2,2,FALSE)","v":0},"Start Index",{"$f":"SEED!$H$11","v":0},"HC Change Indicator"]
[null,"Date","Event","Opponent","Op Hcap","Lev / Hcap","Score",null,"Won / Lost","Change +/-",null,"New Index"]
[null,{"$f":"NAMES!$C$9","v":"Date"},{"$f":"SEED!$G$2","v":"Tournament"},{"$f":"PLAYER!F825","v":" Block 2 Player 12"},{"$f":"VLOOKUP($D$228,HCTableBlk2,2,FALSE)","v":0},{"$f":"IF(HandicapPlay=\"x\",\"H\",\"L\")","v":"L"},{"$f":"PLAYER!I825","v":-1E-3},{"$f":"PLAYER!J825","v":-1E-3},{"$f":"IF(G228<0,\"\",IF(G228>H228,\"W\",\"L\"))","v":""},null,null,{"$f":"IF(J228=\"\",\"\",IF((L226+J228)<900,900,(L226+J228)))","v":""},null,null,null,null,{"$f":"VLOOKUP($D$228,HCTableBlk2,2,FALSE)","v":0}]
[null,"\"","\"                  \"",{"$f":"PLAYER!F826","v":" Block 2 Player 3"},{"$f":"VLOOKUP($D$229,HCTableBlk2,2,FALSE)","v":0},"L",{"$f":"PLAYER!I826","v":-1E-3},{"$f":"PLAYER!J826","v":-1E-3},"",null,null,{"$f":"IF(J229=\"\",\"\",IF((L228+J229)<900,900,(L228+J229)))","v":""},null,null,null,null,{"$f":"VLOOKUP($D$229,HCTableBlk2,2,FALSE)","v":0}]
[null,"\"","\"                  \"",{"$f":"PLAYER!F827","v":" Block 2 Player 1"},{"$f":"VLOOKUP($D$230,HCTableBlk2,2,FALSE)","v":0},"L",{"$f":"PLAYER!I827","v":-1E-3},{"$f":"PLAYER!J827","v":-1E-3},"",null,null,"",null,null,null,null,{"$f":"VLOOKUP($D$230,HCTableBlk2,2,FALSE)","v":0}]
[null,"\"","\"                  \"",{"$f":"PLAYER!F828","v":" Block 2 Player 7"},{"$f":"VLOOKUP($D$231,HCTableBlk2,2,FALSE)","v":0},"L",{"$f":"PLAYER!I828","v":-1E-3},{"$f":"PLAYER!J828","v":-1E-3},"",null,null,"",null,null,null,null,{"$f":"VLOOKUP($D$231,HCTableBlk2,2,FALSE)","v":0}]
[null,"\"","\"                  \"",{"$f":"PLAYER!F829","v":" Block 2 Player 9"},{"$f":"VLOOKUP($D$232,HCTableBlk2,2,FALSE)","v":0},"L",{"$f":"PLAYER!I829","v":-1E-3},{"$f":"PLAYER!J829","v":-1E-3},"",null,null,"",null,null,null,null,{"$f":"VLOOKUP($D$232,HCTableBlk2,2,FALSE)","v":0}]
[null,"\"","\"                  \"",{"$f":"PLAYER!F830","v":" Block 2 Player 11"},{"$f":"VLOOKUP($D$233,HCTableBlk2,2,FALSE)","v":0},"L",{"$f":"PLAYER!I830","v":-1E-3},{"$f":"PLAYER!J830","v":-1E-3},"",null,null,"",null,null,null,null,{"$f":"VLOOKUP($D$233,HCTableBlk2,2,FALSE)","v":0}]
[null,"\"","\"                  \"",{"$f":"PLAYER!F831","v":" Block 2 Player 2"},{"$f":"VLOOKUP($D$234,HCTableBlk2,2,FALSE)","v":0},"L",{"$f":"PLAYER!I831","v":-1E-3},{"$f":"PLAYER!J831","v":-1E-3},"",null,null,"",null,null,null,null,{"$f":"VLOOKUP($D$234,HCTableBlk2,2,FALSE)","v":0}]
[null,"\"","\"                  \"",{"$f":"PLAYER!F832","v":" Block 2 Player 4"},{"$f":"VLOOKUP($D$235,HCTableBlk2,2,FALSE)","v":0},"L",{"$f":"PLAYER!I832","v":-1E-3},{"$f":"PLAYER!J832","v":-1E-3},"",null,null,"",null,null,null,null,{"$f":"VLOOKUP($D$235,HCTableBlk2,2,FALSE)","v":0}]
[null,"\"","\"                  \"",{"$f":"PLAYER!F833","v":" Block 2 Player 6"},{"$f":"VLOOKUP($D$236,HCTableBlk2,2,FALSE)","v":0},"L",{"$f":"PLAYER!I833","v":-1E-3},{"$f":"PLAYER!J833","v":-1E-3},"",null,null,"",null,null,null,null,{"$f":"VLOOKUP($D$236,HCTableBlk2,2,FALSE)","v":0}]
[null,"\"","\"                  \"",{"$f":"PLAYER!F834","v":" Block 2 Player 8"},{"$f":"VLOOKUP($D$237,HCTableBlk2,2,FALSE)","v":0},"L",{"$f":"PLAYER!I834","v":-1E-3},{"$f":"PLAYER!J834","v":-1E-3},"",null,null,"",null,null,null,null,{"$f":"VLOOKUP($D$237,HCTableBlk2,2,FALSE)","v":0}]
[null,"\"","\"                  \"",{"$f":"PLAYER!F835","v":" Block 2 Player 10"},{"$f":"VLOOKUP($D$238,HCTableBlk2,2,FALSE)","v":0},"L",{"$f":"PLAYER!I835","v":-1E-3},{"$f":"PLAYER!J835","v":-1E-3},"",null,"Finish >","",null,null,null,null,{"$f":"VLOOKUP($D$238,HCTableBlk2,2,FALSE)","v":0}]
[]
[null,"Player",null,{"$f":"SEED!$I$12","v":" Block 2 Player 6"},null,null,"Start H/C",{"$f":"SEED!$J$12","v":0},"New H/C",{"$f":"VLOOKUP(D240,HCTableBlk2,2,FALSE)","v":0},"Start Index",{"$f":"SEED!$H$12","v":0},"HC Change Indicator"]
[null,"Date","Event","Opponent","Op Hcap","Lev / Hcap","Score",null,"Won / Lost","Change +/-",null,"New Index"]
[null,{"$f":"NAMES!$C$9","v":"Date"},{"$f":"SEED!$G$2","v":"Tournament"},{"$f":"PLAYER!F876","v":" Block 2 Player 11"},{"$f":"VLOOKUP($D$242,HCTableBlk2,2,FALSE)","v":0},{"$f":"IF(HandicapPlay=\"x\",\"H\",\"L\")","v":"L"},{"$f":"PLAYER!I876","v":-1E-3},{"$f":"PLAYER!J876","v":-1E-3},{"$f":"IF(G242<0,\"\",IF(G242>H242,\"W\",\"L\"))","v":""},null,null,{"$f":"IF(J242=\"\",\"\",IF((L240+J242)<900,900,(L240+J242)))","v":""},null,null,null,null,{"$f":"VLOOKUP($D$242,HCTableBlk2,2,FALSE)","v":0}]
[null,"\"","\"                  \"",{"$f":"PLAYER!F877","v":" Block 2 Player 2"},{"$f":"VLOOKUP($D$243,HCTableBlk2,2,FALSE)","v":0},"L",{"$f":"PLAYER!I877","v":-1E-3},{"$f":"PLAYER!J877","v":-1E-3},{"$f":"IF(G243<0,\"\",IF(G243>H243,\"W\",\"L\"))","v":""},null,null,{"$f":"IF(J243=\"\",\"\",IF((L242+J243)<900,900,(L242+J243)))","v":""},null,null,null,null,{"$f":"VLOOKUP($D$243,HCTableBlk2,2,FALSE)","v":0}]
[null,"\"","\"                  \"",{"$f":"PLAYER!F878","v":" Block 2 Player 4"},{"$f":"VLOOKUP($D$244,HCTableBlk2,2,FALSE)","v":0},"L",{"$f":"PLAYER!I878","v":-1E-3},{"$f":"PLAYER!J878","v":-1E-3},"",null,null,"",null,null,null,null,{"$f":"VLOOKUP($D$244,HCTableBlk2,2,FALSE)","v":0}]
[null,"\"","\"                  \"",{"$f":"PLAYER!F879","v":" Block 2 Player 1"},{"$f":"VLOOKUP($D$245,HCTableBlk2,2,FALSE)","v":0},"L",{"$f":"PLAYER!I879","v":-1E-3},{"$f":"PLAYER!J879","v":-1E-3},"",null,null,"",null,null,null,null,{"$f":"VLOOKUP($D$245,HCTableBlk2,2,FALSE)","v":0}]
[null,"\"","\"                  \"",{"$f":"PLAYER!F880","v":" Block 2 Player 8"},{"$f":"VLOOKUP($D$246,HCTableBlk2,2,FALSE)","v":0},"L",{"$f":"PLAYER!I880","v":-1E-3},{"$f":"PLAYER!J880","v":-1E-3},"",null,null,"",null,null,null,null,{"$f":"VLOOKUP($D$246,HCTableBlk2,2,FALSE)","v":0}]
[null,"\"","\"                  \"",{"$f":"PLAYER!F881","v":" Block 2 Player 10"},{"$f":"VLOOKUP($D$247,HCTableBlk2,2,FALSE)","v":0},"L",{"$f":"PLAYER!I881","v":-1E-3},{"$f":"PLAYER!J881","v":-1E-3},"",null,null,"",null,null,null,null,{"$f":"VLOOKUP($D$247,HCTableBlk2,2,FALSE)","v":0}]
[null,"\"","\"                  \"",{"$f":"PLAYER!F882","v":" Block 2 Player 12"},{"$f":"VLOOKUP($D$248,HCTableBlk2,2,FALSE)","v":0},"L",{"$f":"PLAYER!I882","v":-1E-3},{"$f":"PLAYER!J882","v":-1E-3},"",null,null,"",null,null,null,null,{"$f":"VLOOKUP($D$248,HCTableBlk2,2,FALSE)","v":0}]
[null,"\"","\"                  \"",{"$f":"PLAYER!F883","v":" Block 2 Player 3"},{"$f":"VLOOKUP($D$249,HCTableBlk2,2,FALSE)","v":0},"L",{"$f":"PLAYER!I883","v":-1E-3},{"$f":"PLAYER!J883","v":-1E-3},"",null,null,"",null,null,null,null,{"$f":"VLOOKUP($D$249,HCTableBlk2,2,FALSE)","v":0}]
[null,"\"","\"                  \"",{"$f":"PLAYER!F884","v":" Block 2 Player 5"},{"$f":"VLOOKUP($D$250,HCTableBlk2,2,FALSE)","v":0},"L",{"$f":"PLAYER!I884","v":-1E-3},{"$f":"PLAYER!J884","v":-1E-3},"",null,null,"",null,null,null,null,{"$f":"VLOOKUP($D$250,HCTableBlk2,2,FALSE)","v":0}]
[null,"\"","\"                  \"",{"$f":"PLAYER!F885","v":" Block 2 Player 7"},{"$f":"VLOOKUP($D$251,HCTableBlk2,2,FALSE)","v":0},"L",{"$f":"PLAYER!I885","v":-1E-3},{"$f":"PLAYER!J885","v":-1E-3},"",null,null,"",null,null,null,null,{"$f":"VLOOKUP($D$251,HCTableBlk2,2,FALSE)","v":0}]
[null,"\"","\"                  \"",{"$f":"PLAYER!F886","v":" Block 2 Player 9"},{"$f":"VLOOKUP($D$252,HCTableBlk2,2,FALSE)","v":0},"L",{"$f":"PLAYER!I886","v":-1E-3},{"$f":"PLAYER!J886","v":-1E-3},"",null,"Finish >","",null,null,null,null,{"$f":"VLOOKUP($D$252,HCTableBlk2,2,FALSE)","v":0}]
[]
[null,"Player",null,{"$f":"SEED!$I$13","v":" Block 2 Player 7"},null,null,"Start H/C",{"$f":"SEED!$J$13","v":0},"New H/C",{"$f":"VLOOKUP(D254,HCTableBlk2,2,FALSE)","v":0},"Start Index",{"$f":"SEED!$H$13","v":0},"HC Change Indicator"]
[null,"Date","Event","Opponent","Op Hcap","Lev / Hcap","Score",null,"Won / Lost","Change +/-",null,"New Index"]
[null,{"$f":"NAMES!$C$9","v":"Date"},{"$f":"SEED!$G$2","v":"Tournament"},{"$f":"PLAYER!F927","v":" Block 2 Player 10"},{"$f":"VLOOKUP($D$256,HCTableBlk2,2,FALSE)","v":0},{"$f":"IF(HandicapPlay=\"x\",\"H\",\"L\")","v":"L"},{"$f":"PLAYER!I927","v":-1E-3},{"$f":"PLAYER!J927","v":-1E-3},{"$f":"IF(G256<0,\"\",IF(G256>H256,\"W\",\"L\"))","v":""},null,null,{"$f":"IF(J256=\"\",\"\",IF((L254+J256)<900,900,(L254+J256)))","v":""},null,null,null,null,{"$f":"VLOOKUP($D$256,HCTableBlk2,2,FALSE)","v":0}]
[null,"\"","\"                  \"",{"$f":"PLAYER!F928","v":" Block 2 Player 12"},{"$f":"VLOOKUP($D$257,HCTableBlk2,2,FALSE)","v":0},"L",{"$f":"PLAYER!I928","v":-1E-3},{"$f":"PLAYER!J928","v":-1E-3},{"$f":"IF(G257<0,\"\",IF(G257>H257,\"W\",\"L\"))","v":""},null,null,{"$f":"IF(J257=\"\",\"\",IF((L256+J257)<900,900,(L256+J257)))","v":""},null,null,null,null,{"$f":"VLOOKUP($D$257,HCTableBlk2,2,FALSE)","v":0}]
[null,"\"","\"                  \"",{"$f":"PLAYER!F929","v":" Block 2 Player 3"},{"$f":"VLOOKUP($D$258,HCTableBlk2,2,FALSE)","v":0},"L",{"$f":"PLAYER!I929","v":-1E-3},{"$f":"PLAYER!J929","v":-1E-3},{"$f":"IF(G258<0,\"\",IF(G258>H258,\"W\",\"L\"))","v":""},null,null,"",null,null,null,null,{"$f":"VLOOKUP($D$258,HCTableBlk2,2,FALSE)","v":0}]
[null,"\"","\"                  \"",{"$f":"PLAYER!F930","v":" Block 2 Player 5"},{"$f":"VLOOKUP($D$259,HCTableBlk2,2,FALSE)","v":0},"L",{"$f":"PLAYER!I930","v":-1E-3},{"$f":"PLAYER!J930","v":-1E-3},"",null,null,"",null,null,null,null,{"$f":"VLOOKUP($D$259,HCTableBlk2,2,FALSE)","v":0}]
[null,"\"","\"                  \"",{"$f":"PLAYER!F931","v":" Block 2 Player 1"},{"$f":"VLOOKUP($D$260,HCTableBlk2,2,FALSE)","v":0},"L",{"$f":"PLAYER!I931","v":-1E-3},{"$f":"PLAYER!J931","v":-1E-3},"",null,null,"",null,null,null,null,{"$f":"VLOOKUP($D$260,HCTableBlk2,2,FALSE)","v":0}]
[null,"\"","\"                  \"",{"$f":"PLAYER!F932","v":" Block 2 Player 9"},{"$f":"VLOOKUP($D$261,HCTableBlk2,2,FALSE)","v":0},"L",{"$f":"PLAYER!I932","v":-1E-3},{"$f":"PLAYER!J932","v":-1E-3},"",null,null,"",null,null,null,null,{"$f":"VLOOKUP($D$261,HCTableBlk2,2,FALSE)","v":0}]
[null,"\"","\"                  \"",{"$f":"PLAYER!F933","v":" Block 2 Player 11"},{"$f":"VLOOKUP($D$262,HCTableBlk2,2,FALSE)","v":0},"L",{"$f":"PLAYER!I933","v":-1E-3},{"$f":"PLAYER!J933","v":-1E-3},"",null,null,"",null,null,null,null,{"$f":"VLOOKUP($D$262,HCTableBlk2,2,FALSE)","v":0}]
[null,"\"","\"                  \"",{"$f":"PLAYER!F934","v":" Block 2 Player 2"},{"$f":"VLOOKUP($D$263,HCTableBlk2,2,FALSE)","v":0},"L",{"$f":"PLAYER!I934","v":-1E-3},{"$f":"PLAYER!J934","v":-1E-3},"",null,null,"",null,null,null,null,{"$f":"VLOOKUP($D$263,HCTableBlk2,2,FALSE)","v":0}]
[null,"\"","\"                  \"",{"$f":"PLAYER!F935","v":" Block 2 Player 4"},{"$f":"VLOOKUP($D$264,HCTableBlk2,2,FALSE)","v":0},"L",{"$f":"PLAYER!I935","v":-1E-3},{"$f":"PLAYER!J935","v":-1E-3},"",null,null,"",null,null,null,null,{"$f":"VLOOKUP($D$264,HCTableBlk2,2,FALSE)","v":0}]
[null,"\"","\"                  \"",{"$f":"PLAYER!F936","v":" Block 2 Player 6"},{"$f":"VLOOKUP($D$265,HCTableBlk2,2,FALSE)","v":0},"L",{"$f":"PLAYER!I936","v":-1E-3},{"$f":"PLAYER!J936","v":-1E-3},"",null,null,"",null,null,null,null,{"$f":"VLOOKUP($D$265,HCTableBlk2,2,FALSE)","v":0}]
[null,"\"","\"                  \"",{"$f":"PLAYER!F937","v":" Block 2 Player 8"},{"$f":"VLOOKUP($D$266,HCTableBlk2,2,FALSE)","v":0},"L",{"$f":"PLAYER!I937","v":-1E-3},{"$f":"PLAYER!J937","v":-1E-3},"",null,"Finish >","",null,null,null,null,{"$f":"VLOOKUP($D$266,HCTableBlk2,2,FALSE)","v":0}]
[]
[null,"Player",null,{"$f":"SEED!$I$14","v":" Block 2 Player 8"},null,null,"Start H/C",{"$f":"SEED!$J$14","v":0},"New H/C",{"$f":"VLOOKUP(D268,HCTableBlk2,2,FALSE)","v":0},"Start Index",{"$f":"SEED!$H$14","v":0},"HC Change Indicator"]
[null,"Date","Event","Opponent","Op Hcap","Lev / Hcap","Score",null,"Won / Lost","Change +/-",null,"New Index"]
[null,{"$f":"NAMES!$C$9","v":"Date"},{"$f":"SEED!$G$2","v":"Tournament"},{"$f":"PLAYER!F978","v":" Block 2 Player 9"},{"$f":"VLOOKUP($D$270,HCTableBlk2,2,FALSE)","v":0},{"$f":"IF(HandicapPlay=\"x\",\"H\",\"L\")","v":"L"},{"$f":"PLAYER!I978","v":-1E-3},{"$f":"PLAYER!J978","v":-1E-3},{"$f":"IF(G270<0,\"\",IF(G270>H270,\"W\",\"L\"))","v":""},null,null,{"$f":"IF(J270=\"\",\"\",IF((L268+J270)<900,900,(L268+J270)))","v":""},null,null,null,null,{"$f":"VLOOKUP($D$270,HCTableBlk2,2,FALSE)","v":0}]
[null,"\"","\"                  \"",{"$f":"PLAYER!F979","v":" Block 2 Player 11"},{"$f":"VLOOKUP($D$271,HCTableBlk2,2,FALSE)","v":0},"L",{"$f":"PLAYER!I979","v":-1E-3},{"$f":"PLAYER!J979","v":-1E-3},{"$f":"IF(G271<0,\"\",IF(G271>H271,\"W\",\"L\"))","v":""},null,null,{"$f":"IF(J271=\"\",\"\",IF((L270+J271)<900,900,(L270+J271)))","v":""},null,null,null,null,{"$f":"VLOOKUP($D$271,HCTableBlk2,2,FALSE)","v":0}]
[null,"\"","\"                  \"",{"$f":"PLAYER!F980","v":" Block 2 Player 2"},{"$f":"VLOOKUP($D$272,HCTableBlk2,2,FALSE)","v":0},"L",{"$f":"PLAYER!I980","v":-1E-3},{"$f":"PLAYER!J980","v":-1E-3},"",null,null,"",null,null,null,null,{"$f":"VLOOKUP($D$272,HCTableBlk2,2,FALSE)","v":0}]
[null,"\"","\"                  \"",{"$f":"PLAYER!F981","v":" Block 2 Player 4"},{"$f":"VLOOKUP($D$273,HCTableBlk2,2,FALSE)","v":0},"L",{"$f":"PLAYER!I981","v":-1E-3},{"$f":"PLAYER!J981","v":-1E-3},"",null,null,"",null,null,null,null,{"$f":"VLOOKUP($D$273,HCTableBlk2,2,FALSE)","v":0}]
[null,"\"","\"                  \"",{"$f":"PLAYER!F982","v":" Block 2 Player 6"},{"$f":"VLOOKUP($D$274,HCTableBlk2,2,FALSE)","v":0},"L",{"$f":"PLAYER!I982","v":-1E-3},{"$f":"PLAYER!J982","v":-1E-3},"",null,null,"",null,null,null,null,{"$f":"VLOOKUP($D$274,HCTableBlk2,2,FALSE)","v":0}]
[null,"\"","\"                  \"",{"$f":"PLAYER!F983","v":" Block 2 Player 1"},{"$f":"VLOOKUP($D$275,HCTableBlk2,2,FALSE)","v":0},"L",{"$f":"PLAYER!I983","v":-1E-3},{"$f":"PLAYER!J983","v":-1E-3},"",null,null,"",null,null,null,null,{"$f":"VLOOKUP($D$275,HCTableBlk2,2,FALSE)","v":0}]
[null,"\"","\"                  \"",{"$f":"PLAYER!F984","v":" Block 2 Player 10"},{"$f":"VLOOKUP($D$276,HCTableBlk2,2,FALSE)","v":0},"L",{"$f":"PLAYER!I984","v":-1E-3},{"$f":"PLAYER!J984","v":-1E-3},"",null,null,"",null,null,null,null,{"$f":"VLOOKUP($D$276,HCTableBlk2,2,FALSE)","v":0}]
[null,"\"","\"                  \"",{"$f":"PLAYER!F985","v":" Block 2 Player 12"},{"$f":"VLOOKUP($D$277,HCTableBlk2,2,FALSE)","v":0},"L",{"$f":"PLAYER!I985","v":-1E-3},{"$f":"PLAYER!J985","v":-1E-3},"",null,null,"",null,null,null,null,{"$f":"VLOOKUP($D$277,HCTableBlk2,2,FALSE)","v":0}]
[null,"\"","\"                  \"",{"$f":"PLAYER!F986","v":" Block 2 Player 3"},{"$f":"VLOOKUP($D$278,HCTableBlk2,2,FALSE)","v":0},"L",{"$f":"PLAYER!I986","v":-1E-3},{"$f":"PLAYER!J986","v":-1E-3},"",null,null,"",null,null,null,null,{"$f":"VLOOKUP($D$278,HCTableBlk2,2,FALSE)","v":0}]
[null,"\"","\"                  \"",{"$f":"PLAYER!F987","v":" Block 2 Player 5"},{"$f":"VLOOKUP($D$279,HCTableBlk2,2,FALSE)","v":0},"L",{"$f":"PLAYER!I987","v":-1E-3},{"$f":"PLAYER!J987","v":-1E-3},"",null,null,"",null,null,null,null,{"$f":"VLOOKUP($D$279,HCTableBlk2,2,FALSE)","v":0}]
[null,"\"","\"                  \"",{"$f":"PLAYER!F988","v":" Block 2 Player 7"},{"$f":"VLOOKUP($D$280,HCTableBlk2,2,FALSE)","v":0},"L",{"$f":"PLAYER!I988","v":-1E-3},{"$f":"PLAYER!J988","v":-1E-3},"",null,"Finish >","",null,null,null,null,{"$f":"VLOOKUP($D$280,HCTableBlk2,2,FALSE)","v":0}]
[]
[null,"Player",null,{"$f":"SEED!$I$15","v":" Block 2 Player 9"},null,null,"Start H/C",{"$f":"SEED!$J$15","v":0},"New H/C",{"$f":"VLOOKUP(D282,HCTableBlk2,2,FALSE)","v":0},"Start Index",{"$f":"SEED!$H$15","v":0},"HC Change Indicator"]
[null,"Date","Event","Opponent","Op Hcap","Lev / Hcap","Score",null,"Won / Lost","Change +/-",null,"New Index"]
[null,{"$f":"NAMES!$C$9","v":"Date"},{"$f":"SEED!$G$2","v":"Tournament"},{"$f":"PLAYER!F1029","v":" Block 2 Player 8"},{"$f":"VLOOKUP($D$284,HCTableBlk2,2,FALSE)","v":0},{"$f":"IF(HandicapPlay=\"x\",\"H\",\"L\")","v":"L"},{"$f":"PLAYER!I1029","v":-1E-3},{"$f":"PLAYER!J1029","v":-1E-3},{"$f":"IF(G284<0,\"\",IF(G284>H284,\"W\",\"L\"))","v":""},null,null,{"$f":"IF(J284=\"\",\"\",IF((L282+J284)<900,900,(L282+J284)))","v":""},null,null,null,null,{"$f":"VLOOKUP($D$284,HCTableBlk2,2,FALSE)","v":0}]
[null,"\"","\"                  \"",{"$f":"PLAYER!F1030","v":" Block 2 Player 10"},{"$f":"VLOOKUP($D$285,HCTableBlk2,2,FALSE)","v":0},"L",{"$f":"PLAYER!I1030","v":-1E-3},{"$f":"PLAYER!J1030","v":-1E-3},{"$f":"IF(G285<0,\"\",IF(G285>H285,\"W\",\"L\"))","v":""},null,null,{"$f":"IF(J285=\"\",\"\",IF((L284+J285)<900,900,(L284+J285)))","v":""},null,null,null,null,{"$f":"VLOOKUP($D$285,HCTableBlk2,2,FALSE)","v":0}]
[null,"\"","\"                  \"",{"$f":"PLAYER!F1031","v":" Block 2 Player 12"},{"$f":"VLOOKUP($D$286,HCTableBlk2,2,FALSE)","v":0},"L",{"$f":"PLAYER!I1031","v":-1E-3},{"$f":"PLAYER!J1031","v":-1E-3},"",null,null,"",null,null,null,null,{"$f":"VLOOKUP($D$286,HCTableBlk2,2,FALSE)","v":0}]
[null,"\"","\"                  \"",{"$f":"PLAYER!F1032","v":" Block 2 Player 3"},{"$f":"VLOOKUP($D$287,HCTableBlk2,2,FALSE)","v":0},"L",{"$f":"PLAYER!I1032","v":-1E-3},{"$f":"PLAYER!J1032","v":-1E-3},"",null,null,"",null,null,null,null,{"$f":"VLOOKUP($D$287,HCTableBlk2,2,FALSE)","v":0}]
[null,"\"","\"                  \"",{"$f":"PLAYER!F1033","v":" Block 2 Player 5"},{"$f":"VLOOKUP($D$288,HCTableBlk2,2,FALSE)","v":0},"L",{"$f":"PLAYER!I1033","v":-1E-3},{"$f":"PLAYER!J1033","v":-1E-3},"",null,null,"",null,null,null,null,{"$f":"VLOOKUP($D$288,HCTableBlk2,2,FALSE)","v":0}]
[null,"\"","\"                  \"",{"$f":"PLAYER!F1034","v":" Block 2 Player 7"},{"$f":"VLOOKUP($D$289,HCTableBlk2,2,FALSE)","v":0},"L",{"$f":"PLAYER!I1034","v":-1E-3},{"$f":"PLAYER!J1034","v":-1E-3},"",null,null,"",null,null,null,null,{"$f":"VLOOKUP($D$289,HCTableBlk2,2,FALSE)","v":0}]
[null,"\"","\"                  \"",{"$f":"PLAYER!F1035","v":" Block 2 Player 1"},{"$f":"VLOOKUP($D$290,HCTableBlk2,2,FALSE)","v":0},"L",{"$f":"PLAYER!I1035","v":-1E-3},{"$f":"PLAYER!J1035","v":-1E-3},"",null,null,"",null,null,null,null,{"$f":"VLOOKUP($D$290,HCTableBlk2,2,FALSE)","v":0}]
[null,"\"","\"                  \"",{"$f":"PLAYER!F1036","v":" Block 2 Player 11"},{"$f":"VLOOKUP($D$291,HCTableBlk2,2,FALSE)","v":0},"L",{"$f":"PLAYER!I1036","v":-1E-3},{"$f":"PLAYER!J1036","v":-1E-3},"",null,null,"",null,null,null,null,{"$f":"VLOOKUP($D$291,HCTableBlk2,2,FALSE)","v":0}]
[null,"\"","\"                  \"",{"$f":"PLAYER!F1037","v":" Block 2 Player 2"},{"$f":"VLOOKUP($D$292,HCTableBlk2,2,FALSE)","v":0},"L",{"$f":"PLAYER!I1037","v":-1E-3},{"$f":"PLAYER!J1037","v":-1E-3},"",null,null,"",null,null,null,null,{"$f":"VLOOKUP($D$292,HCTableBlk2,2,FALSE)","v":0}]
[null,"\"","\"                  \"",{"$f":"PLAYER!F1038","v":" Block 2 Player 4"},{"$f":"VLOOKUP($D$293,HCTableBlk2,2,FALSE)","v":0},"L",{"$f":"PLAYER!I1038","v":-1E-3},{"$f":"PLAYER!J1038","v":-1E-3},"",null,null,"",null,null,null,null,{"$f":"VLOOKUP($D$293,HCTableBlk2,2,FALSE)","v":0}]
[null,"\"","\"                  \"",{"$f":"PLAYER!F1039","v":" Block 2 Player 6"},{"$f":"VLOOKUP($D$294,HCTableBlk2,2,FALSE)","v":0},"L",{"$f":"PLAYER!I1039","v":-1E-3},{"$f":"PLAYER!J1039","v":-1E-3},"",null,"Finish >","",null,null,null,null,{"$f":"VLOOKUP($D$294,HCTableBlk2,2,FALSE)","v":0}]
[]
[null,"Player",null,{"$f":"SEED!$I$16","v":" Block 2 Player 10"},null,null,"Start H/C",{"$f":"SEED!$J$16","v":0},"New H/C",{"$f":"VLOOKUP(D296,HCTableBlk2,2,FALSE)","v":0},"Start Index",{"$f":"SEED!$H$16","v":0},"HC Change Indicator"]
[null,"Date","Event","Opponent","Op Hcap","Lev / Hcap","Score",null,"Won / Lost","Change +/-",null,"New Index"]
[null,{"$f":"NAMES!$C$9","v":"Date"},{"$f":"SEED!$G$2","v":"Tournament"},{"$f":"PLAYER!F1080","v":" Block 2 Player 7"},{"$f":"VLOOKUP($D$298,HCTableBlk2,2,FALSE)","v":0},{"$f":"IF(HandicapPlay=\"x\",\"H\",\"L\")","v":"L"},{"$f":"PLAYER!I1080","v":-1E-3},{"$f":"PLAYER!J1080","v":-1E-3},{"$f":"IF(G298<0,\"\",IF(G298>H298,\"W\",\"L\"))","v":""},null,null,{"$f":"IF(J298=\"\",\"\",IF((L296+J298)<900,900,(L296+J298)))","v":""},null,null,null,null,{"$f":"VLOOKUP($D$298,HCTableBlk2,2,FALSE)","v":0}]
[null,"\"","\"                  \"",{"$f":"PLAYER!F1081","v":" Block 2 Player 9"},{"$f":"VLOOKUP($D$299,HCTableBlk2,2,FALSE)","v":0},"L",{"$f":"PLAYER!I1081","v":-1E-3},{"$f":"PLAYER!J1081","v":-1E-3},{"$f":"IF(G299<0,\"\",IF(G299>H299,\"W\",\"L\"))","v":""},null,null,{"$f":"IF(J299=\"\",\"\",IF((L298+J299)<900,900,(L298+J299)))","v":""},null,null,null,null,{"$f":"VLOOKUP($D$299,HCTableBlk2,2,FALSE)","v":0}]
[null,"\"","\"                  \"",{"$f":"PLAYER!F1082","v":" Block 2 Player 11"},{"$f":"VLOOKUP($D$300,HCTableBlk2,2,FALSE)","v":0},"L",{"$f":"PLAYER!I1082","v":-1E-3},{"$f":"PLAYER!J1082","v":-1E-3},"",null,null,"",null,null,null,null,{"$f":"VLOOKUP($D$300,HCTableBlk2,2,FALSE)","v":0}]
[null,"\"","\"                  \"",{"$f":"PLAYER!F1083","v":" Block 2 Player 2"},{"$f":"VLOOKUP($D$301,HCTableBlk2,2,FALSE)","v":0},"L",{"$f":"PLAYER!I1083","v":-1E-3},{"$f":"PLAYER!J1083","v":-1E-3},"",null,null,"",null,null,null,null,{"$f":"VLOOKUP($D$301,HCTableBlk2,2,FALSE)","v":0}]
[null,"\"","\"                  \"",{"$f":"PLAYER!F1084","v":" Block 2 Player 4"},{"$f":"VLOOKUP($D$302,HCTableBlk2,2,FALSE)","v":0},"L",{"$f":"PLAYER!I1084","v":-1E-3},{"$f":"PLAYER!J1084","v":-1E-3},"",null,null,"",null,null,null,null,{"$f":"VLOOKUP($D$302,HCTableBlk2,2,FALSE)","v":0}]
[null,"\"","\"                  \"",{"$f":"PLAYER!F1085","v":" Block 2 Player 6"},{"$f":"VLOOKUP($D$303,HCTableBlk2,2,FALSE)","v":0},"L",{"$f":"PLAYER!I1085","v":-1E-3},{"$f":"PLAYER!J1085","v":-1E-3},"",null,null,"",null,null,null,null,{"$f":"VLOOKUP($D$303,HCTableBlk2,2,FALSE)","v":0}]
[null,"\"","\"                  \"",{"$f":"PLAYER!F1086","v":" Block 2 Player 8"},{"$f":"VLOOKUP($D$304,HCTableBlk2,2,FALSE)","v":0},"L",{"$f":"PLAYER!I1086","v":-1E-3},{"$f":"PLAYER!J1086","v":-1E-3},"",null,null,"",null,null,null,null,{"$f":"VLOOKUP($D$304,HCTableBlk2,2,FALSE)","v":0}]
[null,"\"","\"                  \"",{"$f":"PLAYER!F1087","v":" Block 2 Player 1"},{"$f":"VLOOKUP($D$305,HCTableBlk2,2,FALSE)","v":0},"L",{"$f":"PLAYER!I1087","v":-1E-3},{"$f":"PLAYER!J1087","v":-1E-3},"",null,null,"",null,null,null,null,{"$f":"VLOOKUP($D$305,HCTableBlk2,2,FALSE)","v":0}]
[null,"\"","\"                  \"",{"$f":"PLAYER!F1088","v":" Block 2 Player 12"},{"$f":"VLOOKUP($D$306,HCTableBlk2,2,FALSE)","v":0},"L",{"$f":"PLAYER!I1088","v":-1E-3},{"$f":"PLAYER!J1088","v":-1E-3},"",null,null,"",null,null,null,null,{"$f":"VLOOKUP($D$306,HCTableBlk2,2,FALSE)","v":0}]
[null,"\"","\"                  \"",{"$f":"PLAYER!F1089","v":" Block 2 Player 3"},{"$f":"VLOOKUP($D$307,HCTableBlk2,2,FALSE)","v":0},"L",{"$f":"PLAYER!I1089","v":-1E-3},{"$f":"PLAYER!J1089","v":-1E-3},"",null,null,"",null,null,null,null,{"$f":"VLOOKUP($D$307,HCTableBlk2,2,FALSE)","v":0}]
[null,"\"","\"                  \"",{"$f":"PLAYER!F1090","v":" Block 2 Player 5"},{"$f":"VLOOKUP($D$308,HCTableBlk2,2,FALSE)","v":0},"L",{"$f":"PLAYER!I1090","v":-1E-3},{"$f":"PLAYER!J1090","v":-1E-3},"",null,"Finish >","",null,null,null,null,{"$f":"VLOOKUP($D$308,HCTableBlk2,2,FALSE)","v":0}]
[]
[null,"Player",null,{"$f":"SEED!$I$17","v":" Block 2 Player 11"},null,null,"Start H/C",{"$f":"SEED!$J$17","v":0},"New H/C",{"$f":"VLOOKUP(D310,HCTableBlk2,2,FALSE)","v":0},"Start Index",{"$f":"SEED!$H$17","v":0},"HC Change Indicator"]
[null,"Date","Event","Opponent","Op Hcap","Lev / Hcap","Score",null,"Won / Lost","Change +/-",null,"New Index"]
[null,{"$f":"NAMES!$C$9","v":"Date"},{"$f":"SEED!$G$2","v":"Tournament"},{"$f":"PLAYER!F1131","v":" Block 2 Player 6"},{"$f":"VLOOKUP($D$312,HCTableBlk2,2,FALSE)","v":0},{"$f":"IF(HandicapPlay=\"x\",\"H\",\"L\")","v":"L"},{"$f":"PLAYER!I1131","v":-1E-3},{"$f":"PLAYER!J1131","v":-1E-3},{"$f":"IF(G312<0,\"\",IF(G312>H312,\"W\",\"L\"))","v":""},null,null,{"$f":"IF(J312=\"\",\"\",IF((L310+J312)<900,900,(L310+J312)))","v":""},null,null,null,null,{"$f":"VLOOKUP($D$312,HCTableBlk2,2,FALSE)","v":0}]
[null,"\"","\"                  \"",{"$f":"PLAYER!F1132","v":" Block 2 Player 8"},{"$f":"VLOOKUP($D$313,HCTableBlk2,2,FALSE)","v":0},"L",{"$f":"PLAYER!I1132","v":-1E-3},{"$f":"PLAYER!J1132","v":-1E-3},{"$f":"IF(G313<0,\"\",IF(G313>H313,\"W\",\"L\"))","v":""},null,null,{"$f":"IF(J313=\"\",\"\",IF((L312+J313)<900,900,(L312+J313)))","v":""},null,null,null,null,{"$f":"VLOOKUP($D$313,HCTableBlk2,2,FALSE)","v":0}]
[null,"\"","\"                  \"",{"$f":"PLAYER!F1133","v":" Block 2 Player 10"},{"$f":"VLOOKUP($D$314,HCTableBlk2,2,FALSE)","v":0},"L",{"$f":"PLAYER!I1133","v":-1E-3},{"$f":"PLAYER!J1133","v":-1E-3},"",null,null,"",null,null,null,null,{"$f":"VLOOKUP($D$314,HCTableBlk2,2,FALSE)","v":0}]
[null,"\"","\"                  \"",{"$f":"PLAYER!F1134","v":" Block 2 Player 12"},{"$f":"VLOOKUP($D$315,HCTableBlk2,2,FALSE)","v":0},"L",{"$f":"PLAYER!I1134","v":-1E-3},{"$f":"PLAYER!J1134","v":-1E-3},"",null,null,"",null,null,null,null,{"$f":"VLOOKUP($D$315,HCTableBlk2,2,FALSE)","v":0}]
[null,"\"","\"                  \"",{"$f":"PLAYER!F1135","v":" Block 2 Player 3"},{"$f":"VLOOKUP($D$316,HCTableBlk2,2,FALSE)","v":0},"L",{"$f":"PLAYER!I1135","v":-1E-3},{"$f":"PLAYER!J1135","v":-1E-3},"",null,null,"",null,null,null,null,{"$f":"VLOOKUP($D$316,HCTableBlk2,2,FALSE)","v":0}]
[null,"\"","\"                  \"",{"$f":"PLAYER!F1136","v":" Block 2 Player 5"},{"$f":"VLOOKUP($D$317,HCTableBlk2,2,FALSE)","v":0},"L",{"$f":"PLAYER!I1136","v":-1E-3},{"$f":"PLAYER!J1136","v":-1E-3},"",null,null,"",null,null,null,null,{"$f":"VLOOKUP($D$317,HCTableBlk2,2,FALSE)","v":0}]
[null,"\"","\"                  \"",{"$f":"PLAYER!F1137","v":" Block 2 Player 7"},{"$f":"VLOOKUP($D$318,HCTableBlk2,2,FALSE)","v":0},"L",{"$f":"PLAYER!I1137","v":-1E-3},{"$f":"PLAYER!J1137","v":-1E-3},"",null,null,"",null,null,null,null,{"$f":"VLOOKUP($D$318,HCTableBlk2,2,FALSE)","v":0}]
[null,"\"","\"                  \"",{"$f":"PLAYER!F1138","v":" Block 2 Player 9"},{"$f":"VLOOKUP($D$319,HCTableBlk2,2,FALSE)","v":0},"L",{"$f":"PLAYER!I1138","v":-1E-3},{"$f":"PLAYER!J1138","v":-1E-3},"",null,null,"",null,null,null,null,{"$f":"VLOOKUP($D$319,HCTableBlk2,2,FALSE)","v":0}]
[null,"\"","\"                  \"",{"$f":"PLAYER!F1139","v":" Block 2 Player 1"},{"$f":"VLOOKUP($D$320,HCTableBlk2,2,FALSE)","v":0},"L",{"$f":"PLAYER!I1139","v":-1E-3},{"$f":"PLAYER!J1139","v":-1E-3},"",null,null,"",null,null,null,null,{"$f":"VLOOKUP($D$320,HCTableBlk2,2,FALSE)","v":0}]
[null,"\"","\"                  \"",{"$f":"PLAYER!F1140","v":" Block 2 Player 2"},{"$f":"VLOOKUP($D$321,HCTableBlk2,2,FALSE)","v":0},"L",{"$f":"PLAYER!I1140","v":-1E-3},{"$f":"PLAYER!J1140","v":-1E-3},"",null,null,"",null,null,null,null,{"$f":"VLOOKUP($D$321,HCTableBlk2,2,FALSE)","v":0}]
[null,"\"","\"                  \"",{"$f":"PLAYER!F1141","v":" Block 2 Player 4"},{"$f":"VLOOKUP($D$322,HCTableBlk2,2,FALSE)","v":0},"L",{"$f":"PLAYER!I1141","v":-1E-3},{"$f":"PLAYER!J1141","v":-1E-3},"",null,"Finish>","",null,null,null,null,{"$f":"VLOOKUP($D$322,HCTableBlk2,2,FALSE)","v":0}]
[]
[null,"Player",null,{"$f":"SEED!$I$18","v":" Block 2 Player 12"},null,null,"Start H/C",{"$f":"SEED!$J$18","v":0},"New H/C",{"$f":"VLOOKUP(D324,HCTableBlk2,2,FALSE)","v":0},"Start Index",{"$f":"SEED!$H$18","v":0},"HC Change Indicator"]
[null,"Date","Event","Opponent","Op Hcap","Lev / Hcap","Score",null,"Won / Lost","Change +/-",null,"New Index"]
[null,{"$f":"NAMES!$C$9","v":"Date"},{"$f":"SEED!$G$2","v":"Tournament"},{"$f":"PLAYER!F1182","v":" Block 2 Player 5"},{"$f":"VLOOKUP($D$326,HCTableBlk2,2,FALSE)","v":0},{"$f":"IF(HandicapPlay=\"x\",\"H\",\"L\")","v":"L"},{"$f":"PLAYER!I1182","v":-1E-3},{"$f":"PLAYER!J1182","v":-1E-3},{"$f":"IF(G326<0,\"\",IF(G326>H326,\"W\",\"L\"))","v":""},null,null,{"$f":"IF(J326=\"\",\"\",IF((L324+J326)<900,900,(L324+J326)))","v":""},null,null,null,null,{"$f":"VLOOKUP($D$326,HCTableBlk2,2,FALSE)","v":0}]
[null,"\"","\"                  \"",{"$f":"PLAYER!F1183","v":" Block 2 Player 7"},{"$f":"VLOOKUP($D$327,HCTableBlk2,2,FALSE)","v":0},"L",{"$f":"PLAYER!I1183","v":-1E-3},{"$f":"PLAYER!J1183","v":-1E-3},{"$f":"IF(G327<0,\"\",IF(G327>H327,\"W\",\"L\"))","v":""},null,null,{"$f":"IF(J327=\"\",\"\",IF((L326+J327)<900,900,(L326+J327)))","v":""},null,null,null,null,{"$f":"VLOOKUP($D$327,HCTableBlk2,2,FALSE)","v":0}]
[null,"\"","\"                  \"",{"$f":"PLAYER!F1184","v":" Block 2 Player 9"},{"$f":"VLOOKUP($D$328,HCTableBlk2,2,FALSE)","v":0},"L",{"$f":"PLAYER!I1184","v":-1E-3},{"$f":"PLAYER!J1184","v":-1E-3},"",null,null,"",null,null,null,null,{"$f":"VLOOKUP($D$328,HCTableBlk2,2,FALSE)","v":0}]
[null,"\"","\"                  \"",{"$f":"PLAYER!F1185","v":" Block 2 Player 11"},{"$f":"VLOOKUP($D$329,HCTableBlk2,2,FALSE)","v":0},"L",{"$f":"PLAYER!I1185","v":-1E-3},{"$f":"PLAYER!J1185","v":-1E-3},"",null,null,"",null,null,null,null,{"$f":"VLOOKUP($D$329,HCTableBlk2,2,FALSE)","v":0}]
[null,"\"","\"                  \"",{"$f":"PLAYER!F1186","v":" Block 2 Player 2"},{"$f":"VLOOKUP($D$330,HCTableBlk2,2,FALSE)","v":0},"L",{"$f":"PLAYER!I1186","v":-1E-3},{"$f":"PLAYER!J1186","v":-1E-3},"",null,null,"",null,null,null,null,{"$f":"VLOOKUP($D$330,HCTableBlk2,2,FALSE)","v":0}]
[null,"\"","\"                  \"",{"$f":"PLAYER!F1187","v":" Block 2 Player 4"},{"$f":"VLOOKUP($D$331,HCTableBlk2,2,FALSE)","v":0},"L",{"$f":"PLAYER!I1187","v":-1E-3},{"$f":"PLAYER!J1187","v":-1E-3},"",null,null,"",null,null,null,null,{"$f":"VLOOKUP($D$331,HCTableBlk2,2,FALSE)","v":0}]
[null,"\"","\"                  \"",{"$f":"PLAYER!F1188","v":" Block 2 Player 6"},{"$f":"VLOOKUP($D$332,HCTableBlk2,2,FALSE)","v":0},"L",{"$f":"PLAYER!I1188","v":-1E-3},{"$f":"PLAYER!J1188","v":-1E-3},"",null,null,"",null,null,null,null,{"$f":"VLOOKUP($D$332,HCTableBlk2,2,FALSE)","v":0}]
[null,"\"","\"                  \"",{"$f":"PLAYER!F1189","v":" Block 2 Player 8"},{"$f":"VLOOKUP($D$333,HCTableBlk2,2,FALSE)","v":0},"L",{"$f":"PLAYER!I1189","v":-1E-3},{"$f":"PLAYER!J1189","v":-1E-3},"",null,null,"",null,null,null,null,{"$f":"VLOOKUP($D$333,HCTableBlk2,2,FALSE)","v":0}]
[null,"\"","\"                  \"",{"$f":"PLAYER!F1190","v":" Block 2 Player 10"},{"$f":"VLOOKUP($D$334,HCTableBlk2,2,FALSE)","v":0},"L",{"$f":"PLAYER!I1190","v":-1E-3},{"$f":"PLAYER!J1190","v":-1E-3},"",null,null,"",null,null,null,null,{"$f":"VLOOKUP($D$334,HCTableBlk2,2,FALSE)","v":0}]
[null,"\"","\"                  \"",{"$f":"PLAYER!F1191","v":" Block 2 Player 1"},{"$f":"VLOOKUP($D$335,HCTableBlk2,2,FALSE)","v":0},"L",{"$f":"PLAYER!I1191","v":-1E-3},{"$f":"PLAYER!J1191","v":-1E-3},"",null,null,"",null,null,null,null,{"$f":"VLOOKUP($D$335,HCTableBlk2,2,FALSE)","v":0}]
[null,"\"","\"                  \"",{"$f":"PLAYER!F1192","v":" Block 2 Player 3"},{"$f":"VLOOKUP($D$336,HCTableBlk2,2,FALSE)","v":0},"L",{"$f":"PLAYER!I1192","v":-1E-3},{"$f":"PLAYER!J1192","v":-1E-3},"",null,"Finish >","",null,null,null,null,{"$f":"VLOOKUP($D$336,HCTableBlk2,2,FALSE)","v":0}]

{"sheet":"AHS1","index":13,"n_rows":61,"n_cols":17,"rows_kept":61,"cut":false,"hidden":false,"merged":[[60,3,60,5],[49,3,49,5],[50,3,50,5],[51,3,51,5],[52,3,52,5],[53,3,53,5],[54,3,54,5],[55,3,55,5],[56,3,56,5],[57,3,57,5],[58,3,58,5],[59,3,59,5],[48,3,48,5],[37,3,37,5],[38,3,38,5],[39,3,39,5],[40,3,40,5],[41,3,41,5],[42,3,42,5],[43,3,43,5],[44,3,44,5],[45,3,45,5],[46,3,46,5],[47,3,47,5],[36,3,36,5],[25,3,25,5],[26,3,26,5],[27,3,27,5],[28,3,28,5],[29,3,29,5],[30,3,30,5],[31,3,31,5],[32,3,32,5],[33,3,33,5],[34,3,34,5],[35,3,35,5],[24,3,24,5],[5,2,8,4],[6,5,6,10],[11,2,11,10],[12,2,12,10],[15,3,15,6],[17,2,18,2],[17,3,18,5],[17,6,18,6],[17,7,17,8],[17,9,17,10],[19,3,19,5],[20,3,20,5],[21,3,21,5],[22,3,22,5],[23,3,23,5]]}
[]
[]
[]
[]
[]
[null,null,"AHS1"]
[null,null,null,null,null,"HANDICAP CHANGES REPORT FORM"]
[]
[]
[]
[]
[null,null,"Players are to fill in the details from their National Handicap Cards and hand the slips to the"]
[null,null,"Tournament Handicapper before leaving the venue at the end of the tournament"]
[]
[]
[null,null,"Event:",{"$f":"NAMES!$C$7","v":"Tournament"},null,null,null,"State:",null,"Date:",{"$f":"NAMES!$C$9","v":"Date"}]
[]
[null,null,"ACA ID","NAME",null,null,"*Non AHS","HANDICAP",null,"INDEX",null,null,null,null,null,"H/Cap","Index"]
[null,null,null,null,null,null,null,"Start","Finish","Start","Finish",null,null,null,null,-3,3050]
[null,1,{"$f":"SEED!B7","v":0},{"$f":"SEED!D7","v":" Block 1 Player 1"},null,null,null,{"$f":"SEED!E7","v":0},{"$f":"'HANDICAP CARD'!$J$2","v":0},{"$f":"SEED!C7","v":0},{"$f":"'HANDICAP CARD'!$L$14","v":""},null,null,null,null,-2.5,2800]
[null,2,{"$f":"SEED!B8","v":0},{"$f":"SEED!D8","v":" Block 1 Player 2"},null,null,null,{"$f":"SEED!E8","v":0},{"$f":"'HANDICAP CARD'!$J$16","v":0},{"$f":"SEED!C8","v":0},{"$f":"'HANDICAP CARD'!$L$28","v":""},null,null,null,null,-2,2600]
[null,3,{"$f":"SEED!B9","v":0},{"$f":"SEED!D9","v":" Block 1 Player 3"},null,null,null,{"$f":"SEED!E9","v":0},{"$f":"'HANDICAP CARD'!$J$30","v":0},{"$f":"SEED!C9","v":0},{"$f":"'HANDICAP CARD'!$L$42","v":""},null,null,null,null,-1.5,2400]
[null,4,{"$f":"SEED!B10","v":0},{"$f":"SEED!D10","v":" Block 1 Player 4"},null,null,null,{"$f":"SEED!E10","v":0},{"$f":"'HANDICAP CARD'!$J$44","v":0},{"$f":"SEED!C10","v":0},{"$f":"'HANDICAP CARD'!$L$56","v":""},null,null,null,null,-1,2250]
[null,5,{"$f":"SEED!B11","v":0},{"$f":"SEED!D11","v":" Block 1 Player 5"},null,null,null,{"$f":"SEED!E11","v":0},{"$f":"'HANDICAP CARD'!$J$58","v":0},{"$f":"SEED!C11","v":0},{"$f":"'HANDICAP CARD'!$L$70","v":""},null,null,null,null,-0.5,2100]
[null,6,{"$f":"SEED!B12","v":0},{"$f":"SEED!D12","v":" Block 1 Player 6"},null,null,null,{"$f":"SEED!E12","v":0},{"$f":"'HANDICAP CARD'!$J$72","v":0},{"$f":"SEED!C12","v":0},{"$f":"'HANDICAP CARD'!$L$84","v":""},null,null,null,null,0,2000]
[null,7,{"$f":"SEED!B13","v":0},{"$f":"SEED!D13","v":" Block 1 Player 7"},null,null,null,{"$f":"SEED!E13","v":0},{"$f":"'HANDICAP CARD'!$J$86","v":0},{"$f":"SEED!C13","v":0},{"$f":"'HANDICAP CARD'!$L$98","v":""},null,null,null,null,0.5,1950]
[null,8,{"$f":"SEED!B14","v":0},{"$f":"SEED!D14","v":" Block 1 Player 8"},null,null,null,{"$f":"SEED!E14","v":0},{"$f":"'HANDICAP CARD'!$J$100","v":0},{"$f":"SEED!C14","v":0},{"$f":"'HANDICAP CARD'!$L$112","v":""},null,null,null,null,1,1900]
[null,9,{"$f":"SEED!B15","v":0},{"$f":"SEED!D15","v":" Block 1 Player 9"},null,null,null,{"$f":"SEED!E15","v":0},{"$f":"'HANDICAP CARD'!$J$114","v":0},{"$f":"SEED!C15","v":0},{"$f":"'HANDICAP CARD'!$L$126","v":""},null,null,null,null,1.5,1850]
[null,10,{"$f":"SEED!B16","v":0},{"$f":"SEED!D16","v":" Block 1 Player 10"},null,null,null,{"$f":"SEED!E16","v":0},{"$f":"'HANDICAP CARD'!$J$128","v":0},{"$f":"SEED!C16","v":0},{"$f":"'HANDICAP CARD'!$L$140","v":""},null,null,null,null,2,1800]
[null,11,{"$f":"SEED!B17","v":0},{"$f":"SEED!D17","v":" Block 1 Player 11"},null,null,null,{"$f":"SEED!E17","v":0},{"$f":"'HANDICAP CARD'!$J$142","v":0},{"$f":"SEED!C17","v":0},{"$f":"'HANDICAP CARD'!$L$154","v":""},null,null,null,null,2.5,1750]
[null,12,{"$f":"SEED!B18","v":0},{"$f":"SEED!D18","v":" Block 1 Player 12"},null,null,null,{"$f":"SEED!E18","v":0},{"$f":"'HANDICAP CARD'!$J$156","v":0},{"$f":"SEED!C18","v":0},{"$f":"'HANDICAP CARD'!$L$168","v":""},null,null,null,null,3,1700]
[null,13,{"$f":"SEED!G7","v":0},{"$f":"SEED!I7","v":" Block 2 Player 1"},null,null,null,{"$f":"SEED!J7","v":0},{"$f":"'HANDICAP CARD'!$J$170","v":0},{"$f":"SEED!H7","v":0},{"$f":"'HANDICAP CARD'!$L$182","v":""},null,null,null,null,3.5,1650]
[null,14,{"$f":"SEED!G8","v":0},{"$f":"SEED!I8","v":" Block 2 Player 2"},null,null,null,{"$f":"SEED!J8","v":0},{"$f":"'HANDICAP CARD'!$J$184","v":0},{"$f":"SEED!H8","v":0},{"$f":"'HANDICAP CARD'!$L$196","v":""},null,null,null,null,4,1600]
[null,15,{"$f":"SEED!G9","v":0},{"$f":"SEED!I9","v":" Block 2 Player 3"},null,null,null,{"$f":"SEED!J9","v":0},{"$f":"'HANDICAP CARD'!$J$198","v":0},{"$f":"SEED!H9","v":0},{"$f":"'HANDICAP CARD'!$L$210","v":""},null,null,null,null,4.5,1550]
[null,16,{"$f":"SEED!G10","v":0},{"$f":"SEED!I10","v":" Block 2 Player 4"},null,null,null,{"$f":"SEED!J10","v":0},{"$f":"'HANDICAP CARD'!$J$212","v":0},{"$f":"SEED!H10","v":0},{"$f":"'HANDICAP CARD'!$L$224","v":""},null,null,null,null,5,1500]
[null,17,{"$f":"SEED!G11","v":0},{"$f":"SEED!I11","v":" Block 2 Player 5"},null,null,null,{"$f":"SEED!J11","v":0},{"$f":"'HANDICAP CARD'!$J$226","v":0},{"$f":"SEED!H11","v":0},{"$f":"'HANDICAP CARD'!$L$238","v":""},null,null,null,null,6,1450]
[null,18,{"$f":"SEED!G12","v":0},{"$f":"SEED!I12","v":" Block 2 Player 6"},null,null,null,{"$f":"SEED!J12","v":0},{"$f":"'HANDICAP CARD'!$J$240","v":0},{"$f":"SEED!H12","v":0},{"$f":"'HANDICAP CARD'!$L$252","v":""},null,null,null,null,7,1400]
[null,19,{"$f":"SEED!G13","v":0},{"$f":"SEED!I13","v":" Block 2 Player 7"},null,null,null,{"$f":"SEED!J13","v":0},{"$f":"'HANDICAP CARD'!$J$254","v":0},{"$f":"SEED!H13","v":0},{"$f":"'HANDICAP CARD'!$L$266","v":""},null,null,null,null,8,1350]
[null,20,{"$f":"SEED!G14","v":0},{"$f":"SEED!I14","v":" Block 2 Player 8"},null,null,null,{"$f":"SEED!J14","v":0},{"$f":"'HANDICAP CARD'!$J$268","v":0},{"$f":"SEED!H14","v":0},{"$f":"'HANDICAP CARD'!$L$280","v":""},null,null,null,null,9,1300]
[null,21,{"$f":"SEED!G15","v":0},{"$f":"SEED!I15","v":" Block 2 Player 9"},null,null,null,{"$f":"SEED!J15","v":0},{"$f":"'HANDICAP CARD'!$J$282","v":0},{"$f":"SEED!H15","v":0},{"$f":"'HANDICAP CARD'!$L$294","v":""},null,null,null,null,10,1250]
[null,22,{"$f":"SEED!G16","v":0},{"$f":"SEED!I16","v":" Block 2 Player 10"},null,null,null,{"$f":"SEED!J16","v":0},{"$f":"'HANDICAP CARD'!$J$296","v":0},{"$f":"SEED!H16","v":0},{"$f":"'HANDICAP CARD'!$L$308","v":""},null,null,null,null,11,1200]
[null,23,{"$f":"SEED!G17","v":0},{"$f":"SEED!I17","v":" Block 2 Player 11"},null,null,null,{"$f":"SEED!J17","v":0},{"$f":"'HANDICAP CARD'!$J$310","v":0},{"$f":"SEED!H17","v":0},{"$f":"'HANDICAP CARD'!$L$322","v":""},null,null,null,null,12,1150]
[null,24,{"$f":"SEED!G18","v":0},{"$f":"SEED!I18","v":" Block 2 Player 12"},null,null,null,{"$f":"SEED!J18","v":0},{"$f":"'HANDICAP CARD'!$J$324","v":0},{"$f":"SEED!H18","v":0},{"$f":"'HANDICAP CARD'!$L$336","v":""},null,null,null,null,14,1100]
[null,25,null,null,null,null,null,null,null,null,null,null,null,null,null,16,1050]
[null,26,null,null,null,null,null,null,null,null,null,null,null,null,null,18,1000]
[null,27,null,null,null,null,null,null,null,null,null,null,null,null,null,20,950]
[null,28,null,null,null,null,null,null,null,null,null,null,null,null,null,22,900]
[null,29,null,null,null,null,null,null,null,null,null,null,null,null,null,24,850]
[null,30]
[null,31]
[null,32]
[null,33]
[null,34]
[null,35]
[null,36]
[null,37]
[null,38]
[null,39]
[null,40]
[null,41]
[null,42]

{"sheet":"HANDICAPS","index":14,"n_rows":52,"n_cols":26,"rows_kept":52,"cut":false,"hidden":true,"merged":[[6,28,6,52]]}
[]
[null,null,null,null,null,null,{"$f":"BLOCK!L2","v":"Tournament"}]
[null,null,null,null,null,null,{"$f":"BLOCK!L4","v":"Group"}]
[null,"PLAYERS NAME","HCAP","WIN / LOSS RECORD",null,null,null,null,null,null,null,null,null,null,null,null,null,null,null,null,null,null,null,null,null,"POINTS"]
[null,{"$f":"SCORECARD!D6","v":" Block 1 Player 1"},{"$f":"SCORECARD!I6","v":0},{"$f":"IF(SCORECARD!I9>0,\"W\",(IF(SCORECARD!I9<0,\"L\",\"\")))","v":""},{"$f":"SCORECARD!F9","v":0},{"$f":"IF(SCORECARD!I10>0,\"W\",(IF(SCORECARD!I10<0,\"L\",\"\")))","v":""},{"$f":"SCORECARD!F10","v":0},{"$f":"IF(SCORECARD!I11>0,\"W\",(IF(SCORECARD!I11<0,\"L\",\"\")))","v":""},{"$f":"SCORECARD!F11","v":0},{"$f":"IF(SCORECARD!I12>0,\"W\",(IF(SCORECARD!I12<0,\"L\",\"\")))","v":""},{"$f":"SCORECARD!F12","v":0},{"$f":"IF(SCORECARD!I13>0,\"W\",(IF(SCORECARD!I13<0,\"L\",\"\")))","v":""},{"$f":"SCORECARD!F13","v":0},{"$f":"IF(SCORECARD!I14>0,\"W\",(IF(SCORECARD!I14<0,\"L\",\"\")))","v":""},{"$f":"SCORECARD!F14","v":0},{"$f":"IF(SCORECARD!$I15>0,\"W\",(IF(SCORECARD!$I15<0,\"L\",\"\")))","v":""},{"$f":"SCORECARD!F15","v":0},{"$f":"IF(SCORECARD!I16>0,\"W\",(IF(SCORECARD!I16<0,\"L\",\"\")))","v":""},{"$f":"SCORECARD!F16","v":0},{"$f":"IF(SCORECARD!I17>0,\"W\",(IF(SCORECARD!I17<0,\"L\",\"\")))","v":""},{"$f":"SCORECARD!F17","v":0},{"$f":"IF(SCORECARD!I18>0,\"W\",(IF(SCORECARD!I18<0,\"L\",\"\")))","v":""},{"$f":"SCORECARD!$F$18","v":0},{"$f":"IF(SCORECARD!I19>0,\"W\",(IF(SCORECARD!I19<0,\"L\",\"\")))","v":""},{"$f":"SCORECARD!$F$19","v":0}]
[null,null,null,{"$f":"IF(NOT(OR(D5=\"W\",D5=\"L\")),\"\",IF(HandicapPlay=\"x\",IF(D5=\"W\",10,-10),(IF(D5=\"W\",(VLOOKUP($C5,(TABLE!WIN),(MATCH(E5,WINCOL,0)+1))),(VLOOKUP($C5,(TABLE!LOSE),(MATCH(E5,LOSECOL,0)+1)))))))","v":""},null,{"$f":"IF(NOT(OR(F5=\"W\",F5=\"L\")),\"\",IF(HandicapPlay=\"x\",IF(F5=\"W\",10,-10),(IF(F5=\"W\",(VLOOKUP($C5,(TABLE!WIN),(MATCH(G5,WINCOL,0)+1))),(VLOOKUP($C5,(TABLE!LOSE),(MATCH(G5,LOSECOL,0)+1)))))))","v":""},null,{"$f":"IF(NOT(OR(H5=\"W\",H5=\"L\")),\"\",IF(HandicapPlay=\"x\",IF(H5=\"W\",10,-10),(IF(H5=\"W\",(VLOOKUP($C5,(TABLE!WIN),(MATCH(I5,WINCOL,0)+1))),(VLOOKUP($C5,(TABLE!LOSE),(MATCH(I5,LOSECOL,0)+1)))))))","v":""},null,{"$f":"IF(NOT(OR(J5=\"W\",J5=\"L\")),\"\",IF(HandicapPlay=\"x\",IF(J5=\"W\",10,-10),(IF(J5=\"W\",(VLOOKUP($C5,(TABLE!WIN),(MATCH(K5,WINCOL,0)+1))),(VLOOKUP($C5,(TABLE!LOSE),(MATCH(K5,LOSECOL,0)+1)))))))","v":""},null,{"$f":"IF(NOT(OR(L5=\"W\",L5=\"L\")),\"\",IF(HandicapPlay=\"x\",IF(L5=\"W\",10,-10),(IF(L5=\"W\",(VLOOKUP($C5,(TABLE!WIN),(MATCH(M5,WINCOL,0)+1))),(VLOOKUP($C5,(TABLE!LOSE),(MATCH(M5,LOSECOL,0)+1)))))))","v":""},null,{"$f":"IF(NOT(OR(N5=\"W\",N5=\"L\")),\"\",IF(HandicapPlay=\"x\",IF(N5=\"W\",10,-10),(IF(N5=\"W\",(VLOOKUP($C5,(TABLE!WIN),(MATCH(O5,WINCOL,0)+1))),(VLOOKUP($C5,(TABLE!LOSE),(MATCH(O5,LOSECOL,0)+1)))))))","v":""},null,{"$f":"IF(NOT(OR(P5=\"W\",P5=\"L\")),\"\",IF(HandicapPlay=\"x\",IF(P5=\"W\",10,-10),(IF(P5=\"W\",(VLOOKUP($C5,(TABLE!WIN),(MATCH(Q5,WINCOL,0)+1))),(VLOOKUP($C5,(TABLE!LOSE),(MATCH(Q5,LOSECOL,0)+1)))))))","v":""},null,{"$f":"IF(NOT(OR(R5=\"W\",R5=\"L\")),\"\",IF(HandicapPlay=\"x\",IF(R5=\"W\",10,-10),(IF(R5=\"W\",(VLOOKUP($C5,(TABLE!WIN),(MATCH(S5,WINCOL,0)+1))),(VLOOKUP($C5,(TABLE!LOSE),(MATCH(S5,LOSECOL,0)+1)))))))","v":""},null,{"$f":"IF(NOT(OR(T5=\"W\",T5=\"L\")),\"\",IF(HandicapPlay=\"x\",IF(T5=\"W\",10,-10),(IF(T5=\"W\",(VLOOKUP($C5,(TABLE!WIN),(MATCH(U5,WINCOL,0)+1))),(VLOOKUP($C5,(TABLE!LOSE),(MATCH(U5,LOSECOL,0)+1)))))))","v":""},null,{"$f":"IF(NOT(OR(V5=\"W\",V5=\"L\")),\"\",IF(HandicapPlay=\"x\",IF(V5=\"W\",10,-10),(IF(V5=\"W\",(VLOOKUP($C5,(TABLE!WIN),(MATCH(W5,WINCOL,0)+1))),(VLOOKUP($C5,(TABLE!LOSE),(MATCH(W5,LOSECOL,0)+1)))))))","v":""},null,{"$f":"IF(NOT(OR(X5=\"W\",X5=\"L\")),\"\",IF(HandicapPlay=\"x\",IF(X5=\"W\",10,-10),(IF(X5=\"W\",(VLOOKUP($C5,(TABLE!WIN),(MATCH(Y5,WINCOL,0)+1))),(VLOOKUP($C5,(TABLE!LOSE),(MATCH(Y5,LOSECOL,0)+1)))))))","v":""},null,{"$f":"SUM(D6:Y6)","v":0}]
[null,{"$f":"SCORECARD!D26","v":" Block 1 Player 2"},{"$f":"SCORECARD!I26","v":0},{"$f":"IF(SCORECARD!$I29>0,\"W\",(IF(SCORECARD!$I29<0,\"L\",\"\")))","v":""},{"$f":"SCORECARD!F29","v":0},{"$f":"IF(SCORECARD!$I30>0,\"W\",(IF(SCORECARD!$I30<0,\"L\",\"\")))","v":""},{"$f":"SCORECARD!F30","v":0},{"$f":"IF(SCORECARD!$I31>0,\"W\",(IF(SCORECARD!$I31<0,\"L\",\"\")))","v":""},{"$f":"SCORECARD!F31","v":0},{"$f":"IF(SCORECARD!$I32>0,\"W\",(IF(SCORECARD!$I32<0,\"L\",\"\")))","v":""},{"$f":"SCORECARD!F32","v":0},{"$f":"IF(SCORECARD!$I33>0,\"W\",(IF(SCORECARD!$I33<0,\"L\",\"\")))","v":""},{"$f":"SCORECARD!$F$33","v":0},{"$f":"IF(SCORECARD!$I34>0,\"W\",(IF(SCORECARD!$I34<0,\"L\",\"\")))","v":""},{"$f":"SCORECARD!$F$34","v":0},{"$f":"IF(SCORECARD!$I35>0,\"W\",(IF(SCORECARD!$I35<0,\"L\",\"\")))","v":""},{"$f":"SCORECARD!$F$35","v":0},{"$f":"IF(SCORECARD!$I36>0,\"W\",(IF(SCORECARD!$I36<0,\"L\",\"\")))","v":""},{"$f":"SCORECARD!$F$36","v":0},{"$f":"IF(SCORECARD!$I37>0,\"W\",(IF(SCORECARD!$I37<0,\"L\",\"\")))","v":""},{"$f":"SCORECARD!$F$37","v":0},{"$f":"IF(SCORECARD!$I38>0,\"W\",(IF(SCORECARD!$I38<0,\"L\",\"\")))","v":""},{"$f":"SCORECARD!$F$38","v":0},{"$f":"IF(SCORECARD!$I39>0,\"W\",(IF(SCORECARD!$I39<0,\"L\",\"\")))","v":""},{"$f":"SCORECARD!$F$39","v":0}]
[null,null,null,{"$f":"IF(NOT(OR(D7=\"W\",D7=\"L\")),\"\",IF(HandicapPlay=\"x\",IF(D7=\"W\",10,-10),(IF(D7=\"W\",(VLOOKUP($C7,(TABLE!WIN),(MATCH(E7,WINCOL,0)+1))),(VLOOKUP($C7,(TABLE!LOSE),(MATCH(E7,LOSECOL,0)+1)))))))","v":""},null,{"$f":"IF(NOT(OR(F7=\"W\",F7=\"L\")),\"\",IF(HandicapPlay=\"x\",IF(F7=\"W\",10,-10),(IF(F7=\"W\",(VLOOKUP($C7,(TABLE!WIN),(MATCH(G7,WINCOL,0)+1))),(VLOOKUP($C7,(TABLE!LOSE),(MATCH(G7,LOSECOL,0)+1)))))))","v":""},null,{"$f":"IF(NOT(OR(H7=\"W\",H7=\"L\")),\"\",IF(HandicapPlay=\"x\",IF(H7=\"W\",10,-10),(IF(H7=\"W\",(VLOOKUP($C7,(TABLE!WIN),(MATCH(I7,WINCOL,0)+1))),(VLOOKUP($C7,(TABLE!LOSE),(MATCH(I7,LOSECOL,0)+1)))))))","v":""},null,{"$f":"IF(NOT(OR(J7=\"W\",J7=\"L\")),\"\",IF(HandicapPlay=\"x\",IF(J7=\"W\",10,-10),(IF(J7=\"W\",(VLOOKUP($C7,(TABLE!WIN),(MATCH(K7,WINCOL,0)+1))),(VLOOKUP($C7,(TABLE!LOSE),(MATCH(K7,LOSECOL,0)+1)))))))","v":""},null,{"$f":"IF(NOT(OR(L7=\"W\",L7=\"L\")),\"\",IF(HandicapPlay=\"x\",IF(L7=\"W\",10,-10),(IF(L7=\"W\",(VLOOKUP($C7,(TABLE!WIN),(MATCH(M7,WINCOL,0)+1))),(VLOOKUP($C7,(TABLE!LOSE),(MATCH(M7,LOSECOL,0)+1)))))))","v":""},null,{"$f":"IF(NOT(OR(N7=\"W\",N7=\"L\")),\"\",IF(HandicapPlay=\"x\",IF(N7=\"W\",10,-10),(IF(N7=\"W\",(VLOOKUP($C7,(TABLE!WIN),(MATCH(O7,WINCOL,0)+1))),(VLOOKUP($C7,(TABLE!LOSE),(MATCH(O7,LOSECOL,0)+1)))))))","v":""},null,{"$f":"IF(NOT(OR(P7=\"W\",P7=\"L\")),\"\",IF(HandicapPlay=\"x\",IF(P7=\"W\",10,-10),(IF(P7=\"W\",(VLOOKUP($C7,(TABLE!WIN),(MATCH(Q7,WINCOL,0)+1))),(VLOOKUP($C7,(TABLE!LOSE),(MATCH(Q7,LOSECOL,0)+1)))))))","v":""},null,{"$f":"IF(NOT(OR(R7=\"W\",R7=\"L\")),\"\",IF(HandicapPlay=\"x\",IF(R7=\"W\",10,-10),(IF(R7=\"W\",(VLOOKUP($C7,(TABLE!WIN),(MATCH(S7,WINCOL,0)+1))),(VLOOKUP($C7,(TABLE!LOSE),(MATCH(S7,LOSECOL,0)+1)))))))","v":""},null,{"$f":"IF(NOT(OR(T7=\"W\",T7=\"L\")),\"\",IF(HandicapPlay=\"x\",IF(T7=\"W\",10,-10),(IF(T7=\"W\",(VLOOKUP($C7,(TABLE!WIN),(MATCH(U7,WINCOL,0)+1))),(VLOOKUP($C7,(TABLE!LOSE),(MATCH(U7,LOSECOL,0)+1)))))))","v":""},null,{"$f":"IF(NOT(OR(V7=\"W\",V7=\"L\")),\"\",IF(HandicapPlay=\"x\",IF(V7=\"W\",10,-10),(IF(V7=\"W\",(VLOOKUP($C7,(TABLE!WIN),(MATCH(W7,WINCOL,0)+1))),(VLOOKUP($C7,(TABLE!LOSE),(MATCH(W7,LOSECOL,0)+1)))))))","v":""},null,{"$f":"IF(NOT(OR(X7=\"W\",X7=\"L\")),\"\",IF(HandicapPlay=\"x\",IF(X7=\"W\",10,-10),(IF(X7=\"W\",(VLOOKUP($C7,(TABLE!WIN),(MATCH(Y7,WINCOL,0)+1))),(VLOOKUP($C7,(TABLE!LOSE),(MATCH(Y7,LOSECOL,0)+1)))))))","v":""},null,{"$f":"SUM(D8:Y8)","v":0}]
[null,{"$f":"SCORECARD!D49","v":" Block 1 Player 3"},{"$f":"SCORECARD!I49","v":0},{"$f":"IF(SCORECARD!$I52>0,\"W\",(IF(SCORECARD!$I52<0,\"L\",\"\")))","v":""},{"$f":"SCORECARD!F52","v":0},{"$f":"IF(SCORECARD!$I53>0,\"W\",(IF(SCORECARD!$I53<0,\"L\",\"\")))","v":""},{"$f":"SCORECARD!F53","v":0},{"$f":"IF(SCORECARD!$I54>0,\"W\",(IF(SCORECARD!$I54<0,\"L\",\"\")))","v":""},{"$f":"SCORECARD!F54","v":0},{"$f":"IF(SCORECARD!$I55>0,\"W\",(IF(SCORECARD!$I55<0,\"L\",\"\")))","v":""},{"$f":"SCORECARD!F55","v":0},{"$f":"IF(SCORECARD!$I56>0,\"W\",(IF(SCORECARD!$I56<0,\"L\",\"\")))","v":""},{"$f":"SCORECARD!F56","v":0},{"$f":"IF(SCORECARD!$I57>0,\"W\",(IF(SCORECARD!$I57<0,\"L\",\"\")))","v":""},{"$f":"SCORECARD!F57","v":0},{"$f":"IF(SCORECARD!$I58>0,\"W\",(IF(SCORECARD!$I58<0,\"L\",\"\")))","v":""},{"$f":"SCORECARD!F58","v":0},{"$f":"IF(SCORECARD!$I59>0,\"W\",(IF(SCORECARD!$I59<0,\"L\",\"\")))","v":""},{"$f":"SCORECARD!F59","v":0},{"$f":"IF(SCORECARD!$I60>0,\"W\",(IF(SCORECARD!$I60<0,\"L\",\"\")))","v":""},{"$f":"SCORECARD!F60","v":0},{"$f":"IF(SCORECARD!$I61>0,\"W\",(IF(SCORECARD!$I61<0,\"L\",\"\")))","v":""},{"$f":"SCORECARD!$F$61","v":0},{"$f":"IF(SCORECARD!$I62>0,\"W\",(IF(SCORECARD!$I62<0,\"L\",\"\")))","v":""},{"$f":"SCORECARD!$F$62","v":0}]
[null,null,null,{"$f":"IF(NOT(OR(D9=\"W\",D9=\"L\")),\"\",IF(HandicapPlay=\"x\",IF(D9=\"W\",10,-10),(IF(D9=\"W\",(VLOOKUP($C9,(TABLE!WIN),(MATCH(E9,WINCOL,0)+1))),(VLOOKUP($C9,(TABLE!LOSE),(MATCH(E9,LOSECOL,0)+1)))))))","v":""},null,{"$f":"IF(NOT(OR(F9=\"W\",F9=\"L\")),\"\",IF(HandicapPlay=\"x\",IF(F9=\"W\",10,-10),(IF(F9=\"W\",(VLOOKUP($C9,(TABLE!WIN),(MATCH(G9,WINCOL,0)+1))),(VLOOKUP($C9,(TABLE!LOSE),(MATCH(G9,LOSECOL,0)+1)))))))","v":""},null,{"$f":"IF(NOT(OR(H9=\"W\",H9=\"L\")),\"\",IF(HandicapPlay=\"x\",IF(H9=\"W\",10,-10),(IF(H9=\"W\",(VLOOKUP($C9,(TABLE!WIN),(MATCH(I9,WINCOL,0)+1))),(VLOOKUP($C9,(TABLE!LOSE),(MATCH(I9,LOSECOL,0)+1)))))))","v":""},null,{"$f":"IF(NOT(OR(J9=\"W\",J9=\"L\")),\"\",IF(HandicapPlay=\"x\",IF(J9=\"W\",10,-10),(IF(J9=\"W\",(VLOOKUP($C9,(TABLE!WIN),(MATCH(K9,WINCOL,0)+1))),(VLOOKUP($C9,(TABLE!LOSE),(MATCH(K9,LOSECOL,0)+1)))))))","v":""},null,{"$f":"IF(NOT(OR(L9=\"W\",L9=\"L\")),\"\",IF(HandicapPlay=\"x\",IF(L9=\"W\",10,-10),(IF(L9=\"W\",(VLOOKUP($C9,(TABLE!WIN),(MATCH(M9,WINCOL,0)+1))),(VLOOKUP($C9,(TABLE!LOSE),(MATCH(M9,LOSECOL,0)+1)))))))","v":""},null,{"$f":"IF(NOT(OR(N9=\"W\",N9=\"L\")),\"\",IF(HandicapPlay=\"x\",IF(N9=\"W\",10,-10),(IF(N9=\"W\",(VLOOKUP($C9,(TABLE!WIN),(MATCH(O9,WINCOL,0)+1))),(VLOOKUP($C9,(TABLE!LOSE),(MATCH(O9,LOSECOL,0)+1)))))))","v":""},null,{"$f":"IF(NOT(OR(P9=\"W\",P9=\"L\")),\"\",IF(HandicapPlay=\"x\",IF(P9=\"W\",10,-10),(IF(P9=\"W\",(VLOOKUP($C9,(TABLE!WIN),(MATCH(Q9,WINCOL,0)+1))),(VLOOKUP($C9,(TABLE!LOSE),(MATCH(Q9,LOSECOL,0)+1)))))))","v":""},null,{"$f":"IF(NOT(OR(R9=\"W\",R9=\"L\")),\"\",IF(HandicapPlay=\"x\",IF(R9=\"W\",10,-10),(IF(R9=\"W\",(VLOOKUP($C9,(TABLE!WIN),(MATCH(S9,WINCOL,0)+1))),(VLOOKUP($C9,(TABLE!LOSE),(MATCH(S9,LOSECOL,0)+1)))))))","v":""},null,{"$f":"IF(NOT(OR(T9=\"W\",T9=\"L\")),\"\",IF(HandicapPlay=\"x\",IF(T9=\"W\",10,-10),(IF(T9=\"W\",(VLOOKUP($C9,(TABLE!WIN),(MATCH(U9,WINCOL,0)+1))),(VLOOKUP($C9,(TABLE!LOSE),(MATCH(U9,LOSECOL,0)+1)))))))","v":""},null,{"$f":"IF(NOT(OR(V9=\"W\",V9=\"L\")),\"\",IF(HandicapPlay=\"x\",IF(V9=\"W\",10,-10),(IF(V9=\"W\",(VLOOKUP($C9,(TABLE!WIN),(MATCH(W9,WINCOL,0)+1))),(VLOOKUP($C9,(TABLE!LOSE),(MATCH(W9,LOSECOL,0)+1)))))))","v":""},null,{"$f":"IF(NOT(OR(X9=\"W\",X9=\"L\")),\"\",IF(HandicapPlay=\"x\",IF(X9=\"W\",10,-10),(IF(X9=\"W\",(VLOOKUP($C9,(TABLE!WIN),(MATCH(Y9,WINCOL,0)+1))),(VLOOKUP($C9,(TABLE!LOSE),(MATCH(Y9,LOSECOL,0)+1)))))))","v":""},null,{"$f":"SUM(D10:Y10)","v":0}]
[null,{"$f":"SCORECARD!D69","v":" Block 1 Player 4"},{"$f":"SCORECARD!I69","v":0},{"$f":"IF(SCORECARD!$I72>0,\"W\",(IF(SCORECARD!$I72<0,\"L\",\"\")))","v":""},{"$f":"SCORECARD!F72","v":0},{"$f":"IF(SCORECARD!$I73>0,\"W\",(IF(SCORECARD!$I73<0,\"L\",\"\")))","v":""},{"$f":"SCORECARD!F73","v":0},{"$f":"IF(SCORECARD!$I74>0,\"W\",(IF(SCORECARD!$I74<0,\"L\",\"\")))","v":""},{"$f":"SCORECARD!F74","v":0},{"$f":"IF(SCORECARD!$I75>0,\"W\",(IF(SCORECARD!$I75<0,\"L\",\"\")))","v":""},{"$f":"SCORECARD!F75","v":0},{"$f":"IF(SCORECARD!$I76>0,\"W\",(IF(SCORECARD!$I76<0,\"L\",\"\")))","v":""},{"$f":"SCORECARD!F76","v":0},{"$f":"IF(SCORECARD!$I77>0,\"W\",(IF(SCORECARD!$I77<0,\"L\",\"\")))","v":""},{"$f":"SCORECARD!F77","v":0},{"$f":"IF(SCORECARD!$I78>0,\"W\",(IF(SCORECARD!$I78<0,\"L\",\"\")))","v":""},{"$f":"SCORECARD!F78","v":0},{"$f":"IF(SCORECARD!$I79>0,\"W\",(IF(SCORECARD!$I79<0,\"L\",\"\")))","v":""},{"$f":"SCORECARD!F79","v":0},{"$f":"IF(SCORECARD!$I80>0,\"W\",(IF(SCORECARD!$I80<0,\"L\",\"\")))","v":""},{"$f":"SCORECARD!F80","v":0},{"$f":"IF(SCORECARD!$I81>0,\"W\",(IF(SCORECARD!$I81<0,\"L\",\"\")))","v":""},{"$f":"SCORECARD!$F$81","v":0},{"$f":"IF(SCORECARD!$I82>0,\"W\",(IF(SCORECARD!$I82<0,\"L\",\"\")))","v":""},{"$f":"SCORECARD!$F$82","v":0}]
[null,null,null,{"$f":"IF(NOT(OR(D11=\"W\",D11=\"L\")),\"\",IF(HandicapPlay=\"x\",IF(D11=\"W\",10,-10),(IF(D11=\"W\",(VLOOKUP($C11,(TABLE!WIN),(MATCH(E11,WINCOL,0)+1))),(VLOOKUP($C11,(TABLE!LOSE),(MATCH(E11,LOSECOL,0)+1)))))))","v":""},null,{"$f":"IF(NOT(OR(F11=\"W\",F11=\"L\")),\"\",IF(HandicapPlay=\"x\",IF(F11=\"W\",10,-10),(IF(F11=\"W\",(VLOOKUP($C11,(TABLE!WIN),(MATCH(G11,WINCOL,0)+1))),(VLOOKUP($C11,(TABLE!LOSE),(MATCH(G11,LOSECOL,0)+1)))))))","v":""},null,{"$f":"IF(NOT(OR(H11=\"W\",H11=\"L\")),\"\",IF(HandicapPlay=\"x\",IF(H11=\"W\",10,-10),(IF(H11=\"W\",(VLOOKUP($C11,(TABLE!WIN),(MATCH(I11,WINCOL,0)+1))),(VLOOKUP($C11,(TABLE!LOSE),(MATCH(I11,LOSECOL,0)+1)))))))","v":""},null,{"$f":"IF(NOT(OR(J11=\"W\",J11=\"L\")),\"\",IF(HandicapPlay=\"x\",IF(J11=\"W\",10,-10),(IF(J11=\"W\",(VLOOKUP($C11,(TABLE!WIN),(MATCH(K11,WINCOL,0)+1))),(VLOOKUP($C11,(TABLE!LOSE),(MATCH(K11,LOSECOL,0)+1)))))))","v":""},null,{"$f":"IF(NOT(OR(L11=\"W\",L11=\"L\")),\"\",IF(HandicapPlay=\"x\",IF(L11=\"W\",10,-10),(IF(L11=\"W\",(VLOOKUP($C11,(TABLE!WIN),(MATCH(M11,WINCOL,0)+1))),(VLOOKUP($C11,(TABLE!LOSE),(MATCH(M11,LOSECOL,0)+1)))))))","v":""},null,{"$f":"IF(NOT(OR(N11=\"W\",N11=\"L\")),\"\",IF(HandicapPlay=\"x\",IF(N11=\"W\",10,-10),(IF(N11=\"W\",(VLOOKUP($C11,(TABLE!WIN),(MATCH(O11,WINCOL,0)+1))),(VLOOKUP($C11,(TABLE!LOSE),(MATCH(O11,LOSECOL,0)+1)))))))","v":""},null,{"$f":"IF(NOT(OR(P11=\"W\",P11=\"L\")),\"\",IF(HandicapPlay=\"x\",IF(P11=\"W\",10,-10),(IF(P11=\"W\",(VLOOKUP($C11,(TABLE!WIN),(MATCH(Q11,WINCOL,0)+1))),(VLOOKUP($C11,(TABLE!LOSE),(MATCH(Q11,LOSECOL,0)+1)))))))","v":""},null,{"$f":"IF(NOT(OR(R11=\"W\",R11=\"L\")),\"\",IF(HandicapPlay=\"x\",IF(R11=\"W\",10,-10),(IF(R11=\"W\",(VLOOKUP($C11,(TABLE!WIN),(MATCH(S11,WINCOL,0)+1))),(VLOOKUP($C11,(TABLE!LOSE),(MATCH(S11,LOSECOL,0)+1)))))))","v":""},null,{"$f":"IF(NOT(OR(T11=\"W\",T11=\"L\")),\"\",IF(HandicapPlay=\"x\",IF(T11=\"W\",10,-10),(IF(T11=\"W\",(VLOOKUP($C11,(TABLE!WIN),(MATCH(U11,WINCOL,0)+1))),(VLOOKUP($C11,(TABLE!LOSE),(MATCH(U11,LOSECOL,0)+1)))))))","v":""},null,{"$f":"IF(NOT(OR(V11=\"W\",V11=\"L\")),\"\",IF(HandicapPlay=\"x\",IF(V11=\"W\",10,-10),(IF(V11=\"W\",(VLOOKUP($C11,(TABLE!WIN),(MATCH(W11,WINCOL,0)+1))),(VLOOKUP($C11,(TABLE!LOSE),(MATCH(W11,LOSECOL,0)+1)))))))","v":""},null,{"$f":"IF(NOT(OR(X11=\"W\",X11=\"L\")),\"\",IF(HandicapPlay=\"x\",IF(X11=\"W\",10,-10),(IF(X11=\"W\",(VLOOKUP($C11,(TABLE!WIN),(MATCH(Y11,WINCOL,0)+1))),(VLOOKUP($C11,(TABLE!LOSE),(MATCH(Y11,LOSECOL,0)+1)))))))","v":""},null,{"$f":"SUM(D12:Y12)","v":0}]
[null,{"$f":"SCORECARD!D92","v":" Block 1 Player 5"},{"$f":"SCORECARD!I92","v":0},{"$f":"IF(SCORECARD!$I95>0,\"W\",(IF(SCORECARD!I95<0,\"L\",\"\")))","v":""},{"$f":"SCORECARD!F95","v":0},{"$f":"IF(SCORECARD!$I96>0,\"W\",(IF(SCORECARD!$I96<0,\"L\",\"\")))","v":""},{"$f":"SCORECARD!F96","v":0},{"$f":"IF(SCORECARD!$I97>0,\"W\",(IF(SCORECARD!$I97<0,\"L\",\"\")))","v":""},{"$f":"SCORECARD!F97","v":0},{"$f":"IF(SCORECARD!$I98>0,\"W\",(IF(SCORECARD!$I98<0,\"L\",\"\")))","v":""},{"$f":"SCORECARD!F98","v":0},{"$f":"IF(SCORECARD!$I99>0,\"W\",(IF(SCORECARD!$I99<0,\"L\",\"\")))","v":""},{"$f":"SCORECARD!F99","v":0},{"$f":"IF(SCORECARD!$I100>0,\"W\",(IF(SCORECARD!$I100<0,\"L\",\"\")))","v":""},{"$f":"SCORECARD!F100","v":0},{"$f":"IF(SCORECARD!$I101>0,\"W\",(IF(SCORECARD!$I101<0,\"L\",\"\")))","v":""},{"$f":"SCORECARD!F101","v":0},{"$f":"IF(SCORECARD!$I102>0,\"W\",(IF(SCORECARD!$I102<0,\"L\",\"\")))","v":""},{"$f":"SCORECARD!F102","v":0},{"$f":"IF(SCORECARD!$I103>0,\"W\",(IF(SCORECARD!$I103,\"L\",\"\")))","v":""},{"$f":"SCORECARD!F103","v":0},{"$f":"IF(SCORECARD!$I104>0,\"W\",(IF(SCORECARD!$I104<0,\"L\",\"\")))","v":""},{"$f":"SCORECARD!$F$104","v":0},{"$f":"IF(SCORECARD!$I105>0,\"W\",(IF(SCORECARD!$I105<0,\"L\",\"\")))","v":""},{"$f":"SCORECARD!$F$105","v":0}]
[null,null,null,{"$f":"IF(NOT(OR(D13=\"W\",D13=\"L\")),\"\",IF(HandicapPlay=\"x\",IF(D13=\"W\",10,-10),(IF(D13=\"W\",(VLOOKUP($C13,(TABLE!WIN),(MATCH(E13,WINCOL,0)+1))),(VLOOKUP($C13,(TABLE!LOSE),(MATCH(E13,LOSECOL,0)+1)))))))","v":""},null,{"$f":"IF(NOT(OR(F13=\"W\",F13=\"L\")),\"\",IF(HandicapPlay=\"x\",IF(F13=\"W\",10,-10),(IF(F13=\"W\",(VLOOKUP($C13,(TABLE!WIN),(MATCH(G13,WINCOL,0)+1))),(VLOOKUP($C13,(TABLE!LOSE),(MATCH(G13,LOSECOL,0)+1)))))))","v":""},null,{"$f":"IF(NOT(OR(H13=\"W\",H13=\"L\")),\"\",IF(HandicapPlay=\"x\",IF(H13=\"W\",10,-10),(IF(H13=\"W\",(VLOOKUP($C13,(TABLE!WIN),(MATCH(I13,WINCOL,0)+1))),(VLOOKUP($C13,(TABLE!LOSE),(MATCH(I13,LOSECOL,0)+1)))))))","v":""},null,{"$f":"IF(NOT(OR(J13=\"W\",J13=\"L\")),\"\",IF(HandicapPlay=\"x\",IF(J13=\"W\",10,-10),(IF(J13=\"W\",(VLOOKUP($C13,(TABLE!WIN),(MATCH(K13,WINCOL,0)+1))),(VLOOKUP($C13,(TABLE!LOSE),(MATCH(K13,LOSECOL,0)+1)))))))","v":""},null,{"$f":"IF(NOT(OR(L13=\"W\",L13=\"L\")),\"\",IF(HandicapPlay=\"x\",IF(L13=\"W\",10,-10),(IF(L13=\"W\",(VLOOKUP($C13,(TABLE!WIN),(MATCH(M13,WINCOL,0)+1))),(VLOOKUP($C13,(TABLE!LOSE),(MATCH(M13,LOSECOL,0)+1)))))))","v":""},null,{"$f":"IF(NOT(OR(N13=\"W\",N13=\"L\")),\"\",IF(HandicapPlay=\"x\",IF(N13=\"W\",10,-10),(IF(N13=\"W\",(VLOOKUP($C13,(TABLE!WIN),(MATCH(O13,WINCOL,0)+1))),(VLOOKUP($C13,(TABLE!LOSE),(MATCH(O13,LOSECOL,0)+1)))))))","v":""},null,{"$f":"IF(NOT(OR(P13=\"W\",P13=\"L\")),\"\",IF(HandicapPlay=\"x\",IF(P13=\"W\",10,-10),(IF(P13=\"W\",(VLOOKUP($C13,(TABLE!WIN),(MATCH(Q13,WINCOL,0)+1))),(VLOOKUP($C13,(TABLE!LOSE),(MATCH(Q13,LOSECOL,0)+1)))))))","v":""},null,{"$f":"IF(NOT(OR(R13=\"W\",R13=\"L\")),\"\",IF(HandicapPlay=\"x\",IF(R13=\"W\",10,-10),(IF(R13=\"W\",(VLOOKUP($C13,(TABLE!WIN),(MATCH(S13,WINCOL,0)+1))),(VLOOKUP($C13,(TABLE!LOSE),(MATCH(S13,LOSECOL,0)+1)))))))","v":""},null,{"$f":"IF(NOT(OR(T13=\"W\",T13=\"L\")),\"\",IF(HandicapPlay=\"x\",IF(T13=\"W\",10,-10),(IF(T13=\"W\",(VLOOKUP($C13,(TABLE!WIN),(MATCH(U13,WINCOL,0)+1))),(VLOOKUP($C13,(TABLE!LOSE),(MATCH(U13,LOSECOL,0)+1)))))))","v":""},null,{"$f":"IF(NOT(OR(V13=\"W\",V13=\"L\")),\"\",IF(HandicapPlay=\"x\",IF(V13=\"W\",10,-10),(IF(V13=\"W\",(VLOOKUP($C13,(TABLE!WIN),(MATCH(W13,WINCOL,0)+1))),(VLOOKUP($C13,(TABLE!LOSE),(MATCH(W13,LOSECOL,0)+1)))))))","v":""},null,{"$f":"IF(NOT(OR(X13=\"W\",X13=\"L\")),\"\",IF(HandicapPlay=\"x\",IF(X13=\"W\",10,-10),(IF(X13=\"W\",(VLOOKUP($C13,(TABLE!WIN),(MATCH(Y13,WINCOL,0)+1))),(VLOOKUP($C13,(TABLE!LOSE),(MATCH(Y13,LOSECOL,0)+1)))))))","v":""},null,{"$f":"SUM(D14:Y14)","v":0}]
[null,{"$f":"SCORECARD!D112","v":" Block 1 Player 6"},{"$f":"SCORECARD!I112","v":0},{"$f":"IF(SCORECARD!$I115>0,\"W\",(IF(SCORECARD!$I115<0,\"L\",\"\")))","v":""},{"$f":"SCORECARD!F115","v":0},{"$f":"IF(SCORECARD!$I116>0,\"W\",(IF(SCORECARD!$I116<0,\"L\",\"\")))","v":""},{"$f":"SCORECARD!F116","v":0},{"$f":"IF(SCORECARD!$I117>0,\"W\",(IF(SCORECARD!$I117<0,\"L\",\"\")))","v":""},{"$f":"SCORECARD!F117","v":0},{"$f":"IF(SCORECARD!$I118>0,\"W\",(IF(SCORECARD!$I118<0,\"L\",\"\")))","v":""},{"$f":"SCORECARD!F118","v":0},{"$f":"IF(SCORECARD!$I119>0,\"W\",(IF(SCORECARD!$I119<0,\"L\",\"\")))","v":""},{"$f":"SCORECARD!F119","v":0},{"$f":"IF(SCORECARD!$I120>0,\"W\",(IF(SCORECARD!$I120<0,\"L\",\"\")))","v":""},{"$f":"SCORECARD!F120","v":0},{"$f":"IF(SCORECARD!$I121>0,\"W\",(IF(SCORECARD!$I121<0,\"L\",\"\")))","v":""},{"$f":"SCORECARD!F121","v":0},{"$f":"IF(SCORECARD!$I122>0,\"W\",(IF(SCORECARD!$I122<0,\"L\",\"\")))","v":""},{"$f":"SCORECARD!F122","v":0},{"$f":"IF(SCORECARD!$I123>0,\"W\",(IF(SCORECARD!$I123<0,\"L\",\"\")))","v":""},{"$f":"SCORECARD!F123","v":0},{"$f":"IF(SCORECARD!$I124>0,\"W\",(IF(SCORECARD!$I124<0,\"L\",\"\")))","v":""},{"$f":"SCORECARD!$F$124","v":0},{"$f":"IF(SCORECARD!$I125>0,\"W\",(IF(SCORECARD!$I125<0,\"L\",\"\")))","v":""},{"$f":"SCORECARD!$F$125","v":0}]
[null,null,null,{"$f":"IF(NOT(OR(D15=\"W\",D15=\"L\")),\"\",IF(HandicapPlay=\"x\",IF(D15=\"W\",10,-10),(IF(D15=\"W\",(VLOOKUP($C15,(TABLE!WIN),(MATCH(E15,WINCOL,0)+1))),(VLOOKUP($C15,(TABLE!LOSE),(MATCH(E15,LOSECOL,0)+1)))))))","v":""},null,{"$f":"IF(NOT(OR(F15=\"W\",F15=\"L\")),\"\",IF(HandicapPlay=\"x\",IF(F15=\"W\",10,-10),(IF(F15=\"W\",(VLOOKUP($C15,(TABLE!WIN),(MATCH(G15,WINCOL,0)+1))),(VLOOKUP($C15,(TABLE!LOSE),(MATCH(G15,LOSECOL,0)+1)))))))","v":""},null,{"$f":"IF(NOT(OR(H15=\"W\",H15=\"L\")),\"\",IF(HandicapPlay=\"x\",IF(H15=\"W\",10,-10),(IF(H15=\"W\",(VLOOKUP($C15,(TABLE!WIN),(MATCH(I15,WINCOL,0)+1))),(VLOOKUP($C15,(TABLE!LOSE),(MATCH(I15,LOSECOL,0)+1)))))))","v":""},null,{"$f":"IF(NOT(OR(J15=\"W\",J15=\"L\")),\"\",IF(HandicapPlay=\"x\",IF(J15=\"W\",10,-10),(IF(J15=\"W\",(VLOOKUP($C15,(TABLE!WIN),(MATCH(K15,WINCOL,0)+1))),(VLOOKUP($C15,(TABLE!LOSE),(MATCH(K15,LOSECOL,0)+1)))))))","v":""},null,{"$f":"IF(NOT(OR(L15=\"W\",L15=\"L\")),\"\",IF(HandicapPlay=\"x\",IF(L15=\"W\",10,-10),(IF(L15=\"W\",(VLOOKUP($C15,(TABLE!WIN),(MATCH(M15,WINCOL,0)+1))),(VLOOKUP($C15,(TABLE!LOSE),(MATCH(M15,LOSECOL,0)+1)))))))","v":""},null,{"$f":"IF(NOT(OR(N15=\"W\",N15=\"L\")),\"\",IF(HandicapPlay=\"x\",IF(N15=\"W\",10,-10),(IF(N15=\"W\",(VLOOKUP($C15,(TABLE!WIN),(MATCH(O15,WINCOL,0)+1))),(VLOOKUP($C15,(TABLE!LOSE),(MATCH(O15,LOSECOL,0)+1)))))))","v":""},null,{"$f":"IF(NOT(OR(P15=\"W\",P15=\"L\")),\"\",IF(HandicapPlay=\"x\",IF(P15=\"W\",10,-10),(IF(P15=\"W\",(VLOOKUP($C15,(TABLE!WIN),(MATCH(Q15,WINCOL,0)+1))),(VLOOKUP($C15,(TABLE!LOSE),(MATCH(Q15,LOSECOL,0)+1)))))))","v":""},null,{"$f":"IF(NOT(OR(R15=\"W\",R15=\"L\")),\"\",IF(HandicapPlay=\"x\",IF(R15=\"W\",10,-10),(IF(R15=\"W\",(VLOOKUP($C15,(TABLE!WIN),(MATCH(S15,WINCOL,0)+1))),(VLOOKUP($C15,(TABLE!LOSE),(MATCH(S15,LOSECOL,0)+1)))))))","v":""},null,{"$f":"IF(NOT(OR(T15=\"W\",T15=\"L\")),\"\",IF(HandicapPlay=\"x\",IF(T15=\"W\",10,-10),(IF(T15=\"W\",(VLOOKUP($C15,(TABLE!WIN),(MATCH(U15,WINCOL,0)+1))),(VLOOKUP($C15,(TABLE!LOSE),(MATCH(U15,LOSECOL,0)+1)))))))","v":""},null,{"$f":"IF(NOT(OR(V15=\"W\",V15=\"L\")),\"\",IF(HandicapPlay=\"x\",IF(V15=\"W\",10,-10),(IF(V15=\"W\",(VLOOKUP($C15,(TABLE!WIN),(MATCH(W15,WINCOL,0)+1))),(VLOOKUP($C15,(TABLE!LOSE),(MATCH(W15,LOSECOL,0)+1)))))))","v":""},null,{"$f":"IF(NOT(OR(X15=\"W\",X15=\"L\")),\"\",IF(HandicapPlay=\"x\",IF(X15=\"W\",10,-10),(IF(X15=\"W\",(VLOOKUP($C15,(TABLE!WIN),(MATCH(Y15,WINCOL,0)+1))),(VLOOKUP($C15,(TABLE!LOSE),(MATCH(Y15,LOSECOL,0)+1)))))))","v":""},null,{"$f":"SUM(D16:Y16)","v":0}]
[null,{"$f":"SCORECARD!D135","v":" Block 1 Player 7"},{"$f":"SCORECARD!I135","v":0},{"$f":"IF(SCORECARD!$I138>0,\"W\",(IF(SCORECARD!$I138<0,\"L\",\"\")))","v":""},{"$f":"SCORECARD!F138","v":0},{"$f":"IF(SCORECARD!$I139>0,\"W\",(IF(SCORECARD!$I139<0,\"L\",\"\")))","v":""},{"$f":"SCORECARD!F139","v":0},{"$f":"IF(SCORECARD!$I140>0,\"W\",(IF(SCORECARD!$I140<0,\"L\",\"\")))","v":""},{"$f":"SCORECARD!F140","v":0},{"$f":"IF(SCORECARD!$I141>0,\"W\",(IF(SCORECARD!$I141<0,\"L\",\"\")))","v":""},{"$f":"SCORECARD!F141","v":0},{"$f":"IF(SCORECARD!$I142>0,\"W\",(IF(SCORECARD!$I142<0,\"L\",\"\")))","v":""},{"$f":"SCORECARD!F142","v":0},{"$f":"IF(SCORECARD!$I143>0,\"W\",(IF(SCORECARD!$I143<0,\"L\",\"\")))","v":""},{"$f":"SCORECARD!F143","v":0},{"$f":"IF(SCORECARD!$I144>0,\"W\",(IF(SCORECARD!$I144<0,\"L\",\"\")))","v":""},{"$f":"SCORECARD!F144","v":0},{"$f":"IF(SCORECARD!$I145>0,\"W\",(IF(SCORECARD!$I145<0,\"L\",\"\")))","v":""},{"$f":"SCORECARD!F145","v":0},{"$f":"IF(SCORECARD!$I146>0,\"W\",(IF(SCORECARD!$I146<0,\"L\",\"\")))","v":""},{"$f":"SCORECARD!F146","v":0},{"$f":"IF(SCORECARD!$I147>0,\"W\",(IF(SCORECARD!$I147<0,\"L\",\"\")))","v":""},{"$f":"SCORECARD!$F$147","v":0},{"$f":"IF(SCORECARD!$I148>0,\"W\",(IF(SCORECARD!$I148<0,\"L\",\"\")))","v":""},{"$f":"SCORECARD!$F$148","v":0}]
[null,null,null,{"$f":"IF(NOT(OR(D17=\"W\",D17=\"L\")),\"\",IF(HandicapPlay=\"x\",IF(D17=\"W\",10,-10),(IF(D17=\"W\",(VLOOKUP($C17,(TABLE!WIN),(MATCH(E17,WINCOL,0)+1))),(VLOOKUP($C17,(TABLE!LOSE),(MATCH(E17,LOSECOL,0)+1)))))))","v":""},null,{"$f":"IF(NOT(OR(F17=\"W\",F17=\"L\")),\"\",IF(HandicapPlay=\"x\",IF(F17=\"W\",10,-10),(IF(F17=\"W\",(VLOOKUP($C17,(TABLE!WIN),(MATCH(G17,WINCOL,0)+1))),(VLOOKUP($C17,(TABLE!LOSE),(MATCH(G17,LOSECOL,0)+1)))))))","v":""},null,{"$f":"IF(NOT(OR(H17=\"W\",H17=\"L\")),\"\",IF(HandicapPlay=\"x\",IF(H17=\"W\",10,-10),(IF(H17=\"W\",(VLOOKUP($C17,(TABLE!WIN),(MATCH(I17,WINCOL,0)+1))),(VLOOKUP($C17,(TABLE!LOSE),(MATCH(I17,LOSECOL,0)+1)))))))","v":""},null,{"$f":"IF(NOT(OR(J17=\"W\",J17=\"L\")),\"\",IF(HandicapPlay=\"x\",IF(J17=\"W\",10,-10),(IF(J17=\"W\",(VLOOKUP($C17,(TABLE!WIN),(MATCH(K17,WINCOL,0)+1))),(VLOOKUP($C17,(TABLE!LOSE),(MATCH(K17,LOSECOL,0)+1)))))))","v":""},null,{"$f":"IF(NOT(OR(L17=\"W\",L17=\"L\")),\"\",IF(HandicapPlay=\"x\",IF(L17=\"W\",10,-10),(IF(L17=\"W\",(VLOOKUP($C17,(TABLE!WIN),(MATCH(M17,WINCOL,0)+1))),(VLOOKUP($C17,(TABLE!LOSE),(MATCH(M17,LOSECOL,0)+1)))))))","v":""},null,{"$f":"IF(NOT(OR(N17=\"W\",N17=\"L\")),\"\",IF(HandicapPlay=\"x\",IF(N17=\"W\",10,-10),(IF(N17=\"W\",(VLOOKUP($C17,(TABLE!WIN),(MATCH(O17,WINCOL,0)+1))),(VLOOKUP($C17,(TABLE!LOSE),(MATCH(O17,LOSECOL,0)+1)))))))","v":""},null,{"$f":"IF(NOT(OR(P17=\"W\",P17=\"L\")),\"\",IF(HandicapPlay=\"x\",IF(P17=\"W\",10,-10),(IF(P17=\"W\",(VLOOKUP($C17,(TABLE!WIN),(MATCH(Q17,WINCOL,0)+1))),(VLOOKUP($C17,(TABLE!LOSE),(MATCH(Q17,LOSECOL,0)+1)))))))","v":""},null,{"$f":"IF(NOT(OR(R17=\"W\",R17=\"L\")),\"\",IF(HandicapPlay=\"x\",IF(R17=\"W\",10,-10),(IF(R17=\"W\",(VLOOKUP($C17,(TABLE!WIN),(MATCH(S17,WINCOL,0)+1))),(VLOOKUP($C17,(TABLE!LOSE),(MATCH(S17,LOSECOL,0)+1)))))))","v":""},null,{"$f":"IF(NOT(OR(T17=\"W\",T17=\"L\")),\"\",IF(HandicapPlay=\"x\",IF(T17=\"W\",10,-10),(IF(T17=\"W\",(VLOOKUP($C17,(TABLE!WIN),(MATCH(U17,WINCOL,0)+1))),(VLOOKUP($C17,(TABLE!LOSE),(MATCH(U17,LOSECOL,0)+1)))))))","v":""},null,{"$f":"IF(NOT(OR(V17=\"W\",V17=\"L\")),\"\",IF(HandicapPlay=\"x\",IF(V17=\"W\",10,-10),(IF(V17=\"W\",(VLOOKUP($C17,(TABLE!WIN),(MATCH(W17,WINCOL,0)+1))),(VLOOKUP($C17,(TABLE!LOSE),(MATCH(W17,LOSECOL,0)+1)))))))","v":""},null,{"$f":"IF(NOT(OR(X17=\"W\",X17=\"L\")),\"\",IF(HandicapPlay=\"x\",IF(X17=\"W\",10,-10),(IF(X17=\"W\",(VLOOKUP($C17,(TABLE!WIN),(MATCH(Y17,WINCOL,0)+1))),(VLOOKUP($C17,(TABLE!LOSE),(MATCH(Y17,LOSECOL,0)+1)))))))","v":""},null,{"$f":"SUM(D18:Y18)","v":0}]
[null,{"$f":"SCORECARD!D155","v":" Block 1 Player 8"},{"$f":"SCORECARD!I155","v":0},{"$f":"IF(SCORECARD!$I158>0,\"W\",(IF(SCORECARD!$I158<0,\"L\",\"\")))","v":""},{"$f":"SCORECARD!$F158","v":0},{"$f":"IF(SCORECARD!$I159>0,\"W\",(IF(SCORECARD!$I159<0,\"L\",\"\")))","v":""},{"$f":"SCORECARD!$F159","v":0},{"$f":"IF(SCORECARD!$I160>0,\"W\",(IF(SCORECARD!$I160<0,\"L\",\"\")))","v":""},{"$f":"SCORECARD!$F160","v":0},{"$f":"IF(SCORECARD!$I161>0,\"W\",(IF(SCORECARD!$I161<0,\"L\",\"\")))","v":""},{"$f":"SCORECARD!$F161","v":0},{"$f":"IF(SCORECARD!$I162>0,\"W\",(IF(SCORECARD!$I162<0,\"L\",\"\")))","v":""},{"$f":"SCORECARD!$F162","v":0},{"$f":"IF(SCORECARD!$I163>0,\"W\",(IF(SCORECARD!$I163<0,\"L\",\"\")))","v":""},{"$f":"SCORECARD!$F163","v":0},{"$f":"IF(SCORECARD!$I164>0,\"W\",(IF(SCORECARD!$I164<0,\"L\",\"\")))","v":""},{"$f":"SCORECARD!$F164","v":0},{"$f":"IF(SCORECARD!$I165>0,\"W\",(IF(SCORECARD!$I165<0,\"L\",\"\")))","v":""},{"$f":"SCORECARD!$F165","v":0},{"$f":"IF(SCORECARD!$I166>0,\"W\",(IF(SCORECARD!$I166<0,\"L\",\"\")))","v":""},{"$f":"SCORECARD!$F166","v":0},{"$f":"IF(SCORECARD!$I167>0,\"W\",(IF(SCORECARD!$I167<0,\"L\",\"\")))","v":""},{"$f":"SCORECARD!$F$167","v":0},{"$f":"IF(SCORECARD!$I168>0,\"W\",(IF(SCORECARD!$I168<0,\"L\",\"\")))","v":""},{"$f":"SCORECARD!$F$168","v":0}]
[null,null,null,{"$f":"IF(NOT(OR(D19=\"W\",D19=\"L\")),\"\",IF(HandicapPlay=\"x\",IF(D19=\"W\",10,-10),(IF(D19=\"W\",(VLOOKUP($C19,(TABLE!WIN),(MATCH(E19,WINCOL,0)+1))),(VLOOKUP($C19,(TABLE!LOSE),(MATCH(E19,LOSECOL,0)+1)))))))","v":""},null,{"$f":"IF(NOT(OR(F19=\"W\",F19=\"L\")),\"\",IF(HandicapPlay=\"x\",IF(F19=\"W\",10,-10),(IF(F19=\"W\",(VLOOKUP($C19,(TABLE!WIN),(MATCH(G19,WINCOL,0)+1))),(VLOOKUP($C19,(TABLE!LOSE),(MATCH(G19,LOSECOL,0)+1)))))))","v":""},null,{"$f":"IF(NOT(OR(H19=\"W\",H19=\"L\")),\"\",IF(HandicapPlay=\"x\",IF(H19=\"W\",10,-10),(IF(H19=\"W\",(VLOOKUP($C19,(TABLE!WIN),(MATCH(I19,WINCOL,0)+1))),(VLOOKUP($C19,(TABLE!LOSE),(MATCH(I19,LOSECOL,0)+1)))))))","v":""},null,{"$f":"IF(NOT(OR(J19=\"W\",J19=\"L\")),\"\",IF(HandicapPlay=\"x\",IF(J19=\"W\",10,-10),(IF(J19=\"W\",(VLOOKUP($C19,(TABLE!WIN),(MATCH(K19,WINCOL,0)+1))),(VLOOKUP($C19,(TABLE!LOSE),(MATCH(K19,LOSECOL,0)+1)))))))","v":""},null,{"$f":"IF(NOT(OR(L19=\"W\",L19=\"L\")),\"\",IF(HandicapPlay=\"x\",IF(L19=\"W\",10,-10),(IF(L19=\"W\",(VLOOKUP($C19,(TABLE!WIN),(MATCH(M19,WINCOL,0)+1))),(VLOOKUP($C19,(TABLE!LOSE),(MATCH(M19,LOSECOL,0)+1)))))))","v":""},null,{"$f":"IF(NOT(OR(N19=\"W\",N19=\"L\")),\"\",IF(HandicapPlay=\"x\",IF(N19=\"W\",10,-10),(IF(N19=\"W\",(VLOOKUP($C19,(TABLE!WIN),(MATCH(O19,WINCOL,0)+1))),(VLOOKUP($C19,(TABLE!LOSE),(MATCH(O19,LOSECOL,0)+1)))))))","v":""},null,{"$f":"IF(NOT(OR(P19=\"W\",P19=\"L\")),\"\",IF(HandicapPlay=\"x\",IF(P19=\"W\",10,-10),(IF(P19=\"W\",(VLOOKUP($C19,(TABLE!WIN),(MATCH(Q19,WINCOL,0)+1))),(VLOOKUP($C19,(TABLE!LOSE),(MATCH(Q19,LOSECOL,0)+1)))))))","v":""},null,{"$f":"IF(NOT(OR(R19=\"W\",R19=\"L\")),\"\",IF(HandicapPlay=\"x\",IF(R19=\"W\",10,-10),(IF(R19=\"W\",(VLOOKUP($C19,(TABLE!WIN),(MATCH(S19,WINCOL,0)+1))),(VLOOKUP($C19,(TABLE!LOSE),(MATCH(S19,LOSECOL,0)+1)))))))","v":""},null,{"$f":"IF(NOT(OR(T19=\"W\",T19=\"L\")),\"\",IF(HandicapPlay=\"x\",IF(T19=\"W\",10,-10),(IF(T19=\"W\",(VLOOKUP($C19,(TABLE!WIN),(MATCH(U19,WINCOL,0)+1))),(VLOOKUP($C19,(TABLE!LOSE),(MATCH(U19,LOSECOL,0)+1)))))))","v":""},null,{"$f":"IF(NOT(OR(V19=\"W\",V19=\"L\")),\"\",IF(HandicapPlay=\"x\",IF(V19=\"W\",10,-10),(IF(V19=\"W\",(VLOOKUP($C19,(TABLE!WIN),(MATCH(W19,WINCOL,0)+1))),(VLOOKUP($C19,(TABLE!LOSE),(MATCH(W19,LOSECOL,0)+1)))))))","v":""},null,{"$f":"IF(NOT(OR(X19=\"W\",X19=\"L\")),\"\",IF(HandicapPlay=\"x\",IF(X19=\"W\",10,-10),(IF(X19=\"W\",(VLOOKUP($C19,(TABLE!WIN),(MATCH(Y19,WINCOL,0)+1))),(VLOOKUP($C19,(TABLE!LOSE),(MATCH(Y19,LOSECOL,0)+1)))))))","v":""},null,{"$f":"SUM(D20:Y20)","v":0}]
[null,{"$f":"SCORECARD!D178","v":" Block 1 Player 9"},{"$f":"SCORECARD!I178","v":0},{"$f":"IF(SCORECARD!$I181>0,\"W\",(IF(SCORECARD!$I181<0,\"L\",\"\")))","v":""},{"$f":"SCORECARD!F181","v":0},{"$f":"IF(SCORECARD!$I182>0,\"W\",(IF(SCORECARD!$I182<0,\"L\",\"\")))","v":""},{"$f":"SCORECARD!F182","v":0},{"$f":"IF(SCORECARD!$I183>0,\"W\",(IF(SCORECARD!$I183<0,\"L\",\"\")))","v":""},{"$f":"SCORECARD!F183","v":0},{"$f":"IF(SCORECARD!$I184>0,\"W\",(IF(SCORECARD!$I184<0,\"L\",\"\")))","v":""},{"$f":"SCORECARD!F184","v":0},{"$f":"IF(SCORECARD!$I185>0,\"W\",(IF(SCORECARD!$I185<0,\"L\",\"\")))","v":""},{"$f":"SCORECARD!F185","v":0},{"$f":"IF(SCORECARD!$I186>0,\"W\",(IF(SCORECARD!$I186<0,\"L\",\"\")))","v":""},{"$f":"SCORECARD!F186","v":0},{"$f":"IF(SCORECARD!$I187>0,\"W\",(IF(SCORECARD!$I187<0,\"L\",\"\")))","v":""},{"$f":"SCORECARD!F187","v":0},{"$f":"IF(SCORECARD!$I188>0,\"W\",(IF(SCORECARD!$I188<0,\"L\",\"\")))","v":""},{"$f":"SCORECARD!F188","v":0},{"$f":"IF(SCORECARD!$I189>0,\"W\",(IF(SCORECARD!$I189<0,\"L\",\"\")))","v":""},{"$f":"SCORECARD!F189","v":0},{"$f":"IF(SCORECARD!$I190>0,\"W\",(IF(SCORECARD!$I190<0,\"L\",\"\")))","v":""},{"$f":"SCORECARD!$F$190","v":0},{"$f":"IF(SCORECARD!$I191>0,\"W\",(IF(SCORECARD!$I191<0,\"L\",\"\")))","v":""},{"$f":"SCORECARD!$F$191","v":0}]
[null,null,null,{"$f":"IF(NOT(OR(D21=\"W\",D21=\"L\")),\"\",IF(HandicapPlay=\"x\",IF(D21=\"W\",10,-10),(IF(D21=\"W\",(VLOOKUP($C21,(TABLE!WIN),(MATCH(E21,WINCOL,0)+1))),(VLOOKUP($C21,(TABLE!LOSE),(MATCH(E21,LOSECOL,0)+1)))))))","v":""},null,{"$f":"IF(NOT(OR(F21=\"W\",F21=\"L\")),\"\",IF(HandicapPlay=\"x\",IF(F21=\"W\",10,-10),(IF(F21=\"W\",(VLOOKUP($C21,(TABLE!WIN),(MATCH(G21,WINCOL,0)+1))),(VLOOKUP($C21,(TABLE!LOSE),(MATCH(G21,LOSECOL,0)+1)))))))","v":""},null,{"$f":"IF(NOT(OR(H21=\"W\",H21=\"L\")),\"\",IF(HandicapPlay=\"x\",IF(H21=\"W\",10,-10),(IF(H21=\"W\",(VLOOKUP($C21,(TABLE!WIN),(MATCH(I21,WINCOL,0)+1))),(VLOOKUP($C21,(TABLE!LOSE),(MATCH(I21,LOSECOL,0)+1)))))))","v":""},null,{"$f":"IF(NOT(OR(J21=\"W\",J21=\"L\")),\"\",IF(HandicapPlay=\"x\",IF(J21=\"W\",10,-10),(IF(J21=\"W\",(VLOOKUP($C21,(TABLE!WIN),(MATCH(K21,WINCOL,0)+1))),(VLOOKUP($C21,(TABLE!LOSE),(MATCH(K21,LOSECOL,0)+1)))))))","v":""},null,{"$f":"IF(NOT(OR(L21=\"W\",L21=\"L\")),\"\",IF(HandicapPlay=\"x\",IF(L21=\"W\",10,-10),(IF(L21=\"W\",(VLOOKUP($C21,(TABLE!WIN),(MATCH(M21,WINCOL,0)+1))),(VLOOKUP($C21,(TABLE!LOSE),(MATCH(M21,LOSECOL,0)+1)))))))","v":""},null,{"$f":"IF(NOT(OR(N21=\"W\",N21=\"L\")),\"\",IF(HandicapPlay=\"x\",IF(N21=\"W\",10,-10),(IF(N21=\"W\",(VLOOKUP($C21,(TABLE!WIN),(MATCH(O21,WINCOL,0)+1))),(VLOOKUP($C21,(TABLE!LOSE),(MATCH(O21,LOSECOL,0)+1)))))))","v":""},null,{"$f":"IF(NOT(OR(P21=\"W\",P21=\"L\")),\"\",IF(HandicapPlay=\"x\",IF(P21=\"W\",10,-10),(IF(P21=\"W\",(VLOOKUP($C21,(TABLE!WIN),(MATCH(Q21,WINCOL,0)+1))),(VLOOKUP($C21,(TABLE!LOSE),(MATCH(Q21,LOSECOL,0)+1)))))))","v":""},null,{"$f":"IF(NOT(OR(R21=\"W\",R21=\"L\")),\"\",IF(HandicapPlay=\"x\",IF(R21=\"W\",10,-10),(IF(R21=\"W\",(VLOOKUP($C21,(TABLE!WIN),(MATCH(S21,WINCOL,0)+1))),(VLOOKUP($C21,(TABLE!LOSE),(MATCH(S21,LOSECOL,0)+1)))))))","v":""},null,{"$f":"IF(NOT(OR(T21=\"W\",T21=\"L\")),\"\",IF(HandicapPlay=\"x\",IF(T21=\"W\",10,-10),(IF(T21=\"W\",(VLOOKUP($C21,(TABLE!WIN),(MATCH(U21,WINCOL,0)+1))),(VLOOKUP($C21,(TABLE!LOSE),(MATCH(U21,LOSECOL,0)+1)))))))","v":""},null,{"$f":"IF(NOT(OR(V21=\"W\",V21=\"L\")),\"\",IF(HandicapPlay=\"x\",IF(V21=\"W\",10,-10),(IF(V21=\"W\",(VLOOKUP($C21,(TABLE!WIN),(MATCH(W21,WINCOL,0)+1))),(VLOOKUP($C21,(TABLE!LOSE),(MATCH(W21,LOSECOL,0)+1)))))))","v":""},null,{"$f":"IF(NOT(OR(X21=\"W\",X21=\"L\")),\"\",IF(HandicapPlay=\"x\",IF(X21=\"W\",10,-10),(IF(X21=\"W\",(VLOOKUP($C21,(TABLE!WIN),(MATCH(Y21,WINCOL,0)+1))),(VLOOKUP($C21,(TABLE!LOSE),(MATCH(Y21,LOSECOL,0)+1)))))))","v":""},null,{"$f":"SUM(D22:Y22)","v":0}]
[null,{"$f":"SCORECARD!D198","v":" Block 1 Player 10"},{"$f":"SCORECARD!I198","v":0},{"$f":"IF(SCORECARD!$I201>0,\"W\",(IF(SCORECARD!$I201<0,\"L\",\"\")))","v":""},{"$f":"SCORECARD!F201","v":0},{"$f":"IF(SCORECARD!$I202>0,\"W\",(IF(SCORECARD!$I202<0,\"L\",\"\")))","v":""},{"$f":"SCORECARD!F202","v":0},{"$f":"IF(SCORECARD!$I203>0,\"W\",(IF(SCORECARD!$I203<0,\"L\",\"\")))","v":""},{"$f":"SCORECARD!F203","v":0},{"$f":"IF(SCORECARD!$I204>0,\"W\",(IF(SCORECARD!$I204<0,\"L\",\"\")))","v":""},{"$f":"SCORECARD!F204","v":0},{"$f":"IF(SCORECARD!$I205>0,\"W\",(IF(SCORECARD!$I205<0,\"L\",\"\")))","v":""},{"$f":"SCORECARD!F205","v":0},{"$f":"IF(SCORECARD!$I206>0,\"W\",(IF(SCORECARD!$I206<0,\"L\",\"\")))","v":""},{"$f":"SCORECARD!F206","v":0},{"$f":"IF(SCORECARD!$I207>0,\"W\",(IF(SCORECARD!$I207<0,\"L\",\"\")))","v":""},{"$f":"SCORECARD!F207","v":0},{"$f":"IF(SCORECARD!$I208>0,\"W\",(IF(SCORECARD!$I208<0,\"L\",\"\")))","v":""},{"$f":"SCORECARD!F208","v":0},{"$f":"IF(SCORECARD!$I209>0,\"W\",(IF(SCORECARD!$I209<0,\"L\",\"\")))","v":""},{"$f":"SCORECARD!F209","v":0},{"$f":"IF(SCORECARD!$I210>0,\"W\",(IF(SCORECARD!$I210<0,\"L\",\"\")))","v":""},{"$f":"SCORECARD!$F$210","v":0},{"$f":"IF(SCORECARD!$I211>0,\"W\",(IF(SCORECARD!$I211<0,\"L\",\"\")))","v":""},{"$f":"SCORECARD!$F$211","v":0}]
[null,null,null,{"$f":"IF(NOT(OR(D23=\"W\",D23=\"L\")),\"\",IF(HandicapPlay=\"x\",IF(D23=\"W\",10,-10),(IF(D23=\"W\",(VLOOKUP($C23,(TABLE!WIN),(MATCH(E23,WINCOL,0)+1))),(VLOOKUP($C23,(TABLE!LOSE),(MATCH(E23,LOSECOL,0)+1)))))))","v":""},null,{"$f":"IF(NOT(OR(F23=\"W\",F23=\"L\")),\"\",IF(HandicapPlay=\"x\",IF(F23=\"W\",10,-10),(IF(F23=\"W\",(VLOOKUP($C23,(TABLE!WIN),(MATCH(G23,WINCOL,0)+1))),(VLOOKUP($C23,(TABLE!LOSE),(MATCH(G23,LOSECOL,0)+1)))))))","v":""},null,{"$f":"IF(NOT(OR(H23=\"W\",H23=\"L\")),\"\",IF(HandicapPlay=\"x\",IF(H23=\"W\",10,-10),(IF(H23=\"W\",(VLOOKUP($C23,(TABLE!WIN),(MATCH(I23,WINCOL,0)+1))),(VLOOKUP($C23,(TABLE!LOSE),(MATCH(I23,LOSECOL,0)+1)))))))","v":""},null,{"$f":"IF(NOT(OR(J23=\"W\",J23=\"L\")),\"\",IF(HandicapPlay=\"x\",IF(J23=\"W\",10,-10),(IF(J23=\"W\",(VLOOKUP($C23,(TABLE!WIN),(MATCH(K23,WINCOL,0)+1))),(VLOOKUP($C23,(TABLE!LOSE),(MATCH(K23,LOSECOL,0)+1)))))))","v":""},null,{"$f":"IF(NOT(OR(L23=\"W\",L23=\"L\")),\"\",IF(HandicapPlay=\"x\",IF(L23=\"W\",10,-10),(IF(L23=\"W\",(VLOOKUP($C23,(TABLE!WIN),(MATCH(M23,WINCOL,0)+1))),(VLOOKUP($C23,(TABLE!LOSE),(MATCH(M23,LOSECOL,0)+1)))))))","v":""},null,{"$f":"IF(NOT(OR(N23=\"W\",N23=\"L\")),\"\",IF(HandicapPlay=\"x\",IF(N23=\"W\",10,-10),(IF(N23=\"W\",(VLOOKUP($C23,(TABLE!WIN),(MATCH(O23,WINCOL,0)+1))),(VLOOKUP($C23,(TABLE!LOSE),(MATCH(O23,LOSECOL,0)+1)))))))","v":""},null,{"$f":"IF(NOT(OR(P23=\"W\",P23=\"L\")),\"\",IF(HandicapPlay=\"x\",IF(P23=\"W\",10,-10),(IF(P23=\"W\",(VLOOKUP($C23,(TABLE!WIN),(MATCH(Q23,WINCOL,0)+1))),(VLOOKUP($C23,(TABLE!LOSE),(MATCH(Q23,LOSECOL,0)+1)))))))","v":""},null,{"$f":"IF(NOT(OR(R23=\"W\",R23=\"L\")),\"\",IF(HandicapPlay=\"x\",IF(R23=\"W\",10,-10),(IF(R23=\"W\",(VLOOKUP($C23,(TABLE!WIN),(MATCH(S23,WINCOL,0)+1))),(VLOOKUP($C23,(TABLE!LOSE),(MATCH(S23,LOSECOL,0)+1)))))))","v":""},null,{"$f":"IF(NOT(OR(T23=\"W\",T23=\"L\")),\"\",IF(HandicapPlay=\"x\",IF(T23=\"W\",10,-10),(IF(T23=\"W\",(VLOOKUP($C23,(TABLE!WIN),(MATCH(U23,WINCOL,0)+1))),(VLOOKUP($C23,(TABLE!LOSE),(MATCH(U23,LOSECOL,0)+1)))))))","v":""},null,{"$f":"IF(NOT(OR(V23=\"W\",V23=\"L\")),\"\",IF(HandicapPlay=\"x\",IF(V23=\"W\",10,-10),(IF(V23=\"W\",(VLOOKUP($C23,(TABLE!WIN),(MATCH(W23,WINCOL,0)+1))),(VLOOKUP($C23,(TABLE!LOSE),(MATCH(W23,LOSECOL,0)+1)))))))","v":""},null,{"$f":"IF(NOT(OR(X23=\"W\",X23=\"L\")),\"\",IF(HandicapPlay=\"x\",IF(X23=\"W\",10,-10),(IF(X23=\"W\",(VLOOKUP($C23,(TABLE!WIN),(MATCH(Y23,WINCOL,0)+1))),(VLOOKUP($C23,(TABLE!LOSE),(MATCH(Y23,LOSECOL,0)+1)))))))","v":""},null,{"$f":"SUM(D24:Y24)","v":0}]
[null,{"$f":"SCORECARD!$D$221","v":" Block 1 Player 11"},{"$f":"SCORECARD!$I$221","v":0},{"$f":"IF(SCORECARD!$I224>0,\"W\",(IF(SCORECARD!$I224<0,\"L\",\"\")))","v":""},{"$f":"SCORECARD!$F$224","v":0},{"$f":"IF(SCORECARD!$I225>0,\"W\",(IF(SCORECARD!$I225<0,\"L\",\"\")))","v":""},{"$f":"SCORECARD!$F$225","v":0},{"$f":"IF(SCORECARD!$I226>0,\"W\",(IF(SCORECARD!$I226<0,\"L\",\"\")))","v":""},{"$f":"SCORECARD!$F$226","v":0},{"$f":"IF(SCORECARD!$I227>0,\"W\",(IF(SCORECARD!$I227<0,\"L\",\"\")))","v":""},{"$f":"SCORECARD!$F$227","v":0},{"$f":"IF(SCORECARD!$I228>0,\"W\",(IF(SCORECARD!$I228<0,\"L\",\"\")))","v":""},{"$f":"SCORECARD!$F$228","v":0},{"$f":"IF(SCORECARD!$I229>0,\"W\",(IF(SCORECARD!$I229<0,\"L\",\"\")))","v":""},{"$f":"SCORECARD!$F$229","v":0},{"$f":"IF(SCORECARD!$I230>0,\"W\",(IF(SCORECARD!$I230<0,\"L\",\"\")))","v":""},{"$f":"SCORECARD!$F$230","v":0},{"$f":"IF(SCORECARD!$I231>0,\"W\",(IF(SCORECARD!$I231<0,\"L\",\"\")))","v":""},{"$f":"SCORECARD!$F$231","v":0},{"$f":"IF(SCORECARD!$I232>0,\"W\",(IF(SCORECARD!$I232<0,\"L\",\"\")))","v":""},{"$f":"SCORECARD!$F$232","v":0},{"$f":"IF(SCORECARD!$I233>0,\"W\",(IF(SCORECARD!$I233<0,\"L\",\"\")))","v":""},{"$f":"SCORECARD!$F$233","v":0},{"$f":"IF(SCORECARD!$I234>0,\"W\",(IF(SCORECARD!$I234<0,\"L\",\"\")))","v":""},{"$f":"SCORECARD!$F$234","v":0}]
[null,null,null,{"$f":"IF(NOT(OR(D25=\"W\",D25=\"L\")),\"\",IF(HandicapPlay=\"x\",IF(D25=\"W\",10,-10),(IF(D25=\"W\",(VLOOKUP($C25,(TABLE!WIN),(MATCH(E25,WINCOL,0)+1))),(VLOOKUP($C25,(TABLE!LOSE),(MATCH(E25,LOSECOL,0)+1)))))))","v":""},null,{"$f":"IF(NOT(OR(F25=\"W\",F25=\"L\")),\"\",IF(HandicapPlay=\"x\",IF(F25=\"W\",10,-10),(IF(F25=\"W\",(VLOOKUP($C25,(TABLE!WIN),(MATCH(G25,WINCOL,0)+1))),(VLOOKUP($C25,(TABLE!LOSE),(MATCH(G25,LOSECOL,0)+1)))))))","v":""},null,{"$f":"IF(NOT(OR(H25=\"W\",H25=\"L\")),\"\",IF(HandicapPlay=\"x\",IF(H25=\"W\",10,-10),(IF(H25=\"W\",(VLOOKUP($C25,(TABLE!WIN),(MATCH(I25,WINCOL,0)+1))),(VLOOKUP($C25,(TABLE!LOSE),(MATCH(I25,LOSECOL,0)+1)))))))","v":""},null,{"$f":"IF(NOT(OR(J25=\"W\",J25=\"L\")),\"\",IF(HandicapPlay=\"x\",IF(J25=\"W\",10,-10),(IF(J25=\"W\",(VLOOKUP($C25,(TABLE!WIN),(MATCH(K25,WINCOL,0)+1))),(VLOOKUP($C25,(TABLE!LOSE),(MATCH(K25,LOSECOL,0)+1)))))))","v":""},null,{"$f":"IF(NOT(OR(L25=\"W\",L25=\"L\")),\"\",IF(HandicapPlay=\"x\",IF(L25=\"W\",10,-10),(IF(L25=\"W\",(VLOOKUP($C25,(TABLE!WIN),(MATCH(M25,WINCOL,0)+1))),(VLOOKUP($C25,(TABLE!LOSE),(MATCH(M25,LOSECOL,0)+1)))))))","v":""},null,{"$f":"IF(NOT(OR(N25=\"W\",N25=\"L\")),\"\",IF(HandicapPlay=\"x\",IF(N25=\"W\",10,-10),(IF(N25=\"W\",(VLOOKUP($C25,(TABLE!WIN),(MATCH(O25,WINCOL,0)+1))),(VLOOKUP($C25,(TABLE!LOSE),(MATCH(O25,LOSECOL,0)+1)))))))","v":""},null,{"$f":"IF(NOT(OR(P25=\"W\",P25=\"L\")),\"\",IF(HandicapPlay=\"x\",IF(P25=\"W\",10,-10),(IF(P25=\"W\",(VLOOKUP($C25,(TABLE!WIN),(MATCH(Q25,WINCOL,0)+1))),(VLOOKUP($C25,(TABLE!LOSE),(MATCH(Q25,LOSECOL,0)+1)))))))","v":""},null,{"$f":"IF(NOT(OR(R25=\"W\",R25=\"L\")),\"\",IF(HandicapPlay=\"x\",IF(R25=\"W\",10,-10),(IF(R25=\"W\",(VLOOKUP($C25,(TABLE!WIN),(MATCH(S25,WINCOL,0)+1))),(VLOOKUP($C25,(TABLE!LOSE),(MATCH(S25,LOSECOL,0)+1)))))))","v":""},null,{"$f":"IF(NOT(OR(T25=\"W\",T25=\"L\")),\"\",IF(HandicapPlay=\"x\",IF(T25=\"W\",10,-10),(IF(T25=\"W\",(VLOOKUP($C25,(TABLE!WIN),(MATCH(U25,WINCOL,0)+1))),(VLOOKUP($C25,(TABLE!LOSE),(MATCH(U25,LOSECOL,0)+1)))))))","v":""},null,{"$f":"IF(NOT(OR(V25=\"W\",V25=\"L\")),\"\",IF(HandicapPlay=\"x\",IF(V25=\"W\",10,-10),(IF(V25=\"W\",(VLOOKUP($C25,(TABLE!WIN),(MATCH(W25,WINCOL,0)+1))),(VLOOKUP($C25,(TABLE!LOSE),(MATCH(W25,LOSECOL,0)+1)))))))","v":""},null,{"$f":"IF(NOT(OR(X25=\"W\",X25=\"L\")),\"\",IF(HandicapPlay=\"x\",IF(X25=\"W\",10,-10),(IF(X25=\"W\",(VLOOKUP($C25,(TABLE!WIN),(MATCH(Y25,WINCOL,0)+1))),(VLOOKUP($C25,(TABLE!LOSE),(MATCH(Y25,LOSECOL,0)+1)))))))","v":""},null,{"$f":"SUM(D26:Y26)","v":0}]
[null,{"$f":"SCORECARD!$D$241","v":" Block 1 Player 12"},{"$f":"SCORECARD!$I$241","v":0},{"$f":"IF(SCORECARD!$I244>0,\"W\",(IF(SCORECARD!$I244<0,\"L\",\"\")))","v":""},{"$f":"SCORECARD!$F$244","v":0},{"$f":"IF(SCORECARD!$I245>0,\"W\",(IF(SCORECARD!$I245<0,\"L\",\"\")))","v":""},{"$f":"SCORECARD!$F$245","v":0},{"$f":"IF(SCORECARD!$I246>0,\"W\",(IF(SCORECARD!$I246<0,\"L\",\"\")))","v":""},{"$f":"SCORECARD!$F$246","v":0},{"$f":"IF(SCORECARD!$I247>0,\"W\",(IF(SCORECARD!$I247<0,\"L\",\"\")))","v":""},{"$f":"SCORECARD!$F$247","v":0},{"$f":"IF(SCORECARD!$I248>0,\"W\",(IF(SCORECARD!$I248<0,\"L\",\"\")))","v":""},{"$f":"SCORECARD!$F$248","v":0},{"$f":"IF(SCORECARD!$I249>0,\"W\",(IF(SCORECARD!$I249<0,\"L\",\"\")))","v":""},{"$f":"SCORECARD!$F$249","v":0},{"$f":"IF(SCORECARD!$I250>0,\"W\",(IF(SCORECARD!$I250<0,\"L\",\"\")))","v":""},{"$f":"SCORECARD!$F$250","v":0},{"$f":"IF(SCORECARD!$I251>0,\"W\",(IF(SCORECARD!$I251<0,\"L\",\"\")))","v":""},{"$f":"SCORECARD!$F$251","v":0},{"$f":"IF(SCORECARD!$I252>0,\"W\",(IF(SCORECARD!$I252<0,\"L\",\"\")))","v":""},{"$f":"SCORECARD!$F$252","v":0},{"$f":"IF(SCORECARD!$I253>0,\"W\",(IF(SCORECARD!$I253<0,\"L\",\"\")))","v":""},{"$f":"SCORECARD!$F$253","v":0},{"$f":"IF(SCORECARD!$I254>0,\"W\",(IF(SCORECARD!$I254<0,\"L\",\"\")))","v":""},{"$f":"SCORECARD!$F$254","v":0}]
[null,null,null,{"$f":"IF(NOT(OR(D27=\"W\",D27=\"L\")),\"\",IF(HandicapPlay=\"x\",IF(D27=\"W\",10,-10),(IF(D27=\"W\",(VLOOKUP($C27,(TABLE!WIN),(MATCH(E27,WINCOL,0)+1))),(VLOOKUP($C27,(TABLE!LOSE),(MATCH(E27,LOSECOL,0)+1)))))))","v":""},null,{"$f":"IF(NOT(OR(F27=\"W\",F27=\"L\")),\"\",IF(HandicapPlay=\"x\",IF(F27=\"W\",10,-10),(IF(F27=\"W\",(VLOOKUP($C27,(TABLE!WIN),(MATCH(G27,WINCOL,0)+1))),(VLOOKUP($C27,(TABLE!LOSE),(MATCH(G27,LOSECOL,0)+1)))))))","v":""},null,{"$f":"IF(NOT(OR(H27=\"W\",H27=\"L\")),\"\",IF(HandicapPlay=\"x\",IF(H27=\"W\",10,-10),(IF(H27=\"W\",(VLOOKUP($C27,(TABLE!WIN),(MATCH(I27,WINCOL,0)+1))),(VLOOKUP($C27,(TABLE!LOSE),(MATCH(I27,LOSECOL,0)+1)))))))","v":""},null,{"$f":"IF(NOT(OR(J27=\"W\",J27=\"L\")),\"\",IF(HandicapPlay=\"x\",IF(J27=\"W\",10,-10),(IF(J27=\"W\",(VLOOKUP($C27,(TABLE!WIN),(MATCH(K27,WINCOL,0)+1))),(VLOOKUP($C27,(TABLE!LOSE),(MATCH(K27,LOSECOL,0)+1)))))))","v":""},null,{"$f":"IF(NOT(OR(L27=\"W\",L27=\"L\")),\"\",IF(HandicapPlay=\"x\",IF(L27=\"W\",10,-10),(IF(L27=\"W\",(VLOOKUP($C27,(TABLE!WIN),(MATCH(M27,WINCOL,0)+1))),(VLOOKUP($C27,(TABLE!LOSE),(MATCH(M27,LOSECOL,0)+1)))))))","v":""},null,{"$f":"IF(NOT(OR(N27=\"W\",N27=\"L\")),\"\",IF(HandicapPlay=\"x\",IF(N27=\"W\",10,-10),(IF(N27=\"W\",(VLOOKUP($C27,(TABLE!WIN),(MATCH(O27,WINCOL,0)+1))),(VLOOKUP($C27,(TABLE!LOSE),(MATCH(O27,LOSECOL,0)+1)))))))","v":""},null,{"$f":"IF(NOT(OR(P27=\"W\",P27=\"L\")),\"\",IF(HandicapPlay=\"x\",IF(P27=\"W\",10,-10),(IF(P27=\"W\",(VLOOKUP($C27,(TABLE!WIN),(MATCH(Q27,WINCOL,0)+1))),(VLOOKUP($C27,(TABLE!LOSE),(MATCH(Q27,LOSECOL,0)+1)))))))","v":""},null,{"$f":"IF(NOT(OR(R27=\"W\",R27=\"L\")),\"\",IF(HandicapPlay=\"x\",IF(R27=\"W\",10,-10),(IF(R27=\"W\",(VLOOKUP($C27,(TABLE!WIN),(MATCH(S27,WINCOL,0)+1))),(VLOOKUP($C27,(TABLE!LOSE),(MATCH(S27,LOSECOL,0)+1)))))))","v":""},null,{"$f":"IF(NOT(OR(T27=\"W\",T27=\"L\")),\"\",IF(HandicapPlay=\"x\",IF(T27=\"W\",10,-10),(IF(T27=\"W\",(VLOOKUP($C27,(TABLE!WIN),(MATCH(U27,WINCOL,0)+1))),(VLOOKUP($C27,(TABLE!LOSE),(MATCH(U27,LOSECOL,0)+1)))))))","v":""},null,{"$f":"IF(NOT(OR(V27=\"W\",V27=\"L\")),\"\",IF(HandicapPlay=\"x\",IF(V27=\"W\",10,-10),(IF(V27=\"W\",(VLOOKUP($C27,(TABLE!WIN),(MATCH(W27,WINCOL,0)+1))),(VLOOKUP($C27,(TABLE!LOSE),(MATCH(W27,LOSECOL,0)+1)))))))","v":""},null,{"$f":"IF(NOT(OR(X27=\"W\",X27=\"L\")),\"\",IF(HandicapPlay=\"x\",IF(X27=\"W\",10,-10),(IF(X27=\"W\",(VLOOKUP($C27,(TABLE!WIN),(MATCH(Y27,WINCOL,0)+1))),(VLOOKUP($C27,(TABLE!LOSE),(MATCH(Y27,LOSECOL,0)+1)))))))","v":""},null,{"$f":"SUM(D28:Y28)","v":0}]
[null,{"$f":"SCORECARD!D265","v":" Block 2 Player 1"},{"$f":"SCORECARD!I265","v":0},{"$f":"IF(SCORECARD!$I268>0,\"W\",(IF(SCORECARD!$I268<0,\"L\",\"\")))","v":""},{"$f":"SCORECARD!F268","v":0},{"$f":"IF(SCORECARD!$I269>0,\"W\",(IF(SCORECARD!$I269<0,\"L\",\"\")))","v":""},{"$f":"SCORECARD!F269","v":0},{"$f":"IF(SCORECARD!$I270>0,\"W\",(IF(SCORECARD!$I270<0,\"L\",\"\")))","v":""},{"$f":"SCORECARD!F270","v":0},{"$f":"IF(SCORECARD!$I271>0,\"W\",(IF(SCORECARD!$I271<0,\"L\",\"\")))","v":""},{"$f":"SCORECARD!F271","v":0},{"$f":"IF(SCORECARD!$I272>0,\"W\",(IF(SCORECARD!$I272<0,\"L\",\"\")))","v":""},{"$f":"SCORECARD!F272","v":0},{"$f":"IF(SCORECARD!$I273>0,\"W\",(IF(SCORECARD!$I273<0,\"L\",\"\")))","v":""},{"$f":"SCORECARD!F273","v":0},{"$f":"IF(SCORECARD!$I274>0,\"W\",(IF(SCORECARD!$I274<0,\"L\",\"\")))","v":""},{"$f":"SCORECARD!F274","v":0},{"$f":"IF(SCORECARD!$I275>0,\"W\",(IF(SCORECARD!$I275<0,\"L\",\"\")))","v":""},{"$f":"SCORECARD!F275","v":0},{"$f":"IF(SCORECARD!$I276>0,\"W\",(IF(SCORECARD!$I276<0,\"L\",\"\")))","v":""},{"$f":"SCORECARD!F276","v":0},{"$f":"IF(SCORECARD!$I277>0,\"W\",(IF(SCORECARD!$I277<0,\"L\",\"\")))","v":""},{"$f":"SCORECARD!F277","v":0},{"$f":"IF(SCORECARD!$I278>0,\"W\",(IF(SCORECARD!$I278<0,\"L\",\"\")))","v":""},{"$f":"SCORECARD!F278","v":0}]
[null,null,null,{"$f":"IF(NOT(OR(D29=\"W\",D29=\"L\")),\"\",IF(HandicapPlay=\"x\",IF(D29=\"W\",10,-10),(IF(D29=\"W\",(VLOOKUP($C29,(TABLE!WIN),(MATCH(E29,WINCOL,0)+1))),(VLOOKUP($C29,(TABLE!LOSE),(MATCH(E29,LOSECOL,0)+1)))))))","v":""},null,{"$f":"IF(NOT(OR(F29=\"W\",F29=\"L\")),\"\",IF(HandicapPlay=\"x\",IF(F29=\"W\",10,-10),(IF(F29=\"W\",(VLOOKUP($C29,(TABLE!WIN),(MATCH(G29,WINCOL,0)+1))),(VLOOKUP($C29,(TABLE!LOSE),(MATCH(G29,LOSECOL,0)+1)))))))","v":""},null,{"$f":"IF(NOT(OR(H29=\"W\",H29=\"L\")),\"\",IF(HandicapPlay=\"x\",IF(H29=\"W\",10,-10),(IF(H29=\"W\",(VLOOKUP($C29,(TABLE!WIN),(MATCH(I29,WINCOL,0)+1))),(VLOOKUP($C29,(TABLE!LOSE),(MATCH(I29,LOSECOL,0)+1)))))))","v":""},null,{"$f":"IF(NOT(OR(J29=\"W\",J29=\"L\")),\"\",IF(HandicapPlay=\"x\",IF(J29=\"W\",10,-10),(IF(J29=\"W\",(VLOOKUP($C29,(TABLE!WIN),(MATCH(K29,WINCOL,0)+1))),(VLOOKUP($C29,(TABLE!LOSE),(MATCH(K29,LOSECOL,0)+1)))))))","v":""},null,{"$f":"IF(NOT(OR(L29=\"W\",L29=\"L\")),\"\",IF(HandicapPlay=\"x\",IF(L29=\"W\",10,-10),(IF(L29=\"W\",(VLOOKUP($C29,(TABLE!WIN),(MATCH(M29,WINCOL,0)+1))),(VLOOKUP($C29,(TABLE!LOSE),(MATCH(M29,LOSECOL,0)+1)))))))","v":""},null,{"$f":"IF(NOT(OR(N29=\"W\",N29=\"L\")),\"\",IF(HandicapPlay=\"x\",IF(N29=\"W\",10,-10),(IF(N29=\"W\",(VLOOKUP($C29,(TABLE!WIN),(MATCH(O29,WINCOL,0)+1))),(VLOOKUP($C29,(TABLE!LOSE),(MATCH(O29,LOSECOL,0)+1)))))))","v":""},null,{"$f":"IF(NOT(OR(P29=\"W\",P29=\"L\")),\"\",IF(HandicapPlay=\"x\",IF(P29=\"W\",10,-10),(IF(P29=\"W\",(VLOOKUP($C29,(TABLE!WIN),(MATCH(Q29,WINCOL,0)+1))),(VLOOKUP($C29,(TABLE!LOSE),(MATCH(Q29,LOSECOL,0)+1)))))))","v":""},null,{"$f":"IF(NOT(OR(R29=\"W\",R29=\"L\")),\"\",IF(HandicapPlay=\"x\",IF(R29=\"W\",10,-10),(IF(R29=\"W\",(VLOOKUP($C29,(TABLE!WIN),(MATCH(S29,WINCOL,0)+1))),(VLOOKUP($C29,(TABLE!LOSE),(MATCH(S29,LOSECOL,0)+1)))))))","v":""},null,{"$f":"IF(NOT(OR(T29=\"W\",T29=\"L\")),\"\",IF(HandicapPlay=\"x\",IF(T29=\"W\",10,-10),(IF(T29=\"W\",(VLOOKUP($C29,(TABLE!WIN),(MATCH(U29,WINCOL,0)+1))),(VLOOKUP($C29,(TABLE!LOSE),(MATCH(U29,LOSECOL,0)+1)))))))","v":""},null,{"$f":"IF(NOT(OR(V29=\"W\",V29=\"L\")),\"\",IF(HandicapPlay=\"x\",IF(V29=\"W\",10,-10),(IF(V29=\"W\",(VLOOKUP($C29,(TABLE!WIN),(MATCH(W29,WINCOL,0)+1))),(VLOOKUP($C29,(TABLE!LOSE),(MATCH(W29,LOSECOL,0)+1)))))))","v":""},null,{"$f":"IF(NOT(OR(X29=\"W\",X29=\"L\")),\"\",IF(HandicapPlay=\"x\",IF(X29=\"W\",10,-10),(IF(X29=\"W\",(VLOOKUP($C29,(TABLE!WIN),(MATCH(Y29,WINCOL,0)+1))),(VLOOKUP($C29,(TABLE!LOSE),(MATCH(Y29,LOSECOL,0)+1)))))))","v":""},null,{"$f":"SUM(D30:Y30)","v":0}]
[null,{"$f":"SCORECARD!D285","v":" Block 2 Player 2"},{"$f":"SCORECARD!I285","v":0},{"$f":"IF(SCORECARD!$I288>0,\"W\",(IF(SCORECARD!$I288<0,\"L\",\"\")))","v":""},{"$f":"SCORECARD!F288","v":0},{"$f":"IF(SCORECARD!$I289>0,\"W\",(IF(SCORECARD!$I289<0,\"L\",\"\")))","v":""},{"$f":"SCORECARD!F289","v":0},{"$f":"IF(SCORECARD!$I290>0,\"W\",(IF(SCORECARD!$I290<0,\"L\",\"\")))","v":""},{"$f":"SCORECARD!F290","v":0},{"$f":"IF(SCORECARD!$I291>0,\"W\",(IF(SCORECARD!$I291<0,\"L\",\"\")))","v":""},{"$f":"SCORECARD!F291","v":0},{"$f":"IF(SCORECARD!$I292>0,\"W\",(IF(SCORECARD!$I292<0,\"L\",\"\")))","v":""},{"$f":"SCORECARD!F292","v":0},{"$f":"IF(SCORECARD!$I293>0,\"W\",(IF(SCORECARD!$I293<0,\"L\",\"\")))","v":""},{"$f":"SCORECARD!F293","v":0},{"$f":"IF(SCORECARD!$I294>0,\"W\",(IF(SCORECARD!$I294<0,\"L\",\"\")))","v":""},{"$f":"SCORECARD!F294","v":0},{"$f":"IF(SCORECARD!$I295>0,\"W\",(IF(SCORECARD!$I295<0,\"L\",\"\")))","v":""},{"$f":"SCORECARD!F295","v":0},{"$f":"IF(SCORECARD!$I296>0,\"W\",(IF(SCORECARD!$I296<0,\"L\",\"\")))","v":""},{"$f":"SCORECARD!F296","v":0},{"$f":"IF(SCORECARD!$I297>0,\"W\",(IF(SCORECARD!$I297<0,\"L\",\"\")))","v":""},{"$f":"SCORECARD!F297","v":0},{"$f":"IF(SCORECARD!$I298>0,\"W\",(IF(SCORECARD!$I298<0,\"L\",\"\")))","v":""},{"$f":"SCORECARD!F298","v":0}]
[null,null,null,{"$f":"IF(NOT(OR(D31=\"W\",D31=\"L\")),\"\",IF(HandicapPlay=\"x\",IF(D31=\"W\",10,-10),(IF(D31=\"W\",(VLOOKUP($C31,(TABLE!WIN),(MATCH(E31,WINCOL,0)+1))),(VLOOKUP($C31,(TABLE!LOSE),(MATCH(E31,LOSECOL,0)+1)))))))","v":""},null,{"$f":"IF(NOT(OR(F31=\"W\",F31=\"L\")),\"\",IF(HandicapPlay=\"x\",IF(F31=\"W\",10,-10),(IF(F31=\"W\",(VLOOKUP($C31,(TABLE!WIN),(MATCH(G31,WINCOL,0)+1))),(VLOOKUP($C31,(TABLE!LOSE),(MATCH(G31,LOSECOL,0)+1)))))))","v":""},null,{"$f":"IF(NOT(OR(H31=\"W\",H31=\"L\")),\"\",IF(HandicapPlay=\"x\",IF(H31=\"W\",10,-10),(IF(H31=\"W\",(VLOOKUP($C31,(TABLE!WIN),(MATCH(I31,WINCOL,0)+1))),(VLOOKUP($C31,(TABLE!LOSE),(MATCH(I31,LOSECOL,0)+1)))))))","v":""},null,{"$f":"IF(NOT(OR(J31=\"W\",J31=\"L\")),\"\",IF(HandicapPlay=\"x\",IF(J31=\"W\",10,-10),(IF(J31=\"W\",(VLOOKUP($C31,(TABLE!WIN),(MATCH(K31,WINCOL,0)+1))),(VLOOKUP($C31,(TABLE!LOSE),(MATCH(K31,LOSECOL,0)+1)))))))","v":""},null,{"$f":"IF(NOT(OR(L31=\"W\",L31=\"L\")),\"\",IF(HandicapPlay=\"x\",IF(L31=\"W\",10,-10),(IF(L31=\"W\",(VLOOKUP($C31,(TABLE!WIN),(MATCH(M31,WINCOL,0)+1))),(VLOOKUP($C31,(TABLE!LOSE),(MATCH(M31,LOSECOL,0)+1)))))))","v":""},null,{"$f":"IF(NOT(OR(N31=\"W\",N31=\"L\")),\"\",IF(HandicapPlay=\"x\",IF(N31=\"W\",10,-10),(IF(N31=\"W\",(VLOOKUP($C31,(TABLE!WIN),(MATCH(O31,WINCOL,0)+1))),(VLOOKUP($C31,(TABLE!LOSE),(MATCH(O31,LOSECOL,0)+1)))))))","v":""},null,{"$f":"IF(NOT(OR(P31=\"W\",P31=\"L\")),\"\",IF(HandicapPlay=\"x\",IF(P31=\"W\",10,-10),(IF(P31=\"W\",(VLOOKUP($C31,(TABLE!WIN),(MATCH(Q31,WINCOL,0)+1))),(VLOOKUP($C31,(TABLE!LOSE),(MATCH(Q31,LOSECOL,0)+1)))))))","v":""},null,{"$f":"IF(NOT(OR(R31=\"W\",R31=\"L\")),\"\",IF(HandicapPlay=\"x\",IF(R31=\"W\",10,-10),(IF(R31=\"W\",(VLOOKUP($C31,(TABLE!WIN),(MATCH(S31,WINCOL,0)+1))),(VLOOKUP($C31,(TABLE!LOSE),(MATCH(S31,LOSECOL,0)+1)))))))","v":""},null,{"$f":"IF(NOT(OR(T31=\"W\",T31=\"L\")),\"\",IF(HandicapPlay=\"x\",IF(T31=\"W\",10,-10),(IF(T31=\"W\",(VLOOKUP($C31,(TABLE!WIN),(MATCH(U31,WINCOL,0)+1))),(VLOOKUP($C31,(TABLE!LOSE),(MATCH(U31,LOSECOL,0)+1)))))))","v":""},null,{"$f":"IF(NOT(OR(V31=\"W\",V31=\"L\")),\"\",IF(HandicapPlay=\"x\",IF(V31=\"W\",10,-10),(IF(V31=\"W\",(VLOOKUP($C31,(TABLE!WIN),(MATCH(W31,WINCOL,0)+1))),(VLOOKUP($C31,(TABLE!LOSE),(MATCH(W31,LOSECOL,0)+1)))))))","v":""},null,{"$f":"IF(NOT(OR(X31=\"W\",X31=\"L\")),\"\",IF(HandicapPlay=\"x\",IF(X31=\"W\",10,-10),(IF(X31=\"W\",(VLOOKUP($C31,(TABLE!WIN),(MATCH(Y31,WINCOL,0)+1))),(VLOOKUP($C31,(TABLE!LOSE),(MATCH(Y31,LOSECOL,0)+1)))))))","v":""},null,{"$f":"SUM(D32:Y32)","v":0}]
[null,{"$f":"SCORECARD!D308","v":" Block 2 Player 3"},{"$f":"SCORECARD!I308","v":0},{"$f":"IF(SCORECARD!$I311>0,\"W\",(IF(SCORECARD!$I311<0,\"L\",\"\")))","v":""},{"$f":"SCORECARD!F311","v":0},{"$f":"IF(SCORECARD!$I312>0,\"W\",(IF(SCORECARD!$I312<0,\"L\",\"\")))","v":""},{"$f":"SCORECARD!F312","v":0},{"$f":"IF(SCORECARD!$I313>0,\"W\",(IF(SCORECARD!$I313<0,\"L\",\"\")))","v":""},{"$f":"SCORECARD!F313","v":0},{"$f":"IF(SCORECARD!$I314>0,\"W\",(IF(SCORECARD!$I314<0,\"L\",\"\")))","v":""},{"$f":"SCORECARD!F314","v":0},{"$f":"IF(SCORECARD!$I315>0,\"W\",(IF(SCORECARD!$I315<0,\"L\",\"\")))","v":""},{"$f":"SCORECARD!F315","v":0},{"$f":"IF(SCORECARD!$I316>0,\"W\",(IF(SCORECARD!$I316<0,\"L\",\"\")))","v":""},{"$f":"SCORECARD!F316","v":0},{"$f":"IF(SCORECARD!$I317>0,\"W\",(IF(SCORECARD!$I317<0,\"L\",\"\")))","v":""},{"$f":"SCORECARD!F317","v":0},{"$f":"IF(SCORECARD!$I318>0,\"W\",(IF(SCORECARD!$I318<0,\"L\",\"\")))","v":""},{"$f":"SCORECARD!F318","v":0},{"$f":"IF(SCORECARD!$I319>0,\"W\",(IF(SCORECARD!$I319<0,\"L\",\"\")))","v":""},{"$f":"SCORECARD!F319","v":0},{"$f":"IF(SCORECARD!$I320>0,\"W\",(IF(SCORECARD!$I320<0,\"L\",\"\")))","v":""},{"$f":"SCORECARD!F320","v":0},{"$f":"IF(SCORECARD!$I321>0,\"W\",(IF(SCORECARD!$I321<0,\"L\",\"\")))","v":""},{"$f":"SCORECARD!F321","v":0}]
[null,null,null,{"$f":"IF(NOT(OR(D33=\"W\",D33=\"L\")),\"\",IF(HandicapPlay=\"x\",IF(D33=\"W\",10,-10),(IF(D33=\"W\",(VLOOKUP($C33,(TABLE!WIN),(MATCH(E33,WINCOL,0)+1))),(VLOOKUP($C33,(TABLE!LOSE),(MATCH(E33,LOSECOL,0)+1)))))))","v":""},null,{"$f":"IF(NOT(OR(F33=\"W\",F33=\"L\")),\"\",IF(HandicapPlay=\"x\",IF(F33=\"W\",10,-10),(IF(F33=\"W\",(VLOOKUP($C33,(TABLE!WIN),(MATCH(G33,WINCOL,0)+1))),(VLOOKUP($C33,(TABLE!LOSE),(MATCH(G33,LOSECOL,0)+1)))))))","v":""},null,{"$f":"IF(NOT(OR(H33=\"W\",H33=\"L\")),\"\",IF(HandicapPlay=\"x\",IF(H33=\"W\",10,-10),(IF(H33=\"W\",(VLOOKUP($C33,(TABLE!WIN),(MATCH(I33,WINCOL,0)+1))),(VLOOKUP($C33,(TABLE!LOSE),(MATCH(I33,LOSECOL,0)+1)))))))","v":""},null,{"$f":"IF(NOT(OR(J33=\"W\",J33=\"L\")),\"\",IF(HandicapPlay=\"x\",IF(J33=\"W\",10,-10),(IF(J33=\"W\",(VLOOKUP($C33,(TABLE!WIN),(MATCH(K33,WINCOL,0)+1))),(VLOOKUP($C33,(TABLE!LOSE),(MATCH(K33,LOSECOL,0)+1)))))))","v":""},null,{"$f":"IF(NOT(OR(L33=\"W\",L33=\"L\")),\"\",IF(HandicapPlay=\"x\",IF(L33=\"W\",10,-10),(IF(L33=\"W\",(VLOOKUP($C33,(TABLE!WIN),(MATCH(M33,WINCOL,0)+1))),(VLOOKUP($C33,(TABLE!LOSE),(MATCH(M33,LOSECOL,0)+1)))))))","v":""},null,{"$f":"IF(NOT(OR(N33=\"W\",N33=\"L\")),\"\",IF(HandicapPlay=\"x\",IF(N33=\"W\",10,-10),(IF(N33=\"W\",(VLOOKUP($C33,(TABLE!WIN),(MATCH(O33,WINCOL,0)+1))),(VLOOKUP($C33,(TABLE!LOSE),(MATCH(O33,LOSECOL,0)+1)))))))","v":""},null,{"$f":"IF(NOT(OR(P33=\"W\",P33=\"L\")),\"\",IF(HandicapPlay=\"x\",IF(P33=\"W\",10,-10),(IF(P33=\"W\",(VLOOKUP($C33,(TABLE!WIN),(MATCH(Q33,WINCOL,0)+1))),(VLOOKUP($C33,(TABLE!LOSE),(MATCH(Q33,LOSECOL,0)+1)))))))","v":""},null,{"$f":"IF(NOT(OR(R33=\"W\",R33=\"L\")),\"\",IF(HandicapPlay=\"x\",IF(R33=\"W\",10,-10),(IF(R33=\"W\",(VLOOKUP($C33,(TABLE!WIN),(MATCH(S33,WINCOL,0)+1))),(VLOOKUP($C33,(TABLE!LOSE),(MATCH(S33,LOSECOL,0)+1)))))))","v":""},null,{"$f":"IF(NOT(OR(T33=\"W\",T33=\"L\")),\"\",IF(HandicapPlay=\"x\",IF(T33=\"W\",10,-10),(IF(T33=\"W\",(VLOOKUP($C33,(TABLE!WIN),(MATCH(U33,WINCOL,0)+1))),(VLOOKUP($C33,(TABLE!LOSE),(MATCH(U33,LOSECOL,0)+1)))))))","v":""},null,{"$f":"IF(NOT(OR(V33=\"W\",V33=\"L\")),\"\",IF(HandicapPlay=\"x\",IF(V33=\"W\",10,-10),(IF(V33=\"W\",(VLOOKUP($C33,(TABLE!WIN),(MATCH(W33,WINCOL,0)+1))),(VLOOKUP($C33,(TABLE!LOSE),(MATCH(W33,LOSECOL,0)+1)))))))","v":""},null,{"$f":"IF(NOT(OR(X33=\"W\",X33=\"L\")),\"\",IF(HandicapPlay=\"x\",IF(X33=\"W\",10,-10),(IF(X33=\"W\",(VLOOKUP($C33,(TABLE!WIN),(MATCH(Y33,WINCOL,0)+1))),(VLOOKUP($C33,(TABLE!LOSE),(MATCH(Y33,LOSECOL,0)+1)))))))","v":""},null,{"$f":"SUM(D34:Y34)","v":0}]
[null,{"$f":"SCORECARD!D328","v":" Block 2 Player 4"},{"$f":"SCORECARD!I328","v":0},{"$f":"IF(SCORECARD!$I331>0,\"W\",(IF(SCORECARD!$I331<0,\"L\",\"\")))","v":""},{"$f":"SCORECARD!F331","v":0},{"$f":"IF(SCORECARD!$I332>0,\"W\",(IF(SCORECARD!$I332<0,\"L\",\"\")))","v":""},{"$f":"SCORECARD!F332","v":0},{"$f":"IF(SCORECARD!$I333>0,\"W\",(IF(SCORECARD!$I333<0,\"L\",\"\")))","v":""},{"$f":"SCORECARD!F333","v":0},{"$f":"IF(SCORECARD!$I334>0,\"W\",(IF(SCORECARD!$I334<0,\"L\",\"\")))","v":""},{"$f":"SCORECARD!F334","v":0},{"$f":"IF(SCORECARD!$I335>0,\"W\",(IF(SCORECARD!$I335<0,\"L\",\"\")))","v":""},{"$f":"SCORECARD!F335","v":0},{"$f":"IF(SCORECARD!$I336>0,\"W\",(IF(SCORECARD!$I336<0,\"L\",\"\")))","v":""},{"$f":"SCORECARD!F336","v":0},{"$f":"IF(SCORECARD!$I337>0,\"W\",(IF(SCORECARD!$I337<0,\"L\",\"\")))","v":""},{"$f":"SCORECARD!F337","v":0},{"$f":"IF(SCORECARD!$I338>0,\"W\",(IF(SCORECARD!$I338<0,\"L\",\"\")))","v":""},{"$f":"SCORECARD!F338","v":0},{"$f":"IF(SCORECARD!$I339>0,\"W\",(IF(SCORECARD!$I339<0,\"L\",\"\")))","v":""},{"$f":"SCORECARD!F339","v":0},{"$f":"IF(SCORECARD!$I340>0,\"W\",(IF(SCORECARD!$I340<0,\"L\",\"\")))","v":""},{"$f":"SCORECARD!F340","v":0},{"$f":"IF(SCORECARD!$I341>0,\"W\",(IF(SCORECARD!$I341<0,\"L\",\"\")))","v":""},{"$f":"SCORECARD!F341","v":0}]
[null,null,null,{"$f":"IF(NOT(OR(D35=\"W\",D35=\"L\")),\"\",IF(HandicapPlay=\"x\",IF(D35=\"W\",10,-10),(IF(D35=\"W\",(VLOOKUP($C35,(TABLE!WIN),(MATCH(E35,WINCOL,0)+1))),(VLOOKUP($C35,(TABLE!LOSE),(MATCH(E35,LOSECOL,0)+1)))))))","v":""},null,{"$f":"IF(NOT(OR(F35=\"W\",F35=\"L\")),\"\",IF(HandicapPlay=\"x\",IF(F35=\"W\",10,-10),(IF(F35=\"W\",(VLOOKUP($C35,(TABLE!WIN),(MATCH(G35,WINCOL,0)+1))),(VLOOKUP($C35,(TABLE!LOSE),(MATCH(G35,LOSECOL,0)+1)))))))","v":""},null,{"$f":"IF(NOT(OR(H35=\"W\",H35=\"L\")),\"\",IF(HandicapPlay=\"x\",IF(H35=\"W\",10,-10),(IF(H35=\"W\",(VLOOKUP($C35,(TABLE!WIN),(MATCH(I35,WINCOL,0)+1))),(VLOOKUP($C35,(TABLE!LOSE),(MATCH(I35,LOSECOL,0)+1)))))))","v":""},null,{"$f":"IF(NOT(OR(J35=\"W\",J35=\"L\")),\"\",IF(HandicapPlay=\"x\",IF(J35=\"W\",10,-10),(IF(J35=\"W\",(VLOOKUP($C35,(TABLE!WIN),(MATCH(K35,WINCOL,0)+1))),(VLOOKUP($C35,(TABLE!LOSE),(MATCH(K35,LOSECOL,0)+1)))))))","v":""},null,{"$f":"IF(NOT(OR(L35=\"W\",L35=\"L\")),\"\",IF(HandicapPlay=\"x\",IF(L35=\"W\",10,-10),(IF(L35=\"W\",(VLOOKUP($C35,(TABLE!WIN),(MATCH(M35,WINCOL,0)+1))),(VLOOKUP($C35,(TABLE!LOSE),(MATCH(M35,LOSECOL,0)+1)))))))","v":""},null,{"$f":"IF(NOT(OR(N35=\"W\",N35=\"L\")),\"\",IF(HandicapPlay=\"x\",IF(N35=\"W\",10,-10),(IF(N35=\"W\",(VLOOKUP($C35,(TABLE!WIN),(MATCH(O35,WINCOL,0)+1))),(VLOOKUP($C35,(TABLE!LOSE),(MATCH(O35,LOSECOL,0)+1)))))))","v":""},null,{"$f":"IF(NOT(OR(P35=\"W\",P35=\"L\")),\"\",IF(HandicapPlay=\"x\",IF(P35=\"W\",10,-10),(IF(P35=\"W\",(VLOOKUP($C35,(TABLE!WIN),(MATCH(Q35,WINCOL,0)+1))),(VLOOKUP($C35,(TABLE!LOSE),(MATCH(Q35,LOSECOL,0)+1)))))))","v":""},null,{"$f":"IF(NOT(OR(R35=\"W\",R35=\"L\")),\"\",IF(HandicapPlay=\"x\",IF(R35=\"W\",10,-10),(IF(R35=\"W\",(VLOOKUP($C35,(TABLE!WIN),(MATCH(S35,WINCOL,0)+1))),(VLOOKUP($C35,(TABLE!LOSE),(MATCH(S35,LOSECOL,0)+1)))))))","v":""},null,{"$f":"IF(NOT(OR(T35=\"W\",T35=\"L\")),\"\",IF(HandicapPlay=\"x\",IF(T35=\"W\",10,-10),(IF(T35=\"W\",(VLOOKUP($C35,(TABLE!WIN),(MATCH(U35,WINCOL,0)+1))),(VLOOKUP($C35,(TABLE!LOSE),(MATCH(U35,LOSECOL,0)+1)))))))","v":""},null,{"$f":"IF(NOT(OR(V35=\"W\",V35=\"L\")),\"\",IF(HandicapPlay=\"x\",IF(V35=\"W\",10,-10),(IF(V35=\"W\",(VLOOKUP($C35,(TABLE!WIN),(MATCH(W35,WINCOL,0)+1))),(VLOOKUP($C35,(TABLE!LOSE),(MATCH(W35,LOSECOL,0)+1)))))))","v":""},null,{"$f":"IF(NOT(OR(X35=\"W\",X35=\"L\")),\"\",IF(HandicapPlay=\"x\",IF(X35=\"W\",10,-10),(IF(X35=\"W\",(VLOOKUP($C35,(TABLE!WIN),(MATCH(Y35,WINCOL,0)+1))),(VLOOKUP($C35,(TABLE!LOSE),(MATCH(Y35,LOSECOL,0)+1)))))))","v":""},null,{"$f":"SUM(D36:Y36)","v":0}]
[null,{"$f":"SCORECARD!D351","v":" Block 2 Player 5"},{"$f":"SCORECARD!I351","v":0},{"$f":"IF(SCORECARD!$I354>0,\"W\",(IF(SCORECARD!$I354<0,\"L\",\"\")))","v":""},{"$f":"SCORECARD!$F354","v":0},{"$f":"IF(SCORECARD!$I355>0,\"W\",(IF(SCORECARD!$I355<0,\"L\",\"\")))","v":""},{"$f":"SCORECARD!$F355","v":0},{"$f":"IF(SCORECARD!$I356>0,\"W\",(IF(SCORECARD!$I356<0,\"L\",\"\")))","v":""},{"$f":"SCORECARD!$F356","v":0},{"$f":"IF(SCORECARD!$I357>0,\"W\",(IF(SCORECARD!$I357<0,\"L\",\"\")))","v":""},{"$f":"SCORECARD!$F357","v":0},{"$f":"IF(SCORECARD!$I358>0,\"W\",(IF(SCORECARD!$I358<0,\"L\",\"\")))","v":""},{"$f":"SCORECARD!$F358","v":0},{"$f":"IF(SCORECARD!$I359>0,\"W\",(IF(SCORECARD!$I359<0,\"L\",\"\")))","v":""},{"$f":"SCORECARD!$F359","v":0},{"$f":"IF(SCORECARD!$I360>0,\"W\",(IF(SCORECARD!$I360<0,\"L\",\"\")))","v":""},{"$f":"SCORECARD!$F360","v":0},{"$f":"IF(SCORECARD!$I361>0,\"W\",(IF(SCORECARD!$I361<0,\"L\",\"\")))","v":""},{"$f":"SCORECARD!$F361","v":0},{"$f":"IF(SCORECARD!$I362>0,\"W\",(IF(SCORECARD!$I362<0,\"L\",\"\")))","v":""},{"$f":"SCORECARD!$F362","v":0},{"$f":"IF(SCORECARD!$I363>0,\"W\",(IF(SCORECARD!$I363<0,\"L\",\"\")))","v":""},{"$f":"SCORECARD!$F363","v":0},{"$f":"IF(SCORECARD!$I364>0,\"W\",(IF(SCORECARD!$I364<0,\"L\",\"\")))","v":""},{"$f":"SCORECARD!$F364","v":0}]
[null,null,null,{"$f":"IF(NOT(OR(D37=\"W\",D37=\"L\")),\"\",IF(HandicapPlay=\"x\",IF(D37=\"W\",10,-10),(IF(D37=\"W\",(VLOOKUP($C37,(TABLE!WIN),(MATCH(E37,WINCOL,0)+1))),(VLOOKUP($C37,(TABLE!LOSE),(MATCH(E37,LOSECOL,0)+1)))))))","v":""},null,{"$f":"IF(NOT(OR(F37=\"W\",F37=\"L\")),\"\",IF(HandicapPlay=\"x\",IF(F37=\"W\",10,-10),(IF(F37=\"W\",(VLOOKUP($C37,(TABLE!WIN),(MATCH(G37,WINCOL,0)+1))),(VLOOKUP($C37,(TABLE!LOSE),(MATCH(G37,LOSECOL,0)+1)))))))","v":""},null,{"$f":"IF(NOT(OR(H37=\"W\",H37=\"L\")),\"\",IF(HandicapPlay=\"x\",IF(H37=\"W\",10,-10),(IF(H37=\"W\",(VLOOKUP($C37,(TABLE!WIN),(MATCH(I37,WINCOL,0)+1))),(VLOOKUP($C37,(TABLE!LOSE),(MATCH(I37,LOSECOL,0)+1)))))))","v":""},null,{"$f":"IF(NOT(OR(J37=\"W\",J37=\"L\")),\"\",IF(HandicapPlay=\"x\",IF(J37=\"W\",10,-10),(IF(J37=\"W\",(VLOOKUP($C37,(TABLE!WIN),(MATCH(K37,WINCOL,0)+1))),(VLOOKUP($C37,(TABLE!LOSE),(MATCH(K37,LOSECOL,0)+1)))))))","v":""},null,{"$f":"IF(NOT(OR(L37=\"W\",L37=\"L\")),\"\",IF(HandicapPlay=\"x\",IF(L37=\"W\",10,-10),(IF(L37=\"W\",(VLOOKUP($C37,(TABLE!WIN),(MATCH(M37,WINCOL,0)+1))),(VLOOKUP($C37,(TABLE!LOSE),(MATCH(M37,LOSECOL,0)+1)))))))","v":""},null,{"$f":"IF(NOT(OR(N37=\"W\",N37=\"L\")),\"\",IF(HandicapPlay=\"x\",IF(N37=\"W\",10,-10),(IF(N37=\"W\",(VLOOKUP($C37,(TABLE!WIN),(MATCH(O37,WINCOL,0)+1))),(VLOOKUP($C37,(TABLE!LOSE),(MATCH(O37,LOSECOL,0)+1)))))))","v":""},null,{"$f":"IF(NOT(OR(P37=\"W\",P37=\"L\")),\"\",IF(HandicapPlay=\"x\",IF(P37=\"W\",10,-10),(IF(P37=\"W\",(VLOOKUP($C37,(TABLE!WIN),(MATCH(Q37,WINCOL,0)+1))),(VLOOKUP($C37,(TABLE!LOSE),(MATCH(Q37,LOSECOL,0)+1)))))))","v":""},null,{"$f":"IF(NOT(OR(R37=\"W\",R37=\"L\")),\"\",IF(HandicapPlay=\"x\",IF(R37=\"W\",10,-10),(IF(R37=\"W\",(VLOOKUP($C37,(TABLE!WIN),(MATCH(S37,WINCOL,0)+1))),(VLOOKUP($C37,(TABLE!LOSE),(MATCH(S37,LOSECOL,0)+1)))))))","v":""},null,{"$f":"IF(NOT(OR(T37=\"W\",T37=\"L\")),\"\",IF(HandicapPlay=\"x\",IF(T37=\"W\",10,-10),(IF(T37=\"W\",(VLOOKUP($C37,(TABLE!WIN),(MATCH(U37,WINCOL,0)+1))),(VLOOKUP($C37,(TABLE!LOSE),(MATCH(U37,LOSECOL,0)+1)))))))","v":""},null,{"$f":"IF(NOT(OR(V37=\"W\",V37=\"L\")),\"\",IF(HandicapPlay=\"x\",IF(V37=\"W\",10,-10),(IF(V37=\"W\",(VLOOKUP($C37,(TABLE!WIN),(MATCH(W37,WINCOL,0)+1))),(VLOOKUP($C37,(TABLE!LOSE),(MATCH(W37,LOSECOL,0)+1)))))))","v":""},null,{"$f":"IF(NOT(OR(X37=\"W\",X37=\"L\")),\"\",IF(HandicapPlay=\"x\",IF(X37=\"W\",10,-10),(IF(X37=\"W\",(VLOOKUP($C37,(TABLE!WIN),(MATCH(Y37,WINCOL,0)+1))),(VLOOKUP($C37,(TABLE!LOSE),(MATCH(Y37,LOSECOL,0)+1)))))))","v":""},null,{"$f":"SUM(D38:Y38)","v":0}]
[null,{"$f":"SCORECARD!D371","v":" Block 2 Player 6"},{"$f":"SCORECARD!I371","v":0},{"$f":"IF(SCORECARD!$I374>0,\"W\",(IF(SCORECARD!$I374<0,\"L\",\"\")))","v":""},{"$f":"SCORECARD!$F374","v":0},{"$f":"IF(SCORECARD!$I375>0,\"W\",(IF(SCORECARD!$I375<0,\"L\",\"\")))","v":""},{"$f":"SCORECARD!$F375","v":0},{"$f":"IF(SCORECARD!$I376>0,\"W\",(IF(SCORECARD!$I376<0,\"L\",\"\")))","v":""},{"$f":"SCORECARD!$F376","v":0},{"$f":"IF(SCORECARD!$I377>0,\"W\",(IF(SCORECARD!$I377<0,\"L\",\"\")))","v":""},{"$f":"SCORECARD!$F377","v":0},{"$f":"IF(SCORECARD!$I378>0,\"W\",(IF(SCORECARD!$I378<0,\"L\",\"\")))","v":""},{"$f":"SCORECARD!$F378","v":0},{"$f":"IF(SCORECARD!$I379>0,\"W\",(IF(SCORECARD!$I379<0,\"L\",\"\")))","v":""},{"$f":"SCORECARD!$F379","v":0},{"$f":"IF(SCORECARD!$I380>0,\"W\",(IF(SCORECARD!$I380<0,\"L\",\"\")))","v":""},{"$f":"SCORECARD!$F380","v":0},{"$f":"IF(SCORECARD!$I381>0,\"W\",(IF(SCORECARD!$I381<0,\"L\",\"\")))","v":""},{"$f":"SCORECARD!$F381","v":0},{"$f":"IF(SCORECARD!$I382>0,\"W\",(IF(SCORECARD!$I382<0,\"L\",\"\")))","v":""},{"$f":"SCORECARD!$F382","v":0},{"$f":"IF(SCORECARD!$I383>0,\"W\",(IF(SCORECARD!$I383<0,\"L\",\"\")))","v":""},{"$f":"SCORECARD!$F383","v":0},{"$f":"IF(SCORECARD!$I384>0,\"W\",(IF(SCORECARD!$I384<0,\"L\",\"\")))","v":""},{"$f":"SCORECARD!$F384","v":0}]
[null,null,null,{"$f":"IF(NOT(OR(D39=\"W\",D39=\"L\")),\"\",IF(HandicapPlay=\"x\",IF(D39=\"W\",10,-10),(IF(D39=\"W\",(VLOOKUP($C39,(TABLE!WIN),(MATCH(E39,WINCOL,0)+1))),(VLOOKUP($C39,(TABLE!LOSE),(MATCH(E39,LOSECOL,0)+1)))))))","v":""},null,{"$f":"IF(NOT(OR(F39=\"W\",F39=\"L\")),\"\",IF(HandicapPlay=\"x\",IF(F39=\"W\",10,-10),(IF(F39=\"W\",(VLOOKUP($C39,(TABLE!WIN),(MATCH(G39,WINCOL,0)+1))),(VLOOKUP($C39,(TABLE!LOSE),(MATCH(G39,LOSECOL,0)+1)))))))","v":""},null,{"$f":"IF(NOT(OR(H39=\"W\",H39=\"L\")),\"\",IF(HandicapPlay=\"x\",IF(H39=\"W\",10,-10),(IF(H39=\"W\",(VLOOKUP($C39,(TABLE!WIN),(MATCH(I39,WINCOL,0)+1))),(VLOOKUP($C39,(TABLE!LOSE),(MATCH(I39,LOSECOL,0)+1)))))))","v":""},null,{"$f":"IF(NOT(OR(J39=\"W\",J39=\"L\")),\"\",IF(HandicapPlay=\"x\",IF(J39=\"W\",10,-10),(IF(J39=\"W\",(VLOOKUP($C39,(TABLE!WIN),(MATCH(K39,WINCOL,0)+1))),(VLOOKUP($C39,(TABLE!LOSE),(MATCH(K39,LOSECOL,0)+1)))))))","v":""},null,{"$f":"IF(NOT(OR(L39=\"W\",L39=\"L\")),\"\",IF(HandicapPlay=\"x\",IF(L39=\"W\",10,-10),(IF(L39=\"W\",(VLOOKUP($C39,(TABLE!WIN),(MATCH(M39,WINCOL,0)+1))),(VLOOKUP($C39,(TABLE!LOSE),(MATCH(M39,LOSECOL,0)+1)))))))","v":""},null,{"$f":"IF(NOT(OR(N39=\"W\",N39=\"L\")),\"\",IF(HandicapPlay=\"x\",IF(N39=\"W\",10,-10),(IF(N39=\"W\",(VLOOKUP($C39,(TABLE!WIN),(MATCH(O39,WINCOL,0)+1))),(VLOOKUP($C39,(TABLE!LOSE),(MATCH(O39,LOSECOL,0)+1)))))))","v":""},null,{"$f":"IF(NOT(OR(P39=\"W\",P39=\"L\")),\"\",IF(HandicapPlay=\"x\",IF(P39=\"W\",10,-10),(IF(P39=\"W\",(VLOOKUP($C39,(TABLE!WIN),(MATCH(Q39,WINCOL,0)+1))),(VLOOKUP($C39,(TABLE!LOSE),(MATCH(Q39,LOSECOL,0)+1)))))))","v":""},null,{"$f":"IF(NOT(OR(R39=\"W\",R39=\"L\")),\"\",IF(HandicapPlay=\"x\",IF(R39=\"W\",10,-10),(IF(R39=\"W\",(VLOOKUP($C39,(TABLE!WIN),(MATCH(S39,WINCOL,0)+1))),(VLOOKUP($C39,(TABLE!LOSE),(MATCH(S39,LOSECOL,0)+1)))))))","v":""},null,{"$f":"IF(NOT(OR(T39=\"W\",T39=\"L\")),\"\",IF(HandicapPlay=\"x\",IF(T39=\"W\",10,-10),(IF(T39=\"W\",(VLOOKUP($C39,(TABLE!WIN),(MATCH(U39,WINCOL,0)+1))),(VLOOKUP($C39,(TABLE!LOSE),(MATCH(U39,LOSECOL,0)+1)))))))","v":""},null,{"$f":"IF(NOT(OR(V39=\"W\",V39=\"L\")),\"\",IF(HandicapPlay=\"x\",IF(V39=\"W\",10,-10),(IF(V39=\"W\",(VLOOKUP($C39,(TABLE!WIN),(MATCH(W39,WINCOL,0)+1))),(VLOOKUP($C39,(TABLE!LOSE),(MATCH(W39,LOSECOL,0)+1)))))))","v":""},null,{"$f":"IF(NOT(OR(X39=\"W\",X39=\"L\")),\"\",IF(HandicapPlay=\"x\",IF(X39=\"W\",10,-10),(IF(X39=\"W\",(VLOOKUP($C39,(TABLE!WIN),(MATCH(Y39,WINCOL,0)+1))),(VLOOKUP($C39,(TABLE!LOSE),(MATCH(Y39,LOSECOL,0)+1)))))))","v":""},null,{"$f":"SUM(D40:Y40)","v":0}]
[null,{"$f":"SCORECARD!D394","v":" Block 2 Player 7"},{"$f":"SCORECARD!I394","v":0},{"$f":"IF(SCORECARD!$I397>0,\"W\",(IF(SCORECARD!$I397<0,\"L\",\"\")))","v":""},{"$f":"SCORECARD!F397","v":0},{"$f":"IF(SCORECARD!$I398>0,\"W\",(IF(SCORECARD!$I398<0,\"L\",\"\")))","v":""},{"$f":"SCORECARD!F398","v":0},{"$f":"IF(SCORECARD!$I399>0,\"W\",(IF(SCORECARD!$I399<0,\"L\",\"\")))","v":""},{"$f":"SCORECARD!F399","v":0},{"$f":"IF(SCORECARD!$I400>0,\"W\",(IF(SCORECARD!$I400<0,\"L\",\"\")))","v":""},{"$f":"SCORECARD!F400","v":0},{"$f":"IF(SCORECARD!$I401>0,\"W\",(IF(SCORECARD!$I401<0,\"L\",\"\")))","v":""},{"$f":"SCORECARD!F401","v":0},{"$f":"IF(SCORECARD!$I402>0,\"W\",(IF(SCORECARD!$I402<0,\"L\",\"\")))","v":""},{"$f":"SCORECARD!F402","v":0},{"$f":"IF(SCORECARD!$I403>0,\"W\",(IF(SCORECARD!$I403<0,\"L\",\"\")))","v":""},{"$f":"SCORECARD!F403","v":0},{"$f":"IF(SCORECARD!$I404>0,\"W\",(IF(SCORECARD!$I404<0,\"L\",\"\")))","v":""},{"$f":"SCORECARD!F404","v":0},{"$f":"IF(SCORECARD!$I405>0,\"W\",(IF(SCORECARD!$I405<0,\"L\",\"\")))","v":""},{"$f":"SCORECARD!F405","v":0},{"$f":"IF(SCORECARD!$I406>0,\"W\",(IF(SCORECARD!$I406<0,\"L\",\"\")))","v":""},{"$f":"SCORECARD!F406","v":0},{"$f":"IF(SCORECARD!$I407>0,\"W\",(IF(SCORECARD!$I407<0,\"L\",\"\")))","v":""},{"$f":"SCORECARD!F407","v":0}]
[null,null,null,{"$f":"IF(NOT(OR(D41=\"W\",D41=\"L\")),\"\",IF(HandicapPlay=\"x\",IF(D41=\"W\",10,-10),(IF(D41=\"W\",(VLOOKUP($C41,(TABLE!WIN),(MATCH(E41,WINCOL,0)+1))),(VLOOKUP($C41,(TABLE!LOSE),(MATCH(E41,LOSECOL,0)+1)))))))","v":""},null,{"$f":"IF(NOT(OR(F41=\"W\",F41=\"L\")),\"\",IF(HandicapPlay=\"x\",IF(F41=\"W\",10,-10),(IF(F41=\"W\",(VLOOKUP($C41,(TABLE!WIN),(MATCH(G41,WINCOL,0)+1))),(VLOOKUP($C41,(TABLE!LOSE),(MATCH(G41,LOSECOL,0)+1)))))))","v":""},null,{"$f":"IF(NOT(OR(H41=\"W\",H41=\"L\")),\"\",IF(HandicapPlay=\"x\",IF(H41=\"W\",10,-10),(IF(H41=\"W\",(VLOOKUP($C41,(TABLE!WIN),(MATCH(I41,WINCOL,0)+1))),(VLOOKUP($C41,(TABLE!LOSE),(MATCH(I41,LOSECOL,0)+1)))))))","v":""},null,{"$f":"IF(NOT(OR(J41=\"W\",J41=\"L\")),\"\",IF(HandicapPlay=\"x\",IF(J41=\"W\",10,-10),(IF(J41=\"W\",(VLOOKUP($C41,(TABLE!WIN),(MATCH(K41,WINCOL,0)+1))),(VLOOKUP($C41,(TABLE!LOSE),(MATCH(K41,LOSECOL,0)+1)))))))","v":""},null,{"$f":"IF(NOT(OR(L41=\"W\",L41=\"L\")),\"\",IF(HandicapPlay=\"x\",IF(L41=\"W\",10,-10),(IF(L41=\"W\",(VLOOKUP($C41,(TABLE!WIN),(MATCH(M41,WINCOL,0)+1))),(VLOOKUP($C41,(TABLE!LOSE),(MATCH(M41,LOSECOL,0)+1)))))))","v":""},null,{"$f":"IF(NOT(OR(N41=\"W\",N41=\"L\")),\"\",IF(HandicapPlay=\"x\",IF(N41=\"W\",10,-10),(IF(N41=\"W\",(VLOOKUP($C41,(TABLE!WIN),(MATCH(O41,WINCOL,0)+1))),(VLOOKUP($C41,(TABLE!LOSE),(MATCH(O41,LOSECOL,0)+1)))))))","v":""},null,{"$f":"IF(NOT(OR(P41=\"W\",P41=\"L\")),\"\",IF(HandicapPlay=\"x\",IF(P41=\"W\",10,-10),(IF(P41=\"W\",(VLOOKUP($C41,(TABLE!WIN),(MATCH(Q41,WINCOL,0)+1))),(VLOOKUP($C41,(TABLE!LOSE),(MATCH(Q41,LOSECOL,0)+1)))))))","v":""},null,{"$f":"IF(NOT(OR(R41=\"W\",R41=\"L\")),\"\",IF(HandicapPlay=\"x\",IF(R41=\"W\",10,-10),(IF(R41=\"W\",(VLOOKUP($C41,(TABLE!WIN),(MATCH(S41,WINCOL,0)+1))),(VLOOKUP($C41,(TABLE!LOSE),(MATCH(S41,LOSECOL,0)+1)))))))","v":""},null,{"$f":"IF(NOT(OR(T41=\"W\",T41=\"L\")),\"\",IF(HandicapPlay=\"x\",IF(T41=\"W\",10,-10),(IF(T41=\"W\",(VLOOKUP($C41,(TABLE!WIN),(MATCH(U41,WINCOL,0)+1))),(VLOOKUP($C41,(TABLE!LOSE),(MATCH(U41,LOSECOL,0)+1)))))))","v":""},null,{"$f":"IF(NOT(OR(V41=\"W\",V41=\"L\")),\"\",IF(HandicapPlay=\"x\",IF(V41=\"W\",10,-10),(IF(V41=\"W\",(VLOOKUP($C41,(TABLE!WIN),(MATCH(W41,WINCOL,0)+1))),(VLOOKUP($C41,(TABLE!LOSE),(MATCH(W41,LOSECOL,0)+1)))))))","v":""},null,{"$f":"IF(NOT(OR(X41=\"W\",X41=\"L\")),\"\",IF(HandicapPlay=\"x\",IF(X41=\"W\",10,-10),(IF(X41=\"W\",(VLOOKUP($C41,(TABLE!WIN),(MATCH(Y41,WINCOL,0)+1))),(VLOOKUP($C41,(TABLE!LOSE),(MATCH(Y41,LOSECOL,0)+1)))))))","v":""},null,{"$f":"SUM(D42:Y42)","v":0}]
[null,{"$f":"SCORECARD!D414","v":" Block 2 Player 8"},{"$f":"SCORECARD!I414","v":0},{"$f":"IF(SCORECARD!$I417>0,\"W\",(IF(SCORECARD!$I417<0,\"L\",\"\")))","v":""},{"$f":"SCORECARD!F417","v":0},{"$f":"IF(SCORECARD!$I418>0,\"W\",(IF(SCORECARD!$I418<0,\"L\",\"\")))","v":""},{"$f":"SCORECARD!F418","v":0},{"$f":"IF(SCORECARD!$I419>0,\"W\",(IF(SCORECARD!$I419<0,\"L\",\"\")))","v":""},{"$f":"SCORECARD!F419","v":0},{"$f":"IF(SCORECARD!$I420>0,\"W\",(IF(SCORECARD!$I420<0,\"L\",\"\")))","v":""},{"$f":"SCORECARD!F420","v":0},{"$f":"IF(SCORECARD!$I421>0,\"W\",(IF(SCORECARD!$I421<0,\"L\",\"\")))","v":""},{"$f":"SCORECARD!F421","v":0},{"$f":"IF(SCORECARD!$I422>0,\"W\",(IF(SCORECARD!$I422<0,\"L\",\"\")))","v":""},{"$f":"SCORECARD!F422","v":0},{"$f":"IF(SCORECARD!$I423>0,\"W\",(IF(SCORECARD!$I423<0,\"L\",\"\")))","v":""},{"$f":"SCORECARD!F423","v":0},{"$f":"IF(SCORECARD!$I424>0,\"W\",(IF(SCORECARD!$I424<0,\"L\",\"\")))","v":""},{"$f":"SCORECARD!F424","v":0},{"$f":"IF(SCORECARD!$I425>0,\"W\",(IF(SCORECARD!$I425<0,\"L\",\"\")))","v":""},{"$f":"SCORECARD!F425","v":0},{"$f":"IF(SCORECARD!$I426>0,\"W\",(IF(SCORECARD!$I426<0,\"L\",\"\")))","v":""},{"$f":"SCORECARD!F426","v":0},{"$f":"IF(SCORECARD!$I427>0,\"W\",(IF(SCORECARD!$I427<0,\"L\",\"\")))","v":""},{"$f":"SCORECARD!F427","v":0}]
[null,null,null,{"$f":"IF(NOT(OR(D43=\"W\",D43=\"L\")),\"\",IF(HandicapPlay=\"x\",IF(D43=\"W\",10,-10),(IF(D43=\"W\",(VLOOKUP($C43,(TABLE!WIN),(MATCH(E43,WINCOL,0)+1))),(VLOOKUP($C43,(TABLE!LOSE),(MATCH(E43,LOSECOL,0)+1)))))))","v":""},null,{"$f":"IF(NOT(OR(F43=\"W\",F43=\"L\")),\"\",IF(HandicapPlay=\"x\",IF(F43=\"W\",10,-10),(IF(F43=\"W\",(VLOOKUP($C43,(TABLE!WIN),(MATCH(G43,WINCOL,0)+1))),(VLOOKUP($C43,(TABLE!LOSE),(MATCH(G43,LOSECOL,0)+1)))))))","v":""},null,{"$f":"IF(NOT(OR(H43=\"W\",H43=\"L\")),\"\",IF(HandicapPlay=\"x\",IF(H43=\"W\",10,-10),(IF(H43=\"W\",(VLOOKUP($C43,(TABLE!WIN),(MATCH(I43,WINCOL,0)+1))),(VLOOKUP($C43,(TABLE!LOSE),(MATCH(I43,LOSECOL,0)+1)))))))","v":""},null,{"$f":"IF(NOT(OR(J43=\"W\",J43=\"L\")),\"\",IF(HandicapPlay=\"x\",IF(J43=\"W\",10,-10),(IF(J43=\"W\",(VLOOKUP($C43,(TABLE!WIN),(MATCH(K43,WINCOL,0)+1))),(VLOOKUP($C43,(TABLE!LOSE),(MATCH(K43,LOSECOL,0)+1)))))))","v":""},null,{"$f":"IF(NOT(OR(L43=\"W\",L43=\"L\")),\"\",IF(HandicapPlay=\"x\",IF(L43=\"W\",10,-10),(IF(L43=\"W\",(VLOOKUP($C43,(TABLE!WIN),(MATCH(M43,WINCOL,0)+1))),(VLOOKUP($C43,(TABLE!LOSE),(MATCH(M43,LOSECOL,0)+1)))))))","v":""},null,{"$f":"IF(NOT(OR(N43=\"W\",N43=\"L\")),\"\",IF(HandicapPlay=\"x\",IF(N43=\"W\",10,-10),(IF(N43=\"W\",(VLOOKUP($C43,(TABLE!WIN),(MATCH(O43,WINCOL,0)+1))),(VLOOKUP($C43,(TABLE!LOSE),(MATCH(O43,LOSECOL,0)+1)))))))","v":""},null,{"$f":"IF(NOT(OR(P43=\"W\",P43=\"L\")),\"\",IF(HandicapPlay=\"x\",IF(P43=\"W\",10,-10),(IF(P43=\"W\",(VLOOKUP($C43,(TABLE!WIN),(MATCH(Q43,WINCOL,0)+1))),(VLOOKUP($C43,(TABLE!LOSE),(MATCH(Q43,LOSECOL,0)+1)))))))","v":""},null,{"$f":"IF(NOT(OR(R43=\"W\",R43=\"L\")),\"\",IF(HandicapPlay=\"x\",IF(R43=\"W\",10,-10),(IF(R43=\"W\",(VLOOKUP($C43,(TABLE!WIN),(MATCH(S43,WINCOL,0)+1))),(VLOOKUP($C43,(TABLE!LOSE),(MATCH(S43,LOSECOL,0)+1)))))))","v":""},null,{"$f":"IF(NOT(OR(T43=\"W\",T43=\"L\")),\"\",IF(HandicapPlay=\"x\",IF(T43=\"W\",10,-10),(IF(T43=\"W\",(VLOOKUP($C43,(TABLE!WIN),(MATCH(U43,WINCOL,0)+1))),(VLOOKUP($C43,(TABLE!LOSE),(MATCH(U43,LOSECOL,0)+1)))))))","v":""},null,{"$f":"IF(NOT(OR(V43=\"W\",V43=\"L\")),\"\",IF(HandicapPlay=\"x\",IF(V43=\"W\",10,-10),(IF(V43=\"W\",(VLOOKUP($C43,(TABLE!WIN),(MATCH(W43,WINCOL,0)+1))),(VLOOKUP($C43,(TABLE!LOSE),(MATCH(W43,LOSECOL,0)+1)))))))","v":""},null,{"$f":"IF(NOT(OR(X43=\"W\",X43=\"L\")),\"\",IF(HandicapPlay=\"x\",IF(X43=\"W\",10,-10),(IF(X43=\"W\",(VLOOKUP($C43,(TABLE!WIN),(MATCH(Y43,WINCOL,0)+1))),(VLOOKUP($C43,(TABLE!LOSE),(MATCH(Y43,LOSECOL,0)+1)))))))","v":""},null,{"$f":"SUM(D44:Y44)","v":0}]
[null,{"$f":"SCORECARD!D437","v":" Block 2 Player 9"},{"$f":"SCORECARD!I437","v":0},{"$f":"IF(SCORECARD!$I440>0,\"W\",(IF(SCORECARD!$I440<0,\"L\",\"\")))","v":""},{"$f":"SCORECARD!$F440","v":0},{"$f":"IF(SCORECARD!$I441>0,\"W\",(IF(SCORECARD!$I441<0,\"L\",\"\")))","v":""},{"$f":"SCORECARD!$F441","v":0},{"$f":"IF(SCORECARD!$I442>0,\"W\",(IF(SCORECARD!$I442<0,\"L\",\"\")))","v":""},{"$f":"SCORECARD!$F442","v":0},{"$f":"IF(SCORECARD!$I443>0,\"W\",(IF(SCORECARD!$I443<0,\"L\",\"\")))","v":""},{"$f":"SCORECARD!$F443","v":0},{"$f":"IF(SCORECARD!$I444>0,\"W\",(IF(SCORECARD!$I444<0,\"L\",\"\")))","v":""},{"$f":"SCORECARD!$F444","v":0},{"$f":"IF(SCORECARD!$I445>0,\"W\",(IF(SCORECARD!$I445<0,\"L\",\"\")))","v":""},{"$f":"SCORECARD!$F445","v":0},{"$f":"IF(SCORECARD!$I446>0,\"W\",(IF(SCORECARD!$I446<0,\"L\",\"\")))","v":""},{"$f":"SCORECARD!$F446","v":0},{"$f":"IF(SCORECARD!$I447>0,\"W\",(IF(SCORECARD!$I447<0,\"L\",\"\")))","v":""},{"$f":"SCORECARD!$F447","v":0},{"$f":"IF(SCORECARD!$I448>0,\"W\",(IF(SCORECARD!$I448<0,\"L\",\"\")))","v":""},{"$f":"SCORECARD!$F448","v":0},{"$f":"IF(SCORECARD!$I449>0,\"W\",(IF(SCORECARD!$I449<0,\"L\",\"\")))","v":""},{"$f":"SCORECARD!$F449","v":0},{"$f":"IF(SCORECARD!$I450>0,\"W\",(IF(SCORECARD!$I450<0,\"L\",\"\")))","v":""},{"$f":"SCORECARD!$F450","v":0}]
[null,null,null,{"$f":"IF(NOT(OR(D45=\"W\",D45=\"L\")),\"\",IF(HandicapPlay=\"x\",IF(D45=\"W\",10,-10),(IF(D45=\"W\",(VLOOKUP($C45,(TABLE!WIN),(MATCH(E45,WINCOL,0)+1))),(VLOOKUP($C45,(TABLE!LOSE),(MATCH(E45,LOSECOL,0)+1)))))))","v":""},null,{"$f":"IF(NOT(OR(F45=\"W\",F45=\"L\")),\"\",IF(HandicapPlay=\"x\",IF(F45=\"W\",10,-10),(IF(F45=\"W\",(VLOOKUP($C45,(TABLE!WIN),(MATCH(G45,WINCOL,0)+1))),(VLOOKUP($C45,(TABLE!LOSE),(MATCH(G45,LOSECOL,0)+1)))))))","v":""},null,{"$f":"IF(NOT(OR(H45=\"W\",H45=\"L\")),\"\",IF(HandicapPlay=\"x\",IF(H45=\"W\",10,-10),(IF(H45=\"W\",(VLOOKUP($C45,(TABLE!WIN),(MATCH(I45,WINCOL,0)+1))),(VLOOKUP($C45,(TABLE!LOSE),(MATCH(I45,LOSECOL,0)+1)))))))","v":""},null,{"$f":"IF(NOT(OR(J45=\"W\",J45=\"L\")),\"\",IF(HandicapPlay=\"x\",IF(J45=\"W\",10,-10),(IF(J45=\"W\",(VLOOKUP($C45,(TABLE!WIN),(MATCH(K45,WINCOL,0)+1))),(VLOOKUP($C45,(TABLE!LOSE),(MATCH(K45,LOSECOL,0)+1)))))))","v":""},null,{"$f":"IF(NOT(OR(L45=\"W\",L45=\"L\")),\"\",IF(HandicapPlay=\"x\",IF(L45=\"W\",10,-10),(IF(L45=\"W\",(VLOOKUP($C45,(TABLE!WIN),(MATCH(M45,WINCOL,0)+1))),(VLOOKUP($C45,(TABLE!LOSE),(MATCH(M45,LOSECOL,0)+1)))))))","v":""},null,{"$f":"IF(NOT(OR(N45=\"W\",N45=\"L\")),\"\",IF(HandicapPlay=\"x\",IF(N45=\"W\",10,-10),(IF(N45=\"W\",(VLOOKUP($C45,(TABLE!WIN),(MATCH(O45,WINCOL,0)+1))),(VLOOKUP($C45,(TABLE!LOSE),(MATCH(O45,LOSECOL,0)+1)))))))","v":""},null,{"$f":"IF(NOT(OR(P45=\"W\",P45=\"L\")),\"\",IF(HandicapPlay=\"x\",IF(P45=\"W\",10,-10),(IF(P45=\"W\",(VLOOKUP($C45,(TABLE!WIN),(MATCH(Q45,WINCOL,0)+1))),(VLOOKUP($C45,(TABLE!LOSE),(MATCH(Q45,LOSECOL,0)+1)))))))","v":""},null,{"$f":"IF(NOT(OR(R45=\"W\",R45=\"L\")),\"\",IF(HandicapPlay=\"x\",IF(R45=\"W\",10,-10),(IF(R45=\"W\",(VLOOKUP($C45,(TABLE!WIN),(MATCH(S45,WINCOL,0)+1))),(VLOOKUP($C45,(TABLE!LOSE),(MATCH(S45,LOSECOL,0)+1)))))))","v":""},null,{"$f":"IF(NOT(OR(T45=\"W\",T45=\"L\")),\"\",IF(HandicapPlay=\"x\",IF(T45=\"W\",10,-10),(IF(T45=\"W\",(VLOOKUP($C45,(TABLE!WIN),(MATCH(U45,WINCOL,0)+1))),(VLOOKUP($C45,(TABLE!LOSE),(MATCH(U45,LOSECOL,0)+1)))))))","v":""},null,{"$f":"IF(NOT(OR(V45=\"W\",V45=\"L\")),\"\",IF(HandicapPlay=\"x\",IF(V45=\"W\",10,-10),(IF(V45=\"W\",(VLOOKUP($C45,(TABLE!WIN),(MATCH(W45,WINCOL,0)+1))),(VLOOKUP($C45,(TABLE!LOSE),(MATCH(W45,LOSECOL,0)+1)))))))","v":""},null,{"$f":"IF(NOT(OR(X45=\"W\",X45=\"L\")),\"\",IF(HandicapPlay=\"x\",IF(X45=\"W\",10,-10),(IF(X45=\"W\",(VLOOKUP($C45,(TABLE!WIN),(MATCH(Y45,WINCOL,0)+1))),(VLOOKUP($C45,(TABLE!LOSE),(MATCH(Y45,LOSECOL,0)+1)))))))","v":""},null,{"$f":"SUM(D46:Y46)","v":0}]
[null,{"$f":"SCORECARD!D457","v":" Block 2 Player 10"},{"$f":"SCORECARD!I457","v":0},{"$f":"IF(SCORECARD!$I460>0,\"W\",(IF(SCORECARD!$I460<0,\"L\",\"\")))","v":""},{"$f":"SCORECARD!$F460","v":0},{"$f":"IF(SCORECARD!$I461>0,\"W\",(IF(SCORECARD!$I461<0,\"L\",\"\")))","v":""},{"$f":"SCORECARD!$F461","v":0},{"$f":"IF(SCORECARD!$I462>0,\"W\",(IF(SCORECARD!$I462<0,\"L\",\"\")))","v":""},{"$f":"SCORECARD!$F462","v":0},{"$f":"IF(SCORECARD!$I463>0,\"W\",(IF(SCORECARD!$I463<0,\"L\",\"\")))","v":""},{"$f":"SCORECARD!$F463","v":0},{"$f":"IF(SCORECARD!$I464>0,\"W\",(IF(SCORECARD!$I464<0,\"L\",\"\")))","v":""},{"$f":"SCORECARD!$F464","v":0},{"$f":"IF(SCORECARD!$I465>0,\"W\",(IF(SCORECARD!$I465<0,\"L\",\"\")))","v":""},{"$f":"SCORECARD!$F465","v":0},{"$f":"IF(SCORECARD!$I466>0,\"W\",(IF(SCORECARD!$I466<0,\"L\",\"\")))","v":""},{"$f":"SCORECARD!$F466","v":0},{"$f":"IF(SCORECARD!$I467>0,\"W\",(IF(SCORECARD!$I467<0,\"L\",\"\")))","v":""},{"$f":"SCORECARD!$F467","v":0},{"$f":"IF(SCORECARD!$I468>0,\"W\",(IF(SCORECARD!$I468<0,\"L\",\"\")))","v":""},{"$f":"SCORECARD!$F468","v":0},{"$f":"IF(SCORECARD!$I469>0,\"W\",(IF(SCORECARD!$I469<0,\"L\",\"\")))","v":""},{"$f":"SCORECARD!$F469","v":0},{"$f":"IF(SCORECARD!$I470>0,\"W\",(IF(SCORECARD!$I470<0,\"L\",\"\")))","v":""},{"$f":"SCORECARD!$F470","v":0}]
[null,null,null,{"$f":"IF(NOT(OR(D47=\"W\",D47=\"L\")),\"\",IF(HandicapPlay=\"x\",IF(D47=\"W\",10,-10),(IF(D47=\"W\",(VLOOKUP($C47,(TABLE!WIN),(MATCH(E47,WINCOL,0)+1))),(VLOOKUP($C47,(TABLE!LOSE),(MATCH(E47,LOSECOL,0)+1)))))))","v":""},null,{"$f":"IF(NOT(OR(F47=\"W\",F47=\"L\")),\"\",IF(HandicapPlay=\"x\",IF(F47=\"W\",10,-10),(IF(F47=\"W\",(VLOOKUP($C47,(TABLE!WIN),(MATCH(G47,WINCOL,0)+1))),(VLOOKUP($C47,(TABLE!LOSE),(MATCH(G47,LOSECOL,0)+1)))))))","v":""},null,{"$f":"IF(NOT(OR(H47=\"W\",H47=\"L\")),\"\",IF(HandicapPlay=\"x\",IF(H47=\"W\",10,-10),(IF(H47=\"W\",(VLOOKUP($C47,(TABLE!WIN),(MATCH(I47,WINCOL,0)+1))),(VLOOKUP($C47,(TABLE!LOSE),(MATCH(I47,LOSECOL,0)+1)))))))","v":""},null,{"$f":"IF(NOT(OR(J47=\"W\",J47=\"L\")),\"\",IF(HandicapPlay=\"x\",IF(J47=\"W\",10,-10),(IF(J47=\"W\",(VLOOKUP($C47,(TABLE!WIN),(MATCH(K47,WINCOL,0)+1))),(VLOOKUP($C47,(TABLE!LOSE),(MATCH(K47,LOSECOL,0)+1)))))))","v":""},null,{"$f":"IF(NOT(OR(L47=\"W\",L47=\"L\")),\"\",IF(HandicapPlay=\"x\",IF(L47=\"W\",10,-10),(IF(L47=\"W\",(VLOOKUP($C47,(TABLE!WIN),(MATCH(M47,WINCOL,0)+1))),(VLOOKUP($C47,(TABLE!LOSE),(MATCH(M47,LOSECOL,0)+1)))))))","v":""},null,{"$f":"IF(NOT(OR(N47=\"W\",N47=\"L\")),\"\",IF(HandicapPlay=\"x\",IF(N47=\"W\",10,-10),(IF(N47=\"W\",(VLOOKUP($C47,(TABLE!WIN),(MATCH(O47,WINCOL,0)+1))),(VLOOKUP($C47,(TABLE!LOSE),(MATCH(O47,LOSECOL,0)+1)))))))","v":""},null,{"$f":"IF(NOT(OR(P47=\"W\",P47=\"L\")),\"\",IF(HandicapPlay=\"x\",IF(P47=\"W\",10,-10),(IF(P47=\"W\",(VLOOKUP($C47,(TABLE!WIN),(MATCH(Q47,WINCOL,0)+1))),(VLOOKUP($C47,(TABLE!LOSE),(MATCH(Q47,LOSECOL,0)+1)))))))","v":""},null,{"$f":"IF(NOT(OR(R47=\"W\",R47=\"L\")),\"\",IF(HandicapPlay=\"x\",IF(R47=\"W\",10,-10),(IF(R47=\"W\",(VLOOKUP($C47,(TABLE!WIN),(MATCH(S47,WINCOL,0)+1))),(VLOOKUP($C47,(TABLE!LOSE),(MATCH(S47,LOSECOL,0)+1)))))))","v":""},null,{"$f":"IF(NOT(OR(T47=\"W\",T47=\"L\")),\"\",IF(HandicapPlay=\"x\",IF(T47=\"W\",10,-10),(IF(T47=\"W\",(VLOOKUP($C47,(TABLE!WIN),(MATCH(U47,WINCOL,0)+1))),(VLOOKUP($C47,(TABLE!LOSE),(MATCH(U47,LOSECOL,0)+1)))))))","v":""},null,{"$f":"IF(NOT(OR(V47=\"W\",V47=\"L\")),\"\",IF(HandicapPlay=\"x\",IF(V47=\"W\",10,-10),(IF(V47=\"W\",(VLOOKUP($C47,(TABLE!WIN),(MATCH(W47,WINCOL,0)+1))),(VLOOKUP($C47,(TABLE!LOSE),(MATCH(W47,LOSECOL,0)+1)))))))","v":""},null,{"$f":"IF(NOT(OR(X47=\"W\",X47=\"L\")),\"\",IF(HandicapPlay=\"x\",IF(X47=\"W\",10,-10),(IF(X47=\"W\",(VLOOKUP($C47,(TABLE!WIN),(MATCH(Y47,WINCOL,0)+1))),(VLOOKUP($C47,(TABLE!LOSE),(MATCH(Y47,LOSECOL,0)+1)))))))","v":""},null,{"$f":"SUM(D48:Y48)","v":0}]
[null,{"$f":"SCORECARD!D480","v":" Block 2 Player 11"},{"$f":"SCORECARD!I480","v":0},{"$f":"IF(SCORECARD!$I483>0,\"W\",(IF(SCORECARD!$I483<0,\"L\",\"\")))","v":""},{"$f":"SCORECARD!$F483","v":0},{"$f":"IF(SCORECARD!$I484>0,\"W\",(IF(SCORECARD!$I484<0,\"L\",\"\")))","v":""},{"$f":"SCORECARD!$F484","v":0},{"$f":"IF(SCORECARD!$I485>0,\"W\",(IF(SCORECARD!$I485<0,\"L\",\"\")))","v":""},{"$f":"SCORECARD!$F485","v":0},{"$f":"IF(SCORECARD!$I486>0,\"W\",(IF(SCORECARD!$I486<0,\"L\",\"\")))","v":""},{"$f":"SCORECARD!$F486","v":0},{"$f":"IF(SCORECARD!$I487>0,\"W\",(IF(SCORECARD!$I487<0,\"L\",\"\")))","v":""},{"$f":"SCORECARD!$F487","v":0},{"$f":"IF(SCORECARD!$I488>0,\"W\",(IF(SCORECARD!$I488<0,\"L\",\"\")))","v":""},{"$f":"SCORECARD!$F488","v":0},{"$f":"IF(SCORECARD!$I489>0,\"W\",(IF(SCORECARD!$I489<0,\"L\",\"\")))","v":""},{"$f":"SCORECARD!$F489","v":0},{"$f":"IF(SCORECARD!$I490>0,\"W\",(IF(SCORECARD!$I490<0,\"L\",\"\")))","v":""},{"$f":"SCORECARD!$F490","v":0},{"$f":"IF(SCORECARD!$I491>0,\"W\",(IF(SCORECARD!$I491<0,\"L\",\"\")))","v":""},{"$f":"SCORECARD!$F491","v":0},{"$f":"IF(SCORECARD!$I492>0,\"W\",(IF(SCORECARD!$I492<0,\"L\",\"\")))","v":""},{"$f":"SCORECARD!$F492","v":0},{"$f":"IF(SCORECARD!$I493>0,\"W\",(IF(SCORECARD!$I493<0,\"L\",\"\")))","v":""},{"$f":"SCORECARD!$F493","v":0}]
[null,null,null,{"$f":"IF(NOT(OR(D49=\"W\",D49=\"L\")),\"\",IF(HandicapPlay=\"x\",IF(D49=\"W\",10,-10),(IF(D49=\"W\",(VLOOKUP($C49,(TABLE!WIN),(MATCH(E49,WINCOL,0)+1))),(VLOOKUP($C49,(TABLE!LOSE),(MATCH(E49,LOSECOL,0)+1)))))))","v":""},null,{"$f":"IF(NOT(OR(F49=\"W\",F49=\"L\")),\"\",IF(HandicapPlay=\"x\",IF(F49=\"W\",10,-10),(IF(F49=\"W\",(VLOOKUP($C49,(TABLE!WIN),(MATCH(G49,WINCOL,0)+1))),(VLOOKUP($C49,(TABLE!LOSE),(MATCH(G49,LOSECOL,0)+1)))))))","v":""},null,{"$f":"IF(NOT(OR(H49=\"W\",H49=\"L\")),\"\",IF(HandicapPlay=\"x\",IF(H49=\"W\",10,-10),(IF(H49=\"W\",(VLOOKUP($C49,(TABLE!WIN),(MATCH(I49,WINCOL,0)+1))),(VLOOKUP($C49,(TABLE!LOSE),(MATCH(I49,LOSECOL,0)+1)))))))","v":""},null,{"$f":"IF(NOT(OR(J49=\"W\",J49=\"L\")),\"\",IF(HandicapPlay=\"x\",IF(J49=\"W\",10,-10),(IF(J49=\"W\",(VLOOKUP($C49,(TABLE!WIN),(MATCH(K49,WINCOL,0)+1))),(VLOOKUP($C49,(TABLE!LOSE),(MATCH(K49,LOSECOL,0)+1)))))))","v":""},null,{"$f":"IF(NOT(OR(L49=\"W\",L49=\"L\")),\"\",IF(HandicapPlay=\"x\",IF(L49=\"W\",10,-10),(IF(L49=\"W\",(VLOOKUP($C49,(TABLE!WIN),(MATCH(M49,WINCOL,0)+1))),(VLOOKUP($C49,(TABLE!LOSE),(MATCH(M49,LOSECOL,0)+1)))))))","v":""},null,{"$f":"IF(NOT(OR(N49=\"W\",N49=\"L\")),\"\",IF(HandicapPlay=\"x\",IF(N49=\"W\",10,-10),(IF(N49=\"W\",(VLOOKUP($C49,(TABLE!WIN),(MATCH(O49,WINCOL,0)+1))),(VLOOKUP($C49,(TABLE!LOSE),(MATCH(O49,LOSECOL,0)+1)))))))","v":""},null,{"$f":"IF(NOT(OR(P49=\"W\",P49=\"L\")),\"\",IF(HandicapPlay=\"x\",IF(P49=\"W\",10,-10),(IF(P49=\"W\",(VLOOKUP($C49,(TABLE!WIN),(MATCH(Q49,WINCOL,0)+1))),(VLOOKUP($C49,(TABLE!LOSE),(MATCH(Q49,LOSECOL,0)+1)))))))","v":""},null,{"$f":"IF(NOT(OR(R49=\"W\",R49=\"L\")),\"\",IF(HandicapPlay=\"x\",IF(R49=\"W\",10,-10),(IF(R49=\"W\",(VLOOKUP($C49,(TABLE!WIN),(MATCH(S49,WINCOL,0)+1))),(VLOOKUP($C49,(TABLE!LOSE),(MATCH(S49,LOSECOL,0)+1)))))))","v":""},null,{"$f":"IF(NOT(OR(T49=\"W\",T49=\"L\")),\"\",IF(HandicapPlay=\"x\",IF(T49=\"W\",10,-10),(IF(T49=\"W\",(VLOOKUP($C49,(TABLE!WIN),(MATCH(U49,WINCOL,0)+1))),(VLOOKUP($C49,(TABLE!LOSE),(MATCH(U49,LOSECOL,0)+1)))))))","v":""},null,{"$f":"IF(NOT(OR(V49=\"W\",V49=\"L\")),\"\",IF(HandicapPlay=\"x\",IF(V49=\"W\",10,-10),(IF(V49=\"W\",(VLOOKUP($C49,(TABLE!WIN),(MATCH(W49,WINCOL,0)+1))),(VLOOKUP($C49,(TABLE!LOSE),(MATCH(W49,LOSECOL,0)+1)))))))","v":""},null,{"$f":"IF(NOT(OR(X49=\"W\",X49=\"L\")),\"\",IF(HandicapPlay=\"x\",IF(X49=\"W\",10,-10),(IF(X49=\"W\",(VLOOKUP($C49,(TABLE!WIN),(MATCH(Y49,WINCOL,0)+1))),(VLOOKUP($C49,(TABLE!LOSE),(MATCH(Y49,LOSECOL,0)+1)))))))","v":""},null,{"$f":"SUM(D50:Y50)","v":0}]
[null,{"$f":"SCORECARD!D500","v":" Block 2 Player 12"},{"$f":"SCORECARD!I500","v":0},{"$f":"IF(SCORECARD!$I503>0,\"W\",(IF(SCORECARD!$I503<0,\"L\",\"\")))","v":""},{"$f":"SCORECARD!$F503","v":0},{"$f":"IF(SCORECARD!$I504>0,\"W\",(IF(SCORECARD!$I504<0,\"L\",\"\")))","v":""},{"$f":"SCORECARD!$F504","v":0},{"$f":"IF(SCORECARD!$I505>0,\"W\",(IF(SCORECARD!$I505<0,\"L\",\"\")))","v":""},{"$f":"SCORECARD!$F505","v":0},{"$f":"IF(SCORECARD!$I506>0,\"W\",(IF(SCORECARD!$I506<0,\"L\",\"\")))","v":""},{"$f":"SCORECARD!$F506","v":0},{"$f":"IF(SCORECARD!$I507>0,\"W\",(IF(SCORECARD!$I507<0,\"L\",\"\")))","v":""},{"$f":"SCORECARD!$F507","v":0},{"$f":"IF(SCORECARD!$I508>0,\"W\",(IF(SCORECARD!$I508<0,\"L\",\"\")))","v":""},{"$f":"SCORECARD!$F508","v":0},{"$f":"IF(SCORECARD!$I509>0,\"W\",(IF(SCORECARD!$I509<0,\"L\",\"\")))","v":""},{"$f":"SCORECARD!$F509","v":0},{"$f":"IF(SCORECARD!$I510>0,\"W\",(IF(SCORECARD!$I510<0,\"L\",\"\")))","v":""},{"$f":"SCORECARD!$F510","v":0},{"$f":"IF(SCORECARD!$I511>0,\"W\",(IF(SCORECARD!$I511<0,\"L\",\"\")))","v":""},{"$f":"SCORECARD!$F511","v":0},{"$f":"IF(SCORECARD!$I512>0,\"W\",(IF(SCORECARD!$I512<0,\"L\",\"\")))","v":""},{"$f":"SCORECARD!$F512","v":0},{"$f":"IF(SCORECARD!$I513>0,\"W\",(IF(SCORECARD!$I513<0,\"L\",\"\")))","v":""},{"$f":"SCORECARD!$F513","v":0}]
[null,null,null,{"$f":"IF(NOT(OR(D51=\"W\",D51=\"L\")),\"\",IF(HandicapPlay=\"x\",IF(D51=\"W\",10,-10),(IF(D51=\"W\",(VLOOKUP($C51,(TABLE!WIN),(MATCH(E51,WINCOL,0)+1))),(VLOOKUP($C51,(TABLE!LOSE),(MATCH(E51,LOSECOL,0)+1)))))))","v":""},null,{"$f":"IF(NOT(OR(F51=\"W\",F51=\"L\")),\"\",IF(HandicapPlay=\"x\",IF(F51=\"W\",10,-10),(IF(F51=\"W\",(VLOOKUP($C51,(TABLE!WIN),(MATCH(G51,WINCOL,0)+1))),(VLOOKUP($C51,(TABLE!LOSE),(MATCH(G51,LOSECOL,0)+1)))))))","v":""},null,{"$f":"IF(NOT(OR(H51=\"W\",H51=\"L\")),\"\",IF(HandicapPlay=\"x\",IF(H51=\"W\",10,-10),(IF(H51=\"W\",(VLOOKUP($C51,(TABLE!WIN),(MATCH(I51,WINCOL,0)+1))),(VLOOKUP($C51,(TABLE!LOSE),(MATCH(I51,LOSECOL,0)+1)))))))","v":""},null,{"$f":"IF(NOT(OR(J51=\"W\",J51=\"L\")),\"\",IF(HandicapPlay=\"x\",IF(J51=\"W\",10,-10),(IF(J51=\"W\",(VLOOKUP($C51,(TABLE!WIN),(MATCH(K51,WINCOL,0)+1))),(VLOOKUP($C51,(TABLE!LOSE),(MATCH(K51,LOSECOL,0)+1)))))))","v":""},null,{"$f":"IF(NOT(OR(L51=\"W\",L51=\"L\")),\"\",IF(HandicapPlay=\"x\",IF(L51=\"W\",10,-10),(IF(L51=\"W\",(VLOOKUP($C51,(TABLE!WIN),(MATCH(M51,WINCOL,0)+1))),(VLOOKUP($C51,(TABLE!LOSE),(MATCH(M51,LOSECOL,0)+1)))))))","v":""},null,{"$f":"IF(NOT(OR(N51=\"W\",N51=\"L\")),\"\",IF(HandicapPlay=\"x\",IF(N51=\"W\",10,-10),(IF(N51=\"W\",(VLOOKUP($C51,(TABLE!WIN),(MATCH(O51,WINCOL,0)+1))),(VLOOKUP($C51,(TABLE!LOSE),(MATCH(O51,LOSECOL,0)+1)))))))","v":""},null,{"$f":"IF(NOT(OR(P51=\"W\",P51=\"L\")),\"\",IF(HandicapPlay=\"x\",IF(P51=\"W\",10,-10),(IF(P51=\"W\",(VLOOKUP($C51,(TABLE!WIN),(MATCH(Q51,WINCOL,0)+1))),(VLOOKUP($C51,(TABLE!LOSE),(MATCH(Q51,LOSECOL,0)+1)))))))","v":""},null,{"$f":"IF(NOT(OR(R51=\"W\",R51=\"L\")),\"\",IF(HandicapPlay=\"x\",IF(R51=\"W\",10,-10),(IF(R51=\"W\",(VLOOKUP($C51,(TABLE!WIN),(MATCH(S51,WINCOL,0)+1))),(VLOOKUP($C51,(TABLE!LOSE),(MATCH(S51,LOSECOL,0)+1)))))))","v":""},null,{"$f":"IF(NOT(OR(T51=\"W\",T51=\"L\")),\"\",IF(HandicapPlay=\"x\",IF(T51=\"W\",10,-10),(IF(T51=\"W\",(VLOOKUP($C51,(TABLE!WIN),(MATCH(U51,WINCOL,0)+1))),(VLOOKUP($C51,(TABLE!LOSE),(MATCH(U51,LOSECOL,0)+1)))))))","v":""},null,{"$f":"IF(NOT(OR(V51=\"W\",V51=\"L\")),\"\",IF(HandicapPlay=\"x\",IF(V51=\"W\",10,-10),(IF(V51=\"W\",(VLOOKUP($C51,(TABLE!WIN),(MATCH(W51,WINCOL,0)+1))),(VLOOKUP($C51,(TABLE!LOSE),(MATCH(W51,LOSECOL,0)+1)))))))","v":""},null,{"$f":"IF(NOT(OR(X51=\"W\",X51=\"L\")),\"\",IF(HandicapPlay=\"x\",IF(X51=\"W\",10,-10),(IF(X51=\"W\",(VLOOKUP($C51,(TABLE!WIN),(MATCH(Y51,WINCOL,0)+1))),(VLOOKUP($C51,(TABLE!LOSE),(MATCH(Y51,LOSECOL,0)+1)))))))","v":""},null,{"$f":"SUM(D52:Y52)","v":0}]

{"sheet":"PUBLISHING","index":15,"n_rows":273,"n_cols":12,"rows_kept":273,"cut":false,"hidden":true,"merged":[[595,5,596,5],[595,6,596,6],[595,1,596,1],[595,2,596,2],[595,3,596,3],[595,4,596,4],[591,1,592,1],[591,2,592,2],[593,1,594,1],[593,2,594,2],[593,3,594,3],[593,4,594,4],[591,3,592,3],[591,4,592,4],[587,5,588,5],[587,6,588,6],[589,5,590,5],[589,6,590,6],[593,5,594,5],[593,6,594,6],[587,1,588,1],[587,2,588,2],[587,3,588,3],[587,4,588,4],[591,5,592,5],[591,6,592,6],[589,1,590,1],[589,2,590,2],[589,3,590,3],[589,4,590,4],[579,6,580,6],[581,5,582,5],[581,6,582,6],[585,5,586,5],[585,6,586,6],[579,1,580,1],[579,2,580,2],[579,3,580,3],[579,4,580,4],[583,5,584,5],[583,6,584,6],[581,1,582,1],[581,2,582,2],[581,3,582,3],[581,4,582,4],[583,1,584,1],[583,2,584,2],[585,1,586,1],[585,2,586,2],[585,3,586,3],[585,4,586,4],[583,3,584,3],[583,4,584,4],[579,5,580,5],[571,6,572,6],[573,5,574,5],[573,6,574,6],[577,5,578,5],[577,6,578,6],[571,1,572,1],[571,2,572,2],[571,3,572,3],[571,4,572,4],[575,5,576,5],[575,6,576,6],[573,1,574,1],[573,2,574,2],[573,3,574,3],[573,4,574,4],[575,1,576,1],[575,2,576,2],[577,1,578,1],[577,2,578,2],[577,3,578,3],[577,4,578,4],[575,3,576,3],[575,4,576,4],[571,5,572,5],[563,6,564,6],[565,5,566,5],[565,6,566,6],[569,5,570,5],[569,6,570,6],[563,1,564,1],[563,2,564,2],[563,3,564,3],[563,4,564,4],[567,5,568,5],[567,6,568,6],[565,1,566,1],[565,2,566,2],[565,3,566,3],[565,4,566,4],[567,1,568,1],[567,2,568,2],[569,1,570,1],[569,2,570,2],[569,3,570,3],[569,4,570,4],[567,3,568,3],[567,4,568,4],[563,5,564,5],[555,6,556,6],[557,5,558,5],[557,6,558,6],[561,5,562,5],[561,6,562,6],[555,1,556,1],[555,2,556,2],[555,3,556,3],[555,4,556,4],[559,5,560,5],[559,6,560,6],[557,1,558,1],[557,2,558,2],[557,3,558,3],[557,4,558,4],[559,1,560,1],[559,2,560,2],[561,1,562,1],[561,2,562,2],[561,3,562,3],[561,4,562,4],[559,3,560,3],[559,4,560,4],[555,5,556,5],[547,6,548,6],[549,5,550,5],[549,6,550,6],[553,5,554,5],[553,6,554,6],[547,1,548,1],[547,2,548,2],[547,3,548,3],[547,4,548,4],[551,5,552,5],[551,6,552,6],[549,1,550,1],[549,2,550,2],[549,3,550,3],[549,4,550,4],[551,1,552,1],[551,2,552,2],[553,1,554,1],[553,2,554,2],[553,3,554,3],[553,4,554,4],[551,3,552,3],[551,4,552,4],[547,5,548,5],[539,6,540,6],[541,5,542,5],[541,6,542,6],[545,5,546,5],[545,6,546,6],[539,1,540,1],[539,2,540,2],[539,3,540,3],[539,4,540,4],[543,5,544,5],[543,6,544,6],[541,1,542,1],[541,2,542,2],[541,3,542,3],[541,4,542,4],[543,1,544,1],[543,2,544,2],[545,1,546,1],[545,2,546,2],[545,3,546,3],[545,4,546,4],[543,3,544,3],[543,4,544,4],[539,5,540,5],[531,6,532,6],[533,5,534,5],[533,6,534,6],[537,5,538,5],[537,6,538,6],[531,1,532,1],[531,2,532,2],[531,3,532,3],[531,4,532,4],[535,5,536,5],[535,6,536,6],[533,1,534,1],[533,2,534,2],[533,3,534,3],[533,4,534,4],[535,1,536,1],[535,2,536,2],[537,1,538,1],[537,2,538,2],[537,3,538,3],[537,4,538,4],[535,3,536,3],[535,4,536,4],[531,5,532,5],[523,6,524,6],[525,5,526,5],[525,6,526,6],[529,5,530,5],[529,6,530,6],[523,1,524,1],[523,2,524,2],[523,3,524,3],[523,4,524,4],[527,5,528,5],[527,6,528,6],[525,1,526,1],[525,2,526,2],[525,3,526,3],[525,4,526,4],[527,1,528,1],[527,2,528,2],[529,1,530,1],[529,2,530,2],[529,3,530,3],[529,4,530,4],[527,3,528,3],[527,4,528,4],[523,5,524,5],[509,3,510,3],[509,4,510,4],[519,5,520,5],[519,6,520,6],[521,1,522,1],[521,2,522,2],[521,3,522,3],[521,4,522,4],[521,5,522,5],[521,6,522,6],[519,1,520,1],[519,2,520,2],[519,3,520,3],[519,4,520,4],[513,1,513,5],[514,1,514,5],[516,1,516,6],[517,1,518,1],[517,2,518,2],[517,3,518,3],[517,4,518,4],[505,5,506,5],[505,4,506,4],[517,6,518,6],[509,5,510,5],[509,6,510,6],[517,5,518,5],[505,6,506,6],[507,1,508,1],[507,2,508,2],[507,3,508,3],[507,4,508,4],[507,5,508,5],[507,6,508,6],[505,1,506,1],[505,2,506,2],[505,3,506,3],[509,1,510,1],[511,1,512,1],[511,2,512,2],[511,3,512,3],[511,4,512,4],[511,5,512,5],[511,6,512,6],[509,2,510,2],[497,6,498,6],[499,5,500,5],[499,6,500,6],[503,5,504,5],[503,6,504,6],[497,1,498,1],[497,2,498,2],[497,3,498,3],[497,4,498,4],[501,5,502,5],[501,6,502,6],[499,1,500,1],[499,2,500,2],[499,3,500,3],[499,4,500,4],[501,1,502,1],[501,2,502,2],[503,1,504,1],[503,2,504,2],[503,3,504,3],[503,4,504,4],[501,3,502,3],[501,4,502,4],[497,5,498,5],[489,6,490,6],[491,5,492,5],[491,6,492,6],[495,5,496,5],[495,6,496,6],[489,1,490,1],[489,2,490,2],[489,3,490,3],[489,4,490,4],[493,5,494,5],[493,6,494,6],[491,1,492,1],[491,2,492,2],[491,3,492,3],[491,4,492,4],[493,1,494,1],[493,2,494,2],[495,1,496,1],[495,2,496,2],[495,3,496,3],[495,4,496,4],[493,3,494,3],[493,4,494,4],[489,5,490,5],[481,6,482,6],[483,5,484,5],[483,6,484,6],[487,5,488,5],[487,6,488,6],[481,1,482,1],[481,2,482,2],[481,3,482,3],[481,4,482,4],[485,5,486,5],[485,6,486,6],[483,1,484,1],[483,2,484,2],[483,3,484,3],[483,4,484,4],[485,1,486,1],[485,2,486,2],[487,1,488,1],[487,2,488,2],[487,3,488,3],[487,4,488,4],[485,3,486,3],[485,4,486,4],[481,5,482,5],[473,6,474,6],[475,5,476,5],[475,6,476,6],[479,5,480,5],[479,6,480,6],[473,1,474,1],[473,2,474,2],[473,3,474,3],[473,4,474,4],[477,5,478,5],[477,6,478,6],[475,1,476,1],[475,2,476,2],[475,3,476,3],[475,4,476,4],[477,1,478,1],[477,2,478,2],[479,1,480,1],[479,2,480,2],[479,3,480,3],[479,4,480,4],[477,3,478,3],[477,4,478,4],[473,5,474,5],[465,6,466,6],[467,5,468,5],[467,6,468,6],[471,5,472,5],[471,6,472,6],[465,1,466,1],[465,2,466,2],[465,3,466,3],[465,4,466,4],[469,5,470,5],[469,6,470,6],[467,1,468,1],[467,2,468,2],[467,3,468,3],[467,4,468,4],[469,1,470,1],[469,2,470,2],[471,1,472,1],[471,2,472,2],[471,3,472,3],[471,4,472,4],[469,3,470,3],[469,4,470,4],[465,5,466,5],[457,6,458,6],[459,5,460,5],[459,6,460,6],[463,5,464,5],[463,6,464,6],[457,1,458,1],[457,2,458,2],[457,3,458,3],[457,4,458,4],[461,5,462,5],[461,6,462,6],[459,1,460,1],[459,2,460,2],[459,3,460,3],[459,4,460,4],[461,1,462,1],[461,2,462,2],[463,1,464,1],[463,2,464,2],[463,3,464,3],[463,4,464,4],[461,3,462,3],[461,4,462,4],[457,5,458,5],[449,6,450,6],[451,5,452,5],[451,6,452,6],[455,5,456,5],[455,6,456,6],[449,1,450,1],[449,2,450,2],[449,3,450,3],[449,4,450,4],[453,5,454,5],[453,6,454,6],[451,1,452,1],[451,2,452,2],[451,3,452,3],[451,4,452,4],[453,1,454,1],[453,2,454,2],[455,1,456,1],[455,2,456,2],[455,3,456,3],[455,4,456,4],[453,3,454,3],[453,4,454,4],[449,5,450,5],[441,6,442,6],[443,5,444,5],[443,6,444,6],[447,5,448,5],[447,6,448,6],[441,1,442,1],[441,2,442,2],[441,3,442,3],[441,4,442,4],[445,5,446,5],[445,6,446,6],[443,1,444,1],[443,2,444,2],[443,3,444,3],[443,4,444,4],[445,1,446,1],[445,2,446,2],[447,1,448,1],[447,2,448,2],[447,3,448,3],[447,4,448,4],[445,3,446,3],[445,4,446,4],[441,5,442,5],[433,6,434,6],[435,5,436,5],[435,6,436,6],[439,5,440,5],[439,6,440,6],[433,1,434,1],[433,2,434,2],[433,3,434,3],[433,4,434,4],[437,5,438,5],[437,6,438,6],[435,1,436,1],[435,2,436,2],[435,3,436,3],[435,4,436,4],[437,1,438,1],[437,2,438,2],[439,1,440,1],[439,2,440,2],[439,3,440,3],[439,4,440,4],[437,3,438,3],[437,4,438,4],[433,5,434,5],[425,6,426,6],[427,5,428,5],[427,6,428,6],[431,5,432,5],[431,6,432,6],[425,1,426,1],[425,2,426,2],[425,3,426,3],[425,4,426,4],[429,5,430,5],[429,6,430,6],[427,1,428,1],[427,2,428,2],[427,3,428,3],[427,4,428,4],[429,1,430,1],[429,2,430,2],[431,1,432,1],[431,2,432,2],[431,3,432,3],[431,4,432,4],[429,3,430,3],[429,4,430,4],[425,5,426,5],[419,1,419,5],[420,1,420,5],[422,1,422,6],[423,1,424,1],[423,2,424,2],[423,3,424,3],[423,4,424,4],[423,5,424,5],[423,6,424,6],[411,6,412,6],[413,5,414,5],[413,6,414,6],[417,5,418,5],[417,6,418,6],[411,1,412,1],[411,2,412,2],[411,3,412,3],[411,4,412,4],[415,5,416,5],[415,6,416,6],[413,1,414,1],[413,2,414,2],[413,3,414,3],[413,4,414,4],[415,1,416,1],[415,2,416,2],[417,1,418,1],[417,2,418,2],[417,3,418,3],[417,4,418,4],[415,3,416,3],[415,4,416,4],[411,5,412,5],[403,6,404,6],[405,5,406,5],[405,6,406,6],[409,5,410,5],[409,6,410,6],[403,1,404,1],[403,2,404,2],[403,3,404,3],[403,4,404,4],[407,5,408,5],[407,6,408,6],[405,1,406,1],[405,2,406,2],[405,3,406,3],[405,4,406,4],[407,1,408,1],[407,2,408,2],[409,1,410,1],[409,2,410,2],[409,3,410,3],[409,4,410,4],[407,3,408,3],[407,4,408,4],[403,5,404,5],[395,6,396,6],[397,5,398,5],[397,6,398,6],[401,5,402,5],[401,6,402,6],[395,1,396,1],[395,2,396,2],[395,3,396,3],[395,4,396,4],[399,5,400,5],[399,6,400,6],[397,1,398,1],[397,2,398,2],[397,3,398,3],[397,4,398,4],[399,1,400,1],[399,2,400,2],[401,1,402,1],[401,2,402,2],[401,3,402,3],[401,4,402,4],[399,3,400,3],[399,4,400,4],[395,5,396,5],[387,6,388,6],[389,5,390,5],[389,6,390,6],[393,5,394,5],[393,6,394,6],[387,1,388,1],[387,2,388,2],[387,3,388,3],[387,4,388,4],[391,5,392,5],[391,6,392,6],[389,1,390,1],[389,2,390,2],[389,3,390,3],[389,4,390,4],[391,1,392,1],[391,2,392,2],[393,1,394,1],[393,2,394,2],[393,3,394,3],[393,4,394,4],[391,3,392,3],[391,4,392,4],[387,5,388,5],[379,6,380,6],[381,5,382,5],[381,6,382,6],[385,5,386,5],[385,6,386,6],[379,1,380,1],[379,2,380,2],[379,3,380,3],[379,4,380,4],[383,5,384,5],[383,6,384,6],[381,1,382,1],[381,2,382,2],[381,3,382,3],[381,4,382,4],[383,1,384,1],[383,2,384,2],[385,1,386,1],[385,2,386,2],[385,3,386,3],[385,4,386,4],[383,3,384,3],[383,4,384,4],[379,5,380,5],[371,6,372,6],[373,5,374,5],[373,6,374,6],[377,5,378,5],[377,6,378,6],[371,1,372,1],[371,2,372,2],[371,3,372,3],[371,4,372,4],[375,5,376,5],[375,6,376,6],[373,1,374,1],[373,2,374,2],[373,3,374,3],[373,4,374,4],[375,1,376,1],[375,2,376,2],[377,1,378,1],[377,2,378,2],[377,3,378,3],[377,4,378,4],[375,3,376,3],[375,4,376,4],[371,5,372,5],[363,6,364,6],[365,5,366,5],[365,6,366,6],[369,5,370,5],[369,6,370,6],[363,1,364,1],[363,2,364,2],[363,3,364,3],[363,4,364,4],[367,5,368,5],[367,6,368,6],[365,1,366,1],[365,2,366,2],[365,3,366,3],[365,4,366,4],[367,1,368,1],[367,2,368,2],[369,1,370,1],[369,2,370,2],[369,3,370,3],[369,4,370,4],[367,3,368,3],[367,4,368,4],[363,5,364,5],[355,6,356,6],[357,5,358,5],[357,6,358,6],[361,5,362,5],[361,6,362,6],[355,1,356,1],[355,2,356,2],[355,3,356,3],[355,4,356,4],[359,5,360,5],[359,6,360,6],[357,1,358,1],[357,2,358,2],[357,3,358,3],[357,4,358,4],[359,1,360,1],[359,2,360,2],[361,1,362,1],[361,2,362,2],[361,3,362,3],[361,4,362,4],[359,3,360,3],[359,4,360,4],[355,5,356,5],[347,6,348,6],[349,5,350,5],[349,6,350,6],[353,5,354,5],[353,6,354,6],[347,1,348,1],[347,2,348,2],[347,3,348,3],[347,4,348,4],[351,5,352,5],[351,6,352,6],[349,1,350,1],[349,2,350,2],[349,3,350,3],[349,4,350,4],[351,1,352,1],[351,2,352,2],[353,1,354,1],[353,2,354,2],[353,3,354,3],[353,4,354,4],[351,3,352,3],[351,4,352,4],[347,5,348,5],[339,6,340,6],[341,5,342,5],[341,6,342,6],[345,5,346,5],[345,6,346,6],[339,1,340,1],[339,2,340,2],[339,3,340,3],[339,4,340,4],[343,5,344,5],[343,6,344,6],[341,1,342,1],[341,2,342,2],[341,3,342,3],[341,4,342,4],[343,1,344,1],[343,2,344,2],[345,1,346,1],[345,2,346,2],[345,3,346,3],[345,4,346,4],[343,3,344,3],[343,4,344,4],[339,5,340,5],[331,6,332,6],[333,5,334,5],[333,6,334,6],[337,5,338,5],[337,6,338,6],[331,1,332,1],[331,2,332,2],[331,3,332,3],[331,4,332,4],[335,5,336,5],[335,6,336,6],[333,1,334,1],[333,2,334,2],[333,3,334,3],[333,4,334,4],[335,1,336,1],[335,2,336,2],[337,1,338,1],[337,2,338,2],[337,3,338,3],[337,4,338,4],[335,3,336,3],[335,4,336,4],[331,5,332,5],[325,1,325,5],[326,1,326,5],[328,1,328,6],[329,1,330,1],[329,2,330,2],[329,3,330,3],[329,4,330,4],[329,5,330,5],[329,6,330,6],[317,6,318,6],[319,5,320,5],[319,6,320,6],[323,5,324,5],[323,6,324,6],[317,1,318,1],[317,2,318,2],[317,3,318,3],[317,4,318,4],[321,5,322,5],[321,6,322,6],[319,1,320,1],[319,2,320,2],[319,3,320,3],[319,4,320,4],[321,1,322,1],[321,2,322,2],[323,1,324,1],[323,2,324,2],[323,3,324,3],[323,4,324,4],[321,3,322,3],[321,4,322,4],[317,5,318,5],[309,6,310,6],[311,5,312,5],[311,6,312,6],[315,5,316,5],[315,6,316,6],[309,1,310,1],[309,2,310,2],[309,3,310,3],[309,4,310,4],[313,5,314,5],[313,6,314,6],[311,1,312,1],[311,2,312,2],[311,3,312,3],[311,4,312,4],[313,1,314,1],[313,2,314,2],[315,1,316,1],[315,2,316,2],[315,3,316,3],[315,4,316,4],[313,3,314,3],[313,4,314,4],[309,5,310,5],[301,6,302,6],[303,5,304,5],[303,6,304,6],[307,5,308,5],[307,6,308,6],[301,1,302,1],[301,2,302,2],[301,3,302,3],[301,4,302,4],[305,5,306,5],[305,6,306,6],[303,1,304,1],[303,2,304,2],[303,3,304,3],[303,4,304,4],[305,1,306,1],[305,2,306,2],[307,1,308,1],[307,2,308,2],[307,3,308,3],[307,4,308,4],[305,3,306,3],[305,4,306,4],[301,5,302,5],[293,6,294,6],[295,5,296,5],[295,6,296,6],[299,5,300,5],[299,6,300,6],[293,1,294,1],[293,2,294,2],[293,3,294,3],[293,4,294,4],[297,5,298,5],[297,6,298,6],[295,1,296,1],[295,2,296,2],[295,3,296,3],[295,4,296,4],[297,1,298,1],[297,2,298,2],[299,1,300,1],[299,2,300,2],[299,3,300,3],[299,4,300,4],[297,3,298,3],[297,4,298,4],[293,5,294,5],[285,6,286,6],[287,5,288,5],[287,6,288,6],[291,5,292,5],[291,6,292,6],[285,1,286,1],[285,2,286,2],[285,3,286,3],[285,4,286,4],[289,5,290,5],[289,6,290,6],[287,1,288,1],[287,2,288,2],[287,3,288,3],[287,4,288,4],[289,1,290,1],[289,2,290,2],[291,1,292,1],[291,2,292,2],[291,3,292,3],[291,4,292,4],[289,3,290,3],[289,4,290,4],[285,5,286,5],[277,6,278,6],[279,5,280,5],[279,6,280,6],[283,5,284,5],[283,6,284,6],[277,1,278,1],[277,2,278,2],[277,3,278,3],[277,4,278,4],[281,5,282,5],[281,6,282,6],[279,1,280,1],[279,2,280,2],[279,3,280,3],[279,4,280,4],[281,1,282,1],[281,2,282,2],[283,1,284,1],[283,2,284,2],[283,3,284,3],[283,4,284,4],[281,3,282,3],[281,4,282,4],[277,5,278,5],[1,1,1,5],[3,1,3,5],[5,1,5,6],[2,1,2,5],[273,5,274,5],[273,6,274,6],[275,5,276,5],[275,6,276,6],[273,1,274,1],[273,2,274,2],[275,1,276,1],[275,2,276,2],[275,3,276,3],[275,4,276,4],[273,3,274,3],[273,4,274,4]]}
[]
[null,{"$f":"NAMES!$C$7","v":"Tournament"}]
[null,{"$f":"NAMES!$C$9","v":"Date"}]
[null,{"$f":"NAMES!$C$8","v":"Group"}]
[]
[null,{"$f":"NAMES!$C$10","v":"BLOCK 1"},null,null,null,null,null,null,null,"LU Name","Score","Peels"]
[null,{"$f":"IF(K7<0,\"\",IF(K7>K8,J7,J8))","v":""},{"$f":"IF(K7<0,\"\",IF(K7>K8,K7,K8))","v":""},null,"d.",{"$f":"IF(K7<0,\"\",IF(K7>K8,J8,J7))","v":""},{"$f":"IF(K7<0,\"\",IF(K7>K8,K8,K7))","v":""},{"$f":"IF(B7=\"\",\"\",IF(ISTEXT(L7),L7,IF(ISTEXT(L8),L8,\"\")))","v":""},null,{"$f":"RESULTS!C4","v":" Block 1 Player 1"},{"$f":"RESULTS!D4","v":-1E-3},{"$f":"RESULTS!E4","v":-1E-3}]
[null,null,null,null,null,null,null,null,null,{"$f":"RESULTS!C5","v":" Block 1 Player 3"},{"$f":"RESULTS!D5","v":-1E-3},{"$f":"RESULTS!E5","v":-1E-3}]
[null,{"$f":"IF(K9<0,\"\",IF(K9>K10,J9,J10))","v":""},{"$f":"IF(K9<0,\"\",IF(K9>K10,K9,K10))","v":""},null,"d.",{"$f":"IF(K9<0,\"\",IF(K9>K10,J10,J9))","v":""},{"$f":"IF(K9<0,\"\",IF(K9>K10,K10,K9))","v":""},{"$f":"IF(B9=\"\",\"\",IF(ISTEXT(L9),L9,IF(ISTEXT(L10),L10,\"\")))","v":""},null,{"$f":"RESULTS!C6","v":" Block 1 Player 2"},{"$f":"RESULTS!D6","v":-1E-3},{"$f":"RESULTS!E6","v":-1E-3}]
[null,null,null,null,null,null,null,null,null,{"$f":"RESULTS!C7","v":" Block 1 Player 4"},{"$f":"RESULTS!D7","v":-1E-3},{"$f":"RESULTS!E7","v":-1E-3}]
[null,{"$f":"IF(K11<0,\"\",IF(K11>K12,J11,J12))","v":""},{"$f":"IF(K11<0,\"\",IF(K11>K12,K11,K12))","v":""},null,"d.",{"$f":"IF(K11<0,\"\",IF(K11>K12,J12,J11))","v":""},{"$f":"IF(K11<0,\"\",IF(K11>K12,K12,K11))","v":""},{"$f":"IF(B11=\"\",\"\",IF(ISTEXT(L11),L11,IF(ISTEXT(L12),L12,\"\")))","v":""},null,{"$f":"RESULTS!C8","v":" Block 1 Player 12"},{"$f":"RESULTS!D8","v":-1E-3},{"$f":"RESULTS!E8","v":-1E-3}]
[null,null,null,null,null,null,null,null,null,{"$f":"RESULTS!C9","v":" Block 1 Player 5"},{"$f":"RESULTS!D9","v":-1E-3},{"$f":"RESULTS!E9","v":-1E-3}]
[null,{"$f":"IF(K13<0,\"\",IF(K13>K14,J13,J14))","v":""},{"$f":"IF(K13<0,\"\",IF(K13>K14,K13,K14))","v":""},null,"d.",{"$f":"IF(K13<0,\"\",IF(K13>K14,J14,J13))","v":""},{"$f":"IF(K13<0,\"\",IF(K13>K14,K14,K13))","v":""},{"$f":"IF(B13=\"\",\"\",IF(ISTEXT(L13),L13,IF(ISTEXT(L14),L14,\"\")))","v":""},null,{"$f":"RESULTS!C10","v":" Block 1 Player 11"},{"$f":"RESULTS!D10","v":-1E-3},{"$f":"RESULTS!E10","v":-1E-3}]
[null,null,null,null,null,null,null,null,null,{"$f":"RESULTS!C11","v":" Block 1 Player 6"},{"$f":"RESULTS!D11","v":-1E-3},{"$f":"RESULTS!E11","v":-1E-3}]
[null,{"$f":"IF(K15<0,\"\",IF(K15>K16,J15,J16))","v":""},{"$f":"IF(K15<0,\"\",IF(K15>K16,K15,K16))","v":""},null,"d.",{"$f":"IF(K15<0,\"\",IF(K15>K16,J16,J15))","v":""},{"$f":"IF(K15<0,\"\",IF(K15>K16,K16,K15))","v":""},{"$f":"IF(B15=\"\",\"\",IF(ISTEXT(L15),L15,IF(ISTEXT(L16),L16,\"\")))","v":""},null,{"$f":"RESULTS!C12","v":" Block 1 Player 10"},{"$f":"RESULTS!D12","v":-1E-3},{"$f":"RESULTS!E12","v":-1E-3}]
[null,null,null,null,null,null,null,null,null,{"$f":"RESULTS!C13","v":" Block 1 Player 7"},{"$f":"RESULTS!D13","v":-1E-3},{"$f":"RESULTS!E13","v":-1E-3}]
[null,{"$f":"IF(K17<0,\"\",IF(K17>K18,J17,J18))","v":""},{"$f":"IF(K17<0,\"\",IF(K17>K18,K17,K18))","v":""},null,"d.",{"$f":"IF(K17<0,\"\",IF(K17>K18,J18,J17))","v":""},{"$f":"IF(K17<0,\"\",IF(K17>K18,K18,K17))","v":""},{"$f":"IF(B17=\"\",\"\",IF(ISTEXT(L17),L17,IF(ISTEXT(L18),L18,\"\")))","v":""},null,{"$f":"RESULTS!C14","v":" Block 1 Player 9"},{"$f":"RESULTS!D14","v":-1E-3},{"$f":"RESULTS!E14","v":-1E-3}]
[null,null,null,null,null,null,null,null,null,{"$f":"RESULTS!C15","v":" Block 1 Player 8"},{"$f":"RESULTS!D15","v":-1E-3},{"$f":"RESULTS!E15","v":-1E-3}]
[null,{"$f":"IF(K19<0,\"\",IF(K19>K20,J19,J20))","v":""},{"$f":"IF(K19<0,\"\",IF(K19>K20,K19,K20))","v":""},null,"d.",{"$f":"IF(K19<0,\"\",IF(K19>K20,J20,J19))","v":""},{"$f":"IF(K19<0,\"\",IF(K19>K20,K20,K19))","v":""},{"$f":"IF(B19=\"\",\"\",IF(ISTEXT(L19),L19,IF(ISTEXT(L20),L20,\"\")))","v":""},null,{"$f":"RESULTS!C16","v":" Block 1 Player 1"},{"$f":"RESULTS!D16","v":-1E-3},{"$f":"RESULTS!E16","v":-1E-3}]
[null,null,null,null,null,null,null,null,null,{"$f":"RESULTS!C17","v":" Block 1 Player 4"},{"$f":"RESULTS!D17","v":-1E-3},{"$f":"RESULTS!E17","v":-1E-3}]
[null,{"$f":"IF(K21<0,\"\",IF(K21>K22,J21,J22))","v":""},{"$f":"IF(K21<0,\"\",IF(K21>K22,K21,K22))","v":""},null,"d.",{"$f":"IF(K21<0,\"\",IF(K21>K22,J22,J21))","v":""},{"$f":"IF(K21<0,\"\",IF(K21>K22,K22,K21))","v":""},{"$f":"IF(B21=\"\",\"\",IF(ISTEXT(L21),L21,IF(ISTEXT(L22),L22,\"\")))","v":""},null,{"$f":"RESULTS!C18","v":" Block 1 Player 5"},{"$f":"RESULTS!D18","v":-1E-3},{"$f":"RESULTS!E18","v":-1E-3}]
[null,null,null,null,null,null,null,null,null,{"$f":"RESULTS!C19","v":" Block 1 Player 3"},{"$f":"RESULTS!D19","v":-1E-3},{"$f":"RESULTS!E19","v":-1E-3}]
[null,{"$f":"IF(K23<0,\"\",IF(K23>K24,J23,J24))","v":""},{"$f":"IF(K23<0,\"\",IF(K23>K24,K23,K24))","v":""},null,"d.",{"$f":"IF(K23<0,\"\",IF(K23>K24,J24,J23))","v":""},{"$f":"IF(K23<0,\"\",IF(K23>K24,K24,K23))","v":""},{"$f":"IF(B23=\"\",\"\",IF(ISTEXT(L23),L23,IF(ISTEXT(L24),L24,\"\")))","v":""},null,{"$f":"RESULTS!C20","v":" Block 1 Player 2"},{"$f":"RESULTS!D20","v":-1E-3},{"$f":"RESULTS!E20","v":-1E-3}]
[null,null,null,null,null,null,null,null,null,{"$f":"RESULTS!C21","v":" Block 1 Player 6"},{"$f":"RESULTS!D21","v":-1E-3},{"$f":"RESULTS!E21","v":-1E-3}]
[null,{"$f":"IF(K25<0,\"\",IF(K25>K26,J25,J26))","v":""},{"$f":"IF(K25<0,\"\",IF(K25>K26,K25,K26))","v":""},null,"d.",{"$f":"IF(K25<0,\"\",IF(K25>K26,J26,J25))","v":""},{"$f":"IF(K25<0,\"\",IF(K25>K26,K26,K25))","v":""},{"$f":"IF(B25=\"\",\"\",IF(ISTEXT(L25),L25,IF(ISTEXT(L26),L26,\"\")))","v":""},null,{"$f":"RESULTS!C22","v":" Block 1 Player 12"},{"$f":"RESULTS!D22","v":-1E-3},{"$f":"RESULTS!E22","v":-1E-3}]
[null,null,null,null,null,null,null,null,null,{"$f":"RESULTS!C23","v":" Block 1 Player 7"},{"$f":"RESULTS!D23","v":-1E-3},{"$f":"RESULTS!E23","v":-1E-3}]
[null,{"$f":"IF(K27<0,\"\",IF(K27>K28,J27,J28))","v":""},{"$f":"IF(K27<0,\"\",IF(K27>K28,K27,K28))","v":""},null,"d.",{"$f":"IF(K27<0,\"\",IF(K27>K28,J28,J27))","v":""},{"$f":"IF(K27<0,\"\",IF(K27>K28,K28,K27))","v":""},{"$f":"IF(B27=\"\",\"\",IF(ISTEXT(L27),L27,IF(ISTEXT(L28),L28,\"\")))","v":""},null,{"$f":"RESULTS!C24","v":" Block 1 Player 11"},{"$f":"RESULTS!D24","v":-1E-3},{"$f":"RESULTS!E24","v":-1E-3}]
[null,null,null,null,null,null,null,null,null,{"$f":"RESULTS!C25","v":" Block 1 Player 8"},{"$f":"RESULTS!D25","v":-1E-3},{"$f":"RESULTS!E25","v":-1E-3}]
[null,{"$f":"IF(K29<0,\"\",IF(K29>K30,J29,J30))","v":""},{"$f":"IF(K29<0,\"\",IF(K29>K30,K29,K30))","v":""},null,"d.",{"$f":"IF(K29<0,\"\",IF(K29>K30,J30,J29))","v":""},{"$f":"IF(K29<0,\"\",IF(K29>K30,K30,K29))","v":""},{"$f":"IF(B29=\"\",\"\",IF(ISTEXT(L29),L29,IF(ISTEXT(L30),L30,\"\")))","v":""},null,{"$f":"RESULTS!C26","v":" Block 1 Player 10"},{"$f":"RESULTS!D26","v":-1E-3},{"$f":"RESULTS!E26","v":-1E-3}]
[null,null,null,null,null,null,null,null,null,{"$f":"RESULTS!C27","v":" Block 1 Player 9"},{"$f":"RESULTS!D27","v":-1E-3},{"$f":"RESULTS!E27","v":-1E-3}]
[null,{"$f":"IF(K31<0,\"\",IF(K31>K32,J31,J32))","v":""},{"$f":"IF(K31<0,\"\",IF(K31>K32,K31,K32))","v":""},null,"d.",{"$f":"IF(K31<0,\"\",IF(K31>K32,J32,J31))","v":""},{"$f":"IF(K31<0,\"\",IF(K31>K32,K32,K31))","v":""},{"$f":"IF(B31=\"\",\"\",IF(ISTEXT(L31),L31,IF(ISTEXT(L32),L32,\"\")))","v":""},null,{"$f":"RESULTS!G4","v":" Block 1 Player 1"},{"$f":"RESULTS!H4","v":-1E-3},{"$f":"RESULTS!I4","v":-1E-3}]
[null,null,null,null,null,null,null,null,null,{"$f":"RESULTS!G5","v":" Block 1 Player 5"},{"$f":"RESULTS!H5","v":-1E-3},{"$f":"RESULTS!I5","v":-1E-3}]
[null,{"$f":"IF(K33<0,\"\",IF(K33>K34,J33,J34))","v":""},{"$f":"IF(K33<0,\"\",IF(K33>K34,K33,K34))","v":""},null,"d.",{"$f":"IF(K33<0,\"\",IF(K33>K34,J34,J33))","v":""},{"$f":"IF(K33<0,\"\",IF(K33>K34,K34,K33))","v":""},{"$f":"IF(B33=\"\",\"\",IF(ISTEXT(L33),L33,IF(ISTEXT(L34),L34,\"\")))","v":""},null,{"$f":"RESULTS!G6","v":" Block 1 Player 4"},{"$f":"RESULTS!H6","v":-1E-3},{"$f":"RESULTS!I6","v":-1E-3}]
[null,null,null,null,null,null,null,null,null,{"$f":"RESULTS!G7","v":" Block 1 Player 6"},{"$f":"RESULTS!H7","v":-1E-3},{"$f":"RESULTS!I7","v":-1E-3}]
[null,{"$f":"IF(K35<0,\"\",IF(K35>K36,J35,J36))","v":""},{"$f":"IF(K35<0,\"\",IF(K35>K36,K35,K36))","v":""},null,"d.",{"$f":"IF(K35<0,\"\",IF(K35>K36,J36,J35))","v":""},{"$f":"IF(K35<0,\"\",IF(K35>K36,K36,K35))","v":""},{"$f":"IF(B35=\"\",\"\",IF(ISTEXT(L35),L35,IF(ISTEXT(L36),L36,\"\")))","v":""},null,{"$f":"RESULTS!G8","v":" Block 1 Player 3"},{"$f":"RESULTS!H8","v":-1E-3},{"$f":"RESULTS!I8","v":-1E-3}]
[null,null,null,null,null,null,null,null,null,{"$f":"RESULTS!G9","v":" Block 1 Player 7"},{"$f":"RESULTS!H9","v":-1E-3},{"$f":"RESULTS!I9","v":-1E-3}]
[null,{"$f":"IF(K37<0,\"\",IF(K37>K38,J37,J38))","v":""},{"$f":"IF(K37<0,\"\",IF(K37>K38,K37,K38))","v":""},null,"d.",{"$f":"IF(K37<0,\"\",IF(K37>K38,J38,J37))","v":""},{"$f":"IF(K37<0,\"\",IF(K37>K38,K38,K37))","v":""},{"$f":"IF(B37=\"\",\"\",IF(ISTEXT(L37),L37,IF(ISTEXT(L38),L38,\"\")))","v":""},null,{"$f":"RESULTS!G10","v":" Block 1 Player 2"},{"$f":"RESULTS!H10","v":-1E-3},{"$f":"RESULTS!I10","v":-1E-3}]
[null,null,null,null,null,null,null,null,null,{"$f":"RESULTS!G11","v":" Block 1 Player 8"},{"$f":"RESULTS!H11","v":-1E-3},{"$f":"RESULTS!I11","v":-1E-3}]
[null,{"$f":"IF(K39<0,\"\",IF(K39>K40,J39,J40))","v":""},{"$f":"IF(K39<0,\"\",IF(K39>K40,K39,K40))","v":""},null,"d.",{"$f":"IF(K39<0,\"\",IF(K39>K40,J40,J39))","v":""},{"$f":"IF(K39<0,\"\",IF(K39>K40,K40,K39))","v":""},{"$f":"IF(B39=\"\",\"\",IF(ISTEXT(L39),L39,IF(ISTEXT(L40),L40,\"\")))","v":""},null,{"$f":"RESULTS!G12","v":" Block 1 Player 12"},{"$f":"RESULTS!H12","v":-1E-3},{"$f":"RESULTS!I12","v":-1E-3}]
[null,null,null,null,null,null,null,null,null,{"$f":"RESULTS!G13","v":" Block 1 Player 9"},{"$f":"RESULTS!H13","v":-1E-3},{"$f":"RESULTS!I13","v":-1E-3}]
[null,{"$f":"IF(K41<0,\"\",IF(K41>K42,J41,J42))","v":""},{"$f":"IF(K41<0,\"\",IF(K41>K42,K41,K42))","v":""},null,"d.",{"$f":"IF(K41<0,\"\",IF(K41>K42,J42,J41))","v":""},{"$f":"IF(K41<0,\"\",IF(K41>K42,K42,K41))","v":""},{"$f":"IF(B41=\"\",\"\",IF(ISTEXT(L41),L41,IF(ISTEXT(L42),L42,\"\")))","v":""},null,{"$f":"RESULTS!G14","v":" Block 1 Player 11"},{"$f":"RESULTS!H14","v":-1E-3},{"$f":"RESULTS!I14","v":-1E-3}]
[null,null,null,null,null,null,null,null,null,{"$f":"RESULTS!G15","v":" Block 1 Player 10"},{"$f":"RESULTS!H15","v":-1E-3},{"$f":"RESULTS!I15","v":-1E-3}]
[null,{"$f":"IF(K43<0,\"\",IF(K43>K44,J43,J44))","v":""},{"$f":"IF(K43<0,\"\",IF(K43>K44,K43,K44))","v":""},null,"d.",{"$f":"IF(K43<0,\"\",IF(K43>K44,J44,J43))","v":""},{"$f":"IF(K43<0,\"\",IF(K43>K44,K44,K43))","v":""},{"$f":"IF(B43=\"\",\"\",IF(ISTEXT(L43),L43,IF(ISTEXT(L44),L44,\"\")))","v":""},null,{"$f":"RESULTS!G16","v":" Block 1 Player 1"},{"$f":"RESULTS!H16","v":-1E-3},{"$f":"RESULTS!I16","v":-1E-3}]
[null,null,null,null,null,null,null,null,null,{"$f":"RESULTS!G17","v":" Block 1 Player 6"},{"$f":"RESULTS!H17","v":-1E-3},{"$f":"RESULTS!I17","v":-1E-3}]
[null,{"$f":"IF(K45<0,\"\",IF(K45>K46,J45,J46))","v":""},{"$f":"IF(K45<0,\"\",IF(K45>K46,K45,K46))","v":""},null,"d.",{"$f":"IF(K45<0,\"\",IF(K45>K46,J46,J45))","v":""},{"$f":"IF(K45<0,\"\",IF(K45>K46,K46,K45))","v":""},{"$f":"IF(B45=\"\",\"\",IF(ISTEXT(L45),L45,IF(ISTEXT(L46),L46,\"\")))","v":""},null,{"$f":"RESULTS!G18","v":" Block 1 Player 5"},{"$f":"RESULTS!H18","v":-1E-3},{"$f":"RESULTS!I18","v":-1E-3}]
[null,null,null,null,null,null,null,null,null,{"$f":"RESULTS!G19","v":" Block 1 Player 7"},{"$f":"RESULTS!H19","v":-1E-3},{"$f":"RESULTS!I19","v":-1E-3}]
[null,{"$f":"IF(K47<0,\"\",IF(K47>K48,J47,J48))","v":""},{"$f":"IF(K47<0,\"\",IF(K47>K48,K47,K48))","v":""},null,"d.",{"$f":"IF(K47<0,\"\",IF(K47>K48,J48,J47))","v":""},{"$f":"IF(K47<0,\"\",IF(K47>K48,K48,K47))","v":""},{"$f":"IF(B47=\"\",\"\",IF(ISTEXT(L47),L47,IF(ISTEXT(L48),L48,\"\")))","v":""},null,{"$f":"RESULTS!G20","v":" Block 1 Player 4"},{"$f":"RESULTS!H20","v":-1E-3},{"$f":"RESULTS!I20","v":-1E-3}]
[null,null,null,null,null,null,null,null,null,{"$f":"RESULTS!G21","v":" Block 1 Player 8"},{"$f":"RESULTS!H21","v":-1E-3},{"$f":"RESULTS!I21","v":-1E-3}]
[null,{"$f":"IF(K49<0,\"\",IF(K49>K50,J49,J50))","v":""},{"$f":"IF(K49<0,\"\",IF(K49>K50,K49,K50))","v":""},null,"d.",{"$f":"IF(K49<0,\"\",IF(K49>K50,J50,J49))","v":""},{"$f":"IF(K49<0,\"\",IF(K49>K50,K50,K49))","v":""},{"$f":"IF(B49=\"\",\"\",IF(ISTEXT(L49),L49,IF(ISTEXT(L50),L50,\"\")))","v":""},null,{"$f":"RESULTS!G22","v":" Block 1 Player 3"},{"$f":"RESULTS!H22","v":-1E-3},{"$f":"RESULTS!I22","v":-1E-3}]
[null,null,null,null,null,null,null,null,null,{"$f":"RESULTS!G23","v":" Block 1 Player 9"},{"$f":"RESULTS!H23","v":-1E-3},{"$f":"RESULTS!I23","v":-1E-3}]
[null,{"$f":"IF(K51<0,\"\",IF(K51>K52,J51,J52))","v":""},{"$f":"IF(K51<0,\"\",IF(K51>K52,K51,K52))","v":""},null,"d.",{"$f":"IF(K51<0,\"\",IF(K51>K52,J52,J51))","v":""},{"$f":"IF(K51<0,\"\",IF(K51>K52,K52,K51))","v":""},{"$f":"IF(B51=\"\",\"\",IF(ISTEXT(L51),L51,IF(ISTEXT(L52),L52,\"\")))","v":""},null,{"$f":"RESULTS!G24","v":" Block 1 Player 2"},{"$f":"RESULTS!H24","v":-1E-3},{"$f":"RESULTS!I24","v":-1E-3}]
[null,null,null,null,null,null,null,null,null,{"$f":"RESULTS!G25","v":" Block 1 Player 10"},{"$f":"RESULTS!H25","v":-1E-3},{"$f":"RESULTS!I25","v":-1E-3}]
[null,{"$f":"IF(K53<0,\"\",IF(K53>K54,J53,J54))","v":""},{"$f":"IF(K53<0,\"\",IF(K53>K54,K53,K54))","v":""},null,"d.",{"$f":"IF(K53<0,\"\",IF(K53>K54,J54,J53))","v":""},{"$f":"IF(K53<0,\"\",IF(K53>K54,K54,K53))","v":""},{"$f":"IF(B53=\"\",\"\",IF(ISTEXT(L53),L53,IF(ISTEXT(L54),L54,\"\")))","v":""},null,{"$f":"RESULTS!G26","v":" Block 1 Player 12"},{"$f":"RESULTS!H26","v":-1E-3},{"$f":"RESULTS!I26","v":-1E-3}]
[null,null,null,null,null,null,null,null,null,{"$f":"RESULTS!G27","v":" Block 1 Player 11"},{"$f":"RESULTS!H27","v":-1E-3},{"$f":"RESULTS!I27","v":-1E-3}]
[null,{"$f":"IF(K55<0,\"\",IF(K55>K56,J55,J56))","v":""},{"$f":"IF(K55<0,\"\",IF(K55>K56,K55,K56))","v":""},null,"d.",{"$f":"IF(K55<0,\"\",IF(K55>K56,J56,J55))","v":""},{"$f":"IF(K55<0,\"\",IF(K55>K56,K56,K55))","v":""},{"$f":"IF(B55=\"\",\"\",IF(ISTEXT(L55),L55,IF(ISTEXT(L56),L56,\"\")))","v":""},null,{"$f":"RESULTS!K4","v":" Block 1 Player 1"},{"$f":"RESULTS!L4","v":-1E-3},{"$f":"RESULTS!M4","v":-1E-3}]
[null,null,null,null,null,null,null,null,null,{"$f":"RESULTS!K5","v":" Block 1 Player 7"},{"$f":"RESULTS!L5","v":-1E-3},{"$f":"RESULTS!M5","v":-1E-3}]
[null,{"$f":"IF(K57<0,\"\",IF(K57>K58,J57,J58))","v":""},{"$f":"IF(K57<0,\"\",IF(K57>K58,K57,K58))","v":""},null,"d.",{"$f":"IF(K57<0,\"\",IF(K57>K58,J58,J57))","v":""},{"$f":"IF(K57<0,\"\",IF(K57>K58,K58,K57))","v":""},{"$f":"IF(B57=\"\",\"\",IF(ISTEXT(L57),L57,IF(ISTEXT(L58),L58,\"\")))","v":""},null,{"$f":"RESULTS!K6","v":" Block 1 Player 6"},{"$f":"RESULTS!L6","v":-1E-3},{"$f":"RESULTS!M6","v":-1E-3}]
[null,null,null,null,null,null,null,null,null,{"$f":"RESULTS!K7","v":" Block 1 Player 8"},{"$f":"RESULTS!L7","v":-1E-3},{"$f":"RESULTS!M7","v":-1E-3}]
[null,{"$f":"IF(K59<0,\"\",IF(K59>K60,J59,J60))","v":""},{"$f":"IF(K59<0,\"\",IF(K59>K60,K59,K60))","v":""},null,"d.",{"$f":"IF(K59<0,\"\",IF(K59>K60,J60,J59))","v":""},{"$f":"IF(K59<0,\"\",IF(K59>K60,K60,K59))","v":""},{"$f":"IF(B59=\"\",\"\",IF(ISTEXT(L59),L59,IF(ISTEXT(L60),L60,\"\")))","v":""},null,{"$f":"RESULTS!K8","v":" Block 1 Player 5"},{"$f":"RESULTS!L8","v":-1E-3},{"$f":"RESULTS!M8","v":-1E-3}]
[null,null,null,null,null,null,null,null,null,{"$f":"RESULTS!K9","v":" Block 1 Player 9"},{"$f":"RESULTS!L9","v":-1E-3},{"$f":"RESULTS!M9","v":-1E-3}]
[null,{"$f":"IF(K61<0,\"\",IF(K61>K62,J61,J62))","v":""},{"$f":"IF(K61<0,\"\",IF(K61>K62,K61,K62))","v":""},null,"d.",{"$f":"IF(K61<0,\"\",IF(K61>K62,J62,J61))","v":""},{"$f":"IF(K61<0,\"\",IF(K61>K62,K62,K61))","v":""},{"$f":"IF(B61=\"\",\"\",IF(ISTEXT(L61),L61,IF(ISTEXT(L62),L62,\"\")))","v":""},null,{"$f":"RESULTS!K10","v":" Block 1 Player 4"},{"$f":"RESULTS!L10","v":-1E-3},{"$f":"RESULTS!M10","v":-1E-3}]
[null,null,null,null,null,null,null,null,null,{"$f":"RESULTS!K11","v":" Block 1 Player 10"},{"$f":"RESULTS!L11","v":-1E-3},{"$f":"RESULTS!M11","v":-1E-3}]
[null,{"$f":"IF(K63<0,\"\",IF(K63>K64,J63,J64))","v":""},{"$f":"IF(K63<0,\"\",IF(K63>K64,K63,K64))","v":""},null,"d.",{"$f":"IF(K63<0,\"\",IF(K63>K64,J64,J63))","v":""},{"$f":"IF(K63<0,\"\",IF(K63>K64,K64,K63))","v":""},{"$f":"IF(B63=\"\",\"\",IF(ISTEXT(L63),L63,IF(ISTEXT(L64),L64,\"\")))","v":""},null,{"$f":"RESULTS!K12","v":" Block 1 Player 3"},{"$f":"RESULTS!L12","v":-1E-3},{"$f":"RESULTS!M12","v":-1E-3}]
[null,null,null,null,null,null,null,null,null,{"$f":"RESULTS!K13","v":" Block 1 Player 11"},{"$f":"RESULTS!L13","v":-1E-3},{"$f":"RESULTS!M13","v":-1E-3}]
[null,{"$f":"IF(K65<0,\"\",IF(K65>K66,J65,J66))","v":""},{"$f":"IF(K65<0,\"\",IF(K65>K66,K65,K66))","v":""},null,"d.",{"$f":"IF(K65<0,\"\",IF(K65>K66,J66,J65))","v":""},{"$f":"IF(K65<0,\"\",IF(K65>K66,K66,K65))","v":""},{"$f":"IF(B65=\"\",\"\",IF(ISTEXT(L65),L65,IF(ISTEXT(L66),L66,\"\")))","v":""},null,{"$f":"RESULTS!K14","v":" Block 1 Player 2"},{"$f":"RESULTS!L14","v":-1E-3},{"$f":"RESULTS!M14","v":-1E-3}]
[null,null,null,null,null,null,null,null,null,{"$f":"RESULTS!K15","v":" Block 1 Player 12"},{"$f":"RESULTS!L15","v":-1E-3},{"$f":"RESULTS!M15","v":-1E-3}]
[null,{"$f":"IF(K67<0,\"\",IF(K67>K68,J67,J68))","v":""},{"$f":"IF(K67<0,\"\",IF(K67>K68,K67,K68))","v":""},null,"d.",{"$f":"IF(K67<0,\"\",IF(K67>K68,J68,J67))","v":""},{"$f":"IF(K67<0,\"\",IF(K67>K68,K68,K67))","v":""},{"$f":"IF(B67=\"\",\"\",IF(ISTEXT(L67),L67,IF(ISTEXT(L68),L68,\"\")))","v":""},null,{"$f":"RESULTS!K16","v":" Block 1 Player 1"},{"$f":"RESULTS!L16","v":-1E-3},{"$f":"RESULTS!M16","v":-1E-3}]
[null,null,null,null,null,null,null,null,null,{"$f":"RESULTS!K17","v":" Block 1 Player 8"},{"$f":"RESULTS!L17","v":-1E-3},{"$f":"RESULTS!M17","v":-1E-3}]
[null,{"$f":"IF(K69<0,\"\",IF(K69>K70,J69,J70))","v":""},{"$f":"IF(K69<0,\"\",IF(K69>K70,K69,K70))","v":""},null,"d.",{"$f":"IF(K69<0,\"\",IF(K69>K70,J70,J69))","v":""},{"$f":"IF(K69<0,\"\",IF(K69>K70,K70,K69))","v":""},{"$f":"IF(B69=\"\",\"\",IF(ISTEXT(L69),L69,IF(ISTEXT(L70),L70,\"\")))","v":""},null,{"$f":"RESULTS!K18","v":" Block 1 Player 7"},{"$f":"RESULTS!L18","v":-1E-3},{"$f":"RESULTS!M18","v":-1E-3}]
[null,null,null,null,null,null,null,null,null,{"$f":"RESULTS!K19","v":" Block 1 Player 9"},{"$f":"RESULTS!L19","v":-1E-3},{"$f":"RESULTS!M19","v":-1E-3}]
[null,{"$f":"IF(K71<0,\"\",IF(K71>K72,J71,J72))","v":""},{"$f":"IF(K71<0,\"\",IF(K71>K72,K71,K72))","v":""},null,"d.",{"$f":"IF(K71<0,\"\",IF(K71>K72,J72,J71))","v":""},{"$f":"IF(K71<0,\"\",IF(K71>K72,K72,K71))","v":""},{"$f":"IF(B71=\"\",\"\",IF(ISTEXT(L71),L71,IF(ISTEXT(L72),L72,\"\")))","v":""},null,{"$f":"RESULTS!K20","v":" Block 1 Player 6"},{"$f":"RESULTS!L20","v":-1E-3},{"$f":"RESULTS!M20","v":-1E-3}]
[null,null,null,null,null,null,null,null,null,{"$f":"RESULTS!K21","v":" Block 1 Player 10"},{"$f":"RESULTS!L21","v":-1E-3},{"$f":"RESULTS!M21","v":-1E-3}]
[null,{"$f":"IF(K73<0,\"\",IF(K73>K74,J73,J74))","v":""},{"$f":"IF(K73<0,\"\",IF(K73>K74,K73,K74))","v":""},null,"d.",{"$f":"IF(K73<0,\"\",IF(K73>K74,J74,J73))","v":""},{"$f":"IF(K73<0,\"\",IF(K73>K74,K74,K73))","v":""},{"$f":"IF(B73=\"\",\"\",IF(ISTEXT(L73),L73,IF(ISTEXT(L74),L74,\"\")))","v":""},null,{"$f":"RESULTS!K22","v":" Block 1 Player 5"},{"$f":"RESULTS!L22","v":-1E-3},{"$f":"RESULTS!M22","v":-1E-3}]
[null,null,null,null,null,null,null,null,null,{"$f":"RESULTS!K23","v":" Block 1 Player 11"},{"$f":"RESULTS!L23","v":-1E-3},{"$f":"RESULTS!M23","v":-1E-3}]
[null,{"$f":"IF(K75<0,\"\",IF(K75>K76,J75,J76))","v":""},{"$f":"IF(K75<0,\"\",IF(K75>K76,K75,K76))","v":""},null,"d.",{"$f":"IF(K75<0,\"\",IF(K75>K76,J76,J75))","v":""},{"$f":"IF(K75<0,\"\",IF(K75>K76,K76,K75))","v":""},{"$f":"IF(B75=\"\",\"\",IF(ISTEXT(L75),L75,IF(ISTEXT(L76),L76,\"\")))","v":""},null,{"$f":"RESULTS!K24","v":" Block 1 Player 4"},{"$f":"RESULTS!L24","v":-1E-3},{"$f":"RESULTS!M24","v":-1E-3}]
[null,null,null,null,null,null,null,null,null,{"$f":"RESULTS!K25","v":" Block 1 Player 12"},{"$f":"RESULTS!L25","v":-1E-3},{"$f":"RESULTS!M25","v":-1E-3}]
[null,{"$f":"IF(K77<0,\"\",IF(K77>K78,J77,J78))","v":""},{"$f":"IF(K77<0,\"\",IF(K77>K78,K77,K78))","v":""},null,"d.",{"$f":"IF(K77<0,\"\",IF(K77>K78,J78,J77))","v":""},{"$f":"IF(K77<0,\"\",IF(K77>K78,K78,K77))","v":""},{"$f":"IF(B77=\"\",\"\",IF(ISTEXT(L77),L77,IF(ISTEXT(L78),L78,\"\")))","v":""},null,{"$f":"RESULTS!K26","v":" Block 1 Player 3"},{"$f":"RESULTS!L26","v":-1E-3},{"$f":"RESULTS!M26","v":-1E-3}]
[null,null,null,null,null,null,null,null,null,{"$f":"RESULTS!K27","v":" Block 1 Player 2"},{"$f":"RESULTS!L27","v":-1E-3},{"$f":"RESULTS!M27","v":-1E-3}]
[null,{"$f":"IF(K79<0,\"\",IF(K79>K80,J79,J80))","v":""},{"$f":"IF(K79<0,\"\",IF(K79>K80,K79,K80))","v":""},null,"d.",{"$f":"IF(K79<0,\"\",IF(K79>K80,J80,J79))","v":""},{"$f":"IF(K79<0,\"\",IF(K79>K80,K80,K79))","v":""},{"$f":"IF(B79=\"\",\"\",IF(ISTEXT(L79),L79,IF(ISTEXT(L80),L80,\"\")))","v":""},null,{"$f":"RESULTS!O4","v":" Block 1 Player 1"},{"$f":"RESULTS!P4","v":-1E-3},{"$f":"RESULTS!Q4","v":-1E-3}]
[null,null,null,null,null,null,null,null,null,{"$f":"RESULTS!O5","v":" Block 1 Player 9"},{"$f":"RESULTS!P5","v":-1E-3},{"$f":"RESULTS!Q5","v":-1E-3}]
[null,{"$f":"IF(K81<0,\"\",IF(K81>K82,J81,J82))","v":""},{"$f":"IF(K81<0,\"\",IF(K81>K82,K81,K82))","v":""},null,"d.",{"$f":"IF(K81<0,\"\",IF(K81>K82,J82,J81))","v":""},{"$f":"IF(K81<0,\"\",IF(K81>K82,K82,K81))","v":""},{"$f":"IF(B81=\"\",\"\",IF(ISTEXT(L81),L81,IF(ISTEXT(L82),L82,\"\")))","v":""},null,{"$f":"RESULTS!O6","v":" Block 1 Player 8"},{"$f":"RESULTS!P6","v":-1E-3},{"$f":"RESULTS!Q6","v":-1E-3}]
[null,null,null,null,null,null,null,null,null,{"$f":"RESULTS!O7","v":" Block 1 Player 10"},{"$f":"RESULTS!P7","v":-1E-3},{"$f":"RESULTS!Q7","v":-1E-3}]
[null,{"$f":"IF(K83<0,\"\",IF(K83>K84,J83,J84))","v":""},{"$f":"IF(K83<0,\"\",IF(K83>K84,K83,K84))","v":""},null,"d.",{"$f":"IF(K83<0,\"\",IF(K83>K84,J84,J83))","v":""},{"$f":"IF(K83<0,\"\",IF(K83>K84,K84,K83))","v":""},{"$f":"IF(B83=\"\",\"\",IF(ISTEXT(L83),L83,IF(ISTEXT(L84),L84,\"\")))","v":""},null,{"$f":"RESULTS!O8","v":" Block 1 Player 7"},{"$f":"RESULTS!P8","v":-1E-3},{"$f":"RESULTS!Q8","v":-1E-3}]
[null,null,null,null,null,null,null,null,null,{"$f":"RESULTS!O9","v":" Block 1 Player 11"},{"$f":"RESULTS!P9","v":-1E-3},{"$f":"RESULTS!Q9","v":-1E-3}]
[null,{"$f":"IF(K85<0,\"\",IF(K85>K86,J85,J86))","v":""},{"$f":"IF(K85<0,\"\",IF(K85>K86,K85,K86))","v":""},null,"d.",{"$f":"IF(K85<0,\"\",IF(K85>K86,J86,J85))","v":""},{"$f":"IF(K85<0,\"\",IF(K85>K86,K86,K85))","v":""},{"$f":"IF(B85=\"\",\"\",IF(ISTEXT(L85),L85,IF(ISTEXT(L86),L86,\"\")))","v":""},null,{"$f":"RESULTS!O10","v":" Block 1 Player 6"},{"$f":"RESULTS!P10","v":-1E-3},{"$f":"RESULTS!Q10","v":-1E-3}]
[null,null,null,null,null,null,null,null,null,{"$f":"RESULTS!O11","v":" Block 1 Player 12"},{"$f":"RESULTS!P11","v":-1E-3},{"$f":"RESULTS!Q11","v":-1E-3}]
[null,{"$f":"IF(K87<0,\"\",IF(K87>K88,J87,J88))","v":""},{"$f":"IF(K87<0,\"\",IF(K87>K88,K87,K88))","v":""},null,"d.",{"$f":"IF(K87<0,\"\",IF(K87>K88,J88,J87))","v":""},{"$f":"IF(K87<0,\"\",IF(K87>K88,K88,K87))","v":""},{"$f":"IF(B87=\"\",\"\",IF(ISTEXT(L87),L87,IF(ISTEXT(L88),L88,\"\")))","v":""},null,{"$f":"RESULTS!O12","v":" Block 1 Player 5"},{"$f":"RESULTS!P12","v":-1E-3},{"$f":"RESULTS!Q12","v":-1E-3}]
[null,null,null,null,null,null,null,null,null,{"$f":"RESULTS!O13","v":" Block 1 Player 2"},{"$f":"RESULTS!P13","v":-1E-3},{"$f":"RESULTS!Q13","v":-1E-3}]
[null,{"$f":"IF(K89<0,\"\",IF(K89>K90,J89,J90))","v":""},{"$f":"IF(K89<0,\"\",IF(K89>K90,K89,K90))","v":""},null,"d.",{"$f":"IF(K89<0,\"\",IF(K89>K90,J90,J89))","v":""},{"$f":"IF(K89<0,\"\",IF(K89>K90,K90,K89))","v":""},{"$f":"IF(B89=\"\",\"\",IF(ISTEXT(L89),L89,IF(ISTEXT(L90),L90,\"\")))","v":""},null,{"$f":"RESULTS!O14","v":" Block 1 Player 4"},{"$f":"RESULTS!P14","v":-1E-3},{"$f":"RESULTS!Q14","v":-1E-3}]
[null,null,null,null,null,null,null,null,null,{"$f":"RESULTS!O15","v":" Block 1 Player 3"},{"$f":"RESULTS!P15","v":-1E-3},{"$f":"RESULTS!Q15","v":-1E-3}]
[null,{"$f":"IF(K91<0,\"\",IF(K91>K92,J91,J92))","v":""},{"$f":"IF(K91<0,\"\",IF(K91>K92,K91,K92))","v":""},null,"d.",{"$f":"IF(K91<0,\"\",IF(K91>K92,J92,J91))","v":""},{"$f":"IF(K91<0,\"\",IF(K91>K92,K92,K91))","v":""},{"$f":"IF(B91=\"\",\"\",IF(ISTEXT(L91),L91,IF(ISTEXT(L92),L92,\"\")))","v":""},null,{"$f":"RESULTS!O16","v":" Block 1 Player 1"},{"$f":"RESULTS!P16","v":-1E-3},{"$f":"RESULTS!Q16","v":-1E-3}]
[null,null,null,null,null,null,null,null,null,{"$f":"RESULTS!O17","v":" Block 1 Player 10"},{"$f":"RESULTS!P17","v":-1E-3},{"$f":"RESULTS!Q17","v":-1E-3}]
[null,{"$f":"IF(K93<0,\"\",IF(K93>K94,J93,J94))","v":""},{"$f":"IF(K93<0,\"\",IF(K93>K94,K93,K94))","v":""},null,"d.",{"$f":"IF(K93<0,\"\",IF(K93>K94,J94,J93))","v":""},{"$f":"IF(K93<0,\"\",IF(K93>K94,K94,K93))","v":""},{"$f":"IF(B93=\"\",\"\",IF(ISTEXT(L93),L93,IF(ISTEXT(L94),L94,\"\")))","v":""},null,{"$f":"RESULTS!O18","v":" Block 1 Player 9"},{"$f":"RESULTS!P18","v":-1E-3},{"$f":"RESULTS!Q18","v":-1E-3}]
[null,null,null,null,null,null,null,null,null,{"$f":"RESULTS!O19","v":" Block 1 Player 11"},{"$f":"RESULTS!P19","v":-1E-3},{"$f":"RESULTS!Q19","v":-1E-3}]
[null,{"$f":"IF(K95<0,\"\",IF(K95>K96,J95,J96))","v":""},{"$f":"IF(K95<0,\"\",IF(K95>K96,K95,K96))","v":""},null,"d.",{"$f":"IF(K95<0,\"\",IF(K95>K96,J96,J95))","v":""},{"$f":"IF(K95<0,\"\",IF(K95>K96,K96,K95))","v":""},{"$f":"IF(B95=\"\",\"\",IF(ISTEXT(L95),L95,IF(ISTEXT(L96),L96,\"\")))","v":""},null,{"$f":"RESULTS!O20","v":" Block 1 Player 8"},{"$f":"RESULTS!P20","v":-1E-3},{"$f":"RESULTS!Q20","v":-1E-3}]
[null,null,null,null,null,null,null,null,null,{"$f":"RESULTS!O21","v":" Block 1 Player 12"},{"$f":"RESULTS!P21","v":-1E-3},{"$f":"RESULTS!Q21","v":-1E-3}]
[null,{"$f":"IF(K97<0,\"\",IF(K97>K98,J97,J98))","v":""},{"$f":"IF(K97<0,\"\",IF(K97>K98,K97,K98))","v":""},null,"d.",{"$f":"IF(K97<0,\"\",IF(K97>K98,J98,J97))","v":""},{"$f":"IF(K97<0,\"\",IF(K97>K98,K98,K97))","v":""},{"$f":"IF(B97=\"\",\"\",IF(ISTEXT(L97),L97,IF(ISTEXT(L98),L98,\"\")))","v":""},null,{"$f":"RESULTS!O22","v":" Block 1 Player 7"},{"$f":"RESULTS!P22","v":-1E-3},{"$f":"RESULTS!Q22","v":-1E-3}]
[null,null,null,null,null,null,null,null,null,{"$f":"RESULTS!O23","v":" Block 1 Player 2"},{"$f":"RESULTS!P23","v":-1E-3},{"$f":"RESULTS!Q23","v":-1E-3}]
[null,{"$f":"IF(K99<0,\"\",IF(K99>K100,J99,J100))","v":""},{"$f":"IF(K99<0,\"\",IF(K99>K100,K99,K100))","v":""},null,"d.",{"$f":"IF(K99<0,\"\",IF(K99>K100,J100,J99))","v":""},{"$f":"IF(K99<0,\"\",IF(K99>K100,K100,K99))","v":""},{"$f":"IF(B99=\"\",\"\",IF(ISTEXT(L99),L99,IF(ISTEXT(L100),L100,\"\")))","v":""},null,{"$f":"RESULTS!O24","v":" Block 1 Player 6"},{"$f":"RESULTS!P24","v":-1E-3},{"$f":"RESULTS!Q24","v":-1E-3}]
[null,null,null,null,null,null,null,null,null,{"$f":"RESULTS!O25","v":" Block 1 Player 3"},{"$f":"RESULTS!P25","v":-1E-3},{"$f":"RESULTS!Q25","v":-1E-3}]
[null,{"$f":"IF(K101<0,\"\",IF(K101>K102,J101,J102))","v":""},{"$f":"IF(K101<0,\"\",IF(K101>K102,K101,K102))","v":""},null,"d.",{"$f":"IF(K101<0,\"\",IF(K101>K102,J102,J101))","v":""},{"$f":"IF(K101<0,\"\",IF(K101>K102,K102,K101))","v":""},{"$f":"IF(B101=\"\",\"\",IF(ISTEXT(L101),L101,IF(ISTEXT(L102),L102,\"\")))","v":""},null,{"$f":"RESULTS!O26","v":" Block 1 Player 5"},{"$f":"RESULTS!P26","v":-1E-3},{"$f":"RESULTS!Q26","v":-1E-3}]
[null,null,null,null,null,null,null,null,null,{"$f":"RESULTS!O27","v":" Block 1 Player 4"},{"$f":"RESULTS!P27","v":-1E-3},{"$f":"RESULTS!Q27","v":-1E-3}]
[null,{"$f":"IF(K103<0,\"\",IF(K103>K104,J103,J104))","v":""},{"$f":"IF(K103<0,\"\",IF(K103>K104,K103,K104))","v":""},null,"d.",{"$f":"IF(K103<0,\"\",IF(K103>K104,J104,J103))","v":""},{"$f":"IF(K103<0,\"\",IF(K103>K104,K104,K103))","v":""},{"$f":"IF(B103=\"\",\"\",IF(ISTEXT(L103),L103,IF(ISTEXT(L104),L104,\"\")))","v":""},null,{"$f":"RESULTS!S4","v":" Block 1 Player 1"},{"$f":"RESULTS!T4","v":-1E-3},{"$f":"RESULTS!U4","v":-1E-3}]
[null,null,null,null,null,null,null,null,null,{"$f":"RESULTS!S5","v":" Block 1 Player 11"},{"$f":"RESULTS!T5","v":-1E-3},{"$f":"RESULTS!U5","v":-1E-3}]
[null,{"$f":"IF(K105<0,\"\",IF(K105>K106,J105,J106))","v":""},{"$f":"IF(K105<0,\"\",IF(K105>K106,K105,K106))","v":""},null,"d.",{"$f":"IF(K105<0,\"\",IF(K105>K106,J106,J105))","v":""},{"$f":"IF(K105<0,\"\",IF(K105>K106,K106,K105))","v":""},{"$f":"IF(B105=\"\",\"\",IF(ISTEXT(L105),L105,IF(ISTEXT(L106),L106,\"\")))","v":""},null,{"$f":"RESULTS!S6","v":" Block 1 Player 10"},{"$f":"RESULTS!T6","v":-1E-3},{"$f":"RESULTS!U6","v":-1E-3}]
[null,null,null,null,null,null,null,null,null,{"$f":"RESULTS!S7","v":" Block 1 Player 12"},{"$f":"RESULTS!T7","v":-1E-3},{"$f":"RESULTS!U7","v":-1E-3}]
[null,{"$f":"IF(K107<0,\"\",IF(K107>K108,J107,J108))","v":""},{"$f":"IF(K107<0,\"\",IF(K107>K108,K107,K108))","v":""},null,"d.",{"$f":"IF(K107<0,\"\",IF(K107>K108,J108,J107))","v":""},{"$f":"IF(K107<0,\"\",IF(K107>K108,K108,K107))","v":""},{"$f":"IF(B107=\"\",\"\",IF(ISTEXT(L107),L107,IF(ISTEXT(L108),L108,\"\")))","v":""},null,{"$f":"RESULTS!S8","v":" Block 1 Player 2"},{"$f":"RESULTS!T8","v":-1E-3},{"$f":"RESULTS!U8","v":-1E-3}]
[null,null,null,null,null,null,null,null,null,{"$f":"RESULTS!S9","v":" Block 1 Player 9"},{"$f":"RESULTS!T9","v":-1E-3},{"$f":"RESULTS!U9","v":-1E-3}]
[null,{"$f":"IF(K109<0,\"\",IF(K109>K110,J109,J110))","v":""},{"$f":"IF(K109<0,\"\",IF(K109>K110,K109,K110))","v":""},null,"d.",{"$f":"IF(K109<0,\"\",IF(K109>K110,J110,J109))","v":""},{"$f":"IF(K109<0,\"\",IF(K109>K110,K110,K109))","v":""},{"$f":"IF(B109=\"\",\"\",IF(ISTEXT(L109),L109,IF(ISTEXT(L110),L110,\"\")))","v":""},null,{"$f":"RESULTS!S10","v":" Block 1 Player 3"},{"$f":"RESULTS!T10","v":-1E-3},{"$f":"RESULTS!U10","v":-1E-3}]
[null,null,null,null,null,null,null,null,null,{"$f":"RESULTS!S11","v":" Block 1 Player 8"},{"$f":"RESULTS!T11","v":-1E-3},{"$f":"RESULTS!U11","v":-1E-3}]
[null,{"$f":"IF(K111<0,\"\",IF(K111>K112,J111,J112))","v":""},{"$f":"IF(K111<0,\"\",IF(K111>K112,K111,K112))","v":""},null,"d.",{"$f":"IF(K111<0,\"\",IF(K111>K112,J112,J111))","v":""},{"$f":"IF(K111<0,\"\",IF(K111>K112,K112,K111))","v":""},{"$f":"IF(B111=\"\",\"\",IF(ISTEXT(L111),L111,IF(ISTEXT(L112),L112,\"\")))","v":""},null,{"$f":"RESULTS!S12","v":" Block 1 Player 4"},{"$f":"RESULTS!T12","v":-1E-3},{"$f":"RESULTS!U12","v":-1E-3}]
[null,null,null,null,null,null,null,null,null,{"$f":"RESULTS!S13","v":" Block 1 Player 7"},{"$f":"RESULTS!T13","v":-1E-3},{"$f":"RESULTS!U13","v":-1E-3}]
[null,{"$f":"IF(K113<0,\"\",IF(K113>K114,J113,J114))","v":""},{"$f":"IF(K113<0,\"\",IF(K113>K114,K113,K114))","v":""},null,"d.",{"$f":"IF(K113<0,\"\",IF(K113>K114,J114,J113))","v":""},{"$f":"IF(K113<0,\"\",IF(K113>K114,K114,K113))","v":""},{"$f":"IF(B113=\"\",\"\",IF(ISTEXT(L113),L113,IF(ISTEXT(L114),L114,\"\")))","v":""},null,{"$f":"RESULTS!S14","v":" Block 1 Player 5"},{"$f":"RESULTS!T14","v":-1E-3},{"$f":"RESULTS!U14","v":-1E-3}]
[null,null,null,null,null,null,null,null,null,{"$f":"RESULTS!S15","v":" Block 1 Player 6"},{"$f":"RESULTS!T15","v":-1E-3},{"$f":"RESULTS!U15","v":-1E-3}]
[null,{"$f":"IF(K115<0,\"\",IF(K115>K116,J115,J116))","v":""},{"$f":"IF(K115<0,\"\",IF(K115>K116,K115,K116))","v":""},null,"d.",{"$f":"IF(K115<0,\"\",IF(K115>K116,J116,J115))","v":""},{"$f":"IF(K115<0,\"\",IF(K115>K116,K116,K115))","v":""},{"$f":"IF(B115=\"\",\"\",IF(ISTEXT(L115),L115,IF(ISTEXT(L116),L116,\"\")))","v":""},null,{"$f":"RESULTS!S16","v":" Block 1 Player 1"},{"$f":"RESULTS!T16","v":-1E-3},{"$f":"RESULTS!U16","v":-1E-3}]
[null,null,null,null,null,null,null,null,null,{"$f":"RESULTS!S17","v":" Block 1 Player 12"},{"$f":"RESULTS!T17","v":-1E-3},{"$f":"RESULTS!U17","v":-1E-3}]
[null,{"$f":"IF(K117<0,\"\",IF(K117>K118,J117,J118))","v":""},{"$f":"IF(K117<0,\"\",IF(K117>K118,K117,K118))","v":""},null,"d.",{"$f":"IF(K117<0,\"\",IF(K117>K118,J118,J117))","v":""},{"$f":"IF(K117<0,\"\",IF(K117>K118,K118,K117))","v":""},{"$f":"IF(B117=\"\",\"\",IF(ISTEXT(L117),L117,IF(ISTEXT(L118),L118,\"\")))","v":""},null,{"$f":"RESULTS!S18","v":" Block 1 Player 11"},{"$f":"RESULTS!T18","v":-1E-3},{"$f":"RESULTS!U18","v":-1E-3}]
[null,null,null,null,null,null,null,null,null,{"$f":"RESULTS!S19","v":" Block 1 Player 2"},{"$f":"RESULTS!T19","v":-1E-3},{"$f":"RESULTS!U19","v":-1E-3}]
[null,{"$f":"IF(K119<0,\"\",IF(K119>K120,J119,J120))","v":""},{"$f":"IF(K119<0,\"\",IF(K119>K120,K119,K120))","v":""},null,"d.",{"$f":"IF(K119<0,\"\",IF(K119>K120,J120,J119))","v":""},{"$f":"IF(K119<0,\"\",IF(K119>K120,K120,K119))","v":""},{"$f":"IF(B119=\"\",\"\",IF(ISTEXT(L119),L119,IF(ISTEXT(L120),L120,\"\")))","v":""},null,{"$f":"RESULTS!S20","v":" Block 1 Player 10"},{"$f":"RESULTS!T20","v":-1E-3},{"$f":"RESULTS!U20","v":-1E-3}]
[null,null,null,null,null,null,null,null,null,{"$f":"RESULTS!S21","v":" Block 1 Player 3"},{"$f":"RESULTS!T21","v":-1E-3},{"$f":"RESULTS!U21","v":-1E-3}]
[null,{"$f":"IF(K121<0,\"\",IF(K121>K122,J121,J122))","v":""},{"$f":"IF(K121<0,\"\",IF(K121>K122,K121,K122))","v":""},null,"d.",{"$f":"IF(K121<0,\"\",IF(K121>K122,J122,J121))","v":""},{"$f":"IF(K121<0,\"\",IF(K121>K122,K122,K121))","v":""},{"$f":"IF(B121=\"\",\"\",IF(ISTEXT(L121),L121,IF(ISTEXT(L122),L122,\"\")))","v":""},null,{"$f":"RESULTS!S22","v":" Block 1 Player 9"},{"$f":"RESULTS!T22","v":-1E-3},{"$f":"RESULTS!U22","v":-1E-3}]
[null,null,null,null,null,null,null,null,null,{"$f":"RESULTS!S23","v":" Block 1 Player 4"},{"$f":"RESULTS!T23","v":-1E-3},{"$f":"RESULTS!U23","v":-1E-3}]
[null,{"$f":"IF(K123<0,\"\",IF(K123>K124,J123,J124))","v":""},{"$f":"IF(K123<0,\"\",IF(K123>K124,K123,K124))","v":""},null,"d.",{"$f":"IF(K123<0,\"\",IF(K123>K124,J124,J123))","v":""},{"$f":"IF(K123<0,\"\",IF(K123>K124,K124,K123))","v":""},{"$f":"IF(B123=\"\",\"\",IF(ISTEXT(L123),L123,IF(ISTEXT(L124),L124,\"\")))","v":""},null,{"$f":"RESULTS!S24","v":" Block 1 Player 8"},{"$f":"RESULTS!T24","v":-1E-3},{"$f":"RESULTS!U24","v":-1E-3}]
[null,null,null,null,null,null,null,null,null,{"$f":"RESULTS!S25","v":" Block 1 Player 5"},{"$f":"RESULTS!T25","v":-1E-3},{"$f":"RESULTS!U25","v":-1E-3}]
[null,{"$f":"IF(K125<0,\"\",IF(K125>K126,J125,J126))","v":""},{"$f":"IF(K125<0,\"\",IF(K125>K126,K125,K126))","v":""},null,"d.",{"$f":"IF(K125<0,\"\",IF(K125>K126,J126,J125))","v":""},{"$f":"IF(K125<0,\"\",IF(K125>K126,K126,K125))","v":""},{"$f":"IF(B125=\"\",\"\",IF(ISTEXT(L125),L125,IF(ISTEXT(L126),L126,\"\")))","v":""},null,{"$f":"RESULTS!S26","v":" Block 1 Player 7"},{"$f":"RESULTS!T26","v":-1E-3},{"$f":"RESULTS!U26","v":-1E-3}]
[null,null,null,null,null,null,null,null,null,{"$f":"RESULTS!S27","v":" Block 1 Player 6"},{"$f":"RESULTS!T27","v":-1E-3},{"$f":"RESULTS!U27","v":-1E-3}]
[null,{"$f":"IF(K127<0,\"\",IF(K127>K128,J127,J128))","v":""},{"$f":"IF(K127<0,\"\",IF(K127>K128,K127,K128))","v":""},null,"d.",{"$f":"IF(K127<0,\"\",IF(K127>K128,J128,J127))","v":""},{"$f":"IF(K127<0,\"\",IF(K127>K128,K128,K127))","v":""},{"$f":"IF(B127=\"\",\"\",IF(ISTEXT(L127),L127,IF(ISTEXT(L128),L128,\"\")))","v":""},null,{"$f":"RESULTS!W4","v":" Block 1 Player 1"},{"$f":"RESULTS!X4","v":-1E-3},{"$f":"RESULTS!Y4","v":-1E-3}]
[null,null,null,null,null,null,null,null,null,{"$f":"RESULTS!W5","v":" Block 1 Player 2"},{"$f":"RESULTS!X5","v":-1E-3},{"$f":"RESULTS!Y5","v":-1E-3}]
[null,{"$f":"IF(K129<0,\"\",IF(K129>K130,J129,J130))","v":""},{"$f":"IF(K129<0,\"\",IF(K129>K130,K129,K130))","v":""},null,"d.",{"$f":"IF(K129<0,\"\",IF(K129>K130,J130,J129))","v":""},{"$f":"IF(K129<0,\"\",IF(K129>K130,K130,K129))","v":""},{"$f":"IF(B129=\"\",\"\",IF(ISTEXT(L129),L129,IF(ISTEXT(L130),L130,\"\")))","v":""},null,{"$f":"RESULTS!W6","v":" Block 1 Player 12"},{"$f":"RESULTS!X6","v":-1E-3},{"$f":"RESULTS!Y6","v":-1E-3}]
[null,null,null,null,null,null,null,null,null,{"$f":"RESULTS!W7","v":" Block 1 Player 3"},{"$f":"RESULTS!X7","v":-1E-3},{"$f":"RESULTS!Y7","v":-1E-3}]
[null,{"$f":"IF(K131<0,\"\",IF(K131>K132,J131,J132))","v":""},{"$f":"IF(K131<0,\"\",IF(K131>K132,K131,K132))","v":""},null,"d.",{"$f":"IF(K131<0,\"\",IF(K131>K132,J132,J131))","v":""},{"$f":"IF(K131<0,\"\",IF(K131>K132,K132,K131))","v":""},{"$f":"IF(B131=\"\",\"\",IF(ISTEXT(L131),L131,IF(ISTEXT(L132),L132,\"\")))","v":""},null,{"$f":"RESULTS!W8","v":" Block 1 Player 11"},{"$f":"RESULTS!X8","v":-1E-3},{"$f":"RESULTS!Y8","v":-1E-3}]
[null,null,null,null,null,null,null,null,null,{"$f":"RESULTS!W9","v":" Block 1 Player 4"},{"$f":"RESULTS!X9","v":-1E-3},{"$f":"RESULTS!Y9","v":-1E-3}]
[null,{"$f":"IF(K133<0,\"\",IF(K133>K134,J133,J134))","v":""},{"$f":"IF(K133<0,\"\",IF(K133>K134,K133,K134))","v":""},null,"d.",{"$f":"IF(K133<0,\"\",IF(K133>K134,J134,J133))","v":""},{"$f":"IF(K133<0,\"\",IF(K133>K134,K134,K133))","v":""},{"$f":"IF(B133=\"\",\"\",IF(ISTEXT(L133),L133,IF(ISTEXT(L134),L134,\"\")))","v":""},null,{"$f":"RESULTS!W10","v":" Block 1 Player 10"},{"$f":"RESULTS!X10","v":-1E-3},{"$f":"RESULTS!Y10","v":-1E-3}]
[null,null,null,null,null,null,null,null,null,{"$f":"RESULTS!W11","v":" Block 1 Player 5"},{"$f":"RESULTS!X11","v":-1E-3},{"$f":"RESULTS!Y11","v":-1E-3}]
[null,{"$f":"IF(K135<0,\"\",IF(K135>K136,J135,J136))","v":""},{"$f":"IF(K135<0,\"\",IF(K135>K136,K135,K136))","v":""},null,"d.",{"$f":"IF(K135<0,\"\",IF(K135>K136,J136,J135))","v":""},{"$f":"IF(K135<0,\"\",IF(K135>K136,K136,K135))","v":""},{"$f":"IF(B135=\"\",\"\",IF(ISTEXT(L135),L135,IF(ISTEXT(L136),L136,\"\")))","v":""},null,{"$f":"RESULTS!W12","v":" Block 1 Player 9"},{"$f":"RESULTS!X12","v":-1E-3},{"$f":"RESULTS!Y12","v":-1E-3}]
[null,null,null,null,null,null,null,null,null,{"$f":"RESULTS!W13","v":" Block 1 Player 6"},{"$f":"RESULTS!X13","v":-1E-3},{"$f":"RESULTS!Y13","v":-1E-3}]
[null,{"$f":"IF(K137<0,\"\",IF(K137>K138,J137,J138))","v":""},{"$f":"IF(K137<0,\"\",IF(K137>K138,K137,K138))","v":""},null,"d.",{"$f":"IF(K137<0,\"\",IF(K137>K138,J138,J137))","v":""},{"$f":"IF(K137<0,\"\",IF(K137>K138,K138,K137))","v":""},{"$f":"IF(B137=\"\",\"\",IF(ISTEXT(L137),L137,IF(ISTEXT(L138),L138,\"\")))","v":""},null,{"$f":"RESULTS!W14","v":" Block 1 Player 8"},{"$f":"RESULTS!X14","v":-1E-3},{"$f":"RESULTS!Y14","v":-1E-3}]
[null,null,null,null,null,null,null,null,null,{"$f":"RESULTS!W15","v":" Block 1 Player 7"},{"$f":"RESULTS!X15","v":-1E-3},{"$f":"RESULTS!Y15","v":-1E-3}]
[]
[]
[null,{"$f":"NAMES!$C$71","v":"BLOCK 2"}]
[null,{"$f":"IF(K142<0,\"\",IF(K142>K143,J142,J143))","v":""},{"$f":"IF(K142<0,\"\",IF(K142>K143,K142,K143))","v":""},null,"d.",{"$f":"IF(K142<0,\"\",IF(K142>K143,J143,J142))","v":""},{"$f":"IF(K142<0,\"\",IF(K142>K143,K143,K142))","v":""},{"$f":"IF(B142=\"\",\"\",IF(ISTEXT(L142),L142,IF(ISTEXT(L143),L143,\"\")))","v":""},null,{"$f":"RESULTS!C34","v":" Block 2 Player 1"},{"$f":"RESULTS!D34","v":-1E-3},{"$f":"RESULTS!E34","v":-1E-3}]
[null,null,null,null,null,null,null,null,null,{"$f":"RESULTS!C35","v":" Block 2 Player 3"},{"$f":"RESULTS!D35","v":-1E-3},{"$f":"RESULTS!E35","v":-1E-3}]
[null,{"$f":"IF(K144<0,\"\",IF(K144>K145,J144,J145))","v":""},{"$f":"IF(K144<0,\"\",IF(K144>K145,K144,K145))","v":""},null,"d.",{"$f":"IF(K144<0,\"\",IF(K144>K145,J145,J144))","v":""},{"$f":"IF(K144<0,\"\",IF(K144>K145,K145,K144))","v":""},"",null,{"$f":"RESULTS!C36","v":" Block 2 Player 2"},{"$f":"RESULTS!D36","v":-1E-3},{"$f":"RESULTS!E36","v":-1E-3}]
[null,null,null,null,null,null,null,null,null,{"$f":"RESULTS!C37","v":" Block 2 Player 4"},{"$f":"RESULTS!D37","v":-1E-3},{"$f":"RESULTS!E37","v":-1E-3}]
[null,{"$f":"IF(K146<0,\"\",IF(K146>K147,J146,J147))","v":""},{"$f":"IF(K146<0,\"\",IF(K146>K147,K146,K147))","v":""},null,"d.",{"$f":"IF(K146<0,\"\",IF(K146>K147,J147,J146))","v":""},{"$f":"IF(K146<0,\"\",IF(K146>K147,K147,K146))","v":""},"",null,{"$f":"RESULTS!C38","v":" Block 2 Player 12"},{"$f":"RESULTS!D38","v":-1E-3},{"$f":"RESULTS!E38","v":-1E-3}]
[null,null,null,null,null,null,null,null,null,{"$f":"RESULTS!C39","v":" Block 2 Player 5"},{"$f":"RESULTS!D39","v":-1E-3},{"$f":"RESULTS!E39","v":-1E-3}]
[null,{"$f":"IF(K148<0,\"\",IF(K148>K149,J148,J149))","v":""},{"$f":"IF(K148<0,\"\",IF(K148>K149,K148,K149))","v":""},null,"d.",{"$f":"IF(K148<0,\"\",IF(K148>K149,J149,J148))","v":""},{"$f":"IF(K148<0,\"\",IF(K148>K149,K149,K148))","v":""},"",null,{"$f":"RESULTS!C40","v":" Block 2 Player 11"},{"$f":"RESULTS!D40","v":-1E-3},{"$f":"RESULTS!E40","v":-1E-3}]
[null,null,null,null,null,null,null,null,null,{"$f":"RESULTS!C41","v":" Block 2 Player 6"},{"$f":"RESULTS!D41","v":-1E-3},{"$f":"RESULTS!E41","v":-1E-3}]
[null,{"$f":"IF(K150<0,\"\",IF(K150>K151,J150,J151))","v":""},{"$f":"IF(K150<0,\"\",IF(K150>K151,K150,K151))","v":""},null,"d.",{"$f":"IF(K150<0,\"\",IF(K150>K151,J151,J150))","v":""},{"$f":"IF(K150<0,\"\",IF(K150>K151,K151,K150))","v":""},"",null,{"$f":"RESULTS!C42","v":" Block 2 Player 10"},{"$f":"RESULTS!D42","v":-1E-3},{"$f":"RESULTS!E42","v":-1E-3}]
[null,null,null,null,null,null,null,null,null,{"$f":"RESULTS!C43","v":" Block 2 Player 7"},{"$f":"RESULTS!D43","v":-1E-3},{"$f":"RESULTS!E43","v":-1E-3}]
[null,{"$f":"IF(K152<0,\"\",IF(K152>K153,J152,J153))","v":""},{"$f":"IF(K152<0,\"\",IF(K152>K153,K152,K153))","v":""},null,"d.",{"$f":"IF(K152<0,\"\",IF(K152>K153,J153,J152))","v":""},{"$f":"IF(K152<0,\"\",IF(K152>K153,K153,K152))","v":""},"",null,{"$f":"RESULTS!C44","v":" Block 2 Player 9"},{"$f":"RESULTS!D44","v":-1E-3},{"$f":"RESULTS!E44","v":-1E-3}]
[null,null,null,null,null,null,null,null,null,{"$f":"RESULTS!C45","v":" Block 2 Player 8"},{"$f":"RESULTS!D45","v":-1E-3},{"$f":"RESULTS!E45","v":-1E-3}]
[null,{"$f":"IF(K154<0,\"\",IF(K154>K155,J154,J155))","v":""},{"$f":"IF(K154<0,\"\",IF(K154>K155,K154,K155))","v":""},null,"d.",{"$f":"IF(K154<0,\"\",IF(K154>K155,J155,J154))","v":""},{"$f":"IF(K154<0,\"\",IF(K154>K155,K155,K154))","v":""},"",null,{"$f":"RESULTS!C46","v":" Block 2 Player 1"},{"$f":"RESULTS!D46","v":-1E-3},{"$f":"RESULTS!E46","v":-1E-3}]
[null,null,null,null,null,null,null,null,null,{"$f":"RESULTS!C47","v":" Block 2 Player 4"},{"$f":"RESULTS!D47","v":-1E-3},{"$f":"RESULTS!E47","v":-1E-3}]
[null,{"$f":"IF(K156<0,\"\",IF(K156>K157,J156,J157))","v":""},{"$f":"IF(K156<0,\"\",IF(K156>K157,K156,K157))","v":""},null,"d.",{"$f":"IF(K156<0,\"\",IF(K156>K157,J157,J156))","v":""},{"$f":"IF(K156<0,\"\",IF(K156>K157,K157,K156))","v":""},"",null,{"$f":"RESULTS!C48","v":" Block 2 Player 5"},{"$f":"RESULTS!D48","v":-1E-3},{"$f":"RESULTS!E48","v":-1E-3}]
[null,null,null,null,null,null,null,null,null,{"$f":"RESULTS!C49","v":" Block 2 Player 3"},{"$f":"RESULTS!D49","v":-1E-3},{"$f":"RESULTS!E49","v":-1E-3}]
[null,{"$f":"IF(K158<0,\"\",IF(K158>K159,J158,J159))","v":""},{"$f":"IF(K158<0,\"\",IF(K158>K159,K158,K159))","v":""},null,"d.",{"$f":"IF(K158<0,\"\",IF(K158>K159,J159,J158))","v":""},{"$f":"IF(K158<0,\"\",IF(K158>K159,K159,K158))","v":""},"",null,{"$f":"RESULTS!C50","v":" Block 2 Player 2"},{"$f":"RESULTS!D50","v":-1E-3},{"$f":"RESULTS!E50","v":-1E-3}]
[null,null,null,null,null,null,null,null,null,{"$f":"RESULTS!C51","v":" Block 2 Player 6"},{"$f":"RESULTS!D51","v":-1E-3},{"$f":"RESULTS!E51","v":-1E-3}]
[null,{"$f":"IF(K160<0,\"\",IF(K160>K161,J160,J161))","v":""},{"$f":"IF(K160<0,\"\",IF(K160>K161,K160,K161))","v":""},null,"d.",{"$f":"IF(K160<0,\"\",IF(K160>K161,J161,J160))","v":""},{"$f":"IF(K160<0,\"\",IF(K160>K161,K161,K160))","v":""},"",null,{"$f":"RESULTS!C52","v":" Block 2 Player 12"},{"$f":"RESULTS!D52","v":-1E-3},{"$f":"RESULTS!E52","v":-1E-3}]
[null,null,null,null,null,null,null,null,null,{"$f":"RESULTS!C53","v":" Block 2 Player 7"},{"$f":"RESULTS!D53","v":-1E-3},{"$f":"RESULTS!E53","v":-1E-3}]
[null,{"$f":"IF(K162<0,\"\",IF(K162>K163,J162,J163))","v":""},{"$f":"IF(K162<0,\"\",IF(K162>K163,K162,K163))","v":""},null,"d.",{"$f":"IF(K162<0,\"\",IF(K162>K163,J163,J162))","v":""},{"$f":"IF(K162<0,\"\",IF(K162>K163,K163,K162))","v":""},"",null,{"$f":"RESULTS!C54","v":" Block 2 Player 11"},{"$f":"RESULTS!D54","v":-1E-3},{"$f":"RESULTS!E54","v":-1E-3}]
[null,null,null,null,null,null,null,null,null,{"$f":"RESULTS!C55","v":" Block 2 Player 8"},{"$f":"RESULTS!D55","v":-1E-3},{"$f":"RESULTS!E55","v":-1E-3}]
[null,{"$f":"IF(K164<0,\"\",IF(K164>K165,J164,J165))","v":""},{"$f":"IF(K164<0,\"\",IF(K164>K165,K164,K165))","v":""},null,"d.",{"$f":"IF(K164<0,\"\",IF(K164>K165,J165,J164))","v":""},{"$f":"IF(K164<0,\"\",IF(K164>K165,K165,K164))","v":""},"",null,{"$f":"RESULTS!C56","v":" Block 2 Player 10"},{"$f":"RESULTS!D56","v":-1E-3},{"$f":"RESULTS!E56","v":-1E-3}]
[null,null,null,null,null,null,null,null,null,{"$f":"RESULTS!C57","v":" Block 2 Player 9"},{"$f":"RESULTS!D57","v":-1E-3},{"$f":"RESULTS!E57","v":-1E-3}]
[null,{"$f":"IF(K166<0,\"\",IF(K166>K167,J166,J167))","v":""},{"$f":"IF(K166<0,\"\",IF(K166>K167,K166,K167))","v":""},null,"d.",{"$f":"IF(K166<0,\"\",IF(K166>K167,J167,J166))","v":""},{"$f":"IF(K166<0,\"\",IF(K166>K167,K167,K166))","v":""},"",null,{"$f":"RESULTS!G34","v":" Block 2 Player 1"},{"$f":"RESULTS!H34","v":-1E-3},{"$f":"RESULTS!I34","v":-1E-3}]
[null,null,null,null,null,null,null,null,null,{"$f":"RESULTS!G35","v":" Block 2 Player 5"},{"$f":"RESULTS!H35","v":-1E-3},{"$f":"RESULTS!I35","v":-1E-3}]
[null,{"$f":"IF(K168<0,\"\",IF(K168>K169,J168,J169))","v":""},{"$f":"IF(K168<0,\"\",IF(K168>K169,K168,K169))","v":""},null,"d.",{"$f":"IF(K168<0,\"\",IF(K168>K169,J169,J168))","v":""},{"$f":"IF(K168<0,\"\",IF(K168>K169,K169,K168))","v":""},"",null,{"$f":"RESULTS!G36","v":" Block 2 Player 4"},{"$f":"RESULTS!H36","v":-1E-3},{"$f":"RESULTS!I36","v":-1E-3}]
[null,null,null,null,null,null,null,null,null,{"$f":"RESULTS!G37","v":" Block 2 Player 6"},{"$f":"RESULTS!H37","v":-1E-3},{"$f":"RESULTS!I37","v":-1E-3}]
[null,{"$f":"IF(K170<0,\"\",IF(K170>K171,J170,J171))","v":""},{"$f":"IF(K170<0,\"\",IF(K170>K171,K170,K171))","v":""},null,"d.",{"$f":"IF(K170<0,\"\",IF(K170>K171,J171,J170))","v":""},{"$f":"IF(K170<0,\"\",IF(K170>K171,K171,K170))","v":""},"",null,{"$f":"RESULTS!G38","v":" Block 2 Player 3"},{"$f":"RESULTS!H38","v":-1E-3},{"$f":"RESULTS!I38","v":-1E-3}]
[null,null,null,null,null,null,null,null,null,{"$f":"RESULTS!G39","v":" Block 2 Player 7"},{"$f":"RESULTS!H39","v":-1E-3},{"$f":"RESULTS!I39","v":-1E-3}]
[null,{"$f":"IF(K172<0,\"\",IF(K172>K173,J172,J173))","v":""},{"$f":"IF(K172<0,\"\",IF(K172>K173,K172,K173))","v":""},null,"d.",{"$f":"IF(K172<0,\"\",IF(K172>K173,J173,J172))","v":""},{"$f":"IF(K172<0,\"\",IF(K172>K173,K173,K172))","v":""},"",null,{"$f":"RESULTS!G40","v":" Block 2 Player 2"},{"$f":"RESULTS!H40","v":-1E-3},{"$f":"RESULTS!I40","v":-1E-3}]
[null,null,null,null,null,null,null,null,null,{"$f":"RESULTS!G41","v":" Block 2 Player 8"},{"$f":"RESULTS!H41","v":-1E-3},{"$f":"RESULTS!I41","v":-1E-3}]
[null,{"$f":"IF(K174<0,\"\",IF(K174>K175,J174,J175))","v":""},{"$f":"IF(K174<0,\"\",IF(K174>K175,K174,K175))","v":""},null,"d.",{"$f":"IF(K174<0,\"\",IF(K174>K175,J175,J174))","v":""},{"$f":"IF(K174<0,\"\",IF(K174>K175,K175,K174))","v":""},"",null,{"$f":"RESULTS!G42","v":" Block 2 Player 12"},{"$f":"RESULTS!H42","v":-1E-3},{"$f":"RESULTS!I42","v":-1E-3}]
[null,null,null,null,null,null,null,null,null,{"$f":"RESULTS!G43","v":" Block 2 Player 9"},{"$f":"RESULTS!H43","v":-1E-3},{"$f":"RESULTS!I43","v":-1E-3}]
[null,{"$f":"IF(K176<0,\"\",IF(K176>K177,J176,J177))","v":""},{"$f":"IF(K176<0,\"\",IF(K176>K177,K176,K177))","v":""},null,"d.",{"$f":"IF(K176<0,\"\",IF(K176>K177,J177,J176))","v":""},{"$f":"IF(K176<0,\"\",IF(K176>K177,K177,K176))","v":""},"",null,{"$f":"RESULTS!G44","v":" Block 2 Player 11"},{"$f":"RESULTS!H44","v":-1E-3},{"$f":"RESULTS!I44","v":-1E-3}]
[null,null,null,null,null,null,null,null,null,{"$f":"RESULTS!G45","v":" Block 2 Player 10"},{"$f":"RESULTS!H45","v":-1E-3},{"$f":"RESULTS!I45","v":-1E-3}]
[null,{"$f":"IF(K178<0,\"\",IF(K178>K179,J178,J179))","v":""},{"$f":"IF(K178<0,\"\",IF(K178>K179,K178,K179))","v":""},null,"d.",{"$f":"IF(K178<0,\"\",IF(K178>K179,J179,J178))","v":""},{"$f":"IF(K178<0,\"\",IF(K178>K179,K179,K178))","v":""},"",null,{"$f":"RESULTS!G46","v":" Block 2 Player 1"},{"$f":"RESULTS!H46","v":-1E-3},{"$f":"RESULTS!I46","v":-1E-3}]
[null,null,null,null,null,null,null,null,null,{"$f":"RESULTS!G47","v":" Block 2 Player 6"},{"$f":"RESULTS!H47","v":-1E-3},{"$f":"RESULTS!I47","v":-1E-3}]
[null,{"$f":"IF(K180<0,\"\",IF(K180>K181,J180,J181))","v":""},{"$f":"IF(K180<0,\"\",IF(K180>K181,K180,K181))","v":""},null,"d.",{"$f":"IF(K180<0,\"\",IF(K180>K181,J181,J180))","v":""},{"$f":"IF(K180<0,\"\",IF(K180>K181,K181,K180))","v":""},"",null,{"$f":"RESULTS!G48","v":" Block 2 Player 5"},{"$f":"RESULTS!H48","v":-1E-3},{"$f":"RESULTS!I48","v":-1E-3}]
[null,null,null,null,null,null,null,null,null,{"$f":"RESULTS!G49","v":" Block 2 Player 7"},{"$f":"RESULTS!H49","v":-1E-3},{"$f":"RESULTS!I49","v":-1E-3}]
[null,{"$f":"IF(K182<0,\"\",IF(K182>K183,J182,J183))","v":""},{"$f":"IF(K182<0,\"\",IF(K182>K183,K182,K183))","v":""},null,"d.",{"$f":"IF(K182<0,\"\",IF(K182>K183,J183,J182))","v":""},{"$f":"IF(K182<0,\"\",IF(K182>K183,K183,K182))","v":""},"",null,{"$f":"RESULTS!G50","v":" Block 2 Player 4"},{"$f":"RESULTS!H50","v":-1E-3},{"$f":"RESULTS!I50","v":-1E-3}]
[null,null,null,null,null,null,null,null,null,{"$f":"RESULTS!G51","v":" Block 2 Player 8"},{"$f":"RESULTS!H51","v":-1E-3},{"$f":"RESULTS!I51","v":-1E-3}]
[null,{"$f":"IF(K184<0,\"\",IF(K184>K185,J184,J185))","v":""},{"$f":"IF(K184<0,\"\",IF(K184>K185,K184,K185))","v":""},null,"d.",{"$f":"IF(K184<0,\"\",IF(K184>K185,J185,J184))","v":""},{"$f":"IF(K184<0,\"\",IF(K184>K185,K185,K184))","v":""},"",null,{"$f":"RESULTS!G52","v":" Block 2 Player 3"},{"$f":"RESULTS!H52","v":-1E-3},{"$f":"RESULTS!I52","v":-1E-3}]
[null,null,null,null,null,null,null,null,null,{"$f":"RESULTS!G53","v":" Block 2 Player 9"},{"$f":"RESULTS!H53","v":-1E-3},{"$f":"RESULTS!I53","v":-1E-3}]
[null,{"$f":"IF(K186<0,\"\",IF(K186>K187,J186,J187))","v":""},{"$f":"IF(K186<0,\"\",IF(K186>K187,K186,K187))","v":""},null,"d.",{"$f":"IF(K186<0,\"\",IF(K186>K187,J187,J186))","v":""},{"$f":"IF(K186<0,\"\",IF(K186>K187,K187,K186))","v":""},"",null,{"$f":"RESULTS!G54","v":" Block 2 Player 2"},{"$f":"RESULTS!H54","v":-1E-3},{"$f":"RESULTS!I54","v":-1E-3}]
[null,null,null,null,null,null,null,null,null,{"$f":"RESULTS!G55","v":" Block 2 Player 10"},{"$f":"RESULTS!H55","v":-1E-3},{"$f":"RESULTS!I55","v":-1E-3}]
[null,{"$f":"IF(K188<0,\"\",IF(K188>K189,J188,J189))","v":""},{"$f":"IF(K188<0,\"\",IF(K188>K189,K188,K189))","v":""},null,"d.",{"$f":"IF(K188<0,\"\",IF(K188>K189,J189,J188))","v":""},{"$f":"IF(K188<0,\"\",IF(K188>K189,K189,K188))","v":""},"",null,{"$f":"RESULTS!G56","v":" Block 2 Player 12"},{"$f":"RESULTS!H56","v":-1E-3},{"$f":"RESULTS!I56","v":-1E-3}]
[null,null,null,null,null,null,null,null,null,{"$f":"RESULTS!G57","v":" Block 2 Player 11"},{"$f":"RESULTS!H57","v":-1E-3},{"$f":"RESULTS!I57","v":-1E-3}]
[null,{"$f":"IF(K190<0,\"\",IF(K190>K191,J190,J191))","v":""},{"$f":"IF(K190<0,\"\",IF(K190>K191,K190,K191))","v":""},null,"d.",{"$f":"IF(K190<0,\"\",IF(K190>K191,J191,J190))","v":""},{"$f":"IF(K190<0,\"\",IF(K190>K191,K191,K190))","v":""},"",null,{"$f":"RESULTS!K34","v":" Block 2 Player 1"},{"$f":"RESULTS!L34","v":-1E-3},{"$f":"RESULTS!M34","v":-1E-3}]
[null,null,null,null,null,null,null,null,null,{"$f":"RESULTS!K35","v":" Block 2 Player 7"},{"$f":"RESULTS!L35","v":-1E-3},{"$f":"RESULTS!M35","v":-1E-3}]
[null,{"$f":"IF(K192<0,\"\",IF(K192>K193,J192,J193))","v":""},{"$f":"IF(K192<0,\"\",IF(K192>K193,K192,K193))","v":""},null,"d.",{"$f":"IF(K192<0,\"\",IF(K192>K193,J193,J192))","v":""},{"$f":"IF(K192<0,\"\",IF(K192>K193,K193,K192))","v":""},"",null,{"$f":"RESULTS!K36","v":" Block 2 Player 6"},{"$f":"RESULTS!L36","v":-1E-3},{"$f":"RESULTS!M36","v":-1E-3}]
[null,null,null,null,null,null,null,null,null,{"$f":"RESULTS!K37","v":" Block 2 Player 8"},{"$f":"RESULTS!L37","v":-1E-3},{"$f":"RESULTS!M37","v":-1E-3}]
[null,{"$f":"IF(K194<0,\"\",IF(K194>K195,J194,J195))","v":""},{"$f":"IF(K194<0,\"\",IF(K194>K195,K194,K195))","v":""},null,"d.",{"$f":"IF(K194<0,\"\",IF(K194>K195,J195,J194))","v":""},{"$f":"IF(K194<0,\"\",IF(K194>K195,K195,K194))","v":""},"",null,{"$f":"RESULTS!K38","v":" Block 2 Player 5"},{"$f":"RESULTS!L38","v":-1E-3},{"$f":"RESULTS!M38","v":-1E-3}]
[null,null,null,null,null,null,null,null,null,{"$f":"RESULTS!K39","v":" Block 2 Player 9"},{"$f":"RESULTS!L39","v":-1E-3},{"$f":"RESULTS!M39","v":-1E-3}]
[null,{"$f":"IF(K196<0,\"\",IF(K196>K197,J196,J197))","v":""},{"$f":"IF(K196<0,\"\",IF(K196>K197,K196,K197))","v":""},null,"d.",{"$f":"IF(K196<0,\"\",IF(K196>K197,J197,J196))","v":""},{"$f":"IF(K196<0,\"\",IF(K196>K197,K197,K196))","v":""},"",null,{"$f":"RESULTS!K40","v":" Block 2 Player 4"},{"$f":"RESULTS!L40","v":-1E-3},{"$f":"RESULTS!M40","v":-1E-3}]
[null,null,null,null,null,null,null,null,null,{"$f":"RESULTS!K41","v":" Block 2 Player 10"},{"$f":"RESULTS!L41","v":-1E-3},{"$f":"RESULTS!M41","v":-1E-3}]
[null,{"$f":"IF(K198<0,\"\",IF(K198>K199,J198,J199))","v":""},{"$f":"IF(K198<0,\"\",IF(K198>K199,K198,K199))","v":""},null,"d.",{"$f":"IF(K198<0,\"\",IF(K198>K199,J199,J198))","v":""},{"$f":"IF(K198<0,\"\",IF(K198>K199,K199,K198))","v":""},"",null,{"$f":"RESULTS!K42","v":" Block 2 Player 3"},{"$f":"RESULTS!L42","v":-1E-3},{"$f":"RESULTS!M42","v":-1E-3}]
[null,null,null,null,null,null,null,null,null,{"$f":"RESULTS!K43","v":" Block 2 Player 11"},{"$f":"RESULTS!L43","v":-1E-3},{"$f":"RESULTS!M43","v":-1E-3}]
[null,{"$f":"IF(K200<0,\"\",IF(K200>K201,J200,J201))","v":""},{"$f":"IF(K200<0,\"\",IF(K200>K201,K200,K201))","v":""},null,"d.",{"$f":"IF(K200<0,\"\",IF(K200>K201,J201,J200))","v":""},{"$f":"IF(K200<0,\"\",IF(K200>K201,K201,K200))","v":""},"",null,{"$f":"RESULTS!K44","v":" Block 2 Player 2"},{"$f":"RESULTS!L44","v":-1E-3},{"$f":"RESULTS!M44","v":-1E-3}]
[null,null,null,null,null,null,null,null,null,{"$f":"RESULTS!K45","v":" Block 2 Player 12"},{"$f":"RESULTS!L45","v":-1E-3},{"$f":"RESULTS!M45","v":-1E-3}]
[null,{"$f":"IF(K202<0,\"\",IF(K202>K203,J202,J203))","v":""},{"$f":"IF(K202<0,\"\",IF(K202>K203,K202,K203))","v":""},null,"d.",{"$f":"IF(K202<0,\"\",IF(K202>K203,J203,J202))","v":""},{"$f":"IF(K202<0,\"\",IF(K202>K203,K203,K202))","v":""},"",null,{"$f":"RESULTS!K46","v":" Block 2 Player 1"},{"$f":"RESULTS!L46","v":-1E-3},{"$f":"RESULTS!M46","v":-1E-3}]
[null,null,null,null,null,null,null,null,null,{"$f":"RESULTS!K47","v":" Block 2 Player 8"},{"$f":"RESULTS!L47","v":-1E-3},{"$f":"RESULTS!M47","v":-1E-3}]
[null,{"$f":"IF(K204<0,\"\",IF(K204>K205,J204,J205))","v":""},{"$f":"IF(K204<0,\"\",IF(K204>K205,K204,K205))","v":""},null,"d.",{"$f":"IF(K204<0,\"\",IF(K204>K205,J205,J204))","v":""},{"$f":"IF(K204<0,\"\",IF(K204>K205,K205,K204))","v":""},"",null,{"$f":"RESULTS!K48","v":" Block 2 Player 7"},{"$f":"RESULTS!L48","v":-1E-3},{"$f":"RESULTS!M48","v":-1E-3}]
[null,null,null,null,null,null,null,null,null,{"$f":"RESULTS!K49","v":" Block 2 Player 9"},{"$f":"RESULTS!L49","v":-1E-3},{"$f":"RESULTS!M49","v":-1E-3}]
[null,{"$f":"IF(K206<0,\"\",IF(K206>K207,J206,J207))","v":""},{"$f":"IF(K206<0,\"\",IF(K206>K207,K206,K207))","v":""},null,"d.",{"$f":"IF(K206<0,\"\",IF(K206>K207,J207,J206))","v":""},{"$f":"IF(K206<0,\"\",IF(K206>K207,K207,K206))","v":""},{"$f":"IF(B206=\"\",\"\",IF(ISTEXT(L206),L206,IF(ISTEXT(L207),L207,\"\")))","v":""},null,{"$f":"RESULTS!K50","v":" Block 2 Player 6"},{"$f":"RESULTS!L50","v":-1E-3},{"$f":"RESULTS!M50","v":-1E-3}]
[null,null,null,null,null,null,null,null,null,{"$f":"RESULTS!K51","v":" Block 2 Player 10"},{"$f":"RESULTS!L51","v":-1E-3},{"$f":"RESULTS!M51","v":-1E-3}]
[null,{"$f":"IF(K208<0,\"\",IF(K208>K209,J208,J209))","v":""},{"$f":"IF(K208<0,\"\",IF(K208>K209,K208,K209))","v":""},null,"d.",{"$f":"IF(K208<0,\"\",IF(K208>K209,J209,J208))","v":""},{"$f":"IF(K208<0,\"\",IF(K208>K209,K209,K208))","v":""},"",null,{"$f":"RESULTS!K52","v":" Block 2 Player 5"},{"$f":"RESULTS!L52","v":-1E-3},{"$f":"RESULTS!M52","v":-1E-3}]
[null,null,null,null,null,null,null,null,null,{"$f":"RESULTS!K53","v":" Block 2 Player 11"},{"$f":"RESULTS!L53","v":-1E-3},{"$f":"RESULTS!M53","v":-1E-3}]
[null,{"$f":"IF(K210<0,\"\",IF(K210>K211,J210,J211))","v":""},{"$f":"IF(K210<0,\"\",IF(K210>K211,K210,K211))","v":""},null,"d.",{"$f":"IF(K210<0,\"\",IF(K210>K211,J211,J210))","v":""},{"$f":"IF(K210<0,\"\",IF(K210>K211,K211,K210))","v":""},"",null,{"$f":"RESULTS!K54","v":" Block 2 Player 4"},{"$f":"RESULTS!L54","v":-1E-3},{"$f":"RESULTS!M54","v":-1E-3}]
[null,null,null,null,null,null,null,null,null,{"$f":"RESULTS!K55","v":" Block 2 Player 12"},{"$f":"RESULTS!L55","v":-1E-3},{"$f":"RESULTS!M55","v":-1E-3}]
[null,{"$f":"IF(K212<0,\"\",IF(K212>K213,J212,J213))","v":""},{"$f":"IF(K212<0,\"\",IF(K212>K213,K212,K213))","v":""},null,"d.",{"$f":"IF(K212<0,\"\",IF(K212>K213,J213,J212))","v":""},{"$f":"IF(K212<0,\"\",IF(K212>K213,K213,K212))","v":""},"",null,{"$f":"RESULTS!K56","v":" Block 2 Player 3"},{"$f":"RESULTS!L56","v":-1E-3},{"$f":"RESULTS!M56","v":-1E-3}]
[null,null,null,null,null,null,null,null,null,{"$f":"RESULTS!K57","v":" Block 2 Player 2"},{"$f":"RESULTS!L57","v":-1E-3},{"$f":"RESULTS!M57","v":-1E-3}]
[null,{"$f":"IF(K214<0,\"\",IF(K214>K215,J214,J215))","v":""},{"$f":"IF(K214<0,\"\",IF(K214>K215,K214,K215))","v":""},null,"d.",{"$f":"IF(K214<0,\"\",IF(K214>K215,J215,J214))","v":""},{"$f":"IF(K214<0,\"\",IF(K214>K215,K215,K214))","v":""},"",null,{"$f":"RESULTS!O34","v":" Block 2 Player 1"},{"$f":"RESULTS!P34","v":-1E-3},{"$f":"RESULTS!Q34","v":-1E-3}]
[null,null,null,null,null,null,null,null,null,{"$f":"RESULTS!O35","v":" Block 2 Player 9"},{"$f":"RESULTS!P35","v":-1E-3},{"$f":"RESULTS!Q35","v":-1E-3}]
[null,{"$f":"IF(K216<0,\"\",IF(K216>K217,J216,J217))","v":""},{"$f":"IF(K216<0,\"\",IF(K216>K217,K216,K217))","v":""},null,"d.",{"$f":"IF(K216<0,\"\",IF(K216>K217,J217,J216))","v":""},{"$f":"IF(K216<0,\"\",IF(K216>K217,K217,K216))","v":""},"",null,{"$f":"RESULTS!O36","v":" Block 2 Player 8"},{"$f":"RESULTS!P36","v":-1E-3},{"$f":"RESULTS!Q36","v":-1E-3}]
[null,null,null,null,null,null,null,null,null,{"$f":"RESULTS!O37","v":" Block 2 Player 10"},{"$f":"RESULTS!P37","v":-1E-3},{"$f":"RESULTS!Q37","v":-1E-3}]
[null,{"$f":"IF(K218<0,\"\",IF(K218>K219,J218,J219))","v":""},{"$f":"IF(K218<0,\"\",IF(K218>K219,K218,K219))","v":""},null,"d.",{"$f":"IF(K218<0,\"\",IF(K218>K219,J219,J218))","v":""},{"$f":"IF(K218<0,\"\",IF(K218>K219,K219,K218))","v":""},"",null,{"$f":"RESULTS!O38","v":" Block 2 Player 7"},{"$f":"RESULTS!P38","v":-1E-3},{"$f":"RESULTS!Q38","v":-1E-3}]
[null,null,null,null,null,null,null,null,null,{"$f":"RESULTS!O39","v":" Block 2 Player 11"},{"$f":"RESULTS!P39","v":-1E-3},{"$f":"RESULTS!Q39","v":-1E-3}]
[null,{"$f":"IF(K220<0,\"\",IF(K220>K221,J220,J221))","v":""},{"$f":"IF(K220<0,\"\",IF(K220>K221,K220,K221))","v":""},null,"d.",{"$f":"IF(K220<0,\"\",IF(K220>K221,J221,J220))","v":""},{"$f":"IF(K220<0,\"\",IF(K220>K221,K221,K220))","v":""},"",null,{"$f":"RESULTS!O40","v":" Block 2 Player 6"},{"$f":"RESULTS!P40","v":-1E-3},{"$f":"RESULTS!Q40","v":-1E-3}]
[null,null,null,null,null,null,null,null,null,{"$f":"RESULTS!O41","v":" Block 2 Player 12"},{"$f":"RESULTS!P41","v":-1E-3},{"$f":"RESULTS!Q41","v":-1E-3}]
[null,{"$f":"IF(K222<0,\"\",IF(K222>K223,J222,J223))","v":""},{"$f":"IF(K222<0,\"\",IF(K222>K223,K222,K223))","v":""},null,"d.",{"$f":"IF(K222<0,\"\",IF(K222>K223,J223,J222))","v":""},{"$f":"IF(K222<0,\"\",IF(K222>K223,K223,K222))","v":""},"",null,{"$f":"RESULTS!O42","v":" Block 2 Player 5"},{"$f":"RESULTS!P42","v":-1E-3},{"$f":"RESULTS!Q42","v":-1E-3}]
[null,null,null,null,null,null,null,null,null,{"$f":"RESULTS!O43","v":" Block 2 Player 2"},{"$f":"RESULTS!P43","v":-1E-3},{"$f":"RESULTS!Q43","v":-1E-3}]
[null,{"$f":"IF(K224<0,\"\",IF(K224>K225,J224,J225))","v":""},{"$f":"IF(K224<0,\"\",IF(K224>K225,K224,K225))","v":""},null,"d.",{"$f":"IF(K224<0,\"\",IF(K224>K225,J225,J224))","v":""},{"$f":"IF(K224<0,\"\",IF(K224>K225,K225,K224))","v":""},"",null,{"$f":"RESULTS!O44","v":" Block 2 Player 4"},{"$f":"RESULTS!P44","v":-1E-3},{"$f":"RESULTS!Q44","v":-1E-3}]
[null,null,null,null,null,null,null,null,null,{"$f":"RESULTS!O45","v":" Block 2 Player 3"},{"$f":"RESULTS!P45","v":-1E-3},{"$f":"RESULTS!Q45","v":-1E-3}]
[null,{"$f":"IF(K226<0,\"\",IF(K226>K227,J226,J227))","v":""},{"$f":"IF(K226<0,\"\",IF(K226>K227,K226,K227))","v":""},null,"d.",{"$f":"IF(K226<0,\"\",IF(K226>K227,J227,J226))","v":""},{"$f":"IF(K226<0,\"\",IF(K226>K227,K227,K226))","v":""},"",null,{"$f":"RESULTS!O46","v":" Block 2 Player 1"},{"$f":"RESULTS!P46","v":-1E-3},{"$f":"RESULTS!Q46","v":-1E-3}]
[null,null,null,null,null,null,null,null,null,{"$f":"RESULTS!O47","v":" Block 2 Player 10"},{"$f":"RESULTS!P47","v":-1E-3},{"$f":"RESULTS!Q47","v":-1E-3}]
[null,{"$f":"IF(K228<0,\"\",IF(K228>K229,J228,J229))","v":""},{"$f":"IF(K228<0,\"\",IF(K228>K229,K228,K229))","v":""},null,"d.",{"$f":"IF(K228<0,\"\",IF(K228>K229,J229,J228))","v":""},{"$f":"IF(K228<0,\"\",IF(K228>K229,K229,K228))","v":""},"",null,{"$f":"RESULTS!O48","v":" Block 2 Player 9"},{"$f":"RESULTS!P48","v":-1E-3},{"$f":"RESULTS!Q48","v":-1E-3}]
[null,null,null,null,null,null,null,null,null,{"$f":"RESULTS!O49","v":" Block 2 Player 11"},{"$f":"RESULTS!P49","v":-1E-3},{"$f":"RESULTS!Q49","v":-1E-3}]
[null,{"$f":"IF(K230<0,\"\",IF(K230>K231,J230,J231))","v":""},{"$f":"IF(K230<0,\"\",IF(K230>K231,K230,K231))","v":""},null,"d.",{"$f":"IF(K230<0,\"\",IF(K230>K231,J231,J230))","v":""},{"$f":"IF(K230<0,\"\",IF(K230>K231,K231,K230))","v":""},"",null,{"$f":"RESULTS!O50","v":" Block 2 Player 8"},{"$f":"RESULTS!P50","v":-1E-3},{"$f":"RESULTS!Q50","v":-1E-3}]
[null,null,null,null,null,null,null,null,null,{"$f":"RESULTS!O51","v":" Block 2 Player 12"},{"$f":"RESULTS!P51","v":-1E-3},{"$f":"RESULTS!Q51","v":-1E-3}]
[null,{"$f":"IF(K232<0,\"\",IF(K232>K233,J232,J233))","v":""},{"$f":"IF(K232<0,\"\",IF(K232>K233,K232,K233))","v":""},null,"d.",{"$f":"IF(K232<0,\"\",IF(K232>K233,J233,J232))","v":""},{"$f":"IF(K232<0,\"\",IF(K232>K233,K233,K232))","v":""},"",null,{"$f":"RESULTS!O52","v":" Block 2 Player 7"},{"$f":"RESULTS!P52","v":-1E-3},{"$f":"RESULTS!Q52","v":-1E-3}]
[null,null,null,null,null,null,null,null,null,{"$f":"RESULTS!O53","v":" Block 2 Player 2"},{"$f":"RESULTS!P53","v":-1E-3},{"$f":"RESULTS!Q53","v":-1E-3}]
[null,{"$f":"IF(K234<0,\"\",IF(K234>K235,J234,J235))","v":""},{"$f":"IF(K234<0,\"\",IF(K234>K235,K234,K235))","v":""},null,"d.",{"$f":"IF(K234<0,\"\",IF(K234>K235,J235,J234))","v":""},{"$f":"IF(K234<0,\"\",IF(K234>K235,K235,K234))","v":""},"",null,{"$f":"RESULTS!O54","v":" Block 2 Player 6"},{"$f":"RESULTS!P54","v":-1E-3},{"$f":"RESULTS!Q54","v":-1E-3}]
[null,null,null,null,null,null,null,null,null,{"$f":"RESULTS!O55","v":" Block 2 Player 3"},{"$f":"RESULTS!P55","v":-1E-3},{"$f":"RESULTS!Q55","v":-1E-3}]
[null,{"$f":"IF(K236<0,\"\",IF(K236>K237,J236,J237))","v":""},{"$f":"IF(K236<0,\"\",IF(K236>K237,K236,K237))","v":""},null,"d.",{"$f":"IF(K236<0,\"\",IF(K236>K237,J237,J236))","v":""},{"$f":"IF(K236<0,\"\",IF(K236>K237,K237,K236))","v":""},"",null,{"$f":"RESULTS!O56","v":" Block 2 Player 5"},{"$f":"RESULTS!P56","v":-1E-3},{"$f":"RESULTS!Q56","v":-1E-3}]
[null,null,null,null,null,null,null,null,null,{"$f":"RESULTS!O57","v":" Block 2 Player 4"},{"$f":"RESULTS!P57","v":-1E-3},{"$f":"RESULTS!Q57","v":-1E-3}]
[null,{"$f":"IF(K238<0,\"\",IF(K238>K239,J238,J239))","v":""},{"$f":"IF(K238<0,\"\",IF(K238>K239,K238,K239))","v":""},null,"d.",{"$f":"IF(K238<0,\"\",IF(K238>K239,J239,J238))","v":""},{"$f":"IF(K238<0,\"\",IF(K238>K239,K239,K238))","v":""},"",null,{"$f":"RESULTS!S34","v":" Block 2 Player 1"},{"$f":"RESULTS!T34","v":-1E-3},{"$f":"RESULTS!U34","v":-1E-3}]
[null,null,null,null,null,null,null,null,null,{"$f":"RESULTS!S35","v":" Block 2 Player 11"},{"$f":"RESULTS!T35","v":-1E-3},{"$f":"RESULTS!U35","v":-1E-3}]
[null,{"$f":"IF(K240<0,\"\",IF(K240>K241,J240,J241))","v":""},{"$f":"IF(K240<0,\"\",IF(K240>K241,K240,K241))","v":""},null,"d.",{"$f":"IF(K240<0,\"\",IF(K240>K241,J241,J240))","v":""},{"$f":"IF(K240<0,\"\",IF(K240>K241,K241,K240))","v":""},"",null,{"$f":"RESULTS!S36","v":" Block 2 Player 10"},{"$f":"RESULTS!T36","v":-1E-3},{"$f":"RESULTS!U36","v":-1E-3}]
[null,null,null,null,null,null,null,null,null,{"$f":"RESULTS!S37","v":" Block 2 Player 12"},{"$f":"RESULTS!T37","v":-1E-3},{"$f":"RESULTS!U37","v":-1E-3}]
[null,{"$f":"IF(K242<0,\"\",IF(K242>K243,J242,J243))","v":""},{"$f":"IF(K242<0,\"\",IF(K242>K243,K242,K243))","v":""},null,"d.",{"$f":"IF(K242<0,\"\",IF(K242>K243,J243,J242))","v":""},{"$f":"IF(K242<0,\"\",IF(K242>K243,K243,K242))","v":""},"",null,{"$f":"RESULTS!S38","v":" Block 2 Player 2"},{"$f":"RESULTS!T38","v":-1E-3},{"$f":"RESULTS!U38","v":-1E-3}]
[null,null,null,null,null,null,null,null,null,{"$f":"RESULTS!S39","v":" Block 2 Player 9"},{"$f":"RESULTS!T39","v":-1E-3},{"$f":"RESULTS!U39","v":-1E-3}]
[null,{"$f":"IF(K244<0,\"\",IF(K244>K245,J244,J245))","v":""},{"$f":"IF(K244<0,\"\",IF(K244>K245,K244,K245))","v":""},null,"d.",{"$f":"IF(K244<0,\"\",IF(K244>K245,J245,J244))","v":""},{"$f":"IF(K244<0,\"\",IF(K244>K245,K245,K244))","v":""},"",null,{"$f":"RESULTS!S40","v":" Block 2 Player 3"},{"$f":"RESULTS!T40","v":-1E-3},{"$f":"RESULTS!U40","v":-1E-3}]
[null,null,null,null,null,null,null,null,null,{"$f":"RESULTS!S41","v":" Block 2 Player 8"},{"$f":"RESULTS!T41","v":-1E-3},{"$f":"RESULTS!U41","v":-1E-3}]
[null,{"$f":"IF(K246<0,\"\",IF(K246>K247,J246,J247))","v":""},{"$f":"IF(K246<0,\"\",IF(K246>K247,K246,K247))","v":""},null,"d.",{"$f":"IF(K246<0,\"\",IF(K246>K247,J247,J246))","v":""},{"$f":"IF(K246<0,\"\",IF(K246>K247,K247,K246))","v":""},"",null,{"$f":"RESULTS!S42","v":" Block 2 Player 4"},{"$f":"RESULTS!T42","v":-1E-3},{"$f":"RESULTS!U42","v":-1E-3}]
[null,null,null,null,null,null,null,null,null,{"$f":"RESULTS!S43","v":" Block 2 Player 7"},{"$f":"RESULTS!T43","v":-1E-3},{"$f":"RESULTS!U43","v":-1E-3}]
[null,{"$f":"IF(K248<0,\"\",IF(K248>K249,J248,J249))","v":""},{"$f":"IF(K248<0,\"\",IF(K248>K249,K248,K249))","v":""},null,"d.",{"$f":"IF(K248<0,\"\",IF(K248>K249,J249,J248))","v":""},{"$f":"IF(K248<0,\"\",IF(K248>K249,K249,K248))","v":""},"",null,{"$f":"RESULTS!S44","v":" Block 2 Player 5"},{"$f":"RESULTS!T44","v":-1E-3},{"$f":"RESULTS!U44","v":-1E-3}]
[null,null,null,null,null,null,null,null,null,{"$f":"RESULTS!S45","v":" Block 2 Player 6"},{"$f":"RESULTS!T45","v":-1E-3},{"$f":"RESULTS!U45","v":-1E-3}]
[null,{"$f":"IF(K250<0,\"\",IF(K250>K251,J250,J251))","v":""},{"$f":"IF(K250<0,\"\",IF(K250>K251,K250,K251))","v":""},null,"d.",{"$f":"IF(K250<0,\"\",IF(K250>K251,J251,J250))","v":""},{"$f":"IF(K250<0,\"\",IF(K250>K251,K251,K250))","v":""},"",null,{"$f":"RESULTS!S46","v":" Block 2 Player 1"},{"$f":"RESULTS!T46","v":-1E-3},{"$f":"RESULTS!U46","v":-1E-3}]
[null,null,null,null,null,null,null,null,null,{"$f":"RESULTS!S47","v":" Block 2 Player 12"},{"$f":"RESULTS!T47","v":-1E-3},{"$f":"RESULTS!U47","v":-1E-3}]
[null,{"$f":"IF(K252<0,\"\",IF(K252>K253,J252,J253))","v":""},{"$f":"IF(K252<0,\"\",IF(K252>K253,K252,K253))","v":""},null,"d.",{"$f":"IF(K252<0,\"\",IF(K252>K253,J253,J252))","v":""},{"$f":"IF(K252<0,\"\",IF(K252>K253,K253,K252))","v":""},"",null,{"$f":"RESULTS!S48","v":" Block 2 Player 11"},{"$f":"RESULTS!T48","v":-1E-3},{"$f":"RESULTS!U48","v":-1E-3}]
[null,null,null,null,null,null,null,null,null,{"$f":"RESULTS!S49","v":" Block 2 Player 2"},{"$f":"RESULTS!T49","v":-1E-3},{"$f":"RESULTS!U49","v":-1E-3}]
[null,{"$f":"IF(K254<0,\"\",IF(K254>K255,J254,J255))","v":""},{"$f":"IF(K254<0,\"\",IF(K254>K255,K254,K255))","v":""},null,"d.",{"$f":"IF(K254<0,\"\",IF(K254>K255,J255,J254))","v":""},{"$f":"IF(K254<0,\"\",IF(K254>K255,K255,K254))","v":""},"",null,{"$f":"RESULTS!S50","v":" Block 2 Player 10"},{"$f":"RESULTS!T50","v":-1E-3},{"$f":"RESULTS!U50","v":-1E-3}]
[null,null,null,null,null,null,null,null,null,{"$f":"RESULTS!S51","v":" Block 2 Player 3"},{"$f":"RESULTS!T51","v":-1E-3},{"$f":"RESULTS!U51","v":-1E-3}]
[null,{"$f":"IF(K256<0,\"\",IF(K256>K257,J256,J257))","v":""},{"$f":"IF(K256<0,\"\",IF(K256>K257,K256,K257))","v":""},null,"d.",{"$f":"IF(K256<0,\"\",IF(K256>K257,J257,J256))","v":""},{"$f":"IF(K256<0,\"\",IF(K256>K257,K257,K256))","v":""},"",null,{"$f":"RESULTS!S52","v":" Block 2 Player 9"},{"$f":"RESULTS!T52","v":-1E-3},{"$f":"RESULTS!U52","v":-1E-3}]
[null,null,null,null,null,null,null,null,null,{"$f":"RESULTS!S53","v":" Block 2 Player 4"},{"$f":"RESULTS!T53","v":-1E-3},{"$f":"RESULTS!U53","v":-1E-3}]
[null,{"$f":"IF(K258<0,\"\",IF(K258>K259,J258,J259))","v":""},{"$f":"IF(K258<0,\"\",IF(K258>K259,K258,K259))","v":""},null,"d.",{"$f":"IF(K258<0,\"\",IF(K258>K259,J259,J258))","v":""},{"$f":"IF(K258<0,\"\",IF(K258>K259,K259,K258))","v":""},"",null,{"$f":"RESULTS!S54","v":" Block 2 Player 8"},{"$f":"RESULTS!T54","v":-1E-3},{"$f":"RESULTS!U54","v":-1E-3}]
[null,null,null,null,null,null,null,null,null,{"$f":"RESULTS!S55","v":" Block 2 Player 5"},{"$f":"RESULTS!T55","v":-1E-3},{"$f":"RESULTS!U55","v":-1E-3}]
[null,{"$f":"IF(K260<0,\"\",IF(K260>K261,J260,J261))","v":""},{"$f":"IF(K260<0,\"\",IF(K260>K261,K260,K261))","v":""},null,"d.",{"$f":"IF(K260<0,\"\",IF(K260>K261,J261,J260))","v":""},{"$f":"IF(K260<0,\"\",IF(K260>K261,K261,K260))","v":""},"",null,{"$f":"RESULTS!S56","v":" Block 2 Player 7"},{"$f":"RESULTS!T56","v":-1E-3},{"$f":"RESULTS!U56","v":-1E-3}]
[null,null,null,null,null,null,null,null,null,{"$f":"RESULTS!S57","v":" Block 2 Player 6"},{"$f":"RESULTS!T57","v":-1E-3},{"$f":"RESULTS!U57","v":-1E-3}]
[null,{"$f":"IF(K262<0,\"\",IF(K262>K263,J262,J263))","v":""},{"$f":"IF(K262<0,\"\",IF(K262>K263,K262,K263))","v":""},null,"d.",{"$f":"IF(K262<0,\"\",IF(K262>K263,J263,J262))","v":""},{"$f":"IF(K262<0,\"\",IF(K262>K263,K263,K262))","v":""},"",null,{"$f":"RESULTS!W34","v":" Block 2 Player 1"},{"$f":"RESULTS!X34","v":-1E-3},{"$f":"RESULTS!Y34","v":-1E-3}]
[null,null,null,null,null,null,null,null,null,{"$f":"RESULTS!W35","v":" Block 2 Player 2"},{"$f":"RESULTS!X35","v":-1E-3},{"$f":"RESULTS!Y35","v":-1E-3}]
[null,{"$f":"IF(K264<0,\"\",IF(K264>K265,J264,J265))","v":""},{"$f":"IF(K264<0,\"\",IF(K264>K265,K264,K265))","v":""},null,"d.",{"$f":"IF(K264<0,\"\",IF(K264>K265,J265,J264))","v":""},{"$f":"IF(K264<0,\"\",IF(K264>K265,K265,K264))","v":""},"",null,{"$f":"RESULTS!W36","v":" Block 2 Player 12"},{"$f":"RESULTS!X36","v":-1E-3},{"$f":"RESULTS!Y36","v":-1E-3}]
[null,null,null,null,null,null,null,null,null,{"$f":"RESULTS!W37","v":" Block 2 Player 3"},{"$f":"RESULTS!X37","v":-1E-3},{"$f":"RESULTS!Y37","v":-1E-3}]
[null,{"$f":"IF(K266<0,\"\",IF(K266>K267,J266,J267))","v":""},{"$f":"IF(K266<0,\"\",IF(K266>K267,K266,K267))","v":""},null,"d.",{"$f":"IF(K266<0,\"\",IF(K266>K267,J267,J266))","v":""},{"$f":"IF(K266<0,\"\",IF(K266>K267,K267,K266))","v":""},"",null,{"$f":"RESULTS!W38","v":" Block 2 Player 11"},{"$f":"RESULTS!X38","v":-1E-3},{"$f":"RESULTS!Y38","v":-1E-3}]
[null,null,null,null,null,null,null,null,null,{"$f":"RESULTS!W39","v":" Block 2 Player 4"},{"$f":"RESULTS!X39","v":-1E-3},{"$f":"RESULTS!Y39","v":-1E-3}]
[null,{"$f":"IF(K268<0,\"\",IF(K268>K269,J268,J269))","v":""},{"$f":"IF(K268<0,\"\",IF(K268>K269,K268,K269))","v":""},null,"d.",{"$f":"IF(K268<0,\"\",IF(K268>K269,J269,J268))","v":""},{"$f":"IF(K268<0,\"\",IF(K268>K269,K269,K268))","v":""},"",null,{"$f":"RESULTS!W40","v":" Block 2 Player 10"},{"$f":"RESULTS!X40","v":-1E-3},{"$f":"RESULTS!Y40","v":-1E-3}]
[null,null,null,null,null,null,null,null,null,{"$f":"RESULTS!W41","v":" Block 2 Player 5"},{"$f":"RESULTS!X41","v":-1E-3},{"$f":"RESULTS!Y41","v":-1E-3}]
[null,{"$f":"IF(K270<0,\"\",IF(K270>K271,J270,J271))","v":""},{"$f":"IF(K270<0,\"\",IF(K270>K271,K270,K271))","v":""},null,"d.",{"$f":"IF(K270<0,\"\",IF(K270>K271,J271,J270))","v":""},{"$f":"IF(K270<0,\"\",IF(K270>K271,K271,K270))","v":""},{"$f":"IF(B270=\"\",\"\",IF(ISTEXT(L270),L270,IF(ISTEXT(L271),L271,\"\")))","v":""},null,{"$f":"RESULTS!W42","v":" Block 2 Player 9"},{"$f":"RESULTS!X42","v":-1E-3},{"$f":"RESULTS!Y42","v":-1E-3}]
[null,null,null,null,null,null,null,null,null,{"$f":"RESULTS!W43","v":" Block 2 Player 6"},{"$f":"RESULTS!X43","v":-1E-3},{"$f":"RESULTS!Y43","v":-1E-3}]
[null,{"$f":"IF(K272<0,\"\",IF(K272>K273,J272,J273))","v":""},{"$f":"IF(K272<0,\"\",IF(K272>K273,K272,K273))","v":""},null,"d.",{"$f":"IF(K272<0,\"\",IF(K272>K273,J273,J272))","v":""},{"$f":"IF(K272<0,\"\",IF(K272>K273,K273,K272))","v":""},{"$f":"IF(B272=\"\",\"\",IF(ISTEXT(L272),L272,IF(ISTEXT(L273),L273,\"\")))","v":""},null,{"$f":"RESULTS!W44","v":" Block 2 Player 8"},{"$f":"RESULTS!X44","v":-1E-3},{"$f":"RESULTS!Y44","v":-1E-3}]
[null,null,null,null,null,null,null,null,null,{"$f":"RESULTS!W45","v":" Block 2 Player 7"},{"$f":"RESULTS!X45","v":-1E-3},{"$f":"RESULTS!Y45","v":-1E-3}]

{"sheet":"MISC","index":16,"n_rows":36,"n_cols":9,"rows_kept":36,"cut":false,"hidden":false,"merged":[[22,2,22,8],[1,2,1,8],[3,2,3,8],[7,2,7,8],[5,4,5,5]]}
[]
[null,null,{"$f":"SEED!G2","v":"Tournament"}]
[]
[]
[]
[null,null,null,null,{"$f":"SEED!$D$5","v":"BLOCK 1"},null,"POINTS","POINTS","NET"]
[null,null,"PLAYER","H/CAP","PLACE","WINS","FOR","AGAINST","POINTS"]
[null,null,{"$f":"SEED!D5","v":"BLOCK 1"}]
[]
[1,null,{"$f":"SEED!D7","v":" Block 1 Player 1"},{"$f":"SEED!E7","v":0},{"$f":"BLOCK!AS8","v":12},{"$f":"BLOCK!AN8","v":0},{"$f":"BLOCK!AO8","v":-1.1000000000000003E-2},{"$f":"BLOCK!AP8","v":-1.1000000000000003E-2},{"$f":"BLOCK!AQ8","v":0}]
[2,null,{"$f":"SEED!D8","v":" Block 1 Player 2"},{"$f":"SEED!E8","v":0},{"$f":"BLOCK!AS11","v":11},{"$f":"BLOCK!AN11","v":0},{"$f":"BLOCK!AO11","v":-1.1000000000000003E-2},{"$f":"BLOCK!AP11","v":-1.1000000000000003E-2},{"$f":"BLOCK!AQ11","v":0}]
[3,null,{"$f":"SEED!D9","v":" Block 1 Player 3"},{"$f":"SEED!E9","v":0},{"$f":"BLOCK!AS14","v":10},{"$f":"BLOCK!AN14","v":0},{"$f":"BLOCK!AO14","v":-1.1000000000000003E-2},{"$f":"BLOCK!AP14","v":-1.1000000000000003E-2},{"$f":"BLOCK!AQ14","v":0}]
[4,null,{"$f":"SEED!D10","v":" Block 1 Player 4"},{"$f":"SEED!E10","v":0},{"$f":"BLOCK!AS17","v":9},{"$f":"BLOCK!AN17","v":0},{"$f":"BLOCK!AO17","v":-1.1000000000000003E-2},{"$f":"BLOCK!AP17","v":-1.1000000000000003E-2},{"$f":"BLOCK!AQ17","v":0}]
[5,null,{"$f":"SEED!D11","v":" Block 1 Player 5"},{"$f":"SEED!E11","v":0},{"$f":"BLOCK!AS20","v":8},{"$f":"BLOCK!AN20","v":0},{"$f":"BLOCK!AO20","v":-1.1000000000000003E-2},{"$f":"BLOCK!AP20","v":-1.1000000000000003E-2},{"$f":"BLOCK!AQ20","v":0}]
[6,null,{"$f":"SEED!D12","v":" Block 1 Player 6"},{"$f":"SEED!E12","v":0},{"$f":"BLOCK!AS23","v":7},{"$f":"BLOCK!AN23","v":0},{"$f":"BLOCK!AO23","v":-1.1000000000000003E-2},{"$f":"BLOCK!AP23","v":-1.1000000000000003E-2},{"$f":"BLOCK!AQ23","v":0}]
[7,null,{"$f":"SEED!D13","v":" Block 1 Player 7"},{"$f":"SEED!E13","v":0},{"$f":"BLOCK!AS26","v":6},{"$f":"BLOCK!AN26","v":0},{"$f":"BLOCK!AO26","v":-1.1000000000000003E-2},{"$f":"BLOCK!AP26","v":-1.1000000000000003E-2},{"$f":"BLOCK!AQ26","v":0}]
[8,null,{"$f":"SEED!D14","v":" Block 1 Player 8"},{"$f":"SEED!E14","v":0},{"$f":"BLOCK!AS29","v":5},{"$f":"BLOCK!AN29","v":0},{"$f":"BLOCK!AO29","v":-1.1000000000000003E-2},{"$f":"BLOCK!AP29","v":-1.1000000000000003E-2},{"$f":"BLOCK!AQ29","v":0}]
[9,null,{"$f":"SEED!D15","v":" Block 1 Player 9"},{"$f":"SEED!E15","v":0},{"$f":"BLOCK!AS32","v":4},{"$f":"BLOCK!AN32","v":0},{"$f":"BLOCK!AO32","v":-1.1000000000000003E-2},{"$f":"BLOCK!AP32","v":-1.1000000000000003E-2},{"$f":"BLOCK!AQ32","v":0}]
[10,null,{"$f":"SEED!D16","v":" Block 1 Player 10"},{"$f":"SEED!E16","v":0},{"$f":"BLOCK!AS35","v":3},{"$f":"BLOCK!AN35","v":0},{"$f":"BLOCK!AO35","v":-1.1000000000000003E-2},{"$f":"BLOCK!AP35","v":-1.1000000000000003E-2},{"$f":"BLOCK!AQ35","v":0}]
[11,null,{"$f":"SEED!D17","v":" Block 1 Player 11"},{"$f":"SEED!E17","v":0},{"$f":"BLOCK!AS38","v":2},{"$f":"BLOCK!AN38","v":0},{"$f":"BLOCK!AO38","v":-1.1000000000000003E-2},{"$f":"BLOCK!AP38","v":-1.1000000000000003E-2},{"$f":"BLOCK!AQ38","v":0}]
[12,null,{"$f":"SEED!D18","v":" Block 1 Player 12"},{"$f":"SEED!E18","v":0},{"$f":"BLOCK!AS41","v":1},{"$f":"BLOCK!AN41","v":0},{"$f":"BLOCK!AO41","v":-1.1000000000000003E-2},{"$f":"BLOCK!AP41","v":-1.1000000000000003E-2},{"$f":"BLOCK!AQ41","v":0}]
[]
[null,null,{"$f":"SEED!I5","v":"BLOCK 2"}]
[]
[13,null,{"$f":"SEED!I7","v":" Block 2 Player 1"},{"$f":"SEED!J7","v":0},{"$f":"BLOCK!AS50","v":12},{"$f":"BLOCK!AN50","v":0},{"$f":"BLOCK!AO50","v":-1.1000000000000003E-2},{"$f":"BLOCK!AP50","v":-1.1000000000000003E-2},{"$f":"BLOCK!AQ50","v":0}]
[14,null,{"$f":"SEED!I8","v":" Block 2 Player 2"},{"$f":"SEED!J8","v":0},{"$f":"BLOCK!AS53","v":11},{"$f":"BLOCK!AN53","v":0},{"$f":"BLOCK!AO53","v":-1.1000000000000003E-2},{"$f":"BLOCK!AP53","v":-1.1000000000000003E-2},{"$f":"BLOCK!AQ53","v":0}]
[15,null,{"$f":"SEED!I9","v":" Block 2 Player 3"},{"$f":"SEED!J9","v":0},{"$f":"BLOCK!AS56","v":10},{"$f":"BLOCK!AN56","v":0},{"$f":"BLOCK!AO56","v":-1.1000000000000003E-2},{"$f":"BLOCK!AP56","v":-1.1000000000000003E-2},{"$f":"BLOCK!AQ56","v":0}]
[16,null,{"$f":"SEED!I10","v":" Block 2 Player 4"},{"$f":"SEED!J10","v":0},{"$f":"BLOCK!AS59","v":9},{"$f":"BLOCK!AN59","v":0},{"$f":"BLOCK!AO59","v":-1.1000000000000003E-2},{"$f":"BLOCK!AP59","v":-1.1000000000000003E-2},{"$f":"BLOCK!AQ59","v":0}]
[17,null,{"$f":"SEED!I11","v":" Block 2 Player 5"},{"$f":"SEED!J11","v":0},{"$f":"BLOCK!AS62","v":8},{"$f":"BLOCK!AN62","v":0},{"$f":"BLOCK!AO62","v":-1.1000000000000003E-2},{"$f":"BLOCK!AP62","v":-1.1000000000000003E-2},{"$f":"BLOCK!AQ62","v":0}]
[18,null,{"$f":"SEED!I12","v":" Block 2 Player 6"},{"$f":"SEED!J12","v":0},{"$f":"BLOCK!AS65","v":7},{"$f":"BLOCK!AN65","v":0},{"$f":"BLOCK!AO65","v":-1.1000000000000003E-2},{"$f":"BLOCK!AP65","v":-1.1000000000000003E-2},{"$f":"BLOCK!AQ65","v":0}]
[19,null,{"$f":"SEED!I13","v":" Block 2 Player 7"},{"$f":"SEED!J13","v":0},{"$f":"BLOCK!AS68","v":6},{"$f":"BLOCK!AN68","v":0},{"$f":"BLOCK!AO68","v":-1.1000000000000003E-2},{"$f":"BLOCK!AP68","v":-1.1000000000000003E-2},{"$f":"BLOCK!AQ68","v":0}]
[20,null,{"$f":"SEED!I14","v":" Block 2 Player 8"},{"$f":"SEED!J14","v":0},{"$f":"BLOCK!AS71","v":5},{"$f":"BLOCK!AN71","v":0},{"$f":"BLOCK!AO71","v":-1.1000000000000003E-2},{"$f":"BLOCK!AP71","v":-1.1000000000000003E-2},{"$f":"BLOCK!AQ71","v":0}]
[21,null,{"$f":"SEED!I15","v":" Block 2 Player 9"},{"$f":"SEED!J15","v":0},{"$f":"BLOCK!AS74","v":4},{"$f":"BLOCK!AN74","v":0},{"$f":"BLOCK!AO74","v":-1.1000000000000003E-2},{"$f":"BLOCK!AP74","v":-1.1000000000000003E-2},{"$f":"BLOCK!AQ74","v":0}]
[22,null,{"$f":"SEED!I16","v":" Block 2 Player 10"},{"$f":"SEED!J16","v":0},{"$f":"BLOCK!AS77","v":3},{"$f":"BLOCK!AN77","v":0},{"$f":"BLOCK!AO77","v":-1.1000000000000003E-2},{"$f":"BLOCK!AP77","v":-1.1000000000000003E-2},{"$f":"BLOCK!AQ77","v":0}]
[23,null,{"$f":"SEED!I17","v":" Block 2 Player 11"},{"$f":"SEED!J17","v":0},{"$f":"BLOCK!AS80","v":2},{"$f":"BLOCK!AN80","v":0},{"$f":"BLOCK!AO80","v":-1.1000000000000003E-2},{"$f":"BLOCK!AP80","v":-1.1000000000000003E-2},{"$f":"BLOCK!AQ80","v":0}]
[24,null,{"$f":"SEED!I18","v":" Block 2 Player 12"},{"$f":"SEED!J18","v":0},{"$f":"BLOCK!AS83","v":1},{"$f":"BLOCK!AN83","v":0},{"$f":"BLOCK!AO83","v":-1.1000000000000003E-2},{"$f":"BLOCK!AP83","v":-1.1000000000000003E-2},{"$f":"BLOCK!AQ83","v":0}]

{"sheet":"BLOCK SCHEDULE","index":17,"n_rows":145,"n_cols":7,"rows_kept":145,"cut":false,"hidden":false,"merged":[[2,1,2,6],[4,1,4,6],[5,1,5,6],[6,1,6,6],[3,1,3,6],[9,4,9,6],[77,1,77,3],[77,4,77,6],[78,4,78,6],[7,1,7,6],[8,1,8,3],[8,4,8,6]]}
[]
[]
[null,{"$f":"NAMES!$C$7","v":"Tournament"}]
[null,{"$f":"NAMES!$C$9","v":"Date"}]
[null,{"$f":"NAMES!E22","v":"Time limit 2.5 hours, Turn After Bell (61.1.6). Quadway hoops (3 11/16\"), Dawson International balls"}]
[null,{"$f":"NAMES!E23","v":"Games may start early. Please be at the venue at least 30 minutes earlier than the scheduled start time."}]
[null,{"$f":"NAMES!E24","v":"Entry Fee $40 will be invoiced by email. Please pay by EFT using the invoice No. as reference."}]
[null,{"$f":"NAMES!E25","v":"Players please assist with setting and clearing courts."}]
[null,{"$f":"\"SCHEDULE     \" &NAMES!$C$10","v":"SCHEDULE     BLOCK 1"},null,null,{"$f":"NAMES!$C$8","v":"Group"}]
[null,"TIME","DAY","COURT","PLAYERS"]
[null,{"$f":"GAMES!B4","v":"00:00:00"},{"$f":"GAMES!C4","v":"00:00:00"},{"$f":"GAMES!D4","v":0},{"$f":"GAMES!E4","v":" Block 1 Player 1"},{"$f":"GAMES!F4","v":"vs"},{"$f":"GAMES!G4","v":" Block 1 Player 3"}]
[null,{"$f":"GAMES!B5","v":"00:00:00"},{"$f":"GAMES!C5","v":"00:00:00"},{"$f":"GAMES!D5","v":0},{"$f":"GAMES!E5","v":" Block 1 Player 2"},{"$f":"GAMES!F5","v":"vs"},{"$f":"GAMES!G5","v":" Block 1 Player 4"}]
[null,{"$f":"GAMES!B6","v":"00:00:00"},{"$f":"GAMES!C6","v":"00:00:00"},{"$f":"GAMES!D6","v":0},{"$f":"GAMES!E6","v":" Block 1 Player 12"},{"$f":"GAMES!F6","v":"vs"},{"$f":"GAMES!G6","v":" Block 1 Player 5"}]
[null,{"$f":"GAMES!B7","v":"00:00:00"},{"$f":"GAMES!C7","v":"00:00:00"},{"$f":"GAMES!D7","v":0},{"$f":"GAMES!E7","v":" Block 1 Player 11"},{"$f":"GAMES!F7","v":"vs"},{"$f":"GAMES!G7","v":" Block 1 Player 6"}]
[null,{"$f":"GAMES!B8","v":"00:00:00"},{"$f":"GAMES!C8","v":"00:00:00"},{"$f":"GAMES!D8","v":0},{"$f":"GAMES!E8","v":" Block 1 Player 10"},{"$f":"GAMES!F8","v":"vs"},{"$f":"GAMES!G8","v":" Block 1 Player 7"}]
[null,{"$f":"GAMES!B9","v":"00:00:00"},{"$f":"GAMES!C9","v":"00:00:00"},{"$f":"GAMES!D9","v":0},{"$f":"GAMES!E9","v":" Block 1 Player 9"},{"$f":"GAMES!F9","v":"vs"},{"$f":"GAMES!G9","v":" Block 1 Player 8"}]
[null,{"$f":"GAMES!B10","v":"00:00:00"},{"$f":"GAMES!C10","v":"00:00:00"},{"$f":"GAMES!D10","v":0},{"$f":"GAMES!E10","v":" Block 1 Player 1"},{"$f":"GAMES!F10","v":"vs"},{"$f":"GAMES!G10","v":" Block 1 Player 4"}]
[null,{"$f":"GAMES!B11","v":"00:00:00"},{"$f":"GAMES!C11","v":"00:00:00"},{"$f":"GAMES!D11","v":0},{"$f":"GAMES!E11","v":" Block 1 Player 5"},{"$f":"GAMES!F11","v":"vs"},{"$f":"GAMES!G11","v":" Block 1 Player 3"}]
[null,{"$f":"GAMES!B12","v":"00:00:00"},{"$f":"GAMES!C12","v":"00:00:00"},{"$f":"GAMES!D12","v":0},{"$f":"GAMES!E12","v":" Block 1 Player 2"},{"$f":"GAMES!F12","v":"vs"},{"$f":"GAMES!G12","v":" Block 1 Player 6"}]
[null,{"$f":"GAMES!B13","v":"00:00:00"},{"$f":"GAMES!C13","v":"00:00:00"},{"$f":"GAMES!D13","v":0},{"$f":"GAMES!E13","v":" Block 1 Player 12"},{"$f":"GAMES!F13","v":"vs"},{"$f":"GAMES!G13","v":" Block 1 Player 7"}]
[null,{"$f":"GAMES!B14","v":"00:00:00"},{"$f":"GAMES!C14","v":"00:00:00"},{"$f":"GAMES!D14","v":0},{"$f":"GAMES!E14","v":" Block 1 Player 11"},{"$f":"GAMES!F14","v":"vs"},{"$f":"GAMES!G14","v":" Block 1 Player 8"}]
[null,{"$f":"GAMES!B15","v":"00:00:00"},{"$f":"GAMES!C15","v":"00:00:00"},{"$f":"GAMES!D15","v":0},{"$f":"GAMES!E15","v":" Block 1 Player 10"},{"$f":"GAMES!F15","v":"vs"},{"$f":"GAMES!G15","v":" Block 1 Player 9"}]
[null,{"$f":"GAMES!B16","v":"00:00:00"},{"$f":"GAMES!C16","v":"00:00:00"},{"$f":"GAMES!D16","v":0},{"$f":"GAMES!E16","v":" Block 1 Player 1"},{"$f":"GAMES!F16","v":"vs"},{"$f":"GAMES!G16","v":" Block 1 Player 5"}]
[null,{"$f":"GAMES!B17","v":"00:00:00"},{"$f":"GAMES!C17","v":"00:00:00"},{"$f":"GAMES!D17","v":0},{"$f":"GAMES!E17","v":" Block 1 Player 4"},{"$f":"GAMES!F17","v":"vs"},{"$f":"GAMES!G17","v":" Block 1 Player 6"}]
[null,{"$f":"GAMES!B18","v":"00:00:00"},{"$f":"GAMES!C18","v":"00:00:00"},{"$f":"GAMES!D18","v":0},{"$f":"GAMES!E18","v":" Block 1 Player 3"},{"$f":"GAMES!F18","v":"vs"},{"$f":"GAMES!G18","v":" Block 1 Player 7"}]
[null,{"$f":"GAMES!B19","v":"00:00:00"},{"$f":"GAMES!C19","v":"00:00:00"},{"$f":"GAMES!D19","v":0},{"$f":"GAMES!E19","v":" Block 1 Player 2"},{"$f":"GAMES!F19","v":"vs"},{"$f":"GAMES!G19","v":" Block 1 Player 8"}]
[null,{"$f":"GAMES!B20","v":"00:00:00"},{"$f":"GAMES!C20","v":"00:00:00"},{"$f":"GAMES!D20","v":0},{"$f":"GAMES!E20","v":" Block 1 Player 12"},{"$f":"GAMES!F20","v":"vs"},{"$f":"GAMES!G20","v":" Block 1 Player 9"}]
[null,{"$f":"GAMES!B21","v":"00:00:00"},{"$f":"GAMES!C21","v":"00:00:00"},{"$f":"GAMES!D21","v":0},{"$f":"GAMES!E21","v":" Block 1 Player 11"},{"$f":"GAMES!F21","v":"vs"},{"$f":"GAMES!G21","v":" Block 1 Player 10"}]
[null,{"$f":"GAMES!B22","v":"00:00:00"},{"$f":"GAMES!C22","v":"00:00:00"},{"$f":"GAMES!D22","v":0},{"$f":"GAMES!E22","v":" Block 1 Player 1"},{"$f":"GAMES!F22","v":"vs"},{"$f":"GAMES!G22","v":" Block 1 Player 6"}]
[null,{"$f":"GAMES!B23","v":"00:00:00"},{"$f":"GAMES!C23","v":"00:00:00"},{"$f":"GAMES!D23","v":0},{"$f":"GAMES!E23","v":" Block 1 Player 5"},{"$f":"GAMES!F23","v":"vs"},{"$f":"GAMES!G23","v":" Block 1 Player 7"}]
[null,{"$f":"GAMES!B24","v":"00:00:00"},{"$f":"GAMES!C24","v":"00:00:00"},{"$f":"GAMES!D24","v":0},{"$f":"GAMES!E24","v":" Block 1 Player 4"},{"$f":"GAMES!F24","v":"vs"},{"$f":"GAMES!G24","v":" Block 1 Player 8"}]
[null,{"$f":"GAMES!B25","v":"00:00:00"},{"$f":"GAMES!C25","v":"00:00:00"},{"$f":"GAMES!D25","v":0},{"$f":"GAMES!E25","v":" Block 1 Player 3"},{"$f":"GAMES!F25","v":"vs"},{"$f":"GAMES!G25","v":" Block 1 Player 9"}]
[null,{"$f":"GAMES!B26","v":"00:00:00"},{"$f":"GAMES!C26","v":"00:00:00"},{"$f":"GAMES!D26","v":0},{"$f":"GAMES!E26","v":" Block 1 Player 2"},{"$f":"GAMES!F26","v":"vs"},{"$f":"GAMES!G26","v":" Block 1 Player 10"}]
[null,{"$f":"GAMES!B27","v":"00:00:00"},{"$f":"GAMES!C27","v":"00:00:00"},{"$f":"GAMES!D27","v":0},{"$f":"GAMES!E27","v":" Block 1 Player 12"},{"$f":"GAMES!F27","v":"vs"},{"$f":"GAMES!G27","v":" Block 1 Player 11"}]
[null,{"$f":"GAMES!B28","v":"00:00:00"},{"$f":"GAMES!C28","v":"00:00:00"},{"$f":"GAMES!D28","v":0},{"$f":"GAMES!E28","v":" Block 1 Player 1"},{"$f":"GAMES!F28","v":"vs"},{"$f":"GAMES!G28","v":" Block 1 Player 7"}]
[null,{"$f":"GAMES!B29","v":"00:00:00"},{"$f":"GAMES!C29","v":"00:00:00"},{"$f":"GAMES!D29","v":0},{"$f":"GAMES!E29","v":" Block 1 Player 6"},{"$f":"GAMES!F29","v":"vs"},{"$f":"GAMES!G29","v":" Block 1 Player 8"}]
[null,{"$f":"GAMES!B30","v":"00:00:00"},{"$f":"GAMES!C30","v":"00:00:00"},{"$f":"GAMES!D30","v":0},{"$f":"GAMES!E30","v":" Block 1 Player 5"},{"$f":"GAMES!F30","v":"vs"},{"$f":"GAMES!G30","v":" Block 1 Player 9"}]
[null,{"$f":"GAMES!B31","v":"00:00:00"},{"$f":"GAMES!C31","v":"00:00:00"},{"$f":"GAMES!D31","v":0},{"$f":"GAMES!E31","v":" Block 1 Player 4"},{"$f":"GAMES!F31","v":"vs"},{"$f":"GAMES!G31","v":" Block 1 Player 10"}]
[null,{"$f":"GAMES!B32","v":"00:00:00"},{"$f":"GAMES!C32","v":"00:00:00"},{"$f":"GAMES!D32","v":0},{"$f":"GAMES!E32","v":" Block 1 Player 3"},{"$f":"GAMES!F32","v":"vs"},{"$f":"GAMES!G32","v":" Block 1 Player 11"}]
[null,{"$f":"GAMES!B33","v":"00:00:00"},{"$f":"GAMES!C33","v":"00:00:00"},{"$f":"GAMES!D33","v":0},{"$f":"GAMES!E33","v":" Block 1 Player 2"},{"$f":"GAMES!F33","v":"vs"},{"$f":"GAMES!G33","v":" Block 1 Player 12"}]
[null,{"$f":"GAMES!B34","v":"00:00:00"},{"$f":"GAMES!C34","v":"00:00:00"},{"$f":"GAMES!D34","v":0},{"$f":"GAMES!E34","v":" Block 1 Player 1"},{"$f":"GAMES!F34","v":"vs"},{"$f":"GAMES!G34","v":" Block 1 Player 8"}]
[null,{"$f":"GAMES!B35","v":"00:00:00"},{"$f":"GAMES!C35","v":"00:00:00"},{"$f":"GAMES!D35","v":0},{"$f":"GAMES!E35","v":" Block 1 Player 7"},{"$f":"GAMES!F35","v":"vs"},{"$f":"GAMES!G35","v":" Block 1 Player 9"}]
[null,{"$f":"GAMES!B36","v":"00:00:00"},{"$f":"GAMES!C36","v":"00:00:00"},{"$f":"GAMES!D36","v":0},{"$f":"GAMES!E36","v":" Block 1 Player 6"},{"$f":"GAMES!F36","v":"vs"},{"$f":"GAMES!G36","v":" Block 1 Player 10"}]
[null,{"$f":"GAMES!B37","v":"00:00:00"},{"$f":"GAMES!C37","v":"00:00:00"},{"$f":"GAMES!D37","v":0},{"$f":"GAMES!E37","v":" Block 1 Player 5"},{"$f":"GAMES!F37","v":"vs"},{"$f":"GAMES!G37","v":" Block 1 Player 11"}]
[null,{"$f":"GAMES!B38","v":"00:00:00"},{"$f":"GAMES!C38","v":"00:00:00"},{"$f":"GAMES!D38","v":0},{"$f":"GAMES!E38","v":" Block 1 Player 4"},{"$f":"GAMES!F38","v":"vs"},{"$f":"GAMES!G38","v":" Block 1 Player 12"}]
[null,{"$f":"GAMES!B39","v":"00:00:00"},{"$f":"GAMES!C39","v":"00:00:00"},{"$f":"GAMES!D39","v":0},{"$f":"GAMES!E39","v":" Block 1 Player 3"},{"$f":"GAMES!F39","v":"vs"},{"$f":"GAMES!G39","v":" Block 1 Player 2"}]
[null,{"$f":"GAMES!B40","v":"00:00:00"},{"$f":"GAMES!C40","v":"00:00:00"},{"$f":"GAMES!D40","v":0},{"$f":"GAMES!E40","v":" Block 1 Player 1"},{"$f":"GAMES!F40","v":"vs"},{"$f":"GAMES!G40","v":" Block 1 Player 9"}]
[null,{"$f":"GAMES!B41","v":"00:00:00"},{"$f":"GAMES!C41","v":"00:00:00"},{"$f":"GAMES!D41","v":0},{"$f":"GAMES!E41","v":" Block 1 Player 8"},{"$f":"GAMES!F41","v":"vs"},{"$f":"GAMES!G41","v":" Block 1 Player 10"}]
[null,{"$f":"GAMES!B42","v":"00:00:00"},{"$f":"GAMES!C42","v":"00:00:00"},{"$f":"GAMES!D42","v":0},{"$f":"GAMES!E42","v":" Block 1 Player 7"},{"$f":"GAMES!F42","v":"vs"},{"$f":"GAMES!G42","v":" Block 1 Player 11"}]
[null,{"$f":"GAMES!B43","v":"00:00:00"},{"$f":"GAMES!C43","v":"00:00:00"},{"$f":"GAMES!D43","v":0},{"$f":"GAMES!E43","v":" Block 1 Player 6"},{"$f":"GAMES!F43","v":"vs"},{"$f":"GAMES!G43","v":" Block 1 Player 12"}]
[null,{"$f":"GAMES!B44","v":"00:00:00"},{"$f":"GAMES!C44","v":"00:00:00"},{"$f":"GAMES!D44","v":0},{"$f":"GAMES!E44","v":" Block 1 Player 5"},{"$f":"GAMES!F44","v":"vs"},{"$f":"GAMES!G44","v":" Block 1 Player 2"}]
[null,{"$f":"GAMES!B45","v":"00:00:00"},{"$f":"GAMES!C45","v":"00:00:00"},{"$f":"GAMES!D45","v":0},{"$f":"GAMES!E45","v":" Block 1 Player 4"},{"$f":"GAMES!F45","v":"vs"},{"$f":"GAMES!G45","v":" Block 1 Player 3"}]
[null,{"$f":"GAMES!B46","v":"00:00:00"},{"$f":"GAMES!C46","v":"00:00:00"},{"$f":"GAMES!D46","v":0},{"$f":"GAMES!E46","v":" Block 1 Player 1"},{"$f":"GAMES!F46","v":"vs"},{"$f":"GAMES!G46","v":" Block 1 Player 10"}]
[null,{"$f":"GAMES!B47","v":"00:00:00"},{"$f":"GAMES!C47","v":"00:00:00"},{"$f":"GAMES!D47","v":0},{"$f":"GAMES!E47","v":" Block 1 Player 9"},{"$f":"GAMES!F47","v":"vs"},{"$f":"GAMES!G47","v":" Block 1 Player 11"}]
[null,{"$f":"GAMES!B48","v":"00:00:00"},{"$f":"GAMES!C48","v":"00:00:00"},{"$f":"GAMES!D48","v":0},{"$f":"GAMES!E48","v":" Block 1 Player 8"},{"$f":"GAMES!F48","v":"vs"},{"$f":"GAMES!G48","v":" Block 1 Player 12"}]
[null,{"$f":"GAMES!B49","v":"00:00:00"},{"$f":"GAMES!C49","v":"00:00:00"},{"$f":"GAMES!D49","v":0},{"$f":"GAMES!E49","v":" Block 1 Player 7"},{"$f":"GAMES!F49","v":"vs"},{"$f":"GAMES!G49","v":" Block 1 Player 2"}]
[null,{"$f":"GAMES!B50","v":"00:00:00"},{"$f":"GAMES!C50","v":"00:00:00"},{"$f":"GAMES!D50","v":0},{"$f":"GAMES!E50","v":" Block 1 Player 6"},{"$f":"GAMES!F50","v":"vs"},{"$f":"GAMES!G50","v":" Block 1 Player 3"}]
[null,{"$f":"GAMES!B51","v":"00:00:00"},{"$f":"GAMES!C51","v":"00:00:00"},{"$f":"GAMES!D51","v":0},{"$f":"GAMES!E51","v":" Block 1 Player 5"},{"$f":"GAMES!F51","v":"vs"},{"$f":"GAMES!G51","v":" Block 1 Player 4"}]
[null,{"$f":"GAMES!B52","v":"00:00:00"},{"$f":"GAMES!C52","v":"00:00:00"},{"$f":"GAMES!D52","v":0},{"$f":"GAMES!E52","v":" Block 1 Player 1"},{"$f":"GAMES!F52","v":"vs"},{"$f":"GAMES!G52","v":" Block 1 Player 11"}]
[null,{"$f":"GAMES!B53","v":"00:00:00"},{"$f":"GAMES!C53","v":"00:00:00"},{"$f":"GAMES!D53","v":0},{"$f":"GAMES!E53","v":" Block 1 Player 10"},{"$f":"GAMES!F53","v":"vs"},{"$f":"GAMES!G53","v":" Block 1 Player 12"}]
[null,{"$f":"GAMES!B54","v":"00:00:00"},{"$f":"GAMES!C54","v":"00:00:00"},{"$f":"GAMES!D54","v":0},{"$f":"GAMES!E54","v":" Block 1 Player 2"},{"$f":"GAMES!F54","v":"vs"},{"$f":"GAMES!G54","v":" Block 1 Player 9"}]
[null,{"$f":"GAMES!B55","v":"00:00:00"},{"$f":"GAMES!C55","v":"00:00:00"},{"$f":"GAMES!D55","v":0},{"$f":"GAMES!E55","v":" Block 1 Player 3"},{"$f":"GAMES!F55","v":"vs"},{"$f":"GAMES!G55","v":" Block 1 Player 8"}]
[null,{"$f":"GAMES!B56","v":"00:00:00"},{"$f":"GAMES!C56","v":"00:00:00"},{"$f":"GAMES!D56","v":0},{"$f":"GAMES!E56","v":" Block 1 Player 4"},{"$f":"GAMES!F56","v":"vs"},{"$f":"GAMES!G56","v":" Block 1 Player 7"}]
[null,{"$f":"GAMES!B57","v":"00:00:00"},{"$f":"GAMES!C57","v":"00:00:00"},{"$f":"GAMES!D57","v":0},{"$f":"GAMES!E57","v":" Block 1 Player 5"},{"$f":"GAMES!F57","v":"vs"},{"$f":"GAMES!G57","v":" Block 1 Player 6"}]
[null,{"$f":"GAMES!B58","v":"00:00:00"},{"$f":"GAMES!C58","v":"00:00:00"},{"$f":"GAMES!D58","v":0},{"$f":"GAMES!E58","v":" Block 1 Player 1"},{"$f":"GAMES!F58","v":"vs"},{"$f":"GAMES!G58","v":" Block 1 Player 12"}]
[null,{"$f":"GAMES!B59","v":"00:00:00"},{"$f":"GAMES!C59","v":"00:00:00"},{"$f":"GAMES!D59","v":0},{"$f":"GAMES!E59","v":" Block 1 Player 11"},{"$f":"GAMES!F59","v":"vs"},{"$f":"GAMES!G59","v":" Block 1 Player 2"}]
[null,{"$f":"GAMES!B60","v":"00:00:00"},{"$f":"GAMES!C60","v":"00:00:00"},{"$f":"GAMES!D60","v":0},{"$f":"GAMES!E60","v":" Block 1 Player 10"},{"$f":"GAMES!F60","v":"vs"},{"$f":"GAMES!G60","v":" Block 1 Player 3"}]
[null,{"$f":"GAMES!B61","v":"00:00:00"},{"$f":"GAMES!C61","v":"00:00:00"},{"$f":"GAMES!D61","v":0},{"$f":"GAMES!E61","v":" Block 1 Player 9"},{"$f":"GAMES!F61","v":"vs"},{"$f":"GAMES!G61","v":" Block 1 Player 4"}]
[null,{"$f":"GAMES!B62","v":"00:00:00"},{"$f":"GAMES!C62","v":"00:00:00"},{"$f":"GAMES!D62","v":0},{"$f":"GAMES!E62","v":" Block 1 Player 8"},{"$f":"GAMES!F62","v":"vs"},{"$f":"GAMES!G62","v":" Block 1 Player 5"}]
[null,{"$f":"GAMES!B63","v":"00:00:00"},{"$f":"GAMES!C63","v":"00:00:00"},{"$f":"GAMES!D63","v":0},{"$f":"GAMES!E63","v":" Block 1 Player 7"},{"$f":"GAMES!F63","v":"vs"},{"$f":"GAMES!G63","v":" Block 1 Player 6"}]
[null,{"$f":"GAMES!B64","v":"00:00:00"},{"$f":"GAMES!C64","v":"00:00:00"},{"$f":"GAMES!D64","v":0},{"$f":"GAMES!E64","v":" Block 1 Player 1"},{"$f":"GAMES!F64","v":"vs"},{"$f":"GAMES!G64","v":" Block 1 Player 2"}]
[null,{"$f":"GAMES!B65","v":"00:00:00"},{"$f":"GAMES!C65","v":"00:00:00"},{"$f":"GAMES!D65","v":0},{"$f":"GAMES!E65","v":" Block 1 Player 12"},{"$f":"GAMES!F65","v":"vs"},{"$f":"GAMES!G65","v":" Block 1 Player 3"}]
[null,{"$f":"GAMES!B66","v":"00:00:00"},{"$f":"GAMES!C66","v":"00:00:00"},{"$f":"GAMES!D66","v":0},{"$f":"GAMES!E66","v":" Block 1 Player 11"},{"$f":"GAMES!F66","v":"vs"},{"$f":"GAMES!G66","v":" Block 1 Player 4"}]
[null,{"$f":"GAMES!B67","v":"00:00:00"},{"$f":"GAMES!C67","v":"00:00:00"},{"$f":"GAMES!D67","v":0},{"$f":"GAMES!E67","v":" Block 1 Player 10"},{"$f":"GAMES!F67","v":"vs"},{"$f":"GAMES!G67","v":" Block 1 Player 5"}]
[null,{"$f":"GAMES!B68","v":"00:00:00"},{"$f":"GAMES!C68","v":"00:00:00"},{"$f":"GAMES!D68","v":0},{"$f":"GAMES!E68","v":" Block 1 Player 9"},{"$f":"GAMES!F68","v":"vs"},{"$f":"GAMES!G68","v":" Block 1 Player 6"}]
[null,{"$f":"GAMES!B69","v":"00:00:00"},{"$f":"GAMES!C69","v":"00:00:00"},{"$f":"GAMES!D69","v":0},{"$f":"GAMES!E69","v":" Block 1 Player 8"},{"$f":"GAMES!F69","v":"vs"},{"$f":"GAMES!G69","v":" Block 1 Player 7"}]
[]
[null,{"$f":"\"SCHEDULE     \" &NAMES!$C$71","v":"SCHEDULE     BLOCK 2"},null,null,{"$f":"NAMES!$C$8","v":"Group"}]
[null,"TIME","DAY","COURT","PLAYERS"]
[null,{"$f":"GAMES!B72","v":"00:00:00"},{"$f":"GAMES!C72","v":"00:00:00"},{"$f":"GAMES!D72","v":0},{"$f":"GAMES!E72","v":" Block 2 Player 1"},{"$f":"GAMES!F72","v":"vs"},{"$f":"GAMES!G72","v":" Block 2 Player 3"}]
[null,{"$f":"GAMES!B73","v":"00:00:00"},{"$f":"GAMES!C73","v":"00:00:00"},{"$f":"GAMES!D73","v":0},{"$f":"GAMES!E73","v":" Block 2 Player 2"},{"$f":"GAMES!F73","v":"vs"},{"$f":"GAMES!G73","v":" Block 2 Player 4"}]
[null,{"$f":"GAMES!B74","v":"00:00:00"},{"$f":"GAMES!C74","v":"00:00:00"},{"$f":"GAMES!D74","v":0},{"$f":"GAMES!E74","v":" Block 2 Player 12"},{"$f":"GAMES!F74","v":"vs"},{"$f":"GAMES!G74","v":" Block 2 Player 5"}]
[null,{"$f":"GAMES!B75","v":"00:00:00"},{"$f":"GAMES!C75","v":"00:00:00"},{"$f":"GAMES!D75","v":0},{"$f":"GAMES!E75","v":" Block 2 Player 11"},{"$f":"GAMES!F75","v":"vs"},{"$f":"GAMES!G75","v":" Block 2 Player 6"}]
[null,{"$f":"GAMES!B76","v":"00:00:00"},{"$f":"GAMES!C76","v":"00:00:00"},{"$f":"GAMES!D76","v":0},{"$f":"GAMES!E76","v":" Block 2 Player 10"},{"$f":"GAMES!F76","v":"vs"},{"$f":"GAMES!G76","v":" Block 2 Player 7"}]
[null,{"$f":"GAMES!B77","v":"00:00:00"},{"$f":"GAMES!C77","v":"00:00:00"},{"$f":"GAMES!D77","v":0},{"$f":"GAMES!E77","v":" Block 2 Player 9"},{"$f":"GAMES!F77","v":"vs"},{"$f":"GAMES!G77","v":" Block 2 Player 8"}]
[null,{"$f":"GAMES!B78","v":"00:00:00"},{"$f":"GAMES!C78","v":"00:00:00"},{"$f":"GAMES!D78","v":0},{"$f":"GAMES!E78","v":" Block 2 Player 1"},{"$f":"GAMES!F78","v":"vs"},{"$f":"GAMES!G78","v":" Block 2 Player 4"}]
[null,{"$f":"GAMES!B79","v":"00:00:00"},{"$f":"GAMES!C79","v":"00:00:00"},{"$f":"GAMES!D79","v":0},{"$f":"GAMES!E79","v":" Block 2 Player 5"},{"$f":"GAMES!F79","v":"vs"},{"$f":"GAMES!G79","v":" Block 2 Player 3"}]
[null,{"$f":"GAMES!B80","v":"00:00:00"},{"$f":"GAMES!C80","v":"00:00:00"},{"$f":"GAMES!D80","v":0},{"$f":"GAMES!E80","v":" Block 2 Player 2"},{"$f":"GAMES!F80","v":"vs"},{"$f":"GAMES!G80","v":" Block 2 Player 6"}]
[null,{"$f":"GAMES!B81","v":"00:00:00"},{"$f":"GAMES!C81","v":"00:00:00"},{"$f":"GAMES!D81","v":0},{"$f":"GAMES!E81","v":" Block 2 Player 12"},{"$f":"GAMES!F81","v":"vs"},{"$f":"GAMES!G81","v":" Block 2 Player 7"}]
[null,{"$f":"GAMES!B82","v":"00:00:00"},{"$f":"GAMES!C82","v":"00:00:00"},{"$f":"GAMES!D82","v":0},{"$f":"GAMES!E82","v":" Block 2 Player 11"},{"$f":"GAMES!F82","v":"vs"},{"$f":"GAMES!G82","v":" Block 2 Player 8"}]
[null,{"$f":"GAMES!B83","v":"00:00:00"},{"$f":"GAMES!C83","v":"00:00:00"},{"$f":"GAMES!D83","v":0},{"$f":"GAMES!E83","v":" Block 2 Player 10"},{"$f":"GAMES!F83","v":"vs"},{"$f":"GAMES!G83","v":" Block 2 Player 9"}]
[null,{"$f":"GAMES!B84","v":"00:00:00"},{"$f":"GAMES!C84","v":"00:00:00"},{"$f":"GAMES!D84","v":0},{"$f":"GAMES!E84","v":" Block 2 Player 1"},{"$f":"GAMES!F84","v":"vs"},{"$f":"GAMES!G84","v":" Block 2 Player 5"}]
[null,{"$f":"GAMES!B85","v":"00:00:00"},{"$f":"GAMES!C85","v":"00:00:00"},{"$f":"GAMES!D85","v":0},{"$f":"GAMES!E85","v":" Block 2 Player 4"},{"$f":"GAMES!F85","v":"vs"},{"$f":"GAMES!G85","v":" Block 2 Player 6"}]
[null,{"$f":"GAMES!B86","v":"00:00:00"},{"$f":"GAMES!C86","v":"00:00:00"},{"$f":"GAMES!D86","v":0},{"$f":"GAMES!E86","v":" Block 2 Player 3"},{"$f":"GAMES!F86","v":"vs"},{"$f":"GAMES!G86","v":" Block 2 Player 7"}]
[null,{"$f":"GAMES!B87","v":"00:00:00"},{"$f":"GAMES!C87","v":"00:00:00"},{"$f":"GAMES!D87","v":0},{"$f":"GAMES!E87","v":" Block 2 Player 2"},{"$f":"GAMES!F87","v":"vs"},{"$f":"GAMES!G87","v":" Block 2 Player 8"}]
[null,{"$f":"GAMES!B88","v":"00:00:00"},{"$f":"GAMES!C88","v":"00:00:00"},{"$f":"GAMES!D88","v":0},{"$f":"GAMES!E88","v":" Block 2 Player 12"},{"$f":"GAMES!F88","v":"vs"},{"$f":"GAMES!G88","v":" Block 2 Player 9"}]
[null,{"$f":"GAMES!B89","v":"00:00:00"},{"$f":"GAMES!C89","v":"00:00:00"},{"$f":"GAMES!D89","v":0},{"$f":"GAMES!E89","v":" Block 2 Player 11"},{"$f":"GAMES!F89","v":"vs"},{"$f":"GAMES!G89","v":" Block 2 Player 10"}]
[null,{"$f":"GAMES!B90","v":"00:00:00"},{"$f":"GAMES!C90","v":"00:00:00"},{"$f":"GAMES!D90","v":0},{"$f":"GAMES!E90","v":" Block 2 Player 1"},{"$f":"GAMES!F90","v":"vs"},{"$f":"GAMES!G90","v":" Block 2 Player 6"}]
[null,{"$f":"GAMES!B91","v":"00:00:00"},{"$f":"GAMES!C91","v":"00:00:00"},{"$f":"GAMES!D91","v":0},{"$f":"GAMES!E91","v":" Block 2 Player 5"},{"$f":"GAMES!F91","v":"vs"},{"$f":"GAMES!G91","v":" Block 2 Player 7"}]
[null,{"$f":"GAMES!B92","v":"00:00:00"},{"$f":"GAMES!C92","v":"00:00:00"},{"$f":"GAMES!D92","v":0},{"$f":"GAMES!E92","v":" Block 2 Player 4"},{"$f":"GAMES!F92","v":"vs"},{"$f":"GAMES!G92","v":" Block 2 Player 8"}]
[null,{"$f":"GAMES!B93","v":"00:00:00"},{"$f":"GAMES!C93","v":"00:00:00"},{"$f":"GAMES!D93","v":0},{"$f":"GAMES!E93","v":" Block 2 Player 3"},{"$f":"GAMES!F93","v":"vs"},{"$f":"GAMES!G93","v":" Block 2 Player 9"}]
[null,{"$f":"GAMES!B94","v":"00:00:00"},{"$f":"GAMES!C94","v":"00:00:00"},{"$f":"GAMES!D94","v":0},{"$f":"GAMES!E94","v":" Block 2 Player 2"},{"$f":"GAMES!F94","v":"vs"},{"$f":"GAMES!G94","v":" Block 2 Player 10"}]
[null,{"$f":"GAMES!B95","v":"00:00:00"},{"$f":"GAMES!C95","v":"00:00:00"},{"$f":"GAMES!D95","v":0},{"$f":"GAMES!E95","v":" Block 2 Player 12"},{"$f":"GAMES!F95","v":"vs"},{"$f":"GAMES!G95","v":" Block 2 Player 11"}]
[null,{"$f":"GAMES!B96","v":"00:00:00"},{"$f":"GAMES!C96","v":"00:00:00"},{"$f":"GAMES!D96","v":0},{"$f":"GAMES!E96","v":" Block 2 Player 1"},{"$f":"GAMES!F96","v":"vs"},{"$f":"GAMES!G96","v":" Block 2 Player 7"}]
[null,{"$f":"GAMES!B97","v":"00:00:00"},{"$f":"GAMES!C97","v":"00:00:00"},{"$f":"GAMES!D97","v":0},{"$f":"GAMES!E97","v":" Block 2 Player 6"},{"$f":"GAMES!F97","v":"vs"},{"$f":"GAMES!G97","v":" Block 2 Player 8"}]
[null,{"$f":"GAMES!B98","v":"00:00:00"},{"$f":"GAMES!C98","v":"00:00:00"},{"$f":"GAMES!D98","v":0},{"$f":"GAMES!E98","v":" Block 2 Player 5"},{"$f":"GAMES!F98","v":"vs"},{"$f":"GAMES!G98","v":" Block 2 Player 9"}]
[null,{"$f":"GAMES!B99","v":"00:00:00"},{"$f":"GAMES!C99","v":"00:00:00"},{"$f":"GAMES!D99","v":0},{"$f":"GAMES!E99","v":" Block 2 Player 4"},{"$f":"GAMES!F99","v":"vs"},{"$f":"GAMES!G99","v":" Block 2 Player 10"}]
[null,{"$f":"GAMES!B100","v":"00:00:00"},{"$f":"GAMES!C100","v":"00:00:00"},{"$f":"GAMES!D100","v":0},{"$f":"GAMES!E100","v":" Block 2 Player 3"},{"$f":"GAMES!F100","v":"vs"},{"$f":"GAMES!G100","v":" Block 2 Player 11"}]
[null,{"$f":"GAMES!B101","v":"00:00:00"},{"$f":"GAMES!C101","v":"00:00:00"},{"$f":"GAMES!D101","v":0},{"$f":"GAMES!E101","v":" Block 2 Player 2"},{"$f":"GAMES!F101","v":"vs"},{"$f":"GAMES!G101","v":" Block 2 Player 12"}]
[null,{"$f":"GAMES!B102","v":"00:00:00"},{"$f":"GAMES!C102","v":"00:00:00"},{"$f":"GAMES!D102","v":0},{"$f":"GAMES!E102","v":" Block 2 Player 1"},{"$f":"GAMES!F102","v":"vs"},{"$f":"GAMES!G102","v":" Block 2 Player 8"}]
[null,{"$f":"GAMES!B103","v":"00:00:00"},{"$f":"GAMES!C103","v":"00:00:00"},{"$f":"GAMES!D103","v":0},{"$f":"GAMES!E103","v":" Block 2 Player 7"},{"$f":"GAMES!F103","v":"vs"},{"$f":"GAMES!G103","v":" Block 2 Player 9"}]
[null,{"$f":"GAMES!B104","v":"00:00:00"},{"$f":"GAMES!C104","v":"00:00:00"},{"$f":"GAMES!D104","v":0},{"$f":"GAMES!E104","v":" Block 2 Player 6"},{"$f":"GAMES!F104","v":"vs"},{"$f":"GAMES!G104","v":" Block 2 Player 10"}]
[null,{"$f":"GAMES!B105","v":"00:00:00"},{"$f":"GAMES!C105","v":"00:00:00"},{"$f":"GAMES!D105","v":0},{"$f":"GAMES!E105","v":" Block 2 Player 5"},{"$f":"GAMES!F105","v":"vs"},{"$f":"GAMES!G105","v":" Block 2 Player 11"}]
[null,{"$f":"GAMES!B106","v":"00:00:00"},{"$f":"GAMES!C106","v":"00:00:00"},{"$f":"GAMES!D106","v":0},{"$f":"GAMES!E106","v":" Block 2 Player 4"},{"$f":"GAMES!F106","v":"vs"},{"$f":"GAMES!G106","v":" Block 2 Player 12"}]
[null,{"$f":"GAMES!B107","v":"00:00:00"},{"$f":"GAMES!C107","v":"00:00:00"},{"$f":"GAMES!D107","v":0},{"$f":"GAMES!E107","v":" Block 2 Player 3"},{"$f":"GAMES!F107","v":"vs"},{"$f":"GAMES!G107","v":" Block 2 Player 2"}]
[null,{"$f":"GAMES!B108","v":"00:00:00"},{"$f":"GAMES!C108","v":"00:00:00"},{"$f":"GAMES!D108","v":0},{"$f":"GAMES!E108","v":" Block 2 Player 1"},{"$f":"GAMES!F108","v":"vs"},{"$f":"GAMES!G108","v":" Block 2 Player 9"}]
[null,{"$f":"GAMES!B109","v":"00:00:00"},{"$f":"GAMES!C109","v":"00:00:00"},{"$f":"GAMES!D109","v":0},{"$f":"GAMES!E109","v":" Block 2 Player 8"},{"$f":"GAMES!F109","v":"vs"},{"$f":"GAMES!G109","v":" Block 2 Player 10"}]
[null,{"$f":"GAMES!B110","v":"00:00:00"},{"$f":"GAMES!C110","v":"00:00:00"},{"$f":"GAMES!D110","v":0},{"$f":"GAMES!E110","v":" Block 2 Player 7"},{"$f":"GAMES!F110","v":"vs"},{"$f":"GAMES!G110","v":" Block 2 Player 11"}]
[null,{"$f":"GAMES!B111","v":"00:00:00"},{"$f":"GAMES!C111","v":"00:00:00"},{"$f":"GAMES!D111","v":0},{"$f":"GAMES!E111","v":" Block 2 Player 6"},{"$f":"GAMES!F111","v":"vs"},{"$f":"GAMES!G111","v":" Block 2 Player 12"}]
[null,{"$f":"GAMES!B112","v":"00:00:00"},{"$f":"GAMES!C112","v":"00:00:00"},{"$f":"GAMES!D112","v":0},{"$f":"GAMES!E112","v":" Block 2 Player 5"},{"$f":"GAMES!F112","v":"vs"},{"$f":"GAMES!G112","v":" Block 2 Player 2"}]
[null,{"$f":"GAMES!B113","v":"00:00:00"},{"$f":"GAMES!C113","v":"00:00:00"},{"$f":"GAMES!D113","v":0},{"$f":"GAMES!E113","v":" Block 2 Player 4"},{"$f":"GAMES!F113","v":"vs"},{"$f":"GAMES!G113","v":" Block 2 Player 3"}]
[null,{"$f":"GAMES!B114","v":"00:00:00"},{"$f":"GAMES!C114","v":"00:00:00"},{"$f":"GAMES!D114","v":0},{"$f":"GAMES!E114","v":" Block 2 Player 1"},{"$f":"GAMES!F114","v":"vs"},{"$f":"GAMES!G114","v":" Block 2 Player 10"}]
[null,{"$f":"GAMES!B115","v":"00:00:00"},{"$f":"GAMES!C115","v":"00:00:00"},{"$f":"GAMES!D115","v":0},{"$f":"GAMES!E115","v":" Block 2 Player 9"},{"$f":"GAMES!F115","v":"vs"},{"$f":"GAMES!G115","v":" Block 2 Player 11"}]
[null,{"$f":"GAMES!B116","v":"00:00:00"},{"$f":"GAMES!C116","v":"00:00:00"},{"$f":"GAMES!D116","v":0},{"$f":"GAMES!E116","v":" Block 2 Player 8"},{"$f":"GAMES!F116","v":"vs"},{"$f":"GAMES!G116","v":" Block 2 Player 12"}]
[null,{"$f":"GAMES!B117","v":"00:00:00"},{"$f":"GAMES!C117","v":"00:00:00"},{"$f":"GAMES!D117","v":0},{"$f":"GAMES!E117","v":" Block 2 Player 7"},{"$f":"GAMES!F117","v":"vs"},{"$f":"GAMES!G117","v":" Block 2 Player 2"}]
[null,{"$f":"GAMES!B118","v":"00:00:00"},{"$f":"GAMES!C118","v":"00:00:00"},{"$f":"GAMES!D118","v":0},{"$f":"GAMES!E118","v":" Block 2 Player 6"},{"$f":"GAMES!F118","v":"vs"},{"$f":"GAMES!G118","v":" Block 2 Player 3"}]
[null,{"$f":"GAMES!B119","v":"00:00:00"},{"$f":"GAMES!C119","v":"00:00:00"},{"$f":"GAMES!D119","v":0},{"$f":"GAMES!E119","v":" Block 2 Player 5"},{"$f":"GAMES!F119","v":"vs"},{"$f":"GAMES!G119","v":" Block 2 Player 4"}]
[null,{"$f":"GAMES!B120","v":"00:00:00"},{"$f":"GAMES!C120","v":"00:00:00"},{"$f":"GAMES!D120","v":0},{"$f":"GAMES!E120","v":" Block 2 Player 1"},{"$f":"GAMES!F120","v":"vs"},{"$f":"GAMES!G120","v":" Block 2 Player 11"}]
[null,{"$f":"GAMES!B121","v":"00:00:00"},{"$f":"GAMES!C121","v":"00:00:00"},{"$f":"GAMES!D121","v":0},{"$f":"GAMES!E121","v":" Block 2 Player 10"},{"$f":"GAMES!F121","v":"vs"},{"$f":"GAMES!G121","v":" Block 2 Player 12"}]
[null,{"$f":"GAMES!B122","v":"00:00:00"},{"$f":"GAMES!C122","v":"00:00:00"},{"$f":"GAMES!D122","v":0},{"$f":"GAMES!E122","v":" Block 2 Player 2"},{"$f":"GAMES!F122","v":"vs"},{"$f":"GAMES!G122","v":" Block 2 Player 9"}]
[null,{"$f":"GAMES!B123","v":"00:00:00"},{"$f":"GAMES!C123","v":"00:00:00"},{"$f":"GAMES!D123","v":0},{"$f":"GAMES!E123","v":" Block 2 Player 3"},{"$f":"GAMES!F123","v":"vs"},{"$f":"GAMES!G123","v":" Block 2 Player 8"}]
[null,{"$f":"GAMES!B124","v":"00:00:00"},{"$f":"GAMES!C124","v":"00:00:00"},{"$f":"GAMES!D124","v":0},{"$f":"GAMES!E124","v":" Block 2 Player 4"},{"$f":"GAMES!F124","v":"vs"},{"$f":"GAMES!G124","v":" Block 2 Player 7"}]
[null,{"$f":"GAMES!B125","v":"00:00:00"},{"$f":"GAMES!C125","v":"00:00:00"},{"$f":"GAMES!D125","v":0},{"$f":"GAMES!E125","v":" Block 2 Player 5"},{"$f":"GAMES!F125","v":"vs"},{"$f":"GAMES!G125","v":" Block 2 Player 6"}]
[null,{"$f":"GAMES!B126","v":"00:00:00"},{"$f":"GAMES!C126","v":"00:00:00"},{"$f":"GAMES!D126","v":0},{"$f":"GAMES!E126","v":" Block 2 Player 1"},{"$f":"GAMES!F126","v":"vs"},{"$f":"GAMES!G126","v":" Block 2 Player 12"}]
[null,{"$f":"GAMES!B127","v":"00:00:00"},{"$f":"GAMES!C127","v":"00:00:00"},{"$f":"GAMES!D127","v":0},{"$f":"GAMES!E127","v":" Block 2 Player 11"},{"$f":"GAMES!F127","v":"vs"},{"$f":"GAMES!G127","v":" Block 2 Player 2"}]
[null,{"$f":"GAMES!B128","v":"00:00:00"},{"$f":"GAMES!C128","v":"00:00:00"},{"$f":"GAMES!D128","v":0},{"$f":"GAMES!E128","v":" Block 2 Player 10"},{"$f":"GAMES!F128","v":"vs"},{"$f":"GAMES!G128","v":" Block 2 Player 3"}]
[null,{"$f":"GAMES!B129","v":"00:00:00"},{"$f":"GAMES!C129","v":"00:00:00"},{"$f":"GAMES!D129","v":0},{"$f":"GAMES!E129","v":" Block 2 Player 9"},{"$f":"GAMES!F129","v":"vs"},{"$f":"GAMES!G129","v":" Block 2 Player 4"}]
[null,{"$f":"GAMES!B130","v":"00:00:00"},{"$f":"GAMES!C130","v":"00:00:00"},{"$f":"GAMES!D130","v":0},{"$f":"GAMES!E130","v":" Block 2 Player 8"},{"$f":"GAMES!F130","v":"vs"},{"$f":"GAMES!G130","v":" Block 2 Player 5"}]
[null,{"$f":"GAMES!B131","v":"00:00:00"},{"$f":"GAMES!C131","v":"00:00:00"},{"$f":"GAMES!D131","v":0},{"$f":"GAMES!E131","v":" Block 2 Player 7"},{"$f":"GAMES!F131","v":"vs"},{"$f":"GAMES!G131","v":" Block 2 Player 6"}]
[null,{"$f":"GAMES!B132","v":"00:00:00"},{"$f":"GAMES!C132","v":"00:00:00"},{"$f":"GAMES!D132","v":0},{"$f":"GAMES!E132","v":" Block 2 Player 1"},{"$f":"GAMES!F132","v":"vs"},{"$f":"GAMES!G132","v":" Block 2 Player 2"}]
[null,{"$f":"GAMES!B133","v":"00:00:00"},{"$f":"GAMES!C133","v":"00:00:00"},{"$f":"GAMES!D133","v":0},{"$f":"GAMES!E133","v":" Block 2 Player 12"},{"$f":"GAMES!F133","v":"vs"},{"$f":"GAMES!G133","v":" Block 2 Player 3"}]
[null,{"$f":"GAMES!B134","v":"00:00:00"},{"$f":"GAMES!C134","v":"00:00:00"},{"$f":"GAMES!D134","v":0},{"$f":"GAMES!E134","v":" Block 2 Player 11"},{"$f":"GAMES!F134","v":"vs"},{"$f":"GAMES!G134","v":" Block 2 Player 4"}]
[null,{"$f":"GAMES!B135","v":"00:00:00"},{"$f":"GAMES!C135","v":"00:00:00"},{"$f":"GAMES!D135","v":0},{"$f":"GAMES!E135","v":" Block 2 Player 10"},{"$f":"GAMES!F135","v":"vs"},{"$f":"GAMES!G135","v":" Block 2 Player 5"}]
[null,{"$f":"GAMES!B136","v":"00:00:00"},{"$f":"GAMES!C136","v":"00:00:00"},{"$f":"GAMES!D136","v":0},{"$f":"GAMES!E136","v":" Block 2 Player 9"},{"$f":"GAMES!F136","v":"vs"},{"$f":"GAMES!G136","v":" Block 2 Player 6"}]
[null,{"$f":"GAMES!B137","v":"00:00:00"},{"$f":"GAMES!C137","v":"00:00:00"},{"$f":"GAMES!D137","v":0},{"$f":"GAMES!E137","v":" Block 2 Player 8"},{"$f":"GAMES!F137","v":"vs"},{"$f":"GAMES!G137","v":" Block 2 Player 7"}]

{"sheet":"SCHEDULE","index":18,"n_rows":136,"n_cols":7,"rows_kept":136,"cut":false,"hidden":false,"merged":[[1,1,1,6]]}
[]
[]
[]
[null,"TIME","DAY","COURT","PLAYER 1","vs","PLAYER 2"]
[null,{"$f":"GAMES!B8","v":"00:00:00"},{"$f":"GAMES!C8","v":"00:00:00"},{"$f":"GAMES!D8","v":0},{"$f":"GAMES!E8","v":" Block 1 Player 10"},{"$f":"GAMES!F8","v":"vs"},{"$f":"GAMES!G8","v":" Block 1 Player 7"}]
[null,{"$f":"GAMES!B14","v":"00:00:00"},{"$f":"GAMES!C14","v":"00:00:00"},{"$f":"GAMES!D14","v":0},{"$f":"GAMES!E14","v":" Block 1 Player 11"},{"$f":"GAMES!F14","v":"vs"},{"$f":"GAMES!G14","v":" Block 1 Player 8"}]
[null,{"$f":"GAMES!B20","v":"00:00:00"},{"$f":"GAMES!C20","v":"00:00:00"},{"$f":"GAMES!D20","v":0},{"$f":"GAMES!E20","v":" Block 1 Player 12"},{"$f":"GAMES!F20","v":"vs"},{"$f":"GAMES!G20","v":" Block 1 Player 9"}]
[null,{"$f":"GAMES!B26","v":"00:00:00"},{"$f":"GAMES!C26","v":"00:00:00"},{"$f":"GAMES!D26","v":0},{"$f":"GAMES!E26","v":" Block 1 Player 2"},{"$f":"GAMES!F26","v":"vs"},{"$f":"GAMES!G26","v":" Block 1 Player 10"}]
[null,{"$f":"GAMES!B32","v":"00:00:00"},{"$f":"GAMES!C32","v":"00:00:00"},{"$f":"GAMES!D32","v":0},{"$f":"GAMES!E32","v":" Block 1 Player 3"},{"$f":"GAMES!F32","v":"vs"},{"$f":"GAMES!G32","v":" Block 1 Player 11"}]
[null,{"$f":"GAMES!B38","v":"00:00:00"},{"$f":"GAMES!C38","v":"00:00:00"},{"$f":"GAMES!D38","v":0},{"$f":"GAMES!E38","v":" Block 1 Player 4"},{"$f":"GAMES!F38","v":"vs"},{"$f":"GAMES!G38","v":" Block 1 Player 12"}]
[null,{"$f":"GAMES!B44","v":"00:00:00"},{"$f":"GAMES!C44","v":"00:00:00"},{"$f":"GAMES!D44","v":0},{"$f":"GAMES!E44","v":" Block 1 Player 5"},{"$f":"GAMES!F44","v":"vs"},{"$f":"GAMES!G44","v":" Block 1 Player 2"}]
[null,{"$f":"GAMES!B50","v":"00:00:00"},{"$f":"GAMES!C50","v":"00:00:00"},{"$f":"GAMES!D50","v":0},{"$f":"GAMES!E50","v":" Block 1 Player 6"},{"$f":"GAMES!F50","v":"vs"},{"$f":"GAMES!G50","v":" Block 1 Player 3"}]
[null,{"$f":"GAMES!B56","v":"00:00:00"},{"$f":"GAMES!C56","v":"00:00:00"},{"$f":"GAMES!D56","v":0},{"$f":"GAMES!E56","v":" Block 1 Player 4"},{"$f":"GAMES!F56","v":"vs"},{"$f":"GAMES!G56","v":" Block 1 Player 7"}]
[null,{"$f":"GAMES!B62","v":"00:00:00"},{"$f":"GAMES!C62","v":"00:00:00"},{"$f":"GAMES!D62","v":0},{"$f":"GAMES!E62","v":" Block 1 Player 8"},{"$f":"GAMES!F62","v":"vs"},{"$f":"GAMES!G62","v":" Block 1 Player 5"}]
[null,{"$f":"GAMES!B68","v":"00:00:00"},{"$f":"GAMES!C68","v":"00:00:00"},{"$f":"GAMES!D68","v":0},{"$f":"GAMES!E68","v":" Block 1 Player 9"},{"$f":"GAMES!F68","v":"vs"},{"$f":"GAMES!G68","v":" Block 1 Player 6"}]
[null,{"$f":"GAMES!B4","v":"00:00:00"},{"$f":"GAMES!C4","v":"00:00:00"},{"$f":"GAMES!D4","v":0},{"$f":"GAMES!E4","v":" Block 1 Player 1"},{"$f":"GAMES!F4","v":"vs"},{"$f":"GAMES!G4","v":" Block 1 Player 3"}]
[null,{"$f":"GAMES!B10","v":"00:00:00"},{"$f":"GAMES!C10","v":"00:00:00"},{"$f":"GAMES!D10","v":0},{"$f":"GAMES!E10","v":" Block 1 Player 1"},{"$f":"GAMES!F10","v":"vs"},{"$f":"GAMES!G10","v":" Block 1 Player 4"}]
[null,{"$f":"GAMES!B16","v":"00:00:00"},{"$f":"GAMES!C16","v":"00:00:00"},{"$f":"GAMES!D16","v":0},{"$f":"GAMES!E16","v":" Block 1 Player 1"},{"$f":"GAMES!F16","v":"vs"},{"$f":"GAMES!G16","v":" Block 1 Player 5"}]
[null,{"$f":"GAMES!B22","v":"00:00:00"},{"$f":"GAMES!C22","v":"00:00:00"},{"$f":"GAMES!D22","v":0},{"$f":"GAMES!E22","v":" Block 1 Player 1"},{"$f":"GAMES!F22","v":"vs"},{"$f":"GAMES!G22","v":" Block 1 Player 6"}]
[null,{"$f":"GAMES!B28","v":"00:00:00"},{"$f":"GAMES!C28","v":"00:00:00"},{"$f":"GAMES!D28","v":0},{"$f":"GAMES!E28","v":" Block 1 Player 1"},{"$f":"GAMES!F28","v":"vs"},{"$f":"GAMES!G28","v":" Block 1 Player 7"}]
[null,{"$f":"GAMES!B34","v":"00:00:00"},{"$f":"GAMES!C34","v":"00:00:00"},{"$f":"GAMES!D34","v":0},{"$f":"GAMES!E34","v":" Block 1 Player 1"},{"$f":"GAMES!F34","v":"vs"},{"$f":"GAMES!G34","v":" Block 1 Player 8"}]
[null,{"$f":"GAMES!B40","v":"00:00:00"},{"$f":"GAMES!C40","v":"00:00:00"},{"$f":"GAMES!D40","v":0},{"$f":"GAMES!E40","v":" Block 1 Player 1"},{"$f":"GAMES!F40","v":"vs"},{"$f":"GAMES!G40","v":" Block 1 Player 9"}]
[null,{"$f":"GAMES!B46","v":"00:00:00"},{"$f":"GAMES!C46","v":"00:00:00"},{"$f":"GAMES!D46","v":0},{"$f":"GAMES!E46","v":" Block 1 Player 1"},{"$f":"GAMES!F46","v":"vs"},{"$f":"GAMES!G46","v":" Block 1 Player 10"}]
[null,{"$f":"GAMES!B52","v":"00:00:00"},{"$f":"GAMES!C52","v":"00:00:00"},{"$f":"GAMES!D52","v":0},{"$f":"GAMES!E52","v":" Block 1 Player 1"},{"$f":"GAMES!F52","v":"vs"},{"$f":"GAMES!G52","v":" Block 1 Player 11"}]
[null,{"$f":"GAMES!B58","v":"00:00:00"},{"$f":"GAMES!C58","v":"00:00:00"},{"$f":"GAMES!D58","v":0},{"$f":"GAMES!E58","v":" Block 1 Player 1"},{"$f":"GAMES!F58","v":"vs"},{"$f":"GAMES!G58","v":" Block 1 Player 12"}]
[null,{"$f":"GAMES!B64","v":"00:00:00"},{"$f":"GAMES!C64","v":"00:00:00"},{"$f":"GAMES!D64","v":0},{"$f":"GAMES!E64","v":" Block 1 Player 1"},{"$f":"GAMES!F64","v":"vs"},{"$f":"GAMES!G64","v":" Block 1 Player 2"}]
[null,{"$f":"GAMES!B11","v":"00:00:00"},{"$f":"GAMES!C11","v":"00:00:00"},{"$f":"GAMES!D11","v":0},{"$f":"GAMES!E11","v":" Block 1 Player 5"},{"$f":"GAMES!F11","v":"vs"},{"$f":"GAMES!G11","v":" Block 1 Player 3"}]
[null,{"$f":"GAMES!B17","v":"00:00:00"},{"$f":"GAMES!C17","v":"00:00:00"},{"$f":"GAMES!D17","v":0},{"$f":"GAMES!E17","v":" Block 1 Player 4"},{"$f":"GAMES!F17","v":"vs"},{"$f":"GAMES!G17","v":" Block 1 Player 6"}]
[null,{"$f":"GAMES!B23","v":"00:00:00"},{"$f":"GAMES!C23","v":"00:00:00"},{"$f":"GAMES!D23","v":0},{"$f":"GAMES!E23","v":" Block 1 Player 5"},{"$f":"GAMES!F23","v":"vs"},{"$f":"GAMES!G23","v":" Block 1 Player 7"}]
[null,{"$f":"GAMES!B29","v":"00:00:00"},{"$f":"GAMES!C29","v":"00:00:00"},{"$f":"GAMES!D29","v":0},{"$f":"GAMES!E29","v":" Block 1 Player 6"},{"$f":"GAMES!F29","v":"vs"},{"$f":"GAMES!G29","v":" Block 1 Player 8"}]
[null,{"$f":"GAMES!B35","v":"00:00:00"},{"$f":"GAMES!C35","v":"00:00:00"},{"$f":"GAMES!D35","v":0},{"$f":"GAMES!E35","v":" Block 1 Player 7"},{"$f":"GAMES!F35","v":"vs"},{"$f":"GAMES!G35","v":" Block 1 Player 9"}]
[null,{"$f":"GAMES!B41","v":"00:00:00"},{"$f":"GAMES!C41","v":"00:00:00"},{"$f":"GAMES!D41","v":0},{"$f":"GAMES!E41","v":" Block 1 Player 8"},{"$f":"GAMES!F41","v":"vs"},{"$f":"GAMES!G41","v":" Block 1 Player 10"}]
[null,{"$f":"GAMES!B47","v":"00:00:00"},{"$f":"GAMES!C47","v":"00:00:00"},{"$f":"GAMES!D47","v":0},{"$f":"GAMES!E47","v":" Block 1 Player 9"},{"$f":"GAMES!F47","v":"vs"},{"$f":"GAMES!G47","v":" Block 1 Player 11"}]
[null,{"$f":"GAMES!B53","v":"00:00:00"},{"$f":"GAMES!C53","v":"00:00:00"},{"$f":"GAMES!D53","v":0},{"$f":"GAMES!E53","v":" Block 1 Player 10"},{"$f":"GAMES!F53","v":"vs"},{"$f":"GAMES!G53","v":" Block 1 Player 12"}]
[null,{"$f":"GAMES!B59","v":"00:00:00"},{"$f":"GAMES!C59","v":"00:00:00"},{"$f":"GAMES!D59","v":0},{"$f":"GAMES!E59","v":" Block 1 Player 11"},{"$f":"GAMES!F59","v":"vs"},{"$f":"GAMES!G59","v":" Block 1 Player 2"}]
[null,{"$f":"GAMES!B65","v":"00:00:00"},{"$f":"GAMES!C65","v":"00:00:00"},{"$f":"GAMES!D65","v":0},{"$f":"GAMES!E65","v":" Block 1 Player 12"},{"$f":"GAMES!F65","v":"vs"},{"$f":"GAMES!G65","v":" Block 1 Player 3"}]
[null,{"$f":"GAMES!B9","v":"00:00:00"},{"$f":"GAMES!C9","v":"00:00:00"},{"$f":"GAMES!D9","v":0},{"$f":"GAMES!E9","v":" Block 1 Player 9"},{"$f":"GAMES!F9","v":"vs"},{"$f":"GAMES!G9","v":" Block 1 Player 8"}]
[null,{"$f":"GAMES!B15","v":"00:00:00"},{"$f":"GAMES!C15","v":"00:00:00"},{"$f":"GAMES!D15","v":0},{"$f":"GAMES!E15","v":" Block 1 Player 10"},{"$f":"GAMES!F15","v":"vs"},{"$f":"GAMES!G15","v":" Block 1 Player 9"}]
[null,{"$f":"GAMES!B21","v":"00:00:00"},{"$f":"GAMES!C21","v":"00:00:00"},{"$f":"GAMES!D21","v":0},{"$f":"GAMES!E21","v":" Block 1 Player 11"},{"$f":"GAMES!F21","v":"vs"},{"$f":"GAMES!G21","v":" Block 1 Player 10"}]
[null,{"$f":"GAMES!B27","v":"00:00:00"},{"$f":"GAMES!C27","v":"00:00:00"},{"$f":"GAMES!D27","v":0},{"$f":"GAMES!E27","v":" Block 1 Player 12"},{"$f":"GAMES!F27","v":"vs"},{"$f":"GAMES!G27","v":" Block 1 Player 11"}]
[null,{"$f":"GAMES!B33","v":"00:00:00"},{"$f":"GAMES!C33","v":"00:00:00"},{"$f":"GAMES!D33","v":0},{"$f":"GAMES!E33","v":" Block 1 Player 2"},{"$f":"GAMES!F33","v":"vs"},{"$f":"GAMES!G33","v":" Block 1 Player 12"}]
[null,{"$f":"GAMES!B39","v":"00:00:00"},{"$f":"GAMES!C39","v":"00:00:00"},{"$f":"GAMES!D39","v":0},{"$f":"GAMES!E39","v":" Block 1 Player 3"},{"$f":"GAMES!F39","v":"vs"},{"$f":"GAMES!G39","v":" Block 1 Player 2"}]
[null,{"$f":"GAMES!B45","v":"00:00:00"},{"$f":"GAMES!C45","v":"00:00:00"},{"$f":"GAMES!D45","v":0},{"$f":"GAMES!E45","v":" Block 1 Player 4"},{"$f":"GAMES!F45","v":"vs"},{"$f":"GAMES!G45","v":" Block 1 Player 3"}]
[null,{"$f":"GAMES!B51","v":"00:00:00"},{"$f":"GAMES!C51","v":"00:00:00"},{"$f":"GAMES!D51","v":0},{"$f":"GAMES!E51","v":" Block 1 Player 5"},{"$f":"GAMES!F51","v":"vs"},{"$f":"GAMES!G51","v":" Block 1 Player 4"}]
[null,{"$f":"GAMES!B57","v":"00:00:00"},{"$f":"GAMES!C57","v":"00:00:00"},{"$f":"GAMES!D57","v":0},{"$f":"GAMES!E57","v":" Block 1 Player 5"},{"$f":"GAMES!F57","v":"vs"},{"$f":"GAMES!G57","v":" Block 1 Player 6"}]
[null,{"$f":"GAMES!B63","v":"00:00:00"},{"$f":"GAMES!C63","v":"00:00:00"},{"$f":"GAMES!D63","v":0},{"$f":"GAMES!E63","v":" Block 1 Player 7"},{"$f":"GAMES!F63","v":"vs"},{"$f":"GAMES!G63","v":" Block 1 Player 6"}]
[null,{"$f":"GAMES!B69","v":"00:00:00"},{"$f":"GAMES!C69","v":"00:00:00"},{"$f":"GAMES!D69","v":0},{"$f":"GAMES!E69","v":" Block 1 Player 8"},{"$f":"GAMES!F69","v":"vs"},{"$f":"GAMES!G69","v":" Block 1 Player 7"}]
[null,{"$f":"GAMES!B5","v":"00:00:00"},{"$f":"GAMES!C5","v":"00:00:00"},{"$f":"GAMES!D5","v":0},{"$f":"GAMES!E5","v":" Block 1 Player 2"},{"$f":"GAMES!F5","v":"vs"},{"$f":"GAMES!G5","v":" Block 1 Player 4"}]
[null,{"$f":"GAMES!B7","v":"00:00:00"},{"$f":"GAMES!C7","v":"00:00:00"},{"$f":"GAMES!D7","v":0},{"$f":"GAMES!E7","v":" Block 1 Player 11"},{"$f":"GAMES!F7","v":"vs"},{"$f":"GAMES!G7","v":" Block 1 Player 6"}]
[null,{"$f":"GAMES!B13","v":"00:00:00"},{"$f":"GAMES!C13","v":"00:00:00"},{"$f":"GAMES!D13","v":0},{"$f":"GAMES!E13","v":" Block 1 Player 12"},{"$f":"GAMES!F13","v":"vs"},{"$f":"GAMES!G13","v":" Block 1 Player 7"}]
[null,{"$f":"GAMES!B19","v":"00:00:00"},{"$f":"GAMES!C19","v":"00:00:00"},{"$f":"GAMES!D19","v":0},{"$f":"GAMES!E19","v":" Block 1 Player 2"},{"$f":"GAMES!F19","v":"vs"},{"$f":"GAMES!G19","v":" Block 1 Player 8"}]
[null,{"$f":"GAMES!B25","v":"00:00:00"},{"$f":"GAMES!C25","v":"00:00:00"},{"$f":"GAMES!D25","v":0},{"$f":"GAMES!E25","v":" Block 1 Player 3"},{"$f":"GAMES!F25","v":"vs"},{"$f":"GAMES!G25","v":" Block 1 Player 9"}]
[null,{"$f":"GAMES!B31","v":"00:00:00"},{"$f":"GAMES!C31","v":"00:00:00"},{"$f":"GAMES!D31","v":0},{"$f":"GAMES!E31","v":" Block 1 Player 4"},{"$f":"GAMES!F31","v":"vs"},{"$f":"GAMES!G31","v":" Block 1 Player 10"}]
[null,{"$f":"GAMES!B37","v":"00:00:00"},{"$f":"GAMES!C37","v":"00:00:00"},{"$f":"GAMES!D37","v":0},{"$f":"GAMES!E37","v":" Block 1 Player 5"},{"$f":"GAMES!F37","v":"vs"},{"$f":"GAMES!G37","v":" Block 1 Player 11"}]
[null,{"$f":"GAMES!B43","v":"00:00:00"},{"$f":"GAMES!C43","v":"00:00:00"},{"$f":"GAMES!D43","v":0},{"$f":"GAMES!E43","v":" Block 1 Player 6"},{"$f":"GAMES!F43","v":"vs"},{"$f":"GAMES!G43","v":" Block 1 Player 12"}]
[null,{"$f":"GAMES!B49","v":"00:00:00"},{"$f":"GAMES!C49","v":"00:00:00"},{"$f":"GAMES!D49","v":0},{"$f":"GAMES!E49","v":" Block 1 Player 7"},{"$f":"GAMES!F49","v":"vs"},{"$f":"GAMES!G49","v":" Block 1 Player 2"}]
[null,{"$f":"GAMES!B55","v":"00:00:00"},{"$f":"GAMES!C55","v":"00:00:00"},{"$f":"GAMES!D55","v":0},{"$f":"GAMES!E55","v":" Block 1 Player 3"},{"$f":"GAMES!F55","v":"vs"},{"$f":"GAMES!G55","v":" Block 1 Player 8"}]
[null,{"$f":"GAMES!B61","v":"00:00:00"},{"$f":"GAMES!C61","v":"00:00:00"},{"$f":"GAMES!D61","v":0},{"$f":"GAMES!E61","v":" Block 1 Player 9"},{"$f":"GAMES!F61","v":"vs"},{"$f":"GAMES!G61","v":" Block 1 Player 4"}]
[null,{"$f":"GAMES!B67","v":"00:00:00"},{"$f":"GAMES!C67","v":"00:00:00"},{"$f":"GAMES!D67","v":0},{"$f":"GAMES!E67","v":" Block 1 Player 10"},{"$f":"GAMES!F67","v":"vs"},{"$f":"GAMES!G67","v":" Block 1 Player 5"}]
[null,{"$f":"GAMES!B6","v":"00:00:00"},{"$f":"GAMES!C6","v":"00:00:00"},{"$f":"GAMES!D6","v":0},{"$f":"GAMES!E6","v":" Block 1 Player 12"},{"$f":"GAMES!F6","v":"vs"},{"$f":"GAMES!G6","v":" Block 1 Player 5"}]
[null,{"$f":"GAMES!B12","v":"00:00:00"},{"$f":"GAMES!C12","v":"00:00:00"},{"$f":"GAMES!D12","v":0},{"$f":"GAMES!E12","v":" Block 1 Player 2"},{"$f":"GAMES!F12","v":"vs"},{"$f":"GAMES!G12","v":" Block 1 Player 6"}]
[null,{"$f":"GAMES!B18","v":"00:00:00"},{"$f":"GAMES!C18","v":"00:00:00"},{"$f":"GAMES!D18","v":0},{"$f":"GAMES!E18","v":" Block 1 Player 3"},{"$f":"GAMES!F18","v":"vs"},{"$f":"GAMES!G18","v":" Block 1 Player 7"}]
[null,{"$f":"GAMES!B24","v":"00:00:00"},{"$f":"GAMES!C24","v":"00:00:00"},{"$f":"GAMES!D24","v":0},{"$f":"GAMES!E24","v":" Block 1 Player 4"},{"$f":"GAMES!F24","v":"vs"},{"$f":"GAMES!G24","v":" Block 1 Player 8"}]
[null,{"$f":"GAMES!B30","v":"00:00:00"},{"$f":"GAMES!C30","v":"00:00:00"},{"$f":"GAMES!D30","v":0},{"$f":"GAMES!E30","v":" Block 1 Player 5"},{"$f":"GAMES!F30","v":"vs"},{"$f":"GAMES!G30","v":" Block 1 Player 9"}]
[null,{"$f":"GAMES!B36","v":"00:00:00"},{"$f":"GAMES!C36","v":"00:00:00"},{"$f":"GAMES!D36","v":0},{"$f":"GAMES!E36","v":" Block 1 Player 6"},{"$f":"GAMES!F36","v":"vs"},{"$f":"GAMES!G36","v":" Block 1 Player 10"}]
[null,{"$f":"GAMES!B42","v":"00:00:00"},{"$f":"GAMES!C42","v":"00:00:00"},{"$f":"GAMES!D42","v":0},{"$f":"GAMES!E42","v":" Block 1 Player 7"},{"$f":"GAMES!F42","v":"vs"},{"$f":"GAMES!G42","v":" Block 1 Player 11"}]
[null,{"$f":"GAMES!B48","v":"00:00:00"},{"$f":"GAMES!C48","v":"00:00:00"},{"$f":"GAMES!D48","v":0},{"$f":"GAMES!E48","v":" Block 1 Player 8"},{"$f":"GAMES!F48","v":"vs"},{"$f":"GAMES!G48","v":" Block 1 Player 12"}]
[null,{"$f":"GAMES!B54","v":"00:00:00"},{"$f":"GAMES!C54","v":"00:00:00"},{"$f":"GAMES!D54","v":0},{"$f":"GAMES!E54","v":" Block 1 Player 2"},{"$f":"GAMES!F54","v":"vs"},{"$f":"GAMES!G54","v":" Block 1 Player 9"}]
[null,{"$f":"GAMES!B60","v":"00:00:00"},{"$f":"GAMES!C60","v":"00:00:00"},{"$f":"GAMES!D60","v":0},{"$f":"GAMES!E60","v":" Block 1 Player 10"},{"$f":"GAMES!F60","v":"vs"},{"$f":"GAMES!G60","v":" Block 1 Player 3"}]
[null,{"$f":"GAMES!B66","v":"00:00:00"},{"$f":"GAMES!C66","v":"00:00:00"},{"$f":"GAMES!D66","v":0},{"$f":"GAMES!E66","v":" Block 1 Player 11"},{"$f":"GAMES!F66","v":"vs"},{"$f":"GAMES!G66","v":" Block 1 Player 4"}]
[null,{"$f":"GAMES!B72","v":"00:00:00"},{"$f":"GAMES!C72","v":"00:00:00"},{"$f":"GAMES!D72","v":0},{"$f":"GAMES!E72","v":" Block 2 Player 1"},{"$f":"GAMES!F72","v":"vs"},{"$f":"GAMES!G72","v":" Block 2 Player 3"}]
[null,{"$f":"GAMES!B73","v":"00:00:00"},{"$f":"GAMES!C73","v":"00:00:00"},{"$f":"GAMES!D73","v":0},{"$f":"GAMES!E73","v":" Block 2 Player 2"},{"$f":"GAMES!F73","v":"vs"},{"$f":"GAMES!G73","v":" Block 2 Player 4"}]
[null,{"$f":"GAMES!B74","v":"00:00:00"},{"$f":"GAMES!C74","v":"00:00:00"},{"$f":"GAMES!D74","v":0},{"$f":"GAMES!E74","v":" Block 2 Player 12"},{"$f":"GAMES!F74","v":"vs"},{"$f":"GAMES!G74","v":" Block 2 Player 5"}]
[null,{"$f":"GAMES!B75","v":"00:00:00"},{"$f":"GAMES!C75","v":"00:00:00"},{"$f":"GAMES!D75","v":0},{"$f":"GAMES!E75","v":" Block 2 Player 11"},{"$f":"GAMES!F75","v":"vs"},{"$f":"GAMES!G75","v":" Block 2 Player 6"}]
[null,{"$f":"GAMES!B76","v":"00:00:00"},{"$f":"GAMES!C76","v":"00:00:00"},{"$f":"GAMES!D76","v":0},{"$f":"GAMES!E76","v":" Block 2 Player 10"},{"$f":"GAMES!F76","v":"vs"},{"$f":"GAMES!G76","v":" Block 2 Player 7"}]
[null,{"$f":"GAMES!B77","v":"00:00:00"},{"$f":"GAMES!C77","v":"00:00:00"},{"$f":"GAMES!D77","v":0},{"$f":"GAMES!E77","v":" Block 2 Player 9"},{"$f":"GAMES!F77","v":"vs"},{"$f":"GAMES!G77","v":" Block 2 Player 8"}]
[null,{"$f":"GAMES!B78","v":"00:00:00"},{"$f":"GAMES!C78","v":"00:00:00"},{"$f":"GAMES!D78","v":0},{"$f":"GAMES!E78","v":" Block 2 Player 1"},{"$f":"GAMES!F78","v":"vs"},{"$f":"GAMES!G78","v":" Block 2 Player 4"}]
[null,{"$f":"GAMES!B79","v":"00:00:00"},{"$f":"GAMES!C79","v":"00:00:00"},{"$f":"GAMES!D79","v":0},{"$f":"GAMES!E79","v":" Block 2 Player 5"},{"$f":"GAMES!F79","v":"vs"},{"$f":"GAMES!G79","v":" Block 2 Player 3"}]
[null,{"$f":"GAMES!B80","v":"00:00:00"},{"$f":"GAMES!C80","v":"00:00:00"},{"$f":"GAMES!D80","v":0},{"$f":"GAMES!E80","v":" Block 2 Player 2"},{"$f":"GAMES!F80","v":"vs"},{"$f":"GAMES!G80","v":" Block 2 Player 6"}]
[null,{"$f":"GAMES!B81","v":"00:00:00"},{"$f":"GAMES!C81","v":"00:00:00"},{"$f":"GAMES!D81","v":0},{"$f":"GAMES!E81","v":" Block 2 Player 12"},{"$f":"GAMES!F81","v":"vs"},{"$f":"GAMES!G81","v":" Block 2 Player 7"}]
[null,{"$f":"GAMES!B82","v":"00:00:00"},{"$f":"GAMES!C82","v":"00:00:00"},{"$f":"GAMES!D82","v":0},{"$f":"GAMES!E82","v":" Block 2 Player 11"},{"$f":"GAMES!F82","v":"vs"},{"$f":"GAMES!G82","v":" Block 2 Player 8"}]
[null,{"$f":"GAMES!B83","v":"00:00:00"},{"$f":"GAMES!C83","v":"00:00:00"},{"$f":"GAMES!D83","v":0},{"$f":"GAMES!E83","v":" Block 2 Player 10"},{"$f":"GAMES!F83","v":"vs"},{"$f":"GAMES!G83","v":" Block 2 Player 9"}]
[null,{"$f":"GAMES!B84","v":"00:00:00"},{"$f":"GAMES!C84","v":"00:00:00"},{"$f":"GAMES!D84","v":0},{"$f":"GAMES!E84","v":" Block 2 Player 1"},{"$f":"GAMES!F84","v":"vs"},{"$f":"GAMES!G84","v":" Block 2 Player 5"}]
[null,{"$f":"GAMES!B85","v":"00:00:00"},{"$f":"GAMES!C85","v":"00:00:00"},{"$f":"GAMES!D85","v":0},{"$f":"GAMES!E85","v":" Block 2 Player 4"},{"$f":"GAMES!F85","v":"vs"},{"$f":"GAMES!G85","v":" Block 2 Player 6"}]
[null,{"$f":"GAMES!B86","v":"00:00:00"},{"$f":"GAMES!C86","v":"00:00:00"},{"$f":"GAMES!D86","v":0},{"$f":"GAMES!E86","v":" Block 2 Player 3"},{"$f":"GAMES!F86","v":"vs"},{"$f":"GAMES!G86","v":" Block 2 Player 7"}]
[null,{"$f":"GAMES!B87","v":"00:00:00"},{"$f":"GAMES!C87","v":"00:00:00"},{"$f":"GAMES!D87","v":0},{"$f":"GAMES!E87","v":" Block 2 Player 2"},{"$f":"GAMES!F87","v":"vs"},{"$f":"GAMES!G87","v":" Block 2 Player 8"}]
[null,{"$f":"GAMES!B88","v":"00:00:00"},{"$f":"GAMES!C88","v":"00:00:00"},{"$f":"GAMES!D88","v":0},{"$f":"GAMES!E88","v":" Block 2 Player 12"},{"$f":"GAMES!F88","v":"vs"},{"$f":"GAMES!G88","v":" Block 2 Player 9"}]
[null,{"$f":"GAMES!B89","v":"00:00:00"},{"$f":"GAMES!C89","v":"00:00:00"},{"$f":"GAMES!D89","v":0},{"$f":"GAMES!E89","v":" Block 2 Player 11"},{"$f":"GAMES!F89","v":"vs"},{"$f":"GAMES!G89","v":" Block 2 Player 10"}]
[null,{"$f":"GAMES!B90","v":"00:00:00"},{"$f":"GAMES!C90","v":"00:00:00"},{"$f":"GAMES!D90","v":0},{"$f":"GAMES!E90","v":" Block 2 Player 1"},{"$f":"GAMES!F90","v":"vs"},{"$f":"GAMES!G90","v":" Block 2 Player 6"}]
[null,{"$f":"GAMES!B91","v":"00:00:00"},{"$f":"GAMES!C91","v":"00:00:00"},{"$f":"GAMES!D91","v":0},{"$f":"GAMES!E91","v":" Block 2 Player 5"},{"$f":"GAMES!F91","v":"vs"},{"$f":"GAMES!G91","v":" Block 2 Player 7"}]
[null,{"$f":"GAMES!B92","v":"00:00:00"},{"$f":"GAMES!C92","v":"00:00:00"},{"$f":"GAMES!D92","v":0},{"$f":"GAMES!E92","v":" Block 2 Player 4"},{"$f":"GAMES!F92","v":"vs"},{"$f":"GAMES!G92","v":" Block 2 Player 8"}]
[null,{"$f":"GAMES!B93","v":"00:00:00"},{"$f":"GAMES!C93","v":"00:00:00"},{"$f":"GAMES!D93","v":0},{"$f":"GAMES!E93","v":" Block 2 Player 3"},{"$f":"GAMES!F93","v":"vs"},{"$f":"GAMES!G93","v":" Block 2 Player 9"}]
[null,{"$f":"GAMES!B94","v":"00:00:00"},{"$f":"GAMES!C94","v":"00:00:00"},{"$f":"GAMES!D94","v":0},{"$f":"GAMES!E94","v":" Block 2 Player 2"},{"$f":"GAMES!F94","v":"vs"},{"$f":"GAMES!G94","v":" Block 2 Player 10"}]
[null,{"$f":"GAMES!B95","v":"00:00:00"},{"$f":"GAMES!C95","v":"00:00:00"},{"$f":"GAMES!D95","v":0},{"$f":"GAMES!E95","v":" Block 2 Player 12"},{"$f":"GAMES!F95","v":"vs"},{"$f":"GAMES!G95","v":" Block 2 Player 11"}]
[null,{"$f":"GAMES!B96","v":"00:00:00"},{"$f":"GAMES!C96","v":"00:00:00"},{"$f":"GAMES!D96","v":0},{"$f":"GAMES!E96","v":" Block 2 Player 1"},{"$f":"GAMES!F96","v":"vs"},{"$f":"GAMES!G96","v":" Block 2 Player 7"}]
[null,{"$f":"GAMES!B97","v":"00:00:00"},{"$f":"GAMES!C97","v":"00:00:00"},{"$f":"GAMES!D97","v":0},{"$f":"GAMES!E97","v":" Block 2 Player 6"},{"$f":"GAMES!F97","v":"vs"},{"$f":"GAMES!G97","v":" Block 2 Player 8"}]
[null,{"$f":"GAMES!B98","v":"00:00:00"},{"$f":"GAMES!C98","v":"00:00:00"},{"$f":"GAMES!D98","v":0},{"$f":"GAMES!E98","v":" Block 2 Player 5"},{"$f":"GAMES!F98","v":"vs"},{"$f":"GAMES!G98","v":" Block 2 Player 9"}]
[null,{"$f":"GAMES!B99","v":"00:00:00"},{"$f":"GAMES!C99","v":"00:00:00"},{"$f":"GAMES!D99","v":0},{"$f":"GAMES!E99","v":" Block 2 Player 4"},{"$f":"GAMES!F99","v":"vs"},{"$f":"GAMES!G99","v":" Block 2 Player 10"}]
[null,{"$f":"GAMES!B100","v":"00:00:00"},{"$f":"GAMES!C100","v":"00:00:00"},{"$f":"GAMES!D100","v":0},{"$f":"GAMES!E100","v":" Block 2 Player 3"},{"$f":"GAMES!F100","v":"vs"},{"$f":"GAMES!G100","v":" Block 2 Player 11"}]
[null,{"$f":"GAMES!B101","v":"00:00:00"},{"$f":"GAMES!C101","v":"00:00:00"},{"$f":"GAMES!D101","v":0},{"$f":"GAMES!E101","v":" Block 2 Player 2"},{"$f":"GAMES!F101","v":"vs"},{"$f":"GAMES!G101","v":" Block 2 Player 12"}]
[null,{"$f":"GAMES!B102","v":"00:00:00"},{"$f":"GAMES!C102","v":"00:00:00"},{"$f":"GAMES!D102","v":0},{"$f":"GAMES!E102","v":" Block 2 Player 1"},{"$f":"GAMES!F102","v":"vs"},{"$f":"GAMES!G102","v":" Block 2 Player 8"}]
[null,{"$f":"GAMES!B103","v":"00:00:00"},{"$f":"GAMES!C103","v":"00:00:00"},{"$f":"GAMES!D103","v":0},{"$f":"GAMES!E103","v":" Block 2 Player 7"},{"$f":"GAMES!F103","v":"vs"},{"$f":"GAMES!G103","v":" Block 2 Player 9"}]
[null,{"$f":"GAMES!B104","v":"00:00:00"},{"$f":"GAMES!C104","v":"00:00:00"},{"$f":"GAMES!D104","v":0},{"$f":"GAMES!E104","v":" Block 2 Player 6"},{"$f":"GAMES!F104","v":"vs"},{"$f":"GAMES!G104","v":" Block 2 Player 10"}]
[null,{"$f":"GAMES!B105","v":"00:00:00"},{"$f":"GAMES!C105","v":"00:00:00"},{"$f":"GAMES!D105","v":0},{"$f":"GAMES!E105","v":" Block 2 Player 5"},{"$f":"GAMES!F105","v":"vs"},{"$f":"GAMES!G105","v":" Block 2 Player 11"}]
[null,{"$f":"GAMES!B106","v":"00:00:00"},{"$f":"GAMES!C106","v":"00:00:00"},{"$f":"GAMES!D106","v":0},{"$f":"GAMES!E106","v":" Block 2 Player 4"},{"$f":"GAMES!F106","v":"vs"},{"$f":"GAMES!G106","v":" Block 2 Player 12"}]
[null,{"$f":"GAMES!B107","v":"00:00:00"},{"$f":"GAMES!C107","v":"00:00:00"},{"$f":"GAMES!D107","v":0},{"$f":"GAMES!E107","v":" Block 2 Player 3"},{"$f":"GAMES!F107","v":"vs"},{"$f":"GAMES!G107","v":" Block 2 Player 2"}]
[null,{"$f":"GAMES!B108","v":"00:00:00"},{"$f":"GAMES!C108","v":"00:00:00"},{"$f":"GAMES!D108","v":0},{"$f":"GAMES!E108","v":" Block 2 Player 1"},{"$f":"GAMES!F108","v":"vs"},{"$f":"GAMES!G108","v":" Block 2 Player 9"}]
[null,{"$f":"GAMES!B109","v":"00:00:00"},{"$f":"GAMES!C109","v":"00:00:00"},{"$f":"GAMES!D109","v":0},{"$f":"GAMES!E109","v":" Block 2 Player 8"},{"$f":"GAMES!F109","v":"vs"},{"$f":"GAMES!G109","v":" Block 2 Player 10"}]
[null,{"$f":"GAMES!B110","v":"00:00:00"},{"$f":"GAMES!C110","v":"00:00:00"},{"$f":"GAMES!D110","v":0},{"$f":"GAMES!E110","v":" Block 2 Player 7"},{"$f":"GAMES!F110","v":"vs"},{"$f":"GAMES!G110","v":" Block 2 Player 11"}]
[null,{"$f":"GAMES!B111","v":"00:00:00"},{"$f":"GAMES!C111","v":"00:00:00"},{"$f":"GAMES!D111","v":0},{"$f":"GAMES!E111","v":" Block 2 Player 6"},{"$f":"GAMES!F111","v":"vs"},{"$f":"GAMES!G111","v":" Block 2 Player 12"}]
[null,{"$f":"GAMES!B112","v":"00:00:00"},{"$f":"GAMES!C112","v":"00:00:00"},{"$f":"GAMES!D112","v":0},{"$f":"GAMES!E112","v":" Block 2 Player 5"},{"$f":"GAMES!F112","v":"vs"},{"$f":"GAMES!G112","v":" Block 2 Player 2"}]
[null,{"$f":"GAMES!B113","v":"00:00:00"},{"$f":"GAMES!C113","v":"00:00:00"},{"$f":"GAMES!D113","v":0},{"$f":"GAMES!E113","v":" Block 2 Player 4"},{"$f":"GAMES!F113","v":"vs"},{"$f":"GAMES!G113","v":" Block 2 Player 3"}]
[null,{"$f":"GAMES!B114","v":"00:00:00"},{"$f":"GAMES!C114","v":"00:00:00"},{"$f":"GAMES!D114","v":0},{"$f":"GAMES!E114","v":" Block 2 Player 1"},{"$f":"GAMES!F114","v":"vs"},{"$f":"GAMES!G114","v":" Block 2 Player 10"}]
[null,{"$f":"GAMES!B115","v":"00:00:00"},{"$f":"GAMES!C115","v":"00:00:00"},{"$f":"GAMES!D115","v":0},{"$f":"GAMES!E115","v":" Block 2 Player 9"},{"$f":"GAMES!F115","v":"vs"},{"$f":"GAMES!G115","v":" Block 2 Player 11"}]
[null,{"$f":"GAMES!B116","v":"00:00:00"},{"$f":"GAMES!C116","v":"00:00:00"},{"$f":"GAMES!D116","v":0},{"$f":"GAMES!E116","v":" Block 2 Player 8"},{"$f":"GAMES!F116","v":"vs"},{"$f":"GAMES!G116","v":" Block 2 Player 12"}]
[null,{"$f":"GAMES!B117","v":"00:00:00"},{"$f":"GAMES!C117","v":"00:00:00"},{"$f":"GAMES!D117","v":0},{"$f":"GAMES!E117","v":" Block 2 Player 7"},{"$f":"GAMES!F117","v":"vs"},{"$f":"GAMES!G117","v":" Block 2 Player 2"}]
[null,{"$f":"GAMES!B118","v":"00:00:00"},{"$f":"GAMES!C118","v":"00:00:00"},{"$f":"GAMES!D118","v":0},{"$f":"GAMES!E118","v":" Block 2 Player 6"},{"$f":"GAMES!F118","v":"vs"},{"$f":"GAMES!G118","v":" Block 2 Player 3"}]
[null,{"$f":"GAMES!B119","v":"00:00:00"},{"$f":"GAMES!C119","v":"00:00:00"},{"$f":"GAMES!D119","v":0},{"$f":"GAMES!E119","v":" Block 2 Player 5"},{"$f":"GAMES!F119","v":"vs"},{"$f":"GAMES!G119","v":" Block 2 Player 4"}]
[null,{"$f":"GAMES!B120","v":"00:00:00"},{"$f":"GAMES!C120","v":"00:00:00"},{"$f":"GAMES!D120","v":0},{"$f":"GAMES!E120","v":" Block 2 Player 1"},{"$f":"GAMES!F120","v":"vs"},{"$f":"GAMES!G120","v":" Block 2 Player 11"}]
[null,{"$f":"GAMES!B121","v":"00:00:00"},{"$f":"GAMES!C121","v":"00:00:00"},{"$f":"GAMES!D121","v":0},{"$f":"GAMES!E121","v":" Block 2 Player 10"},{"$f":"GAMES!F121","v":"vs"},{"$f":"GAMES!G121","v":" Block 2 Player 12"}]
[null,{"$f":"GAMES!B122","v":"00:00:00"},{"$f":"GAMES!C122","v":"00:00:00"},{"$f":"GAMES!D122","v":0},{"$f":"GAMES!E122","v":" Block 2 Player 2"},{"$f":"GAMES!F122","v":"vs"},{"$f":"GAMES!G122","v":" Block 2 Player 9"}]
[null,{"$f":"GAMES!B123","v":"00:00:00"},{"$f":"GAMES!C123","v":"00:00:00"},{"$f":"GAMES!D123","v":0},{"$f":"GAMES!E123","v":" Block 2 Player 3"},{"$f":"GAMES!F123","v":"vs"},{"$f":"GAMES!G123","v":" Block 2 Player 8"}]
[null,{"$f":"GAMES!B124","v":"00:00:00"},{"$f":"GAMES!C124","v":"00:00:00"},{"$f":"GAMES!D124","v":0},{"$f":"GAMES!E124","v":" Block 2 Player 4"},{"$f":"GAMES!F124","v":"vs"},{"$f":"GAMES!G124","v":" Block 2 Player 7"}]
[null,{"$f":"GAMES!B125","v":"00:00:00"},{"$f":"GAMES!C125","v":"00:00:00"},{"$f":"GAMES!D125","v":0},{"$f":"GAMES!E125","v":" Block 2 Player 5"},{"$f":"GAMES!F125","v":"vs"},{"$f":"GAMES!G125","v":" Block 2 Player 6"}]
[null,{"$f":"GAMES!B126","v":"00:00:00"},{"$f":"GAMES!C126","v":"00:00:00"},{"$f":"GAMES!D126","v":0},{"$f":"GAMES!E126","v":" Block 2 Player 1"},{"$f":"GAMES!F126","v":"vs"},{"$f":"GAMES!G126","v":" Block 2 Player 12"}]
[null,{"$f":"GAMES!B127","v":"00:00:00"},{"$f":"GAMES!C127","v":"00:00:00"},{"$f":"GAMES!D127","v":0},{"$f":"GAMES!E127","v":" Block 2 Player 11"},{"$f":"GAMES!F127","v":"vs"},{"$f":"GAMES!G127","v":" Block 2 Player 2"}]
[null,{"$f":"GAMES!B128","v":"00:00:00"},{"$f":"GAMES!C128","v":"00:00:00"},{"$f":"GAMES!D128","v":0},{"$f":"GAMES!E128","v":" Block 2 Player 10"},{"$f":"GAMES!F128","v":"vs"},{"$f":"GAMES!G128","v":" Block 2 Player 3"}]
[null,{"$f":"GAMES!B129","v":"00:00:00"},{"$f":"GAMES!C129","v":"00:00:00"},{"$f":"GAMES!D129","v":0},{"$f":"GAMES!E129","v":" Block 2 Player 9"},{"$f":"GAMES!F129","v":"vs"},{"$f":"GAMES!G129","v":" Block 2 Player 4"}]
[null,{"$f":"GAMES!B130","v":"00:00:00"},{"$f":"GAMES!C130","v":"00:00:00"},{"$f":"GAMES!D130","v":0},{"$f":"GAMES!E130","v":" Block 2 Player 8"},{"$f":"GAMES!F130","v":"vs"},{"$f":"GAMES!G130","v":" Block 2 Player 5"}]
[null,{"$f":"GAMES!B131","v":"00:00:00"},{"$f":"GAMES!C131","v":"00:00:00"},{"$f":"GAMES!D131","v":0},{"$f":"GAMES!E131","v":" Block 2 Player 7"},{"$f":"GAMES!F131","v":"vs"},{"$f":"GAMES!G131","v":" Block 2 Player 6"}]
[null,{"$f":"GAMES!B132","v":"00:00:00"},{"$f":"GAMES!C132","v":"00:00:00"},{"$f":"GAMES!D132","v":0},{"$f":"GAMES!E132","v":" Block 2 Player 1"},{"$f":"GAMES!F132","v":"vs"},{"$f":"GAMES!G132","v":" Block 2 Player 2"}]
[null,{"$f":"GAMES!B133","v":"00:00:00"},{"$f":"GAMES!C133","v":"00:00:00"},{"$f":"GAMES!D133","v":0},{"$f":"GAMES!E133","v":" Block 2 Player 12"},{"$f":"GAMES!F133","v":"vs"},{"$f":"GAMES!G133","v":" Block 2 Player 3"}]
[null,{"$f":"GAMES!B134","v":"00:00:00"},{"$f":"GAMES!C134","v":"00:00:00"},{"$f":"GAMES!D134","v":0},{"$f":"GAMES!E134","v":" Block 2 Player 11"},{"$f":"GAMES!F134","v":"vs"},{"$f":"GAMES!G134","v":" Block 2 Player 4"}]
[null,{"$f":"GAMES!B135","v":"00:00:00"},{"$f":"GAMES!C135","v":"00:00:00"},{"$f":"GAMES!D135","v":0},{"$f":"GAMES!E135","v":" Block 2 Player 10"},{"$f":"GAMES!F135","v":"vs"},{"$f":"GAMES!G135","v":" Block 2 Player 5"}]
[null,{"$f":"GAMES!B136","v":"00:00:00"},{"$f":"GAMES!C136","v":"00:00:00"},{"$f":"GAMES!D136","v":0},{"$f":"GAMES!E136","v":" Block 2 Player 9"},{"$f":"GAMES!F136","v":"vs"},{"$f":"GAMES!G136","v":" Block 2 Player 6"}]
[null,{"$f":"GAMES!B137","v":"00:00:00"},{"$f":"GAMES!C137","v":"00:00:00"},{"$f":"GAMES!D137","v":0},{"$f":"GAMES!E137","v":" Block 2 Player 8"},{"$f":"GAMES!F137","v":"vs"},{"$f":"GAMES!G137","v":" Block 2 Player 7"}]

{"sheet":"WAIT","index":19,"n_rows":0,"n_cols":0,"rows_kept":0,"cut":false,"hidden":true,"merged":[]}

{"sheet":"TABLE","index":20,"n_rows":72,"n_cols":31,"rows_kept":72,"cut":false,"hidden":true,"merged":[[42,3,42,30],[41,3,41,30],[44,1,71,1],[6,4,6,27],[9,3,9,30],[11,1,38,1],[8,3,8,30]]}
[]
[null,"WIN=1",1]
[]
[null,"PLAYER",-0.5]
[null,"OPPONENT",1]
[]
[null,"RESULTS",{"$f":"IF(C2>0,(VLOOKUP(C4,WIN,(MATCH(C5,D11:AE11,0)+1))),(VLOOKUP(C4,LOSE,(MATCH(C5,D44:AE44,0)+1))))","v":6},"<----","IF(B2>0,(VLOOKUP(B4,WIN,(MATCH(B5,C11:AE11,0)+1))),(VLOOKUP(B4,LOSE,(MATCH(B5,C45:AE45,0)+1))))"]
[]
[null,null,null,"WIN TABLE"]
[null,null,null,"OPPONENT HANDICAP"]
[null,null,null,-2,-1.5,-1,-0.5,0,0.5,1,1.5,2,2.5,3,3.5,4,4.5,5,6,7,8,9,10,11,12,14,16,18,20,22,24]
[null,"PLAYER HANDICAP",-2,10,6,3,2,1,1,1,1,1,1,1,1,1,1,1,1,1,1,1,1,1,1,1,1,1,1,1,1]
[null,null,-1.5,14,10,7,4,3,2,2,1,1,1,1,1,1,1,1,1,1,1,1,1,1,1,1,1,1,1,1,1]
[null,null,-1,17,13,10,7,5,4,3,3,2,2,1,1,1,1,1,1,1,1,1,1,1,1,1,1,1,1,1,1]
[null,null,-0.5,18,16,13,10,8,7,6,5,4,3,3,2,2,1,1,1,1,1,1,1,1,1,1,1,1,1,1,1]
[null,null,0,19,17,15,12,10,9,8,7,6,5,4,3,3,2,2,1,1,1,1,1,1,1,1,1,1,1,1,1]
[null,null,0.5,19,18,16,13,11,10,9,8,7,6,5,4,3,3,2,2,1,1,1,1,1,1,1,1,1,1,1,1]
[null,null,1,19,18,17,14,12,11,10,9,8,7,6,5,4,3,3,2,2,1,1,1,1,1,1,1,1,1,1,1]
[null,null,1.5,19,19,17,15,13,12,11,10,9,8,7,6,5,4,3,3,2,2,1,1,1,1,1,1,1,1,1,1]
[null,null,2,19,19,18,16,14,13,12,11,10,9,8,7,6,5,4,3,3,2,2,1,1,1,1,1,1,1,1,1]
[null,null,2.5,19,19,18,17,15,14,13,12,11,10,9,8,7,6,5,4,3,3,2,2,1,1,1,1,1,1,1,1]
[null,null,3,19,19,19,17,16,15,14,13,12,11,10,9,8,7,6,5,4,3,3,2,2,1,1,1,1,1,1,1]
[null,null,3.5,19,19,19,18,17,16,15,14,13,12,11,10,9,8,7,6,5,4,3,3,2,2,1,1,1,1,1,1]
[null,null,4,19,19,19,18,17,17,16,15,14,13,12,11,10,9,8,7,6,5,4,3,3,2,2,1,1,1,1,1]
[null,null,4.5,19,19,19,19,18,17,17,16,15,14,13,12,11,10,9,8,7,6,5,4,3,3,2,2,1,1,1,1]
[null,null,5,19,19,19,19,18,18,17,17,16,15,14,13,12,11,10,9,8,7,6,5,4,3,3,2,2,1,1,1]
[null,null,6,19,19,19,19,19,18,18,17,17,16,15,14,13,12,11,10,9,8,7,6,5,4,3,3,2,2,1,1]
[null,null,7,19,19,19,19,19,19,18,18,17,17,16,15,14,13,12,11,10,9,8,7,6,5,4,3,3,2,2,1]
[null,null,8,19,19,19,19,19,19,19,18,18,17,17,16,15,14,13,12,11,10,9,8,7,6,5,4,3,3,2,2]
[null,null,9,19,19,19,19,19,19,19,19,18,18,17,17,16,15,14,13,12,11,10,9,8,7,6,5,4,3,3,2]
[null,null,10,19,19,19,19,19,19,19,19,19,18,18,17,17,16,15,14,13,12,11,10,9,8,7,6,5,4,3,3]
[null,null,11,19,19,19,19,19,19,19,19,19,19,18,18,17,17,16,15,14,13,12,11,10,9,8,7,6,5,4,3]
[null,null,12,19,19,19,19,19,19,19,19,19,19,19,18,18,17,17,16,15,14,13,12,11,10,9,8,7,6,5,4]
[null,null,14,19,19,19,19,19,19,19,19,19,19,19,19,18,18,17,17,16,15,14,13,12,11,10,9,8,7,6,5]
[null,null,16,19,19,19,19,19,19,19,19,19,19,19,19,19,18,18,17,17,16,15,14,13,12,11,10,9,8,7,6]
[null,null,18,19,19,19,19,19,19,19,19,19,19,19,19,19,19,18,18,17,17,16,15,14,13,12,11,10,9,8,7]
[null,null,20,19,19,19,19,19,19,19,19,19,19,19,19,19,19,19,18,18,17,17,16,15,14,13,12,11,10,9,8]
[null,null,22,19,19,19,19,19,19,19,19,19,19,19,19,19,19,19,19,18,18,17,17,16,15,14,13,12,11,10,9]
[null,null,24,19,19,19,19,19,19,19,19,19,19,19,19,19,19,19,19,19,18,18,17,17,16,15,14,13,12,11,10]
[]
[]
[null,null,null,"LOSE TABLE"]
[null,null,null,"OPPONENT HANDICAP"]
[null,null,null,-2,-1.5,-1,-0.5,0,0.5,1,1.5,2,2.5,3,3.5,4,4.5,5,6,7,8,9,10,11,12,14,16,18,20,22,24]
[null,"PLAYER HANDICAP",-2,-10,-14,-17,-18,-19,-19,-19,-19,-19,-19,-19,-19,-19,-19,-19,-19,-19,-19,-19,-19,-19,-19,-19,-19,-19,-19,-19,-19]
[null,null,-1.5,-6,-10,-13,-16,-17,-18,-19,-19,-19,-19,-19,-19,-19,-19,-19,-19,-19,-19,-19,-19,-19,-19,-19,-19,-19,-19,-19,-19]
[null,null,-1,-3,-7,-10,-13,-15,-16,-17,-17,-18,-18,-19,-19,-19,-19,-19,-19,-19,-19,-19,-19,-19,-19,-19,-19,-19,-19,-19,-19]
[null,null,-0.5,-2,-4,-7,-10,-12,-13,-14,-15,-16,-17,-17,-18,-18,-19,-19,-19,-19,-19,-19,-19,-19,-19,-19,-19,-19,-19,-19,-19]
[null,null,0,-1,-3,-5,-8,-10,-11,-12,-13,-14,-15,-16,-17,-17,-18,-18,-19,-19,-19,-19,-19,-19,-19,-19,-19,-19,-19,-19,-19]
[null,null,0.5,-1,-2,-4,-7,-9,-10,-11,-12,-13,-14,-15,-16,-17,-17,-18,-18,-19,-19,-19,-19,-19,-19,-19,-19,-19,-19,-19,-19]
[null,null,1,-1,-2,-3,-6,-8,-9,-10,-11,-12,-13,-14,-15,-16,-17,-17,-18,-18,-19,-19,-19,-19,-19,-19,-19,-19,-19,-19,-19]
[null,null,1.5,-1,-1,-3,-5,-7,-8,-9,-10,-11,-12,-13,-14,-15,-16,-17,-17,-18,-18,-19,-19,-19,-19,-19,-19,-19,-19,-19,-19]
[null,null,2,-1,-1,-2,-4,-6,-7,-8,-9,-10,-11,-12,-13,-14,-15,-16,-17,-17,-18,-18,-19,-19,-19,-19,-19,-19,-19,-19,-19]
[null,null,2.5,-1,-1,-2,-3,-5,-6,-7,-8,-9,-10,-11,-12,-13,-14,-15,-16,-17,-17,-18,-18,-19,-19,-19,-19,-19,-19,-19,-19]
[null,null,3,-1,-1,-1,-3,-4,-5,-6,-7,-8,-9,-10,-11,-12,-13,-14,-15,-16,-17,-17,-18,-18,-19,-19,-19,-19,-19,-19,-19]
[null,null,3.5,-1,-1,-1,-2,-3,-4,-5,-6,-7,-8,-9,-10,-11,-12,-13,-14,-15,-16,-17,-17,-18,-18,-19,-19,-19,-19,-19,-19]
[null,null,4,-1,-1,-1,-2,-3,-3,-4,-5,-6,-7,-8,-9,-10,-11,-12,-13,-14,-15,-16,-17,-17,-18,-18,-19,-19,-19,-19,-19]
[null,null,4.5,-1,-1,-1,-1,-2,-3,-3,-4,-5,-6,-7,-8,-9,-10,-11,-12,-13,-14,-15,-16,-17,-17,-18,-18,-19,-19,-19,-19]
[null,null,5,-1,-1,-1,-1,-2,-2,-3,-3,-4,-5,-6,-7,-8,-9,-10,-11,-12,-13,-14,-15,-16,-17,-17,-18,-18,-19,-19,-19]
[null,null,6,-1,-1,-1,-1,-1,-2,-2,-3,-3,-4,-5,-6,-7,-8,-9,-10,-11,-12,-13,-14,-15,-16,-17,-17,-18,-18,-19,-19]
[null,null,7,-1,-1,-1,-1,-1,-1,-2,-2,-3,-3,-4,-5,-6,-7,-8,-9,-10,-11,-12,-13,-14,-15,-16,-17,-17,-18,-18,-19]
[null,null,8,-1,-1,-1,-1,-1,-1,-1,-2,-2,-3,-3,-4,-5,-6,-7,-8,-9,-10,-11,-12,-13,-14,-15,-16,-17,-17,-18,-18]
[null,null,9,-1,-1,-1,-1,-1,-1,-1,-1,-2,-2,-3,-3,-4,-5,-6,-7,-8,-9,-10,-11,-12,-13,-14,-15,-16,-17,-17,-18]
[null,null,10,-1,-1,-1,-1,-1,-1,-1,-1,-1,-2,-2,-3,-3,-4,-5,-6,-7,-8,-9,-10,-11,-12,-13,-14,-15,-16,-17,-17]
[null,null,11,-1,-1,-1,-1,-1,-1,-1,-1,-1,-1,-2,-2,-3,-3,-4,-5,-6,-7,-8,-9,-10,-11,-12,-13,-14,-15,-16,-17]
[null,null,12,-1,-1,-1,-1,-1,-1,-1,-1,-1,-1,-1,-2,-2,-3,-3,-4,-5,-6,-7,-8,-9,-10,-11,-12,-13,-14,-15,-16]
[null,null,14,-1,-1,-1,-1,-1,-1,-1,-1,-1,-1,-1,-1,-2,-2,-3,-3,-4,-5,-6,-7,-8,-9,-10,-11,-12,-13,-14,-15]
[null,null,16,-1,-1,-1,-1,-1,-1,-1,-1,-1,-1,-1,-1,-1,-2,-2,-3,-3,-4,-5,-6,-7,-8,-9,-10,-11,-12,-13,-14]
[null,null,18,-1,-1,-1,-1,-1,-1,-1,-1,-1,-1,-1,-1,-1,-1,-2,-2,-3,-3,-4,-5,-6,-7,-8,-9,-10,-11,-12,-13]
[null,null,20,-1,-1,-1,-1,-1,-1,-1,-1,-1,-1,-1,-1,-1,-1,-1,-2,-2,-3,-3,-4,-5,-6,-7,-8,-9,-10,-11,-12]
[null,null,22,-1,-1,-1,-1,-1,-1,-1,-1,-1,-1,-1,-1,-1,-1,-1,-1,-2,-2,-3,-3,-4,-5,-6,-7,-8,-9,-10,-11]
[null,null,24,-1,-1,-1,-1,-1,-1,-1,-1,-1,-1,-1,-1,-1,-1,-1,-1,-1,-2,-2,-3,-3,-4,-5,-6,-7,-8,-9,-10]