{"text_format":"1","workbook":"xlsx","n_sheets":21,"sheets":["MENU","ABOUT","NAMES","SEED","GAMES","RESULTS","RESULTS DATA","SCORES","BLOCK","SCORECARD","PLAYER","WORLD RANKING RESULTS","HANDICAP CARD","AHS1","HANDICAPS","PUBLISHING","MISC","BLOCK SCHEDULE","SCHEDULE","WAIT","TABLE"],"not_rendered":{"charts":0,"images":20,"macros":1,"external_links":1,"defined_names":242,"comments":0,"pivot_tables":0},"unopened":[],"bounds":{"document_bytes":16777216,"sheet_cells":100000,"rows_first":2000,"rows_last":500,"rows_between":2000,"halvings":0,"cell_chars":16384,"cell_head_chars":4096},"cells_cut":0,"cells_raw":0,"read":"whole","date_system":"1900"}

{"sheet":"MENU","index":0,"n_rows":0,"n_cols":0,"rows_kept":0,"cut":false,"hidden":false,"merged":[]}

{"sheet":"ABOUT","index":1,"n_rows":161,"n_cols":14,"rows_kept":161,"cut":false,"hidden":false,"merged":[[20,5,20,7],[21,5,21,7]]}
[]
[]
[]
[]
[]
[]
[]
[]
[]
[]
[]
[]
[]
[]
[]
[]
[]
[]
[]
[]
[]
[]
[]
[]
[]
[]
[]
[]
[]
[]
[]
[]
[]
[]
[]
[]
[]
[]
[]
[]
[]
[]
[]
[]
[]
[]
[]
[]
[]
[]
[]
[]
[]
[]
[]
[]
[]
[]
[]
[]
[]
[]
[]
[]
[]
[]
[]
[]
[]
[]
[]
[]
[]
[]
[]
[]
[]
[]
[]
[]
[]
[]
[]
[]
[]
[]
[]
[]
[]
[]
[]
[]
[]
[]
[]
[]
[]
[]
[]
[]
[]
[]
[]
[]
[]
[]
[]
[]
[]
[]
[]
[]
[]
[]
[]
[]
[]
[]
[]
[]
[]
[]
[]
[]
[]
[]
[]
[]
[]
[]
[]
[]
[]
[]
[]
[]
[]
[]
[]
[]
[]
[]
[]
[]
[]
[]
[]
[]
[]
[]
[]
[]
[]
[]
[]
[]
[]
[]
[]
[]
[null,null,null,null,null,null,null,null,null,null,null,null,null," "]

{"sheet":"NAMES","index":2,"n_rows":111,"n_cols":18,"rows_kept":111,"cut":false,"hidden":true,"merged":[]}
[]
[]
[null,null,null,"<- For Handicap Play insert an X here"]
[]
[null,null,null,"<- For doubles place an X here",null,null,null,null,null,null,null,null,null,null,null,"Test Data",null,"Blank Data"]
[null,null,null,null,{"$f":"IF(C5=\"X\",\" & \",\" \")","v":" "}]
["TOURNAMENT NAME",null,"TOURNAMENT","<- Enter tournament name",null,null,null,null,null,null,null,null,null,null,null,"TOURNAMENT",null,"TOURNAMENT"]
["GROUP NAME",null,"GROUP","<- Enter name of Group",null,null,null,null,null,null,null,null,null,null,null,"GROUP",null,"GROUP"]
["TOURNAMENT DATE",null,"DATE",null,null,null,null,null,null,null,null,null,null,null,null,"DATE",null,"DATE"]
["BLOCK 1 NAME",null,"BLOCK 1","<- Enter name of Block",null,null,null,null,null,null,null,null,null,null,null,"BLOCK 1",null,"BLOCK 1"]
["SEED 1 - First Name",null,"Block 1",null,null,null,null,null,null,null,null,null,null,null,null,"Block 1",null,"Block 1"]
["Last Name",null,"Player 1",null,null,null,null,null,null,null,null,null,null,null,null,"Player 1",null,"Player 1"]
["ID Number"]
["Handicap",null,null,null,null,null,null,null,null,null,null,null,null,null,null,1]
["Index",null,null,null,null,null,null,null,null,null,null,null,null,null,null,1900]
["SEED 2 - First Name",null,"Block 1",null,null,null,null,null,null,null,null,null,null,null,null,"Block 1",null,"Block 1"]
["Last Name",null,"Player 2",null,null,null,null,null,null,null,null,null,null,null,null,"Player 2",null,"Player 2"]
["ID Number"]
["Handicap",null,null,null,null,null,null,null,null,null,null,null,null,null,null,2]
["Index",null,null,null,null,null,null,null,null,null,null,null,null,null,null,1800]
["SEED 3 - First Name",null,"Block 1",null,"Notes entered below will appear at the bottom of each player's sheet.",null,null,null,null,null,null,null,null,null,null,"Block 1",null,"Block 1"]
["Last Name",null,"Player 3","Note 1->","Time limit 2.5 hours, Turn After Bell (61.1.6). Quadway hoops (3 11/16\"), Dawson International balls",null,null,null,null,null,null,null,null,null,null,"Player 3",null,"Player 3"]
["ID Number",null,null,"Note 2->","Games may start early. Please be at the venue at least 30 minutes earlier than the scheduled start time."]
["Handicap",null,null,"Note 3->","Entry Fee $40 will be invoiced by email. Please pay by EFT using the invoice No. as reference.",null,null,null,null,null,null,null,null,null,null,3]
["Index",null,null,"Note 4->","Players please assist with setting and clearing courts.",null,null,null,null,null,null,null,null,null,null,1700]
["SEED 4 - First Name",null,"Block 1",null,null,null,null,null,null,null,null,null,null,null,null,"Block 1",null,"Block 1"]
["Last Name",null,"Player 4",null,"To hide the notes use spaces not deletes. A delete shows as a \"0\".",null,null,null,null,null,null,null,null,null,null,"Player 4",null,"Player 4"]
["ID Number"]
["Handicap",null,null,null,null,null,null,null,null,null,null,null,null,null,null,4]
["Index",null,null,null,null,null,null,null,null,null,null,null,null,null,null,1600]
["SEED 5 - First Name",null,"Block 1",null,null,null,null,null,null,null,null,null,null,null,null,"Block 1",null,"Block 1"]
["Last Name",null,"Player 5",null,null,null,null,null,null,null,null,null,null,null,null,"Player 5",null,"Player 5"]
["ID Number"]
["Handicap",null,null,null,null,null,null,null,null,null,null,null,null,null,null,5]
["Index",null,null,null,null,null,null,null,null,null,null,null,null,null,null,1500]
["SEED 6 - First Name",null,"Block 1",null,null,null,null,null,null,null,null,null,null,null,null,"Block 1",null,"Block 1"]
["Last Name",null,"Player 6",null,null,null,null,null,null,null,null,null,null,null,null,"Player 6",null,"Player 6"]
["ID Number"]
["Handicap",null,null,null,null,null,null,null,null,null,null,null,null,null,null,6]
["Index",null,null,null,null,null,null,null,null,null,null,null,null,null,null,1450]
["SEED 7 - First Name",null,"Block 1",null,null,null,null,null,null,null,null,null,null,null,null,"Block 1",null,"Block 1"]
["Last Name",null,"Player 7",null,null,null,null,null,null,null,null,null,null,null,null,"Player 7",null,"Player 7"]
["ID Number"]
["Handicap",null,null,null,null,null,null,null,null,null,null,null,null,null,null,7]
["Index",null,null,null,null,null,null,null,null,null,null,null,null,null,null,1400]
["SEED 8 - First Name",null,"Block 1",null,null,null,null,null,null,null,null,null,null,null,null,"Block 1",null,"Block 1"]
["Last Name",null,"Player 8",null,null,null,null,null,null,null,null,null,null,null,null,"Player 8",null,"Player 8"]
["ID Number"]
["Handicap",null,null,null,null,null,null,null,null,null,null,null,null,null,null,8]
["Index",null,null,null,null,null,null,null,null,null,null,null,null,null,null,1350]
["SEED 9 - First Name",null,"Block 1",null,null,null,null,null,null,null,null,null,null,null,null,"Block 1",null,"Block 1"]
["Last Name",null,"Player 9",null,null,null,null,null,null,null,null,null,null,null,null,"Player 9",null,"Player 9"]
["ID Number"]
["Handicap",null,null,null,null,null,null,null,null,null,null,null,null,null,null,9]
["Index",null,null,null,null,null,null,null,null,null,null,null,null,null,null,1300]
["SEED10 - First Name",null,"Block 1",null,null,null,null,null,null,null,null,null,null,null,null,"Block 1",null,"Block 1"]
["Last Name",null,"Player 10",null,null,null,null,null,null,null,null,null,null,null,null,"Player 10",null,"Player 10"]
["ID Number"]
["Handicap",null,null,null,null,null,null,null,null,null,null,null,null,null,null,10]
["Index",null,null,null,null,null,null,null,null,null,null,null,null,null,null,1250]
["BLOCK 2 NAME",null,"BLOCK 2","<- Enter name of Block",null,null,null,null,null,null,null,null,null,null,null,"BLOCK 2",null,"BLOCK 2"]
["SEED 1 - First Name",null,"Block 2",null,null,null,null,null,null,null,null,null,null,null,null,"Block 2",null,"Block 2"]
["Last Name",null,"Player 1",null,null,null,null,null,null,null,null,null,null,null,null,"Player 1",null,"Player 1"]
["ID Number"]
["Handicap",null,null,null,null,null,null,null,null,null,null,null,null,null,null,1]
["Index",null,null,null,null,null,null,null,null,null,null,null,null,null,null,1900]
["SEED 2 - First Name",null,"Block 2",null,null,null,null,null,null,null,null,null,null,null,null,"Block 2",null,"Block 2"]
["Last Name",null,"Player 2",null,null,null,null,null,null,null,null,null,null,null,null,"Player 2",null,"Player 2"]
["ID Number"]
["Handicap",null,null,null,null,null,null,null,null,null,null,null,null,null,null,2]
["Index",null,null,null,null,null,null,null,null,null,null,null,null,null,null,1800]
["SEED 3 - First Name",null,"Block 2",null,null,null,null,null,null,null,null,null,null,null,null,"Block 2",null,"Block 2"]
["Last Name",null,"Player 3",null,null,null,null,null,null,null,null,null,null,null,null,"Player 3",null,"Player 3"]
["ID Number"]
["Handicap",null,null,null,null,null,null,null,null,null,null,null,null,null,null,3]
["Index",null,null,null,null,null,null,null,null,null,null,null,null,null,null,1700]
["SEED 4 - First Name",null,"Block 2",null,null,null,null,null,null,null,null,null,null,null,null,"Block 2",null,"Block 2"]
["Last Name",null,"Player 4",null,null,null,null,null,null,null,null,null,null,null,null,"Player 4",null,"Player 4"]
["ID Number"]
["Handicap",null,null,null,null,null,null,null,null,null,null,null,null,null,null,4]
["Index",null,null,null,null,null,null,null,null,null,null,null,null,null,null,1600]
["SEED 5 - First Name",null,"Block 2",null,null,null,null,null,null,null,null,null,null,null,null,"Block 2",null,"Block 2"]
["Last Name",null,"Player 5",null,null,null,null,null,null,null,null,null,null,null,null,"Player 5",null,"Player 5"]
["ID Number"]
["Handicap",null,null,null,null,null,null,null,null,null,null,null,null,null,null,5]
["Index",null,null,null,null,null,null,null,null,null,null,null,null,null,null,1500]
["SEED 6 - First Name",null,"Block 2",null,null,null,null,null,null,null,null,null,null,null,null,"Block 2",null,"Block 2"]
["Last Name",null,"Player 6",null,null,null,null,null,null,null,null,null,null,null,null,"Player 6",null,"Player 6"]
["ID Number"]
["Handicap",null,null,null,null,null,null,null,null,null,null,null,null,null,null,6]
["Index",null,null,null,null,null,null,null,null,null,null,null,null,null,null,1450]
["SEED 7 - First Name",null,"Block 2",null,null,null,null,null,null,null,null,null,null,null,null,"Block 2",null,"Block 2"]
["Last Name",null,"Player 7",null,null,null,null,null,null,null,null,null,null,null,null,"Player 7",null,"Player 7"]
["ID Number"]
["Handicap",null,null,null,null,null,null,null,null,null,null,null,null,null,null,7]
["Index",null,null,null,null,null,null,null,null,null,null,null,null,null,null,1400]
["SEED 8 - First Name",null,"Block 2",null,null,null,null,null,null,null,null,null,null,null,null,"Block 2",null,"Block 2"]
["Last Name",null,"Player 8",null,null,null,null,null,null,null,null,null,null,null,null,"Player 8",null,"Player 8"]
["ID Number"]
["Handicap",null,null,null,null,null,null,null,null,null,null,null,null,null,null,8]
["Index",null,null,null,null,null,null,null,null,null,null,null,null,null,null,1350]
["SEED 9 - First Name",null,"Block 2",null,null,null,null,null,null,null,null,null,null,null,null,"Block 2",null,"Block 2"]
["Last Name",null,"Player 9",null,null,null,null,null,null,null,null,null,null,null,null,"Player 9",null,"Player 9"]
["ID Number"]
["Handicap",null,null,null,null,null,null,null,null,null,null,null,null,null,null,9]
["Index",null,null,null,null,null,null,null,null,null,null,null,null,null,null,1300]
["SEED 10 - First Name",null,"Block 2",null,null,null,null,null,null,null,null,null,null,null,null,"Block 2",null,"Block 2"]
["Last Name",null,"Player 10",null,null,null,null,null,null,null,null,null,null,null,null,"Player 10",null,"Player 10"]
["ID Number"]
["Handicap",null,null,null,null,null,null,null,null,null,null,null,null,null,null,10]
["Index",null,null,null,null,null,null,null,null,null,null,null,null,null,null,1250]

{"sheet":"SEED","index":3,"n_rows":17,"n_cols":11,"rows_kept":17,"cut":false,"hidden":false,"merged":[]}
[]
[null,null,null,null,null,null,null,{"$f":"NAMES!C7","v":"TOURNAMENT"}]
[null,null,null,null,null,null,null,{"$f":"NAMES!C8","v":"GROUP"}]
[]
[null,null,null,{"$f":"NAMES!C10","v":"BLOCK 1"},null,null,null,null,null,{"$f":"NAMES!C61","v":"BLOCK 2"}]
[null,"ID","INDEX",null,"H/CAP",null,null,"ID","INDEX","NAME","H/CAP"]
[null,{"$f":"NAMES!$C$13","v":0},{"$f":"NAMES!$C$15","v":0},{"$f":"\" \"&NAMES!C11&NAMES!$E$6&NAMES!C12","v":" Block 1 Player 1"},{"$f":"NAMES!C14","v":0},null,null,{"$f":"NAMES!$C$64","v":0},{"$f":"NAMES!$C$66","v":0},{"$f":"\" \"&NAMES!C62&NAMES!$E$6&NAMES!C63","v":" Block 2 Player 1"},{"$f":"NAMES!C65","v":0}]
[null,{"$f":"NAMES!$C$18","v":0},{"$f":"NAMES!$C$20","v":0},{"$f":"\" \"&NAMES!C16&NAMES!$E$6&NAMES!C17","v":" Block 1 Player 2"},{"$f":"NAMES!C19","v":0},null,null,{"$f":"NAMES!$C$69","v":0},{"$f":"NAMES!$C$71","v":0},{"$f":"\" \"&NAMES!C67&NAMES!$E$6&NAMES!C68","v":" Block 2 Player 2"},{"$f":"NAMES!C70","v":0}]
[null,{"$f":"NAMES!$C$23","v":0},{"$f":"NAMES!$C$25","v":0},{"$f":"\" \"&NAMES!C21&NAMES!$E$6&NAMES!C22","v":" Block 1 Player 3"},{"$f":"NAMES!C24","v":0},null,null,{"$f":"NAMES!$C$74","v":0},{"$f":"NAMES!$C$76","v":0},{"$f":"\" \"&NAMES!C72&NAMES!$E$6&NAMES!C73","v":" Block 2 Player 3"},{"$f":"NAMES!C75","v":0}]
[null,{"$f":"NAMES!$C$28","v":0},{"$f":"NAMES!$C$30","v":0},{"$f":"\" \"&NAMES!C26&NAMES!$E$6&NAMES!C27","v":" Block 1 Player 4"},{"$f":"NAMES!C29","v":0},null,null,{"$f":"NAMES!$C$79","v":0},{"$f":"NAMES!$C$81","v":0},{"$f":"\" \"&NAMES!C77&NAMES!$E$6&NAMES!C78","v":" Block 2 Player 4"},{"$f":"NAMES!C80","v":0}]
[null,{"$f":"NAMES!$C$33","v":0},{"$f":"NAMES!$C$35","v":0},{"$f":"\" \"&NAMES!C31&NAMES!$E$6&NAMES!C32","v":" Block 1 Player 5"},{"$f":"NAMES!C34","v":0},null,null,{"$f":"NAMES!$C$84","v":0},{"$f":"NAMES!$C$86","v":0},{"$f":"\" \"&NAMES!C82&NAMES!$E$6&NAMES!C83","v":" Block 2 Player 5"},{"$f":"NAMES!C85","v":0}]
[null,{"$f":"NAMES!$C$38","v":0},{"$f":"NAMES!$C$40","v":0},{"$f":"\" \"&NAMES!C36&NAMES!$E$6&NAMES!C37","v":" Block 1 Player 6"},{"$f":"NAMES!C39","v":0},null,null,{"$f":"NAMES!$C$89","v":0},{"$f":"NAMES!$C$91","v":0},{"$f":"\" \"&NAMES!C87&NAMES!$E$6&NAMES!C88","v":" Block 2 Player 6"},{"$f":"NAMES!C90","v":0}]
[null,{"$f":"NAMES!$C$43","v":0},{"$f":"NAMES!$C$45","v":0},{"$f":"\" \"&NAMES!C41&NAMES!$E$6&NAMES!C42","v":" Block 1 Player 7"},{"$f":"NAMES!C44","v":0},null,null,{"$f":"NAMES!$C$94","v":0},{"$f":"NAMES!$C$96","v":0},{"$f":"\" \"&NAMES!C92&NAMES!$E$6&NAMES!C93","v":" Block 2 Player 7"},{"$f":"NAMES!C95","v":0}]
[null,{"$f":"NAMES!$C$48","v":0},{"$f":"NAMES!$C$50","v":0},{"$f":"\" \"&NAMES!C46&NAMES!$E$6&NAMES!C47","v":" Block 1 Player 8"},{"$f":"NAMES!C49","v":0},null,null,{"$f":"NAMES!$C$99","v":0},{"$f":"NAMES!$C$101","v":0},{"$f":"\" \"&NAMES!C97&NAMES!$E$6&NAMES!C98","v":" Block 2 Player 8"},{"$f":"NAMES!C100","v":0}]
[null,{"$f":"NAMES!$C$53","v":0},{"$f":"NAMES!$C$55","v":0},{"$f":"\" \"&NAMES!C51&NAMES!$E$6&NAMES!C52","v":" Block 1 Player 9"},{"$f":"NAMES!C54","v":0},null,null,{"$f":"NAMES!$C$104","v":0},{"$f":"NAMES!$C$106","v":0},{"$f":"\" \"&NAMES!C102&NAMES!$E$6&NAMES!C103","v":" Block 2 Player 9"},{"$f":"NAMES!C105","v":0}]
[null,{"$f":"NAMES!$C$58","v":0},{"$f":"NAMES!$C$60","v":0},{"$f":"\" \"&NAMES!C56&NAMES!$E$6&NAMES!C57","v":" Block 1 Player 10"},{"$f":"NAMES!C59","v":0},null,null,{"$f":"NAMES!$C$109","v":0},{"$f":"NAMES!$C$111","v":0},{"$f":"\" \"&NAMES!C107&NAMES!$E$6&NAMES!C108","v":" Block 2 Player 10"},{"$f":"NAMES!C110","v":0}]
[null,null,null,"Average Block Handicap   ",{"$f":"IF(ISERR(AVERAGE(E7:E16)),\" \",AVERAGE(E7:E16))","v":0},null,null,null,null,"Average Block Handicap   ",{"$f":"IF(ISERR(AVERAGE(K7:K16)),\" \",AVERAGE(K7:K16))","v":0}]

{"sheet":"GAMES","index":4,"n_rows":95,"n_cols":10,"rows_kept":95,"cut":false,"hidden":false,"merged":[[1,8,1,9]]}
[]
[null,"TIME","DAY","COURT",{"$f":"SEED!D5","v":"BLOCK 1"},null,{"$f":"SEED!H3","v":"GROUP"},null,"TEST DATA"]
[1,null,null,null,{"$f":"SEED!D7","v":" Block 1 Player 1"},"vs",{"$f":"SEED!D16","v":" Block 1 Player 10"},null,"08:00:00","2014-02-21"]
[2,null,null,null,{"$f":"SEED!D8","v":" Block 1 Player 2"},"vs",{"$f":"SEED!D15","v":" Block 1 Player 9"},null,"08:00:00","2014-02-21"]
[3,null,null,null,{"$f":"SEED!D9","v":" Block 1 Player 3"},"vs",{"$f":"SEED!D14","v":" Block 1 Player 8"},null,"08:00:00","2014-02-21"]
[4,null,null,null,{"$f":"SEED!D10","v":" Block 1 Player 4"},"vs",{"$f":"SEED!D13","v":" Block 1 Player 7"},null,"08:00:00","2014-02-21"]
[5,null,null,null,{"$f":"SEED!D11","v":" Block 1 Player 5"},"vs",{"$f":"SEED!D12","v":" Block 1 Player 6"},null,"08:00:00","2014-02-21"]
[6,null,null,null,{"$f":"SEED!D7","v":" Block 1 Player 1"},"vs",{"$f":"SEED!D15","v":" Block 1 Player 9"},null,"11:00:00","2014-02-21"]
[7,null,null,null,{"$f":"SEED!D14","v":" Block 1 Player 8"},"vs",{"$f":"SEED!D16","v":" Block 1 Player 10"},null,"11:00:00","2014-02-21"]
[8,null,null,null,{"$f":"SEED!D13","v":" Block 1 Player 7"},"vs",{"$f":"SEED!D8","v":" Block 1 Player 2"},null,"11:00:00","2014-02-21"]
[9,null,null,null,{"$f":"SEED!D12","v":" Block 1 Player 6"},"vs",{"$f":"SEED!D9","v":" Block 1 Player 3"},null,"11:00:00","2014-02-21"]
[10,null,null,null,{"$f":"SEED!D11","v":" Block 1 Player 5"},"vs",{"$f":"SEED!D10","v":" Block 1 Player 4"},null,"11:00:00","2014-02-21"]
[11,null,null,null,{"$f":"SEED!D7","v":" Block 1 Player 1"},"vs",{"$f":"SEED!D14","v":" Block 1 Player 8"},null,"14:00:00","2014-02-21"]
[12,null,null,null,{"$f":"SEED!D13","v":" Block 1 Player 7"},"vs",{"$f":"SEED!D15","v":" Block 1 Player 9"},null,"14:00:00","2014-02-21"]
[13,null,null,null,{"$f":"SEED!D12","v":" Block 1 Player 6"},"vs",{"$f":"SEED!D16","v":" Block 1 Player 10"},null,"14:00:00","2014-02-21"]
[14,null,null,null,{"$f":"SEED!D11","v":" Block 1 Player 5"},"vs",{"$f":"SEED!D8","v":" Block 1 Player 2"},null,"14:00:00","2014-02-21"]
[15,null,null,null,{"$f":"SEED!D10","v":" Block 1 Player 4"},"vs",{"$f":"SEED!D9","v":" Block 1 Player 3"},null,"14:00:00","2014-02-21"]
[16,null,null,null,{"$f":"SEED!D7","v":" Block 1 Player 1"},"vs",{"$f":"SEED!D13","v":" Block 1 Player 7"},null,"08:00:00","2014-02-22"]
[17,null,null,null,{"$f":"SEED!D12","v":" Block 1 Player 6"},"vs",{"$f":"SEED!D14","v":" Block 1 Player 8"},null,"08:00:00","2014-02-22"]
[18,null,null,null,{"$f":"SEED!D11","v":" Block 1 Player 5"},"vs",{"$f":"SEED!D15","v":" Block 1 Player 9"},null,"08:00:00","2014-02-22"]
[19,null,null,null,{"$f":"SEED!D10","v":" Block 1 Player 4"},"vs",{"$f":"SEED!D16","v":" Block 1 Player 10"},null,"08:00:00","2014-02-22"]
[20,null,null,null,{"$f":"SEED!D9","v":" Block 1 Player 3"},"vs",{"$f":"SEED!D8","v":" Block 1 Player 2"},null,"08:00:00","2014-02-22"]
[21,null,null,null,{"$f":"SEED!D7","v":" Block 1 Player 1"},"vs",{"$f":"SEED!D12","v":" Block 1 Player 6"},null,"11:00:00","2014-02-22"]
[22,null,null,null,{"$f":"SEED!D11","v":" Block 1 Player 5"},"vs",{"$f":"SEED!D13","v":" Block 1 Player 7"},null,"11:00:00","2014-02-22"]
[23,null,null,null,{"$f":"SEED!D10","v":" Block 1 Player 4"},"vs",{"$f":"SEED!D14","v":" Block 1 Player 8"},null,"11:00:00","2014-02-22"]
[24,null,null,null,{"$f":"SEED!D9","v":" Block 1 Player 3"},"vs",{"$f":"SEED!D15","v":" Block 1 Player 9"},null,"11:00:00","2014-02-22"]
[25,null,null,null,{"$f":"SEED!D8","v":" Block 1 Player 2"},"vs",{"$f":"SEED!D16","v":" Block 1 Player 10"},null,"11:00:00","2014-02-22"]
[26,null,null,null,{"$f":"SEED!D7","v":" Block 1 Player 1"},"vs",{"$f":"SEED!D11","v":" Block 1 Player 5"},null,"14:00:00","2014-02-22"]
[27,null,null,null,{"$f":"SEED!D10","v":" Block 1 Player 4"},"vs",{"$f":"SEED!D12","v":" Block 1 Player 6"},null,"14:00:00","2014-02-22"]
[28,null,null,null,{"$f":"SEED!D9","v":" Block 1 Player 3"},"vs",{"$f":"SEED!D13","v":" Block 1 Player 7"},null,"14:00:00","2014-02-22"]
[29,null,null,null,{"$f":"SEED!D8","v":" Block 1 Player 2"},"vs",{"$f":"SEED!D14","v":" Block 1 Player 8"},null,"14:00:00","2014-02-22"]
[30,null,null,null,{"$f":"SEED!D16","v":" Block 1 Player 10"},"vs",{"$f":"SEED!D15","v":" Block 1 Player 9"},null,"14:00:00","2014-02-22"]
[31,null,null,null,{"$f":"SEED!D7","v":" Block 1 Player 1"},"vs",{"$f":"SEED!D10","v":" Block 1 Player 4"},null,"08:00:00","2014-02-23"]
[32,null,null,null,{"$f":"SEED!D11","v":" Block 1 Player 5"},"vs",{"$f":"SEED!D9","v":" Block 1 Player 3"},null,"08:00:00","2014-02-23"]
[33,null,null,null,{"$f":"SEED!D8","v":" Block 1 Player 2"},"vs",{"$f":"SEED!D12","v":" Block 1 Player 6"},null,"08:00:00","2014-02-23"]
[34,null,null,null,{"$f":"SEED!D16","v":" Block 1 Player 10"},"vs",{"$f":"SEED!D13","v":" Block 1 Player 7"},null,"08:00:00","2014-02-23"]
[35,null,null,null,{"$f":"SEED!D15","v":" Block 1 Player 9"},"vs",{"$f":"SEED!D14","v":" Block 1 Player 8"},null,"08:00:00","2014-02-23"]
[36,null,null,null,{"$f":"SEED!D7","v":" Block 1 Player 1"},"vs",{"$f":"SEED!D9","v":" Block 1 Player 3"},null,"11:00:00","2014-02-23"]
[37,null,null,null,{"$f":"SEED!D8","v":" Block 1 Player 2"},"vs",{"$f":"SEED!D10","v":" Block 1 Player 4"},null,"11:00:00","2014-02-23"]
[38,null,null,null,{"$f":"SEED!D16","v":" Block 1 Player 10"},"vs",{"$f":"SEED!D11","v":" Block 1 Player 5"},null,"11:00:00","2014-02-23"]
[39,null,null,null,{"$f":"SEED!D15","v":" Block 1 Player 9"},"vs",{"$f":"SEED!D12","v":" Block 1 Player 6"},null,"11:00:00","2014-02-23"]
[40,null,null,null,{"$f":"SEED!D14","v":" Block 1 Player 8"},"vs",{"$f":"SEED!D13","v":" Block 1 Player 7"},null,"11:00:00","2014-02-23"]
[41,null,null,null,{"$f":"SEED!D7","v":" Block 1 Player 1"},"vs",{"$f":"SEED!D8","v":" Block 1 Player 2"},null,"14:00:00","2014-02-23"]
[42,null,null,null,{"$f":"SEED!D16","v":" Block 1 Player 10"},"vs",{"$f":"SEED!D9","v":" Block 1 Player 3"},null,"14:00:00","2014-02-23"]
[43,null,null,null,{"$f":"SEED!D15","v":" Block 1 Player 9"},"vs",{"$f":"SEED!D10","v":" Block 1 Player 4"},null,"14:00:00","2014-02-23"]
[44,null,null,null,{"$f":"SEED!D14","v":" Block 1 Player 8"},"vs",{"$f":"SEED!D11","v":" Block 1 Player 5"},null,"14:00:00","2014-02-23"]
[45,null,null,null,{"$f":"SEED!D13","v":" Block 1 Player 7"},"vs",{"$f":"SEED!D12","v":" Block 1 Player 6"},null,"14:00:00","2014-02-23"]
[]
[]
[null,"TIME","DAY","COURT",{"$f":"SEED!J5","v":"BLOCK 2"},null,{"$f":"SEED!H3","v":"GROUP"}]
[46,null,null,null,{"$f":"SEED!J7","v":" Block 2 Player 1"},"vs",{"$f":"SEED!J16","v":" Block 2 Player 10"}]
[47,null,null,null,{"$f":"SEED!J8","v":" Block 2 Player 2"},"vs",{"$f":"SEED!J15","v":" Block 2 Player 9"}]
[48,null,null,null,{"$f":"SEED!J9","v":" Block 2 Player 3"},"vs",{"$f":"SEED!J14","v":" Block 2 Player 8"}]
[49,null,null,null,{"$f":"SEED!J10","v":" Block 2 Player 4"},"vs",{"$f":"SEED!J13","v":" Block 2 Player 7"}]
[50,null,null,null,{"$f":"SEED!J11","v":" Block 2 Player 5"},"vs",{"$f":"SEED!J12","v":" Block 2 Player 6"}]
[51,null,null,null,{"$f":"SEED!J7","v":" Block 2 Player 1"},"vs",{"$f":"SEED!J15","v":" Block 2 Player 9"}]
[52,null,null,null,{"$f":"SEED!J14","v":" Block 2 Player 8"},"vs",{"$f":"SEED!J16","v":" Block 2 Player 10"}]
[53,null,null,null,{"$f":"SEED!J13","v":" Block 2 Player 7"},"vs",{"$f":"SEED!J8","v":" Block 2 Player 2"}]
[54,null,null,null,{"$f":"SEED!J12","v":" Block 2 Player 6"},"vs",{"$f":"SEED!J9","v":" Block 2 Player 3"}]
[55,null,null,null,{"$f":"SEED!J11","v":" Block 2 Player 5"},"vs",{"$f":"SEED!J10","v":" Block 2 Player 4"}]
[56,null,null,null,{"$f":"SEED!J7","v":" Block 2 Player 1"},"vs",{"$f":"SEED!J14","v":" Block 2 Player 8"}]
[57,null,null,null,{"$f":"SEED!J13","v":" Block 2 Player 7"},"vs",{"$f":"SEED!J15","v":" Block 2 Player 9"}]
[58,null,null,null,{"$f":"SEED!J12","v":" Block 2 Player 6"},"vs",{"$f":"SEED!J16","v":" Block 2 Player 10"}]
[59,null,null,null,{"$f":"SEED!J11","v":" Block 2 Player 5"},"vs",{"$f":"SEED!J8","v":" Block 2 Player 2"}]
[60,null,null,null,{"$f":"SEED!J10","v":" Block 2 Player 4"},"vs",{"$f":"SEED!J9","v":" Block 2 Player 3"}]
[61,null,null,null,{"$f":"SEED!J7","v":" Block 2 Player 1"},"vs",{"$f":"SEED!J13","v":" Block 2 Player 7"}]
[62,null,null,null,{"$f":"SEED!J12","v":" Block 2 Player 6"},"vs",{"$f":"SEED!J14","v":" Block 2 Player 8"}]
[63,null,null,null,{"$f":"SEED!J11","v":" Block 2 Player 5"},"vs",{"$f":"SEED!J15","v":" Block 2 Player 9"}]
[64,null,null,null,{"$f":"SEED!J10","v":" Block 2 Player 4"},"vs",{"$f":"SEED!J16","v":" Block 2 Player 10"}]
[65,null,null,null,{"$f":"SEED!J9","v":" Block 2 Player 3"},"vs",{"$f":"SEED!J8","v":" Block 2 Player 2"}]
[66,null,null,null,{"$f":"SEED!J7","v":" Block 2 Player 1"},"vs",{"$f":"SEED!J12","v":" Block 2 Player 6"}]
[67,null,null,null,{"$f":"SEED!J11","v":" Block 2 Player 5"},"vs",{"$f":"SEED!J13","v":" Block 2 Player 7"}]
[68,null,null,null,{"$f":"SEED!J10","v":" Block 2 Player 4"},"vs",{"$f":"SEED!J14","v":" Block 2 Player 8"}]
[69,null,null,null,{"$f":"SEED!J9","v":" Block 2 Player 3"},"vs",{"$f":"SEED!J15","v":" Block 2 Player 9"}]
[70,null,null,null,{"$f":"SEED!J8","v":" Block 2 Player 2"},"vs",{"$f":"SEED!J16","v":" Block 2 Player 10"}]
[71,null,null,null,{"$f":"SEED!J7","v":" Block 2 Player 1"},"vs",{"$f":"SEED!J11","v":" Block 2 Player 5"}]
[72,null,null,null,{"$f":"SEED!J10","v":" Block 2 Player 4"},"vs",{"$f":"SEED!J12","v":" Block 2 Player 6"}]
[73,null,null,null,{"$f":"SEED!J9","v":" Block 2 Player 3"},"vs",{"$f":"SEED!J13","v":" Block 2 Player 7"}]
[74,null,null,null,{"$f":"SEED!J8","v":" Block 2 Player 2"},"vs",{"$f":"SEED!J14","v":" Block 2 Player 8"}]
[75,null,null,null,{"$f":"SEED!J16","v":" Block 2 Player 10"},"vs",{"$f":"SEED!J15","v":" Block 2 Player 9"}]
[76,null,null,null,{"$f":"SEED!J7","v":" Block 2 Player 1"},"vs",{"$f":"SEED!J10","v":" Block 2 Player 4"}]
[77,null,null,null,{"$f":"SEED!J11","v":" Block 2 Player 5"},"vs",{"$f":"SEED!J9","v":" Block 2 Player 3"}]
[78,null,null,null,{"$f":"SEED!J8","v":" Block 2 Player 2"},"vs",{"$f":"SEED!J12","v":" Block 2 Player 6"}]
[79,null,null,null,{"$f":"SEED!J16","v":" Block 2 Player 10"},"vs",{"$f":"SEED!J13","v":" Block 2 Player 7"}]
[80,null,null,null,{"$f":"SEED!J15","v":" Block 2 Player 9"},"vs",{"$f":"SEED!J14","v":" Block 2 Player 8"}]
[81,null,null,null,{"$f":"SEED!J7","v":" Block 2 Player 1"},"vs",{"$f":"SEED!J9","v":" Block 2 Player 3"}]
[82,null,null,null,{"$f":"SEED!J8","v":" Block 2 Player 2"},"vs",{"$f":"SEED!J10","v":" Block 2 Player 4"}]
[83,null,null,null,{"$f":"SEED!J16","v":" Block 2 Player 10"},"vs",{"$f":"SEED!J11","v":" Block 2 Player 5"}]
[84,null,null,null,{"$f":"SEED!J15","v":" Block 2 Player 9"},"vs",{"$f":"SEED!J12","v":" Block 2 Player 6"}]
[85,null,null,null,{"$f":"SEED!J14","v":" Block 2 Player 8"},"vs",{"$f":"SEED!J13","v":" Block 2 Player 7"}]
[86,null,null,null,{"$f":"SEED!J7","v":" Block 2 Player 1"},"vs",{"$f":"SEED!J8","v":" Block 2 Player 2"}]
[87,null,null,null,{"$f":"SEED!J16","v":" Block 2 Player 10"},"vs",{"$f":"SEED!J9","v":" Block 2 Player 3"}]
[88,null,null,null,{"$f":"SEED!J15","v":" Block 2 Player 9"},"vs",{"$f":"SEED!J10","v":" Block 2 Player 4"}]
[89,null,null,null,{"$f":"SEED!J14","v":" Block 2 Player 8"},"vs",{"$f":"SEED!J11","v":" Block 2 Player 5"}]
[90,null,null,null,{"$f":"SEED!J13","v":" Block 2 Player 7"},"vs",{"$f":"SEED!J12","v":" Block 2 Player 6"}]

{"sheet":"RESULTS","index":5,"n_rows":47,"n_cols":24,"rows_kept":47,"cut":false,"hidden":true,"merged":[]}
[null,null,null,"                             <-- Click this button after entering scores to compute place. "]
[]
[null,{"$f":"NAMES!$C$10","v":"BLOCK 1"},null,null,null,{"$f":"GAMES!B1","v":0}]
[null,null,{"$f":"SEED!D7","v":" Block 1 Player 1"},{"$f":"'RESULTS DATA'!D4","v":-1E-3},{"$f":"'RESULTS DATA'!E4","v":-1E-3},null,{"$f":"SEED!D7","v":" Block 1 Player 1"},{"$f":"'RESULTS DATA'!D24","v":-1E-3},{"$f":"'RESULTS DATA'!E24","v":-1E-3},null,{"$f":"SEED!D7","v":" Block 1 Player 1"},{"$f":"'RESULTS DATA'!D44","v":-1E-3},{"$f":"'RESULTS DATA'!E44","v":-1E-3},null,{"$f":"SEED!D7","v":" Block 1 Player 1"},{"$f":"'RESULTS DATA'!D64","v":-1E-3},{"$f":"'RESULTS DATA'!E64","v":-1E-3},null,{"$f":"SEED!D7","v":" Block 1 Player 1"},{"$f":"'RESULTS DATA'!D84","v":-1E-3},{"$f":"'RESULTS DATA'!E84","v":-1E-3},null,null,"Peel LU Table"]
[null,null,{"$f":"SEED!D16","v":" Block 1 Player 10"},{"$f":"'RESULTS DATA'!D5","v":-1E-3},{"$f":"'RESULTS DATA'!E5","v":-1E-3},null,{"$f":"SEED!D14","v":" Block 1 Player 8"},{"$f":"'RESULTS DATA'!D25","v":-1E-3},{"$f":"'RESULTS DATA'!E25","v":-1E-3},null,{"$f":"SEED!D12","v":" Block 1 Player 6"},{"$f":"'RESULTS DATA'!D45","v":-1E-3},{"$f":"'RESULTS DATA'!E45","v":-1E-3},null,{"$f":"SEED!D10","v":" Block 1 Player 4"},{"$f":"'RESULTS DATA'!D65","v":-1E-3},{"$f":"'RESULTS DATA'!E65","v":-1E-3},null,{"$f":"SEED!D8","v":" Block 1 Player 2"},{"$f":"'RESULTS DATA'!D85","v":-1E-3},{"$f":"'RESULTS DATA'!E85","v":-1E-3},null,null,"tp"]
[null,null,{"$f":"SEED!D8","v":" Block 1 Player 2"},{"$f":"'RESULTS DATA'!D6","v":-1E-3},{"$f":"'RESULTS DATA'!E6","v":-1E-3},null,{"$f":"SEED!D13","v":" Block 1 Player 7"},{"$f":"'RESULTS DATA'!D26","v":-1E-3},{"$f":"'RESULTS DATA'!E26","v":-1E-3},null,{"$f":"SEED!D11","v":" Block 1 Player 5"},{"$f":"'RESULTS DATA'!D46","v":-1E-3},{"$f":"'RESULTS DATA'!E46","v":-1E-3},null,{"$f":"SEED!D11","v":" Block 1 Player 5"},{"$f":"'RESULTS DATA'!D66","v":-1E-3},{"$f":"'RESULTS DATA'!E66","v":-1E-3},null,{"$f":"SEED!D16","v":" Block 1 Player 10"},{"$f":"'RESULTS DATA'!D86","v":-1E-3},{"$f":"'RESULTS DATA'!E86","v":-1E-3},null,null,"stp"]
[null,null,{"$f":"SEED!D15","v":" Block 1 Player 9"},{"$f":"'RESULTS DATA'!D7","v":-1E-3},{"$f":"'RESULTS DATA'!E7","v":-1E-3},null,{"$f":"SEED!D15","v":" Block 1 Player 9"},{"$f":"'RESULTS DATA'!D27","v":-1E-3},{"$f":"'RESULTS DATA'!E27","v":-1E-3},null,{"$f":"SEED!D13","v":" Block 1 Player 7"},{"$f":"'RESULTS DATA'!D47","v":-1E-3},{"$f":"'RESULTS DATA'!E47","v":-1E-3},null,{"$f":"SEED!D9","v":" Block 1 Player 3"},{"$f":"'RESULTS DATA'!D67","v":-1E-3},{"$f":"'RESULTS DATA'!E67","v":-1E-3},null,{"$f":"SEED!D9","v":" Block 1 Player 3"},{"$f":"'RESULTS DATA'!D87","v":-1E-3},{"$f":"'RESULTS DATA'!E87","v":-1E-3},null,null,"stop"]
[null,null,{"$f":"SEED!D9","v":" Block 1 Player 3"},{"$f":"'RESULTS DATA'!D8","v":-1E-3},{"$f":"'RESULTS DATA'!E8","v":-1E-3},null,{"$f":"SEED!D12","v":" Block 1 Player 6"},{"$f":"'RESULTS DATA'!D28","v":-1E-3},{"$f":"'RESULTS DATA'!E28","v":-1E-3},null,{"$f":"SEED!D10","v":" Block 1 Player 4"},{"$f":"'RESULTS DATA'!D48","v":-1E-3},{"$f":"'RESULTS DATA'!E48","v":-1E-3},null,{"$f":"SEED!D8","v":" Block 1 Player 2"},{"$f":"'RESULTS DATA'!D68","v":-1E-3},{"$f":"'RESULTS DATA'!E68","v":-1E-3},null,{"$f":"SEED!D15","v":" Block 1 Player 9"},{"$f":"'RESULTS DATA'!D88","v":-1E-3},{"$f":"'RESULTS DATA'!E88","v":-1E-3},null,null,"tpo"]
[null,null,{"$f":"SEED!D14","v":" Block 1 Player 8"},{"$f":"'RESULTS DATA'!D9","v":-1E-3},{"$f":"'RESULTS DATA'!E9","v":-1E-3},null,{"$f":"SEED!D16","v":" Block 1 Player 10"},{"$f":"'RESULTS DATA'!D29","v":-1E-3},{"$f":"'RESULTS DATA'!E29","v":-1E-3},null,{"$f":"SEED!D14","v":" Block 1 Player 8"},{"$f":"'RESULTS DATA'!D49","v":-1E-3},{"$f":"'RESULTS DATA'!E49","v":-1E-3},null,{"$f":"SEED!D12","v":" Block 1 Player 6"},{"$f":"'RESULTS DATA'!D69","v":-1E-3},{"$f":"'RESULTS DATA'!E69","v":-1E-3},null,{"$f":"SEED!D10","v":" Block 1 Player 4"},{"$f":"'RESULTS DATA'!D89","v":-1E-3},{"$f":"'RESULTS DATA'!E89","v":-1E-3},null,null,"otp"]
[null,null,{"$f":"SEED!D10","v":" Block 1 Player 4"},{"$f":"'RESULTS DATA'!D10","v":-1E-3},{"$f":"'RESULTS DATA'!E10","v":-1E-3},null,{"$f":"SEED!D11","v":" Block 1 Player 5"},{"$f":"'RESULTS DATA'!D30","v":-1E-3},{"$f":"'RESULTS DATA'!E30","v":-1E-3},null,{"$f":"SEED!D9","v":" Block 1 Player 3"},{"$f":"'RESULTS DATA'!D50","v":-1E-3},{"$f":"'RESULTS DATA'!E50","v":-1E-3},null,{"$f":"SEED!D16","v":" Block 1 Player 10"},{"$f":"'RESULTS DATA'!D70","v":-1E-3},{"$f":"'RESULTS DATA'!E70","v":-1E-3},null,{"$f":"SEED!D14","v":" Block 1 Player 8"},{"$f":"'RESULTS DATA'!D90","v":-1E-3},{"$f":"'RESULTS DATA'!E90","v":-1E-3},null,null,"oqp"]
[null,null,{"$f":"SEED!D13","v":" Block 1 Player 7"},{"$f":"'RESULTS DATA'!D11","v":-1E-3},{"$f":"'RESULTS DATA'!E11","v":-1E-3},null,{"$f":"SEED!D8","v":" Block 1 Player 2"},{"$f":"'RESULTS DATA'!D31","v":-1E-3},{"$f":"'RESULTS DATA'!E31","v":-1E-3},null,{"$f":"SEED!D15","v":" Block 1 Player 9"},{"$f":"'RESULTS DATA'!D51","v":-1E-3},{"$f":"'RESULTS DATA'!E51","v":-1E-3},null,{"$f":"SEED!D13","v":" Block 1 Player 7"},{"$f":"'RESULTS DATA'!D71","v":-1E-3},{"$f":"'RESULTS DATA'!E71","v":-1E-3},null,{"$f":"SEED!D11","v":" Block 1 Player 5"},{"$f":"'RESULTS DATA'!D91","v":-1E-3},{"$f":"'RESULTS DATA'!E91","v":-1E-3},null,null,"qp"]
[null,null,{"$f":"SEED!D11","v":" Block 1 Player 5"},{"$f":"'RESULTS DATA'!D12","v":-1E-3},{"$f":"'RESULTS DATA'!E12","v":-1E-3},null,{"$f":"SEED!D10","v":" Block 1 Player 4"},{"$f":"'RESULTS DATA'!D32","v":-1E-3},{"$f":"'RESULTS DATA'!E32","v":-1E-3},null,{"$f":"SEED!D8","v":" Block 1 Player 2"},{"$f":"'RESULTS DATA'!D52","v":-1E-3},{"$f":"'RESULTS DATA'!E52","v":-1E-3},null,{"$f":"SEED!D15","v":" Block 1 Player 9"},{"$f":"'RESULTS DATA'!D72","v":-1E-3},{"$f":"'RESULTS DATA'!E72","v":-1E-3},null,{"$f":"SEED!D13","v":" Block 1 Player 7"},{"$f":"'RESULTS DATA'!D92","v":-1E-3},{"$f":"'RESULTS DATA'!E92","v":-1E-3},null,null,"qpo"]
[null,null,{"$f":"SEED!D12","v":" Block 1 Player 6"},{"$f":"'RESULTS DATA'!D13","v":-1E-3},{"$f":"'RESULTS DATA'!E13","v":-1E-3},null,{"$f":"SEED!D9","v":" Block 1 Player 3"},{"$f":"'RESULTS DATA'!D33","v":-1E-3},{"$f":"'RESULTS DATA'!E33","v":-1E-3},null,{"$f":"SEED!D16","v":" Block 1 Player 10"},{"$f":"'RESULTS DATA'!D53","v":-1E-3},{"$f":"'RESULTS DATA'!E53","v":-1E-3},null,{"$f":"SEED!D14","v":" Block 1 Player 8"},{"$f":"'RESULTS DATA'!D73","v":-1E-3},{"$f":"'RESULTS DATA'!E73","v":-1E-3},null,{"$f":"SEED!D12","v":" Block 1 Player 6"},{"$f":"'RESULTS DATA'!D93","v":-1E-3},{"$f":"'RESULTS DATA'!E93","v":-1E-3},null,null,"sqp"]
[null,null,{"$f":"SEED!D7","v":" Block 1 Player 1"},{"$f":"'RESULTS DATA'!D14","v":-1E-3},{"$f":"'RESULTS DATA'!E14","v":-1E-3},null,{"$f":"SEED!D7","v":" Block 1 Player 1"},{"$f":"'RESULTS DATA'!D34","v":-1E-3},{"$f":"'RESULTS DATA'!E34","v":-1E-3},null,{"$f":"SEED!D7","v":" Block 1 Player 1"},{"$f":"'RESULTS DATA'!D54","v":-1E-3},{"$f":"'RESULTS DATA'!E54","v":-1E-3},null,{"$f":"SEED!D7","v":" Block 1 Player 1"},{"$f":"'RESULTS DATA'!D74","v":-1E-3},{"$f":"'RESULTS DATA'!E74","v":-1E-3},null,null,null,null,null,null,"oqnp"]
[null,null,{"$f":"SEED!D15","v":" Block 1 Player 9"},{"$f":"'RESULTS DATA'!D15","v":-1E-3},{"$f":"'RESULTS DATA'!E15","v":-1E-3},null,{"$f":"SEED!D13","v":" Block 1 Player 7"},{"$f":"'RESULTS DATA'!D35","v":-1E-3},{"$f":"'RESULTS DATA'!E35","v":-1E-3},null,{"$f":"SEED!D11","v":" Block 1 Player 5"},{"$f":"'RESULTS DATA'!D55","v":-1E-3},{"$f":"'RESULTS DATA'!E55","v":-1E-3},null,{"$f":"SEED!D9","v":" Block 1 Player 3"},{"$f":"'RESULTS DATA'!D75","v":-1E-3},{"$f":"'RESULTS DATA'!E75","v":-1E-3},null,null,null,null,null,null,"qnp"]
[null,null,{"$f":"SEED!D14","v":" Block 1 Player 8"},{"$f":"'RESULTS DATA'!D16","v":-1E-3},{"$f":"'RESULTS DATA'!E16","v":-1E-3},null,{"$f":"SEED!D12","v":" Block 1 Player 6"},{"$f":"'RESULTS DATA'!D36","v":-1E-3},{"$f":"'RESULTS DATA'!E36","v":-1E-3},null,{"$f":"SEED!D10","v":" Block 1 Player 4"},{"$f":"'RESULTS DATA'!D56","v":-1E-3},{"$f":"'RESULTS DATA'!E56","v":-1E-3},null,{"$f":"SEED!D8","v":" Block 1 Player 2"},{"$f":"'RESULTS DATA'!D76","v":-1E-3},{"$f":"'RESULTS DATA'!E76","v":-1E-3},null,null,null,null,null,null,"qnpo"]
[null,null,{"$f":"SEED!D16","v":" Block 1 Player 10"},{"$f":"'RESULTS DATA'!D17","v":-1E-3},{"$f":"'RESULTS DATA'!E17","v":-1E-3},null,{"$f":"SEED!D14","v":" Block 1 Player 8"},{"$f":"'RESULTS DATA'!D37","v":-1E-3},{"$f":"'RESULTS DATA'!E37","v":-1E-3},null,{"$f":"SEED!D12","v":" Block 1 Player 6"},{"$f":"'RESULTS DATA'!D57","v":-1E-3},{"$f":"'RESULTS DATA'!E57","v":-1E-3},null,{"$f":"SEED!D10","v":" Block 1 Player 4"},{"$f":"'RESULTS DATA'!D77","v":-1E-3},{"$f":"'RESULTS DATA'!E77","v":-1E-3},null,null,null,null,null,null,"osxp"]
[null,null,{"$f":"SEED!D13","v":" Block 1 Player 7"},{"$f":"'RESULTS DATA'!D18","v":-1E-3},{"$f":"'RESULTS DATA'!E18","v":-1E-3},null,{"$f":"SEED!D11","v":" Block 1 Player 5"},{"$f":"'RESULTS DATA'!D38","v":-1E-3},{"$f":"'RESULTS DATA'!E38","v":-1E-3},null,{"$f":"SEED!D9","v":" Block 1 Player 3"},{"$f":"'RESULTS DATA'!D58","v":-1E-3},{"$f":"'RESULTS DATA'!E58","v":-1E-3},null,{"$f":"SEED!D16","v":" Block 1 Player 10"},{"$f":"'RESULTS DATA'!D78","v":-1E-3},{"$f":"'RESULTS DATA'!E78","v":-1E-3},null,null,null,null,null,null,"sxp"]
[null,null,{"$f":"SEED!D8","v":" Block 1 Player 2"},{"$f":"'RESULTS DATA'!D19","v":-1E-3},{"$f":"'RESULTS DATA'!E19","v":-1E-3},null,{"$f":"SEED!D15","v":" Block 1 Player 9"},{"$f":"'RESULTS DATA'!D39","v":-1E-3},{"$f":"'RESULTS DATA'!E39","v":-1E-3},null,{"$f":"SEED!D13","v":" Block 1 Player 7"},{"$f":"'RESULTS DATA'!D59","v":-1E-3},{"$f":"'RESULTS DATA'!E59","v":-1E-3},null,{"$f":"SEED!D11","v":" Block 1 Player 5"},{"$f":"'RESULTS DATA'!D79","v":-1E-3},{"$f":"'RESULTS DATA'!E79","v":-1E-3},null,null,null,null,null,null,"ssxp"]
[null,null,{"$f":"SEED!D12","v":" Block 1 Player 6"},{"$f":"'RESULTS DATA'!D20","v":-1E-3},{"$f":"'RESULTS DATA'!E20","v":-1E-3},null,{"$f":"SEED!D10","v":" Block 1 Player 4"},{"$f":"'RESULTS DATA'!D40","v":-1E-3},{"$f":"'RESULTS DATA'!E40","v":-1E-3},null,{"$f":"SEED!D8","v":" Block 1 Player 2"},{"$f":"'RESULTS DATA'!D60","v":-1E-3},{"$f":"'RESULTS DATA'!E60","v":-1E-3},null,{"$f":"SEED!D15","v":" Block 1 Player 9"},{"$f":"'RESULTS DATA'!D80","v":-1E-3},{"$f":"'RESULTS DATA'!E80","v":-1E-3},null,null,null,null,null,null,"sxpo"]
[null,null,{"$f":"SEED!D9","v":" Block 1 Player 3"},{"$f":"'RESULTS DATA'!D21","v":-1E-3},{"$f":"'RESULTS DATA'!E21","v":-1E-3},null,{"$f":"SEED!D16","v":" Block 1 Player 10"},{"$f":"'RESULTS DATA'!D41","v":-1E-3},{"$f":"'RESULTS DATA'!E41","v":-1E-3},null,{"$f":"SEED!D14","v":" Block 1 Player 8"},{"$f":"'RESULTS DATA'!D61","v":-1E-3},{"$f":"'RESULTS DATA'!E61","v":-1E-3},null,{"$f":"SEED!D12","v":" Block 1 Player 6"},{"$f":"'RESULTS DATA'!D81","v":-1E-3},{"$f":"'RESULTS DATA'!E81","v":-1E-3},null,null,null,null,null,null,"spp"]
[null,null,{"$f":"SEED!D11","v":" Block 1 Player 5"},{"$f":"'RESULTS DATA'!D22","v":-1E-3},{"$f":"'RESULTS DATA'!E22","v":-1E-3},null,{"$f":"SEED!D9","v":" Block 1 Player 3"},{"$f":"'RESULTS DATA'!D42","v":-1E-3},{"$f":"'RESULTS DATA'!E42","v":-1E-3},null,{"$f":"SEED!D16","v":" Block 1 Player 10"},{"$f":"'RESULTS DATA'!D62","v":-1E-3},{"$f":"'RESULTS DATA'!E62","v":-1E-3},null,{"$f":"SEED!D14","v":" Block 1 Player 8"},{"$f":"'RESULTS DATA'!D82","v":-1E-3},{"$f":"'RESULTS DATA'!E82","v":-1E-3},null,null,null,null,null,null,"octp"]
[null,null,{"$f":"SEED!D10","v":" Block 1 Player 4"},{"$f":"'RESULTS DATA'!D23","v":-1E-3},{"$f":"'RESULTS DATA'!E23","v":-1E-3},null,{"$f":"SEED!D8","v":" Block 1 Player 2"},{"$f":"'RESULTS DATA'!D43","v":-1E-3},{"$f":"'RESULTS DATA'!E43","v":-1E-3},null,{"$f":"SEED!D15","v":" Block 1 Player 9"},{"$f":"'RESULTS DATA'!D63","v":-1E-3},{"$f":"'RESULTS DATA'!E63","v":-1E-3},null,{"$f":"SEED!D13","v":" Block 1 Player 7"},{"$f":"'RESULTS DATA'!D83","v":-1E-3},{"$f":"'RESULTS DATA'!E83","v":-1E-3},null,null,null,null,null,null,"nnp"]
[null,null,null,null,null,null,null,null,null,null,null,null,null,null,null,null,null,null,null,null,null,null,null,"dcp"]
[]
[null,null,null,null,null,null,null,null,null,null,null,null,null,null,null,null,null,null,null,null,null,null,"FirstTime","YES"]
[null,{"$f":"GAMES!E50","v":"BLOCK 2"},null,null,null,{"$f":"GAMES!B49","v":0},null,null,null,null,null,null,null,null,null,null,null,null,null,null,null,null,"NumberOfBlocks",2]
[null,null,{"$f":"SEED!J7","v":" Block 2 Player 1"},{"$f":"'RESULTS DATA'!H4","v":-1E-3},{"$f":"'RESULTS DATA'!I4","v":-1E-3},null,{"$f":"SEED!J7","v":" Block 2 Player 1"},{"$f":"'RESULTS DATA'!H24","v":-1E-3},{"$f":"'RESULTS DATA'!I24","v":-1E-3},null,{"$f":"SEED!J7","v":" Block 2 Player 1"},{"$f":"'RESULTS DATA'!H44","v":-1E-3},{"$f":"'RESULTS DATA'!I44","v":-1E-3},null,{"$f":"SEED!J7","v":" Block 2 Player 1"},{"$f":"'RESULTS DATA'!H64","v":-1E-3},{"$f":"'RESULTS DATA'!I64","v":-1E-3},null,{"$f":"SEED!J7","v":" Block 2 Player 1"},{"$f":"'RESULTS DATA'!H84","v":-1E-3},{"$f":"'RESULTS DATA'!I84","v":-1E-3}]
[null,null,{"$f":"SEED!J16","v":" Block 2 Player 10"},{"$f":"'RESULTS DATA'!H5","v":-1E-3},{"$f":"'RESULTS DATA'!I5","v":-1E-3},null,{"$f":"SEED!J14","v":" Block 2 Player 8"},{"$f":"'RESULTS DATA'!H25","v":-1E-3},{"$f":"'RESULTS DATA'!I25","v":-1E-3},null,{"$f":"SEED!J12","v":" Block 2 Player 6"},{"$f":"'RESULTS DATA'!H45","v":-1E-3},{"$f":"'RESULTS DATA'!I45","v":-1E-3},null,{"$f":"SEED!J10","v":" Block 2 Player 4"},{"$f":"'RESULTS DATA'!H65","v":-1E-3},{"$f":"'RESULTS DATA'!I65","v":-1E-3},null,{"$f":"SEED!J8","v":" Block 2 Player 2"},{"$f":"'RESULTS DATA'!H85","v":-1E-3},{"$f":"'RESULTS DATA'!I85","v":-1E-3}]
[null,null,{"$f":"SEED!J8","v":" Block 2 Player 2"},{"$f":"'RESULTS DATA'!H6","v":-1E-3},{"$f":"'RESULTS DATA'!I6","v":-1E-3},null,{"$f":"SEED!J13","v":" Block 2 Player 7"},{"$f":"'RESULTS DATA'!H26","v":-1E-3},{"$f":"'RESULTS DATA'!I26","v":-1E-3},null,{"$f":"SEED!J11","v":" Block 2 Player 5"},{"$f":"'RESULTS DATA'!H46","v":-1E-3},{"$f":"'RESULTS DATA'!I46","v":-1E-3},null,{"$f":"SEED!J11","v":" Block 2 Player 5"},{"$f":"'RESULTS DATA'!H66","v":-1E-3},{"$f":"'RESULTS DATA'!I66","v":-1E-3},null,{"$f":"SEED!J16","v":" Block 2 Player 10"},{"$f":"'RESULTS DATA'!H86","v":-1E-3},{"$f":"'RESULTS DATA'!I86","v":-1E-3}]
[null,null,{"$f":"SEED!J15","v":" Block 2 Player 9"},{"$f":"'RESULTS DATA'!H7","v":-1E-3},{"$f":"'RESULTS DATA'!I7","v":-1E-3},null,{"$f":"SEED!J15","v":" Block 2 Player 9"},{"$f":"'RESULTS DATA'!H27","v":-1E-3},{"$f":"'RESULTS DATA'!I27","v":-1E-3},null,{"$f":"SEED!J13","v":" Block 2 Player 7"},{"$f":"'RESULTS DATA'!H47","v":-1E-3},{"$f":"'RESULTS DATA'!I47","v":-1E-3},null,{"$f":"SEED!J9","v":" Block 2 Player 3"},{"$f":"'RESULTS DATA'!H67","v":-1E-3},{"$f":"'RESULTS DATA'!I67","v":-1E-3},null,{"$f":"SEED!J9","v":" Block 2 Player 3"},{"$f":"'RESULTS DATA'!H87","v":-1E-3},{"$f":"'RESULTS DATA'!I87","v":-1E-3}]
[null,null,{"$f":"SEED!J9","v":" Block 2 Player 3"},{"$f":"'RESULTS DATA'!H8","v":-1E-3},{"$f":"'RESULTS DATA'!I8","v":-1E-3},null,{"$f":"SEED!J12","v":" Block 2 Player 6"},{"$f":"'RESULTS DATA'!H28","v":-1E-3},{"$f":"'RESULTS DATA'!I28","v":-1E-3},null,{"$f":"SEED!J10","v":" Block 2 Player 4"},{"$f":"'RESULTS DATA'!H48","v":-1E-3},{"$f":"'RESULTS DATA'!I48","v":-1E-3},null,{"$f":"SEED!J8","v":" Block 2 Player 2"},{"$f":"'RESULTS DATA'!H68","v":-1E-3},{"$f":"'RESULTS DATA'!I68","v":-1E-3},null,{"$f":"SEED!J15","v":" Block 2 Player 9"},{"$f":"'RESULTS DATA'!H88","v":-1E-3},{"$f":"'RESULTS DATA'!I88","v":-1E-3}]
[null,null,{"$f":"SEED!J14","v":" Block 2 Player 8"},{"$f":"'RESULTS DATA'!H9","v":-1E-3},{"$f":"'RESULTS DATA'!I9","v":-1E-3},null,{"$f":"SEED!J16","v":" Block 2 Player 10"},{"$f":"'RESULTS DATA'!H29","v":-1E-3},{"$f":"'RESULTS DATA'!I29","v":-1E-3},null,{"$f":"SEED!J14","v":" Block 2 Player 8"},{"$f":"'RESULTS DATA'!H49","v":-1E-3},{"$f":"'RESULTS DATA'!I49","v":-1E-3},null,{"$f":"SEED!J12","v":" Block 2 Player 6"},{"$f":"'RESULTS DATA'!H69","v":-1E-3},{"$f":"'RESULTS DATA'!I69","v":-1E-3},null,{"$f":"SEED!J10","v":" Block 2 Player 4"},{"$f":"'RESULTS DATA'!H89","v":-1E-3},{"$f":"'RESULTS DATA'!I89","v":-1E-3}]
[null,null,{"$f":"SEED!J10","v":" Block 2 Player 4"},{"$f":"'RESULTS DATA'!H10","v":-1E-3},{"$f":"'RESULTS DATA'!I10","v":-1E-3},null,{"$f":"SEED!J11","v":" Block 2 Player 5"},{"$f":"'RESULTS DATA'!H30","v":-1E-3},{"$f":"'RESULTS DATA'!I30","v":-1E-3},null,{"$f":"SEED!J9","v":" Block 2 Player 3"},{"$f":"'RESULTS DATA'!H50","v":-1E-3},{"$f":"'RESULTS DATA'!I50","v":-1E-3},null,{"$f":"SEED!J16","v":" Block 2 Player 10"},{"$f":"'RESULTS DATA'!H70","v":-1E-3},{"$f":"'RESULTS DATA'!I70","v":-1E-3},null,{"$f":"SEED!J14","v":" Block 2 Player 8"},{"$f":"'RESULTS DATA'!H90","v":-1E-3},{"$f":"'RESULTS DATA'!I90","v":-1E-3}]
[null,null,{"$f":"SEED!J13","v":" Block 2 Player 7"},{"$f":"'RESULTS DATA'!H11","v":-1E-3},{"$f":"'RESULTS DATA'!I11","v":-1E-3},null,{"$f":"SEED!J8","v":" Block 2 Player 2"},{"$f":"'RESULTS DATA'!H31","v":-1E-3},{"$f":"'RESULTS DATA'!I31","v":-1E-3},null,{"$f":"SEED!J15","v":" Block 2 Player 9"},{"$f":"'RESULTS DATA'!H51","v":-1E-3},{"$f":"'RESULTS DATA'!I51","v":-1E-3},null,{"$f":"SEED!J13","v":" Block 2 Player 7"},{"$f":"'RESULTS DATA'!H71","v":-1E-3},{"$f":"'RESULTS DATA'!I71","v":-1E-3},null,{"$f":"SEED!J11","v":" Block 2 Player 5"},{"$f":"'RESULTS DATA'!H91","v":-1E-3},{"$f":"'RESULTS DATA'!I91","v":-1E-3}]
[null,null,{"$f":"SEED!J11","v":" Block 2 Player 5"},{"$f":"'RESULTS DATA'!H12","v":-1E-3},{"$f":"'RESULTS DATA'!I12","v":-1E-3},null,{"$f":"SEED!J10","v":" Block 2 Player 4"},{"$f":"'RESULTS DATA'!H32","v":-1E-3},{"$f":"'RESULTS DATA'!I32","v":-1E-3},null,{"$f":"SEED!J8","v":" Block 2 Player 2"},{"$f":"'RESULTS DATA'!H52","v":-1E-3},{"$f":"'RESULTS DATA'!I52","v":-1E-3},null,{"$f":"SEED!J15","v":" Block 2 Player 9"},{"$f":"'RESULTS DATA'!H72","v":-1E-3},{"$f":"'RESULTS DATA'!I72","v":-1E-3},null,{"$f":"SEED!J13","v":" Block 2 Player 7"},{"$f":"'RESULTS DATA'!H92","v":-1E-3},{"$f":"'RESULTS DATA'!I92","v":-1E-3}]
[null,null,{"$f":"SEED!J12","v":" Block 2 Player 6"},{"$f":"'RESULTS DATA'!H13","v":-1E-3},{"$f":"'RESULTS DATA'!I13","v":-1E-3},null,{"$f":"SEED!J9","v":" Block 2 Player 3"},{"$f":"'RESULTS DATA'!H33","v":-1E-3},{"$f":"'RESULTS DATA'!I33","v":-1E-3},null,{"$f":"SEED!J16","v":" Block 2 Player 10"},{"$f":"'RESULTS DATA'!H53","v":-1E-3},{"$f":"'RESULTS DATA'!I53","v":-1E-3},null,{"$f":"SEED!J14","v":" Block 2 Player 8"},{"$f":"'RESULTS DATA'!H73","v":-1E-3},{"$f":"'RESULTS DATA'!I73","v":-1E-3},null,{"$f":"SEED!J12","v":" Block 2 Player 6"},{"$f":"'RESULTS DATA'!H93","v":-1E-3},{"$f":"'RESULTS DATA'!I93","v":-1E-3}]
[null,null,{"$f":"SEED!J7","v":" Block 2 Player 1"},{"$f":"'RESULTS DATA'!H14","v":-1E-3},{"$f":"'RESULTS DATA'!I14","v":-1E-3},null,{"$f":"SEED!J7","v":" Block 2 Player 1"},{"$f":"'RESULTS DATA'!H34","v":-1E-3},{"$f":"'RESULTS DATA'!I34","v":-1E-3},null,{"$f":"SEED!J7","v":" Block 2 Player 1"},{"$f":"'RESULTS DATA'!H54","v":-1E-3},{"$f":"'RESULTS DATA'!I54","v":-1E-3},null,{"$f":"SEED!J7","v":" Block 2 Player 1"},{"$f":"'RESULTS DATA'!H74","v":-1E-3},{"$f":"'RESULTS DATA'!I74","v":-1E-3}]
[null,null,{"$f":"SEED!J15","v":" Block 2 Player 9"},{"$f":"'RESULTS DATA'!H15","v":-1E-3},{"$f":"'RESULTS DATA'!I15","v":-1E-3},null,{"$f":"SEED!J13","v":" Block 2 Player 7"},{"$f":"'RESULTS DATA'!H35","v":-1E-3},{"$f":"'RESULTS DATA'!I35","v":-1E-3},null,{"$f":"SEED!J11","v":" Block 2 Player 5"},{"$f":"'RESULTS DATA'!H55","v":-1E-3},{"$f":"'RESULTS DATA'!I55","v":-1E-3},null,{"$f":"SEED!J9","v":" Block 2 Player 3"},{"$f":"'RESULTS DATA'!H75","v":-1E-3},{"$f":"'RESULTS DATA'!I75","v":-1E-3}]
[null,null,{"$f":"SEED!J14","v":" Block 2 Player 8"},{"$f":"'RESULTS DATA'!H16","v":-1E-3},{"$f":"'RESULTS DATA'!I16","v":-1E-3},null,{"$f":"SEED!J12","v":" Block 2 Player 6"},{"$f":"'RESULTS DATA'!H36","v":-1E-3},{"$f":"'RESULTS DATA'!I36","v":-1E-3},null,{"$f":"SEED!J10","v":" Block 2 Player 4"},{"$f":"'RESULTS DATA'!H56","v":-1E-3},{"$f":"'RESULTS DATA'!I56","v":-1E-3},null,{"$f":"SEED!J8","v":" Block 2 Player 2"},{"$f":"'RESULTS DATA'!H76","v":-1E-3},{"$f":"'RESULTS DATA'!I76","v":-1E-3}]
[null,null,{"$f":"SEED!J16","v":" Block 2 Player 10"},{"$f":"'RESULTS DATA'!H17","v":-1E-3},{"$f":"'RESULTS DATA'!I17","v":-1E-3},null,{"$f":"SEED!J14","v":" Block 2 Player 8"},{"$f":"'RESULTS DATA'!H37","v":-1E-3},{"$f":"'RESULTS DATA'!I37","v":-1E-3},null,{"$f":"SEED!J12","v":" Block 2 Player 6"},{"$f":"'RESULTS DATA'!H57","v":-1E-3},{"$f":"'RESULTS DATA'!I57","v":-1E-3},null,{"$f":"SEED!J10","v":" Block 2 Player 4"},{"$f":"'RESULTS DATA'!H77","v":-1E-3},{"$f":"'RESULTS DATA'!I77","v":-1E-3}]
[null,null,{"$f":"SEED!J13","v":" Block 2 Player 7"},{"$f":"'RESULTS DATA'!H18","v":-1E-3},{"$f":"'RESULTS DATA'!I18","v":-1E-3},null,{"$f":"SEED!J11","v":" Block 2 Player 5"},{"$f":"'RESULTS DATA'!H38","v":-1E-3},{"$f":"'RESULTS DATA'!I38","v":-1E-3},null,{"$f":"SEED!J9","v":" Block 2 Player 3"},{"$f":"'RESULTS DATA'!H58","v":-1E-3},{"$f":"'RESULTS DATA'!I58","v":-1E-3},null,{"$f":"SEED!J16","v":" Block 2 Player 10"},{"$f":"'RESULTS DATA'!H78","v":-1E-3},{"$f":"'RESULTS DATA'!I78","v":-1E-3}]
[null,null,{"$f":"SEED!J8","v":" Block 2 Player 2"},{"$f":"'RESULTS DATA'!H19","v":-1E-3},{"$f":"'RESULTS DATA'!I19","v":-1E-3},null,{"$f":"SEED!J15","v":" Block 2 Player 9"},{"$f":"'RESULTS DATA'!H39","v":-1E-3},{"$f":"'RESULTS DATA'!I39","v":-1E-3},null,{"$f":"SEED!J13","v":" Block 2 Player 7"},{"$f":"'RESULTS DATA'!H59","v":-1E-3},{"$f":"'RESULTS DATA'!I59","v":-1E-3},null,{"$f":"SEED!J11","v":" Block 2 Player 5"},{"$f":"'RESULTS DATA'!H79","v":-1E-3},{"$f":"'RESULTS DATA'!I79","v":-1E-3}]
[null,null,{"$f":"SEED!J12","v":" Block 2 Player 6"},{"$f":"'RESULTS DATA'!H20","v":-1E-3},{"$f":"'RESULTS DATA'!I20","v":-1E-3},null,{"$f":"SEED!J10","v":" Block 2 Player 4"},{"$f":"'RESULTS DATA'!H40","v":-1E-3},{"$f":"'RESULTS DATA'!I40","v":-1E-3},null,{"$f":"SEED!J8","v":" Block 2 Player 2"},{"$f":"'RESULTS DATA'!H60","v":-1E-3},{"$f":"'RESULTS DATA'!I60","v":-1E-3},null,{"$f":"SEED!J15","v":" Block 2 Player 9"},{"$f":"'RESULTS DATA'!H80","v":-1E-3},{"$f":"'RESULTS DATA'!I80","v":-1E-3}]
[null,null,{"$f":"SEED!J9","v":" Block 2 Player 3"},{"$f":"'RESULTS DATA'!H21","v":-1E-3},{"$f":"'RESULTS DATA'!I21","v":-1E-3},null,{"$f":"SEED!J16","v":" Block 2 Player 10"},{"$f":"'RESULTS DATA'!H41","v":-1E-3},{"$f":"'RESULTS DATA'!I41","v":-1E-3},null,{"$f":"SEED!J14","v":" Block 2 Player 8"},{"$f":"'RESULTS DATA'!H61","v":-1E-3},{"$f":"'RESULTS DATA'!I61","v":-1E-3},null,{"$f":"SEED!J12","v":" Block 2 Player 6"},{"$f":"'RESULTS DATA'!H81","v":-1E-3},{"$f":"'RESULTS DATA'!I81","v":-1E-3}]
[null,null,{"$f":"SEED!J11","v":" Block 2 Player 5"},{"$f":"'RESULTS DATA'!H22","v":-1E-3},{"$f":"'RESULTS DATA'!I22","v":-1E-3},null,{"$f":"SEED!J9","v":" Block 2 Player 3"},{"$f":"'RESULTS DATA'!H42","v":-1E-3},{"$f":"'RESULTS DATA'!I42","v":-1E-3},null,{"$f":"SEED!J16","v":" Block 2 Player 10"},{"$f":"'RESULTS DATA'!H62","v":-1E-3},{"$f":"'RESULTS DATA'!I62","v":-1E-3},null,{"$f":"SEED!J14","v":" Block 2 Player 8"},{"$f":"'RESULTS DATA'!H82","v":-1E-3},{"$f":"'RESULTS DATA'!I82","v":-1E-3}]
[null,null,{"$f":"SEED!J10","v":" Block 2 Player 4"},{"$f":"'RESULTS DATA'!H23","v":-1E-3},{"$f":"'RESULTS DATA'!I23","v":-1E-3},null,{"$f":"SEED!J8","v":" Block 2 Player 2"},{"$f":"'RESULTS DATA'!H43","v":-1E-3},{"$f":"'RESULTS DATA'!I43","v":-1E-3},null,{"$f":"SEED!J15","v":" Block 2 Player 9"},{"$f":"'RESULTS DATA'!H63","v":-1E-3},{"$f":"'RESULTS DATA'!I63","v":-1E-3},null,{"$f":"SEED!J13","v":" Block 2 Player 7"},{"$f":"'RESULTS DATA'!H83","v":-1E-3},{"$f":"'RESULTS DATA'!I83","v":-1E-3}]

{"sheet":"RESULTS DATA","index":6,"n_rows":93,"n_cols":12,"rows_kept":93,"cut":false,"hidden":true,"merged":[[2,10,2,12]]}
[]
[]
[null,"BLOCK 1",null,null,null,"BLOCK 2",null,null,null,null,"TEST SCORES"]
[null,{"$f":"SEED!D7","v":" Block 1 Player 1"},{"$f":"RESULTS!C4","v":" Block 1 Player 1"},-1E-3,-1E-3,{"$f":"SEED!J7","v":" Block 2 Player 1"},{"$f":"RESULTS!C28","v":" Block 2 Player 1"},-1E-3,-1E-3,null,null,1]
[null,{"$f":"SEED!D8","v":" Block 1 Player 2"},{"$f":"RESULTS!C5","v":" Block 1 Player 10"},-1E-3,-1E-3,{"$f":"SEED!J8","v":" Block 2 Player 2"},{"$f":"RESULTS!C29","v":" Block 2 Player 10"},-1E-3,-1E-3,null,null,10]
[null,{"$f":"SEED!D9","v":" Block 1 Player 3"},{"$f":"RESULTS!C6","v":" Block 1 Player 2"},-1E-3,-1E-3,{"$f":"SEED!J9","v":" Block 2 Player 3"},{"$f":"RESULTS!C30","v":" Block 2 Player 2"},-1E-3,-1E-3,null,null,2]
[null,{"$f":"SEED!D10","v":" Block 1 Player 4"},{"$f":"RESULTS!C7","v":" Block 1 Player 9"},-1E-3,-1E-3,{"$f":"SEED!J10","v":" Block 2 Player 4"},{"$f":"RESULTS!C31","v":" Block 2 Player 9"},-1E-3,-1E-3,null,null,9]
[null,{"$f":"SEED!D11","v":" Block 1 Player 5"},{"$f":"RESULTS!C8","v":" Block 1 Player 3"},-1E-3,-1E-3,{"$f":"SEED!J11","v":" Block 2 Player 5"},{"$f":"RESULTS!C32","v":" Block 2 Player 3"},-1E-3,-1E-3,null,null,3]
[null,{"$f":"SEED!D12","v":" Block 1 Player 6"},{"$f":"RESULTS!C9","v":" Block 1 Player 8"},-1E-3,-1E-3,{"$f":"SEED!J12","v":" Block 2 Player 6"},{"$f":"RESULTS!C33","v":" Block 2 Player 8"},-1E-3,-1E-3,null,null,8]
[null,{"$f":"SEED!D13","v":" Block 1 Player 7"},{"$f":"RESULTS!C10","v":" Block 1 Player 4"},-1E-3,-1E-3,{"$f":"SEED!J13","v":" Block 2 Player 7"},{"$f":"RESULTS!C34","v":" Block 2 Player 4"},-1E-3,-1E-3,null,null,4]
[null,{"$f":"SEED!D14","v":" Block 1 Player 8"},{"$f":"RESULTS!C11","v":" Block 1 Player 7"},-1E-3,-1E-3,{"$f":"SEED!J14","v":" Block 2 Player 8"},{"$f":"RESULTS!C35","v":" Block 2 Player 7"},-1E-3,-1E-3,null,null,7]
[null,{"$f":"SEED!D15","v":" Block 1 Player 9"},{"$f":"RESULTS!C12","v":" Block 1 Player 5"},-1E-3,-1E-3,{"$f":"SEED!J15","v":" Block 2 Player 9"},{"$f":"RESULTS!C36","v":" Block 2 Player 5"},-1E-3,-1E-3,null,null,5]
[null,{"$f":"SEED!D16","v":" Block 1 Player 10"},{"$f":"RESULTS!C13","v":" Block 1 Player 6"},-1E-3,-1E-3,{"$f":"SEED!J16","v":" Block 2 Player 10"},{"$f":"RESULTS!C37","v":" Block 2 Player 6"},-1E-3,-1E-3,null,null,6]
[null,null,{"$f":"RESULTS!C14","v":" Block 1 Player 1"},-1E-3,-1E-3,null,{"$f":"RESULTS!C38","v":" Block 2 Player 1"},-1E-3,-1E-3,null,null,1]
["NumberOfGames",45,{"$f":"RESULTS!C15","v":" Block 1 Player 9"},-1E-3,-1E-3,null,{"$f":"RESULTS!C39","v":" Block 2 Player 9"},-1E-3,-1E-3,null,null,9]
["Block1Selection1",2,{"$f":"RESULTS!C16","v":" Block 1 Player 8"},-1E-3,-1E-3,2,{"$f":"RESULTS!C40","v":" Block 2 Player 8"},-1E-3,-1E-3,null,null,8]
["Block1Selection2",1,{"$f":"RESULTS!C17","v":" Block 1 Player 10"},-1E-3,-1E-3,5,{"$f":"RESULTS!C41","v":" Block 2 Player 10"},-1E-3,-1E-3,null,null,10]
["Block1Player1Name",{"$f":"INDEX(B4:B13,Block1Selection1)","v":" Block 1 Player 2"},{"$f":"RESULTS!C18","v":" Block 1 Player 7"},-1E-3,-1E-3,{"$f":"INDEX(F4:F13,Block2Selection1)","v":" Block 2 Player 2"},{"$f":"RESULTS!C42","v":" Block 2 Player 7"},-1E-3,-1E-3,null,null,7]
["Block1Player2Name",{"$f":"INDEX(B4:B13,Block1Selection2)","v":" Block 1 Player 1"},{"$f":"RESULTS!C19","v":" Block 1 Player 2"},-1E-3,-1E-3,{"$f":"INDEX(F4:F13,Block2Selection2)","v":" Block 2 Player 5"},{"$f":"RESULTS!C43","v":" Block 2 Player 2"},-1E-3,-1E-3,null,null,2]
[null,null,{"$f":"RESULTS!C20","v":" Block 1 Player 6"},-1E-3,-1E-3,null,{"$f":"RESULTS!C44","v":" Block 2 Player 6"},-1E-3,-1E-3,null,null,6]
[null,null,{"$f":"RESULTS!C21","v":" Block 1 Player 3"},-1E-3,-1E-3,null,{"$f":"RESULTS!C45","v":" Block 2 Player 3"},-1E-3,-1E-3,null,null,3]
[null,null,{"$f":"RESULTS!C22","v":" Block 1 Player 5"},-1E-3,-1E-3,null,{"$f":"RESULTS!C46","v":" Block 2 Player 5"},-1E-3,-1E-3,null,null,5]
[null,null,{"$f":"RESULTS!C23","v":" Block 1 Player 4"},-1E-3,-1E-3,null,{"$f":"RESULTS!C47","v":" Block 2 Player 4"},-1E-3,-1E-3,null,null,4]
[null,null,{"$f":"RESULTS!G4","v":" Block 1 Player 1"},-1E-3,-1E-3,null,{"$f":"RESULTS!G28","v":" Block 2 Player 1"},-1E-3,-1E-3,null,null,1]
[null,null,{"$f":"RESULTS!G5","v":" Block 1 Player 8"},-1E-3,-1E-3,null,{"$f":"RESULTS!G29","v":" Block 2 Player 8"},-1E-3,-1E-3,null,null,8]
[null,null,{"$f":"RESULTS!G6","v":" Block 1 Player 7"},-1E-3,-1E-3,null,{"$f":"RESULTS!G30","v":" Block 2 Player 7"},-1E-3,-1E-3,null,null,7]
[null,null,{"$f":"RESULTS!G7","v":" Block 1 Player 9"},-1E-3,-1E-3,null,{"$f":"RESULTS!G31","v":" Block 2 Player 9"},-1E-3,-1E-3,null,null,9]
[null,null,{"$f":"RESULTS!G8","v":" Block 1 Player 6"},-1E-3,-1E-3,null,{"$f":"RESULTS!G32","v":" Block 2 Player 6"},-1E-3,-1E-3,null,null,6]
[null,null,{"$f":"RESULTS!G9","v":" Block 1 Player 10"},-1E-3,-1E-3,null,{"$f":"RESULTS!G33","v":" Block 2 Player 10"},-1E-3,-1E-3,null,null,10]
[null,null,{"$f":"RESULTS!G10","v":" Block 1 Player 5"},-1E-3,-1E-3,null,{"$f":"RESULTS!G34","v":" Block 2 Player 5"},-1E-3,-1E-3,null,null,5]
[null,null,{"$f":"RESULTS!G11","v":" Block 1 Player 2"},-1E-3,-1E-3,null,{"$f":"RESULTS!G35","v":" Block 2 Player 2"},-1E-3,-1E-3,null,null,2]
[null,null,{"$f":"RESULTS!G12","v":" Block 1 Player 4"},-1E-3,-1E-3,null,{"$f":"RESULTS!G36","v":" Block 2 Player 4"},-1E-3,-1E-3,null,null,4]
[null,null,{"$f":"RESULTS!G13","v":" Block 1 Player 3"},-1E-3,-1E-3,null,{"$f":"RESULTS!G37","v":" Block 2 Player 3"},-1E-3,-1E-3,null,null,3]
[null,null,{"$f":"RESULTS!G14","v":" Block 1 Player 1"},-1E-3,-1E-3,null,{"$f":"RESULTS!G38","v":" Block 2 Player 1"},-1E-3,-1E-3,null,null,1]
[null,null,{"$f":"RESULTS!G15","v":" Block 1 Player 7"},-1E-3,-1E-3,null,{"$f":"RESULTS!G39","v":" Block 2 Player 7"},-1E-3,-1E-3,null,null,7]
[null,null,{"$f":"RESULTS!G16","v":" Block 1 Player 6"},-1E-3,-1E-3,null,{"$f":"RESULTS!G40","v":" Block 2 Player 6"},-1E-3,-1E-3,null,null,6]
[null,null,{"$f":"RESULTS!G17","v":" Block 1 Player 8"},-1E-3,-1E-3,null,{"$f":"RESULTS!G41","v":" Block 2 Player 8"},-1E-3,-1E-3,null,null,8]
[null,null,{"$f":"RESULTS!G18","v":" Block 1 Player 5"},-1E-3,-1E-3,null,{"$f":"RESULTS!G42","v":" Block 2 Player 5"},-1E-3,-1E-3,null,null,5]
[null,null,{"$f":"RESULTS!G19","v":" Block 1 Player 9"},-1E-3,-1E-3,null,{"$f":"RESULTS!G43","v":" Block 2 Player 9"},-1E-3,-1E-3,null,null,9]
[null,null,{"$f":"RESULTS!G20","v":" Block 1 Player 4"},-1E-3,-1E-3,null,{"$f":"RESULTS!G44","v":" Block 2 Player 4"},-1E-3,-1E-3,null,null,4]
[null,null,{"$f":"RESULTS!G21","v":" Block 1 Player 10"},-1E-3,-1E-3,null,{"$f":"RESULTS!G45","v":" Block 2 Player 10"},-1E-3,-1E-3,null,null,10]
[null,null,{"$f":"RESULTS!G22","v":" Block 1 Player 3"},-1E-3,-1E-3,null,{"$f":"RESULTS!G46","v":" Block 2 Player 3"},-1E-3,-1E-3,null,null,3]
[null,null,{"$f":"RESULTS!G23","v":" Block 1 Player 2"},-1E-3,-1E-3,null,{"$f":"RESULTS!G47","v":" Block 2 Player 2"},-1E-3,-1E-3,null,null,2]
[null,null,{"$f":"RESULTS!K4","v":" Block 1 Player 1"},-1E-3,-1E-3,null,{"$f":"RESULTS!K28","v":" Block 2 Player 1"},-1E-3,-1E-3,null,null,1]
[null,null,{"$f":"RESULTS!K5","v":" Block 1 Player 6"},-1E-3,-1E-3,null,{"$f":"RESULTS!K29","v":" Block 2 Player 6"},-1E-3,-1E-3,null,null,6]
[null,null,{"$f":"RESULTS!K6","v":" Block 1 Player 5"},-1E-3,-1E-3,null,{"$f":"RESULTS!K30","v":" Block 2 Player 5"},-1E-3,-1E-3,null,null,5]
[null,null,{"$f":"RESULTS!K7","v":" Block 1 Player 7"},-1E-3,-1E-3,null,{"$f":"RESULTS!K31","v":" Block 2 Player 7"},-1E-3,-1E-3,null,null,7]
[null,null,{"$f":"RESULTS!K8","v":" Block 1 Player 4"},-1E-3,-1E-3,null,{"$f":"RESULTS!K32","v":" Block 2 Player 4"},-1E-3,-1E-3,null,null,4]
[null,null,{"$f":"RESULTS!K9","v":" Block 1 Player 8"},-1E-3,-1E-3,null,{"$f":"RESULTS!K33","v":" Block 2 Player 8"},-1E-3,-1E-3,null,null,8]
[null,null,{"$f":"RESULTS!K10","v":" Block 1 Player 3"},-1E-3,-1E-3,null,{"$f":"RESULTS!K34","v":" Block 2 Player 3"},-1E-3,-1E-3,null,null,3]
[null,null,{"$f":"RESULTS!K11","v":" Block 1 Player 9"},-1E-3,-1E-3,null,{"$f":"RESULTS!K35","v":" Block 2 Player 9"},-1E-3,-1E-3,null,null,9]
[null,null,{"$f":"RESULTS!K12","v":" Block 1 Player 2"},-1E-3,-1E-3,null,{"$f":"RESULTS!K36","v":" Block 2 Player 2"},-1E-3,-1E-3,null,null,2]
[null,null,{"$f":"RESULTS!K13","v":" Block 1 Player 10"},-1E-3,-1E-3,null,{"$f":"RESULTS!K37","v":" Block 2 Player 10"},-1E-3,-1E-3,null,null,10]
[null,null,{"$f":"RESULTS!K14","v":" Block 1 Player 1"},-1E-3,-1E-3,null,{"$f":"RESULTS!K38","v":" Block 2 Player 1"},-1E-3,-1E-3,null,null,1]
[null,null,{"$f":"RESULTS!K15","v":" Block 1 Player 5"},-1E-3,-1E-3,null,{"$f":"RESULTS!K39","v":" Block 2 Player 5"},-1E-3,-1E-3,null,null,5]
[null,null,{"$f":"RESULTS!K16","v":" Block 1 Player 4"},-1E-3,-1E-3,null,{"$f":"RESULTS!K40","v":" Block 2 Player 4"},-1E-3,-1E-3,null,null,4]
[null,null,{"$f":"RESULTS!K17","v":" Block 1 Player 6"},-1E-3,-1E-3,null,{"$f":"RESULTS!K41","v":" Block 2 Player 6"},-1E-3,-1E-3,null,null,6]
[null,null,{"$f":"RESULTS!K18","v":" Block 1 Player 3"},-1E-3,-1E-3,null,{"$f":"RESULTS!K42","v":" Block 2 Player 3"},-1E-3,-1E-3,null,null,3]
[null,null,{"$f":"RESULTS!K19","v":" Block 1 Player 7"},-1E-3,-1E-3,null,{"$f":"RESULTS!K43","v":" Block 2 Player 7"},-1E-3,-1E-3,null,null,7]
[null,null,{"$f":"RESULTS!K20","v":" Block 1 Player 2"},-1E-3,-1E-3,null,{"$f":"RESULTS!K44","v":" Block 2 Player 2"},-1E-3,-1E-3,null,null,2]
[null,null,{"$f":"RESULTS!K21","v":" Block 1 Player 8"},-1E-3,-1E-3,null,{"$f":"RESULTS!K45","v":" Block 2 Player 8"},-1E-3,-1E-3,null,null,8]
[null,null,{"$f":"RESULTS!K22","v":" Block 1 Player 10"},-1E-3,-1E-3,null,{"$f":"RESULTS!K46","v":" Block 2 Player 10"},-1E-3,-1E-3,null,null,10]
[null,null,{"$f":"RESULTS!K23","v":" Block 1 Player 9"},-1E-3,-1E-3,null,{"$f":"RESULTS!K47","v":" Block 2 Player 9"},-1E-3,-1E-3,null,null,9]
[null,null,{"$f":"RESULTS!O4","v":" Block 1 Player 1"},-1E-3,-1E-3,null,{"$f":"RESULTS!O28","v":" Block 2 Player 1"},-1E-3,-1E-3,null,null,1]
[null,null,{"$f":"RESULTS!O5","v":" Block 1 Player 4"},-1E-3,-1E-3,null,{"$f":"RESULTS!O29","v":" Block 2 Player 4"},-1E-3,-1E-3,null,null,4]
[null,null,{"$f":"RESULTS!O6","v":" Block 1 Player 5"},-1E-3,-1E-3,null,{"$f":"RESULTS!O30","v":" Block 2 Player 5"},-1E-3,-1E-3,null,null,5]
[null,null,{"$f":"RESULTS!O7","v":" Block 1 Player 3"},-1E-3,-1E-3,null,{"$f":"RESULTS!O31","v":" Block 2 Player 3"},-1E-3,-1E-3,null,null,3]
[null,null,{"$f":"RESULTS!O8","v":" Block 1 Player 2"},-1E-3,-1E-3,null,{"$f":"RESULTS!O32","v":" Block 2 Player 2"},-1E-3,-1E-3,null,null,2]
[null,null,{"$f":"RESULTS!O9","v":" Block 1 Player 6"},-1E-3,-1E-3,null,{"$f":"RESULTS!O33","v":" Block 2 Player 6"},-1E-3,-1E-3,null,null,6]
[null,null,{"$f":"RESULTS!O10","v":" Block 1 Player 10"},-1E-3,-1E-3,null,{"$f":"RESULTS!O34","v":" Block 2 Player 10"},-1E-3,-1E-3,null,null,10]
[null,null,{"$f":"RESULTS!O11","v":" Block 1 Player 7"},-1E-3,-1E-3,null,{"$f":"RESULTS!O35","v":" Block 2 Player 7"},-1E-3,-1E-3,null,null,7]
[null,null,{"$f":"RESULTS!O12","v":" Block 1 Player 9"},-1E-3,-1E-3,null,{"$f":"RESULTS!O36","v":" Block 2 Player 9"},-1E-3,-1E-3,null,null,9]
[null,null,{"$f":"RESULTS!O13","v":" Block 1 Player 8"},-1E-3,-1E-3,null,{"$f":"RESULTS!O37","v":" Block 2 Player 8"},-1E-3,-1E-3,null,null,8]
[null,null,{"$f":"RESULTS!O14","v":" Block 1 Player 1"},-1E-3,-1E-3,null,{"$f":"RESULTS!O38","v":" Block 2 Player 1"},-1E-3,-1E-3,null,null,1]
[null,null,{"$f":"RESULTS!O15","v":" Block 1 Player 3"},-1E-3,-1E-3,null,{"$f":"RESULTS!O39","v":" Block 2 Player 3"},-1E-3,-1E-3,null,null,3]
[null,null,{"$f":"RESULTS!O16","v":" Block 1 Player 2"},-1E-3,-1E-3,null,{"$f":"RESULTS!O40","v":" Block 2 Player 2"},-1E-3,-1E-3,null,null,2]
[null,null,{"$f":"RESULTS!O17","v":" Block 1 Player 4"},-1E-3,-1E-3,null,{"$f":"RESULTS!O41","v":" Block 2 Player 4"},-1E-3,-1E-3,null,null,4]
[null,null,{"$f":"RESULTS!O18","v":" Block 1 Player 10"},-1E-3,-1E-3,null,{"$f":"RESULTS!O42","v":" Block 2 Player 10"},-1E-3,-1E-3,null,null,10]
[null,null,{"$f":"RESULTS!O19","v":" Block 1 Player 5"},-1E-3,-1E-3,null,{"$f":"RESULTS!O43","v":" Block 2 Player 5"},-1E-3,-1E-3,null,null,5]
[null,null,{"$f":"RESULTS!O20","v":" Block 1 Player 9"},-1E-3,-1E-3,null,{"$f":"RESULTS!O44","v":" Block 2 Player 9"},-1E-3,-1E-3,null,null,9]
[null,null,{"$f":"RESULTS!O21","v":" Block 1 Player 6"},-1E-3,-1E-3,null,{"$f":"RESULTS!O45","v":" Block 2 Player 6"},-1E-3,-1E-3,null,null,6]
[null,null,{"$f":"RESULTS!O22","v":" Block 1 Player 8"},-1E-3,-1E-3,null,{"$f":"RESULTS!O46","v":" Block 2 Player 8"},-1E-3,-1E-3,null,null,8]
[null,null,{"$f":"RESULTS!O23","v":" Block 1 Player 7"},-1E-3,-1E-3,null,{"$f":"RESULTS!O47","v":" Block 2 Player 7"},-1E-3,-1E-3,null,null,7]
[null,null,{"$f":"RESULTS!S4","v":" Block 1 Player 1"},-1E-3,-1E-3,null,{"$f":"RESULTS!S28","v":" Block 2 Player 1"},-1E-3,-1E-3,null,null,1]
[null,null,{"$f":"RESULTS!S5","v":" Block 1 Player 2"},-1E-3,-1E-3,null,{"$f":"RESULTS!S29","v":" Block 2 Player 2"},-1E-3,-1E-3,null,null,2]
[null,null,{"$f":"RESULTS!S6","v":" Block 1 Player 10"},-1E-3,-1E-3,null,{"$f":"RESULTS!S30","v":" Block 2 Player 10"},-1E-3,-1E-3,null,null,10]
[null,null,{"$f":"RESULTS!S7","v":" Block 1 Player 3"},-1E-3,-1E-3,null,{"$f":"RESULTS!S31","v":" Block 2 Player 3"},-1E-3,-1E-3,null,null,3]
[null,null,{"$f":"RESULTS!S8","v":" Block 1 Player 9"},-1E-3,-1E-3,null,{"$f":"RESULTS!S32","v":" Block 2 Player 9"},-1E-3,-1E-3,null,null,9]
[null,null,{"$f":"RESULTS!S9","v":" Block 1 Player 4"},-1E-3,-1E-3,null,{"$f":"RESULTS!S33","v":" Block 2 Player 4"},-1E-3,-1E-3,null,null,4]
[null,null,{"$f":"RESULTS!S10","v":" Block 1 Player 8"},-1E-3,-1E-3,null,{"$f":"RESULTS!S34","v":" Block 2 Player 8"},-1E-3,-1E-3,null,null,8]
[null,null,{"$f":"RESULTS!S11","v":" Block 1 Player 5"},-1E-3,-1E-3,null,{"$f":"RESULTS!S35","v":" Block 2 Player 5"},-1E-3,-1E-3,null,null,5]
[null,null,{"$f":"RESULTS!S12","v":" Block 1 Player 7"},-1E-3,-1E-3,null,{"$f":"RESULTS!S36","v":" Block 2 Player 7"},-1E-3,-1E-3,null,null,7]
[null,null,{"$f":"RESULTS!S13","v":" Block 1 Player 6"},-1E-3,-1E-3,null,{"$f":"RESULTS!S37","v":" Block 2 Player 6"},-1E-3,-1E-3,null,null,6]

{"sheet":"SCORES","index":7,"n_rows":211,"n_cols":12,"rows_kept":211,"cut":false,"hidden":false,"merged":[]}
[]
[]
[]
[null,{"$f":"NAMES!$C$10 & \"   COURT \" & GAMES!D3","v":"BLOCK 1   COURT "},null,"SCORES",null,{"$f":"NAMES!$C$10 & \"   COURT \" & GAMES!D18","v":"BLOCK 1   COURT "},null,"SCORES",null,{"$f":"NAMES!$C$10 & \"   COURT \" & GAMES!D33","v":"BLOCK 1   COURT "},null,"SCORES"]
[null,{"$f":"RESULTS!C4","v":" Block 1 Player 1"},null,{"$f":"RESULTS!D4","v":-1E-3},null,{"$f":"RESULTS!G14","v":" Block 1 Player 1"},null,{"$f":"RESULTS!H14","v":-1E-3},null,{"$f":"RESULTS!O4","v":" Block 1 Player 1"},null,{"$f":"RESULTS!P4","v":-1E-3}]
[null,{"$f":"GAMES!$C$3+GAMES!B3","v":"00:00:00"},null,null,null,{"$f":"GAMES!$C$18+GAMES!B18","v":"00:00:00"},null,null,null,{"$f":"GAMES!$C$33+GAMES!B33","v":"00:00:00"}]
[null,{"$f":"RESULTS!C5","v":" Block 1 Player 10"},null,{"$f":"RESULTS!D5","v":-1E-3},null,{"$f":"RESULTS!G15","v":" Block 1 Player 7"},null,{"$f":"RESULTS!H15","v":-1E-3},null,{"$f":"RESULTS!O5","v":" Block 1 Player 4"},null,{"$f":"RESULTS!P5","v":-1E-3}]
[null,"INITIALS",null,null,null,"INITIALS",null,null,null,"INITIALS"]
[]
[]
[null,{"$f":"NAMES!$C$10 & \"   COURT \" & GAMES!D4","v":"BLOCK 1   COURT "},null,"SCORES",null,{"$f":"NAMES!$C$10 & \"   COURT \" & GAMES!D19","v":"BLOCK 1   COURT "},null,"SCORES",null,{"$f":"NAMES!$C$10 & \"   COURT \" & GAMES!D34","v":"BLOCK 1   COURT "},null,"SCORES"]
[null,{"$f":"RESULTS!C6","v":" Block 1 Player 2"},null,{"$f":"RESULTS!D6","v":-1E-3},null,{"$f":"RESULTS!G16","v":" Block 1 Player 6"},null,{"$f":"RESULTS!H16","v":-1E-3},null,{"$f":"RESULTS!O6","v":" Block 1 Player 5"},null,{"$f":"RESULTS!P6","v":-1E-3}]
[null,{"$f":"GAMES!$C$4+GAMES!B4","v":"00:00:00"},null,null,null,{"$f":"GAMES!$C$19+GAMES!B19","v":"00:00:00"},null,null,null,{"$f":"GAMES!$C$34+GAMES!B34","v":"00:00:00"}]
[null,{"$f":"RESULTS!C7","v":" Block 1 Player 9"},null,{"$f":"RESULTS!D7","v":-1E-3},null,{"$f":"RESULTS!G17","v":" Block 1 Player 8"},null,{"$f":"RESULTS!H17","v":-1E-3},null,{"$f":"RESULTS!O7","v":" Block 1 Player 3"},null,{"$f":"RESULTS!P7","v":-1E-3}]
[null,"INITIALS",null,null,null,"INITIALS",null,null,null,"INITIALS"]
[]
[]
[null,{"$f":"NAMES!$C$10 & \"   COURT \" & GAMES!D5","v":"BLOCK 1   COURT "},null,"SCORES",null,{"$f":"NAMES!$C$10 & \"   COURT \" & GAMES!D20","v":"BLOCK 1   COURT "},null,"SCORES",null,{"$f":"NAMES!$C$10 & \"   COURT \" & GAMES!D35","v":"BLOCK 1   COURT "},null,"SCORES"]
[null,{"$f":"RESULTS!C8","v":" Block 1 Player 3"},null,{"$f":"RESULTS!D8","v":-1E-3},null,{"$f":"RESULTS!G18","v":" Block 1 Player 5"},null,{"$f":"RESULTS!H18","v":-1E-3},null,{"$f":"RESULTS!O8","v":" Block 1 Player 2"},null,{"$f":"RESULTS!P8","v":-1E-3}]
[null,{"$f":"GAMES!$C$5+GAMES!B5","v":"00:00:00"},null,null,null,{"$f":"GAMES!$C$20+GAMES!B20","v":"00:00:00"},null,null,null,{"$f":"GAMES!$C$35+GAMES!B35","v":"00:00:00"}]
[null,{"$f":"RESULTS!C9","v":" Block 1 Player 8"},null,{"$f":"RESULTS!D9","v":-1E-3},null,{"$f":"RESULTS!G19","v":" Block 1 Player 9"},null,{"$f":"RESULTS!H19","v":-1E-3},null,{"$f":"RESULTS!O9","v":" Block 1 Player 6"},null,{"$f":"RESULTS!P9","v":-1E-3}]
[null,"INITIALS",null,null,null,"INITIALS",null,null,null,"INITIALS"]
[]
[]
[null,{"$f":"NAMES!$C$10 & \"   COURT \" & GAMES!D6","v":"BLOCK 1   COURT "},null,"SCORES",null,{"$f":"NAMES!$C$10 & \"   COURT \" & GAMES!D21","v":"BLOCK 1   COURT "},null,"SCORES",null,{"$f":"NAMES!$C$10 & \"   COURT \" & GAMES!D36","v":"BLOCK 1   COURT "},null,"SCORES"]
[null,{"$f":"RESULTS!C10","v":" Block 1 Player 4"},null,{"$f":"RESULTS!D10","v":-1E-3},null,{"$f":"RESULTS!G20","v":" Block 1 Player 4"},null,{"$f":"RESULTS!H20","v":-1E-3},null,{"$f":"RESULTS!O10","v":" Block 1 Player 10"},null,{"$f":"RESULTS!P10","v":-1E-3}]
[null,{"$f":"GAMES!$C$6+GAMES!B6","v":"00:00:00"},null,null,null,{"$f":"GAMES!$C$21+GAMES!B21","v":"00:00:00"},null,null,null,{"$f":"GAMES!$C$36+GAMES!$B$36","v":"00:00:00"}]
[null,{"$f":"RESULTS!C11","v":" Block 1 Player 7"},null,{"$f":"RESULTS!D11","v":-1E-3},null,{"$f":"RESULTS!G21","v":" Block 1 Player 10"},null,{"$f":"RESULTS!H21","v":-1E-3},null,{"$f":"RESULTS!O11","v":" Block 1 Player 7"},null,{"$f":"RESULTS!P11","v":-1E-3}]
[null,"INITIALS",null,null,null,"INITIALS",null,null,null,"INITIALS"]
[]
[]
[null,{"$f":"NAMES!$C$10 & \"   COURT \" & GAMES!D7","v":"BLOCK 1   COURT "},null,"SCORES",null,{"$f":"NAMES!$C$10 & \"   COURT \" & GAMES!D22","v":"BLOCK 1   COURT "},null,"SCORES",null,{"$f":"NAMES!$C$10 & \"   COURT \" & GAMES!D37","v":"BLOCK 1   COURT "},null,"SCORES"]
[null,{"$f":"RESULTS!C12","v":" Block 1 Player 5"},null,{"$f":"RESULTS!D12","v":-1E-3},null,{"$f":"RESULTS!G22","v":" Block 1 Player 3"},null,{"$f":"RESULTS!H22","v":-1E-3},null,{"$f":"RESULTS!O12","v":" Block 1 Player 9"},null,{"$f":"RESULTS!P12","v":-1E-3}]
[null,{"$f":"GAMES!$C$7+GAMES!B7","v":"00:00:00"},null,null,null,{"$f":"GAMES!$C$22+GAMES!B22","v":"00:00:00"},null,null,null,{"$f":"GAMES!$C$37+GAMES!B37","v":"00:00:00"}]
[null,{"$f":"RESULTS!C13","v":" Block 1 Player 6"},null,{"$f":"RESULTS!D13","v":-1E-3},null,{"$f":"RESULTS!G23","v":" Block 1 Player 2"},null,{"$f":"RESULTS!H23","v":-1E-3},null,{"$f":"RESULTS!O13","v":" Block 1 Player 8"},null,{"$f":"RESULTS!P13","v":-1E-3}]
[null,"INITIALS",null,null,null,"INITIALS",null,null,null,"INITIALS"]
[]
[]
[null,{"$f":"NAMES!$C$10 & \"   COURT \" & GAMES!D8","v":"BLOCK 1   COURT "},null,"SCORES",null,{"$f":"NAMES!$C$10 & \"   COURT \" & GAMES!D23","v":"BLOCK 1   COURT "},null,"SCORES",null,{"$f":"NAMES!$C$10 & \"   COURT \" & GAMES!D38","v":"BLOCK 1   COURT "},null,"SCORES"]
[null,{"$f":"RESULTS!C14","v":" Block 1 Player 1"},null,{"$f":"RESULTS!D14","v":-1E-3},null,{"$f":"RESULTS!K4","v":" Block 1 Player 1"},null,{"$f":"RESULTS!L4","v":-1E-3},null,{"$f":"RESULTS!O14","v":" Block 1 Player 1"},null,{"$f":"RESULTS!P14","v":-1E-3}]
[null,{"$f":"GAMES!$C$8+GAMES!B8","v":"00:00:00"},null,null,null,{"$f":"GAMES!$C$23+GAMES!B23","v":"00:00:00"},null,null,null,{"$f":"GAMES!$C$38+GAMES!B38","v":"00:00:00"}]
[null,{"$f":"RESULTS!C15","v":" Block 1 Player 9"},null,{"$f":"RESULTS!D15","v":-1E-3},null,{"$f":"RESULTS!K5","v":" Block 1 Player 6"},null,{"$f":"RESULTS!L5","v":-1E-3},null,{"$f":"RESULTS!O15","v":" Block 1 Player 3"},null,{"$f":"RESULTS!P15","v":-1E-3}]
[null,"INITIALS",null,null,null,"INITIALS",null,null,null,"INITIALS"]
[]
[]
[null,{"$f":"NAMES!$C$10 & \"   COURT \" & GAMES!D9","v":"BLOCK 1   COURT "},null,"SCORES",null,{"$f":"NAMES!$C$10 & \"   COURT \" & GAMES!D24","v":"BLOCK 1   COURT "},null,"SCORES",null,{"$f":"NAMES!$C$10 & \"   COURT \" & GAMES!D39","v":"BLOCK 1   COURT "},null,"SCORES"]
[null,{"$f":"RESULTS!C16","v":" Block 1 Player 8"},null,{"$f":"RESULTS!D16","v":-1E-3},null,{"$f":"RESULTS!K6","v":" Block 1 Player 5"},null,{"$f":"RESULTS!L6","v":-1E-3},null,{"$f":"RESULTS!O16","v":" Block 1 Player 2"},null,{"$f":"RESULTS!P16","v":-1E-3}]
[null,{"$f":"GAMES!$C$9+GAMES!B9","v":"00:00:00"},null,null,null,{"$f":"GAMES!$C$24+GAMES!B24","v":"00:00:00"},null,null,null,{"$f":"GAMES!$C$39+GAMES!B39","v":"00:00:00"}]
[null,{"$f":"RESULTS!C17","v":" Block 1 Player 10"},null,{"$f":"RESULTS!D17","v":-1E-3},null,{"$f":"RESULTS!K7","v":" Block 1 Player 7"},null,{"$f":"RESULTS!L7","v":-1E-3},null,{"$f":"RESULTS!O17","v":" Block 1 Player 4"},null,{"$f":"RESULTS!P17","v":-1E-3}]
[null,"INITIALS",null,null,null,"INITIALS",null,null,null,"INITIALS"]
[]
[]
[null,{"$f":"NAMES!$C$10 & \"   COURT \" & GAMES!D10","v":"BLOCK 1   COURT "},null,"SCORES",null,{"$f":"NAMES!$C$10 & \"   COURT \" & GAMES!D25","v":"BLOCK 1   COURT "},null,"SCORES",null,{"$f":"NAMES!$C$10 & \"   COURT \" & GAMES!D40","v":"BLOCK 1   COURT "},null,"SCORES"]
[null,{"$f":"RESULTS!C18","v":" Block 1 Player 7"},null,{"$f":"RESULTS!D18","v":-1E-3},null,{"$f":"RESULTS!K8","v":" Block 1 Player 4"},null,{"$f":"RESULTS!L8","v":-1E-3},null,{"$f":"RESULTS!O18","v":" Block 1 Player 10"},null,{"$f":"RESULTS!P18","v":-1E-3}]
[null,{"$f":"GAMES!$C$10+GAMES!B10","v":"00:00:00"},null,null,null,{"$f":"GAMES!$C$25+GAMES!B25","v":"00:00:00"},null,null,null,{"$f":"GAMES!$C$40+GAMES!B40","v":"00:00:00"}]
[null,{"$f":"RESULTS!C19","v":" Block 1 Player 2"},null,{"$f":"RESULTS!D19","v":-1E-3},null,{"$f":"RESULTS!K9","v":" Block 1 Player 8"},null,{"$f":"RESULTS!L9","v":-1E-3},null,{"$f":"RESULTS!O19","v":" Block 1 Player 5"},null,{"$f":"RESULTS!P19","v":-1E-3}]
[null,"INITIALS",null,null,null,"INITIALS",null,null,null,"INITIALS"]
[]
[]
[null,{"$f":"NAMES!$C$10 & \"   COURT \" & GAMES!D11","v":"BLOCK 1   COURT "},null,"SCORES",null,{"$f":"NAMES!$C$10 & \"   COURT \" & GAMES!D26","v":"BLOCK 1   COURT "},null,"SCORES",null,{"$f":"NAMES!$C$10 & \"   COURT \" & GAMES!D41","v":"BLOCK 1   COURT "},null,"SCORES"]
[null,{"$f":"RESULTS!C20","v":" Block 1 Player 6"},null,{"$f":"RESULTS!D20","v":-1E-3},null,{"$f":"RESULTS!K10","v":" Block 1 Player 3"},null,{"$f":"RESULTS!L10","v":-1E-3},null,{"$f":"RESULTS!O20","v":" Block 1 Player 9"},null,{"$f":"RESULTS!P20","v":-1E-3}]
[null,{"$f":"GAMES!$C$11+GAMES!B11","v":"00:00:00"},null,null,null,{"$f":"GAMES!$C$26+GAMES!B26","v":"00:00:00"},null,null,null,{"$f":"GAMES!$C$41+GAMES!B41","v":"00:00:00"}]
[null,{"$f":"RESULTS!C21","v":" Block 1 Player 3"},null,{"$f":"RESULTS!D21","v":-1E-3},null,{"$f":"RESULTS!K11","v":" Block 1 Player 9"},null,{"$f":"RESULTS!L11","v":-1E-3},null,{"$f":"RESULTS!O21","v":" Block 1 Player 6"},null,{"$f":"RESULTS!P21","v":-1E-3}]
[null,"INITIALS",null,null,null,"INITIALS",null,null,null,"INITIALS"]
[]
[]
[null,{"$f":"NAMES!$C$10 & \"   COURT \" & GAMES!D12","v":"BLOCK 1   COURT "},null,"SCORES",null,{"$f":"NAMES!$C$10 & \"   COURT \" & GAMES!D27","v":"BLOCK 1   COURT "},null,"SCORES",null,{"$f":"NAMES!$C$10 & \"   COURT \" & GAMES!D42","v":"BLOCK 1   COURT "},null,"SCORES"]
[null,{"$f":"RESULTS!C22","v":" Block 1 Player 5"},null,{"$f":"RESULTS!D22","v":-1E-3},null,{"$f":"RESULTS!K12","v":" Block 1 Player 2"},null,{"$f":"RESULTS!L12","v":-1E-3},null,{"$f":"RESULTS!O22","v":" Block 1 Player 8"},null,{"$f":"RESULTS!P22","v":-1E-3}]
[null,{"$f":"GAMES!$C$12+GAMES!B12","v":"00:00:00"},null,null,null,{"$f":"GAMES!$C$27+GAMES!B27","v":"00:00:00"},null,null,null,{"$f":"GAMES!$C$42+GAMES!B42","v":"00:00:00"}]
[null,{"$f":"RESULTS!C23","v":" Block 1 Player 4"},null,{"$f":"RESULTS!D23","v":-1E-3},null,{"$f":"RESULTS!K13","v":" Block 1 Player 10"},null,{"$f":"RESULTS!L13","v":-1E-3},null,{"$f":"RESULTS!O23","v":" Block 1 Player 7"},null,{"$f":"RESULTS!P23","v":-1E-3}]
[null,"INITIALS",null,null,null,"INITIALS",null,null,null,"INITIALS"]
[]
[]
[null,{"$f":"NAMES!$C$10 & \"   COURT \" & GAMES!D13","v":"BLOCK 1   COURT "},null,"SCORES",null,{"$f":"NAMES!$C$10 & \"   COURT \" & GAMES!D28","v":"BLOCK 1   COURT "},null,"SCORES",null,{"$f":"NAMES!$C$10 & \"   COURT \" & GAMES!D43","v":"BLOCK 1   COURT "},null,"SCORES"]
[null,{"$f":"RESULTS!G4","v":" Block 1 Player 1"},null,{"$f":"RESULTS!H4","v":-1E-3},null,{"$f":"RESULTS!K14","v":" Block 1 Player 1"},null,{"$f":"RESULTS!L14","v":-1E-3},null,{"$f":"RESULTS!S4","v":" Block 1 Player 1"},null,{"$f":"RESULTS!T4","v":-1E-3}]
[null,{"$f":"GAMES!$C$13+GAMES!B13","v":"00:00:00"},null,null,null,{"$f":"GAMES!$C$28+GAMES!B28","v":"00:00:00"},null,null,null,{"$f":"GAMES!$C$43+GAMES!B43","v":"00:00:00"}]
[null,{"$f":"RESULTS!G5","v":" Block 1 Player 8"},null,{"$f":"RESULTS!H5","v":-1E-3},null,{"$f":"RESULTS!K15","v":" Block 1 Player 5"},null,{"$f":"RESULTS!L15","v":-1E-3},null,{"$f":"RESULTS!S5","v":" Block 1 Player 2"},null,{"$f":"RESULTS!T5","v":-1E-3}]
[null,"INITIALS",null,null,null,"INITIALS",null,null,null,"INITIALS"]
[]
[]
[null,{"$f":"NAMES!$C$10 & \"   COURT \" & GAMES!D14","v":"BLOCK 1   COURT "},null,"SCORES",null,{"$f":"NAMES!$C$10 & \"   COURT \" & GAMES!D29","v":"BLOCK 1   COURT "},null,"SCORES",null,{"$f":"NAMES!$C$10 & \"   COURT \" & GAMES!D44","v":"BLOCK 1   COURT "},null,"SCORES"]
[null,{"$f":"RESULTS!G6","v":" Block 1 Player 7"},null,{"$f":"RESULTS!H6","v":-1E-3},null,{"$f":"RESULTS!K16","v":" Block 1 Player 4"},null,{"$f":"RESULTS!L16","v":-1E-3},null,{"$f":"RESULTS!S6","v":" Block 1 Player 10"},null,{"$f":"RESULTS!T6","v":-1E-3}]
[null,{"$f":"GAMES!$C$14+GAMES!B14","v":"00:00:00"},null,null,null,{"$f":"GAMES!$C$29+GAMES!B29","v":"00:00:00"},null,null,null,{"$f":"GAMES!$C$44+GAMES!B44","v":"00:00:00"}]
[null,{"$f":"RESULTS!G7","v":" Block 1 Player 9"},null,{"$f":"RESULTS!H7","v":-1E-3},null,{"$f":"RESULTS!K17","v":" Block 1 Player 6"},null,{"$f":"RESULTS!L17","v":-1E-3},null,{"$f":"RESULTS!S7","v":" Block 1 Player 3"},null,{"$f":"RESULTS!T7","v":-1E-3}]
[null,"INITIALS",null,null,null,"INITIALS",null,null,null,"INITIALS"]
[]
[]
[null,{"$f":"NAMES!$C$10 & \"   COURT \" & GAMES!D15","v":"BLOCK 1   COURT "},null,"SCORES",null,{"$f":"NAMES!$C$10 & \"   COURT \" & GAMES!D30","v":"BLOCK 1   COURT "},null,"SCORES",null,{"$f":"NAMES!$C$10 & \"   COURT \" & GAMES!D45","v":"BLOCK 1   COURT "},null,"SCORES"]
[null,{"$f":"RESULTS!G8","v":" Block 1 Player 6"},null,{"$f":"RESULTS!H8","v":-1E-3},null,{"$f":"RESULTS!K18","v":" Block 1 Player 3"},null,{"$f":"RESULTS!L18","v":-1E-3},null,{"$f":"RESULTS!S8","v":" Block 1 Player 9"},null,{"$f":"RESULTS!T8","v":-1E-3}]
[null,{"$f":"GAMES!$C$15+GAMES!B15","v":"00:00:00"},null,null,null,{"$f":"GAMES!$C$30+GAMES!B30","v":"00:00:00"},null,null,null,{"$f":"GAMES!$C$45+GAMES!B45","v":"00:00:00"}]
[null,{"$f":"RESULTS!G9","v":" Block 1 Player 10"},null,{"$f":"RESULTS!H9","v":-1E-3},null,{"$f":"RESULTS!K19","v":" Block 1 Player 7"},null,{"$f":"RESULTS!L19","v":-1E-3},null,{"$f":"RESULTS!S9","v":" Block 1 Player 4"},null,{"$f":"RESULTS!T9","v":-1E-3}]
[null,"INITIALS",null,null,null,"INITIALS",null,null,null,"INITIALS"]
[]
[]
[null,{"$f":"NAMES!$C$10 & \"   COURT \" & GAMES!D16","v":"BLOCK 1   COURT "},null,"SCORES",null,{"$f":"NAMES!$C$10 & \"   COURT \" & GAMES!D31","v":"BLOCK 1   COURT "},null,"SCORES",null,{"$f":"NAMES!$C$10 & \"   COURT \" & GAMES!D46","v":"BLOCK 1   COURT "},null,"SCORES"]
[null,{"$f":"RESULTS!G10","v":" Block 1 Player 5"},null,{"$f":"RESULTS!H10","v":-1E-3},null,{"$f":"RESULTS!K20","v":" Block 1 Player 2"},null,{"$f":"RESULTS!L20","v":-1E-3},null,{"$f":"RESULTS!S10","v":" Block 1 Player 8"},null,{"$f":"RESULTS!T10","v":-1E-3}]
[null,{"$f":"GAMES!$C$16+GAMES!B16","v":"00:00:00"},null,null,null,{"$f":"GAMES!$C$31+GAMES!B31","v":"00:00:00"},null,null,null,{"$f":"GAMES!$C$46+GAMES!B46","v":"00:00:00"}]
[null,{"$f":"RESULTS!G11","v":" Block 1 Player 2"},null,{"$f":"RESULTS!H11","v":-1E-3},null,{"$f":"RESULTS!K21","v":" Block 1 Player 8"},null,{"$f":"RESULTS!L21","v":-1E-3},null,{"$f":"RESULTS!S11","v":" Block 1 Player 5"},null,{"$f":"RESULTS!T11","v":-1E-3}]
[null,"INITIALS",null,null,null,"INITIALS",null,null,null,"INITIALS"]
[]
[]
[null,{"$f":"NAMES!$C$10 & \"   COURT \" & GAMES!D17","v":"BLOCK 1   COURT "},null,"SCORES",null,{"$f":"NAMES!$C$10 & \"   COURT \" & GAMES!D32","v":"BLOCK 1   COURT "},null,"SCORES",null,{"$f":"NAMES!$C$10 & \"   COURT \" & GAMES!D47","v":"BLOCK 1   COURT "},null,"SCORES"]
[null,{"$f":"RESULTS!G12","v":" Block 1 Player 4"},null,{"$f":"RESULTS!H12","v":-1E-3},null,{"$f":"RESULTS!K22","v":" Block 1 Player 10"},null,{"$f":"RESULTS!L22","v":-1E-3},null,{"$f":"RESULTS!S12","v":" Block 1 Player 7"},null,{"$f":"RESULTS!T12","v":-1E-3}]
[null,{"$f":"GAMES!$C$17+GAMES!B17","v":"00:00:00"},null,null,null,{"$f":"GAMES!$C$32+GAMES!B32","v":"00:00:00"},null,null,null,{"$f":"GAMES!$C$47+GAMES!B47","v":"00:00:00"}]
[null,{"$f":"RESULTS!G13","v":" Block 1 Player 3"},null,{"$f":"RESULTS!H13","v":-1E-3},null,{"$f":"RESULTS!K23","v":" Block 1 Player 9"},null,{"$f":"RESULTS!L23","v":-1E-3},null,{"$f":"RESULTS!S13","v":" Block 1 Player 6"},null,{"$f":"RESULTS!T13","v":-1E-3}]
[null,"INITIALS",null,null,null,"INITIALS",null,null,null,"INITIALS"]
[]
[]
[null,{"$f":"NAMES!$C$61& \"   COURT \" & GAMES!D51","v":"BLOCK 2   COURT "},null,"SCORES",null,{"$f":"NAMES!$C$61& \"   COURT \" & GAMES!D66","v":"BLOCK 2   COURT "},null,"SCORES",null,{"$f":"NAMES!$C$61& \"   COURT \" & GAMES!D81","v":"BLOCK 2   COURT "},null,"SCORES"]
[null,{"$f":"RESULTS!C28","v":" Block 2 Player 1"},null,{"$f":"RESULTS!D28","v":-1E-3},null,{"$f":"RESULTS!G38","v":" Block 2 Player 1"},null,{"$f":"RESULTS!H38","v":-1E-3},null,{"$f":"RESULTS!O28","v":" Block 2 Player 1"},null,{"$f":"RESULTS!P28","v":-1E-3}]
[null,{"$f":"GAMES!$C$51+GAMES!B51","v":"00:00:00"},null,null,null,{"$f":"GAMES!$C$66+GAMES!B66","v":"00:00:00"},null,null,null,{"$f":"GAMES!$C$81+GAMES!B81","v":"00:00:00"}]
[null,{"$f":"RESULTS!C29","v":" Block 2 Player 10"},null,{"$f":"RESULTS!D29","v":-1E-3},null,{"$f":"RESULTS!G39","v":" Block 2 Player 7"},null,{"$f":"RESULTS!H39","v":-1E-3},null,{"$f":"RESULTS!O29","v":" Block 2 Player 4"},null,{"$f":"RESULTS!P29","v":-1E-3}]
[null,"INITIALS",null,null,null,"INITIALS",null,null,null,"INITIALS"]
[]
[]
[null,{"$f":"NAMES!$C$61& \"   COURT \" & GAMES!D52","v":"BLOCK 2   COURT "},null,"SCORES",null,{"$f":"NAMES!$C$61& \"   COURT \" & GAMES!D67","v":"BLOCK 2   COURT "},null,"SCORES",null,{"$f":"NAMES!$C$61& \"   COURT \" & GAMES!D82","v":"BLOCK 2   COURT "},null,"SCORES"]
[null,{"$f":"RESULTS!C30","v":" Block 2 Player 2"},null,{"$f":"RESULTS!D30","v":-1E-3},null,{"$f":"RESULTS!G40","v":" Block 2 Player 6"},null,{"$f":"RESULTS!H40","v":-1E-3},null,{"$f":"RESULTS!O30","v":" Block 2 Player 5"},null,{"$f":"RESULTS!P30","v":-1E-3}]
[null,{"$f":"GAMES!$C$52+GAMES!B52","v":"00:00:00"},null,null,null,{"$f":"GAMES!$C$67+GAMES!B67","v":"00:00:00"},null,null,null,{"$f":"GAMES!$C$82+GAMES!B82","v":"00:00:00"}]
[null,{"$f":"RESULTS!C31","v":" Block 2 Player 9"},null,{"$f":"RESULTS!D31","v":-1E-3},null,{"$f":"RESULTS!G41","v":" Block 2 Player 8"},null,{"$f":"RESULTS!H41","v":-1E-3},null,{"$f":"RESULTS!O31","v":" Block 2 Player 3"},null,{"$f":"RESULTS!P31","v":-1E-3}]
[null,"INITIALS",null,null,null,"INITIALS",null,null,null,"INITIALS"]
[]
[]
[null,{"$f":"NAMES!$C$61& \"   COURT \" & GAMES!D53","v":"BLOCK 2   COURT "},null,"SCORES",null,{"$f":"NAMES!$C$61& \"   COURT \" & GAMES!D68","v":"BLOCK 2   COURT "},null,"SCORES",null,{"$f":"NAMES!$C$61& \"   COURT \" & GAMES!D83","v":"BLOCK 2   COURT "},null,"SCORES"]
[null,{"$f":"RESULTS!C32","v":" Block 2 Player 3"},null,{"$f":"RESULTS!D32","v":-1E-3},null,{"$f":"RESULTS!G42","v":" Block 2 Player 5"},null,{"$f":"RESULTS!H42","v":-1E-3},null,{"$f":"RESULTS!O32","v":" Block 2 Player 2"},null,{"$f":"RESULTS!P32","v":-1E-3}]
[null,{"$f":"GAMES!$C$53+GAMES!B53","v":"00:00:00"},null,null,null,{"$f":"GAMES!$C$68+GAMES!B68","v":"00:00:00"},null,null,null,{"$f":"GAMES!$C$83+GAMES!B83","v":"00:00:00"}]
[null,{"$f":"RESULTS!C33","v":" Block 2 Player 8"},null,{"$f":"RESULTS!D33","v":-1E-3},null,{"$f":"RESULTS!G43","v":" Block 2 Player 9"},null,{"$f":"RESULTS!H43","v":-1E-3},null,{"$f":"RESULTS!O33","v":" Block 2 Player 6"},null,{"$f":"RESULTS!P33","v":-1E-3}]
[null,"INITIALS",null,null,null,"INITIALS",null,null,null,"INITIALS"]
[]
[]
[null,{"$f":"NAMES!$C$61& \"   COURT \" & GAMES!D54","v":"BLOCK 2   COURT "},null,"SCORES",null,{"$f":"NAMES!$C$61& \"   COURT \" & GAMES!D69","v":"BLOCK 2   COURT "},null,"SCORES",null,{"$f":"NAMES!$C$61& \"   COURT \" & GAMES!D84","v":"BLOCK 2   COURT "},null,"SCORES"]
[null,{"$f":"RESULTS!C34","v":" Block 2 Player 4"},null,{"$f":"RESULTS!D34","v":-1E-3},null,{"$f":"RESULTS!G44","v":" Block 2 Player 4"},null,{"$f":"RESULTS!H44","v":-1E-3},null,{"$f":"RESULTS!O34","v":" Block 2 Player 10"},null,{"$f":"RESULTS!P34","v":-1E-3}]
[null,{"$f":"GAMES!$C$54+GAMES!B54","v":"00:00:00"},null,null,null,{"$f":"GAMES!$C$69+GAMES!B69","v":"00:00:00"},null,null,null,{"$f":"GAMES!$C$84+GAMES!B84","v":"00:00:00"}]
[null,{"$f":"RESULTS!C35","v":" Block 2 Player 7"},null,{"$f":"RESULTS!D35","v":-1E-3},null,{"$f":"RESULTS!G45","v":" Block 2 Player 10"},null,{"$f":"RESULTS!H45","v":-1E-3},null,{"$f":"RESULTS!O35","v":" Block 2 Player 7"},null,{"$f":"RESULTS!P35","v":-1E-3}]
[null,"INITIALS",null,null,null,"INITIALS",null,null,null,"INITIALS"]
[]
[]
[null,{"$f":"NAMES!$C$61& \"   COURT \" & GAMES!D55","v":"BLOCK 2   COURT "},null,"SCORES",null,{"$f":"NAMES!$C$61& \"   COURT \" & GAMES!D70","v":"BLOCK 2   COURT "},null,"SCORES",null,{"$f":"NAMES!$C$61& \"   COURT \" & GAMES!D85","v":"BLOCK 2   COURT "},null,"SCORES"]
[null,{"$f":"RESULTS!C36","v":" Block 2 Player 5"},null,{"$f":"RESULTS!D36","v":-1E-3},null,{"$f":"RESULTS!G46","v":" Block 2 Player 3"},null,{"$f":"RESULTS!H46","v":-1E-3},null,{"$f":"RESULTS!O36","v":" Block 2 Player 9"},null,{"$f":"RESULTS!P36","v":-1E-3}]
[null,{"$f":"GAMES!$C$55+GAMES!B55","v":"00:00:00"},null,null,null,{"$f":"GAMES!$C$70+GAMES!B70","v":"00:00:00"},null,null,null,{"$f":"GAMES!$C$85+GAMES!B85","v":"00:00:00"}]
[null,{"$f":"RESULTS!C37","v":" Block 2 Player 6"},null,{"$f":"RESULTS!D37","v":-1E-3},null,{"$f":"RESULTS!G47","v":" Block 2 Player 2"},null,{"$f":"RESULTS!H47","v":-1E-3},null,{"$f":"RESULTS!O37","v":" Block 2 Player 8"},null,{"$f":"RESULTS!P37","v":-1E-3}]
[null,"INITIALS",null,null,null,"INITIALS",null,null,null,"INITIALS"]
[]
[]
[null,{"$f":"NAMES!$C$61& \"   COURT \" & GAMES!D56","v":"BLOCK 2   COURT "},null,"SCORES",null,{"$f":"NAMES!$C$61& \"   COURT \" & GAMES!D71","v":"BLOCK 2   COURT "},null,"SCORES",null,{"$f":"NAMES!$C$61& \"   COURT \" & GAMES!D86","v":"BLOCK 2   COURT "},null,"SCORES"]
[null,{"$f":"RESULTS!C38","v":" Block 2 Player 1"},null,{"$f":"RESULTS!D38","v":-1E-3},null,{"$f":"RESULTS!K28","v":" Block 2 Player 1"},null,{"$f":"RESULTS!L28","v":-1E-3},null,{"$f":"RESULTS!O38","v":" Block 2 Player 1"},null,{"$f":"RESULTS!P38","v":-1E-3}]
[null,{"$f":"GAMES!$C$56+GAMES!B56","v":"00:00:00"},null,null,null,{"$f":"GAMES!$C$71+GAMES!B71","v":"00:00:00"},null,null,null,{"$f":"GAMES!$C$86+GAMES!B86","v":"00:00:00"}]
[null,{"$f":"RESULTS!C39","v":" Block 2 Player 9"},null,{"$f":"RESULTS!D39","v":-1E-3},null,{"$f":"RESULTS!K29","v":" Block 2 Player 6"},null,{"$f":"RESULTS!L29","v":-1E-3},null,{"$f":"RESULTS!O39","v":" Block 2 Player 3"},null,{"$f":"RESULTS!P39","v":-1E-3}]
[null,"INITIALS",null,null,null,"INITIALS",null,null,null,"INITIALS"]
[]
[]
[null,{"$f":"NAMES!$C$61& \"   COURT \" & GAMES!D57","v":"BLOCK 2   COURT "},null,"SCORES",null,{"$f":"NAMES!$C$61& \"   COURT \" & GAMES!D72","v":"BLOCK 2   COURT "},null,"SCORES",null,{"$f":"NAMES!$C$61& \"   COURT \" & GAMES!D87","v":"BLOCK 2   COURT "},null,"SCORES"]
[null,{"$f":"RESULTS!C40","v":" Block 2 Player 8"},null,{"$f":"RESULTS!D40","v":-1E-3},null,{"$f":"RESULTS!K30","v":" Block 2 Player 5"},null,{"$f":"RESULTS!L30","v":-1E-3},null,{"$f":"RESULTS!O40","v":" Block 2 Player 2"},null,{"$f":"RESULTS!P40","v":-1E-3}]
[null,{"$f":"GAMES!$C$57+GAMES!B57","v":"00:00:00"},null,null,null,{"$f":"GAMES!$C$72+GAMES!B72","v":"00:00:00"},null,null,null,{"$f":"GAMES!$C$87+GAMES!B87","v":"00:00:00"}]
[null,{"$f":"RESULTS!C41","v":" Block 2 Player 10"},null,{"$f":"RESULTS!D41","v":-1E-3},null,{"$f":"RESULTS!K31","v":" Block 2 Player 7"},null,{"$f":"RESULTS!L31","v":-1E-3},null,{"$f":"RESULTS!O41","v":" Block 2 Player 4"},null,{"$f":"RESULTS!P41","v":-1E-3}]
[null,"INITIALS",null,null,null,"INITIALS",null,null,null,"INITIALS"]
[]
[]
[null,{"$f":"NAMES!$C$61& \"   COURT \" & GAMES!D58","v":"BLOCK 2   COURT "},null,"SCORES",null,{"$f":"NAMES!$C$61& \"   COURT \" & GAMES!D73","v":"BLOCK 2   COURT "},null,"SCORES",null,{"$f":"NAMES!$C$61& \"   COURT \" & GAMES!D88","v":"BLOCK 2   COURT "},null,"SCORES"]
[null,{"$f":"RESULTS!C42","v":" Block 2 Player 7"},null,{"$f":"RESULTS!D42","v":-1E-3},null,{"$f":"RESULTS!K32","v":" Block 2 Player 4"},null,{"$f":"RESULTS!L32","v":-1E-3},null,{"$f":"RESULTS!O42","v":" Block 2 Player 10"},null,{"$f":"RESULTS!P42","v":-1E-3}]
[null,{"$f":"GAMES!$C$58+GAMES!B58","v":"00:00:00"},null,null,null,{"$f":"GAMES!$C$73+GAMES!B73","v":"00:00:00"},null,null,null,{"$f":"GAMES!$C$88+GAMES!B88","v":"00:00:00"}]
[null,{"$f":"RESULTS!C43","v":" Block 2 Player 2"},null,{"$f":"RESULTS!D43","v":-1E-3},null,{"$f":"RESULTS!K33","v":" Block 2 Player 8"},null,{"$f":"RESULTS!L33","v":-1E-3},null,{"$f":"RESULTS!O43","v":" Block 2 Player 5"},null,{"$f":"RESULTS!P43","v":-1E-3}]
[null,"INITIALS",null,null,null,"INITIALS",null,null,null,"INITIALS"]
[]
[]
[null,{"$f":"NAMES!$C$61& \"   COURT \" & GAMES!D59","v":"BLOCK 2   COURT "},null,"SCORES",null,{"$f":"NAMES!$C$61& \"   COURT \" & GAMES!D74","v":"BLOCK 2   COURT "},null,"SCORES",null,{"$f":"NAMES!$C$61& \"   COURT \" & GAMES!D89","v":"BLOCK 2   COURT "},null,"SCORES"]
[null,{"$f":"RESULTS!C44","v":" Block 2 Player 6"},null,{"$f":"RESULTS!D44","v":-1E-3},null,{"$f":"RESULTS!K34","v":" Block 2 Player 3"},null,{"$f":"RESULTS!L34","v":-1E-3},null,{"$f":"RESULTS!O44","v":" Block 2 Player 9"},null,{"$f":"RESULTS!P44","v":-1E-3}]
[null,{"$f":"GAMES!$C$59+GAMES!B59","v":"00:00:00"},null,null,null,{"$f":"GAMES!$C$74+GAMES!B74","v":"00:00:00"},null,null,null,{"$f":"GAMES!$C$89+GAMES!B89","v":"00:00:00"}]
[null,{"$f":"RESULTS!C45","v":" Block 2 Player 3"},null,{"$f":"RESULTS!D45","v":-1E-3},null,{"$f":"RESULTS!K35","v":" Block 2 Player 9"},null,{"$f":"RESULTS!L35","v":-1E-3},null,{"$f":"RESULTS!O45","v":" Block 2 Player 6"},null,{"$f":"RESULTS!P45","v":-1E-3}]
[null,"INITIALS",null,null,null,"INITIALS",null,null,null,"INITIALS"]
[]
[]
[null,{"$f":"NAMES!$C$61& \"   COURT \" & GAMES!D60","v":"BLOCK 2   COURT "},null,null,null,{"$f":"NAMES!$C$61& \"   COURT \" & GAMES!D75","v":"BLOCK 2   COURT "},null,null,null,{"$f":"NAMES!$C$61& \"   COURT \" & GAMES!D90","v":"BLOCK 2   COURT "}]
[null,{"$f":"RESULTS!C46","v":" Block 2 Player 5"},null,{"$f":"RESULTS!D46","v":-1E-3},null,{"$f":"RESULTS!K36","v":" Block 2 Player 2"},null,{"$f":"RESULTS!L36","v":-1E-3},null,{"$f":"RESULTS!O46","v":" Block 2 Player 8"},null,{"$f":"RESULTS!P46","v":-1E-3}]
[null,{"$f":"GAMES!$C$60+GAMES!B60","v":"00:00:00"},null,null,null,{"$f":"GAMES!$C$75+GAMES!B75","v":"00:00:00"},null,null,null,{"$f":"GAMES!$C$90+GAMES!B90","v":"00:00:00"}]
[null,{"$f":"RESULTS!C47","v":" Block 2 Player 4"},null,{"$f":"RESULTS!D47","v":-1E-3},null,{"$f":"RESULTS!K37","v":" Block 2 Player 10"},null,{"$f":"RESULTS!L37","v":-1E-3},null,{"$f":"RESULTS!O47","v":" Block 2 Player 7"},null,{"$f":"RESULTS!P47","v":-1E-3}]
[null,"INITIALS",null,null,null,"INITIALS",null,null,null,"INITIALS"]
[]
[]
[null,{"$f":"NAMES!$C$61& \"   COURT \" & GAMES!D61","v":"BLOCK 2   COURT "},null,"SCORES",null,{"$f":"NAMES!$C$61& \"   COURT \" & GAMES!D76","v":"BLOCK 2   COURT "},null,"SCORES",null,{"$f":"NAMES!$C$61& \"   COURT \" & GAMES!D91","v":"BLOCK 2   COURT "},null,"SCORES"]
[null,{"$f":"RESULTS!G28","v":" Block 2 Player 1"},null,{"$f":"RESULTS!H28","v":-1E-3},null,{"$f":"RESULTS!K38","v":" Block 2 Player 1"},null,{"$f":"RESULTS!L38","v":-1E-3},null,{"$f":"RESULTS!S28","v":" Block 2 Player 1"},null,{"$f":"RESULTS!T28","v":-1E-3}]
[null,{"$f":"GAMES!$C$61+GAMES!B61","v":"00:00:00"},null,null,null,{"$f":"GAMES!$C$76+GAMES!B76","v":"00:00:00"},null,null,null,{"$f":"GAMES!$C$91+GAMES!B91","v":"00:00:00"}]
[null,{"$f":"RESULTS!G29","v":" Block 2 Player 8"},null,{"$f":"RESULTS!H29","v":-1E-3},null,{"$f":"RESULTS!K39","v":" Block 2 Player 5"},null,{"$f":"RESULTS!L39","v":-1E-3},null,{"$f":"RESULTS!S29","v":" Block 2 Player 2"},null,{"$f":"RESULTS!T29","v":-1E-3}]
[null,"INITIALS",null,null,null,"INITIALS",null,null,null,"INITIALS"]
[]
[]
[null,{"$f":"NAMES!$C$61& \"   COURT \" & GAMES!D62","v":"BLOCK 2   COURT "},null,"SCORES",null,{"$f":"NAMES!$C$61& \"   COURT \" & GAMES!D77","v":"BLOCK 2   COURT "},null,"SCORES",null,{"$f":"NAMES!$C$61& \"   COURT \" & GAMES!D92","v":"BLOCK 2   COURT "},null,"SCORES"]
[null,{"$f":"RESULTS!G30","v":" Block 2 Player 7"},null,{"$f":"RESULTS!H30","v":-1E-3},null,{"$f":"RESULTS!K40","v":" Block 2 Player 4"},null,{"$f":"RESULTS!L40","v":-1E-3},null,{"$f":"RESULTS!S30","v":" Block 2 Player 10"},null,{"$f":"RESULTS!T30","v":-1E-3}]
[null,{"$f":"GAMES!$C$62+GAMES!B62","v":"00:00:00"},null,null,null,{"$f":"GAMES!$C$77+GAMES!B77","v":"00:00:00"},null,null,null,{"$f":"GAMES!$C$92+GAMES!B92","v":"00:00:00"}]
[null,{"$f":"RESULTS!G31","v":" Block 2 Player 9"},null,{"$f":"RESULTS!H31","v":-1E-3},null,{"$f":"RESULTS!K41","v":" Block 2 Player 6"},null,{"$f":"RESULTS!L41","v":-1E-3},null,{"$f":"RESULTS!S31","v":" Block 2 Player 3"},null,{"$f":"RESULTS!T31","v":-1E-3}]
[null,"INITIALS",null,null,null,"INITIALS",null,null,null,"INITIALS"]
[]
[]
[null,{"$f":"NAMES!$C$61& \"   COURT \" & GAMES!D63","v":"BLOCK 2   COURT "},null,"SCORES",null,{"$f":"NAMES!$C$61& \"   COURT \" & GAMES!D78","v":"BLOCK 2   COURT "},null,"SCORES",null,{"$f":"NAMES!$C$61& \"   COURT \" & GAMES!D93","v":"BLOCK 2   COURT "},null,"SCORES"]
[null,{"$f":"RESULTS!G32","v":" Block 2 Player 6"},null,{"$f":"RESULTS!H32","v":-1E-3},null,{"$f":"RESULTS!K42","v":" Block 2 Player 3"},null,{"$f":"RESULTS!L42","v":-1E-3},null,{"$f":"RESULTS!S32","v":" Block 2 Player 9"},null,{"$f":"RESULTS!T32","v":-1E-3}]
[null,{"$f":"GAMES!$C$63+GAMES!B63","v":"00:00:00"},null,null,null,{"$f":"GAMES!$C$78+GAMES!B78","v":"00:00:00"},null,null,null,{"$f":"GAMES!$C$93+GAMES!B93","v":"00:00:00"}]
[null,{"$f":"RESULTS!G33","v":" Block 2 Player 10"},null,{"$f":"RESULTS!H33","v":-1E-3},null,{"$f":"RESULTS!K43","v":" Block 2 Player 7"},null,{"$f":"RESULTS!L43","v":-1E-3},null,{"$f":"RESULTS!S33","v":" Block 2 Player 4"},null,{"$f":"RESULTS!T33","v":-1E-3}]
[null,"INITIALS",null,null,null,"INITIALS",null,null,null,"INITIALS"]
[]
[]
[null,{"$f":"NAMES!$C$61& \"   COURT \" & GAMES!D64","v":"BLOCK 2   COURT "},null,"SCORES",null,{"$f":"NAMES!$C$61& \"   COURT \" & GAMES!D79","v":"BLOCK 2   COURT "},null,"SCORES",null,{"$f":"NAMES!$C$61& \"   COURT \" & GAMES!D94","v":"BLOCK 2   COURT "},null,"SCORES"]
[null,{"$f":"RESULTS!G34","v":" Block 2 Player 5"},null,{"$f":"RESULTS!H34","v":-1E-3},null,{"$f":"RESULTS!K44","v":" Block 2 Player 2"},null,{"$f":"RESULTS!L44","v":-1E-3},null,{"$f":"RESULTS!S34","v":" Block 2 Player 8"},null,{"$f":"RESULTS!T34","v":-1E-3}]
[null,{"$f":"GAMES!$C$64+GAMES!B64","v":"00:00:00"},null,null,null,{"$f":"GAMES!$C$79+GAMES!B79","v":"00:00:00"},null,null,null,{"$f":"GAMES!$C$94+GAMES!B94","v":"00:00:00"}]
[null,{"$f":"RESULTS!G35","v":" Block 2 Player 2"},null,{"$f":"RESULTS!H35","v":-1E-3},null,{"$f":"RESULTS!K45","v":" Block 2 Player 8"},null,{"$f":"RESULTS!L45","v":-1E-3},null,{"$f":"RESULTS!S35","v":" Block 2 Player 5"},null,{"$f":"RESULTS!T35","v":-1E-3}]
[null,"INITIALS",null,null,null,"INITIALS",null,null,null,"INITIALS"]
[]
[]
[null,{"$f":"NAMES!$C$61& \"   COURT \" & GAMES!D65","v":"BLOCK 2   COURT "},null,"SCORES",null,{"$f":"NAMES!$C$61& \"   COURT \" & GAMES!D80","v":"BLOCK 2   COURT "},null,"SCORES",null,{"$f":"NAMES!$C$61& \"   COURT \" & GAMES!D95","v":"BLOCK 2   COURT "},null,"SCORES"]
[null,{"$f":"RESULTS!G36","v":" Block 2 Player 4"},null,{"$f":"RESULTS!H36","v":-1E-3},null,{"$f":"RESULTS!K46","v":" Block 2 Player 10"},null,{"$f":"RESULTS!L46","v":-1E-3},null,{"$f":"RESULTS!S36","v":" Block 2 Player 7"},null,{"$f":"RESULTS!T36","v":-1E-3}]
[null,{"$f":"GAMES!$C$65+GAMES!B65","v":"00:00:00"},null,null,null,{"$f":"GAMES!$C$80+GAMES!B80","v":"00:00:00"},null,null,null,{"$f":"GAMES!$C$95+GAMES!B95","v":"00:00:00"}]
[null,{"$f":"RESULTS!G37","v":" Block 2 Player 3"},null,{"$f":"RESULTS!H37","v":-1E-3},null,{"$f":"RESULTS!K47","v":" Block 2 Player 9"},null,{"$f":"RESULTS!L47","v":-1E-3},null,{"$f":"RESULTS!S37","v":" Block 2 Player 6"},null,{"$f":"RESULTS!T37","v":-1E-3}]
[null,"INITIALS",null,null,null,"INITIALS",null,null,null,"INITIALS"]

{"sheet":"BLOCK","index":8,"n_rows":74,"n_cols":46,"rows_kept":74,"cut":false,"hidden":false,"merged":[[1,8,1,22],[3,8,3,22],[38,8,38,22],[40,8,40,22],[39,8,39,22],[2,8,2,22],[5,14,5,16],[5,17,5,19],[5,20,5,22],[42,17,42,19],[42,20,42,22],[42,23,42,25],[5,2,5,4],[5,5,5,7],[5,8,5,10],[5,11,5,13],[42,2,42,4],[42,5,42,7],[42,8,42,10],[42,11,42,13],[42,14,42,16],[5,29,5,31],[36,28,36,31],[5,23,5,25],[73,28,73,31],[42,29,42,31],[42,26,42,28],[5,26,5,28]]}
[]
[null,null,null,null,null,null,null,null,{"$f":"SEED!H2","v":"TOURNAMENT"}]
[null,null,null,null,null,null,null,null,{"$f":"NAMES!$C$9","v":"DATE"}]
[null,null,null,null,null,null,null,null,{"$f":"SEED!H3","v":"GROUP"}]
[]
[null,{"$f":"SEED!D5","v":"BLOCK 1"},{"$f":"SEED!D7","v":" Block 1 Player 1"},null,null,{"$f":"SEED!D8","v":" Block 1 Player 2"},null,null,{"$f":"SEED!D9","v":" Block 1 Player 3"},null,null,{"$f":"SEED!D10","v":" Block 1 Player 4"},null,null,{"$f":"SEED!D11","v":" Block 1 Player 5"},null,null,{"$f":"SEED!D12","v":" Block 1 Player 6"},null,null,{"$f":"SEED!D13","v":" Block 1 Player 7"},null,null,{"$f":"SEED!D14","v":" Block 1 Player 8"},null,null,{"$f":"SEED!D15","v":" Block 1 Player 9"},null,null,{"$f":"SEED!D16","v":" Block 1 Player 10"},null,null,null," WINS"," POINTS FOR"," POINTS AGAIST"," NET POINTS",null," PLACE"]
[null,{"$f":"NAMES!C11","v":"Block 1"},"plyr1",null,null,null,{"$f":"IF(H7=1,\"W\",\"\")","v":""},{"$f":"IF(G9>0,1,0)","v":0},null,{"$f":"IF(K7=1,\"W\",\"\")","v":""},{"$f":"IF(J9>0,1,0)","v":0},null,{"$f":"IF(N7=1,\"W\",\"\")","v":""},{"$f":"IF(M9>0,1,0)","v":0},null,{"$f":"IF(Q7=1,\"W\",\"\")","v":""},{"$f":"IF(P9>0,1,0)","v":0},null,{"$f":"IF(T7=1,\"W\",\"\")","v":""},{"$f":"IF(S9>0,1,0)","v":0},null,{"$f":"IF(W7=1,\"W\",\"\")","v":""},{"$f":"IF(V9>0,1,0)","v":0},null,{"$f":"IF(Z7=1,\"W\",\"\")","v":""},{"$f":"IF(Y9>0,1,0)","v":0},null,{"$f":"IF(AC7=1,\"W\",\"\")","v":""},{"$f":"IF(AB9>0,1,0)","v":0},null,{"$f":"IF(AF7=1,\"W\",\"\")","v":""},{"$f":"IF(AE9>0,1,0)","v":0},null,null,null,null,null,null,null,null,null,"NAME","WINS","NET","FOR"]
[null,{"$f":"NAMES!C12","v":"Player 1"},null,null,null,{"$f":"SCORES!L75","v":-1E-3},{"$f":"RESULTS!$U$4","v":-1E-3},{"$f":"SCORES!L77","v":-1E-3},{"$f":"SCORES!L40","v":-1E-3},{"$f":"RESULTS!$Q$14","v":-1E-3},{"$f":"SCORES!L42","v":-1E-3},{"$f":"SCORES!L5","v":-1E-3},{"$f":"RESULTS!$Q$4","v":-1E-3},{"$f":"SCORES!L7","v":-1E-3},{"$f":"SCORES!H75","v":-1E-3},{"$f":"RESULTS!$M$14","v":-1E-3},{"$f":"SCORES!H77","v":-1E-3},{"$f":"SCORES!H40","v":-1E-3},{"$f":"RESULTS!$M$4","v":-1E-3},{"$f":"SCORES!H42","v":-1E-3},{"$f":"SCORES!H5","v":-1E-3},{"$f":"RESULTS!$I$14","v":-1E-3},{"$f":"SCORES!H7","v":-1E-3},{"$f":"SCORES!D75","v":-1E-3},{"$f":"RESULTS!$I$4","v":-1E-3},{"$f":"SCORES!D77","v":-1E-3},{"$f":"SCORES!D40","v":-1E-3},{"$f":"RESULTS!$E$14","v":-1E-3},{"$f":"SCORES!D42","v":-1E-3},{"$f":"SCORES!D5","v":-1E-3},{"$f":"RESULTS!$E$4","v":-1E-3},{"$f":"SCORES!D7","v":-1E-3},null,{"$f":"SUM(C7:AF7)","v":0},{"$f":"SUM(C8,F8,I8,L8,O8,R8,U8,X8,AA8,AD8)","v":-9.0000000000000011E-3},{"$f":"SUM(E8,H8,K8,N8,Q8,T8,W8,Z8,AC8,AF8)","v":-9.0000000000000011E-3},{"$f":"SUM(C9:AF9)","v":0},null,{"$f":"VLOOKUP(C7,PLACE1,5,FALSE)","v":10},null,null,{"$f":"$C$34","v":"plyr10"},{"$f":"$AH$35","v":0},{"$f":"$AK$35","v":0},{"$f":"$AI$35","v":-9.0000000000000011E-3},1]
[null,{"$f":"SEED!E7","v":0},null,null,null,null,{"$f":"F8-H8","v":0},null,null,{"$f":"I8-K8","v":0},null,null,{"$f":"L8-N8","v":0},null,null,{"$f":"O8-Q8","v":0},null,null,{"$f":"R8-T8","v":0},null,null,{"$f":"U8-W8","v":0},null,null,{"$f":"X8-Z8","v":0},null,null,{"$f":"AA8-AC8","v":0},null,null,{"$f":"AD8-AF8","v":0},null,null,null,null,null,null,null,null,null,null,{"$f":"$C$31","v":"plyr9"},{"$f":"$AH$32","v":0},{"$f":"$AK$32","v":0},{"$f":"$AI$32","v":-9.0000000000000011E-3},2]
[null,{"$f":"NAMES!C16","v":"Block 1"},"plyr2",{"$f":"IF(E10=1,\"W\",\"\")","v":""},{"$f":"IF(D12>0,1,0)","v":0},null,null,null,null,{"$f":"IF(K10=1,\"W\",\"\")","v":""},{"$f":"IF(J12>0,1,0)","v":0},null,{"$f":"IF(N10=1,\"W\",\"\")","v":""},{"$f":"IF(M12>0,1,0)","v":0},null,{"$f":"IF(Q10=1,\"W\",\"\")","v":""},{"$f":"IF(P12>0,1,0)","v":0},null,{"$f":"IF(T10=1,\"W\",\"\")","v":""},{"$f":"IF(S12>0,1,0)","v":0},null,{"$f":"IF(W10=1,\"W\",\"\")","v":""},{"$f":"IF(V12>0,1,0)","v":0},null,{"$f":"IF(Z10=1,\"W\",\"\")","v":""},{"$f":"IF(Y12>0,1,0)","v":0},null,{"$f":"IF(AC10=1,\"W\",\"\")","v":""},{"$f":"IF(AB12>0,1,0)","v":0},null,{"$f":"IF(AF10=1,\"W\",\"\")","v":""},{"$f":"IF(AE12>0,1,0)","v":0},null,null,null,null,null,null,null,null,null,{"$f":"$C$28","v":"plyr8"},{"$f":"$AH$29","v":0},{"$f":"$AK$29","v":0},{"$f":"$AI$29","v":-9.0000000000000011E-3},3]
[null,{"$f":"NAMES!C17","v":"Player 2"},{"$f":"H8","v":-1E-3},{"$f":"RESULTS!$U$5","v":-1E-3},{"$f":"F8","v":-1E-3},null,null,null,{"$f":"SCORES!H35","v":-1E-3},{"$f":"RESULTS!$I$23","v":-1E-3},{"$f":"SCORES!H33","v":-1E-3},{"$f":"SCORES!L47","v":-1E-3},{"$f":"RESULTS!$Q$16","v":-1E-3},{"$f":"SCORES!L49","v":-1E-3},{"$f":"SCORES!D98","v":-1E-3},{"$f":"RESULTS!$I$11","v":-1E-3},{"$f":"SCORES!D96","v":-1E-3},{"$f":"SCORES!L19","v":-1E-3},{"$f":"RESULTS!$Q$8","v":-1E-3},{"$f":"SCORES!L21","v":-1E-3},{"$f":"SCORES!D56","v":-1E-3},{"$f":"RESULTS!$E$19","v":-1E-3},{"$f":"SCORES!D54","v":-1E-3},{"$f":"SCORES!H96","v":-1E-3},{"$f":"RESULTS!$M$20","v":-1E-3},{"$f":"SCORES!H98","v":-1E-3},{"$f":"SCORES!D12","v":-1E-3},{"$f":"RESULTS!$E$6","v":-1E-3},{"$f":"SCORES!D14","v":-1E-3},{"$f":"SCORES!H68","v":-1E-3},{"$f":"RESULTS!$M$12","v":-1E-3},{"$f":"SCORES!H70","v":-1E-3},null,{"$f":"SUM(C10:AF10)","v":0},{"$f":"SUM(C11,F11,I11,L11,O11,R11,U11,X11,AA11,AD11)","v":-9.0000000000000011E-3},{"$f":"SUM(E11,H11,K11,N11,Q11,T11,W11,Z11,AC11,AF11)","v":-9.0000000000000011E-3},{"$f":"SUM(C12:AF12)","v":0},null,{"$f":"VLOOKUP(C10,PLACE1,5,FALSE)","v":9},null,null,{"$f":"$C$25","v":"plyr7"},{"$f":"$AH$26","v":0},{"$f":"$AK$26","v":0},{"$f":"$AI$26","v":-9.0000000000000011E-3},4]
[null,{"$f":"SEED!E8","v":0},null,{"$f":"C11-E11","v":0},null,null,null,null,null,{"$f":"I11-K11","v":0},null,null,{"$f":"L11-N11","v":0},null,null,{"$f":"O11-Q11","v":0},null,null,{"$f":"R11-T11","v":0},null,null,{"$f":"U11-W11","v":0},null,null,{"$f":"X11-Z11","v":0},null,null,{"$f":"AA11-AC11","v":0},null,null,{"$f":"AD11-AF11","v":0},null,null,null,null,null,null,null,null,null,null,{"$f":"$C$22","v":"plyr6"},{"$f":"$AH$23","v":0},{"$f":"$AK$23","v":0},{"$f":"$AI$23","v":-9.0000000000000011E-3},5]
[null,{"$f":"NAMES!C21","v":"Block 1"},"plyr3",{"$f":"IF(E13=1,\"W\",\"\")","v":""},{"$f":"IF(D15>0,1,0)","v":0},null,{"$f":"IF(H13=1,\"W\",\"\")","v":""},{"$f":"IF(G15>0,1,0)","v":0},null,null,null,null,{"$f":"IF(N13=1,\"W\",\"\")","v":""},{"$f":"IF(M15>0,1,0)","v":0},null,{"$f":"IF(Q13=1,\"W\",\"\")","v":""},{"$f":"IF(P15>0,1,0)","v":0},null,{"$f":"IF(T13=1,\"W\",\"\")","v":""},{"$f":"IF(S15>0,1,0)","v":0},null,{"$f":"IF(W13=1,\"W\",\"\")","v":""},{"$f":"IF(V15>0,1,0)","v":0},null,{"$f":"IF(Z13=1,\"W\",\"\")","v":""},{"$f":"IF(Y15>0,1,0)","v":0},null,{"$f":"IF(AC13=1,\"W\",\"\")","v":""},{"$f":"IF(AB15>0,1,0)","v":0},null,{"$f":"IF(AF13=1,\"W\",\"\")","v":""},{"$f":"IF(AE15>0,1,0)","v":0},null,null,null,null,null,null,null,null,null,{"$f":"$C$19","v":"plyr5"},{"$f":"$AH$20","v":0},{"$f":"$AK$20","v":0},{"$f":"$AI$20","v":-9.0000000000000011E-3},6]
[null,{"$f":"NAMES!C22","v":"Player 3"},{"$f":"K8","v":-1E-3},{"$f":"RESULTS!$Q$15","v":-1E-3},{"$f":"I8","v":-1E-3},{"$f":"K11","v":-1E-3},{"$f":"RESULTS!$I$22","v":-1E-3},{"$f":"I11","v":-1E-3},null,null,null,{"$f":"SCORES!D105","v":-1E-3},{"$f":"RESULTS!$I$13","v":-1E-3},{"$f":"SCORES!D103","v":-1E-3},{"$f":"SCORES!L14","v":-1E-3},{"$f":"RESULTS!$Q$7","v":-1E-3},{"$f":"SCORES!L12","v":-1E-3},{"$f":"SCORES!D63","v":-1E-3},{"$f":"RESULTS!$E$21","v":-1E-3},{"$f":"SCORES!D61","v":-1E-3},{"$f":"SCORES!H89","v":-1E-3},{"$f":"RESULTS!$M$18","v":-1E-3},{"$f":"SCORES!H91","v":-1E-3},{"$f":"SCORES!D19","v":-1E-3},{"$f":"RESULTS!$E$8","v":-1E-3},{"$f":"SCORES!D21","v":-1E-3},{"$f":"SCORES!H61","v":-1E-3},{"$f":"RESULTS!$M$10","v":-1E-3},{"$f":"SCORES!H63","v":-1E-3},{"$f":"SCORES!L84","v":-1E-3},{"$f":"RESULTS!$U$7","v":-1E-3},{"$f":"SCORES!L82","v":-1E-3},null,{"$f":"SUM(C13:AF13)","v":0},{"$f":"SUM(C14,F14,I14,L14,O14,R14,U14,X14,AA14,AD14)","v":-9.0000000000000011E-3},{"$f":"SUM(E14,H14,K14,N14,Q14,T14,W14,Z14,AC14,AF14)","v":-9.0000000000000011E-3},{"$f":"SUM(C15:AF15)","v":0},null,{"$f":"VLOOKUP(C13,PLACE1,5,FALSE)","v":8},null,null,{"$f":"$C$16","v":"plyr4"},{"$f":"$AH$17","v":0},{"$f":"$AK$17","v":0},{"$f":"$AI$17","v":-9.0000000000000011E-3},7]
[null,{"$f":"SEED!E9","v":0},null,{"$f":"C14-E14","v":0},null,null,{"$f":"F14-H14","v":0},null,null,null,null,null,{"$f":"L14-N14","v":0},null,null,{"$f":"O14-Q14","v":0},null,null,{"$f":"R14-T14","v":0},null,null,{"$f":"U14-W14","v":0},null,null,{"$f":"X14-Z14","v":0},null,null,{"$f":"AA14-AC14","v":0},null,null,{"$f":"AD14-AF14","v":0},null,null,null,null,null,null,null,null,null,null,{"$f":"$C$13","v":"plyr3"},{"$f":"$AH$14","v":0},{"$f":"$AK$14","v":0},{"$f":"$AI$14","v":-9.0000000000000011E-3},8]
[null,{"$f":"NAMES!C26","v":"Block 1"},"plyr4",{"$f":"IF(E16=1,\"W\",\"\")","v":""},{"$f":"IF(D18>0,1,0)","v":0},null,{"$f":"IF(H16=1,\"W\",\"\")","v":""},{"$f":"IF(G18>0,1,0)","v":0},null,{"$f":"IF(K16=1,\"W\",\"\")","v":""},{"$f":"IF(J18>0,1,0)","v":0},null,null,null,null,{"$f":"IF(Q16=1,\"W\",\"\")","v":""},{"$f":"IF(P18>0,1,0)","v":0},null,{"$f":"IF(T16=1,\"W\",\"\")","v":""},{"$f":"IF(S18>0,1,0)","v":0},null,{"$f":"IF(W16=1,\"W\",\"\")","v":""},{"$f":"IF(V18>0,1,0)","v":0},null,{"$f":"IF(Z16=1,\"W\",\"\")","v":""},{"$f":"IF(Y18>0,1,0)","v":0},null,{"$f":"IF(AC16=1,\"W\",\"\")","v":""},{"$f":"IF(AB18>0,1,0)","v":0},null,{"$f":"IF(AF16=1,\"W\",\"\")","v":""},{"$f":"IF(AE18>0,1,0)","v":0},null,null,null,null,null,null,null,null,null,{"$f":"$C$10","v":"plyr2"},{"$f":"$AH$11","v":0},{"$f":"$AK$11","v":0},{"$f":"$AI$11","v":-9.0000000000000011E-3},9]
[null,{"$f":"NAMES!C27","v":"Player 4"},{"$f":"N8","v":-1E-3},{"$f":"RESULTS!$Q$5","v":-1E-3},{"$f":"L8","v":-1E-3},{"$f":"N11","v":-1E-3},{"$f":"RESULTS!$Q$17","v":-1E-3},{"$f":"L11","v":-1E-3},{"$f":"N14","v":-1E-3},{"$f":"RESULTS!$I$12","v":-1E-3},{"$f":"L14","v":-1E-3},null,null,null,{"$f":"SCORES!D70","v":-1E-3},{"$f":"RESULTS!$E$23","v":-1E-3},{"$f":"SCORES!D68","v":-1E-3},{"$f":"SCORES!H82","v":-1E-3},{"$f":"RESULTS!$M$16","v":-1E-3},{"$f":"SCORES!H84","v":-1E-3},{"$f":"SCORES!D26","v":-1E-3},{"$f":"RESULTS!$E$10","v":-1E-3},{"$f":"SCORES!D28","v":-1E-3},{"$f":"SCORES!H54","v":-1E-3},{"$f":"RESULTS!$M$8","v":-1E-3},{"$f":"SCORES!H56","v":-1E-3},{"$f":"SCORES!L91","v":-1E-3},{"$f":"RESULTS!$U$9","v":-1E-3},{"$f":"SCORES!L89","v":-1E-3},{"$f":"SCORES!H26","v":-1E-3},{"$f":"RESULTS!$I$20","v":-1E-3},{"$f":"SCORES!H28","v":-1E-3},null,{"$f":"SUM(C16:AF16)","v":0},{"$f":"SUM(C17,F17,I17,L17,O17,R17,U17,X17,AA17,AD17)","v":-9.0000000000000011E-3},{"$f":"SUM(E17,H17,K17,N17,Q17,T17,W17,Z17,AC17,AF17)","v":-9.0000000000000011E-3},{"$f":"SUM(C18:AF18)","v":0},null,{"$f":"VLOOKUP(C16,PLACE1,5,FALSE)","v":7},null,null,{"$f":"$C$7","v":"plyr1"},{"$f":"$AH$8","v":0},{"$f":"$AK$8","v":0},{"$f":"$AI$8","v":-9.0000000000000011E-3},10]
[null,{"$f":"SEED!E10","v":0},null,{"$f":"C17-E17","v":0},null,null,{"$f":"F17-H17","v":0},null,null,{"$f":"I17-K17","v":0},null,null,null,null,null,{"$f":"O17-Q17","v":0},null,null,{"$f":"R17-T17","v":0},null,null,{"$f":"U17-W17","v":0},null,null,{"$f":"X17-Z17","v":0},null,null,{"$f":"AA17-AC17","v":0},null,null,{"$f":"AD17-AF17","v":0}]
[null,{"$f":"NAMES!C31","v":"Block 1"},"plyr5",{"$f":"IF(E19=1,\"W\",\"\")","v":""},{"$f":"IF(D21>0,1,0)","v":0},null,{"$f":"IF(H19=1,\"W\",\"\")","v":""},{"$f":"IF(G21>0,1,0)","v":0},null,{"$f":"IF(K19=1,\"W\",\"\")","v":""},{"$f":"IF(J21>0,1,0)","v":0},null,{"$f":"IF(N19=1,\"W\",\"\")","v":""},{"$f":"IF(M21>0,1,0)","v":0},null,null,null,null,{"$f":"IF(T19=1,\"W\",\"\")","v":""},{"$f":"IF(S21>0,1,0)","v":0},null,{"$f":"IF(W19=1,\"W\",\"\")","v":""},{"$f":"IF(V21>0,1,0)","v":0},null,{"$f":"IF(Z19=1,\"W\",\"\")","v":""},{"$f":"IF(Y21>0,1,0)","v":0},null,{"$f":"IF(AC19=1,\"W\",\"\")","v":""},{"$f":"IF(AB21>0,1,0)","v":0},null,{"$f":"IF(AF19=1,\"W\",\"\")","v":""},{"$f":"IF(AE21>0,1,0)","v":0}]
[null,{"$f":"NAMES!C32","v":"Player 5"},{"$f":"Q8","v":-1E-3},{"$f":"RESULTS!$M$15","v":-1E-3},{"$f":"O8","v":-1E-3},{"$f":"Q11","v":-1E-3},{"$f":"RESULTS!$I$10","v":-1E-3},{"$f":"O11","v":-1E-3},{"$f":"Q14","v":-1E-3},{"$f":"RESULTS!$Q$6","v":-1E-3},{"$f":"O14","v":-1E-3},{"$f":"Q17","v":-1E-3},{"$f":"RESULTS!$E$22","v":-1E-3},{"$f":"O17","v":-1E-3},null,null,null,{"$f":"SCORES!D33","v":-1E-3},{"$f":"RESULTS!$E$12","v":-1E-3},{"$f":"SCORES!D35","v":-1E-3},{"$f":"SCORES!H47","v":-1E-3},{"$f":"RESULTS!$M$6","v":-1E-3},{"$f":"SCORES!H49","v":-1E-3},{"$f":"SCORES!L98","v":-1E-3},{"$f":"RESULTS!$U$11","v":-1E-3},{"$f":"SCORES!L96","v":-1E-3},{"$f":"SCORES!H19","v":-1E-3},{"$f":"RESULTS!$I$18","v":-1E-3},{"$f":"SCORES!H21","v":-1E-3},{"$f":"SCORES!L56","v":-1E-3},{"$f":"RESULTS!$Q$19","v":-1E-3},{"$f":"SCORES!L54","v":-1E-3},null,{"$f":"SUM(C19:AF19)","v":0},{"$f":"SUM(C20,F20,I20,L20,O20,R20,U20,X20,AA20,AD20)","v":-9.0000000000000011E-3},{"$f":"SUM(E20,H20,K20,N20,Q20,T20,W20,Z20,AC20,AF20)","v":-9.0000000000000011E-3},{"$f":"SUM(C21:AF21)","v":0},null,{"$f":"VLOOKUP(C19,PLACE1,5,FALSE)","v":6}]
[null,{"$f":"SEED!E11","v":0},null,{"$f":"C20-E20","v":0},null,null,{"$f":"F20-H20","v":0},null,null,{"$f":"I20-K20","v":0},null,null,{"$f":"L20-N20","v":0},null,null,null,null,null,{"$f":"R20-T20","v":0},null,null,{"$f":"U20-W20","v":0},null,null,{"$f":"X20-Z20","v":0},null,null,{"$f":"AA20-AC20","v":0},null,null,{"$f":"AD20-AF20","v":0}]
[null,{"$f":"NAMES!C36","v":"Block 1"},"plyr6",{"$f":"IF(E22=1,\"W\",\"\")","v":""},{"$f":"IF(D24>0,1,0)","v":0},null,{"$f":"IF(H22=1,\"W\",\"\")","v":""},{"$f":"IF(G24>0,1,0)","v":0},null,{"$f":"IF(K22=1,\"W\",\"\")","v":""},{"$f":"IF(J24>0,1,0)","v":0},null,{"$f":"IF(N22=1,\"W\",\"\")","v":""},{"$f":"IF(M24>0,1,0)","v":0},null,{"$f":"IF(Q22=1,\"W\",\"\")","v":""},{"$f":"IF(P24>0,1,0)","v":0},null,null,null,null,{"$f":"IF(W22=1,\"W\",\"\")","v":""},{"$f":"IF(V24>0,1,0)","v":0},null,{"$f":"IF(Z22=1,\"W\",\"\")","v":""},{"$f":"IF(Y24>0,1,0)","v":0},null,{"$f":"IF(AC22=1,\"W\",\"\")","v":""},{"$f":"IF(AB24>0,1,0)","v":0},null,{"$f":"IF(AF22=1,\"W\",\"\")","v":""},{"$f":"IF(AE24>0,1,0)","v":0}]
[null,{"$f":"NAMES!C37","v":"Player 6"},{"$f":"T8","v":-1E-3},{"$f":"RESULTS!$M$5","v":-1E-3},{"$f":"R8","v":-1E-3},{"$f":"T11","v":-1E-3},{"$f":"RESULTS!$Q$9","v":-1E-3},{"$f":"R11","v":-1E-3},{"$f":"T14","v":-1E-3},{"$f":"RESULTS!$E$20","v":-1E-3},{"$f":"R14","v":-1E-3},{"$f":"T17","v":-1E-3},{"$f":"RESULTS!$M$17","v":-1E-3},{"$f":"R17","v":-1E-3},{"$f":"T20","v":-1E-3},{"$f":"RESULTS!$E$13","v":-1E-3},{"$f":"R20","v":-1E-3},null,null,null,{"$f":"SCORES!L105","v":-1E-3},{"$f":"RESULTS!$U$13","v":-1E-3},{"$f":"SCORES!L103","v":-1E-3},{"$f":"SCORES!H12","v":-1E-3},{"$f":"RESULTS!$I$16","v":-1E-3},{"$f":"SCORES!H14","v":-1E-3},{"$f":"SCORES!L63","v":-1E-3},{"$f":"RESULTS!$Q$21","v":-1E-3},{"$f":"SCORES!L61","v":-1E-3},{"$f":"SCORES!D89","v":-1E-3},{"$f":"RESULTS!$I$8","v":-1E-3},{"$f":"SCORES!D91","v":-1E-3},null,{"$f":"SUM(C22:AF22)","v":0},{"$f":"SUM(C23,F23,I23,L23,O23,R23,U23,X23,AA23,AD23)","v":-9.0000000000000011E-3},{"$f":"SUM(E23,H23,K23,N23,Q23,T23,W23,Z23,AC23,AF23)","v":-9.0000000000000011E-3},{"$f":"SUM(C24:AF24)","v":0},null,{"$f":"VLOOKUP(C22,PLACE1,5,FALSE)","v":5}]
[null,{"$f":"SEED!E12","v":0},null,{"$f":"C23-E23","v":0},null,null,{"$f":"F23-H23","v":0},null,null,{"$f":"I23-K23","v":0},null,null,{"$f":"L23-N23","v":0},null,null,{"$f":"O23-Q23","v":0},null,null,null,null,null,{"$f":"U23-W23","v":0},null,null,{"$f":"X23-Z23","v":0},null,null,{"$f":"AA23-AC23","v":0},null,null,{"$f":"AD23-AF23","v":0}]
[null,{"$f":"NAMES!C41","v":"Block 1"},"plyr7",{"$f":"IF(E25=1,\"W\",\"\")","v":""},{"$f":"IF(D27>0,1,0)","v":0},null,{"$f":"IF(H25=1,\"W\",\"\")","v":""},{"$f":"IF(G27>0,1,0)","v":0},null,{"$f":"IF(K25=1,\"W\",\"\")","v":""},{"$f":"IF(J27>0,1,0)","v":0},null,{"$f":"IF(N25=1,\"W\",\"\")","v":""},{"$f":"IF(M27>0,1,0)","v":0},null,{"$f":"IF(Q25=1,\"W\",\"\")","v":""},{"$f":"IF(P27>0,1,0)","v":0},null,{"$f":"IF(T25=1,\"W\",\"\")","v":""},{"$f":"IF(S27>0,1,0)","v":0},null,null,null,null,{"$f":"IF(Z25=1,\"W\",\"\")","v":""},{"$f":"IF(Y27>0,1,0)","v":0},null,{"$f":"IF(AC25=1,\"W\",\"\")","v":""},{"$f":"IF(AB27>0,1,0)","v":0},null,{"$f":"IF(AF25=1,\"W\",\"\")","v":""},{"$f":"IF(AE27>0,1,0)","v":0}]
[null,{"$f":"NAMES!C42","v":"Player 7"},{"$f":"W8","v":-1E-3},{"$f":"RESULTS!$I$15","v":-1E-3},{"$f":"U8","v":-1E-3},{"$f":"W11","v":-1E-3},{"$f":"RESULTS!$E$18","v":-1E-3},{"$f":"U11","v":-1E-3},{"$f":"W14","v":-1E-3},{"$f":"RESULTS!$M$19","v":-1E-3},{"$f":"U14","v":-1E-3},{"$f":"W17","v":-1E-3},{"$f":"RESULTS!$E$11","v":-1E-3},{"$f":"U17","v":-1E-3},{"$f":"W20","v":-1E-3},{"$f":"RESULTS!$M$7","v":-1E-3},{"$f":"U20","v":-1E-3},{"$f":"W23","v":-1E-3},{"$f":"RESULTS!$U$12","v":-1E-3},{"$f":"U23","v":-1E-3},null,null,null,{"$f":"SCORES!L70","v":-1E-3},{"$f":"RESULTS!$Q$23","v":-1E-3},{"$f":"SCORES!L68","v":-1E-3},{"$f":"SCORES!D82","v":-1E-3},{"$f":"RESULTS!$I$6","v":-1E-3},{"$f":"SCORES!D84","v":-1E-3},{"$f":"SCORES!L28","v":-1E-3},{"$f":"RESULTS!$Q$11","v":-1E-3},{"$f":"SCORES!L26","v":-1E-3},null,{"$f":"SUM(C25:AF25)","v":0},{"$f":"SUM(C26,F26,I26,L26,O26,R26,U26,X26,AA26,AD26)","v":-9.0000000000000011E-3},{"$f":"SUM(E26,H26,K26,N26,Q26,T26,W26,Z26,AC26,AF26)","v":-9.0000000000000011E-3},{"$f":"SUM(C27:AF27)","v":0},null,{"$f":"VLOOKUP(C25,PLACE1,5,FALSE)","v":4}]
[null,{"$f":"SEED!E13","v":0},null,{"$f":"C26-E26","v":0},null,null,{"$f":"F26-H26","v":0},null,null,{"$f":"I26-K26","v":0},null,null,{"$f":"L26-N26","v":0},null,null,{"$f":"O26-Q26","v":0},null,null,{"$f":"R26-T26","v":0},null,null,null,null,null,{"$f":"X26-Z26","v":0},null,null,{"$f":"AA26-AC26","v":0},null,null,{"$f":"AD26-AF26","v":0}]
[null,{"$f":"NAMES!C46","v":"Block 1"},"plyr8",{"$f":"IF(E28=1,\"W\",\"\")","v":""},{"$f":"IF(D30>0,1,0)","v":0},null,{"$f":"IF(H28=1,\"W\",\"\")","v":""},{"$f":"IF(G30>0,1,0)","v":0},null,{"$f":"IF(K28=1,\"W\",\"\")","v":""},{"$f":"IF(J30>0,1,0)","v":0},null,{"$f":"IF(N28=1,\"W\",\"\")","v":""},{"$f":"IF(M30>0,1,0)","v":0},null,{"$f":"IF(Q28=1,\"W\",\"\")","v":""},{"$f":"IF(P30>0,1,0)","v":0},null,{"$f":"IF(T28=1,\"W\",\"\")","v":""},{"$f":"IF(S30>0,1,0)","v":0},null,{"$f":"IF(W28=1,\"W\",\"\")","v":""},{"$f":"IF(V30>0,1,0)","v":0},null,null,null,null,{"$f":"IF(AC28=1,\"W\",\"\")","v":""},{"$f":"IF(AB30>0,1,0)","v":0},null,{"$f":"IF(AF28=1,\"W\",\"\")","v":""},{"$f":"IF(AE30>0,1,0)","v":0}]
[null,{"$f":"NAMES!C47","v":"Player 8"},{"$f":"Z8","v":-1E-3},{"$f":"RESULTS!$I$5","v":-1E-3},{"$f":"X8","v":-1E-3},{"$f":"Z11","v":-1E-3},{"$f":"RESULTS!$M$21","v":-1E-3},{"$f":"X11","v":-1E-3},{"$f":"Z14","v":-1E-3},{"$f":"RESULTS!$E$9","v":-1E-3},{"$f":"X14","v":-1E-3},{"$f":"Z17","v":-1E-3},{"$f":"RESULTS!$M$9","v":-1E-3},{"$f":"X17","v":-1E-3},{"$f":"Z20","v":-1E-3},{"$f":"RESULTS!$U$10","v":-1E-3},{"$f":"X20","v":-1E-3},{"$f":"Z23","v":-1E-3},{"$f":"RESULTS!$I$17","v":-1E-3},{"$f":"X23","v":-1E-3},{"$f":"Z26","v":-1E-3},{"$f":"RESULTS!$Q$22","v":-1E-3},{"$f":"X26","v":-1E-3},null,null,null,{"$f":"SCORES!L35","v":-1E-3},{"$f":"RESULTS!$Q$13","v":-1E-3},{"$f":"SCORES!L33","v":-1E-3},{"$f":"SCORES!D47","v":-1E-3},{"$f":"RESULTS!$E$16","v":-1E-3},{"$f":"SCORES!D49","v":-1E-3},null,{"$f":"SUM(C28:AF28)","v":0},{"$f":"SUM(C29,F29,I29,L29,O29,R29,U29,X29,AA29,AD29)","v":-9.0000000000000011E-3},{"$f":"SUM(E29,H29,K29,N29,Q29,T29,W29,Z29,AC29,AF29)","v":-9.0000000000000011E-3},{"$f":"SUM(C30:AF30)","v":0},null,{"$f":"VLOOKUP(C28,PLACE1,5,FALSE)","v":3}]
[null,{"$f":"SEED!E14","v":0},null,{"$f":"C29-E29","v":0},null,null,{"$f":"F29-H29","v":0},null,null,{"$f":"I29-K29","v":0},null,null,{"$f":"L29-N29","v":0},null,null,{"$f":"O29-Q29","v":0},null,null,{"$f":"R29-T29","v":0},null,null,{"$f":"U29-W29","v":0},null,null,null,null,null,{"$f":"AA29-AC29","v":0},null,null,{"$f":"AD29-AF29","v":0}]
[null,{"$f":"NAMES!C51","v":"Block 1"},"plyr9",{"$f":"IF(E31=1,\"W\",\"\")","v":""},{"$f":"IF(D33>0,1,0)","v":0},null,{"$f":"IF(H31=1,\"W\",\"\")","v":""},{"$f":"IF(G33>0,1,0)","v":0},null,{"$f":"IF(K31=1,\"W\",\"\")","v":""},{"$f":"IF(J33>0,1,0)","v":0},null,{"$f":"IF(N31=1,\"W\",\"\")","v":""},{"$f":"IF(M33>0,1,0)","v":0},null,{"$f":"IF(Q31=1,\"W\",\"\")","v":""},{"$f":"IF(P33>0,1,0)","v":0},null,{"$f":"IF(T31=1,\"W\",\"\")","v":""},{"$f":"IF(S33>0,1,0)","v":0},null,{"$f":"IF(W31=1,\"W\",\"\")","v":""},{"$f":"IF(V33>0,1,0)","v":0},null,{"$f":"IF(Z31=1,\"W\",\"\")","v":""},{"$f":"IF(Y33>0,1,0)","v":0},null,null,null,null,{"$f":"IF(AF31=1,\"W\",\"\")","v":""},{"$f":"IF(AE33>0,1,0)","v":0}]
[null,{"$f":"NAMES!C52","v":"Player 9"},{"$f":"AC8","v":-1E-3},{"$f":"RESULTS!$E$15","v":-1E-3},{"$f":"AA8","v":-1E-3},{"$f":"AC11","v":-1E-3},{"$f":"RESULTS!$E$7","v":-1E-3},{"$f":"AA11","v":-1E-3},{"$f":"AC14","v":-1E-3},{"$f":"RESULTS!$M$11","v":-1E-3},{"$f":"AA14","v":-1E-3},{"$f":"AC17","v":-1E-3},{"$f":"RESULTS!$U$8","v":-1E-3},{"$f":"AA17","v":-1E-3},{"$f":"AC20","v":-1E-3},{"$f":"RESULTS!$I$19","v":-1E-3},{"$f":"AA20","v":-1E-3},{"$f":"AC23","v":-1E-3},{"$f":"RESULTS!$Q$20","v":-1E-3},{"$f":"AA23","v":-1E-3},{"$f":"AC26","v":-1E-3},{"$f":"RESULTS!$I$7","v":-1E-3},{"$f":"AA26","v":-1E-3},{"$f":"AC29","v":-1E-3},{"$f":"RESULTS!$Q$12","v":-1E-3},{"$f":"AA29","v":-1E-3},null,null,null,{"$f":"SCORES!H105","v":-1E-3},{"$f":"RESULTS!$M$23","v":-1E-3},{"$f":"SCORES!H103","v":-1E-3},null,{"$f":"SUM(C31:AF31)","v":0},{"$f":"SUM(C32,F32,I32,L32,O32,R32,U32,X32,AA32,AD32)","v":-9.0000000000000011E-3},{"$f":"SUM(E32,H32,K32,N32,Q32,T32,W32,Z32,AC32,AF32)","v":-9.0000000000000011E-3},{"$f":"SUM(C33:AF33)","v":0},null,{"$f":"VLOOKUP(C31,PLACE1,5,FALSE)","v":2}]
[null,{"$f":"SEED!E15","v":0},null,{"$f":"C32-E32","v":0},null,null,{"$f":"F32-H32","v":0},null,null,{"$f":"I32-K32","v":0},null,null,{"$f":"L32-N32","v":0},null,null,{"$f":"O32-Q32","v":0},null,null,{"$f":"R32-T32","v":0},null,null,{"$f":"U32-W32","v":0},null,null,{"$f":"X32-Z32","v":0},null,null,null,null,null,{"$f":"AD32-AF32","v":0}]
[null,{"$f":"NAMES!C56","v":"Block 1"},"plyr10",{"$f":"IF(E34=1,\"W\",\"\")","v":""},{"$f":"IF(D36>0,1,0)","v":0},null,{"$f":"IF(H34=1,\"W\",\"\")","v":""},{"$f":"IF(G36>0,1,0)","v":0},null,{"$f":"IF(K34=1,\"W\",\"\")","v":""},{"$f":"IF(J36>0,1,0)","v":0},null,{"$f":"IF(N34=1,\"W\",\"\")","v":""},{"$f":"IF(M36>0,1,0)","v":0},null,{"$f":"IF(Q34=1,\"W\",\"\")","v":""},{"$f":"IF(P36>0,1,0)","v":0},null,{"$f":"IF(T34=1,\"W\",\"\")","v":""},{"$f":"IF(S36>0,1,0)","v":0},null,{"$f":"IF(W34=1,\"W\",\"\")","v":""},{"$f":"IF(V36>0,1,0)","v":0},null,{"$f":"IF(Z34=1,\"W\",\"\")","v":""},{"$f":"IF(Y36>0,1,0)","v":0},null,{"$f":"IF(AC34=1,\"W\",\"\")","v":""},{"$f":"IF(AB36>0,1,0)","v":0}]
[null,{"$f":"NAMES!C57","v":"Player 10"},{"$f":"AF8","v":-1E-3},{"$f":"RESULTS!$E$5","v":-1E-3},{"$f":"AD8","v":-1E-3},{"$f":"AF11","v":-1E-3},{"$f":"RESULTS!$M$13","v":-1E-3},{"$f":"AD11","v":-1E-3},{"$f":"AF14","v":-1E-3},{"$f":"RESULTS!$U$6","v":-1E-3},{"$f":"AD14","v":-1E-3},{"$f":"AF17","v":-1E-3},{"$f":"RESULTS!$I$21","v":-1E-3},{"$f":"AD17","v":-1E-3},{"$f":"AF20","v":-1E-3},{"$f":"RESULTS!$Q$18","v":-1E-3},{"$f":"AD20","v":-1E-3},{"$f":"AF23","v":-1E-3},{"$f":"RESULTS!$I$9","v":-1E-3},{"$f":"AD23","v":-1E-3},{"$f":"AF26","v":-1E-3},{"$f":"RESULTS!$Q$10","v":-1E-3},{"$f":"AD26","v":-1E-3},{"$f":"AF29","v":-1E-3},{"$f":"RESULTS!$E$17","v":-1E-3},{"$f":"AD29","v":-1E-3},{"$f":"AF32","v":-1E-3},{"$f":"RESULTS!$M$22","v":-1E-3},{"$f":"AD32","v":-1E-3},null,null,null,null,{"$f":"SUM(C34:AF34)","v":0},{"$f":"SUM(C35,F35,I35,L35,O35,R35,U35,X35,AA35,AD35)","v":-9.0000000000000011E-3},{"$f":"SUM(E35,H35,K35,N35,Q35,T35,W35,Z35,AC35,AF35)","v":-9.0000000000000011E-3},{"$f":"SUM(C36:AF36)","v":0},null,{"$f":"VLOOKUP(C34,PLACE1,5,FALSE)","v":1}]
[null,{"$f":"SEED!E16","v":0},null,{"$f":"C35-E35","v":0},null,null,{"$f":"F35-H35","v":0},null,null,{"$f":"I35-K35","v":0},null,null,{"$f":"L35-N35","v":0},null,null,{"$f":"O35-Q35","v":0},null,null,{"$f":"R35-T35","v":0},null,null,{"$f":"U35-W35","v":0},null,null,{"$f":"X35-Z35","v":0},null,null,{"$f":"AA35-AC35","v":0}]
[null,null,null,null,null,null,null,null,null,null,null,null,null,null,null,null,null,null,null,null,null,null,null,null,null,null,null,null,null,null,null,null,null,{"$f":"SUM(AH8:AH35)","v":0},{"$f":"SUM(AI8:AI35)","v":-9.0000000000000024E-2},{"$f":"SUM(AJ8:AJ35)","v":-9.0000000000000024E-2},{"$f":"SUM(AK8:AK35)","v":0}]
[]
[null,null,null,null,null,null,null,null,{"$f":"I2","v":"TOURNAMENT"}]
[null,null,null,null,null,null,null,null,{"$f":"NAMES!$C$9","v":"DATE"}]
[null,null,null,null,null,null,null,null,{"$f":"I4","v":"GROUP"}]
[]
[null,{"$f":"SEED!J5","v":"BLOCK 2"},{"$f":"SEED!J7","v":" Block 2 Player 1"},null,null,{"$f":"SEED!J8","v":" Block 2 Player 2"},null,null,{"$f":"SEED!J9","v":" Block 2 Player 3"},null,null,{"$f":"SEED!J10","v":" Block 2 Player 4"},null,null,{"$f":"SEED!J11","v":" Block 2 Player 5"},null,null,{"$f":"SEED!J12","v":" Block 2 Player 6"},null,null,{"$f":"SEED!J13","v":" Block 2 Player 7"},null,null,{"$f":"SEED!J14","v":" Block 2 Player 8"},null,null,{"$f":"SEED!J15","v":" Block 2 Player 9"},null,null,{"$f":"SEED!J16","v":" Block 2 Player 10"},null,null,null," WINS"," POINTS FOR"," POINT AGAIST"," NET   POINTS",null,"BLOCK PLACE"]
[null,{"$f":"NAMES!C62","v":"Block 2"},"plyr1",null,null,null,{"$f":"IF(H44=1,\"W\",\"\")","v":""},{"$f":"IF(G46>0,1,0)","v":0},null,{"$f":"IF(K44=1,\"W\",\"\")","v":""},{"$f":"IF(J46>0,1,0)","v":0},null,{"$f":"IF(N44=1,\"W\",\"\")","v":""},{"$f":"IF(M46>0,1,0)","v":0},null,{"$f":"IF(Q44=1,\"W\",\"\")","v":""},{"$f":"IF(P46>0,1,0)","v":0},null,{"$f":"IF(T44=1,\"W\",\"\")","v":""},{"$f":"IF(S46>0,1,0)","v":0},null,{"$f":"IF(W44=1,\"W\",\"\")","v":""},{"$f":"IF(V46>0,1,0)","v":0},null,{"$f":"IF(Z44=1,\"W\",\"\")","v":""},{"$f":"IF(Y46>0,1,0)","v":0},null,{"$f":"IF(AC44=1,\"W\",\"\")","v":""},{"$f":"IF(AB46>0,1,0)","v":0},null,{"$f":"IF(AF44=1,\"W\",\"\")","v":""},{"$f":"IF(AE46>0,1,0)","v":0},null,null,null,null,null,null,null,null,null,"NAME","WINS","NET","FOR"]
[null,{"$f":"NAMES!C63","v":"Player 1"},null,null,null,{"$f":"SCORES!L180","v":-1E-3},{"$f":"RESULTS!$U$28","v":-1E-3},{"$f":"SCORES!L182","v":-1E-3},{"$f":"SCORES!L145","v":-1E-3},{"$f":"RESULTS!$Q$38","v":-1E-3},{"$f":"SCORES!L147","v":-1E-3},{"$f":"SCORES!L110","v":-1E-3},{"$f":"RESULTS!$Q$28","v":-1E-3},{"$f":"SCORES!L112","v":-1E-3},{"$f":"SCORES!H180","v":-1E-3},{"$f":"RESULTS!$M$38","v":-1E-3},{"$f":"SCORES!H182","v":-1E-3},{"$f":"SCORES!H145","v":-1E-3},{"$f":"RESULTS!$M$28","v":-1E-3},{"$f":"SCORES!H147","v":-1E-3},{"$f":"SCORES!H110","v":-1E-3},{"$f":"RESULTS!$I$38","v":-1E-3},{"$f":"SCORES!H112","v":-1E-3},{"$f":"SCORES!D180","v":-1E-3},{"$f":"RESULTS!$I$28","v":-1E-3},{"$f":"SCORES!D182","v":-1E-3},{"$f":"SCORES!D145","v":-1E-3},{"$f":"RESULTS!$E$38","v":-1E-3},{"$f":"SCORES!D147","v":-1E-3},{"$f":"SCORES!D110","v":-1E-3},{"$f":"RESULTS!$E$28","v":-1E-3},{"$f":"SCORES!D112","v":-1E-3},null,{"$f":"SUM(C44:AF44)","v":0},{"$f":"SUM(C45,F45,I45,L45,O45,R45,U45,X45,AA45,AD45)","v":-9.0000000000000011E-3},{"$f":"SUM(E45,H45,K45,N45,Q45,T45,W45,Z45,AC45,AF45)","v":-9.0000000000000011E-3},{"$f":"SUM(C46:AF46)","v":0},null,{"$f":"VLOOKUP(C44,PLACE2,5,FALSE)","v":10},null,null,{"$f":"$C$71","v":"plyr10"},{"$f":"$AH$72","v":0},{"$f":"$AK$72","v":0},{"$f":"AI72","v":-9.0000000000000011E-3},1]
[null,{"$f":"SEED!K7","v":0},null,null,null,null,{"$f":"F45-H45","v":0},null,null,{"$f":"I45-K45","v":0},null,null,{"$f":"L45-N45","v":0},null,null,{"$f":"O45-Q45","v":0},null,null,{"$f":"R45-T45","v":0},null,null,{"$f":"U45-W45","v":0},null,null,{"$f":"X45-Z45","v":0},null,null,{"$f":"AA45-AC45","v":0},null,null,{"$f":"AD45-AF45","v":0},null,null,null,null,null,null,null,null,null,null,{"$f":"$C$68","v":"plyr9"},{"$f":"$AH$69","v":0},{"$f":"$AK$69","v":0},{"$f":"AI69","v":-9.0000000000000011E-3},2]
[null,{"$f":"NAMES!C67","v":"Block 2"},"plyr2",{"$f":"IF(E47=1,\"W\",\"\")","v":""},{"$f":"IF(D49>0,1,0)","v":0},null,null,null,null,{"$f":"IF(K47=1,\"W\",\"\")","v":""},{"$f":"IF(J49>0,1,0)","v":0},null,{"$f":"IF(N47=1,\"W\",\"\")","v":""},{"$f":"IF(M49>0,1,0)","v":0},null,{"$f":"IF(Q47=1,\"W\",\"\")","v":""},{"$f":"IF(P49>0,1,0)","v":0},null,{"$f":"IF(T47=1,\"W\",\"\")","v":""},{"$f":"IF(S49>0,1,0)","v":0},null,{"$f":"IF(W47=1,\"W\",\"\")","v":""},{"$f":"IF(V49>0,1,0)","v":0},null,{"$f":"IF(Z47=1,\"W\",\"\")","v":""},{"$f":"IF(Y49>0,1,0)","v":0},null,{"$f":"IF(AC47=1,\"W\",\"\")","v":""},{"$f":"IF(AB49>0,1,0)","v":0},null,{"$f":"IF(AF47=1,\"W\",\"\")","v":""},{"$f":"IF(AE49>0,1,0)","v":0},null,null,null,null,null,null,null,null,null,{"$f":"$C$65","v":"plyr8"},{"$f":"$AH$66","v":0},{"$f":"$AK$66","v":0},{"$f":"AI66","v":-9.0000000000000011E-3},3]
[null,{"$f":"NAMES!C68","v":"Player 2"},{"$f":"H45","v":-1E-3},{"$f":"RESULTS!$U$29","v":-1E-3},{"$f":"F45","v":-1E-3},null,null,null,{"$f":"SCORES!H140","v":-1E-3},{"$f":"RESULTS!$I$47","v":-1E-3},{"$f":"SCORES!H138","v":-1E-3},{"$f":"SCORES!L152","v":-1E-3},{"$f":"RESULTS!$Q$40","v":-1E-3},{"$f":"SCORES!L154","v":-1E-3},{"$f":"SCORES!D203","v":-1E-3},{"$f":"RESULTS!$I$35","v":-1E-3},{"$f":"SCORES!D201","v":-1E-3},{"$f":"SCORES!L124","v":-1E-3},{"$f":"RESULTS!$Q$32","v":-1E-3},{"$f":"SCORES!L126","v":-1E-3},{"$f":"SCORES!D161","v":-1E-3},{"$f":"RESULTS!$E$43","v":-1E-3},{"$f":"SCORES!D159","v":-1E-3},{"$f":"SCORES!H201","v":-1E-3},{"$f":"RESULTS!$M$44","v":-1E-3},{"$f":"SCORES!H203","v":-1E-3},{"$f":"SCORES!D117","v":-1E-3},{"$f":"RESULTS!$E$30","v":-1E-3},{"$f":"SCORES!D119","v":-1E-3},{"$f":"SCORES!H173","v":-1E-3},{"$f":"RESULTS!$M$36","v":-1E-3},{"$f":"SCORES!H175","v":-1E-3},null,{"$f":"SUM(C47:AF47)","v":0},{"$f":"SUM(C48,F48,I48,L48,O48,R48,U48,X48,AA48,AD48)","v":-9.0000000000000011E-3},{"$f":"SUM(E48,H48,K48,N48,Q48,T48,W48,Z48,AC48,AF48)","v":-9.0000000000000011E-3},{"$f":"SUM(C49:AF49)","v":0},null,{"$f":"VLOOKUP(C47,PLACE2,5,FALSE)","v":9},null,null,{"$f":"$C$62","v":"plyr7"},{"$f":"$AH$63","v":0},{"$f":"$AK$63","v":0},{"$f":"AI63","v":-9.0000000000000011E-3},4]
[null,{"$f":"SEED!K8","v":0},null,{"$f":"C48-E48","v":0},null,null,null,null,null,{"$f":"I48-K48","v":0},null,null,{"$f":"L48-N48","v":0},null,null,{"$f":"O48-Q48","v":0},null,null,{"$f":"R48-T48","v":0},null,null,{"$f":"U48-W48","v":0},null,null,{"$f":"X48-Z48","v":0},null,null,{"$f":"AA48-AC48","v":0},null,null,{"$f":"AD48-AF48","v":0},null,null,null,null,null,null,null,null,null,null,{"$f":"$C$59","v":"plyr6"},{"$f":"$AH$60","v":0},{"$f":"$AK$60","v":0},{"$f":"AI60","v":-9.0000000000000011E-3},5]
[null,{"$f":"NAMES!C72","v":"Block 2"},"plyr3",{"$f":"IF(E50=1,\"W\",\"\")","v":""},{"$f":"IF(D52>0,1,0)","v":0},null,{"$f":"IF(H50=1,\"W\",\"\")","v":""},{"$f":"IF(G52>0,1,0)","v":0},null,null,null,null,{"$f":"IF(N50=1,\"W\",\"\")","v":""},{"$f":"IF(M52>0,1,0)","v":0},null,{"$f":"IF(Q50=1,\"W\",\"\")","v":""},{"$f":"IF(P52>0,1,0)","v":0},null,{"$f":"IF(T50=1,\"W\",\"\")","v":""},{"$f":"IF(S52>0,1,0)","v":0},null,{"$f":"IF(W50=1,\"W\",\"\")","v":""},{"$f":"IF(V52>0,1,0)","v":0},null,{"$f":"IF(Z50=1,\"W\",\"\")","v":""},{"$f":"IF(Y52>0,1,0)","v":0},null,{"$f":"IF(AC50=1,\"W\",\"\")","v":""},{"$f":"IF(AB52>0,1,0)","v":0},null,{"$f":"IF(AF50=1,\"W\",\"\")","v":""},{"$f":"IF(AE52>0,1,0)","v":0},null,null,null,null,null,null,null,null,null,{"$f":"$C$56","v":"plyr5"},{"$f":"$AH$57","v":0},{"$f":"$AK$57","v":0},{"$f":"AI57","v":-9.0000000000000011E-3},6]
[null,{"$f":"NAMES!C73","v":"Player 3"},{"$f":"K45","v":-1E-3},{"$f":"RESULTS!$Q$39","v":-1E-3},{"$f":"I45","v":-1E-3},{"$f":"K48","v":-1E-3},{"$f":"RESULTS!$I$46","v":-1E-3},{"$f":"I48","v":-1E-3},null,null,null,{"$f":"SCORES!D210","v":-1E-3},{"$f":"RESULTS!$I$37","v":-1E-3},{"$f":"SCORES!D208","v":-1E-3},{"$f":"SCORES!L119","v":-1E-3},{"$f":"RESULTS!$Q$31","v":-1E-3},{"$f":"SCORES!L117","v":-1E-3},{"$f":"SCORES!D168","v":-1E-3},{"$f":"RESULTS!$E$45","v":-1E-3},{"$f":"SCORES!D166","v":-1E-3},{"$f":"SCORES!H194","v":-1E-3},{"$f":"RESULTS!$M$42","v":-1E-3},{"$f":"SCORES!H196","v":-1E-3},{"$f":"SCORES!D124","v":-1E-3},{"$f":"RESULTS!$E$32","v":-1E-3},{"$f":"SCORES!D126","v":-1E-3},{"$f":"SCORES!H166","v":-1E-3},{"$f":"RESULTS!$M$34","v":-1E-3},{"$f":"SCORES!H168","v":-1E-3},{"$f":"SCORES!L189","v":-1E-3},{"$f":"RESULTS!$U$31","v":-1E-3},{"$f":"SCORES!L187","v":-1E-3},null,{"$f":"SUM(C50:AF50)","v":0},{"$f":"SUM(C51,F51,I51,L51,O51,R51,U51,X51,AA51,AD51)","v":-9.0000000000000011E-3},{"$f":"SUM(E51,H51,K51,N51,Q51,T51,W51,Z51,AC51,AF51)","v":-9.0000000000000011E-3},{"$f":"SUM(C52:AF52)","v":0},null,{"$f":"VLOOKUP(C50,PLACE2,5,FALSE)","v":8},null,null,{"$f":"$C$53","v":"plyr4"},{"$f":"$AH$54","v":0},{"$f":"$AK$54","v":0},{"$f":"AI54","v":-9.0000000000000011E-3},7]
[null,{"$f":"SEED!K9","v":0},null,{"$f":"C51-E51","v":0},null,null,{"$f":"F51-H51","v":0},null,null,null,null,null,{"$f":"L51-N51","v":0},null,null,{"$f":"O51-Q51","v":0},null,null,{"$f":"R51-T51","v":0},null,null,{"$f":"U51-W51","v":0},null,null,{"$f":"X51-Z51","v":0},null,null,{"$f":"AA51-AC51","v":0},null,null,{"$f":"AD51-AF51","v":0},null,null,null,null,null,null,null,null,null,null,{"$f":"$C$50","v":"plyr3"},{"$f":"$AH$51","v":0},{"$f":"$AK$51","v":0},{"$f":"AI51","v":-9.0000000000000011E-3},8]
[null,{"$f":"NAMES!C77","v":"Block 2"},"plyr4",{"$f":"IF(E53=1,\"W\",\"\")","v":""},{"$f":"IF(D55>0,1,0)","v":0},null,{"$f":"IF(H53=1,\"W\",\"\")","v":""},{"$f":"IF(G55>0,1,0)","v":0},null,{"$f":"IF(K53=1,\"W\",\"\")","v":""},{"$f":"IF(J55>0,1,0)","v":0},null,null,null,null,{"$f":"IF(Q53=1,\"W\",\"\")","v":""},{"$f":"IF(P55>0,1,0)","v":0},null,{"$f":"IF(T53=1,\"W\",\"\")","v":""},{"$f":"IF(S55>0,1,0)","v":0},null,{"$f":"IF(W53=1,\"W\",\"\")","v":""},{"$f":"IF(V55>0,1,0)","v":0},null,{"$f":"IF(Z53=1,\"W\",\"\")","v":""},{"$f":"IF(Y55>0,1,0)","v":0},null,{"$f":"IF(AC53=1,\"W\",\"\")","v":""},{"$f":"IF(AB55>0,1,0)","v":0},null,{"$f":"IF(AF53=1,\"W\",\"\")","v":""},{"$f":"IF(AE55>0,1,0)","v":0},null,null,null,null,null,null,null,null,null,{"$f":"$C$47","v":"plyr2"},{"$f":"$AH$48","v":0},{"$f":"$AK$48","v":0},{"$f":"AI48","v":-9.0000000000000011E-3},9]
[null,{"$f":"NAMES!C78","v":"Player 4"},{"$f":"N45","v":-1E-3},{"$f":"RESULTS!$Q$29","v":-1E-3},{"$f":"L45","v":-1E-3},{"$f":"N48","v":-1E-3},{"$f":"RESULTS!$Q$41","v":-1E-3},{"$f":"L48","v":-1E-3},{"$f":"N51","v":-1E-3},{"$f":"RESULTS!$I$36","v":-1E-3},{"$f":"L51","v":-1E-3},null,null,null,{"$f":"SCORES!D175","v":-1E-3},{"$f":"RESULTS!$E$47","v":-1E-3},{"$f":"SCORES!D173","v":-1E-3},{"$f":"SCORES!H187","v":-1E-3},{"$f":"RESULTS!$M$40","v":-1E-3},{"$f":"SCORES!H189","v":-1E-3},{"$f":"SCORES!D131","v":-1E-3},{"$f":"RESULTS!$E$34","v":-1E-3},{"$f":"SCORES!D133","v":-1E-3},{"$f":"SCORES!H159","v":-1E-3},{"$f":"RESULTS!$M$32","v":-1E-3},{"$f":"SCORES!H161","v":-1E-3},{"$f":"SCORES!L196","v":-1E-3},{"$f":"RESULTS!$U$33","v":-1E-3},{"$f":"SCORES!L194","v":-1E-3},{"$f":"SCORES!H131","v":-1E-3},{"$f":"RESULTS!$I$44","v":-1E-3},{"$f":"SCORES!H133","v":-1E-3},null,{"$f":"SUM(C53:AF53)","v":0},{"$f":"SUM(C54,F54,I54,L54,O54,R54,U54,X54,AA54,AD54)","v":-9.0000000000000011E-3},{"$f":"SUM(E54,H54,K54,N54,Q54,T54,W54,Z54,AC54,AF54)","v":-9.0000000000000011E-3},{"$f":"SUM(C55:AF55)","v":0},null,{"$f":"VLOOKUP(C53,PLACE2,5,FALSE)","v":7},null,null,{"$f":"$C$44","v":"plyr1"},{"$f":"$AH$45","v":0},{"$f":"$AK$45","v":0},{"$f":"AI45","v":-9.0000000000000011E-3},10]
[null,{"$f":"SEED!K10","v":0},null,{"$f":"C54-E54","v":0},null,null,{"$f":"F54-H54","v":0},null,null,{"$f":"I54-K54","v":0},null,null,null,null,null,{"$f":"O54-Q54","v":0},null,null,{"$f":"R54-T54","v":0},null,null,{"$f":"U54-W54","v":0},null,null,{"$f":"X54-Z54","v":0},null,null,{"$f":"AA54-AC54","v":0},null,null,{"$f":"AD54-AF54","v":0}]
[null,{"$f":"NAMES!C82","v":"Block 2"},"plyr5",{"$f":"IF(E56=1,\"W\",\"\")","v":""},{"$f":"IF(D58>0,1,0)","v":0},null,{"$f":"IF(H56=1,\"W\",\"\")","v":""},{"$f":"IF(G58>0,1,0)","v":0},null,{"$f":"IF(K56=1,\"W\",\"\")","v":""},{"$f":"IF(J58>0,1,0)","v":0},null,{"$f":"IF(N56=1,\"W\",\"\")","v":""},{"$f":"IF(M58>0,1,0)","v":0},null,null,null,null,{"$f":"IF(T56=1,\"W\",\"\")","v":""},{"$f":"IF(S58>0,1,0)","v":0},null,{"$f":"IF(W56=1,\"W\",\"\")","v":""},{"$f":"IF(V58>0,1,0)","v":0},null,{"$f":"IF(Z56=1,\"W\",\"\")","v":""},{"$f":"IF(Y58>0,1,0)","v":0},null,{"$f":"IF(AC56=1,\"W\",\"\")","v":""},{"$f":"IF(AB58>0,1,0)","v":0},null,{"$f":"IF(AF56=1,\"W\",\"\")","v":""},{"$f":"IF(AE58>0,1,0)","v":0}]
[null,{"$f":"NAMES!C83","v":"Player 5"},{"$f":"Q45","v":-1E-3},{"$f":"RESULTS!$M$39","v":-1E-3},{"$f":"O45","v":-1E-3},{"$f":"Q48","v":-1E-3},{"$f":"RESULTS!$I$34","v":-1E-3},{"$f":"O48","v":-1E-3},{"$f":"Q51","v":-1E-3},{"$f":"RESULTS!$Q$30","v":-1E-3},{"$f":"O51","v":-1E-3},{"$f":"Q54","v":-1E-3},{"$f":"RESULTS!$E$46","v":-1E-3},{"$f":"O54","v":-1E-3},null,null,null,{"$f":"SCORES!D138","v":-1E-3},{"$f":"RESULTS!$E$36","v":-1E-3},{"$f":"SCORES!D140","v":-1E-3},{"$f":"SCORES!H152","v":-1E-3},{"$f":"RESULTS!$M$30","v":-1E-3},{"$f":"SCORES!H154","v":-1E-3},{"$f":"SCORES!L203","v":-1E-3},{"$f":"RESULTS!$U$35","v":-1E-3},{"$f":"SCORES!L201","v":-1E-3},{"$f":"SCORES!H124","v":-1E-3},{"$f":"RESULTS!$I$42","v":-1E-3},{"$f":"SCORES!H126","v":-1E-3},{"$f":"SCORES!L161","v":-1E-3},{"$f":"RESULTS!$Q$43","v":-1E-3},{"$f":"SCORES!L159","v":-1E-3},null,{"$f":"SUM(C56:AF56)","v":0},{"$f":"SUM(C57,F57,I57,L57,O57,R57,U57,X57,AA57,AD57)","v":-9.0000000000000011E-3},{"$f":"SUM(E57,H57,K57,N57,Q57,T57,W57,Z57,AC57,AF57)","v":-9.0000000000000011E-3},{"$f":"SUM(C58:AF58)","v":0},null,{"$f":"VLOOKUP(C56,PLACE2,5,FALSE)","v":6}]
[null,{"$f":"SEED!K11","v":0},null,{"$f":"C57-E57","v":0},null,null,{"$f":"F57-H57","v":0},null,null,{"$f":"I57-K57","v":0},null,null,{"$f":"L57-N57","v":0},null,null,null,null,null,{"$f":"R57-T57","v":0},null,null,{"$f":"U57-W57","v":0},null,null,{"$f":"X57-Z57","v":0},null,null,{"$f":"AA57-AC57","v":0},null,null,{"$f":"AD57-AF57","v":0}]
[null,{"$f":"NAMES!C87","v":"Block 2"},"plyr6",{"$f":"IF(E59=1,\"W\",\"\")","v":""},{"$f":"IF(D61>0,1,0)","v":0},null,{"$f":"IF(H59=1,\"W\",\"\")","v":""},{"$f":"IF(G61>0,1,0)","v":0},null,{"$f":"IF(K59=1,\"W\",\"\")","v":""},{"$f":"IF(J61>0,1,0)","v":0},null,{"$f":"IF(N59=1,\"W\",\"\")","v":""},{"$f":"IF(M61>0,1,0)","v":0},null,{"$f":"IF(Q59=1,\"W\",\"\")","v":""},{"$f":"IF(P61>0,1,0)","v":0},null,null,null,null,{"$f":"IF(W59=1,\"W\",\"\")","v":""},{"$f":"IF(V61>0,1,0)","v":0},null,{"$f":"IF(Z59=1,\"W\",\"\")","v":""},{"$f":"IF(Y61>0,1,0)","v":0},null,{"$f":"IF(AC59=1,\"W\",\"\")","v":""},{"$f":"IF(AB61>0,1,0)","v":0},null,{"$f":"IF(AF59=1,\"W\",\"\")","v":""},{"$f":"IF(AE61>0,1,0)","v":0}]
[null,{"$f":"NAMES!C88","v":"Player 6"},{"$f":"T45","v":-1E-3},{"$f":"RESULTS!$M$29","v":-1E-3},{"$f":"R45","v":-1E-3},{"$f":"T48","v":-1E-3},{"$f":"RESULTS!$Q$33","v":-1E-3},{"$f":"R48","v":-1E-3},{"$f":"T51","v":-1E-3},{"$f":"RESULTS!$E$44","v":-1E-3},{"$f":"R51","v":-1E-3},{"$f":"T54","v":-1E-3},{"$f":"RESULTS!$M$41","v":-1E-3},{"$f":"R54","v":-1E-3},{"$f":"T57","v":-1E-3},{"$f":"RESULTS!$E$37","v":-1E-3},{"$f":"R57","v":-1E-3},null,null,null,{"$f":"SCORES!L210","v":-1E-3},{"$f":"RESULTS!$U$37","v":-1E-3},{"$f":"SCORES!L208","v":-1E-3},{"$f":"SCORES!H117","v":-1E-3},{"$f":"RESULTS!$I$40","v":-1E-3},{"$f":"SCORES!H119","v":-1E-3},{"$f":"SCORES!L168","v":-1E-3},{"$f":"RESULTS!$Q$45","v":-1E-3},{"$f":"SCORES!L166","v":-1E-3},{"$f":"SCORES!D194","v":-1E-3},{"$f":"RESULTS!$I$32","v":-1E-3},{"$f":"SCORES!D196","v":-1E-3},null,{"$f":"SUM(C59:AF59)","v":0},{"$f":"SUM(C60,F60,I60,L60,O60,R60,U60,X60,AA60,AD60)","v":-9.0000000000000011E-3},{"$f":"SUM(E60,H60,K60,N60,Q60,T60,W60,Z60,AC60,AF60)","v":-9.0000000000000011E-3},{"$f":"SUM(C61:AF61)","v":0},null,{"$f":"VLOOKUP(C59,PLACE2,5,FALSE)","v":5}]
[null,{"$f":"SEED!K12","v":0},null,{"$f":"C60-E60","v":0},null,null,{"$f":"F60-H60","v":0},null,null,{"$f":"I60-K60","v":0},null,null,{"$f":"L60-N60","v":0},null,null,{"$f":"O60-Q60","v":0},null,null,null,null,null,{"$f":"U60-W60","v":0},null,null,{"$f":"X60-Z60","v":0},null,null,{"$f":"AA60-AC60","v":0},null,null,{"$f":"AD60-AF60","v":0}]
[null,{"$f":"NAMES!C92","v":"Block 2"},"plyr7",{"$f":"IF(E62=1,\"W\",\"\")","v":""},{"$f":"IF(D64>0,1,0)","v":0},null,{"$f":"IF(H62=1,\"W\",\"\")","v":""},{"$f":"IF(G64>0,1,0)","v":0},null,{"$f":"IF(K62=1,\"W\",\"\")","v":""},{"$f":"IF(J64>0,1,0)","v":0},null,{"$f":"IF(N62=1,\"W\",\"\")","v":""},{"$f":"IF(M64>0,1,0)","v":0},null,{"$f":"IF(Q62=1,\"W\",\"\")","v":""},{"$f":"IF(P64>0,1,0)","v":0},null,{"$f":"IF(T62=1,\"W\",\"\")","v":""},{"$f":"IF(S64>0,1,0)","v":0},null,null,null,null,{"$f":"IF(Z62=1,\"W\",\"\")","v":""},{"$f":"IF(Y64>0,1,0)","v":0},null,{"$f":"IF(AC62=1,\"W\",\"\")","v":""},{"$f":"IF(AB64>0,1,0)","v":0},null,{"$f":"IF(AF62=1,\"W\",\"\")","v":""},{"$f":"IF(AE64>0,1,0)","v":0}]
[null,{"$f":"NAMES!C93","v":"Player 7"},{"$f":"W45","v":-1E-3},{"$f":"RESULTS!$I$39","v":-1E-3},{"$f":"U45","v":-1E-3},{"$f":"W48","v":-1E-3},{"$f":"RESULTS!$E$42","v":-1E-3},{"$f":"U48","v":-1E-3},{"$f":"W51","v":-1E-3},{"$f":"RESULTS!$M$43","v":-1E-3},{"$f":"U51","v":-1E-3},{"$f":"W54","v":-1E-3},{"$f":"RESULTS!$E$35","v":-1E-3},{"$f":"U54","v":-1E-3},{"$f":"W57","v":-1E-3},{"$f":"RESULTS!$M$31","v":-1E-3},{"$f":"U57","v":-1E-3},{"$f":"W60","v":-1E-3},{"$f":"RESULTS!$U$36","v":-1E-3},{"$f":"U60","v":-1E-3},null,null,null,{"$f":"SCORES!L175","v":-1E-3},{"$f":"RESULTS!$Q$47","v":-1E-3},{"$f":"SCORES!L173","v":-1E-3},{"$f":"SCORES!D187","v":-1E-3},{"$f":"RESULTS!$I$30","v":-1E-3},{"$f":"SCORES!D189","v":-1E-3},{"$f":"SCORES!L133","v":-1E-3},{"$f":"RESULTS!$Q$35","v":-1E-3},{"$f":"SCORES!L131","v":-1E-3},null,{"$f":"SUM(C62:AF62)","v":0},{"$f":"SUM(C63,F63,I63,L63,O63,R63,U63,X63,AA63,AD63)","v":-9.0000000000000011E-3},{"$f":"SUM(E63,H63,K63,N63,Q63,T63,W63,Z63,AC63,AF63)","v":-9.0000000000000011E-3},{"$f":"SUM(C64:AF64)","v":0},null,{"$f":"VLOOKUP(C62,PLACE2,5,FALSE)","v":4}]
[null,{"$f":"SEED!K13","v":0},null,{"$f":"C63-E63","v":0},null,null,{"$f":"F63-H63","v":0},null,null,{"$f":"I63-K63","v":0},null,null,{"$f":"L63-N63","v":0},null,null,{"$f":"O63-Q63","v":0},null,null,{"$f":"R63-T63","v":0},null,null,null,null,null,{"$f":"X63-Z63","v":0},null,null,{"$f":"AA63-AC63","v":0},null,null,{"$f":"AD63-AF63","v":0}]
[null,{"$f":"NAMES!C97","v":"Block 2"},"plyr8",{"$f":"IF(E65=1,\"W\",\"\")","v":""},{"$f":"IF(D67>0,1,0)","v":0},null,{"$f":"IF(H65=1,\"W\",\"\")","v":""},{"$f":"IF(G67>0,1,0)","v":0},null,{"$f":"IF(K65=1,\"W\",\"\")","v":""},{"$f":"IF(J67>0,1,0)","v":0},null,{"$f":"IF(N65=1,\"W\",\"\")","v":""},{"$f":"IF(M67>0,1,0)","v":0},null,{"$f":"IF(Q65=1,\"W\",\"\")","v":""},{"$f":"IF(P67>0,1,0)","v":0},null,{"$f":"IF(T65=1,\"W\",\"\")","v":""},{"$f":"IF(S67>0,1,0)","v":0},null,{"$f":"IF(W65=1,\"W\",\"\")","v":""},{"$f":"IF(V67>0,1,0)","v":0},null,null,null,null,{"$f":"IF(AC65=1,\"W\",\"\")","v":""},{"$f":"IF(AB67>0,1,0)","v":0},null,{"$f":"IF(AF65=1,\"W\",\"\")","v":""},{"$f":"IF(AE67>0,1,0)","v":0}]
[null,{"$f":"NAMES!C98","v":"Player 8"},{"$f":"Z45","v":-1E-3},{"$f":"RESULTS!$I$29","v":-1E-3},{"$f":"X45","v":-1E-3},{"$f":"Z48","v":-1E-3},{"$f":"RESULTS!$M$45","v":-1E-3},{"$f":"X48","v":-1E-3},{"$f":"Z51","v":-1E-3},{"$f":"RESULTS!$E$33","v":-1E-3},{"$f":"X51","v":-1E-3},{"$f":"Z54","v":-1E-3},{"$f":"RESULTS!$M$33","v":-1E-3},{"$f":"X54","v":-1E-3},{"$f":"Z57","v":-1E-3},{"$f":"RESULTS!$U$34","v":-1E-3},{"$f":"X57","v":-1E-3},{"$f":"Z60","v":-1E-3},{"$f":"RESULTS!$I$41","v":-1E-3},{"$f":"X60","v":-1E-3},{"$f":"Z63","v":-1E-3},{"$f":"RESULTS!$Q$46","v":-1E-3},{"$f":"X63","v":-1E-3},null,null,null,{"$f":"SCORES!L140","v":-1E-3},{"$f":"RESULTS!$Q$37","v":-1E-3},{"$f":"SCORES!L138","v":-1E-3},{"$f":"SCORES!D152","v":-1E-3},{"$f":"RESULTS!$E$40","v":-1E-3},{"$f":"SCORES!D154","v":-1E-3},null,{"$f":"SUM(C65:AF65)","v":0},{"$f":"SUM(C66,F66,I66,L66,O66,R66,U66,X66,AA66,AD66)","v":-9.0000000000000011E-3},{"$f":"SUM(E66,H66,K66,N66,Q66,T66,W66,Z66,AC66,AF66)","v":-9.0000000000000011E-3},{"$f":"SUM(C67:AF67)","v":0},null,{"$f":"VLOOKUP(C65,PLACE2,5,FALSE)","v":3}]
[null,{"$f":"SEED!K14","v":0},null,{"$f":"C66-E66","v":0},null,null,{"$f":"F66-H66","v":0},null,null,{"$f":"I66-K66","v":0},null,null,{"$f":"L66-N66","v":0},null,null,{"$f":"O66-Q66","v":0},null,null,{"$f":"R66-T66","v":0},null,null,{"$f":"U66-W66","v":0},null,null,null,null,null,{"$f":"AA66-AC66","v":0},null,null,{"$f":"AD66-AF66","v":0}]
[null,{"$f":"NAMES!C102","v":"Block 2"},"plyr9",{"$f":"IF(E68=1,\"W\",\"\")","v":""},{"$f":"IF(D70>0,1,0)","v":0},null,{"$f":"IF(H68=1,\"W\",\"\")","v":""},{"$f":"IF(G70>0,1,0)","v":0},null,{"$f":"IF(K68=1,\"W\",\"\")","v":""},{"$f":"IF(J70>0,1,0)","v":0},null,{"$f":"IF(N68=1,\"W\",\"\")","v":""},{"$f":"IF(M70>0,1,0)","v":0},null,{"$f":"IF(Q68=1,\"W\",\"\")","v":""},{"$f":"IF(P70>0,1,0)","v":0},null,{"$f":"IF(T68=1,\"W\",\"\")","v":""},{"$f":"IF(S70>0,1,0)","v":0},null,{"$f":"IF(W68=1,\"W\",\"\")","v":""},{"$f":"IF(V70>0,1,0)","v":0},null,{"$f":"IF(Z68=1,\"W\",\"\")","v":""},{"$f":"IF(Y70>0,1,0)","v":0},null,null,null,null,{"$f":"IF(AF68=1,\"W\",\"\")","v":""},{"$f":"IF(AE70>0,1,0)","v":0}]
[null,{"$f":"NAMES!C103","v":"Player 9"},{"$f":"AC45","v":-1E-3},{"$f":"RESULTS!$E$39","v":-1E-3},{"$f":"AA45","v":-1E-3},{"$f":"AC48","v":-1E-3},{"$f":"RESULTS!$E$31","v":-1E-3},{"$f":"AA48","v":-1E-3},{"$f":"AC51","v":-1E-3},{"$f":"RESULTS!$M$35","v":-1E-3},{"$f":"AA51","v":-1E-3},{"$f":"AC54","v":-1E-3},{"$f":"RESULTS!$U$32","v":-1E-3},{"$f":"AA54","v":-1E-3},{"$f":"AC57","v":-1E-3},{"$f":"RESULTS!$I$43","v":-1E-3},{"$f":"AA57","v":-1E-3},{"$f":"AC60","v":-1E-3},{"$f":"RESULTS!$Q$44","v":-1E-3},{"$f":"AA60","v":-1E-3},{"$f":"AC63","v":-1E-3},{"$f":"RESULTS!$I$31","v":-1E-3},{"$f":"AA63","v":-1E-3},{"$f":"AC66","v":-1E-3},{"$f":"RESULTS!$Q$36","v":-1E-3},{"$f":"AA66","v":-1E-3},null,null,null,{"$f":"SCORES!H210","v":-1E-3},{"$f":"RESULTS!$M$47","v":-1E-3},{"$f":"SCORES!H208","v":-1E-3},null,{"$f":"SUM(C68:AF68)","v":0},{"$f":"SUM(C69,F69,I69,L69,O69,R69,U69,X69,AA69,AD69)","v":-9.0000000000000011E-3},{"$f":"SUM(E69,H69,K69,N69,Q69,T69,W69,Z69,AC69,AF69)","v":-9.0000000000000011E-3},{"$f":"SUM(C70:AF70)","v":0},null,{"$f":"VLOOKUP(C68,PLACE2,5,FALSE)","v":2}]
[null,{"$f":"SEED!K15","v":0},null,{"$f":"C69-E69","v":0},null,null,{"$f":"F69-H69","v":0},null,null,{"$f":"I69-K69","v":0},null,null,{"$f":"L69-N69","v":0},null,null,{"$f":"O69-Q69","v":0},null,null,{"$f":"R69-T69","v":0},null,null,{"$f":"U69-W69","v":0},null,null,{"$f":"X69-Z69","v":0},null,null,null,null,null,{"$f":"AD69-AF69","v":0}]
[null,{"$f":"NAMES!C107","v":"Block 2"},"plyr10",{"$f":"IF(E71=1,\"W\",\"\")","v":""},{"$f":"IF(D73>0,1,0)","v":0},null,{"$f":"IF(H71=1,\"W\",\"\")","v":""},{"$f":"IF(G73>0,1,0)","v":0},null,{"$f":"IF(K71=1,\"W\",\"\")","v":""},{"$f":"IF(J73>0,1,0)","v":0},null,{"$f":"IF(N71=1,\"W\",\"\")","v":""},{"$f":"IF(M73>0,1,0)","v":0},null,{"$f":"IF(Q71=1,\"W\",\"\")","v":""},{"$f":"IF(P73>0,1,0)","v":0},null,{"$f":"IF(T71=1,\"W\",\"\")","v":""},{"$f":"IF(S73>0,1,0)","v":0},null,{"$f":"IF(W71=1,\"W\",\"\")","v":""},{"$f":"IF(V73>0,1,0)","v":0},null,{"$f":"IF(Z71=1,\"W\",\"\")","v":""},{"$f":"IF(Y73>0,1,0)","v":0},null,{"$f":"IF(AC71=1,\"W\",\"\")","v":""},{"$f":"IF(AB73>0,1,0)","v":0}]
[null,{"$f":"NAMES!C108","v":"Player 10"},{"$f":"AF45","v":-1E-3},{"$f":"RESULTS!$E$29","v":-1E-3},{"$f":"AD45","v":-1E-3},{"$f":"AF48","v":-1E-3},{"$f":"RESULTS!$M$37","v":-1E-3},{"$f":"AD48","v":-1E-3},{"$f":"AF51","v":-1E-3},{"$f":"RESULTS!$U$30","v":-1E-3},{"$f":"AD51","v":-1E-3},{"$f":"AF54","v":-1E-3},{"$f":"RESULTS!$I$45","v":-1E-3},{"$f":"AD54","v":-1E-3},{"$f":"AF57","v":-1E-3},{"$f":"RESULTS!$Q$42","v":-1E-3},{"$f":"AD57","v":-1E-3},{"$f":"AF60","v":-1E-3},{"$f":"RESULTS!$I$33","v":-1E-3},{"$f":"AD60","v":-1E-3},{"$f":"AF63","v":-1E-3},{"$f":"RESULTS!$Q$34","v":-1E-3},{"$f":"AD63","v":-1E-3},{"$f":"AF66","v":-1E-3},{"$f":"RESULTS!$E$41","v":-1E-3},{"$f":"AD66","v":-1E-3},{"$f":"AF69","v":-1E-3},{"$f":"RESULTS!$M$46","v":-1E-3},{"$f":"AD69","v":-1E-3},null,null,null,null,{"$f":"SUM(C71:AF71)","v":0},{"$f":"SUM(C72,F72,I72,L72,O72,R72,U72,X72,AA72,AD72)","v":-9.0000000000000011E-3},{"$f":"SUM(E72,H72,K72,N72,Q72,T72,W72,Z72,AC72,AF72)","v":-9.0000000000000011E-3},{"$f":"SUM(C73:AF73)","v":0},null,{"$f":"VLOOKUP(C71,PLACE2,5,FALSE)","v":1}]
[null,{"$f":"SEED!K16","v":0},null,{"$f":"C72-E72","v":0},null,null,{"$f":"F72-H72","v":0},null,null,{"$f":"I72-K72","v":0},null,null,{"$f":"L72-N72","v":0},null,null,{"$f":"O72-Q72","v":0},null,null,{"$f":"R72-T72","v":0},null,null,{"$f":"U72-W72","v":0},null,null,{"$f":"X72-Z72","v":0},null,null,{"$f":"AA72-AC72","v":0}]
[null,null,null,null,null,null,null,null,null,null,null,null,null,null,null,null,null,null,null,null,null,null,null,null,null,null,null,null,null,null,null,null,null,{"$f":"SUM(AH45:AH72)","v":0},{"$f":"SUM(AI45:AI72)","v":-9.0000000000000024E-2},{"$f":"SUM(AJ45:AJ72)","v":-9.0000000000000024E-2},{"$f":"SUM(AK45:AK72)","v":0}]

{"sheet":"SCORECARD","index":9,"n_rows":431,"n_cols":10,"rows_kept":431,"cut":false,"hidden":true,"merged":[]}
[]
[null,null,null,null,null,"TOURNAMENT SCORE CARD"]
[null,null,null,null,null,{"$f":"BLOCK!$I$2","v":"TOURNAMENT"}]
[null,null,null,null,null,{"$f":"BLOCK!$I$4","v":"GROUP"}]
[null,null,null,null,null,{"$f":"BLOCK!$B$6","v":"BLOCK 1"}]
[null,null,"PLAYER:",{"$f":"BLOCK!C6","v":" Block 1 Player 1"},null,null,null,"HANDICAP",{"$f":"BLOCK!B9","v":0}]
[null,null,null,null,null,"OPP.","PLAYER","OPP.","NET"]
[null,null,null,"OPPONENT",null,"HCP","SCORE","SCORE","PTS"]
[null,null,{"$f":"BLOCK!F6","v":" Block 1 Player 2"},null,null,{"$f":"BLOCK!B12","v":0},{"$f":"BLOCK!F8","v":-1E-3},{"$f":"BLOCK!H8","v":-1E-3},{"$f":"G9-H9","v":0},"BLOCK"]
[null,null,{"$f":"BLOCK!I6","v":" Block 1 Player 3"},null,null,{"$f":"BLOCK!B15","v":0},{"$f":"BLOCK!I8","v":-1E-3},{"$f":"BLOCK!K8","v":-1E-3},0,"NET"]
[null,null,{"$f":"BLOCK!L6","v":" Block 1 Player 4"},null,null,{"$f":"BLOCK!B18","v":0},{"$f":"BLOCK!L8","v":-1E-3},{"$f":"BLOCK!N8","v":-1E-3},0,{"$f":"SUM(I9:I17)","v":0}]
[null,null,{"$f":"BLOCK!O6","v":" Block 1 Player 5"},null,null,{"$f":"BLOCK!B21","v":0},{"$f":"BLOCK!O8","v":-1E-3},{"$f":"BLOCK!Q8","v":-1E-3},0]
[null,null,{"$f":"BLOCK!R6","v":" Block 1 Player 6"},null,null,{"$f":"BLOCK!B24","v":0},{"$f":"BLOCK!R8","v":-1E-3},{"$f":"BLOCK!T8","v":-1E-3},0]
[null,null,{"$f":"BLOCK!U6","v":" Block 1 Player 7"},null,null,{"$f":"BLOCK!B27","v":0},{"$f":"BLOCK!U8","v":-1E-3},{"$f":"BLOCK!W8","v":-1E-3},0]
[null,null,{"$f":"BLOCK!X6","v":" Block 1 Player 8"},null,null,{"$f":"BLOCK!B30","v":0},{"$f":"BLOCK!X8","v":-1E-3},{"$f":"BLOCK!Z8","v":-1E-3},0]
[null,null,{"$f":"BLOCK!AA6","v":" Block 1 Player 9"},null,null,{"$f":"BLOCK!B33","v":0},{"$f":"BLOCK!AA8","v":-1E-3},{"$f":"BLOCK!AC8","v":-1E-3},0]
[null,null,{"$f":"BLOCK!AD6","v":" Block 1 Player 10"},null,null,{"$f":"BLOCK!B36","v":0},{"$f":"BLOCK!AD8","v":-1E-3},{"$f":"BLOCK!AF8","v":-1E-3},0]
[null,null,null,null,null," ",null,null,{"$f":"G18-H18","v":0}]
[null,null,null,null,null," ",null,null,0]
[null,null,null,null,null," ",null,null,0]
[null,null,null,null,null," ",null,null,0]
[null,null,null,null,null," ",null,null,0]
[null,null,null,null,null," ",null,null,0]
[null,null,null,null,null," ",null,null,0]
[]
[null,null,"PLAYER:",{"$f":"C9","v":" Block 1 Player 2"},null,null,null,"HANDICAP",{"$f":"F9","v":0}]
[null,null,null,null,null,"OPP.","PLAYER","OPP.","NET"]
[null,null,null,"OPPONENT",null,"HCP","SCORE","SCORE","PTS"]
[null,null,{"$f":"D6","v":" Block 1 Player 1"},null,null,{"$f":"I6","v":0},{"$f":"BLOCK!C11","v":-1E-3},{"$f":"BLOCK!E11","v":-1E-3},{"$f":"G29-H29","v":0},"BLOCK"]
[null,null,{"$f":"C10","v":" Block 1 Player 3"},null,null,{"$f":"F10","v":0},{"$f":"BLOCK!I11","v":-1E-3},{"$f":"BLOCK!K11","v":-1E-3},0,"NET"]
[null,null," Block 1 Player 4",null,null,0,{"$f":"BLOCK!L11","v":-1E-3},{"$f":"BLOCK!N11","v":-1E-3},0,{"$f":"SUM(I29:I37)","v":0}]
[null,null," Block 1 Player 5",null,null,0,{"$f":"BLOCK!O11","v":-1E-3},{"$f":"BLOCK!Q11","v":-1E-3},0]
[null,null," Block 1 Player 6",null,null,0,{"$f":"BLOCK!R11","v":-1E-3},{"$f":"BLOCK!T11","v":-1E-3},0]
[null,null," Block 1 Player 7",null,null,0,{"$f":"BLOCK!U11","v":-1E-3},{"$f":"BLOCK!W11","v":-1E-3},0]
[null,null," Block 1 Player 8",null,null,0,{"$f":"BLOCK!X11","v":-1E-3},{"$f":"BLOCK!Z11","v":-1E-3},0]
[null,null," Block 1 Player 9",null,null,0,{"$f":"BLOCK!AA11","v":-1E-3},{"$f":"BLOCK!AC11","v":-1E-3},0]
[null,null," Block 1 Player 10",null,null,0,{"$f":"BLOCK!AD11","v":-1E-3},{"$f":"BLOCK!AF11","v":-1E-3},0]
[null,null,null,null,null," ",null,null,0]
[null,null,null,null,null," ",null,null,0]
[null,null,null,null,null," ",null,null,0]
[null,null,null,null,null," ",null,null,0]
[null,null,null,null,null," ",null,null,0]
[null,null,null,null,null," ",null,null,0]
[null,null,null,null,null," ",null,null,{"$f":"G44-H44","v":0}]
[null,null,null,null,null,"TOURNAMENT SCORE CARD"]
[null,null,null,null,null,{"$f":"BLOCK!$I$2","v":"TOURNAMENT"}]
[null,null,null,null,null,{"$f":"BLOCK!$I$4","v":"GROUP"}]
[null,null,null,null,null,{"$f":"BLOCK!$B$6","v":"BLOCK 1"}]
[null,null,"PLAYER:",{"$f":"C10","v":" Block 1 Player 3"},null,null,null,"HANDICAP",{"$f":"F10","v":0}]
[null,null,null,null,null,"OPP.","PLAYER","OPP.","NET"]
[null,null,null,"OPPONENT",null,"HCP","SCORE","SCORE","PTS"]
[null,null,{"$f":"D6","v":" Block 1 Player 1"},null,null,{"$f":"I6","v":0},{"$f":"BLOCK!C14","v":-1E-3},{"$f":"BLOCK!E14","v":-1E-3},{"$f":"G52-H52","v":0},"BLOCK"]
[null,null,{"$f":"C9","v":" Block 1 Player 2"},null,null,{"$f":"F9","v":0},{"$f":"BLOCK!F14","v":-1E-3},{"$f":"BLOCK!H14","v":-1E-3},0,"NET"]
[null,null,{"$f":"C11","v":" Block 1 Player 4"},null,null,{"$f":"F11","v":0},{"$f":"BLOCK!L14","v":-1E-3},{"$f":"BLOCK!N14","v":-1E-3},0,{"$f":"SUM(I52:I60)","v":0}]
[null,null," Block 1 Player 5",null,null,0,{"$f":"BLOCK!O14","v":-1E-3},{"$f":"BLOCK!Q14","v":-1E-3},0]
[null,null," Block 1 Player 6",null,null,0,{"$f":"BLOCK!R14","v":-1E-3},{"$f":"BLOCK!T14","v":-1E-3},0]
[null,null," Block 1 Player 7",null,null,0,{"$f":"BLOCK!U14","v":-1E-3},{"$f":"BLOCK!W14","v":-1E-3},0]
[null,null," Block 1 Player 8",null,null,0,{"$f":"BLOCK!X14","v":-1E-3},{"$f":"BLOCK!Z14","v":-1E-3},0]
[null,null," Block 1 Player 9",null,null,0,{"$f":"BLOCK!AA14","v":-1E-3},{"$f":"BLOCK!AC14","v":-1E-3},0]
[null,null," Block 1 Player 10",null,null,0,{"$f":"BLOCK!AD14","v":-1E-3},{"$f":"BLOCK!AF14","v":-1E-3},0]
[null,null,null,null,null," ",null,null,0]
[null,null,null,null,null," ",null,null,0]
[null,null,null,null,null," ",null,null,0]
[null,null,null,null,null," ",null,null,0]
[null,null,null,null,null," ",null,null,0]
[null,null,null,null,null," ",null,null,0]
[null,null,null,null,null," ",null,null,{"$f":"G67-H67","v":0}]
[null,null,null,null,null," "]
[null,null,"PLAYER:",{"$f":"C11","v":" Block 1 Player 4"},null,null,null,"HANDICAP",{"$f":"F11","v":0}]
[null,null,null,null,null,"OPP.","PLAYER","OPP.","NET"]
[null,null,null,"OPPONENT",null,"HCP","SCORE","SCORE","PTS"]
[null,null,{"$f":"D6","v":" Block 1 Player 1"},null,null,{"$f":"I6","v":0},{"$f":"BLOCK!C17","v":-1E-3},{"$f":"BLOCK!E17","v":-1E-3},{"$f":"G72-H72","v":0},"BLOCK"]
[null,null,{"$f":"C53","v":" Block 1 Player 2"},null,null,{"$f":"F9","v":0},{"$f":"BLOCK!F17","v":-1E-3},{"$f":"BLOCK!H17","v":-1E-3},0,"NET"]
[null,null,{"$f":"C10","v":" Block 1 Player 3"},null,null,{"$f":"F10","v":0},{"$f":"BLOCK!I17","v":-1E-3},{"$f":"BLOCK!K17","v":-1E-3},0,{"$f":"SUM(I72:I80)","v":0}]
[null,null,{"$f":"C12","v":" Block 1 Player 5"},null,null,{"$f":"F12","v":0},{"$f":"BLOCK!O17","v":-1E-3},{"$f":"BLOCK!Q17","v":-1E-3},0]
[null,null," Block 1 Player 6",null,null,0,{"$f":"BLOCK!R17","v":-1E-3},{"$f":"BLOCK!T17","v":-1E-3},0]
[null,null," Block 1 Player 7",null,null,0,{"$f":"BLOCK!U17","v":-1E-3},{"$f":"BLOCK!W17","v":-1E-3},0]
[null,null," Block 1 Player 8",null,null,0,{"$f":"BLOCK!X17","v":-1E-3},{"$f":"BLOCK!Z17","v":-1E-3},0]
[null,null," Block 1 Player 9",null,null,0,{"$f":"BLOCK!AA17","v":-1E-3},{"$f":"BLOCK!AC17","v":-1E-3},0]
[null,null," Block 1 Player 10",null,null,0,{"$f":"BLOCK!AD17","v":-1E-3},{"$f":"BLOCK!AF17","v":-1E-3},0]
[null,null,null,null,null," ",null,null,0]
[null,null,null,null,null," ",null,null,0]
[null,null,null,null,null," ",null,null,0]
[null,null,null,null,null," ",null,null,0]
[null,null,null,null,null," ",null,null,0]
[null,null,null,null,null," ",null,null,0]
[null,null,null,null,null," ",null,null,{"$f":"G87-H87","v":0}]
[null,null,null,null,null,"TOURNAMENT SCORE CARD"]
[null,null,null,null,null,{"$f":"BLOCK!$I$2","v":"TOURNAMENT"}]
[null,null,null,null,null,{"$f":"BLOCK!$I$4","v":"GROUP"}]
[null,null,null,null,null,{"$f":"BLOCK!$B$6","v":"BLOCK 1"}]
[null,null,"PLAYER:",{"$f":"C12","v":" Block 1 Player 5"},null,null,null,"HANDICAP",{"$f":"F12","v":0}]
[null,null,null,null,null,"OPP.","PLAYER","OPP.","NET"]
[null,null,null,"OPPONENT",null,"HCP","SCORE","SCORE","PTS"]
[null,null,{"$f":"D6","v":" Block 1 Player 1"},null,null,{"$f":"I6","v":0},{"$f":"BLOCK!C20","v":-1E-3},{"$f":"BLOCK!E20","v":-1E-3},{"$f":"G95-H95","v":0},"BLOCK"]
[null,null,{"$f":"C73","v":" Block 1 Player 2"},null,null,{"$f":"F9","v":0},{"$f":"BLOCK!F20","v":-1E-3},{"$f":"BLOCK!H20","v":-1E-3},0,"NET"]
[null,null,{"$f":"C10","v":" Block 1 Player 3"},null,null,{"$f":"F10","v":0},{"$f":"BLOCK!I20","v":-1E-3},{"$f":"BLOCK!K20","v":-1E-3},0,{"$f":"SUM(I95:I103)","v":0}]
[null,null,{"$f":"C11","v":" Block 1 Player 4"},null,null,{"$f":"F11","v":0},{"$f":"BLOCK!L20","v":-1E-3},{"$f":"BLOCK!N20","v":-1E-3},0]
[null,null,{"$f":"C13","v":" Block 1 Player 6"},null,null,{"$f":"F13","v":0},{"$f":"BLOCK!R20","v":-1E-3},{"$f":"BLOCK!T20","v":-1E-3},0]
[null,null,{"$f":"C14","v":" Block 1 Player 7"},null,null,{"$f":"F14","v":0},{"$f":"BLOCK!U20","v":-1E-3},{"$f":"BLOCK!W20","v":-1E-3},0]
[null,null,{"$f":"C15","v":" Block 1 Player 8"},null,null,{"$f":"F15","v":0},{"$f":"BLOCK!X20","v":-1E-3},{"$f":"BLOCK!Z20","v":-1E-3},0]
[null,null,{"$f":"C16","v":" Block 1 Player 9"},null,null,{"$f":"F16","v":0},{"$f":"BLOCK!AA20","v":-1E-3},{"$f":"BLOCK!AC20","v":-1E-3},0]
[null,null,{"$f":"C17","v":" Block 1 Player 10"},null,null,{"$f":"F17","v":0},{"$f":"BLOCK!AD20","v":-1E-3},{"$f":"BLOCK!AF20","v":-1E-3},0]
[null,null,null,null,null," ",null,null,0]
[null,null,null,null,null," ",null,null,0]
[null,null,null,null,null," ",null,null,0]
[null,null,null,null,null," ",null,null,0]
[null,null,null,null,null," ",null,null,0]
[null,null,null,null,null," ",null,null,0]
[null,null,null,null,null," ",null,null,{"$f":"G110-H110","v":0}]
[]
[null,null,"PLAYER:",{"$f":"C13","v":" Block 1 Player 6"},null,null,null,"HANDICAP",{"$f":"F13","v":0}]
[null,null,null,null,null,"OPP.","PLAYER","OPP.","NET"]
[null,null,null,"OPPONENT",null,"HCP","SCORE","SCORE","PTS"]
[null,null,{"$f":"D6","v":" Block 1 Player 1"},null,null,{"$f":"I6","v":0},{"$f":"BLOCK!C23","v":-1E-3},{"$f":"BLOCK!E23","v":-1E-3},{"$f":"G115-H115","v":0},"BLOCK"]
[null,null,{"$f":"C96","v":" Block 1 Player 2"},null,null,{"$f":"F9","v":0},{"$f":"BLOCK!F23","v":-1E-3},{"$f":"BLOCK!H23","v":-1E-3},0,"NET"]
[null,null,{"$f":"C10","v":" Block 1 Player 3"},null,null,{"$f":"F10","v":0},{"$f":"BLOCK!I23","v":-1E-3},{"$f":"BLOCK!K23","v":-1E-3},0,{"$f":"SUM(I115:I123)","v":0}]
[null,null,{"$f":"C11","v":" Block 1 Player 4"},null,null,{"$f":"F11","v":0},{"$f":"BLOCK!L23","v":-1E-3},{"$f":"BLOCK!N23","v":-1E-3},0]
[null,null,{"$f":"C12","v":" Block 1 Player 5"},null,null,{"$f":"F12","v":0},{"$f":"BLOCK!O23","v":-1E-3},{"$f":"BLOCK!Q23","v":-1E-3},0]
[null,null,{"$f":"C14","v":" Block 1 Player 7"},null,null,{"$f":"F14","v":0},{"$f":"BLOCK!U23","v":-1E-3},{"$f":"BLOCK!W23","v":-1E-3},0]
[null,null,{"$f":"C15","v":" Block 1 Player 8"},null,null,{"$f":"F15","v":0},{"$f":"BLOCK!X23","v":-1E-3},{"$f":"BLOCK!Z23","v":-1E-3},0]
[null,null,{"$f":"C16","v":" Block 1 Player 9"},null,null,{"$f":"F16","v":0},{"$f":"BLOCK!AA23","v":-1E-3},{"$f":"BLOCK!AC23","v":-1E-3},0]
[null,null,{"$f":"C17","v":" Block 1 Player 10"},null,null,{"$f":"F17","v":0},{"$f":"BLOCK!AD23","v":-1E-3},{"$f":"BLOCK!AF23","v":-1E-3},0]
[null,null,null,null,null," ",null,null,0]
[null,null,null,null,null," ",null,null,0]
[null,null,null,null,null," ",null,null,0]
[null,null,null,null,null," ",null,null,0]
[null,null,null,null,null," ",null,null,0]
[null,null,null,null,null," ",null,null,0]
[null,null,null,null,null," ",null,null,{"$f":"G130-H130","v":0}]
[null,null,null,null,null,"TOURNAMENT SCORE CARD"]
[null,null,null,null,null,{"$f":"BLOCK!$I$2","v":"TOURNAMENT"}]
[null,null,null,null,null,{"$f":"BLOCK!$I$4","v":"GROUP"}]
[null,null,null,null,null,{"$f":"BLOCK!$B$6","v":"BLOCK 1"}]
[null,null,"PLAYER:",{"$f":"C34","v":" Block 1 Player 7"},null,null,null,"HANDICAP",{"$f":"F14","v":0}]
[null,null,null,null,null,"OPP.","PLAYER","OPP.","NET"]
[null,null,null,"OPPONENT",null,"HCP","SCORE","SCORE","PTS"]
[null,null,{"$f":"D6","v":" Block 1 Player 1"},null,null,{"$f":"I6","v":0},{"$f":"BLOCK!C26","v":-1E-3},{"$f":"BLOCK!E26","v":-1E-3},{"$f":"G138-H138","v":0},"BLOCK"]
[null,null,{"$f":"C116","v":" Block 1 Player 2"},null,null,{"$f":"F9","v":0},{"$f":"BLOCK!F26","v":-1E-3},{"$f":"BLOCK!H26","v":-1E-3},0,"NET"]
[null,null,{"$f":"C10","v":" Block 1 Player 3"},null,null,{"$f":"F10","v":0},{"$f":"BLOCK!I26","v":-1E-3},{"$f":"BLOCK!K26","v":-1E-3},0,{"$f":"SUM(I138:I146)","v":0}]
[null,null,{"$f":"C11","v":" Block 1 Player 4"},null,null,{"$f":"F11","v":0},{"$f":"BLOCK!L26","v":-1E-3},{"$f":"BLOCK!N26","v":-1E-3},0]
[null,null,{"$f":"C12","v":" Block 1 Player 5"},null,null,{"$f":"F12","v":0},{"$f":"BLOCK!O26","v":-1E-3},{"$f":"BLOCK!Q26","v":-1E-3},0]
[null,null,{"$f":"C13","v":" Block 1 Player 6"},null,null,{"$f":"F13","v":0},{"$f":"BLOCK!R26","v":-1E-3},{"$f":"BLOCK!T26","v":-1E-3},0]
[null,null,{"$f":"C15","v":" Block 1 Player 8"},null,null,{"$f":"F15","v":0},{"$f":"BLOCK!X26","v":-1E-3},{"$f":"BLOCK!Z26","v":-1E-3},0]
[null,null,{"$f":"C16","v":" Block 1 Player 9"},null,null,{"$f":"F16","v":0},{"$f":"BLOCK!AA26","v":-1E-3},{"$f":"BLOCK!AC26","v":-1E-3},0]
[null,null,{"$f":"C17","v":" Block 1 Player 10"},null,null,{"$f":"F17","v":0},{"$f":"BLOCK!AD26","v":-1E-3},{"$f":"BLOCK!AF26","v":-1E-3},0]
[null,null,null,null,null," ",null,null,0]
[null,null,null,null,null," ",null,null,0]
[null,null,null,null,null," ",null,null,0]
[null,null,null,null,null," ",null,null,0]
[null,null,null,null,null," ",null,null,0]
[null,null,null,null,null," ",null,null,0]
[null,null,null,null,null," ",null,null,{"$f":"G153-H153","v":0}]
[]
[null,null,"PLAYER:",{"$f":"C15","v":" Block 1 Player 8"},null,null,null,"HANDICAP",{"$f":"F15","v":0}]
[null,null,null,null,null,"OPP.","PLAYER","OPP.","NET"]
[null,null,null,"OPPONENT",null,"HCP","SCORE","SCORE","PTS"]
[null,null,{"$f":"D6","v":" Block 1 Player 1"},null,null,{"$f":"I6","v":0},{"$f":"BLOCK!C29","v":-1E-3},{"$f":"BLOCK!E29","v":-1E-3},{"$f":"G158-H158","v":0},"BLOCK"]
[null,null,{"$f":"C139","v":" Block 1 Player 2"},null,null,{"$f":"F9","v":0},{"$f":"BLOCK!F29","v":-1E-3},{"$f":"BLOCK!H29","v":-1E-3},0,"NET"]
[null,null,{"$f":"C10","v":" Block 1 Player 3"},null,null,0,{"$f":"BLOCK!I29","v":-1E-3},{"$f":"BLOCK!K29","v":-1E-3},0,{"$f":"SUM(I158:I166)","v":0}]
[null,null,{"$f":"C11","v":" Block 1 Player 4"},null,null,0,{"$f":"BLOCK!L29","v":-1E-3},{"$f":"BLOCK!N29","v":-1E-3},0]
[null,null,{"$f":"C12","v":" Block 1 Player 5"},null,null,0,{"$f":"BLOCK!O29","v":-1E-3},{"$f":"BLOCK!Q29","v":-1E-3},0]
[null,null,{"$f":"C13","v":" Block 1 Player 6"},null,null,0,{"$f":"BLOCK!R29","v":-1E-3},{"$f":"BLOCK!T29","v":-1E-3},0]
[null,null,{"$f":"C14","v":" Block 1 Player 7"},null,null,0,{"$f":"BLOCK!U29","v":-1E-3},{"$f":"BLOCK!W29","v":-1E-3},0]
[null,null,{"$f":"C16","v":" Block 1 Player 9"},null,null,{"$f":"F16","v":0},{"$f":"BLOCK!AA29","v":-1E-3},{"$f":"BLOCK!AC29","v":-1E-3},0]
[null,null,{"$f":"C17","v":" Block 1 Player 10"},null,null,{"$f":"F17","v":0},{"$f":"BLOCK!AD29","v":-1E-3},{"$f":"BLOCK!AF29","v":-1E-3},0]
[null,null,null,null,null," ",null,null,0]
[null,null,null,null,null," ",null,null,0]
[null,null,null,null,null," ",null,null,0]
[null,null,null,null,null," ",null,null,0]
[null,null,null,null,null," ",null,null,0]
[null,null,null,null,null," ",null,null,0]
[null,null,null,null,null," ",null,null,{"$f":"G173-H173","v":0}]
[null,null,null,null,null,"TOURNAMENT SCORE CARD"]
[null,null,null,null,null,{"$f":"BLOCK!$I$2","v":"TOURNAMENT"}]
[null,null,null,null,null,{"$f":"BLOCK!$I$4","v":"GROUP"}]
[null,null,null,null,null,{"$f":"BLOCK!$B$6","v":"BLOCK 1"}]
[null,null,"PLAYER:",{"$f":"C16","v":" Block 1 Player 9"},null,null,null,"HANDICAP",{"$f":"F16","v":0}]
[null,null,null,null,null,"OPP.","PLAYER","OPP.","NET"]
[null,null,null,"OPPONENT",null,"HCP","SCORE","SCORE","PTS"]
[null,null,{"$f":"D6","v":" Block 1 Player 1"},null,null,{"$f":"I6","v":0},{"$f":"BLOCK!C32","v":-1E-3},{"$f":"BLOCK!E32","v":-1E-3},{"$f":"G181-H181","v":0},"BLOCK"]
[null,null,{"$f":"C159","v":" Block 1 Player 2"},null,null,{"$f":"F9","v":0},{"$f":"BLOCK!F32","v":-1E-3},{"$f":"BLOCK!H32","v":-1E-3},0,"NET"]
[null,null,{"$f":"C10","v":" Block 1 Player 3"},null,null,0,{"$f":"BLOCK!I32","v":-1E-3},{"$f":"BLOCK!K32","v":-1E-3},0,{"$f":"SUM(I181:I189)","v":0}]
[null,null," Block 1 Player 4",null,null,0,{"$f":"BLOCK!L32","v":-1E-3},{"$f":"BLOCK!N32","v":-1E-3},0]
[null,null," Block 1 Player 5",null,null,0,{"$f":"BLOCK!O32","v":-1E-3},{"$f":"BLOCK!Q32","v":-1E-3},0]
[null,null," Block 1 Player 6",null,null,0,{"$f":"BLOCK!R32","v":-1E-3},{"$f":"BLOCK!T32","v":-1E-3},0]
[null,null," Block 1 Player 7",null,null,0,{"$f":"BLOCK!U32","v":-1E-3},{"$f":"BLOCK!W32","v":-1E-3},0]
[null,null," Block 1 Player 8",null,null,0,{"$f":"BLOCK!X32","v":-1E-3},{"$f":"BLOCK!Z32","v":-1E-3},0]
[null,null,{"$f":"C17","v":" Block 1 Player 10"},null,null,{"$f":"F17","v":0},{"$f":"BLOCK!AD32","v":-1E-3},{"$f":"BLOCK!AF32","v":-1E-3},0]
[null,null,null,null,null," ",null,null,0]
[null,null,null,null,null," ",null,null,0]
[null,null,null,null,null," ",null,null,0]
[null,null,null,null,null," ",null,null,0]
[null,null,null,null,null," ",null,null,0]
[null,null,null,null,null," ",null,null,0]
[null,null,null,null,null," ",null,null,{"$f":"G196-H196","v":0}]
[]
[null,null,"PLAYER:",{"$f":"C17","v":" Block 1 Player 10"},null,null,null,"HANDICAP",{"$f":"F17","v":0}]
[null,null,null,null,null,"OPP.","PLAYER","OPP.","NET"]
[null,null,null,"OPPONENT",null,"HCP","SCORE","SCORE","PTS"]
[null,null,{"$f":"D6","v":" Block 1 Player 1"},null,null,{"$f":"I6","v":0},{"$f":"BLOCK!C35","v":-1E-3},{"$f":"BLOCK!E35","v":-1E-3},{"$f":"G201-H201","v":0},"BLOCK"]
[null,null,{"$f":"C182","v":" Block 1 Player 2"},null,null,{"$f":"F9","v":0},{"$f":"BLOCK!F35","v":-1E-3},{"$f":"BLOCK!H35","v":-1E-3},0,"NET"]
[null,null,{"$f":"C10","v":" Block 1 Player 3"},null,null,0,{"$f":"BLOCK!I35","v":-1E-3},{"$f":"BLOCK!K35","v":-1E-3},0,{"$f":"SUM(I201:I209)","v":0}]
[null,null," Block 1 Player 4",null,null,0,{"$f":"BLOCK!L35","v":-1E-3},{"$f":"BLOCK!N35","v":-1E-3},0]
[null,null," Block 1 Player 5",null,null,0,{"$f":"BLOCK!O35","v":-1E-3},{"$f":"BLOCK!Q35","v":-1E-3},0]
[null,null," Block 1 Player 6",null,null,0,{"$f":"BLOCK!R35","v":-1E-3},{"$f":"BLOCK!T35","v":-1E-3},0]
[null,null," Block 1 Player 7",null,null,0,{"$f":"BLOCK!U35","v":-1E-3},{"$f":"BLOCK!W35","v":-1E-3},0]
[null,null," Block 1 Player 8",null,null,0,{"$f":"BLOCK!X35","v":-1E-3},{"$f":"BLOCK!Z35","v":-1E-3},0]
[null,null," Block 1 Player 9",null,null,0,{"$f":"BLOCK!AA35","v":-1E-3},{"$f":"BLOCK!AC35","v":-1E-3},0]
[null,null,null,null,null," ",null,null,0]
[null,null,null,null,null," ",null,null,0]
[null,null,null,null,null," ",null,null,0]
[null,null,null,null,null," ",null,null,0]
[null,null,null,null,null," ",null,null,0]
[null,null,null,null,null," ",null,null,0]
[null,null,null,null,null," ",null,null,{"$f":"G216-H216","v":0}]
[null,null,null,null,null,"TOURNAMENT SCORE CARD"]
[null,null,null,null,null,{"$f":"BLOCK!$I$39","v":"TOURNAMENT"}]
[null,null,null,null,null,{"$f":"BLOCK!$I$41","v":"GROUP"}]
[null,null,null,null,null,{"$f":"BLOCK!$B$43","v":"BLOCK 2"}]
[null,null,"PLAYER:",{"$f":"BLOCK!C43","v":" Block 2 Player 1"},null,null,null,"HANDICAP",{"$f":"BLOCK!B46","v":0}]
[null,null,null,null,null,"OPP.","PLAYER","OPP.","NET"]
[null,null,null,"OPPONENT",null,"HCP","SCORE","SCORE","PTS"]
[null,null,{"$f":"BLOCK!F43","v":" Block 2 Player 2"},null,null,{"$f":"BLOCK!B49","v":0},{"$f":"BLOCK!F45","v":-1E-3},{"$f":"BLOCK!H45","v":-1E-3},{"$f":"G224-H224","v":0},"BLOCK"]
[null,null,{"$f":"BLOCK!I43","v":" Block 2 Player 3"},null,null,{"$f":"BLOCK!B52","v":0},{"$f":"BLOCK!I45","v":-1E-3},{"$f":"BLOCK!K45","v":-1E-3},0,"NET"]
[null,null,{"$f":"BLOCK!L43","v":" Block 2 Player 4"},null,null,{"$f":"BLOCK!B55","v":0},{"$f":"BLOCK!L45","v":-1E-3},{"$f":"BLOCK!N45","v":-1E-3},0,{"$f":"SUM(I224:I232)","v":0}]
[null,null,{"$f":"BLOCK!O43","v":" Block 2 Player 5"},null,null,{"$f":"BLOCK!B58","v":0},{"$f":"BLOCK!O45","v":-1E-3},{"$f":"BLOCK!Q45","v":-1E-3},0]
[null,null,{"$f":"BLOCK!R43","v":" Block 2 Player 6"},null,null,{"$f":"BLOCK!B61","v":0},{"$f":"BLOCK!R45","v":-1E-3},{"$f":"BLOCK!T45","v":-1E-3},0]
[null,null,{"$f":"BLOCK!U43","v":" Block 2 Player 7"},null,null,{"$f":"BLOCK!B64","v":0},{"$f":"BLOCK!U45","v":-1E-3},{"$f":"BLOCK!W45","v":-1E-3},0]
[null,null,{"$f":"BLOCK!X43","v":" Block 2 Player 8"},null,null,{"$f":"BLOCK!B67","v":0},{"$f":"BLOCK!X45","v":-1E-3},{"$f":"BLOCK!Z45","v":-1E-3},0]
[null,null,{"$f":"BLOCK!AA43","v":" Block 2 Player 9"},null,null,{"$f":"BLOCK!B70","v":0},{"$f":"BLOCK!AA45","v":-1E-3},{"$f":"BLOCK!AC45","v":-1E-3},0]
[null,null,{"$f":"BLOCK!AD43","v":" Block 2 Player 10"},null,null,{"$f":"BLOCK!B73","v":0},{"$f":"BLOCK!AD45","v":-1E-3},{"$f":"BLOCK!AF45","v":-1E-3},0]
[null,null,null,null,null," ",null,null,0]
[null,null,null,null,null," ",null,null,0]
[null,null,null,null,null," ",null,null,0]
[null,null,null,null,null," ",null,null,0]
[null,null,null,null,null," ",null,null,0]
[null,null,null,null,null," ",null,null,0]
[null,null,null,null,null," ",null,null,{"$f":"G239-H239","v":0}]
[]
[null,null,"PLAYER:",{"$f":"C224","v":" Block 2 Player 2"},null,null,null,"HANDICAP",{"$f":"F224","v":0}]
[null,null,null,null,null,"OPP.","PLAYER","OPP.","NET"]
[null,null,null,"OPPONENT",null,"HCP","SCORE","SCORE","PTS"]
[null,null,{"$f":"D221","v":" Block 2 Player 1"},null,null,{"$f":"BLOCK!B46","v":0},{"$f":"BLOCK!C48","v":-1E-3},{"$f":"BLOCK!E48","v":-1E-3},{"$f":"G244-H244","v":0},"BLOCK"]
[null,null,{"$f":"C225","v":" Block 2 Player 3"},null,null,{"$f":"BLOCK!B52","v":0},{"$f":"BLOCK!I48","v":-1E-3},{"$f":"BLOCK!K48","v":-1E-3},0,"NET"]
[null,null," Block 2 Player 4",null,null,{"$f":"BLOCK!B55","v":0},{"$f":"BLOCK!L48","v":-1E-3},{"$f":"BLOCK!N48","v":-1E-3},0,{"$f":"SUM(I244:I250)","v":0}]
[null,null," Block 2 Player 5",null,null,{"$f":"BLOCK!B58","v":0},{"$f":"BLOCK!O48","v":-1E-3},{"$f":"BLOCK!Q48","v":-1E-3},0]
[null,null," Block 2 Player 6",null,null,{"$f":"BLOCK!B61","v":0},{"$f":"BLOCK!R48","v":-1E-3},{"$f":"BLOCK!T48","v":-1E-3},0]
[null,null," Block 2 Player 7",null,null,{"$f":"BLOCK!B64","v":0},{"$f":"BLOCK!U48","v":-1E-3},{"$f":"BLOCK!W48","v":-1E-3},0]
[null,null," Block 2 Player 8",null,null,{"$f":"BLOCK!B67","v":0},{"$f":"BLOCK!X48","v":-1E-3},{"$f":"BLOCK!Z48","v":-1E-3},0]
[null,null," Block 2 Player 9",null,null,{"$f":"BLOCK!B70","v":0},{"$f":"BLOCK!AA48","v":-1E-3},{"$f":"BLOCK!AC48","v":-1E-3},{"$f":"G251-H251","v":0}]
[null,null," Block 2 Player 10",null,null,{"$f":"BLOCK!B73","v":0},{"$f":"BLOCK!AD48","v":-1E-3},{"$f":"BLOCK!AF48","v":-1E-3},0]
[null,null,null,null,null," ",null,null,0]
[null,null,null,null,null," ",null,null,0]
[null,null,null,null,null," ",null,null,0]
[null,null,null,null,null," ",null,null,0]
[null,null,null,null,null," ",null,null,0]
[null,null,null,null,null," ",null,null,0]
[null,null,null,null,null," ",null,null,{"$f":"G259-H259","v":0}]
[null,null,null,null,null,"TOURNAMENT SCORE CARD"]
[null,null,null,null,null,{"$f":"BLOCK!$I$39","v":"TOURNAMENT"}]
[null,null,null,null,null,{"$f":"BLOCK!$I$41","v":"GROUP"}]
[null,null,null,null,null,{"$f":"BLOCK!$B$43","v":"BLOCK 2"}]
[null,null,"PLAYER:",{"$f":"C225","v":" Block 2 Player 3"},null,null,null,"HANDICAP",{"$f":"F225","v":0}]
[null,null,null,null,null,"OPP.","PLAYER","OPP.","NET"]
[null,null,null,"OPPONENT",null,"HCP","SCORE","SCORE","PTS"]
[null,null,{"$f":"D221","v":" Block 2 Player 1"},null,null,{"$f":"BLOCK!B46","v":0},{"$f":"BLOCK!C51","v":-1E-3},{"$f":"BLOCK!E51","v":-1E-3},{"$f":"G267-H267","v":0},"BLOCK"]
[null,null,{"$f":"C224","v":" Block 2 Player 2"},null,null,{"$f":"BLOCK!B49","v":0},{"$f":"BLOCK!F51","v":-1E-3},{"$f":"BLOCK!H51","v":-1E-3},0,"NET"]
[null,null,{"$f":"C226","v":" Block 2 Player 4"},null,null,{"$f":"BLOCK!B55","v":0},{"$f":"BLOCK!L51","v":-1E-3},{"$f":"BLOCK!N51","v":-1E-3},0,{"$f":"SUM(I267:I273)","v":0}]
[null,null," Block 2 Player 5",null,null,{"$f":"BLOCK!B58","v":0},{"$f":"BLOCK!O51","v":-1E-3},{"$f":"BLOCK!Q51","v":-1E-3},0]
[null,null," Block 2 Player 6",null,null,{"$f":"BLOCK!B61","v":0},{"$f":"BLOCK!R51","v":-1E-3},{"$f":"BLOCK!T51","v":-1E-3},0]
[null,null," Block 2 Player 7",null,null,{"$f":"BLOCK!B64","v":0},{"$f":"BLOCK!U51","v":-1E-3},{"$f":"BLOCK!W51","v":-1E-3},0]
[null,null," Block 2 Player 8",null,null,{"$f":"BLOCK!B67","v":0},{"$f":"BLOCK!X51","v":-1E-3},{"$f":"BLOCK!Z51","v":-1E-3},0]
[null,null," Block 2 Player 9",null,null,{"$f":"BLOCK!B70","v":0},{"$f":"BLOCK!AA51","v":-1E-3},{"$f":"BLOCK!AC51","v":-1E-3},0]
[null,null," Block 2 Player 10",null,null,{"$f":"BLOCK!B73","v":0},{"$f":"BLOCK!AD51","v":-1E-3},{"$f":"BLOCK!AF51","v":-1E-3},0]
[null,null,null,null,null," ",null,null,0]
[null,null,null,null,null," ",null,null,0]
[null,null,null,null,null," ",null,null,0]
[null,null,null,null,null," ",null,null,0]
[null,null,null,null,null," ",null,null,0]
[null,null,null,null,null," ",null,null,0]
[null,null,null,null,null," ",null,null,{"$f":"G282-H282","v":0}]
[]
[null,null,"PLAYER:",{"$f":"C226","v":" Block 2 Player 4"},null,null,null,"HANDICAP",{"$f":"F226","v":0}]
[null,null,null,null,null,"OPP.","PLAYER","OPP.","NET"]
[null,null,null,"OPPONENT",null,"HCP","SCORE","SCORE","PTS"]
[null,null,{"$f":"D221","v":" Block 2 Player 1"},null,null,{"$f":"BLOCK!B46","v":0},{"$f":"BLOCK!C54","v":-1E-3},{"$f":"BLOCK!E54","v":-1E-3},{"$f":"G287-H287","v":0},"BLOCK"]
[null,null,{"$f":"C224","v":" Block 2 Player 2"},null,null,{"$f":"BLOCK!B49","v":0},{"$f":"BLOCK!F54","v":-1E-3},{"$f":"BLOCK!H54","v":-1E-3},0,"NET"]
[null,null,{"$f":"C225","v":" Block 2 Player 3"},null,null,{"$f":"BLOCK!B52","v":0},{"$f":"BLOCK!I54","v":-1E-3},{"$f":"BLOCK!K54","v":-1E-3},0,{"$f":"SUM(I287:I293)","v":0}]
[null,null,{"$f":"C227","v":" Block 2 Player 5"},null,null,{"$f":"BLOCK!B58","v":0},{"$f":"BLOCK!O54","v":-1E-3},{"$f":"BLOCK!Q54","v":-1E-3},0]
[null,null," Block 2 Player 6",null,null,{"$f":"BLOCK!B61","v":0},{"$f":"BLOCK!R54","v":-1E-3},{"$f":"BLOCK!T54","v":-1E-3},0]
[null,null," Block 2 Player 7",null,null,{"$f":"BLOCK!B64","v":0},{"$f":"BLOCK!U54","v":-1E-3},{"$f":"BLOCK!W54","v":-1E-3},0]
[null,null," Block 2 Player 8",null,null,{"$f":"BLOCK!B67","v":0},{"$f":"BLOCK!X54","v":-1E-3},{"$f":"BLOCK!Z54","v":-1E-3},0]
[null,null," Block 2 Player 9",null,null,{"$f":"BLOCK!B70","v":0},{"$f":"BLOCK!AA54","v":-1E-3},{"$f":"BLOCK!AC54","v":-1E-3},0]
[null,null," Block 2 Player 10",null,null,{"$f":"BLOCK!B73","v":0},{"$f":"BLOCK!AD54","v":-1E-3},{"$f":"BLOCK!AF54","v":-1E-3},0]
[null,null,null,null,null," ",null,null,0]
[null,null,null,null,null," ",null,null,0]
[null,null,null,null,null," ",null,null,0]
[null,null,null,null,null," ",null,null,0]
[null,null,null,null,null," ",null,null,0]
[null,null,null,null,null," ",null,null,0]
[null,null,null,null,null," ",null,null,{"$f":"G302-H302","v":0}]
[null,null,null,null,null,"TOURNAMENT SCORE CARD"]
[null,null,null,null,null,{"$f":"BLOCK!$I$39","v":"TOURNAMENT"}]
[null,null,null,null,null,{"$f":"BLOCK!$I$41","v":"GROUP"}]
[null,null,null,null,null,{"$f":"BLOCK!$B$43","v":"BLOCK 2"}]
[null,null,"PLAYER:",{"$f":"C227","v":" Block 2 Player 5"},null,null,null,"HANDICAP",{"$f":"F227","v":0}]
[null,null,null,null,null,"OPP.","PLAYER","OPP.","NET"]
[null,null,null,"OPPONENT",null,"HCP","SCORE","SCORE","PTS"]
[null,null,{"$f":"D221","v":" Block 2 Player 1"},null,null,{"$f":"BLOCK!B46","v":0},{"$f":"BLOCK!C57","v":-1E-3},{"$f":"BLOCK!E57","v":-1E-3},{"$f":"G310-H310","v":0},"BLOCK"]
[null,null,{"$f":"C224","v":" Block 2 Player 2"},null,null,{"$f":"BLOCK!B49","v":0},{"$f":"BLOCK!F57","v":-1E-3},{"$f":"BLOCK!H57","v":-1E-3},0,"NET"]
[null,null,{"$f":"C225","v":" Block 2 Player 3"},null,null,{"$f":"BLOCK!B52","v":0},{"$f":"BLOCK!I57","v":-1E-3},{"$f":"BLOCK!K57","v":-1E-3},0,{"$f":"SUM(I310:I316)","v":0}]
[null,null,{"$f":"C226","v":" Block 2 Player 4"},null,null,{"$f":"BLOCK!B55","v":0},{"$f":"BLOCK!L57","v":-1E-3},{"$f":"BLOCK!N57","v":-1E-3},0]
[null,null,{"$f":"C228","v":" Block 2 Player 6"},null,null,{"$f":"BLOCK!B61","v":0},{"$f":"BLOCK!R57","v":-1E-3},{"$f":"BLOCK!T57","v":-1E-3},0]
[null,null,{"$f":"C229","v":" Block 2 Player 7"},null,null,{"$f":"BLOCK!B64","v":0},{"$f":"BLOCK!U57","v":-1E-3},{"$f":"BLOCK!W57","v":-1E-3},0]
[null,null,{"$f":"C230","v":" Block 2 Player 8"},null,null,{"$f":"BLOCK!B67","v":0},{"$f":"BLOCK!X57","v":-1E-3},{"$f":"BLOCK!Z57","v":-1E-3},0]
[null,null,{"$f":"C231","v":" Block 2 Player 9"},null,null,{"$f":"BLOCK!B70","v":0},{"$f":"BLOCK!AA57","v":-1E-3},{"$f":"BLOCK!AC57","v":-1E-3},0]
[null,null,{"$f":"C232","v":" Block 2 Player 10"},null,null,{"$f":"BLOCK!B73","v":0},{"$f":"BLOCK!AD57","v":-1E-3},{"$f":"BLOCK!AF57","v":-1E-3},0]
[null,null,null,null,null," ",null,null,0]
[null,null,null,null,null," ",null,null,0]
[null,null,null,null,null," ",null,null,0]
[null,null,null,null,null," ",null,null,0]
[null,null,null,null,null," ",null,null,0]
[null,null,null,null,null," ",null,null,0]
[null,null,null,null,null," ",null,null,{"$f":"G325-H325","v":0}]
[]
[null,null,"PLAYER:",{"$f":"C228","v":" Block 2 Player 6"},null,null,null,"HANDICAP",{"$f":"F228","v":0}]
[null,null,null,null,null,"OPP.","PLAYER","OPP.","NET"]
[null,null,null,"OPPONENT",null,"HCP","SCORE","SCORE","PTS"]
[null,null,{"$f":"D221","v":" Block 2 Player 1"},null,null,{"$f":"BLOCK!B46","v":0},{"$f":"BLOCK!C60","v":-1E-3},{"$f":"BLOCK!E60","v":-1E-3},{"$f":"G330-H330","v":0},"BLOCK"]
[null,null,{"$f":"C224","v":" Block 2 Player 2"},null,null,{"$f":"BLOCK!B49","v":0},{"$f":"BLOCK!F60","v":-1E-3},{"$f":"BLOCK!H60","v":-1E-3},0,"NET"]
[null,null,{"$f":"C225","v":" Block 2 Player 3"},null,null,{"$f":"BLOCK!B52","v":0},{"$f":"BLOCK!I60","v":-1E-3},{"$f":"BLOCK!K60","v":-1E-3},0,{"$f":"SUM(I330:I336)","v":0}]
[null,null,{"$f":"C226","v":" Block 2 Player 4"},null,null,{"$f":"BLOCK!B55","v":0},{"$f":"BLOCK!L60","v":-1E-3},{"$f":"BLOCK!N60","v":-1E-3},0]
[null,null,{"$f":"C227","v":" Block 2 Player 5"},null,null,{"$f":"BLOCK!B58","v":0},{"$f":"BLOCK!O60","v":-1E-3},{"$f":"BLOCK!Q60","v":-1E-3},0]
[null,null,{"$f":"C229","v":" Block 2 Player 7"},null,null,{"$f":"BLOCK!B64","v":0},{"$f":"BLOCK!U60","v":-1E-3},{"$f":"BLOCK!W60","v":-1E-3},0]
[null,null,{"$f":"C230","v":" Block 2 Player 8"},null,null,{"$f":"BLOCK!B67","v":0},{"$f":"BLOCK!X60","v":-1E-3},{"$f":"BLOCK!Z60","v":-1E-3},0]
[null,null,{"$f":"C231","v":" Block 2 Player 9"},null,null,{"$f":"BLOCK!B70","v":0},{"$f":"BLOCK!AA60","v":-1E-3},{"$f":"BLOCK!AC60","v":-1E-3},0]
[null,null,{"$f":"C232","v":" Block 2 Player 10"},null,null,{"$f":"BLOCK!B73","v":0},{"$f":"BLOCK!AD60","v":-1E-3},{"$f":"BLOCK!AF60","v":-1E-3},0]
[null,null,null,null,null," ",null,null,0]
[null,null,null,null,null," ",null,null,0]
[null,null,null,null,null," ",null,null,0]
[null,null,null,null,null," ",null,null,0]
[null,null,null,null,null," ",null,null,0]
[null,null,null,null,null," ",null,null,0]
[null,null,null,null,null," ",null,null,{"$f":"G345-H345","v":0}]
[null,null,null,null,null,"TOURNAMENT SCORE CARD"]
[null,null,null,null,null,{"$f":"BLOCK!$I$39","v":"TOURNAMENT"}]
[null,null,null,null,null,{"$f":"BLOCK!$I$41","v":"GROUP"}]
[null,null,null,null,null,{"$f":"BLOCK!$B$43","v":"BLOCK 2"}]
[null,null,"PLAYER:",{"$f":"C229","v":" Block 2 Player 7"},null,null,null,"HANDICAP",{"$f":"F229","v":0}]
[null,null,null,null,null,"OPP.","PLAYER","OPP.","NET"]
[null,null,null,"OPPONENT",null,"HCP","SCORE","SCORE","PTS"]
[null,null,{"$f":"D221","v":" Block 2 Player 1"},null,null,{"$f":"BLOCK!B46","v":0},{"$f":"BLOCK!C63","v":-1E-3},{"$f":"BLOCK!E63","v":-1E-3},{"$f":"G353-H353","v":0},"BLOCK"]
[null,null,{"$f":"C224","v":" Block 2 Player 2"},null,null,{"$f":"BLOCK!B49","v":0},{"$f":"BLOCK!F63","v":-1E-3},{"$f":"BLOCK!H63","v":-1E-3},0,"NET"]
[null,null,{"$f":"C225","v":" Block 2 Player 3"},null,null,{"$f":"BLOCK!B52","v":0},{"$f":"BLOCK!I63","v":-1E-3},{"$f":"BLOCK!K63","v":-1E-3},0,{"$f":"SUM(I353:I359)","v":0}]
[null,null,{"$f":"C226","v":" Block 2 Player 4"},null,null,{"$f":"BLOCK!B55","v":0},{"$f":"BLOCK!L63","v":-1E-3},{"$f":"BLOCK!N63","v":-1E-3},0]
[null,null,{"$f":"C227","v":" Block 2 Player 5"},null,null,{"$f":"BLOCK!B58","v":0},{"$f":"BLOCK!O63","v":-1E-3},{"$f":"BLOCK!Q63","v":-1E-3},0]
[null,null,{"$f":"C228","v":" Block 2 Player 6"},null,null,{"$f":"BLOCK!B61","v":0},{"$f":"BLOCK!R63","v":-1E-3},{"$f":"BLOCK!T63","v":-1E-3},0]
[null,null,{"$f":"C230","v":" Block 2 Player 8"},null,null,{"$f":"BLOCK!B67","v":0},{"$f":"BLOCK!X63","v":-1E-3},{"$f":"BLOCK!Z63","v":-1E-3},0]
[null,null,{"$f":"C231","v":" Block 2 Player 9"},null,null,{"$f":"BLOCK!B70","v":0},{"$f":"BLOCK!AA63","v":-1E-3},{"$f":"BLOCK!AC63","v":-1E-3},0]
[null,null,{"$f":"C232","v":" Block 2 Player 10"},null,null,{"$f":"BLOCK!B73","v":0},{"$f":"BLOCK!AD63","v":-1E-3},{"$f":"BLOCK!AF63","v":-1E-3},0]
[null,null,null,null,null,null,null,null,0]
[null,null,null,null,null," ",null,null,0]
[null,null,null,null,null," ",null,null,0]
[null,null,null,null,null," ",null,null,0]
[null,null,null,null,null," ",null,null,0]
[null,null,null,null,null," ",null,null,0]
[null,null,null,null,null," ",null,null,{"$f":"G368-H368","v":0}]
[]
[null,null,"PLAYER:",{"$f":"C230","v":" Block 2 Player 8"},null,null,null,"HANDICAP",{"$f":"F230","v":0}]
[null,null,null,null,null,"OPP.","PLAYER","OPP.","NET"]
[null,null,null,"OPPONENT",null,"HCP","SCORE","SCORE","PTS"]
[null,null,{"$f":"D221","v":" Block 2 Player 1"},null,null,{"$f":"BLOCK!B46","v":0},{"$f":"BLOCK!C66","v":-1E-3},{"$f":"BLOCK!E66","v":-1E-3},{"$f":"G373-H373","v":0},"BLOCK"]
[null,null,{"$f":"C224","v":" Block 2 Player 2"},null,null,{"$f":"BLOCK!B49","v":0},{"$f":"BLOCK!F66","v":-1E-3},{"$f":"BLOCK!H66","v":-1E-3},0,"NET"]
[null,null," Block 2 Player 3",null,null,{"$f":"BLOCK!B52","v":0},{"$f":"BLOCK!I66","v":-1E-3},{"$f":"BLOCK!K66","v":-1E-3},0,{"$f":"SUM(I373:I379)","v":0}]
[null,null," Block 2 Player 4",null,null,{"$f":"BLOCK!B55","v":0},{"$f":"BLOCK!L66","v":-1E-3},{"$f":"BLOCK!N66","v":-1E-3},0]
[null,null," Block 2 Player 5",null,null,{"$f":"BLOCK!B58","v":0},{"$f":"BLOCK!O66","v":-1E-3},{"$f":"BLOCK!Q66","v":-1E-3},0]
[null,null," Block 2 Player 6",null,null,{"$f":"BLOCK!B61","v":0},{"$f":"BLOCK!R66","v":-1E-3},{"$f":"BLOCK!T66","v":-1E-3},0]
[null,null," Block 2 Player 7",null,null,{"$f":"BLOCK!B64","v":0},{"$f":"BLOCK!U66","v":-1E-3},{"$f":"BLOCK!W66","v":-1E-3},0]
[null,null,{"$f":"C231","v":" Block 2 Player 9"},null,null,{"$f":"BLOCK!B70","v":0},{"$f":"BLOCK!AA66","v":-1E-3},{"$f":"BLOCK!AC66","v":-1E-3},0]
[null,null,{"$f":"C232","v":" Block 2 Player 10"},null,null,{"$f":"BLOCK!B73","v":0},{"$f":"BLOCK!AD66","v":-1E-3},{"$f":"BLOCK!AF66","v":-1E-3},0]
[null,null,null,null,null,null,null,null,0]
[null,null,null,null,null," ",null,null,0]
[null,null,null,null,null," ",null,null,0]
[null,null,null,null,null," ",null,null,0]
[null,null,null,null,null," ",null,null,0]
[null,null,null,null,null," ",null,null,0]
[null,null,null,null,null," ",null,null,{"$f":"G388-H388","v":0}]
[null,null,null,null,null,"TOURNAMENT SCORE CARD"]
[null,null,null,null,null,{"$f":"BLOCK!$I$39","v":"TOURNAMENT"}]
[null,null,null,null,null,{"$f":"BLOCK!$I$41","v":"GROUP"}]
[null,null,null,null,null,{"$f":"BLOCK!$B$43","v":"BLOCK 2"}]
[null,null,"PLAYER:",{"$f":"C231","v":" Block 2 Player 9"},null,null,null,"HANDICAP",{"$f":"F231","v":0}]
[null,null,null,null,null,"OPP.","PLAYER","OPP.","NET"]
[null,null,null,"OPPONENT",null,"HCP","SCORE","SCORE","PTS"]
[null,null,{"$f":"D221","v":" Block 2 Player 1"},null,null,{"$f":"BLOCK!B46","v":0},{"$f":"BLOCK!C69","v":-1E-3},{"$f":"BLOCK!E69","v":-1E-3},{"$f":"G396-H396","v":0},"BLOCK"]
[null,null,{"$f":"C224","v":" Block 2 Player 2"},null,null,{"$f":"BLOCK!B49","v":0},{"$f":"BLOCK!F69","v":-1E-3},{"$f":"BLOCK!H69","v":-1E-3},0,"NET"]
[null,null," Block 2 Player 3",null,null,{"$f":"BLOCK!B52","v":0},{"$f":"BLOCK!I69","v":-1E-3},{"$f":"BLOCK!K69","v":-1E-3},0,{"$f":"SUM(I396:I402)","v":0}]
[null,null," Block 2 Player 4",null,null,{"$f":"BLOCK!B55","v":0},{"$f":"BLOCK!L69","v":-1E-3},{"$f":"BLOCK!N69","v":-1E-3},0]
[null,null," Block 2 Player 5",null,null,{"$f":"BLOCK!B58","v":0},{"$f":"BLOCK!O69","v":-1E-3},{"$f":"BLOCK!Q69","v":-1E-3},0]
[null,null," Block 2 Player 6",null,null,{"$f":"BLOCK!B61","v":0},{"$f":"BLOCK!R69","v":-1E-3},{"$f":"BLOCK!T69","v":-1E-3},0]
[null,null," Block 2 Player 7",null,null,{"$f":"BLOCK!B64","v":0},{"$f":"BLOCK!U69","v":-1E-3},{"$f":"BLOCK!W69","v":-1E-3},0]
[null,null," Block 2 Player 8",null,null,{"$f":"BLOCK!B67","v":0},{"$f":"BLOCK!X69","v":-1E-3},{"$f":"BLOCK!Z69","v":-1E-3},0]
[null,null,{"$f":"C232","v":" Block 2 Player 10"},null,null,{"$f":"BLOCK!B73","v":0},{"$f":"BLOCK!AD69","v":-1E-3},{"$f":"BLOCK!AF69","v":-1E-3},0]
[null,null,null,null,null," ",null,null,0]
[null,null,null,null,null," ",null,null,0]
[null,null,null,null,null," ",null,null,0]
[null,null,null,null,null," ",null,null,0]
[null,null,null,null,null," ",null,null,0]
[null,null,null,null,null," ",null,null,0]
[null,null,null,null,null," ",null,null,{"$f":"G411-H411","v":0}]
[]
[null,null,"PLAYER:",{"$f":"C232","v":" Block 2 Player 10"},null,null,null,"HANDICAP",{"$f":"F232","v":0}]
[null,null,null,null,null,"OPP.","PLAYER","OPP.","NET"]
[null,null,null,"OPPONENT",null,"HCP","SCORE","SCORE","PTS"]
[null,null,{"$f":"D221","v":" Block 2 Player 1"},null,null,{"$f":"BLOCK!B46","v":0},{"$f":"BLOCK!C72","v":-1E-3},{"$f":"BLOCK!E72","v":-1E-3},{"$f":"G416-H416","v":0},"BLOCK"]
[null,null,{"$f":"C224","v":" Block 2 Player 2"},null,null,{"$f":"BLOCK!B49","v":0},{"$f":"BLOCK!F72","v":-1E-3},{"$f":"BLOCK!H72","v":-1E-3},0,"NET"]
[null,null," Block 2 Player 3",null,null,{"$f":"BLOCK!B52","v":0},{"$f":"BLOCK!I72","v":-1E-3},{"$f":"BLOCK!K72","v":-1E-3},0,{"$f":"SUM(I416:I422)","v":0}]
[null,null," Block 2 Player 4",null,null,{"$f":"BLOCK!B55","v":0},{"$f":"BLOCK!L72","v":-1E-3},{"$f":"BLOCK!N72","v":-1E-3},0]
[null,null," Block 2 Player 5",null,null,{"$f":"BLOCK!B58","v":0},{"$f":"BLOCK!O72","v":-1E-3},{"$f":"BLOCK!Q72","v":-1E-3},0]
[null,null," Block 2 Player 6",null,null,{"$f":"BLOCK!B61","v":0},{"$f":"BLOCK!R72","v":-1E-3},{"$f":"BLOCK!T72","v":-1E-3},0]
[null,null," Block 2 Player 7",null,null,{"$f":"BLOCK!B64","v":0},{"$f":"BLOCK!U72","v":-1E-3},{"$f":"BLOCK!W72","v":-1E-3},0]
[null,null," Block 2 Player 8",null,null,{"$f":"BLOCK!B67","v":0},{"$f":"BLOCK!X72","v":-1E-3},{"$f":"BLOCK!Z72","v":-1E-3},0]
[null,null," Block 2 Player 9",null,null,{"$f":"BLOCK!B70","v":0},{"$f":"BLOCK!AA72","v":-1E-3},{"$f":"BLOCK!AC72","v":-1E-3},0]
[null,null,null,null,null," ",null,null,0]
[null,null,null,null,null," ",null,null,0]
[null,null,null,null,null," ",null,null,0]
[null,null,null,null,null," ",null,null,0]
[null,null,null,null,null," ",null,null,0]
[null,null,null,null,null," ",null,null,0]
[null,null,null,null,null," ",null,null,{"$f":"G431-H431","v":0}]

{"sheet":"PLAYER","index":10,"n_rows":1081,"n_cols":10,"rows_kept":1081,"cut":false,"hidden":false,"merged":[[1077,0,1077,7],[1078,0,1078,7],[1079,0,1079,7],[1080,0,1080,7]]}
[]
[null,null,null,null,{"$f":"BLOCK!C6","v":" Block 1 Player 1"}]
[null,null,null,null,{"$f":"BLOCK!I2","v":"TOURNAMENT"}]
[null,null,null,null,{"$f":"BLOCK!I4","v":"GROUP"}]
[null,null,null,null,{"$f":"BLOCK!B6","v":"BLOCK 1"}]
[]
[null,null,null,null,"BLOCK PLAY SCHEDULE"]
[null,"TIME","DAY","COURT",null,"OPPONENT",null,"HANDICAP","PS","OS"]
[null,{"$f":"GAMES!$B$3","v":"00:00:00"},{"$f":"GAMES!$C$3","v":"00:00:00"},{"$f":"GAMES!$D$3","v":0},null,{"$f":"GAMES!$G$3","v":" Block 1 Player 10"},null,{"$f":"$E$30","v":0},{"$f":"$F$30","v":-1E-3},{"$f":"$G$30","v":-1E-3}]
[null,{"$f":"GAMES!$B$8","v":"00:00:00"},{"$f":"GAMES!$C$8","v":"00:00:00"},{"$f":"GAMES!$D$8","v":0},null,{"$f":"GAMES!$G$8","v":" Block 1 Player 9"},null,{"$f":"$E$29","v":0},{"$f":"$F$29","v":-1E-3},{"$f":"$G$29","v":-1E-3}]
[null,{"$f":"GAMES!$B$13","v":"00:00:00"},{"$f":"GAMES!$C$13","v":"00:00:00"},{"$f":"GAMES!$D$13","v":0},null,{"$f":"GAMES!$G$13","v":" Block 1 Player 8"},null,{"$f":"$E$28","v":0},{"$f":"$F$28","v":-1E-3},{"$f":"$G$28","v":-1E-3}]
[null,{"$f":"GAMES!$B$18","v":"00:00:00"},{"$f":"GAMES!$C$18","v":"00:00:00"},{"$f":"GAMES!$D$18","v":0},null,{"$f":"GAMES!$G$18","v":" Block 1 Player 7"},null,{"$f":"$E$27","v":0},{"$f":"$F$27","v":-1E-3},{"$f":"$G$27","v":-1E-3}]
[null,{"$f":"GAMES!$B$23","v":"00:00:00"},{"$f":"GAMES!$C$23","v":"00:00:00"},{"$f":"GAMES!$D$23","v":0},null,{"$f":"GAMES!$G$23","v":" Block 1 Player 6"},null,{"$f":"$E$26","v":0},{"$f":"$F$26","v":-1E-3},{"$f":"$G$26","v":-1E-3}]
[null,{"$f":"GAMES!$B$28","v":"00:00:00"},{"$f":"GAMES!$C$28","v":"00:00:00"},{"$f":"GAMES!$D$28","v":0},null,{"$f":"GAMES!$G$28","v":" Block 1 Player 5"},null,{"$f":"$E$25","v":0},{"$f":"$F$25","v":-1E-3},{"$f":"$G$25","v":-1E-3}]
[null,{"$f":"GAMES!$B$33","v":"00:00:00"},{"$f":"GAMES!$C$33","v":"00:00:00"},{"$f":"GAMES!$D$33","v":0},null,{"$f":"GAMES!$G$33","v":" Block 1 Player 4"},null,{"$f":"$E$24","v":0},{"$f":"$F$24","v":-1E-3},{"$f":"$G$24","v":-1E-3}]
[null,{"$f":"GAMES!$B$38","v":"00:00:00"},{"$f":"GAMES!$C$38","v":"00:00:00"},{"$f":"GAMES!$D$38","v":0},null,{"$f":"GAMES!$G$38","v":" Block 1 Player 3"},null,{"$f":"$E$23","v":0},{"$f":"$F$23","v":-1E-3},{"$f":"$G$23","v":-1E-3}]
[null,{"$f":"GAMES!$B$43","v":"00:00:00"},{"$f":"GAMES!$C$43","v":"00:00:00"},{"$f":"GAMES!$D$43","v":0},null,{"$f":"GAMES!$G$43","v":" Block 1 Player 2"},null,{"$f":"$E$22","v":0},{"$f":"$F$22","v":-1E-3},{"$f":"$G$22","v":-1E-3}]
[]
[null,"PLAYER:",{"$f":"BLOCK!C6","v":" Block 1 Player 1"},null,null,null,"HANDICAP",{"$f":"BLOCK!B9","v":0}]
[null,null,null,null,"OPP","PLAYER","OPP","H/CAP"]
[null,null,"OPPONENT",null,"HCP","SCORE","SCORE","PTS"]
[null,{"$f":"SCORECARD!C9","v":" Block 1 Player 2"},null,null,{"$f":"SCORECARD!F9","v":0},{"$f":"SCORECARD!G9","v":-1E-3},{"$f":"SCORECARD!H9","v":-1E-3},{"$f":"IF(NOT(OR(F22>0,G22>0)),\"\",IF(HandicapPlay=\"x\",IF(F22>G22,10,-10),(IF((F22-G22>0),(VLOOKUP(OFFSET(H22,-3,0),(TABLE!WIN),(MATCH(E22,WINCOL,0)+1))),(VLOOKUP(OFFSET(H22,-3,0),(TABLE!LOSE),(MATCH(E22,LOSECOL,0)+1)))))))","v":""}]
[null,{"$f":"SCORECARD!C10","v":" Block 1 Player 3"},null,null,{"$f":"SCORECARD!F10","v":0},{"$f":"SCORECARD!G10","v":-1E-3},{"$f":"SCORECARD!H10","v":-1E-3},{"$f":"IF(NOT(OR(F23>0,G23>0)),\"\",IF(HandicapPlay=\"x\",IF(F23>G23,10,-10),(IF((F23-G23>0),(VLOOKUP(OFFSET(H23,-4,0),(TABLE!WIN),(MATCH(E23,WINCOL,0)+1))),(VLOOKUP(OFFSET(H23,-4,0),(TABLE!LOSE),(MATCH(E23,LOSECOL,0)+1)))))))","v":""}]
[null,{"$f":"SCORECARD!C11","v":" Block 1 Player 4"},null,null,{"$f":"SCORECARD!F11","v":0},{"$f":"SCORECARD!G11","v":-1E-3},{"$f":"SCORECARD!H11","v":-1E-3},{"$f":"IF(NOT(OR(F24>0,G24>0)),\"\",IF(HandicapPlay=\"x\",IF(F24>G24,10,-10),(IF((F24-G24>0),(VLOOKUP(OFFSET(H24,-5,0),(TABLE!WIN),(MATCH(E24,WINCOL,0)+1))),(VLOOKUP(OFFSET(H24,-5,0),(TABLE!LOSE),(MATCH(E24,LOSECOL,0)+1)))))))","v":""}]
[null,{"$f":"SCORECARD!C12","v":" Block 1 Player 5"},null,null,{"$f":"SCORECARD!F12","v":0},{"$f":"SCORECARD!G12","v":-1E-3},{"$f":"SCORECARD!H12","v":-1E-3},{"$f":"IF(NOT(OR(F25>0,G25>0)),\"\",IF(HandicapPlay=\"x\",IF(F25>G25,10,-10),(IF((F25-G25>0),(VLOOKUP(OFFSET(H25,-6,0),(TABLE!WIN),(MATCH(E25,WINCOL,0)+1))),(VLOOKUP(OFFSET(H25,-6,0),(TABLE!LOSE),(MATCH(E25,LOSECOL,0)+1)))))))","v":""}]
[null,{"$f":"SCORECARD!C13","v":" Block 1 Player 6"},null,null,{"$f":"SCORECARD!F13","v":0},{"$f":"SCORECARD!G13","v":-1E-3},{"$f":"SCORECARD!H13","v":-1E-3},{"$f":"IF(NOT(OR(F26>0,G26>0)),\"\",IF(HandicapPlay=\"x\",IF(F26>G26,10,-10),(IF((F26-G26>0),(VLOOKUP(OFFSET(H26,-7,0),(TABLE!WIN),(MATCH(E26,WINCOL,0)+1))),(VLOOKUP(OFFSET(H26,-7,0),(TABLE!LOSE),(MATCH(E26,LOSECOL,0)+1)))))))","v":""}]
[null,{"$f":"SCORECARD!C14","v":" Block 1 Player 7"},null,null,{"$f":"SCORECARD!F14","v":0},{"$f":"SCORECARD!G14","v":-1E-3},{"$f":"SCORECARD!H14","v":-1E-3},{"$f":"IF(NOT(OR(F27>0,G27>0)),\"\",IF(HandicapPlay=\"x\",IF(F27>G27,10,-10),(IF((F27-G27>0),(VLOOKUP(OFFSET(H27,-8,0),(TABLE!WIN),(MATCH(E27,WINCOL,0)+1))),(VLOOKUP(OFFSET(H27,-8,0),(TABLE!LOSE),(MATCH(E27,LOSECOL,0)+1)))))))","v":""}]
[null,{"$f":"SCORECARD!C15","v":" Block 1 Player 8"},null,null,{"$f":"SCORECARD!F15","v":0},{"$f":"SCORECARD!G15","v":-1E-3},{"$f":"SCORECARD!H15","v":-1E-3},{"$f":"IF(NOT(OR(F28>0,G28>0)),\"\",IF(HandicapPlay=\"x\",IF(F28>G28,10,-10),(IF((F28-G28>0),(VLOOKUP(OFFSET(H28,-9,0),(TABLE!WIN),(MATCH(E28,WINCOL,0)+1))),(VLOOKUP(OFFSET(H28,-9,0),(TABLE!LOSE),(MATCH(E28,LOSECOL,0)+1)))))))","v":""}]
[null,{"$f":"SCORECARD!C16","v":" Block 1 Player 9"},null,null,{"$f":"SCORECARD!F16","v":0},{"$f":"SCORECARD!G16","v":-1E-3},{"$f":"SCORECARD!H16","v":-1E-3},{"$f":"IF(NOT(OR(F29>0,G29>0)),\"\",IF(HandicapPlay=\"x\",IF(F29>G29,10,-10),(IF((F29-G29>0),(VLOOKUP(OFFSET(H29,-10,0),(TABLE!WIN),(MATCH(E29,WINCOL,0)+1))),(VLOOKUP(OFFSET(H29,-10,0),(TABLE!LOSE),(MATCH(E29,LOSECOL,0)+1)))))))","v":""}]
[null,{"$f":"SCORECARD!C17","v":" Block 1 Player 10"},null,null,{"$f":"SCORECARD!F17","v":0},{"$f":"SCORECARD!G17","v":-1E-3},{"$f":"SCORECARD!H17","v":-1E-3},{"$f":"IF(NOT(OR(F30>0,G30>0)),\"\",IF(HandicapPlay=\"x\",IF(F30>G30,10,-10),(IF((F30-G30>0),(VLOOKUP(OFFSET(H30,-11,0),(TABLE!WIN),(MATCH(E30,WINCOL,0)+1))),(VLOOKUP(OFFSET(H30,-11,0),(TABLE!LOSE),(MATCH(E30,LOSECOL,0)+1)))))))","v":""}]
[]
[]
[]
[]
[]
[]
[]
[]
[null,null,null,null,null,null,"Handicap adjustment points total   ",{"$f":"SUM(H22:H30)","v":0}]
[]
[]
[]
[]
[]
[]
[]
[]
[]
[]
[]
[]
[{"$f":"note1","v":"Time limit 2.5 hours, Turn After Bell (61.1.6). Quadway hoops (3 11/16\"), Dawson International balls"}]
[{"$f":"note2","v":"Games may start early. Please be at the venue at least 30 minutes earlier than the scheduled start time."}]
[{"$f":"note3","v":"Entry Fee $40 will be invoiced by email. Please pay by EFT using the invoice No. as reference."}]
[{"$f":"note4","v":"Players please assist with setting and clearing courts."}]
[null,null,null,null,{"$f":"BLOCK!F6","v":" Block 1 Player 2"}]
[null,null,null,null,{"$f":"BLOCK!I2","v":"TOURNAMENT"}]
[null,null,null,null,{"$f":"BLOCK!I4","v":"GROUP"}]
[null,null,null,null,{"$f":"BLOCK!B6","v":"BLOCK 1"}]
[]
[null,null,null,null,"BLOCK PLAY SCHEDULE"]
[null,"TIME","DAY","COURT",null,"OPPONENT",null,"HANDICAP","PS","OS"]
[null,{"$f":"GAMES!B4","v":"00:00:00"},{"$f":"GAMES!C4","v":"00:00:00"},{"$f":"GAMES!D4","v":0},null,{"$f":"GAMES!G4","v":" Block 1 Player 9"},null,{"$f":"$E$83","v":0},{"$f":"$F$83","v":-1E-3},{"$f":"$G$83","v":-1E-3}]
[null,{"$f":"GAMES!B10","v":"00:00:00"},{"$f":"GAMES!C10","v":"00:00:00"},{"$f":"GAMES!D10","v":0},null,{"$f":"GAMES!E10","v":" Block 1 Player 7"},null,{"$f":"$E$81","v":0},{"$f":"$F$81","v":-1E-3},{"$f":"$G$81","v":-1E-3}]
[null,{"$f":"GAMES!B16","v":"00:00:00"},{"$f":"GAMES!C16","v":"00:00:00"},{"$f":"GAMES!D16","v":0},null,{"$f":"GAMES!E16","v":" Block 1 Player 5"},null,{"$f":"$E$79","v":0},{"$f":"$F$79","v":-1E-3},{"$f":"$G$79","v":-1E-3}]
[null,{"$f":"GAMES!B22","v":"00:00:00"},{"$f":"GAMES!C22","v":"00:00:00"},{"$f":"GAMES!D22","v":0},null,{"$f":"GAMES!E22","v":" Block 1 Player 3"},null,{"$f":"$E$77","v":0},{"$f":"$F$77","v":-1E-3},{"$f":"$G$77","v":-1E-3}]
[null,{"$f":"GAMES!B27","v":"00:00:00"},{"$f":"GAMES!C27","v":"00:00:00"},{"$f":"GAMES!D27","v":0},null,{"$f":"GAMES!G27","v":" Block 1 Player 10"},null,{"$f":"$E$84","v":0},{"$f":"$F$84","v":-1E-3},{"$f":"$G$84","v":-1E-3}]
[null,{"$f":"GAMES!B31","v":"00:00:00"},{"$f":"GAMES!C31","v":"00:00:00"},{"$f":"GAMES!D31","v":0},null,{"$f":"GAMES!G31","v":" Block 1 Player 8"},null,{"$f":"$E$82","v":0},{"$f":"$F$82","v":-1E-3},{"$f":"$G$82","v":-1E-3}]
[null,{"$f":"GAMES!B35","v":"00:00:00"},{"$f":"GAMES!C35","v":"00:00:00"},{"$f":"GAMES!D35","v":0},null,{"$f":"GAMES!G35","v":" Block 1 Player 6"},null,{"$f":"$E$80","v":0},{"$f":"$F$80","v":-1E-3},{"$f":"$G$80","v":-1E-3}]
[null,{"$f":"GAMES!B39","v":"00:00:00"},{"$f":"GAMES!C39","v":"00:00:00"},{"$f":"GAMES!D39","v":0},null,{"$f":"GAMES!G39","v":" Block 1 Player 4"},null,{"$f":"$E$78","v":0},{"$f":"$F$78","v":-1E-3},{"$f":"$G$78","v":-1E-3}]
[null,{"$f":"GAMES!B43","v":"00:00:00"},{"$f":"GAMES!C43","v":"00:00:00"},{"$f":"GAMES!D43","v":0},null,{"$f":"GAMES!E43","v":" Block 1 Player 1"},null,{"$f":"$E$76","v":0},{"$f":"$F$76","v":-1E-3},{"$f":"$G$76","v":-1E-3}]
[]
[null,"PLAYER:",{"$f":"BLOCK!F6","v":" Block 1 Player 2"},null,null,null,"HANDICAP",{"$f":"BLOCK!B12","v":0}]
[null,null,null,null,"OPP","PLAYER","OPP","H/CAP"]
[null,null,"OPPONENT",null,"HCP","SCORE","SCORE","PTS"]
[null,{"$f":"SCORECARD!C29","v":" Block 1 Player 1"},null,null,{"$f":"SCORECARD!F29","v":0},{"$f":"SCORECARD!G29","v":-1E-3},{"$f":"SCORECARD!H29","v":-1E-3},{"$f":"IF(NOT(OR(F76>0,G76>0)),\"\",IF(HandicapPlay=\"x\",IF(F76>G76,10,-10),(IF((F76-G76>0),(VLOOKUP(OFFSET(H76,-3,0),(TABLE!WIN),(MATCH(E76,WINCOL,0)+1))),(VLOOKUP(OFFSET(H76,-3,0),(TABLE!LOSE),(MATCH(E76,LOSECOL,0)+1)))))))","v":""}]
[null,{"$f":"SCORECARD!C30","v":" Block 1 Player 3"},null,null,{"$f":"SCORECARD!F30","v":0},{"$f":"SCORECARD!G30","v":-1E-3},{"$f":"SCORECARD!H30","v":-1E-3},{"$f":"IF(NOT(OR(F77>0,G77>0)),\"\",IF(HandicapPlay=\"x\",IF(F77>G77,10,-10),(IF((F77-G77>0),(VLOOKUP(OFFSET(H77,-4,0),(TABLE!WIN),(MATCH(E77,WINCOL,0)+1))),(VLOOKUP(OFFSET(H77,-4,0),(TABLE!LOSE),(MATCH(E77,LOSECOL,0)+1)))))))","v":""}]
[null,{"$f":"SCORECARD!C31","v":" Block 1 Player 4"},null,null,{"$f":"SCORECARD!F31","v":0},{"$f":"SCORECARD!G31","v":-1E-3},{"$f":"SCORECARD!H31","v":-1E-3},{"$f":"IF(NOT(OR(F78>0,G78>0)),\"\",IF(HandicapPlay=\"x\",IF(F78>G78,10,-10),(IF((F78-G78>0),(VLOOKUP(OFFSET(H78,-5,0),(TABLE!WIN),(MATCH(E78,WINCOL,0)+1))),(VLOOKUP(OFFSET(H78,-5,0),(TABLE!LOSE),(MATCH(E78,LOSECOL,0)+1)))))))","v":""}]
[null,{"$f":"SCORECARD!C32","v":" Block 1 Player 5"},null,null,{"$f":"SCORECARD!F32","v":0},{"$f":"SCORECARD!G32","v":-1E-3},{"$f":"SCORECARD!H32","v":-1E-3},{"$f":"IF(NOT(OR(F79>0,G79>0)),\"\",IF(HandicapPlay=\"x\",IF(F79>G79,10,-10),(IF((F79-G79>0),(VLOOKUP(OFFSET(H79,-6,0),(TABLE!WIN),(MATCH(E79,WINCOL,0)+1))),(VLOOKUP(OFFSET(H79,-6,0),(TABLE!LOSE),(MATCH(E79,LOSECOL,0)+1)))))))","v":""}]
[null,{"$f":"SCORECARD!C33","v":" Block 1 Player 6"},null,null,{"$f":"SCORECARD!F33","v":0},{"$f":"SCORECARD!G33","v":-1E-3},{"$f":"SCORECARD!H33","v":-1E-3},{"$f":"IF(NOT(OR(F80>0,G80>0)),\"\",IF(HandicapPlay=\"x\",IF(F80>G80,10,-10),(IF((F80-G80>0),(VLOOKUP(OFFSET(H80,-7,0),(TABLE!WIN),(MATCH(E80,WINCOL,0)+1))),(VLOOKUP(OFFSET(H80,-7,0),(TABLE!LOSE),(MATCH(E80,LOSECOL,0)+1)))))))","v":""}]
[null,{"$f":"SCORECARD!C34","v":" Block 1 Player 7"},null,null,{"$f":"SCORECARD!F34","v":0},{"$f":"SCORECARD!G34","v":-1E-3},{"$f":"SCORECARD!H34","v":-1E-3},{"$f":"IF(NOT(OR(F81>0,G81>0)),\"\",IF(HandicapPlay=\"x\",IF(F81>G81,10,-10),(IF((F81-G81>0),(VLOOKUP(OFFSET(H81,-8,0),(TABLE!WIN),(MATCH(E81,WINCOL,0)+1))),(VLOOKUP(OFFSET(H81,-8,0),(TABLE!LOSE),(MATCH(E81,LOSECOL,0)+1)))))))","v":""}]
[null,{"$f":"SCORECARD!C35","v":" Block 1 Player 8"},null,null,{"$f":"SCORECARD!F35","v":0},{"$f":"SCORECARD!G35","v":-1E-3},{"$f":"SCORECARD!H35","v":-1E-3},{"$f":"IF(NOT(OR(F82>0,G82>0)),\"\",IF(HandicapPlay=\"x\",IF(F82>G82,10,-10),(IF((F82-G82>0),(VLOOKUP(OFFSET(H82,-9,0),(TABLE!WIN),(MATCH(E82,WINCOL,0)+1))),(VLOOKUP(OFFSET(H82,-9,0),(TABLE!LOSE),(MATCH(E82,LOSECOL,0)+1)))))))","v":""}]
[null,{"$f":"SCORECARD!C36","v":" Block 1 Player 9"},null,null,{"$f":"SCORECARD!F36","v":0},{"$f":"SCORECARD!G36","v":-1E-3},{"$f":"SCORECARD!H36","v":-1E-3},{"$f":"IF(NOT(OR(F83>0,G83>0)),\"\",IF(HandicapPlay=\"x\",IF(F83>G83,10,-10),(IF((F83-G83>0),(VLOOKUP(OFFSET(H83,-10,0),(TABLE!WIN),(MATCH(E83,WINCOL,0)+1))),(VLOOKUP(OFFSET(H83,-10,0),(TABLE!LOSE),(MATCH(E83,LOSECOL,0)+1)))))))","v":""}]
[null,{"$f":"SCORECARD!C37","v":" Block 1 Player 10"},null,null,{"$f":"SCORECARD!F37","v":0},{"$f":"SCORECARD!G37","v":-1E-3},{"$f":"SCORECARD!H37","v":-1E-3},{"$f":"IF(NOT(OR(F84>0,G84>0)),\"\",IF(HandicapPlay=\"x\",IF(F84>G84,10,-10),(IF((F84-G84>0),(VLOOKUP(OFFSET(H84,-11,0),(TABLE!WIN),(MATCH(E84,WINCOL,0)+1))),(VLOOKUP(OFFSET(H84,-11,0),(TABLE!LOSE),(MATCH(E84,LOSECOL,0)+1)))))))","v":""}]
[]
[]
[]
[]
[]
[]
[]
[]
[null,null,null,null,null,null,"Handicap adjustment points total   ",{"$f":"SUM(H76:H84)","v":0}]
[]
[]
[]
[]
[]
[]
[]
[]
[]
[]
[]
[]
[{"$f":"note1","v":"Time limit 2.5 hours, Turn After Bell (61.1.6). Quadway hoops (3 11/16\"), Dawson International balls"}]
[{"$f":"note2","v":"Games may start early. Please be at the venue at least 30 minutes earlier than the scheduled start time."}]
[{"$f":"note3","v":"Entry Fee $40 will be invoiced by email. Please pay by EFT using the invoice No. as reference."}]
[{"$f":"note4","v":"Players please assist with setting and clearing courts."}]
[null,null,null,null,{"$f":"BLOCK!I6","v":" Block 1 Player 3"}]
[null,null,null,null,{"$f":"BLOCK!I2","v":"TOURNAMENT"}]
[null,null,null,null,{"$f":"BLOCK!I4","v":"GROUP"}]
[null,null,null,null,{"$f":"BLOCK!B6","v":"BLOCK 1"}]
[]
[null,null,null,null,"BLOCK PLAY SCHEDULE"]
[null,"TIME","DAY","COURT",null,"OPPONENT",null,"HANDICAP","PS","OS"]
[null,{"$f":"GAMES!B5","v":"00:00:00"},{"$f":"GAMES!C5","v":"00:00:00"},{"$f":"GAMES!D5","v":0},null,{"$f":"GAMES!G5","v":" Block 1 Player 8"},null,{"$f":"$E$136","v":0},{"$f":"$F$136","v":-1E-3},{"$f":"$G$136","v":-1E-3}]
[null,{"$f":"GAMES!B11","v":"00:00:00"},{"$f":"GAMES!C11","v":"00:00:00"},{"$f":"GAMES!D11","v":0},null,{"$f":"GAMES!E11","v":" Block 1 Player 6"},null,{"$f":"$E$134","v":0},{"$f":"$F$134","v":-1E-3},{"$f":"$G$134","v":-1E-3}]
[null,{"$f":"GAMES!B17","v":"00:00:00"},{"$f":"GAMES!C17","v":"00:00:00"},{"$f":"GAMES!D17","v":0},null,{"$f":"GAMES!E17","v":" Block 1 Player 4"},null,{"$f":"$E$132","v":0},{"$f":"$F$132","v":-1E-3},{"$f":"$G$132","v":-1E-3}]
[null,{"$f":"GAMES!B22","v":"00:00:00"},{"$f":"GAMES!C22","v":"00:00:00"},{"$f":"GAMES!D22","v":0},null,{"$f":"GAMES!G22","v":" Block 1 Player 2"},null,{"$f":"$E$131","v":0},{"$f":"$F$131","v":-1E-3},{"$f":"$G$131","v":-1E-3}]
[null,{"$f":"GAMES!B26","v":"00:00:00"},{"$f":"GAMES!C26","v":"00:00:00"},{"$f":"GAMES!D26","v":0},null,{"$f":"GAMES!G26","v":" Block 1 Player 9"},null,{"$f":"$E$137","v":0},{"$f":"$F$137","v":-1E-3},{"$f":"$G$137","v":-1E-3}]
[null,{"$f":"GAMES!B30","v":"00:00:00"},{"$f":"GAMES!C30","v":"00:00:00"},{"$f":"GAMES!D30","v":0},null,{"$f":"GAMES!G30","v":" Block 1 Player 7"},null,{"$f":"$E$135","v":0},{"$f":"$F$135","v":-1E-3},{"$f":"$G$135","v":-1E-3}]
[null,{"$f":"GAMES!B34","v":"00:00:00"},{"$f":"GAMES!C34","v":"00:00:00"},{"$f":"GAMES!D34","v":0},null,{"$f":"GAMES!E34","v":" Block 1 Player 5"},null,{"$f":"$E$133","v":0},{"$f":"$F$133","v":-1E-3},{"$f":"$G$133","v":-1E-3}]
[null,{"$f":"GAMES!B38","v":"00:00:00"},{"$f":"GAMES!C38","v":"00:00:00"},{"$f":"GAMES!D38","v":0},null,{"$f":"GAMES!E38","v":" Block 1 Player 1"},null,{"$f":"$E$130","v":0},{"$f":"$F$130","v":-1E-3},{"$f":"$G$130","v":-1E-3}]
[null,{"$f":"GAMES!B44","v":"00:00:00"},{"$f":"GAMES!C44","v":"00:00:00"},{"$f":"GAMES!D44","v":0},null,{"$f":"GAMES!E44","v":" Block 1 Player 10"},null,{"$f":"$E$138","v":0},{"$f":"$F$138","v":-1E-3},{"$f":"$G$138","v":-1E-3}]
[]
[null,"PLAYER:",{"$f":"BLOCK!I6","v":" Block 1 Player 3"},null,null,null,"HANDICAP",{"$f":"BLOCK!B15","v":0}]
[null,null,"OPPONENT",null,"OPP","PLAYER","OPP","H/CAP"]
[null,null,null,null,"HCP","SCORE","SCORE","PTS"]
[null,{"$f":"SCORECARD!C52","v":" Block 1 Player 1"},null,null,{"$f":"SCORECARD!F52","v":0},{"$f":"SCORECARD!G52","v":-1E-3},{"$f":"SCORECARD!H52","v":-1E-3},{"$f":"IF(NOT(OR(F130>0,G130>0)),\"\",IF(HandicapPlay=\"x\",IF(F130>G130,10,-10),(IF((F130-G130>0),(VLOOKUP(OFFSET(H130,-3,0),(TABLE!WIN),(MATCH(E130,WINCOL,0)+1))),(VLOOKUP(OFFSET(H130,-3,0),(TABLE!LOSE),(MATCH(E130,LOSECOL,0)+1)))))))","v":""}]
[null,{"$f":"SCORECARD!C53","v":" Block 1 Player 2"},null,null,{"$f":"SCORECARD!F53","v":0},{"$f":"SCORECARD!G53","v":-1E-3},{"$f":"SCORECARD!H53","v":-1E-3},{"$f":"IF(NOT(OR(F131>0,G131>0)),\"\",IF(HandicapPlay=\"x\",IF(F131>G131,10,-10),(IF((F131-G131>0),(VLOOKUP(OFFSET(H131,-4,0),(TABLE!WIN),(MATCH(E131,WINCOL,0)+1))),(VLOOKUP(OFFSET(H131,-4,0),(TABLE!LOSE),(MATCH(E131,LOSECOL,0)+1)))))))","v":""}]
[null,{"$f":"SCORECARD!C54","v":" Block 1 Player 4"},null,null,{"$f":"SCORECARD!F54","v":0},{"$f":"SCORECARD!G54","v":-1E-3},{"$f":"SCORECARD!H54","v":-1E-3},{"$f":"IF(NOT(OR(F132>0,G132>0)),\"\",IF(HandicapPlay=\"x\",IF(F132>G132,10,-10),(IF((F132-G132>0),(VLOOKUP(OFFSET(H132,-5,0),(TABLE!WIN),(MATCH(E132,WINCOL,0)+1))),(VLOOKUP(OFFSET(H132,-5,0),(TABLE!LOSE),(MATCH(E132,LOSECOL,0)+1)))))))","v":""}]
[null,{"$f":"SCORECARD!C55","v":" Block 1 Player 5"},null,null,{"$f":"SCORECARD!F55","v":0},{"$f":"SCORECARD!G55","v":-1E-3},{"$f":"SCORECARD!H55","v":-1E-3},{"$f":"IF(NOT(OR(F133>0,G133>0)),\"\",IF(HandicapPlay=\"x\",IF(F133>G133,10,-10),(IF((F133-G133>0),(VLOOKUP(OFFSET(H133,-6,0),(TABLE!WIN),(MATCH(E133,WINCOL,0)+1))),(VLOOKUP(OFFSET(H133,-6,0),(TABLE!LOSE),(MATCH(E133,LOSECOL,0)+1)))))))","v":""}]
[null,{"$f":"SCORECARD!C56","v":" Block 1 Player 6"},null,null,{"$f":"SCORECARD!F56","v":0},{"$f":"SCORECARD!G56","v":-1E-3},{"$f":"SCORECARD!H56","v":-1E-3},{"$f":"IF(NOT(OR(F134>0,G134>0)),\"\",IF(HandicapPlay=\"x\",IF(F134>G134,10,-10),(IF((F134-G134>0),(VLOOKUP(OFFSET(H134,-7,0),(TABLE!WIN),(MATCH(E134,WINCOL,0)+1))),(VLOOKUP(OFFSET(H134,-7,0),(TABLE!LOSE),(MATCH(E134,LOSECOL,0)+1)))))))","v":""}]
[null,{"$f":"SCORECARD!C57","v":" Block 1 Player 7"},null,null,{"$f":"SCORECARD!F57","v":0},{"$f":"SCORECARD!G57","v":-1E-3},{"$f":"SCORECARD!H57","v":-1E-3},{"$f":"IF(NOT(OR(F135>0,G135>0)),\"\",IF(HandicapPlay=\"x\",IF(F135>G135,10,-10),(IF((F135-G135>0),(VLOOKUP(OFFSET(H135,-8,0),(TABLE!WIN),(MATCH(E135,WINCOL,0)+1))),(VLOOKUP(OFFSET(H135,-8,0),(TABLE!LOSE),(MATCH(E135,LOSECOL,0)+1)))))))","v":""}]
[null,{"$f":"SCORECARD!C58","v":" Block 1 Player 8"},null,null,{"$f":"SCORECARD!F58","v":0},{"$f":"SCORECARD!G58","v":-1E-3},{"$f":"SCORECARD!H58","v":-1E-3},{"$f":"IF(NOT(OR(F136>0,G136>0)),\"\",IF(HandicapPlay=\"x\",IF(F136>G136,10,-10),(IF((F136-G136>0),(VLOOKUP(OFFSET(H136,-9,0),(TABLE!WIN),(MATCH(E136,WINCOL,0)+1))),(VLOOKUP(OFFSET(H136,-9,0),(TABLE!LOSE),(MATCH(E136,LOSECOL,0)+1)))))))","v":""}]
[null,{"$f":"SCORECARD!C59","v":" Block 1 Player 9"},null,null,{"$f":"SCORECARD!F59","v":0},{"$f":"SCORECARD!G59","v":-1E-3},{"$f":"SCORECARD!H59","v":-1E-3},{"$f":"IF(NOT(OR(F137>0,G137>0)),\"\",IF(HandicapPlay=\"x\",IF(F137>G137,10,-10),(IF((F137-G137>0),(VLOOKUP(OFFSET(H137,-10,0),(TABLE!WIN),(MATCH(E137,WINCOL,0)+1))),(VLOOKUP(OFFSET(H137,-10,0),(TABLE!LOSE),(MATCH(E137,LOSECOL,0)+1)))))))","v":""}]
[null,{"$f":"SCORECARD!C60","v":" Block 1 Player 10"},null,null,{"$f":"SCORECARD!F60","v":0},{"$f":"SCORECARD!G60","v":-1E-3},{"$f":"SCORECARD!H60","v":-1E-3},{"$f":"IF(NOT(OR(F138>0,G138>0)),\"\",IF(HandicapPlay=\"x\",IF(F138>G138,10,-10),(IF((F138-G138>0),(VLOOKUP(OFFSET(H138,-11,0),(TABLE!WIN),(MATCH(E138,WINCOL,0)+1))),(VLOOKUP(OFFSET(H138,-11,0),(TABLE!LOSE),(MATCH(E138,LOSECOL,0)+1)))))))","v":""}]
[]
[]
[]
[]
[]
[]
[]
[]
[null,null,null,null,null,null,"Handicap adjustment points total   ",{"$f":"SUM(H130:H138)","v":0}]
[]
[]
[]
[]
[]
[]
[]
[]
[]
[]
[]
[]
[{"$f":"note1","v":"Time limit 2.5 hours, Turn After Bell (61.1.6). Quadway hoops (3 11/16\"), Dawson International balls"}]
[{"$f":"note2","v":"Games may start early. Please be at the venue at least 30 minutes earlier than the scheduled start time."}]
[{"$f":"note3","v":"Entry Fee $40 will be invoiced by email. Please pay by EFT using the invoice No. as reference."}]
[{"$f":"note4","v":"Players please assist with setting and clearing courts."}]
[null,null,null,null,{"$f":"BLOCK!L6","v":" Block 1 Player 4"}]
[null,null,null,null,{"$f":"BLOCK!I2","v":"TOURNAMENT"}]
[null,null,null,null,{"$f":"BLOCK!I4","v":"GROUP"}]
[null,null,null,null,{"$f":"BLOCK!B6","v":"BLOCK 1"}]
[]
[null,null,null,null,"BLOCK PLAY SCHEDULE"]
[null,"TIME","DAY","COURT",null,"OPPONENT",null,"HANDICAP","PS","OS"]
[null,{"$f":"GAMES!B6","v":"00:00:00"},{"$f":"GAMES!C6","v":"00:00:00"},{"$f":"GAMES!D6","v":0},null,{"$f":"GAMES!G6","v":" Block 1 Player 7"},null,{"$f":"$E$189","v":0},{"$f":"$F$189","v":-1E-3},{"$f":"$G$189","v":-1E-3}]
[null,{"$f":"GAMES!B12","v":"00:00:00"},{"$f":"GAMES!C12","v":"00:00:00"},{"$f":"GAMES!D12","v":0},null,{"$f":"GAMES!E12","v":" Block 1 Player 5"},null,{"$f":"$E$187","v":0},{"$f":"$F$187","v":-1E-3},{"$f":"$G$187","v":-1E-3}]
[null,{"$f":"GAMES!B17","v":"00:00:00"},{"$f":"GAMES!C17","v":"00:00:00"},{"$f":"GAMES!D17","v":0},null,{"$f":"GAMES!G17","v":" Block 1 Player 3"},null,{"$f":"$E$186","v":0},{"$f":"$F$186","v":-1E-3},{"$f":"$G$186","v":-1E-3}]
[null,{"$f":"GAMES!B21","v":"00:00:00"},{"$f":"GAMES!C21","v":"00:00:00"},{"$f":"GAMES!D21","v":0},null,{"$f":"GAMES!G21","v":" Block 1 Player 10"},null,{"$f":"$E$192","v":0},{"$f":"$F$192","v":-1E-3},{"$f":"$G$192","v":-1E-3}]
[null,{"$f":"GAMES!B25","v":"00:00:00"},{"$f":"GAMES!C25","v":"00:00:00"},{"$f":"GAMES!D25","v":0},null,{"$f":"GAMES!G25","v":" Block 1 Player 8"},null,{"$f":"$E$190","v":0},{"$f":"$F$190","v":-1E-3},{"$f":"$G$190","v":-1E-3}]
[null,{"$f":"GAMES!B29","v":"00:00:00"},{"$f":"GAMES!C29","v":"00:00:00"},{"$f":"GAMES!D29","v":0},null,{"$f":"GAMES!G29","v":" Block 1 Player 6"},null,{"$f":"$E$188","v":0},{"$f":"$F$188","v":-1E-3},{"$f":"$G$188","v":-1E-3}]
[null,{"$f":"GAMES!B33","v":"00:00:00"},{"$f":"GAMES!C33","v":"00:00:00"},{"$f":"GAMES!D33","v":0},null,{"$f":"GAMES!E33","v":" Block 1 Player 1"},null,{"$f":"$E$184","v":0},{"$f":"$F$184","v":-1E-3},{"$f":"$G$184","v":-1E-3}]
[null,{"$f":"GAMES!B39","v":"00:00:00"},{"$f":"GAMES!C39","v":"00:00:00"},{"$f":"GAMES!D39","v":0},null,{"$f":"GAMES!E39","v":" Block 1 Player 2"},null,{"$f":"$E$185","v":0},{"$f":"$F$185","v":-1E-3},{"$f":"$G$185","v":-1E-3}]
[null,{"$f":"GAMES!B45","v":"00:00:00"},{"$f":"GAMES!C45","v":"00:00:00"},{"$f":"GAMES!D45","v":0},null,{"$f":"GAMES!E45","v":" Block 1 Player 9"},null,{"$f":"$E$191","v":0},{"$f":"$F$191","v":-1E-3},{"$f":"$G$191","v":-1E-3}]
[]
[null,"PLAYER:",{"$f":"BLOCK!L6","v":" Block 1 Player 4"},null,null,null,"HANDICAP",{"$f":"BLOCK!B18","v":0}]
[null,null,null,null,"OPP","PLAYER","OPP","H/CAP"]
[null,null,"OPPONENT",null,"HCP","SCORE","SCORE","PTS"]
[null,{"$f":"SCORECARD!C72","v":" Block 1 Player 1"},null,null,{"$f":"SCORECARD!F72","v":0},{"$f":"SCORECARD!G72","v":-1E-3},{"$f":"SCORECARD!H72","v":-1E-3},{"$f":"IF(NOT(OR(F184>0,G184>0)),\"\",IF(HandicapPlay=\"x\",IF(F184>G184,10,-10),(IF((F184-G184>0),(VLOOKUP(OFFSET(H184,-3,0),(TABLE!WIN),(MATCH(E184,WINCOL,0)+1))),(VLOOKUP(OFFSET(H184,-3,0),(TABLE!LOSE),(MATCH(E184,LOSECOL,0)+1)))))))","v":""}]
[null,{"$f":"SCORECARD!C73","v":" Block 1 Player 2"},null,null,{"$f":"SCORECARD!F73","v":0},{"$f":"SCORECARD!G73","v":-1E-3},{"$f":"SCORECARD!H73","v":-1E-3},{"$f":"IF(NOT(OR(F185>0,G185>0)),\"\",IF(HandicapPlay=\"x\",IF(F185>G185,10,-10),(IF((F185-G185>0),(VLOOKUP(OFFSET(H185,-4,0),(TABLE!WIN),(MATCH(E185,WINCOL,0)+1))),(VLOOKUP(OFFSET(H185,-4,0),(TABLE!LOSE),(MATCH(E185,LOSECOL,0)+1)))))))","v":""}]
[null,{"$f":"SCORECARD!C74","v":" Block 1 Player 3"},null,null,{"$f":"SCORECARD!F74","v":0},{"$f":"SCORECARD!G74","v":-1E-3},{"$f":"SCORECARD!H74","v":-1E-3},{"$f":"IF(NOT(OR(F186>0,G186>0)),\"\",IF(HandicapPlay=\"x\",IF(F186>G186,10,-10),(IF((F186-G186>0),(VLOOKUP(OFFSET(H186,-5,0),(TABLE!WIN),(MATCH(E186,WINCOL,0)+1))),(VLOOKUP(OFFSET(H186,-5,0),(TABLE!LOSE),(MATCH(E186,LOSECOL,0)+1)))))))","v":""}]
[null,{"$f":"SCORECARD!C75","v":" Block 1 Player 5"},null,null,{"$f":"SCORECARD!F75","v":0},{"$f":"SCORECARD!G75","v":-1E-3},{"$f":"SCORECARD!H75","v":-1E-3},{"$f":"IF(NOT(OR(F187>0,G187>0)),\"\",IF(HandicapPlay=\"x\",IF(F187>G187,10,-10),(IF((F187-G187>0),(VLOOKUP(OFFSET(H187,-6,0),(TABLE!WIN),(MATCH(E187,WINCOL,0)+1))),(VLOOKUP(OFFSET(H187,-6,0),(TABLE!LOSE),(MATCH(E187,LOSECOL,0)+1)))))))","v":""}]
[null,{"$f":"SCORECARD!C76","v":" Block 1 Player 6"},null,null,{"$f":"SCORECARD!F76","v":0},{"$f":"SCORECARD!G76","v":-1E-3},{"$f":"SCORECARD!H76","v":-1E-3},{"$f":"IF(NOT(OR(F188>0,G188>0)),\"\",IF(HandicapPlay=\"x\",IF(F188>G188,10,-10),(IF((F188-G188>0),(VLOOKUP(OFFSET(H188,-7,0),(TABLE!WIN),(MATCH(E188,WINCOL,0)+1))),(VLOOKUP(OFFSET(H188,-7,0),(TABLE!LOSE),(MATCH(E188,LOSECOL,0)+1)))))))","v":""}]
[null,{"$f":"SCORECARD!C77","v":" Block 1 Player 7"},null,null,{"$f":"SCORECARD!F77","v":0},{"$f":"SCORECARD!G77","v":-1E-3},{"$f":"SCORECARD!H77","v":-1E-3},{"$f":"IF(NOT(OR(F189>0,G189>0)),\"\",IF(HandicapPlay=\"x\",IF(F189>G189,10,-10),(IF((F189-G189>0),(VLOOKUP(OFFSET(H189,-8,0),(TABLE!WIN),(MATCH(E189,WINCOL,0)+1))),(VLOOKUP(OFFSET(H189,-8,0),(TABLE!LOSE),(MATCH(E189,LOSECOL,0)+1)))))))","v":""}]
[null,{"$f":"SCORECARD!C78","v":" Block 1 Player 8"},null,null,{"$f":"SCORECARD!F78","v":0},{"$f":"SCORECARD!G78","v":-1E-3},{"$f":"SCORECARD!H78","v":-1E-3},{"$f":"IF(NOT(OR(F190>0,G190>0)),\"\",IF(HandicapPlay=\"x\",IF(F190>G190,10,-10),(IF((F190-G190>0),(VLOOKUP(OFFSET(H190,-9,0),(TABLE!WIN),(MATCH(E190,WINCOL,0)+1))),(VLOOKUP(OFFSET(H190,-9,0),(TABLE!LOSE),(MATCH(E190,LOSECOL,0)+1)))))))","v":""}]
[null,{"$f":"SCORECARD!C79","v":" Block 1 Player 9"},null,null,{"$f":"SCORECARD!F79","v":0},{"$f":"SCORECARD!G79","v":-1E-3},{"$f":"SCORECARD!H79","v":-1E-3},{"$f":"IF(NOT(OR(F191>0,G191>0)),\"\",IF(HandicapPlay=\"x\",IF(F191>G191,10,-10),(IF((F191-G191>0),(VLOOKUP(OFFSET(H191,-10,0),(TABLE!WIN),(MATCH(E191,WINCOL,0)+1))),(VLOOKUP(OFFSET(H191,-10,0),(TABLE!LOSE),(MATCH(E191,LOSECOL,0)+1)))))))","v":""}]
[null,{"$f":"SCORECARD!C80","v":" Block 1 Player 10"},null,null,{"$f":"SCORECARD!F80","v":0},{"$f":"SCORECARD!G80","v":-1E-3},{"$f":"SCORECARD!H80","v":-1E-3},{"$f":"IF(NOT(OR(F192>0,G192>0)),\"\",IF(HandicapPlay=\"x\",IF(F192>G192,10,-10),(IF((F192-G192>0),(VLOOKUP(OFFSET(H192,-11,0),(TABLE!WIN),(MATCH(E192,WINCOL,0)+1))),(VLOOKUP(OFFSET(H192,-11,0),(TABLE!LOSE),(MATCH(E192,LOSECOL,0)+1)))))))","v":""}]
[]
[]
[]
[]
[]
[]
[]
[]
[null,null,null,null,null,null,"Handicap adjustment points total   ",{"$f":"SUM(H184:H192)","v":0}]
[]
[]
[]
[]
[]
[]
[]
[]
[]
[]
[]
[]
[{"$f":"note1","v":"Time limit 2.5 hours, Turn After Bell (61.1.6). Quadway hoops (3 11/16\"), Dawson International balls"}]
[{"$f":"note2","v":"Games may start early. Please be at the venue at least 30 minutes earlier than the scheduled start time."}]
[{"$f":"note3","v":"Entry Fee $40 will be invoiced by email. Please pay by EFT using the invoice No. as reference."}]
[{"$f":"note4","v":"Players please assist with setting and clearing courts."}]
[null,null,null,null,{"$f":"BLOCK!O6","v":" Block 1 Player 5"}]
[null,null,null,null,{"$f":"BLOCK!I2","v":"TOURNAMENT"}]
[null,null,null,null,{"$f":"BLOCK!I4","v":"GROUP"}]
[null,null,null,null,{"$f":"BLOCK!B6","v":"BLOCK 1"}]
[]
[null,null,null,null,"BLOCK PLAY SCHEDULE"]
[null,"TIME","DAY","COURT",null,"OPPONENT",null,"HANDICAP","PS","OS"]
[null,{"$f":"GAMES!B7","v":"00:00:00"},{"$f":"GAMES!C7","v":"00:00:00"},{"$f":"GAMES!D7","v":0},null,{"$f":"GAMES!G7","v":" Block 1 Player 6"},null,{"$f":"$E$242","v":0},{"$f":"$F$242","v":-1E-3},{"$f":"$G$242","v":-1E-3}]
[null,{"$f":"GAMES!B12","v":"00:00:00"},{"$f":"GAMES!C12","v":"00:00:00"},{"$f":"GAMES!D12","v":0},null,{"$f":"GAMES!G12","v":" Block 1 Player 4"},null,{"$f":"$E$241","v":0},{"$f":"$F$241","v":-1E-3},{"$f":"$G$241","v":-1E-3}]
[null,{"$f":"GAMES!B16","v":"00:00:00"},{"$f":"GAMES!C16","v":"00:00:00"},{"$f":"GAMES!D16","v":0},null,{"$f":"GAMES!G16","v":" Block 1 Player 2"},null,{"$f":"$E$239","v":0},{"$f":"$F$239","v":-1E-3},{"$f":"$G$239","v":-1E-3}]
[null,{"$f":"GAMES!B20","v":"00:00:00"},{"$f":"GAMES!C20","v":"00:00:00"},{"$f":"GAMES!D20","v":0},null,{"$f":"GAMES!G20","v":" Block 1 Player 9"},null,{"$f":"$E$245","v":0},{"$f":"$F$245","v":-1E-3},{"$f":"$G$245","v":-1E-3}]
[null,{"$f":"GAMES!B24","v":"00:00:00"},{"$f":"GAMES!C24","v":"00:00:00"},{"$f":"GAMES!D24","v":0},null,{"$f":"GAMES!G24","v":" Block 1 Player 7"},null,{"$f":"$E$243","v":0},{"$f":"$F$243","v":-1E-3},{"$f":"$G$243","v":-1E-3}]
[null,{"$f":"GAMES!B28","v":"00:00:00"},{"$f":"GAMES!C28","v":"00:00:00"},{"$f":"GAMES!D28","v":0},null,{"$f":"GAMES!E28","v":" Block 1 Player 1"},null,{"$f":"$E$238","v":0},{"$f":"$F$238","v":-1E-3},{"$f":"$G$238","v":-1E-3}]
[null,{"$f":"GAMES!B34","v":"00:00:00"},{"$f":"GAMES!C34","v":"00:00:00"},{"$f":"GAMES!D34","v":0},null,{"$f":"GAMES!G34","v":" Block 1 Player 3"},null,{"$f":"$E$240","v":0},{"$f":"$F$240","v":-1E-3},{"$f":"$G$240","v":-1E-3}]
[null,{"$f":"GAMES!B40","v":"00:00:00"},{"$f":"GAMES!C40","v":"00:00:00"},{"$f":"GAMES!D40","v":0},null,{"$f":"GAMES!E40","v":" Block 1 Player 10"},null,{"$f":"$E$246","v":0},{"$f":"$F$246","v":-1E-3},{"$f":"$G$246","v":-1E-3}]
[null,{"$f":"GAMES!B46","v":"00:00:00"},{"$f":"GAMES!C46","v":"00:00:00"},{"$f":"GAMES!D46","v":0},null,{"$f":"GAMES!E46","v":" Block 1 Player 8"},null,{"$f":"$E$244","v":0},{"$f":"$F$244","v":-1E-3},{"$f":"$G$244","v":-1E-3}]
[]
[null,"PLAYER:",{"$f":"BLOCK!O6","v":" Block 1 Player 5"},null,null,null,"HANDICAP",{"$f":"BLOCK!B21","v":0}]
[null,null,null,null,"OPP","PLAYER","OPP","H/CAP"]
[null,null,"OPPONENT",null,"HCP","SCORE","SCORE","PTS"]
[null,{"$f":"SCORECARD!C95","v":" Block 1 Player 1"},null,null,{"$f":"SCORECARD!F95","v":0},{"$f":"SCORECARD!G95","v":-1E-3},{"$f":"SCORECARD!H95","v":-1E-3},{"$f":"IF(NOT(OR(F238>0,G238>0)),\"\",IF(HandicapPlay=\"x\",IF(F238>G238,10,-10),(IF((F238-G238>0),(VLOOKUP(OFFSET(H238,-3,0),(TABLE!WIN),(MATCH(E238,WINCOL,0)+1))),(VLOOKUP(OFFSET(H238,-3,0),(TABLE!LOSE),(MATCH(E238,LOSECOL,0)+1)))))))","v":""}]
[null,{"$f":"SCORECARD!C96","v":" Block 1 Player 2"},null,null,{"$f":"SCORECARD!F96","v":0},{"$f":"SCORECARD!G96","v":-1E-3},{"$f":"SCORECARD!H96","v":-1E-3},{"$f":"IF(NOT(OR(F239>0,G239>0)),\"\",IF(HandicapPlay=\"x\",IF(F239>G239,10,-10),(IF((F239-G239>0),(VLOOKUP(OFFSET(H239,-4,0),(TABLE!WIN),(MATCH(E239,WINCOL,0)+1))),(VLOOKUP(OFFSET(H239,-4,0),(TABLE!LOSE),(MATCH(E239,LOSECOL,0)+1)))))))","v":""}]
[null,{"$f":"SCORECARD!C97","v":" Block 1 Player 3"},null,null,{"$f":"SCORECARD!F97","v":0},{"$f":"SCORECARD!G97","v":-1E-3},{"$f":"SCORECARD!H97","v":-1E-3},{"$f":"IF(NOT(OR(F240>0,G240>0)),\"\",IF(HandicapPlay=\"x\",IF(F240>G240,10,-10),(IF((F240-G240>0),(VLOOKUP(OFFSET(H240,-5,0),(TABLE!WIN),(MATCH(E240,WINCOL,0)+1))),(VLOOKUP(OFFSET(H240,-5,0),(TABLE!LOSE),(MATCH(E240,LOSECOL,0)+1)))))))","v":""}]
[null,{"$f":"SCORECARD!C98","v":" Block 1 Player 4"},null,null,{"$f":"SCORECARD!F98","v":0},{"$f":"SCORECARD!G98","v":-1E-3},{"$f":"SCORECARD!H98","v":-1E-3},{"$f":"IF(NOT(OR(F241>0,G241>0)),\"\",IF(HandicapPlay=\"x\",IF(F241>G241,10,-10),(IF((F241-G241>0),(VLOOKUP(OFFSET(H241,-6,0),(TABLE!WIN),(MATCH(E241,WINCOL,0)+1))),(VLOOKUP(OFFSET(H241,-6,0),(TABLE!LOSE),(MATCH(E241,LOSECOL,0)+1)))))))","v":""}]
[null,{"$f":"SCORECARD!C99","v":" Block 1 Player 6"},null,null,{"$f":"SCORECARD!F99","v":0},{"$f":"SCORECARD!G99","v":-1E-3},{"$f":"SCORECARD!H99","v":-1E-3},{"$f":"IF(NOT(OR(F242>0,G242>0)),\"\",IF(HandicapPlay=\"x\",IF(F242>G242,10,-10),(IF((F242-G242>0),(VLOOKUP(OFFSET(H242,-7,0),(TABLE!WIN),(MATCH(E242,WINCOL,0)+1))),(VLOOKUP(OFFSET(H242,-7,0),(TABLE!LOSE),(MATCH(E242,LOSECOL,0)+1)))))))","v":""}]
[null,{"$f":"SCORECARD!C100","v":" Block 1 Player 7"},null,null,{"$f":"SCORECARD!F100","v":0},{"$f":"SCORECARD!G100","v":-1E-3},{"$f":"SCORECARD!H100","v":-1E-3},{"$f":"IF(NOT(OR(F243>0,G243>0)),\"\",IF(HandicapPlay=\"x\",IF(F243>G243,10,-10),(IF((F243-G243>0),(VLOOKUP(OFFSET(H243,-8,0),(TABLE!WIN),(MATCH(E243,WINCOL,0)+1))),(VLOOKUP(OFFSET(H243,-8,0),(TABLE!LOSE),(MATCH(E243,LOSECOL,0)+1)))))))","v":""}]
[null,{"$f":"SCORECARD!C101","v":" Block 1 Player 8"},null,null,{"$f":"SCORECARD!F101","v":0},{"$f":"SCORECARD!G101","v":-1E-3},{"$f":"SCORECARD!H101","v":-1E-3},{"$f":"IF(NOT(OR(F244>0,G244>0)),\"\",IF(HandicapPlay=\"x\",IF(F244>G244,10,-10),(IF((F244-G244>0),(VLOOKUP(OFFSET(H244,-9,0),(TABLE!WIN),(MATCH(E244,WINCOL,0)+1))),(VLOOKUP(OFFSET(H244,-9,0),(TABLE!LOSE),(MATCH(E244,LOSECOL,0)+1)))))))","v":""}]
[null,{"$f":"SCORECARD!C102","v":" Block 1 Player 9"},null,null,{"$f":"SCORECARD!F102","v":0},{"$f":"SCORECARD!G102","v":-1E-3},{"$f":"SCORECARD!H102","v":-1E-3},{"$f":"IF(NOT(OR(F245>0,G245>0)),\"\",IF(HandicapPlay=\"x\",IF(F245>G245,10,-10),(IF((F245-G245>0),(VLOOKUP(OFFSET(H245,-10,0),(TABLE!WIN),(MATCH(E245,WINCOL,0)+1))),(VLOOKUP(OFFSET(H245,-10,0),(TABLE!LOSE),(MATCH(E245,LOSECOL,0)+1)))))))","v":""}]
[null,{"$f":"SCORECARD!C103","v":" Block 1 Player 10"},null,null,{"$f":"SCORECARD!F103","v":0},{"$f":"SCORECARD!G103","v":-1E-3},{"$f":"SCORECARD!H103","v":-1E-3},{"$f":"IF(NOT(OR(F246>0,G246>0)),\"\",IF(HandicapPlay=\"x\",IF(F246>G246,10,-10),(IF((F246-G246>0),(VLOOKUP(OFFSET(H246,-11,0),(TABLE!WIN),(MATCH(E246,WINCOL,0)+1))),(VLOOKUP(OFFSET(H246,-11,0),(TABLE!LOSE),(MATCH(E246,LOSECOL,0)+1)))))))","v":""}]
[]
[]
[]
[]
[]
[]
[]
[]
[null,null,null,null,null,null,"Handicap adjustment points total   ",{"$f":"SUM(H238:H246)","v":0}]
[]
[]
[]
[]
[]
[]
[]
[]
[]
[]
[]
[]
[{"$f":"note1","v":"Time limit 2.5 hours, Turn After Bell (61.1.6). Quadway hoops (3 11/16\"), Dawson International balls"}]
[{"$f":"note2","v":"Games may start early. Please be at the venue at least 30 minutes earlier than the scheduled start time."}]
[{"$f":"note3","v":"Entry Fee $40 will be invoiced by email. Please pay by EFT using the invoice No. as reference."}]
[{"$f":"note4","v":"Players please assist with setting and clearing courts."}]
[null,null,null,null,{"$f":"BLOCK!R6","v":" Block 1 Player 6"}]
[null,null,null,null,{"$f":"BLOCK!I2","v":"TOURNAMENT"}]
[null,null,null,null,{"$f":"BLOCK!I4","v":"GROUP"}]
[null,null,null,null,{"$f":"BLOCK!B6","v":"BLOCK 1"}]
[]
[null,null,null,null,"BLOCK PLAY SCHEDULE"]
[null,"TIME","DAY","COURT",null,"OPPONENT",null,"HANDICAP","PS","OS"]
[null,{"$f":"GAMES!B7","v":"00:00:00"},{"$f":"GAMES!C7","v":"00:00:00"},{"$f":"GAMES!D7","v":0},null,{"$f":"GAMES!E7","v":" Block 1 Player 5"},null,{"$f":"$E$296","v":0},{"$f":"$F$296","v":-1E-3},{"$f":"$G$296","v":-1E-3}]
[null,{"$f":"GAMES!B11","v":"00:00:00"},{"$f":"GAMES!C11","v":"00:00:00"},{"$f":"GAMES!D11","v":0},null,{"$f":"GAMES!G11","v":" Block 1 Player 3"},null,{"$f":"$E$294","v":0},{"$f":"$F$294","v":-1E-3},{"$f":"$G$294","v":-1E-3}]
[null,{"$f":"GAMES!B15","v":"00:00:00"},{"$f":"GAMES!C15","v":"00:00:00"},{"$f":"GAMES!D15","v":0},null,{"$f":"GAMES!G15","v":" Block 1 Player 10"},null,{"$f":"$E$300","v":0},{"$f":"$F$300","v":-1E-3},{"$f":"$G$300","v":-1E-3}]
[null,{"$f":"GAMES!B19","v":"00:00:00"},{"$f":"GAMES!C19","v":"00:00:00"},{"$f":"GAMES!D19","v":0},null,{"$f":"GAMES!G19","v":" Block 1 Player 8"},null,{"$f":"$E$298","v":0},{"$f":"$F$298","v":-1E-3},{"$f":"$G$298","v":-1E-3}]
[null,{"$f":"GAMES!B23","v":"00:00:00"},{"$f":"GAMES!C23","v":"00:00:00"},{"$f":"GAMES!D23","v":0},null,{"$f":"GAMES!E23","v":" Block 1 Player 1"},null,{"$f":"$E$292","v":0},{"$f":"$F$292","v":-1E-3},{"$f":"$G$292","v":-1E-3}]
[null,{"$f":"GAMES!B29","v":"00:00:00"},{"$f":"GAMES!C29","v":"00:00:00"},{"$f":"GAMES!D29","v":0},null,{"$f":"GAMES!E29","v":" Block 1 Player 4"},null,{"$f":"$E$295","v":0},{"$f":"$F$295","v":-1E-3},{"$f":"$G$295","v":-1E-3}]
[null,{"$f":"GAMES!B35","v":"00:00:00"},{"$f":"GAMES!C35","v":"00:00:00"},{"$f":"GAMES!D35","v":0},null,{"$f":"GAMES!E35","v":" Block 1 Player 2"},null,{"$f":"$E$293","v":0},{"$f":"$F$293","v":-1E-3},{"$f":"$G$293","v":-1E-3}]
[null,{"$f":"GAMES!B41","v":"00:00:00"},{"$f":"GAMES!C41","v":"00:00:00"},{"$f":"GAMES!D41","v":0},null,{"$f":"GAMES!E41","v":" Block 1 Player 9"},null,{"$f":"$E$299","v":0},{"$f":"$F$299","v":-1E-3},{"$f":"$G$299","v":-1E-3}]
[null,{"$f":"GAMES!B47","v":"00:00:00"},{"$f":"GAMES!C47","v":"00:00:00"},{"$f":"GAMES!D47","v":0},null,{"$f":"GAMES!E47","v":" Block 1 Player 7"},null,{"$f":"$E$297","v":0},{"$f":"$F$297","v":-1E-3},{"$f":"$G$297","v":-1E-3}]
[]
[null,"PLAYER:",{"$f":"BLOCK!R6","v":" Block 1 Player 6"},null,null,null,"HANDICAP",{"$f":"BLOCK!B24","v":0}]
[null,null,null,null,"OPP","PLAYER","OPP","H/CAP"]
[null,null,"OPPONENT",null,"HCP","SCORE","SCORE","PTS"]
[null,{"$f":"SCORECARD!C115","v":" Block 1 Player 1"},null,null,{"$f":"SCORECARD!F115","v":0},{"$f":"SCORECARD!G115","v":-1E-3},{"$f":"SCORECARD!H115","v":-1E-3},{"$f":"IF(NOT(OR(F292>0,G292>0)),\"\",IF(HandicapPlay=\"x\",IF(F292>G292,10,-10),(IF((F292-G292>0),(VLOOKUP(OFFSET(H292,-3,0),(TABLE!WIN),(MATCH(E292,WINCOL,0)+1))),(VLOOKUP(OFFSET(H292,-3,0),(TABLE!LOSE),(MATCH(E292,LOSECOL,0)+1)))))))","v":""}]
[null,{"$f":"SCORECARD!C116","v":" Block 1 Player 2"},null,null,{"$f":"SCORECARD!F116","v":0},{"$f":"SCORECARD!G116","v":-1E-3},{"$f":"SCORECARD!H116","v":-1E-3},{"$f":"IF(NOT(OR(F293>0,G293>0)),\"\",IF(HandicapPlay=\"x\",IF(F293>G293,10,-10),(IF((F293-G293>0),(VLOOKUP(OFFSET(H293,-4,0),(TABLE!WIN),(MATCH(E293,WINCOL,0)+1))),(VLOOKUP(OFFSET(H293,-4,0),(TABLE!LOSE),(MATCH(E293,LOSECOL,0)+1)))))))","v":""}]
[null,{"$f":"SCORECARD!C117","v":" Block 1 Player 3"},null,null,{"$f":"SCORECARD!F117","v":0},{"$f":"SCORECARD!G117","v":-1E-3},{"$f":"SCORECARD!H117","v":-1E-3},{"$f":"IF(NOT(OR(F294>0,G294>0)),\"\",IF(HandicapPlay=\"x\",IF(F294>G294,10,-10),(IF((F294-G294>0),(VLOOKUP(OFFSET(H294,-5,0),(TABLE!WIN),(MATCH(E294,WINCOL,0)+1))),(VLOOKUP(OFFSET(H294,-5,0),(TABLE!LOSE),(MATCH(E294,LOSECOL,0)+1)))))))","v":""}]
[null,{"$f":"SCORECARD!C118","v":" Block 1 Player 4"},null,null,{"$f":"SCORECARD!F118","v":0},{"$f":"SCORECARD!G118","v":-1E-3},{"$f":"SCORECARD!H118","v":-1E-3},{"$f":"IF(NOT(OR(F295>0,G295>0)),\"\",IF(HandicapPlay=\"x\",IF(F295>G295,10,-10),(IF((F295-G295>0),(VLOOKUP(OFFSET(H295,-6,0),(TABLE!WIN),(MATCH(E295,WINCOL,0)+1))),(VLOOKUP(OFFSET(H295,-6,0),(TABLE!LOSE),(MATCH(E295,LOSECOL,0)+1)))))))","v":""}]
[null,{"$f":"SCORECARD!C119","v":" Block 1 Player 5"},null,null,{"$f":"SCORECARD!F119","v":0},{"$f":"SCORECARD!G119","v":-1E-3},{"$f":"SCORECARD!H119","v":-1E-3},{"$f":"IF(NOT(OR(F296>0,G296>0)),\"\",IF(HandicapPlay=\"x\",IF(F296>G296,10,-10),(IF((F296-G296>0),(VLOOKUP(OFFSET(H296,-7,0),(TABLE!WIN),(MATCH(E296,WINCOL,0)+1))),(VLOOKUP(OFFSET(H296,-7,0),(TABLE!LOSE),(MATCH(E296,LOSECOL,0)+1)))))))","v":""}]
[null,{"$f":"SCORECARD!C120","v":" Block 1 Player 7"},null,null,{"$f":"SCORECARD!F120","v":0},{"$f":"SCORECARD!G120","v":-1E-3},{"$f":"SCORECARD!H120","v":-1E-3},{"$f":"IF(NOT(OR(F297>0,G297>0)),\"\",IF(HandicapPlay=\"x\",IF(F297>G297,10,-10),(IF((F297-G297>0),(VLOOKUP(OFFSET(H297,-8,0),(TABLE!WIN),(MATCH(E297,WINCOL,0)+1))),(VLOOKUP(OFFSET(H297,-8,0),(TABLE!LOSE),(MATCH(E297,LOSECOL,0)+1)))))))","v":""}]
[null,{"$f":"SCORECARD!C121","v":" Block 1 Player 8"},null,null,{"$f":"SCORECARD!F121","v":0},{"$f":"SCORECARD!G121","v":-1E-3},{"$f":"SCORECARD!H121","v":-1E-3},{"$f":"IF(NOT(OR(F298>0,G298>0)),\"\",IF(HandicapPlay=\"x\",IF(F298>G298,10,-10),(IF((F298-G298>0),(VLOOKUP(OFFSET(H298,-9,0),(TABLE!WIN),(MATCH(E298,WINCOL,0)+1))),(VLOOKUP(OFFSET(H298,-9,0),(TABLE!LOSE),(MATCH(E298,LOSECOL,0)+1)))))))","v":""}]
[null,{"$f":"SCORECARD!C122","v":" Block 1 Player 9"},null,null,{"$f":"SCORECARD!F122","v":0},{"$f":"SCORECARD!G122","v":-1E-3},{"$f":"SCORECARD!H122","v":-1E-3},{"$f":"IF(NOT(OR(F299>0,G299>0)),\"\",IF(HandicapPlay=\"x\",IF(F299>G299,10,-10),(IF((F299-G299>0),(VLOOKUP(OFFSET(H299,-10,0),(TABLE!WIN),(MATCH(E299,WINCOL,0)+1))),(VLOOKUP(OFFSET(H299,-10,0),(TABLE!LOSE),(MATCH(E299,LOSECOL,0)+1)))))))","v":""}]
[null,{"$f":"SCORECARD!C123","v":" Block 1 Player 10"},null,null,{"$f":"SCORECARD!F123","v":0},{"$f":"SCORECARD!G123","v":-1E-3},{"$f":"SCORECARD!H123","v":-1E-3},{"$f":"IF(NOT(OR(F300>0,G300>0)),\"\",IF(HandicapPlay=\"x\",IF(F300>G300,10,-10),(IF((F300-G300>0),(VLOOKUP(OFFSET(H300,-11,0),(TABLE!WIN),(MATCH(E300,WINCOL,0)+1))),(VLOOKUP(OFFSET(H300,-11,0),(TABLE!LOSE),(MATCH(E300,LOSECOL,0)+1)))))))","v":""}]
[]
[]
[]
[]
[]
[]
[]
[]
[null,null,null,null,null,null,"Handicap adjustment points total   ",{"$f":"SUM(H292:H300)","v":0}]
[]
[]
[]
[]
[]
[]
[]
[]
[]
[]
[]
[]
[{"$f":"note1","v":"Time limit 2.5 hours, Turn After Bell (61.1.6). Quadway hoops (3 11/16\"), Dawson International balls"}]
[{"$f":"note2","v":"Games may start early. Please be at the venue at least 30 minutes earlier than the scheduled start time."}]
[{"$f":"note3","v":"Entry Fee $40 will be invoiced by email. Please pay by EFT using the invoice No. as reference."}]
[{"$f":"note4","v":"Players please assist with setting and clearing courts."}]
[null,null,null,null,{"$f":"BLOCK!U6","v":" Block 1 Player 7"}]
[null,null,null,null,{"$f":"BLOCK!I2","v":"TOURNAMENT"}]
[null,null,null,null,{"$f":"BLOCK!I4","v":"GROUP"}]
[null,null,null,null,{"$f":"BLOCK!B6","v":"BLOCK 1"}]
[]
[null,null,null,null,"BLOCK PLAY SCHEDULE"]
[null,"TIME","DAY","COURT",null,"OPPONENT",null,"HANDICAP","PS","OS"]
[null,{"$f":"GAMES!B6","v":"00:00:00"},{"$f":"GAMES!C6","v":"00:00:00"},{"$f":"GAMES!D6","v":0},null,{"$f":"GAMES!E6","v":" Block 1 Player 4"},null,{"$f":"$E$349","v":0},{"$f":"$F$349","v":-1E-3},{"$f":"$G$349","v":-1E-3}]
[null,{"$f":"GAMES!B10","v":"00:00:00"},{"$f":"GAMES!C10","v":"00:00:00"},{"$f":"GAMES!D10","v":0},null,{"$f":"GAMES!G10","v":" Block 1 Player 2"},null,{"$f":"$E$347","v":0},{"$f":"$F$347","v":-1E-3},{"$f":"$G$347","v":-1E-3}]
[null,{"$f":"GAMES!B14","v":"00:00:00"},{"$f":"GAMES!C14","v":"00:00:00"},{"$f":"GAMES!D14","v":0},null,{"$f":"GAMES!G14","v":" Block 1 Player 9"},null,{"$f":"$E$353","v":0},{"$f":"$F$353","v":-1E-3},{"$f":"$G$353","v":-1E-3}]
[null,{"$f":"GAMES!B18","v":"00:00:00"},{"$f":"GAMES!C18","v":"00:00:00"},{"$f":"GAMES!D18","v":0},null,{"$f":"GAMES!E18","v":" Block 1 Player 1"},null,{"$f":"$E$346","v":0},{"$f":"$F$346","v":-1E-3},{"$f":"$G$346","v":-1E-3}]
[null,{"$f":"GAMES!B24","v":"00:00:00"},{"$f":"GAMES!C24","v":"00:00:00"},{"$f":"GAMES!D24","v":0},null,{"$f":"GAMES!E24","v":" Block 1 Player 5"},null,{"$f":"$E$350","v":0},{"$f":"$F$350","v":-1E-3},{"$f":"$G$350","v":-1E-3}]
[null,{"$f":"GAMES!B30","v":"00:00:00"},{"$f":"GAMES!C30","v":"00:00:00"},{"$f":"GAMES!D30","v":0},null,{"$f":"GAMES!E30","v":" Block 1 Player 3"},null,{"$f":"$E$348","v":0},{"$f":"$F$348","v":-1E-3},{"$f":"$G$348","v":-1E-3}]
[null,{"$f":"GAMES!B36","v":"00:00:00"},{"$f":"GAMES!C36","v":"00:00:00"},{"$f":"GAMES!D36","v":0},null,{"$f":"GAMES!E36","v":" Block 1 Player 10"},null,{"$f":"$E$354","v":0},{"$f":"$F$354","v":-1E-3},{"$f":"$G$354","v":-1E-3}]
[null,{"$f":"GAMES!B42","v":"00:00:00"},{"$f":"GAMES!C42","v":"00:00:00"},{"$f":"GAMES!D42","v":0},null,{"$f":"GAMES!E42","v":" Block 1 Player 8"},null,{"$f":"$E$352","v":0},{"$f":"$F$352","v":-1E-3},{"$f":"$G$352","v":-1E-3}]
[null,{"$f":"GAMES!B47","v":"00:00:00"},{"$f":"GAMES!C47","v":"00:00:00"},{"$f":"GAMES!D47","v":0},null,{"$f":"GAMES!G47","v":" Block 1 Player 6"},null,{"$f":"$E$351","v":0},{"$f":"$F$351","v":-1E-3},{"$f":"$G$351","v":-1E-3}]
[]
[null,"PLAYER:",{"$f":"BLOCK!U6","v":" Block 1 Player 7"},null,null,null,"HANDICAP",{"$f":"BLOCK!B27","v":0}]
[null,null,null,null,"OPP","PLAYER","OPP","H/CAP"]
[null,null,"OPPONENT",null,"HCP","SCORE","SCORE","PTS"]
[null,{"$f":"SCORECARD!C138","v":" Block 1 Player 1"},null,null,{"$f":"SCORECARD!F138","v":0},{"$f":"SCORECARD!G138","v":-1E-3},{"$f":"SCORECARD!H138","v":-1E-3},{"$f":"IF(NOT(OR(F346>0,G346>0)),\"\",IF(HandicapPlay=\"x\",IF(F346>G346,10,-10),(IF((F346-G346>0),(VLOOKUP(OFFSET(H346,-3,0),(TABLE!WIN),(MATCH(E346,WINCOL,0)+1))),(VLOOKUP(OFFSET(H346,-3,0),(TABLE!LOSE),(MATCH(E346,LOSECOL,0)+1)))))))","v":""}]
[null,{"$f":"SCORECARD!C139","v":" Block 1 Player 2"},null,null,{"$f":"SCORECARD!F139","v":0},{"$f":"SCORECARD!G139","v":-1E-3},{"$f":"SCORECARD!H139","v":-1E-3},{"$f":"IF(NOT(OR(F347>0,G347>0)),\"\",IF(HandicapPlay=\"x\",IF(F347>G347,10,-10),(IF((F347-G347>0),(VLOOKUP(OFFSET(H347,-4,0),(TABLE!WIN),(MATCH(E347,WINCOL,0)+1))),(VLOOKUP(OFFSET(H347,-4,0),(TABLE!LOSE),(MATCH(E347,LOSECOL,0)+1)))))))","v":""}]
[null,{"$f":"SCORECARD!C140","v":" Block 1 Player 3"},null,null,{"$f":"SCORECARD!F140","v":0},{"$f":"SCORECARD!G140","v":-1E-3},{"$f":"SCORECARD!H140","v":-1E-3},{"$f":"IF(NOT(OR(F348>0,G348>0)),\"\",IF(HandicapPlay=\"x\",IF(F348>G348,10,-10),(IF((F348-G348>0),(VLOOKUP(OFFSET(H348,-5,0),(TABLE!WIN),(MATCH(E348,WINCOL,0)+1))),(VLOOKUP(OFFSET(H348,-5,0),(TABLE!LOSE),(MATCH(E348,LOSECOL,0)+1)))))))","v":""}]
[null,{"$f":"SCORECARD!C141","v":" Block 1 Player 4"},null,null,{"$f":"SCORECARD!F141","v":0},{"$f":"SCORECARD!G141","v":-1E-3},{"$f":"SCORECARD!H141","v":-1E-3},{"$f":"IF(NOT(OR(F349>0,G349>0)),\"\",IF(HandicapPlay=\"x\",IF(F349>G349,10,-10),(IF((F349-G349>0),(VLOOKUP(OFFSET(H349,-6,0),(TABLE!WIN),(MATCH(E349,WINCOL,0)+1))),(VLOOKUP(OFFSET(H349,-6,0),(TABLE!LOSE),(MATCH(E349,LOSECOL,0)+1)))))))","v":""}]
[null,{"$f":"SCORECARD!C142","v":" Block 1 Player 5"},null,null,{"$f":"SCORECARD!F142","v":0},{"$f":"SCORECARD!G142","v":-1E-3},{"$f":"SCORECARD!H142","v":-1E-3},{"$f":"IF(NOT(OR(F350>0,G350>0)),\"\",IF(HandicapPlay=\"x\",IF(F350>G350,10,-10),(IF((F350-G350>0),(VLOOKUP(OFFSET(H350,-7,0),(TABLE!WIN),(MATCH(E350,WINCOL,0)+1))),(VLOOKUP(OFFSET(H350,-7,0),(TABLE!LOSE),(MATCH(E350,LOSECOL,0)+1)))))))","v":""}]
[null,{"$f":"SCORECARD!C143","v":" Block 1 Player 6"},null,null,{"$f":"SCORECARD!F143","v":0},{"$f":"SCORECARD!G143","v":-1E-3},{"$f":"SCORECARD!H143","v":-1E-3},{"$f":"IF(NOT(OR(F351>0,G351>0)),\"\",IF(HandicapPlay=\"x\",IF(F351>G351,10,-10),(IF((F351-G351>0),(VLOOKUP(OFFSET(H351,-8,0),(TABLE!WIN),(MATCH(E351,WINCOL,0)+1))),(VLOOKUP(OFFSET(H351,-8,0),(TABLE!LOSE),(MATCH(E351,LOSECOL,0)+1)))))))","v":""}]
[null,{"$f":"SCORECARD!C144","v":" Block 1 Player 8"},null,null,{"$f":"SCORECARD!F144","v":0},{"$f":"SCORECARD!G144","v":-1E-3},{"$f":"SCORECARD!H144","v":-1E-3},{"$f":"IF(NOT(OR(F352>0,G352>0)),\"\",IF(HandicapPlay=\"x\",IF(F352>G352,10,-10),(IF((F352-G352>0),(VLOOKUP(OFFSET(H352,-9,0),(TABLE!WIN),(MATCH(E352,WINCOL,0)+1))),(VLOOKUP(OFFSET(H352,-9,0),(TABLE!LOSE),(MATCH(E352,LOSECOL,0)+1)))))))","v":""}]
[null,{"$f":"SCORECARD!C145","v":" Block 1 Player 9"},null,null,{"$f":"SCORECARD!F145","v":0},{"$f":"SCORECARD!G145","v":-1E-3},{"$f":"SCORECARD!H145","v":-1E-3},{"$f":"IF(NOT(OR(F353>0,G353>0)),\"\",IF(HandicapPlay=\"x\",IF(F353>G353,10,-10),(IF((F353-G353>0),(VLOOKUP(OFFSET(H353,-10,0),(TABLE!WIN),(MATCH(E353,WINCOL,0)+1))),(VLOOKUP(OFFSET(H353,-10,0),(TABLE!LOSE),(MATCH(E353,LOSECOL,0)+1)))))))","v":""}]
[null,{"$f":"SCORECARD!C146","v":" Block 1 Player 10"},null,null,{"$f":"SCORECARD!F146","v":0},{"$f":"SCORECARD!G146","v":-1E-3},{"$f":"SCORECARD!H146","v":-1E-3},{"$f":"IF(NOT(OR(F354>0,G354>0)),\"\",IF(HandicapPlay=\"x\",IF(F354>G354,10,-10),(IF((F354-G354>0),(VLOOKUP(OFFSET(H354,-11,0),(TABLE!WIN),(MATCH(E354,WINCOL,0)+1))),(VLOOKUP(OFFSET(H354,-11,0),(TABLE!LOSE),(MATCH(E354,LOSECOL,0)+1)))))))","v":""}]
[]
[]
[]
[]
[]
[]
[]
[]
[null,null,null,null,null,null,"Handicap adjustment points total   ",{"$f":"SUM(H346:H354)","v":0}]
[]
[]
[]
[]
[]
[]
[]
[]
[]
[]
[]
[]
[{"$f":"note1","v":"Time limit 2.5 hours, Turn After Bell (61.1.6). Quadway hoops (3 11/16\"), Dawson International balls"}]
[{"$f":"note2","v":"Games may start early. Please be at the venue at least 30 minutes earlier than the scheduled start time."}]
[{"$f":"note3","v":"Entry Fee $40 will be invoiced by email. Please pay by EFT using the invoice No. as reference."}]
[{"$f":"note4","v":"Players please assist with setting and clearing courts."}]
[null,null,null,null,{"$f":"BLOCK!X6","v":" Block 1 Player 8"}]
[null,null,null,null,{"$f":"BLOCK!I2","v":"TOURNAMENT"}]
[null,null,null,null,{"$f":"BLOCK!I4","v":"GROUP"}]
[null,null,null,null,{"$f":"BLOCK!B6","v":"BLOCK 1"}]
[]
[null,null,null,null,"BLOCK PLAY SCHEDULE"]
[null,"TIME","DAY","COURT",null,"OPPONENT",null,"HANDICAP","PS","OS"]
[null,{"$f":"GAMES!B5","v":"00:00:00"},{"$f":"GAMES!C5","v":"00:00:00"},{"$f":"GAMES!D5","v":0},null,{"$f":"GAMES!E5","v":" Block 1 Player 3"},null,{"$f":"$E$402","v":0},{"$f":"$F$402","v":-1E-3},{"$f":"$G$402","v":-1E-3}]
[null,{"$f":"GAMES!B9","v":"00:00:00"},{"$f":"GAMES!C9","v":"00:00:00"},{"$f":"GAMES!D9","v":0},null,{"$f":"GAMES!G9","v":" Block 1 Player 10"},null,{"$f":"$E$408","v":0},{"$f":"$F$408","v":-1E-3},{"$f":"$G$408","v":-1E-3}]
[null,{"$f":"GAMES!B13","v":"00:00:00"},{"$f":"GAMES!C13","v":"00:00:00"},{"$f":"GAMES!D13","v":0},null,{"$f":"GAMES!E13","v":" Block 1 Player 1"},null,{"$f":"$E$400","v":0},{"$f":"$F$400","v":-1E-3},{"$f":"$G$400","v":-1E-3}]
[null,{"$f":"GAMES!B19","v":"00:00:00"},{"$f":"GAMES!C19","v":"00:00:00"},{"$f":"GAMES!D19","v":0},null,{"$f":"GAMES!E19","v":" Block 1 Player 6"},null,{"$f":"$E$405","v":0},{"$f":"$F$405","v":-1E-3},{"$f":"$G$405","v":-1E-3}]
[null,{"$f":"GAMES!B25","v":"00:00:00"},{"$f":"GAMES!C25","v":"00:00:00"},{"$f":"GAMES!D25","v":0},null,{"$f":"GAMES!E25","v":" Block 1 Player 4"},null,{"$f":"$E$403","v":0},{"$f":"$F$403","v":-1E-3},{"$f":"$G$403","v":-1E-3}]
[null,{"$f":"GAMES!B31","v":"00:00:00"},{"$f":"GAMES!C31","v":"00:00:00"},{"$f":"GAMES!D31","v":0},null,{"$f":"GAMES!E31","v":" Block 1 Player 2"},null,{"$f":"$E$401","v":0},{"$f":"$F$401","v":-1E-3},{"$f":"$G$401","v":-1E-3}]
[null,{"$f":"GAMES!B37","v":"00:00:00"},{"$f":"GAMES!C37","v":"00:00:00"},{"$f":"GAMES!D37","v":0},null,{"$f":"GAMES!E37","v":" Block 1 Player 9"},null,{"$f":"$E$407","v":0},{"$f":"$F$407","v":-1E-3},{"$f":"$G$407","v":-1E-3}]
[null,{"$f":"GAMES!B42","v":"00:00:00"},{"$f":"GAMES!C42","v":"00:00:00"},{"$f":"GAMES!D42","v":0},null,{"$f":"GAMES!G42","v":" Block 1 Player 7"},null,{"$f":"$E$406","v":0},{"$f":"$F$406","v":-1E-3},{"$f":"$G$406","v":-1E-3}]
[null,{"$f":"GAMES!B46","v":"00:00:00"},{"$f":"GAMES!C46","v":"00:00:00"},{"$f":"GAMES!D46","v":0},null,{"$f":"GAMES!G46","v":" Block 1 Player 5"},null,{"$f":"$E$404","v":0},{"$f":"$F$404","v":-1E-3},{"$f":"$G$404","v":-1E-3}]
[]
[null,"PLAYER:",{"$f":"BLOCK!X6","v":" Block 1 Player 8"},null,null,null,"HANDICAP",{"$f":"BLOCK!B30","v":0}]
[null,null,null,null,"OPP","PLAYER","OPP","H/CAP"]
[null,null,"OPPONENT",null,"HCP","SCORE","SCORE","PTS"]
[null,{"$f":"SCORECARD!C158","v":" Block 1 Player 1"},null,null,{"$f":"SCORECARD!F158","v":0},{"$f":"SCORECARD!G158","v":-1E-3},{"$f":"SCORECARD!H158","v":-1E-3},{"$f":"IF(NOT(OR(F400>0,G400>0)),\"\",IF(HandicapPlay=\"x\",IF(F400>G400,10,-10),(IF((F400-G400>0),(VLOOKUP(OFFSET(H400,-3,0),(TABLE!WIN),(MATCH(E400,WINCOL,0)+1))),(VLOOKUP(OFFSET(H400,-3,0),(TABLE!LOSE),(MATCH(E400,LOSECOL,0)+1)))))))","v":""}]
[null,{"$f":"SCORECARD!C159","v":" Block 1 Player 2"},null,null,{"$f":"SCORECARD!F159","v":0},{"$f":"SCORECARD!G159","v":-1E-3},{"$f":"SCORECARD!H159","v":-1E-3},{"$f":"IF(NOT(OR(F401>0,G401>0)),\"\",IF(HandicapPlay=\"x\",IF(F401>G401,10,-10),(IF((F401-G401>0),(VLOOKUP(OFFSET(H401,-4,0),(TABLE!WIN),(MATCH(E401,WINCOL,0)+1))),(VLOOKUP(OFFSET(H401,-4,0),(TABLE!LOSE),(MATCH(E401,LOSECOL,0)+1)))))))","v":""}]
[null,{"$f":"SCORECARD!C160","v":" Block 1 Player 3"},null,null,{"$f":"SCORECARD!F160","v":0},{"$f":"SCORECARD!G160","v":-1E-3},{"$f":"SCORECARD!H160","v":-1E-3},{"$f":"IF(NOT(OR(F402>0,G402>0)),\"\",IF(HandicapPlay=\"x\",IF(F402>G402,10,-10),(IF((F402-G402>0),(VLOOKUP(OFFSET(H402,-5,0),(TABLE!WIN),(MATCH(E402,WINCOL,0)+1))),(VLOOKUP(OFFSET(H402,-5,0),(TABLE!LOSE),(MATCH(E402,LOSECOL,0)+1)))))))","v":""}]
[null,{"$f":"SCORECARD!C161","v":" Block 1 Player 4"},null,null,{"$f":"SCORECARD!F161","v":0},{"$f":"SCORECARD!G161","v":-1E-3},{"$f":"SCORECARD!H161","v":-1E-3},{"$f":"IF(NOT(OR(F403>0,G403>0)),\"\",IF(HandicapPlay=\"x\",IF(F403>G403,10,-10),(IF((F403-G403>0),(VLOOKUP(OFFSET(H403,-6,0),(TABLE!WIN),(MATCH(E403,WINCOL,0)+1))),(VLOOKUP(OFFSET(H403,-6,0),(TABLE!LOSE),(MATCH(E403,LOSECOL,0)+1)))))))","v":""}]
[null,{"$f":"SCORECARD!C162","v":" Block 1 Player 5"},null,null,{"$f":"SCORECARD!F162","v":0},{"$f":"SCORECARD!G162","v":-1E-3},{"$f":"SCORECARD!H162","v":-1E-3},{"$f":"IF(NOT(OR(F404>0,G404>0)),\"\",IF(HandicapPlay=\"x\",IF(F404>G404,10,-10),(IF((F404-G404>0),(VLOOKUP(OFFSET(H404,-7,0),(TABLE!WIN),(MATCH(E404,WINCOL,0)+1))),(VLOOKUP(OFFSET(H404,-7,0),(TABLE!LOSE),(MATCH(E404,LOSECOL,0)+1)))))))","v":""}]
[null,{"$f":"SCORECARD!C163","v":" Block 1 Player 6"},null,null,{"$f":"SCORECARD!F163","v":0},{"$f":"SCORECARD!G163","v":-1E-3},{"$f":"SCORECARD!H163","v":-1E-3},{"$f":"IF(NOT(OR(F405>0,G405>0)),\"\",IF(HandicapPlay=\"x\",IF(F405>G405,10,-10),(IF((F405-G405>0),(VLOOKUP(OFFSET(H405,-8,0),(TABLE!WIN),(MATCH(E405,WINCOL,0)+1))),(VLOOKUP(OFFSET(H405,-8,0),(TABLE!LOSE),(MATCH(E405,LOSECOL,0)+1)))))))","v":""}]
[null,{"$f":"SCORECARD!C164","v":" Block 1 Player 7"},null,null,{"$f":"SCORECARD!F164","v":0},{"$f":"SCORECARD!G164","v":-1E-3},{"$f":"SCORECARD!H164","v":-1E-3},{"$f":"IF(NOT(OR(F406>0,G406>0)),\"\",IF(HandicapPlay=\"x\",IF(F406>G406,10,-10),(IF((F406-G406>0),(VLOOKUP(OFFSET(H406,-9,0),(TABLE!WIN),(MATCH(E406,WINCOL,0)+1))),(VLOOKUP(OFFSET(H406,-9,0),(TABLE!LOSE),(MATCH(E406,LOSECOL,0)+1)))))))","v":""}]
[null,{"$f":"SCORECARD!C165","v":" Block 1 Player 9"},null,null,{"$f":"SCORECARD!F165","v":0},{"$f":"SCORECARD!G165","v":-1E-3},{"$f":"SCORECARD!H165","v":-1E-3},{"$f":"IF(NOT(OR(F407>0,G407>0)),\"\",IF(HandicapPlay=\"x\",IF(F407>G407,10,-10),(IF((F407-G407>0),(VLOOKUP(OFFSET(H407,-10,0),(TABLE!WIN),(MATCH(E407,WINCOL,0)+1))),(VLOOKUP(OFFSET(H407,-10,0),(TABLE!LOSE),(MATCH(E407,LOSECOL,0)+1)))))))","v":""}]
[null,{"$f":"SCORECARD!C166","v":" Block 1 Player 10"},null,null,{"$f":"SCORECARD!F166","v":0},{"$f":"SCORECARD!G166","v":-1E-3},{"$f":"SCORECARD!H166","v":-1E-3},{"$f":"IF(NOT(OR(F408>0,G408>0)),\"\",IF(HandicapPlay=\"x\",IF(F408>G408,10,-10),(IF((F408-G408>0),(VLOOKUP(OFFSET(H408,-11,0),(TABLE!WIN),(MATCH(E408,WINCOL,0)+1))),(VLOOKUP(OFFSET(H408,-11,0),(TABLE!LOSE),(MATCH(E408,LOSECOL,0)+1)))))))","v":""}]
[]
[]
[]
[]
[]
[]
[]
[]
[null,null,null,null,null,null,"Handicap adjustment points total   ",{"$f":"SUM(H400:H408)","v":0}]
[]
[]
[]
[]
[]
[]
[]
[]
[]
[]
[]
[]
[{"$f":"note1","v":"Time limit 2.5 hours, Turn After Bell (61.1.6). Quadway hoops (3 11/16\"), Dawson International balls"}]
[{"$f":"note2","v":"Games may start early. Please be at the venue at least 30 minutes earlier than the scheduled start time."}]
[{"$f":"note3","v":"Entry Fee $40 will be invoiced by email. Please pay by EFT using the invoice No. as reference."}]
[{"$f":"note4","v":"Players please assist with setting and clearing courts."}]
[null,null,null,null,{"$f":"BLOCK!AA6","v":" Block 1 Player 9"}]
[null,null,null,null,{"$f":"BLOCK!I2","v":"TOURNAMENT"}]
[null,null,null,null,{"$f":"BLOCK!I4","v":"GROUP"}]
[null,null,null,null,{"$f":"BLOCK!B6","v":"BLOCK 1"}]
[]
[null,null,null,null,"BLOCK PLAY SCHEDULE"]
[null,"TIME","DAY","COURT",null,"OPPONENT",null,"HANDICAP","PS","OS"]
[null,{"$f":"GAMES!B4","v":"00:00:00"},{"$f":"GAMES!C4","v":"00:00:00"},{"$f":"GAMES!D4","v":0},null,{"$f":"GAMES!E4","v":" Block 1 Player 2"},null,{"$f":"$E$455","v":0},{"$f":"$F$455","v":-1E-3},{"$f":"$G$455","v":-1E-3}]
[null,{"$f":"GAMES!B8","v":"00:00:00"},{"$f":"GAMES!C8","v":"00:00:00"},{"$f":"GAMES!D8","v":0},null,{"$f":"GAMES!E8","v":" Block 1 Player 1"},null,{"$f":"$E$454","v":0},{"$f":"$F$454","v":-1E-3},{"$f":"$G$454","v":-1E-3}]
[null,{"$f":"GAMES!B14","v":"00:00:00"},{"$f":"GAMES!C14","v":"00:00:00"},{"$f":"GAMES!D14","v":0},null,{"$f":"GAMES!E14","v":" Block 1 Player 7"},null,{"$f":"$E$460","v":0},{"$f":"$F$460","v":-1E-3},{"$f":"$G$460","v":-1E-3}]
[null,{"$f":"GAMES!B20","v":"00:00:00"},{"$f":"GAMES!C20","v":"00:00:00"},{"$f":"GAMES!D20","v":0},null,{"$f":"GAMES!E20","v":" Block 1 Player 5"},null,{"$f":"$E$458","v":0},{"$f":"$F$458","v":-1E-3},{"$f":"$G$458","v":-1E-3}]
[null,{"$f":"GAMES!B26","v":"00:00:00"},{"$f":"GAMES!C26","v":"00:00:00"},{"$f":"GAMES!D26","v":0},null,{"$f":"GAMES!E26","v":" Block 1 Player 3"},null,{"$f":"$E$456","v":0},{"$f":"$F$456","v":-1E-3},{"$f":"$G$456","v":-1E-3}]
[null,{"$f":"GAMES!B32","v":"00:00:00"},{"$f":"GAMES!C32","v":"00:00:00"},{"$f":"GAMES!D32","v":0},null,{"$f":"GAMES!E32","v":" Block 1 Player 10"},null,{"$f":"$E$462","v":0},{"$f":"$F$462","v":-1E-3},{"$f":"$G$462","v":-1E-3}]
[null,{"$f":"GAMES!B37","v":"00:00:00"},{"$f":"GAMES!C37","v":"00:00:00"},{"$f":"GAMES!D37","v":0},null,{"$f":"GAMES!G37","v":" Block 1 Player 8"},null,{"$f":"$E$461","v":0},{"$f":"$F$461","v":-1E-3},{"$f":"$G$461","v":-1E-3}]
[null,{"$f":"GAMES!B41","v":"00:00:00"},{"$f":"GAMES!C41","v":"00:00:00"},{"$f":"GAMES!D41","v":0},null,{"$f":"GAMES!G41","v":" Block 1 Player 6"},null,{"$f":"$E$459","v":0},{"$f":"$F$459","v":-1E-3},{"$f":"$G$459","v":-1E-3}]
[null,{"$f":"GAMES!B45","v":"00:00:00"},{"$f":"GAMES!C45","v":"00:00:00"},{"$f":"GAMES!D45","v":0},null,{"$f":"GAMES!G45","v":" Block 1 Player 4"},null,{"$f":"$E$457","v":0},{"$f":"$F$457","v":-1E-3},{"$f":"$G$457","v":-1E-3}]
[]
[null,"PLAYER:",{"$f":"BLOCK!AA6","v":" Block 1 Player 9"},null,null,null,"HANDICAP",{"$f":"BLOCK!B33","v":0}]
[null,null,null,null,"OPP","PLAYER","OPP","H/CAP"]
[null,null,"OPPONENT",null,"HCP","SCORE","SCORE","PTS"]
[null,{"$f":"SCORECARD!C181","v":" Block 1 Player 1"},null,null,{"$f":"SCORECARD!F181","v":0},{"$f":"SCORECARD!G181","v":-1E-3},{"$f":"SCORECARD!H181","v":-1E-3},{"$f":"IF(NOT(OR(F454>0,G454>0)),\"\",IF(HandicapPlay=\"x\",IF(F454>G454,10,-10),(IF((F454-G454>0),(VLOOKUP(OFFSET(H454,-3,0),(TABLE!WIN),(MATCH(E454,WINCOL,0)+1))),(VLOOKUP(OFFSET(H454,-3,0),(TABLE!LOSE),(MATCH(E454,LOSECOL,0)+1)))))))","v":""}]
[null,{"$f":"SCORECARD!C182","v":" Block 1 Player 2"},null,null,{"$f":"SCORECARD!F182","v":0},{"$f":"SCORECARD!G182","v":-1E-3},{"$f":"SCORECARD!H182","v":-1E-3},{"$f":"IF(NOT(OR(F455>0,G455>0)),\"\",IF(HandicapPlay=\"x\",IF(F455>G455,10,-10),(IF((F455-G455>0),(VLOOKUP(OFFSET(H455,-4,0),(TABLE!WIN),(MATCH(E455,WINCOL,0)+1))),(VLOOKUP(OFFSET(H455,-4,0),(TABLE!LOSE),(MATCH(E455,LOSECOL,0)+1)))))))","v":""}]
[null,{"$f":"SCORECARD!C183","v":" Block 1 Player 3"},null,null,{"$f":"SCORECARD!F183","v":0},{"$f":"SCORECARD!G183","v":-1E-3},{"$f":"SCORECARD!H183","v":-1E-3},{"$f":"IF(NOT(OR(F456>0,G456>0)),\"\",IF(HandicapPlay=\"x\",IF(F456>G456,10,-10),(IF((F456-G456>0),(VLOOKUP(OFFSET(H456,-5,0),(TABLE!WIN),(MATCH(E456,WINCOL,0)+1))),(VLOOKUP(OFFSET(H456,-5,0),(TABLE!LOSE),(MATCH(E456,LOSECOL,0)+1)))))))","v":""}]
[null,{"$f":"SCORECARD!C184","v":" Block 1 Player 4"},null,null,{"$f":"SCORECARD!F184","v":0},{"$f":"SCORECARD!G184","v":-1E-3},{"$f":"SCORECARD!H184","v":-1E-3},{"$f":"IF(NOT(OR(F457>0,G457>0)),\"\",IF(HandicapPlay=\"x\",IF(F457>G457,10,-10),(IF((F457-G457>0),(VLOOKUP(OFFSET(H457,-6,0),(TABLE!WIN),(MATCH(E457,WINCOL,0)+1))),(VLOOKUP(OFFSET(H457,-6,0),(TABLE!LOSE),(MATCH(E457,LOSECOL,0)+1)))))))","v":""}]
[null,{"$f":"SCORECARD!C185","v":" Block 1 Player 5"},null,null,{"$f":"SCORECARD!F185","v":0},{"$f":"SCORECARD!G185","v":-1E-3},{"$f":"SCORECARD!H185","v":-1E-3},{"$f":"IF(NOT(OR(F458>0,G458>0)),\"\",IF(HandicapPlay=\"x\",IF(F458>G458,10,-10),(IF((F458-G458>0),(VLOOKUP(OFFSET(H458,-7,0),(TABLE!WIN),(MATCH(E458,WINCOL,0)+1))),(VLOOKUP(OFFSET(H458,-7,0),(TABLE!LOSE),(MATCH(E458,LOSECOL,0)+1)))))))","v":""}]
[null,{"$f":"SCORECARD!C186","v":" Block 1 Player 6"},null,null,{"$f":"SCORECARD!F186","v":0},{"$f":"SCORECARD!G186","v":-1E-3},{"$f":"SCORECARD!H186","v":-1E-3},{"$f":"IF(NOT(OR(F459>0,G459>0)),\"\",IF(HandicapPlay=\"x\",IF(F459>G459,10,-10),(IF((F459-G459>0),(VLOOKUP(OFFSET(H459,-8,0),(TABLE!WIN),(MATCH(E459,WINCOL,0)+1))),(VLOOKUP(OFFSET(H459,-8,0),(TABLE!LOSE),(MATCH(E459,LOSECOL,0)+1)))))))","v":""}]
[null,{"$f":"SCORECARD!C187","v":" Block 1 Player 7"},null,null,{"$f":"SCORECARD!F187","v":0},{"$f":"SCORECARD!G187","v":-1E-3},{"$f":"SCORECARD!H187","v":-1E-3},{"$f":"IF(NOT(OR(F460>0,G460>0)),\"\",IF(HandicapPlay=\"x\",IF(F460>G460,10,-10),(IF((F460-G460>0),(VLOOKUP(OFFSET(H460,-9,0),(TABLE!WIN),(MATCH(E460,WINCOL,0)+1))),(VLOOKUP(OFFSET(H460,-9,0),(TABLE!LOSE),(MATCH(E460,LOSECOL,0)+1)))))))","v":""}]
[null,{"$f":"SCORECARD!C188","v":" Block 1 Player 8"},null,null,{"$f":"SCORECARD!F188","v":0},{"$f":"SCORECARD!G188","v":-1E-3},{"$f":"SCORECARD!H188","v":-1E-3},{"$f":"IF(NOT(OR(F461>0,G461>0)),\"\",IF(HandicapPlay=\"x\",IF(F461>G461,10,-10),(IF((F461-G461>0),(VLOOKUP(OFFSET(H461,-10,0),(TABLE!WIN),(MATCH(E461,WINCOL,0)+1))),(VLOOKUP(OFFSET(H461,-10,0),(TABLE!LOSE),(MATCH(E461,LOSECOL,0)+1)))))))","v":""}]
[null,{"$f":"SCORECARD!C189","v":" Block 1 Player 10"},null,null,{"$f":"SCORECARD!F189","v":0},{"$f":"SCORECARD!G189","v":-1E-3},{"$f":"SCORECARD!H189","v":-1E-3},{"$f":"IF(NOT(OR(F462>0,G462>0)),\"\",IF(HandicapPlay=\"x\",IF(F462>G462,10,-10),(IF((F462-G462>0),(VLOOKUP(OFFSET(H462,-11,0),(TABLE!WIN),(MATCH(E462,WINCOL,0)+1))),(VLOOKUP(OFFSET(H462,-11,0),(TABLE!LOSE),(MATCH(E462,LOSECOL,0)+1)))))))","v":""}]
[]
[]
[]
[]
[]
[]
[]
[]
[null,null,null,null,null,null,"Handicap adjustment points total   ",{"$f":"SUM(H454:H462)","v":0}]
[]
[]
[]
[]
[]
[]
[]
[]
[]
[]
[]
[]
[{"$f":"note1","v":"Time limit 2.5 hours, Turn After Bell (61.1.6). Quadway hoops (3 11/16\"), Dawson International balls"}]
[{"$f":"note2","v":"Games may start early. Please be at the venue at least 30 minutes earlier than the scheduled start time."}]
[{"$f":"note3","v":"Entry Fee $40 will be invoiced by email. Please pay by EFT using the invoice No. as reference."}]
[{"$f":"note4","v":"Players please assist with setting and clearing courts."}]
[null,null,null,null,{"$f":"BLOCK!AD6","v":" Block 1 Player 10"}]
[null,null,null,null,{"$f":"BLOCK!I2","v":"TOURNAMENT"}]
[null,null,null,null,{"$f":"BLOCK!I4","v":"GROUP"}]
[null,null,null,null,{"$f":"BLOCK!B6","v":"BLOCK 1"}]
[]
[null,null,null,null,"BLOCK PLAY SCHEDULE"]
[null,"TIME","DAY","COURT",null,"OPPONENT",null,"HANDICAP","PS","OS"]
[null,{"$f":"GAMES!B3","v":"00:00:00"},{"$f":"GAMES!C3","v":"00:00:00"},{"$f":"GAMES!D3","v":0},null,{"$f":"GAMES!E3","v":" Block 1 Player 1"},null,{"$f":"$E$508","v":0},{"$f":"$F$508","v":-1E-3},{"$f":"$G$508","v":-1E-3}]
[null,{"$f":"GAMES!B9","v":"00:00:00"},{"$f":"GAMES!C9","v":"00:00:00"},{"$f":"GAMES!D9","v":0},null,{"$f":"GAMES!E9","v":" Block 1 Player 8"},null,{"$f":"$E$515","v":0},{"$f":"$F$515","v":-1E-3},{"$f":"$G$515","v":-1E-3}]
[null,{"$f":"GAMES!B15","v":"00:00:00"},{"$f":"GAMES!C15","v":"00:00:00"},{"$f":"GAMES!D15","v":0},null,{"$f":"GAMES!E15","v":" Block 1 Player 6"},null,{"$f":"$E$513","v":0},{"$f":"$F$513","v":-1E-3},{"$f":"$G$513","v":-1E-3}]
[null,{"$f":"GAMES!B21","v":"00:00:00"},{"$f":"GAMES!C21","v":"00:00:00"},{"$f":"GAMES!D21","v":0},null,{"$f":"GAMES!E21","v":" Block 1 Player 4"},null,{"$f":"$E$511","v":0},{"$f":"$F$511","v":-1E-3},{"$f":"$G$511","v":-1E-3}]
[null,{"$f":"GAMES!B27","v":"00:00:00"},{"$f":"GAMES!C27","v":"00:00:00"},{"$f":"GAMES!D27","v":0},null,{"$f":"GAMES!E27","v":" Block 1 Player 2"},null,{"$f":"$E$509","v":0},{"$f":"$F$509","v":-1E-3},{"$f":"$G$509","v":-1E-3}]
[null,{"$f":"GAMES!B32","v":"00:00:00"},{"$f":"GAMES!C32","v":"00:00:00"},{"$f":"GAMES!D32","v":0},null,{"$f":"GAMES!G32","v":" Block 1 Player 9"},null,{"$f":"$E$516","v":0},{"$f":"$F$516","v":-1E-3},{"$f":"$G$516","v":-1E-3}]
[null,{"$f":"GAMES!B36","v":"00:00:00"},{"$f":"GAMES!C36","v":"00:00:00"},{"$f":"GAMES!D36","v":0},null,{"$f":"GAMES!G36","v":" Block 1 Player 7"},null,{"$f":"$E$514","v":0},{"$f":"$F$514","v":-1E-3},{"$f":"$G$514","v":-1E-3}]
[null,{"$f":"GAMES!B40","v":"00:00:00"},{"$f":"GAMES!C40","v":"00:00:00"},{"$f":"GAMES!D40","v":0},null,{"$f":"GAMES!G40","v":" Block 1 Player 5"},null,{"$f":"$E$512","v":0},{"$f":"$F$512","v":-1E-3},{"$f":"$G$512","v":-1E-3}]
[null,{"$f":"GAMES!B44","v":"00:00:00"},{"$f":"GAMES!C44","v":"00:00:00"},{"$f":"GAMES!D44","v":0},null,{"$f":"GAMES!G44","v":" Block 1 Player 3"},null,{"$f":"$E$510","v":0},{"$f":"$F$510","v":-1E-3},{"$f":"$G$510","v":-1E-3}]
[]
[null,"PLAYER:",{"$f":"BLOCK!AD6","v":" Block 1 Player 10"},null,null,null,"HANDICAP",{"$f":"BLOCK!B36","v":0}]
[null,null,null,null,"OPP","PLAYER","OPP","H/CAP"]
[null,null,"OPPONENT",null,"HCP","SCORE","SCORE","PTS"]
[null,{"$f":"SCORECARD!C201","v":" Block 1 Player 1"},null,null,{"$f":"SCORECARD!F201","v":0},{"$f":"SCORECARD!G201","v":-1E-3},{"$f":"SCORECARD!H201","v":-1E-3},{"$f":"IF(NOT(OR(F508>0,G508>0)),\"\",IF(HandicapPlay=\"x\",IF(F508>G508,10,-10),(IF((F508-G508>0),(VLOOKUP(OFFSET(H508,-3,0),(TABLE!WIN),(MATCH(E508,WINCOL,0)+1))),(VLOOKUP(OFFSET(H508,-3,0),(TABLE!LOSE),(MATCH(E508,LOSECOL,0)+1)))))))","v":""}]
[null,{"$f":"SCORECARD!C202","v":" Block 1 Player 2"},null,null,{"$f":"SCORECARD!F202","v":0},{"$f":"SCORECARD!G202","v":-1E-3},{"$f":"SCORECARD!H202","v":-1E-3},{"$f":"IF(NOT(OR(F509>0,G509>0)),\"\",IF(HandicapPlay=\"x\",IF(F509>G509,10,-10),(IF((F509-G509>0),(VLOOKUP(OFFSET(H509,-4,0),(TABLE!WIN),(MATCH(E509,WINCOL,0)+1))),(VLOOKUP(OFFSET(H509,-4,0),(TABLE!LOSE),(MATCH(E509,LOSECOL,0)+1)))))))","v":""}]
[null,{"$f":"SCORECARD!C203","v":" Block 1 Player 3"},null,null,{"$f":"SCORECARD!F203","v":0},{"$f":"SCORECARD!G203","v":-1E-3},{"$f":"SCORECARD!H203","v":-1E-3},{"$f":"IF(NOT(OR(F510>0,G510>0)),\"\",IF(HandicapPlay=\"x\",IF(F510>G510,10,-10),(IF((F510-G510>0),(VLOOKUP(OFFSET(H510,-5,0),(TABLE!WIN),(MATCH(E510,WINCOL,0)+1))),(VLOOKUP(OFFSET(H510,-5,0),(TABLE!LOSE),(MATCH(E510,LOSECOL,0)+1)))))))","v":""}]
[null,{"$f":"SCORECARD!C204","v":" Block 1 Player 4"},null,null,{"$f":"SCORECARD!F204","v":0},{"$f":"SCORECARD!G204","v":-1E-3},{"$f":"SCORECARD!H204","v":-1E-3},{"$f":"IF(NOT(OR(F511>0,G511>0)),\"\",IF(HandicapPlay=\"x\",IF(F511>G511,10,-10),(IF((F511-G511>0),(VLOOKUP(OFFSET(H511,-6,0),(TABLE!WIN),(MATCH(E511,WINCOL,0)+1))),(VLOOKUP(OFFSET(H511,-6,0),(TABLE!LOSE),(MATCH(E511,LOSECOL,0)+1)))))))","v":""}]
[null,{"$f":"SCORECARD!C205","v":" Block 1 Player 5"},null,null,{"$f":"SCORECARD!F205","v":0},{"$f":"SCORECARD!G205","v":-1E-3},{"$f":"SCORECARD!H205","v":-1E-3},{"$f":"IF(NOT(OR(F512>0,G512>0)),\"\",IF(HandicapPlay=\"x\",IF(F512>G512,10,-10),(IF((F512-G512>0),(VLOOKUP(OFFSET(H512,-7,0),(TABLE!WIN),(MATCH(E512,WINCOL,0)+1))),(VLOOKUP(OFFSET(H512,-7,0),(TABLE!LOSE),(MATCH(E512,LOSECOL,0)+1)))))))","v":""}]
[null,{"$f":"SCORECARD!C206","v":" Block 1 Player 6"},null,null,{"$f":"SCORECARD!F206","v":0},{"$f":"SCORECARD!G206","v":-1E-3},{"$f":"SCORECARD!H206","v":-1E-3},{"$f":"IF(NOT(OR(F513>0,G513>0)),\"\",IF(HandicapPlay=\"x\",IF(F513>G513,10,-10),(IF((F513-G513>0),(VLOOKUP(OFFSET(H513,-8,0),(TABLE!WIN),(MATCH(E513,WINCOL,0)+1))),(VLOOKUP(OFFSET(H513,-8,0),(TABLE!LOSE),(MATCH(E513,LOSECOL,0)+1)))))))","v":""}]
[null,{"$f":"SCORECARD!C207","v":" Block 1 Player 7"},null,null,{"$f":"SCORECARD!F207","v":0},{"$f":"SCORECARD!G207","v":-1E-3},{"$f":"SCORECARD!H207","v":-1E-3},{"$f":"IF(NOT(OR(F514>0,G514>0)),\"\",IF(HandicapPlay=\"x\",IF(F514>G514,10,-10),(IF((F514-G514>0),(VLOOKUP(OFFSET(H514,-9,0),(TABLE!WIN),(MATCH(E514,WINCOL,0)+1))),(VLOOKUP(OFFSET(H514,-9,0),(TABLE!LOSE),(MATCH(E514,LOSECOL,0)+1)))))))","v":""}]
[null,{"$f":"SCORECARD!C208","v":" Block 1 Player 8"},null,null,{"$f":"SCORECARD!F208","v":0},{"$f":"SCORECARD!G208","v":-1E-3},{"$f":"SCORECARD!H208","v":-1E-3},{"$f":"IF(NOT(OR(F515>0,G515>0)),\"\",IF(HandicapPlay=\"x\",IF(F515>G515,10,-10),(IF((F515-G515>0),(VLOOKUP(OFFSET(H515,-10,0),(TABLE!WIN),(MATCH(E515,WINCOL,0)+1))),(VLOOKUP(OFFSET(H515,-10,0),(TABLE!LOSE),(MATCH(E515,LOSECOL,0)+1)))))))","v":""}]
[null,{"$f":"SCORECARD!C209","v":" Block 1 Player 9"},null,null,{"$f":"SCORECARD!F209","v":0},{"$f":"SCORECARD!G209","v":-1E-3},{"$f":"SCORECARD!H209","v":-1E-3},{"$f":"IF(NOT(OR(F516>0,G516>0)),\"\",IF(HandicapPlay=\"x\",IF(F516>G516,10,-10),(IF((F516-G516>0),(VLOOKUP(OFFSET(H516,-11,0),(TABLE!WIN),(MATCH(E516,WINCOL,0)+1))),(VLOOKUP(OFFSET(H516,-11,0),(TABLE!LOSE),(MATCH(E516,LOSECOL,0)+1)))))))","v":""}]
[]
[]
[]
[]
[]
[]
[]
[]
[null,null,null,null,null,null,"Handicap adjustment points total   ",{"$f":"SUM(H508:H516)","v":0}]
[]
[]
[]
[]
[]
[]
[]
[]
[]
[]
[]
[]
[{"$f":"note1","v":"Time limit 2.5 hours, Turn After Bell (61.1.6). Quadway hoops (3 11/16\"), Dawson International balls"}]
[{"$f":"note2","v":"Games may start early. Please be at the venue at least 30 minutes earlier than the scheduled start time."}]
[{"$f":"note3","v":"Entry Fee $40 will be invoiced by email. Please pay by EFT using the invoice No. as reference."}]
[{"$f":"note4","v":"Players please assist with setting and clearing courts."}]
[null,null,null,null,{"$f":"BLOCK!C43","v":" Block 2 Player 1"}]
[null,null,null,null,{"$f":"BLOCK!I39","v":"TOURNAMENT"}]
[null,null,null,null,{"$f":"BLOCK!I41","v":"GROUP"}]
[null,null,null,null,{"$f":"BLOCK!B43","v":"BLOCK 2"}]
[]
[null,null,null,null,"BLOCK PLAY SCHEDULE"]
[null,"TIME","DAY","COURT",null,"OPPONENT",null,"HANDICAP","PS","OS"]
[null,{"$f":"GAMES!B51","v":"00:00:00"},{"$f":"GAMES!C51","v":"00:00:00"},{"$f":"GAMES!D51","v":0},null,{"$f":"GAMES!$G$51","v":" Block 2 Player 10"},null,{"$f":"$E$570","v":0},{"$f":"$F$570","v":-1E-3},{"$f":"$G$570","v":-1E-3}]
[null,{"$f":"GAMES!B56","v":"00:00:00"},{"$f":"GAMES!C56","v":"00:00:00"},{"$f":"GAMES!D56","v":0},null,{"$f":"GAMES!$G$56","v":" Block 2 Player 9"},null,{"$f":"$E$569","v":0},{"$f":"$F$569","v":-1E-3},{"$f":"$G$569","v":-1E-3}]
[null,{"$f":"GAMES!B61","v":"00:00:00"},{"$f":"GAMES!C61","v":"00:00:00"},{"$f":"GAMES!D61","v":0},null,{"$f":"GAMES!$G$61","v":" Block 2 Player 8"},null,{"$f":"$E$568","v":0},{"$f":"$F$568","v":-1E-3},{"$f":"$G$568","v":-1E-3}]
[null,{"$f":"GAMES!B66","v":"00:00:00"},{"$f":"GAMES!C66","v":"00:00:00"},{"$f":"GAMES!D66","v":0},null,{"$f":"GAMES!$G$66","v":" Block 2 Player 7"},null,{"$f":"$E$567","v":0},{"$f":"$F$567","v":-1E-3},{"$f":"$G$567","v":-1E-3}]
[null,{"$f":"GAMES!B71","v":"00:00:00"},{"$f":"GAMES!C71","v":"00:00:00"},{"$f":"GAMES!D71","v":0},null,{"$f":"GAMES!$G$71","v":" Block 2 Player 6"},null,{"$f":"$E$566","v":0},{"$f":"$F$566","v":-1E-3},{"$f":"$G$566","v":-1E-3}]
[null,{"$f":"GAMES!B76","v":"00:00:00"},{"$f":"GAMES!C76","v":"00:00:00"},{"$f":"GAMES!D76","v":0},null,{"$f":"GAMES!$G$76","v":" Block 2 Player 5"},null,{"$f":"$E$565","v":0},{"$f":"$F$565","v":-1E-3},{"$f":"$G$565","v":-1E-3}]
[null,{"$f":"GAMES!B81","v":"00:00:00"},{"$f":"GAMES!C81","v":"00:00:00"},{"$f":"GAMES!D81","v":0},null,{"$f":"GAMES!$G$81","v":" Block 2 Player 4"},null,{"$f":"$E$564","v":0},{"$f":"$F$564","v":-1E-3},{"$f":"$G$564","v":-1E-3}]
[null,{"$f":"GAMES!B86","v":"00:00:00"},{"$f":"GAMES!C86","v":"00:00:00"},{"$f":"GAMES!D86","v":0},null,{"$f":"GAMES!$G$86","v":" Block 2 Player 3"},null,{"$f":"$E$563","v":0},{"$f":"$F$563","v":-1E-3},{"$f":"$G$563","v":-1E-3}]
[null,{"$f":"GAMES!B91","v":"00:00:00"},{"$f":"GAMES!C91","v":"00:00:00"},{"$f":"GAMES!D91","v":0},null,{"$f":"GAMES!$G$91","v":" Block 2 Player 2"},null,{"$f":"$E$562","v":0},{"$f":"$F$562","v":-1E-3},{"$f":"$G$562","v":-1E-3}]
[]
[null,"PLAYER:",{"$f":"BLOCK!C43","v":" Block 2 Player 1"},null,null,null,"HANDICAP",{"$f":"BLOCK!B46","v":0}]
[null,null,null,null,"OPP","PLAYER","OPP","H/CAP"]
[null,null,"OPPONENT",null,"HCP","SCORE","SCORE","PTS"]
[null,{"$f":"SCORECARD!C224","v":" Block 2 Player 2"},null,null,{"$f":"SCORECARD!F224","v":0},{"$f":"SCORECARD!G224","v":-1E-3},{"$f":"SCORECARD!H224","v":-1E-3},{"$f":"IF(NOT(OR(F562>0,G562>0)),\"\",IF(HandicapPlay=\"x\",IF(F562>G562,10,-10),(IF((F562-G562>0),(VLOOKUP(OFFSET(H562,-3,0),(TABLE!WIN),(MATCH(E562,WINCOL,0)+1))),(VLOOKUP(OFFSET(H562,-3,0),(TABLE!LOSE),(MATCH(E562,LOSECOL,0)+1)))))))","v":""}]
[null,{"$f":"SCORECARD!C225","v":" Block 2 Player 3"},null,null,{"$f":"SCORECARD!F225","v":0},{"$f":"SCORECARD!G225","v":-1E-3},{"$f":"SCORECARD!H225","v":-1E-3},{"$f":"IF(NOT(OR(F563>0,G563>0)),\"\",IF(HandicapPlay=\"x\",IF(F563>G563,10,-10),(IF((F563-G563>0),(VLOOKUP(OFFSET(H563,-4,0),(TABLE!WIN),(MATCH(E563,WINCOL,0)+1))),(VLOOKUP(OFFSET(H563,-4,0),(TABLE!LOSE),(MATCH(E563,LOSECOL,0)+1)))))))","v":""}]
[null,{"$f":"SCORECARD!C226","v":" Block 2 Player 4"},null,null,{"$f":"SCORECARD!F226","v":0},{"$f":"SCORECARD!G226","v":-1E-3},{"$f":"SCORECARD!H226","v":-1E-3},{"$f":"IF(NOT(OR(F564>0,G564>0)),\"\",IF(HandicapPlay=\"x\",IF(F564>G564,10,-10),(IF((F564-G564>0),(VLOOKUP(OFFSET(H564,-5,0),(TABLE!WIN),(MATCH(E564,WINCOL,0)+1))),(VLOOKUP(OFFSET(H564,-5,0),(TABLE!LOSE),(MATCH(E564,LOSECOL,0)+1)))))))","v":""}]
[null,{"$f":"SCORECARD!C227","v":" Block 2 Player 5"},null,null,{"$f":"SCORECARD!F227","v":0},{"$f":"SCORECARD!G227","v":-1E-3},{"$f":"SCORECARD!H227","v":-1E-3},{"$f":"IF(NOT(OR(F565>0,G565>0)),\"\",IF(HandicapPlay=\"x\",IF(F565>G565,10,-10),(IF((F565-G565>0),(VLOOKUP(OFFSET(H565,-6,0),(TABLE!WIN),(MATCH(E565,WINCOL,0)+1))),(VLOOKUP(OFFSET(H565,-6,0),(TABLE!LOSE),(MATCH(E565,LOSECOL,0)+1)))))))","v":""}]
[null,{"$f":"SCORECARD!C228","v":" Block 2 Player 6"},null,null,{"$f":"SCORECARD!F228","v":0},{"$f":"SCORECARD!G228","v":-1E-3},{"$f":"SCORECARD!H228","v":-1E-3},{"$f":"IF(NOT(OR(F566>0,G566>0)),\"\",IF(HandicapPlay=\"x\",IF(F566>G566,10,-10),(IF((F566-G566>0),(VLOOKUP(OFFSET(H566,-7,0),(TABLE!WIN),(MATCH(E566,WINCOL,0)+1))),(VLOOKUP(OFFSET(H566,-7,0),(TABLE!LOSE),(MATCH(E566,LOSECOL,0)+1)))))))","v":""}]
[null,{"$f":"SCORECARD!C229","v":" Block 2 Player 7"},null,null,{"$f":"SCORECARD!F229","v":0},{"$f":"SCORECARD!G229","v":-1E-3},{"$f":"SCORECARD!H229","v":-1E-3},{"$f":"IF(NOT(OR(F567>0,G567>0)),\"\",IF(HandicapPlay=\"x\",IF(F567>G567,10,-10),(IF((F567-G567>0),(VLOOKUP(OFFSET(H567,-8,0),(TABLE!WIN),(MATCH(E567,WINCOL,0)+1))),(VLOOKUP(OFFSET(H567,-8,0),(TABLE!LOSE),(MATCH(E567,LOSECOL,0)+1)))))))","v":""}]
[null,{"$f":"SCORECARD!C230","v":" Block 2 Player 8"},null,null,{"$f":"SCORECARD!F230","v":0},{"$f":"SCORECARD!G230","v":-1E-3},{"$f":"SCORECARD!H230","v":-1E-3},{"$f":"IF(NOT(OR(F568>0,G568>0)),\"\",IF(HandicapPlay=\"x\",IF(F568>G568,10,-10),(IF((F568-G568>0),(VLOOKUP(OFFSET(H568,-9,0),(TABLE!WIN),(MATCH(E568,WINCOL,0)+1))),(VLOOKUP(OFFSET(H568,-9,0),(TABLE!LOSE),(MATCH(E568,LOSECOL,0)+1)))))))","v":""}]
[null,{"$f":"SCORECARD!C231","v":" Block 2 Player 9"},null,null,{"$f":"SCORECARD!F231","v":0},{"$f":"SCORECARD!G231","v":-1E-3},{"$f":"SCORECARD!H231","v":-1E-3},{"$f":"IF(NOT(OR(F569>0,G569>0)),\"\",IF(HandicapPlay=\"x\",IF(F569>G569,10,-10),(IF((F569-G569>0),(VLOOKUP(OFFSET(H569,-10,0),(TABLE!WIN),(MATCH(E569,WINCOL,0)+1))),(VLOOKUP(OFFSET(H569,-10,0),(TABLE!LOSE),(MATCH(E569,LOSECOL,0)+1)))))))","v":""}]
[null,{"$f":"SCORECARD!C232","v":" Block 2 Player 10"},null,null,{"$f":"SCORECARD!F232","v":0},{"$f":"SCORECARD!G232","v":-1E-3},{"$f":"SCORECARD!H232","v":-1E-3},{"$f":"IF(NOT(OR(F570>0,G570>0)),\"\",IF(HandicapPlay=\"x\",IF(F570>G570,10,-10),(IF((F570-G570>0),(VLOOKUP(OFFSET(H570,-11,0),(TABLE!WIN),(MATCH(E570,WINCOL,0)+1))),(VLOOKUP(OFFSET(H570,-11,0),(TABLE!LOSE),(MATCH(E570,LOSECOL,0)+1)))))))","v":""}]
[]
[]
[]
[]
[]
[]
[]
[]
[null,null,null,null,null,null,"Handicap adjustment points total   ",{"$f":"SUM(H562:H570)","v":0}]
[]
[]
[]
[]
[]
[]
[]
[]
[]
[]
[]
[]
[{"$f":"note1","v":"Time limit 2.5 hours, Turn After Bell (61.1.6). Quadway hoops (3 11/16\"), Dawson International balls"}]
[{"$f":"note2","v":"Games may start early. Please be at the venue at least 30 minutes earlier than the scheduled start time."}]
[{"$f":"note3","v":"Entry Fee $40 will be invoiced by email. Please pay by EFT using the invoice No. as reference."}]
[{"$f":"note4","v":"Players please assist with setting and clearing courts."}]
[null,null,null,null,{"$f":"BLOCK!F43","v":" Block 2 Player 2"}]
[null,null,null,null,{"$f":"BLOCK!I39","v":"TOURNAMENT"}]
[null,null,null,null,{"$f":"BLOCK!I41","v":"GROUP"}]
[null,null,null,null,{"$f":"BLOCK!B43","v":"BLOCK 2"}]
[]
[null,null,null,null,"BLOCK PLAY SCHEDULE"]
[null,"TIME","DAY","COURT",null,"OPPONENT",null,"HANDICAP","PS","OS"]
[null,{"$f":"GAMES!B52","v":"00:00:00"},{"$f":"GAMES!C52","v":"00:00:00"},{"$f":"GAMES!D52","v":0},null,{"$f":"GAMES!G52","v":" Block 2 Player 9"},null,{"$f":"$E$623","v":0},{"$f":"$F$623","v":-1E-3},{"$f":"$G$623","v":-1E-3}]
[null,{"$f":"GAMES!B58","v":"00:00:00"},{"$f":"GAMES!C58","v":"00:00:00"},{"$f":"GAMES!D58","v":0},null,{"$f":"GAMES!E58","v":" Block 2 Player 7"},null,{"$f":"$E$621","v":0},{"$f":"$F$621","v":-1E-3},{"$f":"$G$621","v":-1E-3}]
[null,{"$f":"GAMES!B64","v":"00:00:00"},{"$f":"GAMES!C64","v":"00:00:00"},{"$f":"GAMES!D64","v":0},null,{"$f":"GAMES!E64","v":" Block 2 Player 5"},null,{"$f":"$E$619","v":0},{"$f":"$F$619","v":-1E-3},{"$f":"$G$619","v":-1E-3}]
[null,{"$f":"GAMES!B70","v":"00:00:00"},{"$f":"GAMES!C70","v":"00:00:00"},{"$f":"GAMES!D70","v":0},null,{"$f":"GAMES!E70","v":" Block 2 Player 3"},null,{"$f":"$E$617","v":0},{"$f":"$F$617","v":-1E-3},{"$f":"$G$617","v":-1E-3}]
[null,{"$f":"GAMES!B75","v":"00:00:00"},{"$f":"GAMES!C75","v":"00:00:00"},{"$f":"GAMES!D75","v":0},null,{"$f":"GAMES!G75","v":" Block 2 Player 10"},null,{"$f":"$E$624","v":0},{"$f":"$F$624","v":-1E-3},{"$f":"$G$624","v":-1E-3}]
[null,{"$f":"GAMES!B79","v":"00:00:00"},{"$f":"GAMES!C79","v":"00:00:00"},{"$f":"GAMES!D79","v":0},null,{"$f":"GAMES!G79","v":" Block 2 Player 8"},null,{"$f":"$E$622","v":0},{"$f":"$F$622","v":-1E-3},{"$f":"$G$622","v":-1E-3}]
[null,{"$f":"GAMES!B83","v":"00:00:00"},{"$f":"GAMES!C83","v":"00:00:00"},{"$f":"GAMES!D83","v":0},null,{"$f":"GAMES!G83","v":" Block 2 Player 6"},null,{"$f":"$E$620","v":0},{"$f":"$F$620","v":-1E-3},{"$f":"$G$620","v":-1E-3}]
[null,{"$f":"GAMES!B87","v":"00:00:00"},{"$f":"GAMES!C87","v":"00:00:00"},{"$f":"GAMES!D87","v":0},null,{"$f":"GAMES!G87","v":" Block 2 Player 4"},null,{"$f":"$E$618","v":0},{"$f":"$F$618","v":-1E-3},{"$f":"$G$618","v":-1E-3}]
[null,{"$f":"GAMES!B91","v":"00:00:00"},{"$f":"GAMES!C91","v":"00:00:00"},{"$f":"GAMES!D91","v":0},null,{"$f":"GAMES!E91","v":" Block 2 Player 1"},null,{"$f":"$E$616","v":0},{"$f":"$F$616","v":-1E-3},{"$f":"$G$616","v":-1E-3}]
[]
[null,"PLAYER:",{"$f":"BLOCK!F43","v":" Block 2 Player 2"},null,null,null,"HANDICAP",{"$f":"BLOCK!B49","v":0}]
[null,null,null,null,"OPP","PLAYER","OPP","H/CAP"]
[null,null,"OPPONENT",null,"HCP","SCORE","SCORE","PTS"]
[null,{"$f":"SCORECARD!C244","v":" Block 2 Player 1"},null,null,{"$f":"SCORECARD!F244","v":0},{"$f":"SCORECARD!G244","v":-1E-3},{"$f":"SCORECARD!H244","v":-1E-3},{"$f":"IF(NOT(OR(F616>0,G616>0)),\"\",IF(HandicapPlay=\"x\",IF(F616>G616,10,-10),(IF((F616-G616>0),(VLOOKUP(OFFSET(H616,-3,0),(TABLE!WIN),(MATCH(E616,WINCOL,0)+1))),(VLOOKUP(OFFSET(H616,-3,0),(TABLE!LOSE),(MATCH(E616,LOSECOL,0)+1)))))))","v":""}]
[null,{"$f":"SCORECARD!C245","v":" Block 2 Player 3"},null,null,{"$f":"SCORECARD!F245","v":0},{"$f":"SCORECARD!G245","v":-1E-3},{"$f":"SCORECARD!H245","v":-1E-3},{"$f":"IF(NOT(OR(F617>0,G617>0)),\"\",IF(HandicapPlay=\"x\",IF(F617>G617,10,-10),(IF((F617-G617>0),(VLOOKUP(OFFSET(H617,-4,0),(TABLE!WIN),(MATCH(E617,WINCOL,0)+1))),(VLOOKUP(OFFSET(H617,-4,0),(TABLE!LOSE),(MATCH(E617,LOSECOL,0)+1)))))))","v":""}]
[null,{"$f":"SCORECARD!C246","v":" Block 2 Player 4"},null,null,{"$f":"SCORECARD!F246","v":0},{"$f":"SCORECARD!G246","v":-1E-3},{"$f":"SCORECARD!H246","v":-1E-3},{"$f":"IF(NOT(OR(F618>0,G618>0)),\"\",IF(HandicapPlay=\"x\",IF(F618>G618,10,-10),(IF((F618-G618>0),(VLOOKUP(OFFSET(H618,-5,0),(TABLE!WIN),(MATCH(E618,WINCOL,0)+1))),(VLOOKUP(OFFSET(H618,-5,0),(TABLE!LOSE),(MATCH(E618,LOSECOL,0)+1)))))))","v":""}]
[null,{"$f":"SCORECARD!C247","v":" Block 2 Player 5"},null,null,{"$f":"SCORECARD!F247","v":0},{"$f":"SCORECARD!G247","v":-1E-3},{"$f":"SCORECARD!H247","v":-1E-3},{"$f":"IF(NOT(OR(F619>0,G619>0)),\"\",IF(HandicapPlay=\"x\",IF(F619>G619,10,-10),(IF((F619-G619>0),(VLOOKUP(OFFSET(H619,-6,0),(TABLE!WIN),(MATCH(E619,WINCOL,0)+1))),(VLOOKUP(OFFSET(H619,-6,0),(TABLE!LOSE),(MATCH(E619,LOSECOL,0)+1)))))))","v":""}]
[null,{"$f":"SCORECARD!C248","v":" Block 2 Player 6"},null,null,{"$f":"SCORECARD!F248","v":0},{"$f":"SCORECARD!G248","v":-1E-3},{"$f":"SCORECARD!H248","v":-1E-3},{"$f":"IF(NOT(OR(F620>0,G620>0)),\"\",IF(HandicapPlay=\"x\",IF(F620>G620,10,-10),(IF((F620-G620>0),(VLOOKUP(OFFSET(H620,-7,0),(TABLE!WIN),(MATCH(E620,WINCOL,0)+1))),(VLOOKUP(OFFSET(H620,-7,0),(TABLE!LOSE),(MATCH(E620,LOSECOL,0)+1)))))))","v":""}]
[null,{"$f":"SCORECARD!C249","v":" Block 2 Player 7"},null,null,{"$f":"SCORECARD!F249","v":0},{"$f":"SCORECARD!G249","v":-1E-3},{"$f":"SCORECARD!H249","v":-1E-3},{"$f":"IF(NOT(OR(F621>0,G621>0)),\"\",IF(HandicapPlay=\"x\",IF(F621>G621,10,-10),(IF((F621-G621>0),(VLOOKUP(OFFSET(H621,-8,0),(TABLE!WIN),(MATCH(E621,WINCOL,0)+1))),(VLOOKUP(OFFSET(H621,-8,0),(TABLE!LOSE),(MATCH(E621,LOSECOL,0)+1)))))))","v":""}]
[null,{"$f":"SCORECARD!C250","v":" Block 2 Player 8"},null,null,{"$f":"SCORECARD!F250","v":0},{"$f":"SCORECARD!G250","v":-1E-3},{"$f":"SCORECARD!H250","v":-1E-3},{"$f":"IF(NOT(OR(F622>0,G622>0)),\"\",IF(HandicapPlay=\"x\",IF(F622>G622,10,-10),(IF((F622-G622>0),(VLOOKUP(OFFSET(H622,-9,0),(TABLE!WIN),(MATCH(E622,WINCOL,0)+1))),(VLOOKUP(OFFSET(H622,-9,0),(TABLE!LOSE),(MATCH(E622,LOSECOL,0)+1)))))))","v":""}]
[null,{"$f":"SCORECARD!C251","v":" Block 2 Player 9"},null,null,{"$f":"SCORECARD!F251","v":0},{"$f":"SCORECARD!G251","v":-1E-3},{"$f":"SCORECARD!H251","v":-1E-3},{"$f":"IF(NOT(OR(F623>0,G623>0)),\"\",IF(HandicapPlay=\"x\",IF(F623>G623,10,-10),(IF((F623-G623>0),(VLOOKUP(OFFSET(H623,-10,0),(TABLE!WIN),(MATCH(E623,WINCOL,0)+1))),(VLOOKUP(OFFSET(H623,-10,0),(TABLE!LOSE),(MATCH(E623,LOSECOL,0)+1)))))))","v":""}]
[null,{"$f":"SCORECARD!C252","v":" Block 2 Player 10"},null,null,{"$f":"SCORECARD!F252","v":0},{"$f":"SCORECARD!G252","v":-1E-3},{"$f":"SCORECARD!H252","v":-1E-3},{"$f":"IF(NOT(OR(F624>0,G624>0)),\"\",IF(HandicapPlay=\"x\",IF(F624>G624,10,-10),(IF((F624-G624>0),(VLOOKUP(OFFSET(H624,-11,0),(TABLE!WIN),(MATCH(E624,WINCOL,0)+1))),(VLOOKUP(OFFSET(H624,-11,0),(TABLE!LOSE),(MATCH(E624,LOSECOL,0)+1)))))))","v":""}]
[]
[]
[]
[]
[]
[]
[]
[]
[null,null,null,null,null,null,"Handicap adjustment points total   ",{"$f":"SUM(H616:H624)","v":0}]
[]
[]
[]
[]
[]
[]
[]
[]
[]
[]
[]
[]
[{"$f":"note1","v":"Time limit 2.5 hours, Turn After Bell (61.1.6). Quadway hoops (3 11/16\"), Dawson International balls"}]
[{"$f":"note2","v":"Games may start early. Please be at the venue at least 30 minutes earlier than the scheduled start time."}]
[{"$f":"note3","v":"Entry Fee $40 will be invoiced by email. Please pay by EFT using the invoice No. as reference."}]
[{"$f":"note4","v":"Players please assist with setting and clearing courts."}]
[null,null,null,null,{"$f":"BLOCK!I43","v":" Block 2 Player 3"}]
[null,null,null,null,{"$f":"BLOCK!I39","v":"TOURNAMENT"}]
[null,null,null,null,{"$f":"BLOCK!I41","v":"GROUP"}]
[null,null,null,null,{"$f":"BLOCK!B43","v":"BLOCK 2"}]
[]
[null,null,null,null,"BLOCK PLAY SCHEDULE"]
[null,"TIME","DAY","COURT",null,"OPPONENT",null,"HANDICAP","PS","OS"]
[null,{"$f":"GAMES!B53","v":"00:00:00"},{"$f":"GAMES!C53","v":"00:00:00"},{"$f":"GAMES!D53","v":0},null,{"$f":"GAMES!G53","v":" Block 2 Player 8"},null,{"$f":"$E$676","v":0},{"$f":"$F$676","v":-1E-3},{"$f":"$G$676","v":-1E-3}]
[null,{"$f":"GAMES!B59","v":"00:00:00"},{"$f":"GAMES!C59","v":"00:00:00"},{"$f":"GAMES!D59","v":0},null,{"$f":"GAMES!E59","v":" Block 2 Player 6"},null,{"$f":"$E$674","v":0},{"$f":"$F$674","v":-1E-3},{"$f":"$G$674","v":-1E-3}]
[null,{"$f":"GAMES!B65","v":"00:00:00"},{"$f":"GAMES!C65","v":"00:00:00"},{"$f":"GAMES!D65","v":0},null,{"$f":"GAMES!E65","v":" Block 2 Player 4"},null,{"$f":"$E$672","v":0},{"$f":"$F$672","v":-1E-3},{"$f":"$G$672","v":-1E-3}]
[null,{"$f":"GAMES!B70","v":"00:00:00"},{"$f":"GAMES!C70","v":"00:00:00"},{"$f":"GAMES!D70","v":0},null,{"$f":"GAMES!G70","v":" Block 2 Player 2"},null,{"$f":"$E$671","v":0},{"$f":"$F$671","v":-1E-3},{"$f":"$G$671","v":-1E-3}]
[null,{"$f":"GAMES!B74","v":"00:00:00"},{"$f":"GAMES!C74","v":"00:00:00"},{"$f":"GAMES!D74","v":0},null,{"$f":"GAMES!G74","v":" Block 2 Player 9"},null,{"$f":"$E$677","v":0},{"$f":"$F$677","v":-1E-3},{"$f":"$G$677","v":-1E-3}]
[null,{"$f":"GAMES!B78","v":"00:00:00"},{"$f":"GAMES!C78","v":"00:00:00"},{"$f":"GAMES!D78","v":0},null,{"$f":"GAMES!G78","v":" Block 2 Player 7"},null,{"$f":"$E$675","v":0},{"$f":"$F$675","v":-1E-3},{"$f":"$G$675","v":-1E-3}]
[null,{"$f":"GAMES!B82","v":"00:00:00"},{"$f":"GAMES!C82","v":"00:00:00"},{"$f":"GAMES!D82","v":0},null,{"$f":"GAMES!E82","v":" Block 2 Player 5"},null,{"$f":"$E$673","v":0},{"$f":"$F$673","v":-1E-3},{"$f":"$G$673","v":-1E-3}]
[null,{"$f":"GAMES!B86","v":"00:00:00"},{"$f":"GAMES!C86","v":"00:00:00"},{"$f":"GAMES!D86","v":0},null,{"$f":"GAMES!E86","v":" Block 2 Player 1"},null,{"$f":"$E$670","v":0},{"$f":"$F$670","v":-1E-3},{"$f":"$G$670","v":-1E-3}]
[null,{"$f":"GAMES!B92","v":"00:00:00"},{"$f":"GAMES!C92","v":"00:00:00"},{"$f":"GAMES!D92","v":0},null,{"$f":"GAMES!E92","v":" Block 2 Player 10"},null,{"$f":"$E$678","v":0},{"$f":"$F$678","v":-1E-3},{"$f":"$G$678","v":-1E-3}]
[]
[null,"PLAYER:",{"$f":"BLOCK!I43","v":" Block 2 Player 3"},null,null,null,"HANDICAP",{"$f":"BLOCK!B52","v":0}]
[null,null,null,null,"OPP","PLAYER","OPP","H/CAP"]
[null,null,"OPPONENT",null,"HCP","SCORE","SCORE","PTS"]
[null,{"$f":"SCORECARD!C267","v":" Block 2 Player 1"},null,null,{"$f":"SCORECARD!F267","v":0},{"$f":"SCORECARD!G267","v":-1E-3},{"$f":"SCORECARD!H267","v":-1E-3},{"$f":"IF(NOT(OR(F670>0,G670>0)),\"\",IF(HandicapPlay=\"x\",IF(F670>G670,10,-10),(IF((F670-G670>0),(VLOOKUP(OFFSET(H670,-3,0),(TABLE!WIN),(MATCH(E670,WINCOL,0)+1))),(VLOOKUP(OFFSET(H670,-3,0),(TABLE!LOSE),(MATCH(E670,LOSECOL,0)+1)))))))","v":""}]
[null,{"$f":"SCORECARD!C268","v":" Block 2 Player 2"},null,null,{"$f":"SCORECARD!F268","v":0},{"$f":"SCORECARD!G268","v":-1E-3},{"$f":"SCORECARD!H268","v":-1E-3},{"$f":"IF(NOT(OR(F671>0,G671>0)),\"\",IF(HandicapPlay=\"x\",IF(F671>G671,10,-10),(IF((F671-G671>0),(VLOOKUP(OFFSET(H671,-4,0),(TABLE!WIN),(MATCH(E671,WINCOL,0)+1))),(VLOOKUP(OFFSET(H671,-4,0),(TABLE!LOSE),(MATCH(E671,LOSECOL,0)+1)))))))","v":""}]
[null,{"$f":"SCORECARD!C269","v":" Block 2 Player 4"},null,null,{"$f":"SCORECARD!F269","v":0},{"$f":"SCORECARD!G269","v":-1E-3},{"$f":"SCORECARD!H269","v":-1E-3},{"$f":"IF(NOT(OR(F672>0,G672>0)),\"\",IF(HandicapPlay=\"x\",IF(F672>G672,10,-10),(IF((F672-G672>0),(VLOOKUP(OFFSET(H672,-5,0),(TABLE!WIN),(MATCH(E672,WINCOL,0)+1))),(VLOOKUP(OFFSET(H672,-5,0),(TABLE!LOSE),(MATCH(E672,LOSECOL,0)+1)))))))","v":""}]
[null,{"$f":"SCORECARD!C270","v":" Block 2 Player 5"},null,null,{"$f":"SCORECARD!F270","v":0},{"$f":"SCORECARD!G270","v":-1E-3},{"$f":"SCORECARD!H270","v":-1E-3},{"$f":"IF(NOT(OR(F673>0,G673>0)),\"\",IF(HandicapPlay=\"x\",IF(F673>G673,10,-10),(IF((F673-G673>0),(VLOOKUP(OFFSET(H673,-6,0),(TABLE!WIN),(MATCH(E673,WINCOL,0)+1))),(VLOOKUP(OFFSET(H673,-6,0),(TABLE!LOSE),(MATCH(E673,LOSECOL,0)+1)))))))","v":""}]
[null,{"$f":"SCORECARD!C271","v":" Block 2 Player 6"},null,null,{"$f":"SCORECARD!F271","v":0},{"$f":"SCORECARD!G271","v":-1E-3},{"$f":"SCORECARD!H271","v":-1E-3},{"$f":"IF(NOT(OR(F674>0,G674>0)),\"\",IF(HandicapPlay=\"x\",IF(F674>G674,10,-10),(IF((F674-G674>0),(VLOOKUP(OFFSET(H674,-7,0),(TABLE!WIN),(MATCH(E674,WINCOL,0)+1))),(VLOOKUP(OFFSET(H674,-7,0),(TABLE!LOSE),(MATCH(E674,LOSECOL,0)+1)))))))","v":""}]
[null,{"$f":"SCORECARD!C272","v":" Block 2 Player 7"},null,null,{"$f":"SCORECARD!F272","v":0},{"$f":"SCORECARD!G272","v":-1E-3},{"$f":"SCORECARD!H272","v":-1E-3},{"$f":"IF(NOT(OR(F675>0,G675>0)),\"\",IF(HandicapPlay=\"x\",IF(F675>G675,10,-10),(IF((F675-G675>0),(VLOOKUP(OFFSET(H675,-8,0),(TABLE!WIN),(MATCH(E675,WINCOL,0)+1))),(VLOOKUP(OFFSET(H675,-8,0),(TABLE!LOSE),(MATCH(E675,LOSECOL,0)+1)))))))","v":""}]
[null,{"$f":"SCORECARD!C273","v":" Block 2 Player 8"},null,null,{"$f":"SCORECARD!F273","v":0},{"$f":"SCORECARD!G273","v":-1E-3},{"$f":"SCORECARD!H273","v":-1E-3},{"$f":"IF(NOT(OR(F676>0,G676>0)),\"\",IF(HandicapPlay=\"x\",IF(F676>G676,10,-10),(IF((F676-G676>0),(VLOOKUP(OFFSET(H676,-9,0),(TABLE!WIN),(MATCH(E676,WINCOL,0)+1))),(VLOOKUP(OFFSET(H676,-9,0),(TABLE!LOSE),(MATCH(E676,LOSECOL,0)+1)))))))","v":""}]
[null,{"$f":"SCORECARD!C274","v":" Block 2 Player 9"},null,null,{"$f":"SCORECARD!F274","v":0},{"$f":"SCORECARD!G274","v":-1E-3},{"$f":"SCORECARD!H274","v":-1E-3},{"$f":"IF(NOT(OR(F677>0,G677>0)),\"\",IF(HandicapPlay=\"x\",IF(F677>G677,10,-10),(IF((F677-G677>0),(VLOOKUP(OFFSET(H677,-10,0),(TABLE!WIN),(MATCH(E677,WINCOL,0)+1))),(VLOOKUP(OFFSET(H677,-10,0),(TABLE!LOSE),(MATCH(E677,LOSECOL,0)+1)))))))","v":""}]
[null,{"$f":"SCORECARD!C275","v":" Block 2 Player 10"},null,null,{"$f":"SCORECARD!F275","v":0},{"$f":"SCORECARD!G275","v":-1E-3},{"$f":"SCORECARD!H275","v":-1E-3},{"$f":"IF(NOT(OR(F678>0,G678>0)),\"\",IF(HandicapPlay=\"x\",IF(F678>G678,10,-10),(IF((F678-G678>0),(VLOOKUP(OFFSET(H678,-11,0),(TABLE!WIN),(MATCH(E678,WINCOL,0)+1))),(VLOOKUP(OFFSET(H678,-11,0),(TABLE!LOSE),(MATCH(E678,LOSECOL,0)+1)))))))","v":""}]
[]
[]
[]
[]
[]
[]
[]
[]
[null,null,null,null,null,null,"Handicap adjustment points total   ",{"$f":"SUM(H670:H678)","v":0}]
[]
[]
[]
[]
[]
[]
[]
[]
[]
[]
[]
[]
[{"$f":"note1","v":"Time limit 2.5 hours, Turn After Bell (61.1.6). Quadway hoops (3 11/16\"), Dawson International balls"}]
[{"$f":"note2","v":"Games may start early. Please be at the venue at least 30 minutes earlier than the scheduled start time."}]
[{"$f":"note3","v":"Entry Fee $40 will be invoiced by email. Please pay by EFT using the invoice No. as reference."}]
[{"$f":"note4","v":"Players please assist with setting and clearing courts."}]
[null,null,null,null,{"$f":"BLOCK!L43","v":" Block 2 Player 4"}]
[null,null,null,null,{"$f":"BLOCK!I39","v":"TOURNAMENT"}]
[null,null,null,null,{"$f":"BLOCK!I41","v":"GROUP"}]
[null,null,null,null,{"$f":"BLOCK!B43","v":"BLOCK 2"}]
[]
[null,null,null,null,"BLOCK PLAY SCHEDULE"]
[null,"TIME","DAY","COURT",null,"OPPONENT",null,"HANDICAP","PS","OS"]
[null,{"$f":"GAMES!B54","v":"00:00:00"},{"$f":"GAMES!C54","v":"00:00:00"},{"$f":"GAMES!D54","v":0},null,{"$f":"GAMES!G54","v":" Block 2 Player 7"},null,{"$f":"$E$729","v":0},{"$f":"$F$729","v":-1E-3},{"$f":"$G$729","v":-1E-3}]
[null,{"$f":"GAMES!B60","v":"00:00:00"},{"$f":"GAMES!C60","v":"00:00:00"},{"$f":"GAMES!D60","v":0},null,{"$f":"GAMES!E60","v":" Block 2 Player 5"},null,{"$f":"$E$727","v":0},{"$f":"$F$727","v":-1E-3},{"$f":"$G$727","v":-1E-3}]
[null,{"$f":"GAMES!B65","v":"00:00:00"},{"$f":"GAMES!C65","v":"00:00:00"},{"$f":"GAMES!D65","v":0},null,{"$f":"GAMES!G65","v":" Block 2 Player 3"},null,{"$f":"$E$726","v":0},{"$f":"$F$726","v":-1E-3},{"$f":"$G$726","v":-1E-3}]
[null,{"$f":"GAMES!B69","v":"00:00:00"},{"$f":"GAMES!C69","v":"00:00:00"},{"$f":"GAMES!D69","v":0},null,{"$f":"GAMES!G69","v":" Block 2 Player 10"},null,{"$f":"$E$732","v":0},{"$f":"$F$732","v":-1E-3},{"$f":"$G$732","v":-1E-3}]
[null,{"$f":"GAMES!B73","v":"00:00:00"},{"$f":"GAMES!C73","v":"00:00:00"},{"$f":"GAMES!D73","v":0},null,{"$f":"GAMES!G73","v":" Block 2 Player 8"},null,{"$f":"$E$730","v":0},{"$f":"$F$730","v":-1E-3},{"$f":"$G$730","v":-1E-3}]
[null,{"$f":"GAMES!B77","v":"00:00:00"},{"$f":"GAMES!C77","v":"00:00:00"},{"$f":"GAMES!D77","v":0},null,{"$f":"GAMES!G77","v":" Block 2 Player 6"},null,{"$f":"$E$728","v":0},{"$f":"$F$728","v":-1E-3},{"$f":"$G$728","v":-1E-3}]
[null,{"$f":"GAMES!B81","v":"00:00:00"},{"$f":"GAMES!C81","v":"00:00:00"},{"$f":"GAMES!D81","v":0},null,{"$f":"GAMES!E81","v":" Block 2 Player 1"},null,{"$f":"$E$724","v":0},{"$f":"$F$724","v":-1E-3},{"$f":"$G$724","v":-1E-3}]
[null,{"$f":"GAMES!B87","v":"00:00:00"},{"$f":"GAMES!C87","v":"00:00:00"},{"$f":"GAMES!D87","v":0},null,{"$f":"GAMES!E87","v":" Block 2 Player 2"},null,{"$f":"$E$725","v":0},{"$f":"$F$725","v":-1E-3},{"$f":"$G$725","v":-1E-3}]
[null,{"$f":"GAMES!B93","v":"00:00:00"},{"$f":"GAMES!C93","v":"00:00:00"},{"$f":"GAMES!D93","v":0},null,{"$f":"GAMES!E93","v":" Block 2 Player 9"},null,{"$f":"$E$731","v":0},{"$f":"$F$731","v":-1E-3},{"$f":"$G$731","v":-1E-3}]
[]
[null,"PLAYER:",{"$f":"BLOCK!L43","v":" Block 2 Player 4"},null,null,null,"HANDICAP",{"$f":"BLOCK!B55","v":0}]
[null,null,null,null,"OPP","PLAYER","OPP","H/CAP"]
[null,null,"OPPONENT",null,"HCP","SCORE","SCORE","PTS"]
[null,{"$f":"SCORECARD!C287","v":" Block 2 Player 1"},null,null,{"$f":"SCORECARD!F287","v":0},{"$f":"SCORECARD!G287","v":-1E-3},{"$f":"SCORECARD!H287","v":-1E-3},{"$f":"IF(NOT(OR(F724>0,G724>0)),\"\",IF(HandicapPlay=\"x\",IF(F724>G724,10,-10),(IF((F724-G724>0),(VLOOKUP(OFFSET(H724,-3,0),(TABLE!WIN),(MATCH(E724,WINCOL,0)+1))),(VLOOKUP(OFFSET(H724,-3,0),(TABLE!LOSE),(MATCH(E724,LOSECOL,0)+1)))))))","v":""}]
[null,{"$f":"SCORECARD!C288","v":" Block 2 Player 2"},null,null,{"$f":"SCORECARD!F288","v":0},{"$f":"SCORECARD!G288","v":-1E-3},{"$f":"SCORECARD!H288","v":-1E-3},{"$f":"IF(NOT(OR(F725>0,G725>0)),\"\",IF(HandicapPlay=\"x\",IF(F725>G725,10,-10),(IF((F725-G725>0),(VLOOKUP(OFFSET(H725,-4,0),(TABLE!WIN),(MATCH(E725,WINCOL,0)+1))),(VLOOKUP(OFFSET(H725,-4,0),(TABLE!LOSE),(MATCH(E725,LOSECOL,0)+1)))))))","v":""}]
[null,{"$f":"SCORECARD!C289","v":" Block 2 Player 3"},null,null,{"$f":"SCORECARD!F289","v":0},{"$f":"SCORECARD!G289","v":-1E-3},{"$f":"SCORECARD!H289","v":-1E-3},{"$f":"IF(NOT(OR(F726>0,G726>0)),\"\",IF(HandicapPlay=\"x\",IF(F726>G726,10,-10),(IF((F726-G726>0),(VLOOKUP(OFFSET(H726,-5,0),(TABLE!WIN),(MATCH(E726,WINCOL,0)+1))),(VLOOKUP(OFFSET(H726,-5,0),(TABLE!LOSE),(MATCH(E726,LOSECOL,0)+1)))))))","v":""}]
[null,{"$f":"SCORECARD!C290","v":" Block 2 Player 5"},null,null,{"$f":"SCORECARD!F290","v":0},{"$f":"SCORECARD!G290","v":-1E-3},{"$f":"SCORECARD!H290","v":-1E-3},{"$f":"IF(NOT(OR(F727>0,G727>0)),\"\",IF(HandicapPlay=\"x\",IF(F727>G727,10,-10),(IF((F727-G727>0),(VLOOKUP(OFFSET(H727,-6,0),(TABLE!WIN),(MATCH(E727,WINCOL,0)+1))),(VLOOKUP(OFFSET(H727,-6,0),(TABLE!LOSE),(MATCH(E727,LOSECOL,0)+1)))))))","v":""}]
[null,{"$f":"SCORECARD!C291","v":" Block 2 Player 6"},null,null,{"$f":"SCORECARD!F291","v":0},{"$f":"SCORECARD!G291","v":-1E-3},{"$f":"SCORECARD!H291","v":-1E-3},{"$f":"IF(NOT(OR(F728>0,G728>0)),\"\",IF(HandicapPlay=\"x\",IF(F728>G728,10,-10),(IF((F728-G728>0),(VLOOKUP(OFFSET(H728,-7,0),(TABLE!WIN),(MATCH(E728,WINCOL,0)+1))),(VLOOKUP(OFFSET(H728,-7,0),(TABLE!LOSE),(MATCH(E728,LOSECOL,0)+1)))))))","v":""}]
[null,{"$f":"SCORECARD!C292","v":" Block 2 Player 7"},null,null,{"$f":"SCORECARD!F292","v":0},{"$f":"SCORECARD!G292","v":-1E-3},{"$f":"SCORECARD!H292","v":-1E-3},{"$f":"IF(NOT(OR(F729>0,G729>0)),\"\",IF(HandicapPlay=\"x\",IF(F729>G729,10,-10),(IF((F729-G729>0),(VLOOKUP(OFFSET(H729,-8,0),(TABLE!WIN),(MATCH(E729,WINCOL,0)+1))),(VLOOKUP(OFFSET(H729,-8,0),(TABLE!LOSE),(MATCH(E729,LOSECOL,0)+1)))))))","v":""}]
[null,{"$f":"SCORECARD!C293","v":" Block 2 Player 8"},null,null,{"$f":"SCORECARD!F293","v":0},{"$f":"SCORECARD!G293","v":-1E-3},{"$f":"SCORECARD!H293","v":-1E-3},{"$f":"IF(NOT(OR(F730>0,G730>0)),\"\",IF(HandicapPlay=\"x\",IF(F730>G730,10,-10),(IF((F730-G730>0),(VLOOKUP(OFFSET(H730,-9,0),(TABLE!WIN),(MATCH(E730,WINCOL,0)+1))),(VLOOKUP(OFFSET(H730,-9,0),(TABLE!LOSE),(MATCH(E730,LOSECOL,0)+1)))))))","v":""}]
[null,{"$f":"SCORECARD!C294","v":" Block 2 Player 9"},null,null,{"$f":"SCORECARD!F294","v":0},{"$f":"SCORECARD!G294","v":-1E-3},{"$f":"SCORECARD!H294","v":-1E-3},{"$f":"IF(NOT(OR(F731>0,G731>0)),\"\",IF(HandicapPlay=\"x\",IF(F731>G731,10,-10),(IF((F731-G731>0),(VLOOKUP(OFFSET(H731,-10,0),(TABLE!WIN),(MATCH(E731,WINCOL,0)+1))),(VLOOKUP(OFFSET(H731,-10,0),(TABLE!LOSE),(MATCH(E731,LOSECOL,0)+1)))))))","v":""}]
[null,{"$f":"SCORECARD!C295","v":" Block 2 Player 10"},null,null,{"$f":"SCORECARD!F295","v":0},{"$f":"SCORECARD!G295","v":-1E-3},{"$f":"SCORECARD!H295","v":-1E-3},{"$f":"IF(NOT(OR(F732>0,G732>0)),\"\",IF(HandicapPlay=\"x\",IF(F732>G732,10,-10),(IF((F732-G732>0),(VLOOKUP(OFFSET(H732,-11,0),(TABLE!WIN),(MATCH(E732,WINCOL,0)+1))),(VLOOKUP(OFFSET(H732,-11,0),(TABLE!LOSE),(MATCH(E732,LOSECOL,0)+1)))))))","v":""}]
[]
[]
[]
[]
[]
[]
[]
[]
[null,null,null,null,null,null,"Handicap adjustment points total   ",{"$f":"SUM(H724:H732)","v":0}]
[]
[]
[]
[]
[]
[]
[]
[]
[]
[]
[]
[]
[{"$f":"note1","v":"Time limit 2.5 hours, Turn After Bell (61.1.6). Quadway hoops (3 11/16\"), Dawson International balls"}]
[{"$f":"note2","v":"Games may start early. Please be at the venue at least 30 minutes earlier than the scheduled start time."}]
[{"$f":"note3","v":"Entry Fee $40 will be invoiced by email. Please pay by EFT using the invoice No. as reference."}]
[{"$f":"note4","v":"Players please assist with setting and clearing courts."}]
[null,null,null,null,{"$f":"BLOCK!O43","v":" Block 2 Player 5"}]
[null,null,null,null,{"$f":"BLOCK!I39","v":"TOURNAMENT"}]
[null,null,null,null,{"$f":"BLOCK!I41","v":"GROUP"}]
[null,null,null,null,{"$f":"BLOCK!B43","v":"BLOCK 2"}]
[]
[null,null,null,null,"BLOCK PLAY SCHEDULE"]
[null,"TIME","DAY","COURT",null,"OPPONENT",null,"HANDICAP","PS","OS"]
[null,{"$f":"GAMES!B55","v":"00:00:00"},{"$f":"GAMES!C55","v":"00:00:00"},{"$f":"GAMES!D55","v":0},null,{"$f":"GAMES!G55","v":" Block 2 Player 6"},null,{"$f":"$E$782","v":0},{"$f":"$F$782","v":-1E-3},{"$f":"$G$782","v":-1E-3}]
[null,{"$f":"GAMES!B60","v":"00:00:00"},{"$f":"GAMES!C60","v":"00:00:00"},{"$f":"GAMES!D60","v":0},null,{"$f":"GAMES!G60","v":" Block 2 Player 4"},null,{"$f":"$E$781","v":0},{"$f":"$F$781","v":-1E-3},{"$f":"$G$781","v":-1E-3}]
[null,{"$f":"GAMES!B64","v":"00:00:00"},{"$f":"GAMES!C64","v":"00:00:00"},{"$f":"GAMES!D64","v":0},null,{"$f":"GAMES!G64","v":" Block 2 Player 2"},null,{"$f":"$E$779","v":0},{"$f":"$F$779","v":-1E-3},{"$f":"$G$779","v":-1E-3}]
[null,{"$f":"GAMES!B68","v":"00:00:00"},{"$f":"GAMES!C68","v":"00:00:00"},{"$f":"GAMES!D68","v":0},null,{"$f":"GAMES!G68","v":" Block 2 Player 9"},null,{"$f":"$E$785","v":0},{"$f":"$F$785","v":-1E-3},{"$f":"$G$785","v":-1E-3}]
[null,{"$f":"GAMES!B72","v":"00:00:00"},{"$f":"GAMES!C72","v":"00:00:00"},{"$f":"GAMES!D72","v":0},null,{"$f":"GAMES!G72","v":" Block 2 Player 7"},null,{"$f":"$E$783","v":0},{"$f":"$F$783","v":-1E-3},{"$f":"$G$783","v":-1E-3}]
[null,{"$f":"GAMES!B76","v":"00:00:00"},{"$f":"GAMES!C76","v":"00:00:00"},{"$f":"GAMES!D76","v":0},null,{"$f":"GAMES!E76","v":" Block 2 Player 1"},null,{"$f":"$E$778","v":0},{"$f":"$F$778","v":-1E-3},{"$f":"$G$778","v":-1E-3}]
[null,{"$f":"GAMES!B82","v":"00:00:00"},{"$f":"GAMES!C82","v":"00:00:00"},{"$f":"GAMES!D82","v":0},null,{"$f":"GAMES!G82","v":" Block 2 Player 3"},null,{"$f":"$E$780","v":0},{"$f":"$F$780","v":-1E-3},{"$f":"$G$780","v":-1E-3}]
[null,{"$f":"GAMES!B88","v":"00:00:00"},{"$f":"GAMES!C88","v":"00:00:00"},{"$f":"GAMES!D88","v":0},null,{"$f":"GAMES!E88","v":" Block 2 Player 10"},null,{"$f":"$E$786","v":0},{"$f":"$F$786","v":-1E-3},{"$f":"$G$786","v":-1E-3}]
[null,{"$f":"GAMES!B94","v":"00:00:00"},{"$f":"GAMES!C94","v":"00:00:00"},{"$f":"GAMES!D94","v":0},null,{"$f":"GAMES!E94","v":" Block 2 Player 8"},null,{"$f":"$E$784","v":0},{"$f":"$F$784","v":-1E-3},{"$f":"$G$784","v":-1E-3}]
[]
[null,"PLAYER:",{"$f":"BLOCK!O43","v":" Block 2 Player 5"},null,null,null,"HANDICAP",{"$f":"BLOCK!B58","v":0}]
[null,null,null,null,"OPP","PLAYER","OPP","H/CAP"]
[null,null,"OPPONENT",null,"HCP","SCORE","SCORE","PTS"]
[null,{"$f":"SCORECARD!C310","v":" Block 2 Player 1"},null,null,{"$f":"SCORECARD!F310","v":0},{"$f":"SCORECARD!G310","v":-1E-3},{"$f":"SCORECARD!H310","v":-1E-3},{"$f":"IF(NOT(OR(F778>0,G778>0)),\"\",IF(HandicapPlay=\"x\",IF(F778>G778,10,-10),(IF((F778-G778>0),(VLOOKUP(OFFSET(H778,-3,0),(TABLE!WIN),(MATCH(E778,WINCOL,0)+1))),(VLOOKUP(OFFSET(H778,-3,0),(TABLE!LOSE),(MATCH(E778,LOSECOL,0)+1)))))))","v":""}]
[null,{"$f":"SCORECARD!C311","v":" Block 2 Player 2"},null,null,{"$f":"SCORECARD!F311","v":0},{"$f":"SCORECARD!G311","v":-1E-3},{"$f":"SCORECARD!H311","v":-1E-3},{"$f":"IF(NOT(OR(F779>0,G779>0)),\"\",IF(HandicapPlay=\"x\",IF(F779>G779,10,-10),(IF((F779-G779>0),(VLOOKUP(OFFSET(H779,-4,0),(TABLE!WIN),(MATCH(E779,WINCOL,0)+1))),(VLOOKUP(OFFSET(H779,-4,0),(TABLE!LOSE),(MATCH(E779,LOSECOL,0)+1)))))))","v":""}]
[null,{"$f":"SCORECARD!C312","v":" Block 2 Player 3"},null,null,{"$f":"SCORECARD!F312","v":0},{"$f":"SCORECARD!G312","v":-1E-3},{"$f":"SCORECARD!H312","v":-1E-3},{"$f":"IF(NOT(OR(F780>0,G780>0)),\"\",IF(HandicapPlay=\"x\",IF(F780>G780,10,-10),(IF((F780-G780>0),(VLOOKUP(OFFSET(H780,-5,0),(TABLE!WIN),(MATCH(E780,WINCOL,0)+1))),(VLOOKUP(OFFSET(H780,-5,0),(TABLE!LOSE),(MATCH(E780,LOSECOL,0)+1)))))))","v":""}]
[null,{"$f":"SCORECARD!C313","v":" Block 2 Player 4"},null,null,{"$f":"SCORECARD!F313","v":0},{"$f":"SCORECARD!G313","v":-1E-3},{"$f":"SCORECARD!H313","v":-1E-3},{"$f":"IF(NOT(OR(F781>0,G781>0)),\"\",IF(HandicapPlay=\"x\",IF(F781>G781,10,-10),(IF((F781-G781>0),(VLOOKUP(OFFSET(H781,-6,0),(TABLE!WIN),(MATCH(E781,WINCOL,0)+1))),(VLOOKUP(OFFSET(H781,-6,0),(TABLE!LOSE),(MATCH(E781,LOSECOL,0)+1)))))))","v":""}]
[null,{"$f":"SCORECARD!C314","v":" Block 2 Player 6"},null,null,{"$f":"SCORECARD!F314","v":0},{"$f":"SCORECARD!G314","v":-1E-3},{"$f":"SCORECARD!H314","v":-1E-3},{"$f":"IF(NOT(OR(F782>0,G782>0)),\"\",IF(HandicapPlay=\"x\",IF(F782>G782,10,-10),(IF((F782-G782>0),(VLOOKUP(OFFSET(H782,-7,0),(TABLE!WIN),(MATCH(E782,WINCOL,0)+1))),(VLOOKUP(OFFSET(H782,-7,0),(TABLE!LOSE),(MATCH(E782,LOSECOL,0)+1)))))))","v":""}]
[null,{"$f":"SCORECARD!C315","v":" Block 2 Player 7"},null,null,{"$f":"SCORECARD!F315","v":0},{"$f":"SCORECARD!G315","v":-1E-3},{"$f":"SCORECARD!H315","v":-1E-3},{"$f":"IF(NOT(OR(F783>0,G783>0)),\"\",IF(HandicapPlay=\"x\",IF(F783>G783,10,-10),(IF((F783-G783>0),(VLOOKUP(OFFSET(H783,-8,0),(TABLE!WIN),(MATCH(E783,WINCOL,0)+1))),(VLOOKUP(OFFSET(H783,-8,0),(TABLE!LOSE),(MATCH(E783,LOSECOL,0)+1)))))))","v":""}]
[null,{"$f":"SCORECARD!C316","v":" Block 2 Player 8"},null,null,{"$f":"SCORECARD!F316","v":0},{"$f":"SCORECARD!G316","v":-1E-3},{"$f":"SCORECARD!H316","v":-1E-3},{"$f":"IF(NOT(OR(F784>0,G784>0)),\"\",IF(HandicapPlay=\"x\",IF(F784>G784,10,-10),(IF((F784-G784>0),(VLOOKUP(OFFSET(H784,-9,0),(TABLE!WIN),(MATCH(E784,WINCOL,0)+1))),(VLOOKUP(OFFSET(H784,-9,0),(TABLE!LOSE),(MATCH(E784,LOSECOL,0)+1)))))))","v":""}]
[null,{"$f":"SCORECARD!C317","v":" Block 2 Player 9"},null,null,{"$f":"SCORECARD!F317","v":0},{"$f":"SCORECARD!G317","v":-1E-3},{"$f":"SCORECARD!H317","v":-1E-3},{"$f":"IF(NOT(OR(F785>0,G785>0)),\"\",IF(HandicapPlay=\"x\",IF(F785>G785,10,-10),(IF((F785-G785>0),(VLOOKUP(OFFSET(H785,-10,0),(TABLE!WIN),(MATCH(E785,WINCOL,0)+1))),(VLOOKUP(OFFSET(H785,-10,0),(TABLE!LOSE),(MATCH(E785,LOSECOL,0)+1)))))))","v":""}]
[null,{"$f":"SCORECARD!C318","v":" Block 2 Player 10"},null,null,{"$f":"SCORECARD!F318","v":0},{"$f":"SCORECARD!G318","v":-1E-3},{"$f":"SCORECARD!H318","v":-1E-3},{"$f":"IF(NOT(OR(F786>0,G786>0)),\"\",IF(HandicapPlay=\"x\",IF(F786>G786,10,-10),(IF((F786-G786>0),(VLOOKUP(OFFSET(H786,-11,0),(TABLE!WIN),(MATCH(E786,WINCOL,0)+1))),(VLOOKUP(OFFSET(H786,-11,0),(TABLE!LOSE),(MATCH(E786,LOSECOL,0)+1)))))))","v":""}]
[]
[]
[]
[]
[]
[]
[]
[]
[null,null,null,null,null,null,"Handicap adjustment points total   ",{"$f":"SUM(H778:H786)","v":0}]
[]
[]
[]
[]
[]
[]
[]
[]
[]
[]
[]
[]
[{"$f":"note1","v":"Time limit 2.5 hours, Turn After Bell (61.1.6). Quadway hoops (3 11/16\"), Dawson International balls"}]
[{"$f":"note2","v":"Games may start early. Please be at the venue at least 30 minutes earlier than the scheduled start time."}]
[{"$f":"note3","v":"Entry Fee $40 will be invoiced by email. Please pay by EFT using the invoice No. as reference."}]
[{"$f":"note4","v":"Players please assist with setting and clearing courts."}]
[null,null,null,null,{"$f":"BLOCK!R43","v":" Block 2 Player 6"}]
[null,null,null,null,{"$f":"BLOCK!I39","v":"TOURNAMENT"}]
[null,null,null,null,{"$f":"BLOCK!I41","v":"GROUP"}]
[null,null,null,null,{"$f":"BLOCK!B43","v":"BLOCK 2"}]
[]
[null,null,null,null,"BLOCK PLAY SCHEDULE"]
[null,"TIME","DAY","COURT",null,"OPPONENT",null,"HANDICAP","PS","OS"]
[null,{"$f":"GAMES!B55","v":"00:00:00"},{"$f":"GAMES!C55","v":"00:00:00"},{"$f":"GAMES!D55","v":0},null,{"$f":"GAMES!E55","v":" Block 2 Player 5"},null,{"$f":"$E$836","v":0},{"$f":"$F$836","v":-1E-3},{"$f":"$G$836","v":-1E-3}]
[null,{"$f":"GAMES!B59","v":"00:00:00"},{"$f":"GAMES!C59","v":"00:00:00"},{"$f":"GAMES!D59","v":0},null,{"$f":"GAMES!G59","v":" Block 2 Player 3"},null,{"$f":"$E$834","v":0},{"$f":"$F$834","v":-1E-3},{"$f":"$G$834","v":-1E-3}]
[null,{"$f":"GAMES!B63","v":"00:00:00"},{"$f":"GAMES!C63","v":"00:00:00"},{"$f":"GAMES!D63","v":0},null,{"$f":"GAMES!G63","v":" Block 2 Player 10"},null,{"$f":"$E$840","v":0},{"$f":"$F$840","v":-1E-3},{"$f":"$G$840","v":-1E-3}]
[null,{"$f":"GAMES!B67","v":"00:00:00"},{"$f":"GAMES!C67","v":"00:00:00"},{"$f":"GAMES!D67","v":0},null,{"$f":"GAMES!G67","v":" Block 2 Player 8"},null,{"$f":"$E$838","v":0},{"$f":"$F$838","v":-1E-3},{"$f":"$G$838","v":-1E-3}]
[null,{"$f":"GAMES!B71","v":"00:00:00"},{"$f":"GAMES!C71","v":"00:00:00"},{"$f":"GAMES!D71","v":0},null,{"$f":"GAMES!E71","v":" Block 2 Player 1"},null,{"$f":"$E$832","v":0},{"$f":"$F$832","v":-1E-3},{"$f":"$G$832","v":-1E-3}]
[null,{"$f":"GAMES!B77","v":"00:00:00"},{"$f":"GAMES!C77","v":"00:00:00"},{"$f":"GAMES!D77","v":0},null,{"$f":"GAMES!E77","v":" Block 2 Player 4"},null,{"$f":"$E$835","v":0},{"$f":"$F$835","v":-1E-3},{"$f":"$G$835","v":-1E-3}]
[null,{"$f":"GAMES!B83","v":"00:00:00"},{"$f":"GAMES!C83","v":"00:00:00"},{"$f":"GAMES!D83","v":0},null,{"$f":"GAMES!E83","v":" Block 2 Player 2"},null,{"$f":"$E$833","v":0},{"$f":"$F$833","v":-1E-3},{"$f":"$G$833","v":-1E-3}]
[null,{"$f":"GAMES!B89","v":"00:00:00"},{"$f":"GAMES!C89","v":"00:00:00"},{"$f":"GAMES!D89","v":0},null,{"$f":"GAMES!E89","v":" Block 2 Player 9"},null,{"$f":"$E$839","v":0},{"$f":"$F$839","v":-1E-3},{"$f":"$G$839","v":-1E-3}]
[null,{"$f":"GAMES!B95","v":"00:00:00"},{"$f":"GAMES!C95","v":"00:00:00"},{"$f":"GAMES!D95","v":0},null,{"$f":"GAMES!E95","v":" Block 2 Player 7"},null,{"$f":"$E$837","v":0},{"$f":"$F$837","v":-1E-3},{"$f":"$G$837","v":-1E-3}]
[]
[null,"PLAYER:",{"$f":"BLOCK!R43","v":" Block 2 Player 6"},null,null,null,"HANDICAP",{"$f":"BLOCK!B61","v":0}]
[null,null,null,null,"OPP","PLAYER","OPP","H/CAP"]
[null,null,"OPPONENT",null,"HCP","SCORE","SCORE","PTS"]
[null,{"$f":"SCORECARD!C330","v":" Block 2 Player 1"},null,null,{"$f":"SCORECARD!F330","v":0},{"$f":"SCORECARD!G330","v":-1E-3},{"$f":"SCORECARD!H330","v":-1E-3},{"$f":"IF(NOT(OR(F832>0,G832>0)),\"\",IF(HandicapPlay=\"x\",IF(F832>G832,10,-10),(IF((F832-G832>0),(VLOOKUP(OFFSET(H832,-3,0),(TABLE!WIN),(MATCH(E832,WINCOL,0)+1))),(VLOOKUP(OFFSET(H832,-3,0),(TABLE!LOSE),(MATCH(E832,LOSECOL,0)+1)))))))","v":""}]
[null,{"$f":"SCORECARD!C331","v":" Block 2 Player 2"},null,null,{"$f":"SCORECARD!F331","v":0},{"$f":"SCORECARD!G331","v":-1E-3},{"$f":"SCORECARD!H331","v":-1E-3},{"$f":"IF(NOT(OR(F833>0,G833>0)),\"\",IF(HandicapPlay=\"x\",IF(F833>G833,10,-10),(IF((F833-G833>0),(VLOOKUP(OFFSET(H833,-4,0),(TABLE!WIN),(MATCH(E833,WINCOL,0)+1))),(VLOOKUP(OFFSET(H833,-4,0),(TABLE!LOSE),(MATCH(E833,LOSECOL,0)+1)))))))","v":""}]
[null,{"$f":"SCORECARD!C332","v":" Block 2 Player 3"},null,null,{"$f":"SCORECARD!F332","v":0},{"$f":"SCORECARD!G332","v":-1E-3},{"$f":"SCORECARD!H332","v":-1E-3},{"$f":"IF(NOT(OR(F834>0,G834>0)),\"\",IF(HandicapPlay=\"x\",IF(F834>G834,10,-10),(IF((F834-G834>0),(VLOOKUP(OFFSET(H834,-5,0),(TABLE!WIN),(MATCH(E834,WINCOL,0)+1))),(VLOOKUP(OFFSET(H834,-5,0),(TABLE!LOSE),(MATCH(E834,LOSECOL,0)+1)))))))","v":""}]
[null,{"$f":"SCORECARD!C333","v":" Block 2 Player 4"},null,null,{"$f":"SCORECARD!F333","v":0},{"$f":"SCORECARD!G333","v":-1E-3},{"$f":"SCORECARD!H333","v":-1E-3},{"$f":"IF(NOT(OR(F835>0,G835>0)),\"\",IF(HandicapPlay=\"x\",IF(F835>G835,10,-10),(IF((F835-G835>0),(VLOOKUP(OFFSET(H835,-6,0),(TABLE!WIN),(MATCH(E835,WINCOL,0)+1))),(VLOOKUP(OFFSET(H835,-6,0),(TABLE!LOSE),(MATCH(E835,LOSECOL,0)+1)))))))","v":""}]
[null,{"$f":"SCORECARD!C334","v":" Block 2 Player 5"},null,null,{"$f":"SCORECARD!F334","v":0},{"$f":"SCORECARD!G334","v":-1E-3},{"$f":"SCORECARD!H334","v":-1E-3},{"$f":"IF(NOT(OR(F836>0,G836>0)),\"\",IF(HandicapPlay=\"x\",IF(F836>G836,10,-10),(IF((F836-G836>0),(VLOOKUP(OFFSET(H836,-7,0),(TABLE!WIN),(MATCH(E836,WINCOL,0)+1))),(VLOOKUP(OFFSET(H836,-7,0),(TABLE!LOSE),(MATCH(E836,LOSECOL,0)+1)))))))","v":""}]
[null,{"$f":"SCORECARD!C335","v":" Block 2 Player 7"},null,null,{"$f":"SCORECARD!F335","v":0},{"$f":"SCORECARD!G335","v":-1E-3},{"$f":"SCORECARD!H335","v":-1E-3},{"$f":"IF(NOT(OR(F837>0,G837>0)),\"\",IF(HandicapPlay=\"x\",IF(F837>G837,10,-10),(IF((F837-G837>0),(VLOOKUP(OFFSET(H837,-8,0),(TABLE!WIN),(MATCH(E837,WINCOL,0)+1))),(VLOOKUP(OFFSET(H837,-8,0),(TABLE!LOSE),(MATCH(E837,LOSECOL,0)+1)))))))","v":""}]
[null,{"$f":"SCORECARD!C336","v":" Block 2 Player 8"},null,null,{"$f":"SCORECARD!F336","v":0},{"$f":"SCORECARD!G336","v":-1E-3},{"$f":"SCORECARD!H336","v":-1E-3},{"$f":"IF(NOT(OR(F838>0,G838>0)),\"\",IF(HandicapPlay=\"x\",IF(F838>G838,10,-10),(IF((F838-G838>0),(VLOOKUP(OFFSET(H838,-9,0),(TABLE!WIN),(MATCH(E838,WINCOL,0)+1))),(VLOOKUP(OFFSET(H838,-9,0),(TABLE!LOSE),(MATCH(E838,LOSECOL,0)+1)))))))","v":""}]
[null,{"$f":"SCORECARD!C337","v":" Block 2 Player 9"},null,null,{"$f":"SCORECARD!F337","v":0},{"$f":"SCORECARD!G337","v":-1E-3},{"$f":"SCORECARD!H337","v":-1E-3},{"$f":"IF(NOT(OR(F839>0,G839>0)),\"\",IF(HandicapPlay=\"x\",IF(F839>G839,10,-10),(IF((F839-G839>0),(VLOOKUP(OFFSET(H839,-10,0),(TABLE!WIN),(MATCH(E839,WINCOL,0)+1))),(VLOOKUP(OFFSET(H839,-10,0),(TABLE!LOSE),(MATCH(E839,LOSECOL,0)+1)))))))","v":""}]
[null,{"$f":"SCORECARD!C338","v":" Block 2 Player 10"},null,null,{"$f":"SCORECARD!F338","v":0},{"$f":"SCORECARD!G338","v":-1E-3},{"$f":"SCORECARD!H338","v":-1E-3},{"$f":"IF(NOT(OR(F840>0,G840>0)),\"\",IF(HandicapPlay=\"x\",IF(F840>G840,10,-10),(IF((F840-G840>0),(VLOOKUP(OFFSET(H840,-11,0),(TABLE!WIN),(MATCH(E840,WINCOL,0)+1))),(VLOOKUP(OFFSET(H840,-11,0),(TABLE!LOSE),(MATCH(E840,LOSECOL,0)+1)))))))","v":""}]
[]
[]
[]
[]
[]
[]
[]
[]
[null,null,null,null,null,null,"Handicap adjustment points total   ",{"$f":"SUM(H832:H840)","v":0}]
[]
[]
[]
[]
[]
[]
[]
[]
[]
[]
[]
[]
[{"$f":"note1","v":"Time limit 2.5 hours, Turn After Bell (61.1.6). Quadway hoops (3 11/16\"), Dawson International balls"}]
[{"$f":"note2","v":"Games may start early. Please be at the venue at least 30 minutes earlier than the scheduled start time."}]
[{"$f":"note3","v":"Entry Fee $40 will be invoiced by email. Please pay by EFT using the invoice No. as reference."}]
[{"$f":"note4","v":"Players please assist with setting and clearing courts."}]
[null,null,null,null,{"$f":"BLOCK!U43","v":" Block 2 Player 7"}]
[null,null,null,null,{"$f":"BLOCK!I39","v":"TOURNAMENT"}]
[null,null,null,null,{"$f":"BLOCK!I41","v":"GROUP"}]
[null,null,null,null,{"$f":"BLOCK!B43","v":"BLOCK 2"}]
[]
[null,null,null,null,"BLOCK PLAY SCHEDULE"]
[null,"TIME","DAY","COURT",null,"OPPONENT",null,"HANDICAP","PS","OS"]
[null,{"$f":"GAMES!B54","v":"00:00:00"},{"$f":"GAMES!C54","v":"00:00:00"},{"$f":"GAMES!D54","v":0},null,{"$f":"GAMES!E54","v":" Block 2 Player 4"},null,{"$f":"$E$889","v":0},{"$f":"$F$889","v":-1E-3},{"$f":"$G$889","v":-1E-3}]
[null,{"$f":"GAMES!B58","v":"00:00:00"},{"$f":"GAMES!C58","v":"00:00:00"},{"$f":"GAMES!D58","v":0},null,{"$f":"GAMES!G58","v":" Block 2 Player 2"},null,{"$f":"$E$887","v":0},{"$f":"$F$887","v":-1E-3},{"$f":"$G$887","v":-1E-3}]
[null,{"$f":"GAMES!B62","v":"00:00:00"},{"$f":"GAMES!C62","v":"00:00:00"},{"$f":"GAMES!D62","v":0},null,{"$f":"GAMES!G62","v":" Block 2 Player 9"},null,{"$f":"$E$893","v":0},{"$f":"$F$893","v":-1E-3},{"$f":"$G$893","v":-1E-3}]
[null,{"$f":"GAMES!B66","v":"00:00:00"},{"$f":"GAMES!C66","v":"00:00:00"},{"$f":"GAMES!D66","v":0},null,{"$f":"GAMES!E66","v":" Block 2 Player 1"},null,{"$f":"$E$886","v":0},{"$f":"$F$886","v":-1E-3},{"$f":"$G$886","v":-1E-3}]
[null,{"$f":"GAMES!B72","v":"00:00:00"},{"$f":"GAMES!C72","v":"00:00:00"},{"$f":"GAMES!D72","v":0},null,{"$f":"GAMES!E72","v":" Block 2 Player 5"},null,{"$f":"$E$890","v":0},{"$f":"$F$890","v":-1E-3},{"$f":"$G$890","v":-1E-3}]
[null,{"$f":"GAMES!B78","v":"00:00:00"},{"$f":"GAMES!C78","v":"00:00:00"},{"$f":"GAMES!D78","v":0},null,{"$f":"GAMES!E78","v":" Block 2 Player 3"},null,{"$f":"$E$888","v":0},{"$f":"$F$888","v":-1E-3},{"$f":"$G$888","v":-1E-3}]
[null,{"$f":"GAMES!B84","v":"00:00:00"},{"$f":"GAMES!C84","v":"00:00:00"},{"$f":"GAMES!D84","v":0},null,{"$f":"GAMES!E84","v":" Block 2 Player 10"},null,{"$f":"$E$894","v":0},{"$f":"$F$894","v":-1E-3},{"$f":"$G$894","v":-1E-3}]
[null,{"$f":"GAMES!B90","v":"00:00:00"},{"$f":"GAMES!C90","v":"00:00:00"},{"$f":"GAMES!D90","v":0},null,{"$f":"GAMES!E90","v":" Block 2 Player 8"},null,{"$f":"$E$892","v":0},{"$f":"$F$892","v":-1E-3},{"$f":"$G$892","v":-1E-3}]
[null,{"$f":"GAMES!B95","v":"00:00:00"},{"$f":"GAMES!C95","v":"00:00:00"},{"$f":"GAMES!D95","v":0},null,{"$f":"GAMES!G95","v":" Block 2 Player 6"},null,{"$f":"$E$891","v":0},{"$f":"$F$891","v":-1E-3},{"$f":"$G$891","v":-1E-3}]
[]
[null,"PLAYER:",{"$f":"BLOCK!U43","v":" Block 2 Player 7"},null,null,null,"HANDICAP",{"$f":"BLOCK!B64","v":0}]
[null,null,null,null,"OPP","PLAYER","OPP","H/CAP"]
[null,null,"OPPONENT",null,"HCP","SCORE","SCORE","PTS"]
[null,{"$f":"SCORECARD!C353","v":" Block 2 Player 1"},null,null,{"$f":"SCORECARD!F353","v":0},{"$f":"SCORECARD!G353","v":-1E-3},{"$f":"SCORECARD!H353","v":-1E-3},{"$f":"IF(NOT(OR(F886>0,G886>0)),\"\",IF(HandicapPlay=\"x\",IF(F886>G886,10,-10),(IF((F886-G886>0),(VLOOKUP(OFFSET(H886,-3,0),(TABLE!WIN),(MATCH(E886,WINCOL,0)+1))),(VLOOKUP(OFFSET(H886,-3,0),(TABLE!LOSE),(MATCH(E886,LOSECOL,0)+1)))))))","v":""}]
[null,{"$f":"SCORECARD!C354","v":" Block 2 Player 2"},null,null,{"$f":"SCORECARD!F354","v":0},{"$f":"SCORECARD!G354","v":-1E-3},{"$f":"SCORECARD!H354","v":-1E-3},{"$f":"IF(NOT(OR(F887>0,G887>0)),\"\",IF(HandicapPlay=\"x\",IF(F887>G887,10,-10),(IF((F887-G887>0),(VLOOKUP(OFFSET(H887,-4,0),(TABLE!WIN),(MATCH(E887,WINCOL,0)+1))),(VLOOKUP(OFFSET(H887,-4,0),(TABLE!LOSE),(MATCH(E887,LOSECOL,0)+1)))))))","v":""}]
[null,{"$f":"SCORECARD!C355","v":" Block 2 Player 3"},null,null,{"$f":"SCORECARD!F355","v":0},{"$f":"SCORECARD!G355","v":-1E-3},{"$f":"SCORECARD!H355","v":-1E-3},{"$f":"IF(NOT(OR(F888>0,G888>0)),\"\",IF(HandicapPlay=\"x\",IF(F888>G888,10,-10),(IF((F888-G888>0),(VLOOKUP(OFFSET(H888,-5,0),(TABLE!WIN),(MATCH(E888,WINCOL,0)+1))),(VLOOKUP(OFFSET(H888,-5,0),(TABLE!LOSE),(MATCH(E888,LOSECOL,0)+1)))))))","v":""}]
[null,{"$f":"SCORECARD!C356","v":" Block 2 Player 4"},null,null,{"$f":"SCORECARD!F356","v":0},{"$f":"SCORECARD!G356","v":-1E-3},{"$f":"SCORECARD!H356","v":-1E-3},{"$f":"IF(NOT(OR(F889>0,G889>0)),\"\",IF(HandicapPlay=\"x\",IF(F889>G889,10,-10),(IF((F889-G889>0),(VLOOKUP(OFFSET(H889,-6,0),(TABLE!WIN),(MATCH(E889,WINCOL,0)+1))),(VLOOKUP(OFFSET(H889,-6,0),(TABLE!LOSE),(MATCH(E889,LOSECOL,0)+1)))))))","v":""}]
[null,{"$f":"SCORECARD!C357","v":" Block 2 Player 5"},null,null,{"$f":"SCORECARD!F357","v":0},{"$f":"SCORECARD!G357","v":-1E-3},{"$f":"SCORECARD!H357","v":-1E-3},{"$f":"IF(NOT(OR(F890>0,G890>0)),\"\",IF(HandicapPlay=\"x\",IF(F890>G890,10,-10),(IF((F890-G890>0),(VLOOKUP(OFFSET(H890,-7,0),(TABLE!WIN),(MATCH(E890,WINCOL,0)+1))),(VLOOKUP(OFFSET(H890,-7,0),(TABLE!LOSE),(MATCH(E890,LOSECOL,0)+1)))))))","v":""}]
[null,{"$f":"SCORECARD!C358","v":" Block 2 Player 6"},null,null,{"$f":"SCORECARD!F358","v":0},{"$f":"SCORECARD!G358","v":-1E-3},{"$f":"SCORECARD!H358","v":-1E-3},{"$f":"IF(NOT(OR(F891>0,G891>0)),\"\",IF(HandicapPlay=\"x\",IF(F891>G891,10,-10),(IF((F891-G891>0),(VLOOKUP(OFFSET(H891,-8,0),(TABLE!WIN),(MATCH(E891,WINCOL,0)+1))),(VLOOKUP(OFFSET(H891,-8,0),(TABLE!LOSE),(MATCH(E891,LOSECOL,0)+1)))))))","v":""}]
[null,{"$f":"SCORECARD!C359","v":" Block 2 Player 8"},null,null,{"$f":"SCORECARD!F359","v":0},{"$f":"SCORECARD!G359","v":-1E-3},{"$f":"SCORECARD!H359","v":-1E-3},{"$f":"IF(NOT(OR(F892>0,G892>0)),\"\",IF(HandicapPlay=\"x\",IF(F892>G892,10,-10),(IF((F892-G892>0),(VLOOKUP(OFFSET(H892,-9,0),(TABLE!WIN),(MATCH(E892,WINCOL,0)+1))),(VLOOKUP(OFFSET(H892,-9,0),(TABLE!LOSE),(MATCH(E892,LOSECOL,0)+1)))))))","v":""}]
[null,{"$f":"SCORECARD!C360","v":" Block 2 Player 9"},null,null,{"$f":"SCORECARD!F360","v":0},{"$f":"SCORECARD!G360","v":-1E-3},{"$f":"SCORECARD!H360","v":-1E-3},{"$f":"IF(NOT(OR(F893>0,G893>0)),\"\",IF(HandicapPlay=\"x\",IF(F893>G893,10,-10),(IF((F893-G893>0),(VLOOKUP(OFFSET(H893,-10,0),(TABLE!WIN),(MATCH(E893,WINCOL,0)+1))),(VLOOKUP(OFFSET(H893,-10,0),(TABLE!LOSE),(MATCH(E893,LOSECOL,0)+1)))))))","v":""}]
[null,{"$f":"SCORECARD!C361","v":" Block 2 Player 10"},null,null,{"$f":"SCORECARD!F361","v":0},{"$f":"SCORECARD!G361","v":-1E-3},{"$f":"SCORECARD!H361","v":-1E-3},{"$f":"IF(NOT(OR(F894>0,G894>0)),\"\",IF(HandicapPlay=\"x\",IF(F894>G894,10,-10),(IF((F894-G894>0),(VLOOKUP(OFFSET(H894,-11,0),(TABLE!WIN),(MATCH(E894,WINCOL,0)+1))),(VLOOKUP(OFFSET(H894,-11,0),(TABLE!LOSE),(MATCH(E894,LOSECOL,0)+1)))))))","v":""}]
[]
[]
[]
[]
[]
[]
[]
[]
[null,null,null,null,null,null,"Handicap adjustment points total   ",{"$f":"SUM(H886:H894)","v":0}]
[]
[]
[]
[]
[]
[]
[]
[]
[]
[]
[]
[]
[{"$f":"note1","v":"Time limit 2.5 hours, Turn After Bell (61.1.6). Quadway hoops (3 11/16\"), Dawson International balls"}]
[{"$f":"note2","v":"Games may start early. Please be at the venue at least 30 minutes earlier than the scheduled start time."}]
[{"$f":"note3","v":"Entry Fee $40 will be invoiced by email. Please pay by EFT using the invoice No. as reference."}]
[{"$f":"note4","v":"Players please assist with setting and clearing courts."}]
[null,null,null,null,{"$f":"BLOCK!X43","v":" Block 2 Player 8"}]
[null,null,null,null,{"$f":"BLOCK!I39","v":"TOURNAMENT"}]
[null,null,null,null,{"$f":"BLOCK!I41","v":"GROUP"}]
[null,null,null,null,{"$f":"BLOCK!B43","v":"BLOCK 2"}]
[]
[null,null,null,null,"BLOCK PLAY SCHEDULE"]
[null,"TIME","DAY","COURT",null,"OPPONENT",null,"HANDICAP","PS","OS"]
[null,{"$f":"GAMES!B53","v":"00:00:00"},{"$f":"GAMES!C53","v":"00:00:00"},{"$f":"GAMES!D53","v":0},null,{"$f":"GAMES!E53","v":" Block 2 Player 3"},null,{"$f":"$E$942","v":0},{"$f":"$F$942","v":-1E-3},{"$f":"$G$942","v":-1E-3}]
[null,{"$f":"GAMES!B57","v":"00:00:00"},{"$f":"GAMES!C57","v":"00:00:00"},{"$f":"GAMES!D57","v":0},null,{"$f":"GAMES!G57","v":" Block 2 Player 10"},null,{"$f":"$E$948","v":0},{"$f":"$F$948","v":-1E-3},{"$f":"$G$948","v":-1E-3}]
[null,{"$f":"GAMES!B61","v":"00:00:00"},{"$f":"GAMES!C61","v":"00:00:00"},{"$f":"GAMES!D61","v":0},null,{"$f":"GAMES!E61","v":" Block 2 Player 1"},null,{"$f":"$E$940","v":0},{"$f":"$F$940","v":-1E-3},{"$f":"$G$940","v":-1E-3}]
[null,{"$f":"GAMES!B67","v":"00:00:00"},{"$f":"GAMES!C67","v":"00:00:00"},{"$f":"GAMES!D67","v":0},null,{"$f":"GAMES!E67","v":" Block 2 Player 6"},null,{"$f":"$E$945","v":0},{"$f":"$F$945","v":-1E-3},{"$f":"$G$945","v":-1E-3}]
[null,{"$f":"GAMES!B73","v":"00:00:00"},{"$f":"GAMES!C73","v":"00:00:00"},{"$f":"GAMES!D73","v":0},null,{"$f":"GAMES!E73","v":" Block 2 Player 4"},null,{"$f":"$E$943","v":0},{"$f":"$F$943","v":-1E-3},{"$f":"$G$943","v":-1E-3}]
[null,{"$f":"GAMES!B79","v":"00:00:00"},{"$f":"GAMES!C79","v":"00:00:00"},{"$f":"GAMES!D79","v":0},null,{"$f":"GAMES!E79","v":" Block 2 Player 2"},null,{"$f":"$E$941","v":0},{"$f":"$F$941","v":-1E-3},{"$f":"$G$941","v":-1E-3}]
[null,{"$f":"GAMES!B85","v":"00:00:00"},{"$f":"GAMES!C85","v":"00:00:00"},{"$f":"GAMES!D85","v":0},null,{"$f":"GAMES!E85","v":" Block 2 Player 9"},null,{"$f":"$E$947","v":0},{"$f":"$F$947","v":-1E-3},{"$f":"$G$947","v":-1E-3}]
[null,{"$f":"GAMES!B90","v":"00:00:00"},{"$f":"GAMES!C90","v":"00:00:00"},{"$f":"GAMES!D90","v":0},null,{"$f":"GAMES!G90","v":" Block 2 Player 7"},null,{"$f":"$E$946","v":0},{"$f":"$F$946","v":-1E-3},{"$f":"$G$946","v":-1E-3}]
[null,{"$f":"GAMES!B94","v":"00:00:00"},{"$f":"GAMES!C94","v":"00:00:00"},{"$f":"GAMES!D94","v":0},null,{"$f":"GAMES!G94","v":" Block 2 Player 5"},null,{"$f":"$E$944","v":0},{"$f":"$F$944","v":-1E-3},{"$f":"$G$944","v":-1E-3}]
[]
[null,"PLAYER:",{"$f":"BLOCK!X43","v":" Block 2 Player 8"},null,null,null,"HANDICAP",{"$f":"BLOCK!B67","v":0}]
[null,null,null,null,"OPP","PLAYER","OPP","H/CAP"]
[null,null,"OPPONENT",null,"HCP","SCORE","SCORE","PTS"]
[null,{"$f":"SCORECARD!C373","v":" Block 2 Player 1"},null,null,{"$f":"SCORECARD!F373","v":0},{"$f":"SCORECARD!G373","v":-1E-3},{"$f":"SCORECARD!H373","v":-1E-3},{"$f":"IF(NOT(OR(F940>0,G940>0)),\"\",IF(HandicapPlay=\"x\",IF(F940>G940,10,-10),(IF((F940-G940>0),(VLOOKUP(OFFSET(H940,-3,0),(TABLE!WIN),(MATCH(E940,WINCOL,0)+1))),(VLOOKUP(OFFSET(H940,-3,0),(TABLE!LOSE),(MATCH(E940,LOSECOL,0)+1)))))))","v":""}]
[null,{"$f":"SCORECARD!C374","v":" Block 2 Player 2"},null,null,{"$f":"SCORECARD!F374","v":0},{"$f":"SCORECARD!G374","v":-1E-3},{"$f":"SCORECARD!H374","v":-1E-3},{"$f":"IF(NOT(OR(F941>0,G941>0)),\"\",IF(HandicapPlay=\"x\",IF(F941>G941,10,-10),(IF((F941-G941>0),(VLOOKUP(OFFSET(H941,-4,0),(TABLE!WIN),(MATCH(E941,WINCOL,0)+1))),(VLOOKUP(OFFSET(H941,-4,0),(TABLE!LOSE),(MATCH(E941,LOSECOL,0)+1)))))))","v":""}]
[null,{"$f":"SCORECARD!C375","v":" Block 2 Player 3"},null,null,{"$f":"SCORECARD!F375","v":0},{"$f":"SCORECARD!G375","v":-1E-3},{"$f":"SCORECARD!H375","v":-1E-3},{"$f":"IF(NOT(OR(F942>0,G942>0)),\"\",IF(HandicapPlay=\"x\",IF(F942>G942,10,-10),(IF((F942-G942>0),(VLOOKUP(OFFSET(H942,-5,0),(TABLE!WIN),(MATCH(E942,WINCOL,0)+1))),(VLOOKUP(OFFSET(H942,-5,0),(TABLE!LOSE),(MATCH(E942,LOSECOL,0)+1)))))))","v":""}]
[null,{"$f":"SCORECARD!C376","v":" Block 2 Player 4"},null,null,{"$f":"SCORECARD!F376","v":0},{"$f":"SCORECARD!G376","v":-1E-3},{"$f":"SCORECARD!H376","v":-1E-3},{"$f":"IF(NOT(OR(F943>0,G943>0)),\"\",IF(HandicapPlay=\"x\",IF(F943>G943,10,-10),(IF((F943-G943>0),(VLOOKUP(OFFSET(H943,-6,0),(TABLE!WIN),(MATCH(E943,WINCOL,0)+1))),(VLOOKUP(OFFSET(H943,-6,0),(TABLE!LOSE),(MATCH(E943,LOSECOL,0)+1)))))))","v":""}]
[null,{"$f":"SCORECARD!C377","v":" Block 2 Player 5"},null,null,{"$f":"SCORECARD!F377","v":0},{"$f":"SCORECARD!G377","v":-1E-3},{"$f":"SCORECARD!H377","v":-1E-3},{"$f":"IF(NOT(OR(F944>0,G944>0)),\"\",IF(HandicapPlay=\"x\",IF(F944>G944,10,-10),(IF((F944-G944>0),(VLOOKUP(OFFSET(H944,-7,0),(TABLE!WIN),(MATCH(E944,WINCOL,0)+1))),(VLOOKUP(OFFSET(H944,-7,0),(TABLE!LOSE),(MATCH(E944,LOSECOL,0)+1)))))))","v":""}]
[null,{"$f":"SCORECARD!C378","v":" Block 2 Player 6"},null,null,{"$f":"SCORECARD!F378","v":0},{"$f":"SCORECARD!G378","v":-1E-3},{"$f":"SCORECARD!H378","v":-1E-3},{"$f":"IF(NOT(OR(F945>0,G945>0)),\"\",IF(HandicapPlay=\"x\",IF(F945>G945,10,-10),(IF((F945-G945>0),(VLOOKUP(OFFSET(H945,-8,0),(TABLE!WIN),(MATCH(E945,WINCOL,0)+1))),(VLOOKUP(OFFSET(H945,-8,0),(TABLE!LOSE),(MATCH(E945,LOSECOL,0)+1)))))))","v":""}]
[null,{"$f":"SCORECARD!C379","v":" Block 2 Player 7"},null,null,{"$f":"SCORECARD!F379","v":0},{"$f":"SCORECARD!G379","v":-1E-3},{"$f":"SCORECARD!H379","v":-1E-3},{"$f":"IF(NOT(OR(F946>0,G946>0)),\"\",IF(HandicapPlay=\"x\",IF(F946>G946,10,-10),(IF((F946-G946>0),(VLOOKUP(OFFSET(H946,-9,0),(TABLE!WIN),(MATCH(E946,WINCOL,0)+1))),(VLOOKUP(OFFSET(H946,-9,0),(TABLE!LOSE),(MATCH(E946,LOSECOL,0)+1)))))))","v":""}]
[null,{"$f":"SCORECARD!C380","v":" Block 2 Player 9"},null,null,{"$f":"SCORECARD!F380","v":0},{"$f":"SCORECARD!G380","v":-1E-3},{"$f":"SCORECARD!H380","v":-1E-3},{"$f":"IF(NOT(OR(F947>0,G947>0)),\"\",IF(HandicapPlay=\"x\",IF(F947>G947,10,-10),(IF((F947-G947>0),(VLOOKUP(OFFSET(H947,-10,0),(TABLE!WIN),(MATCH(E947,WINCOL,0)+1))),(VLOOKUP(OFFSET(H947,-10,0),(TABLE!LOSE),(MATCH(E947,LOSECOL,0)+1)))))))","v":""}]
[null,{"$f":"SCORECARD!C381","v":" Block 2 Player 10"},null,null,{"$f":"SCORECARD!F381","v":0},{"$f":"SCORECARD!G381","v":-1E-3},{"$f":"SCORECARD!H381","v":-1E-3},{"$f":"IF(NOT(OR(F948>0,G948>0)),\"\",IF(HandicapPlay=\"x\",IF(F948>G948,10,-10),(IF((F948-G948>0),(VLOOKUP(OFFSET(H948,-11,0),(TABLE!WIN),(MATCH(E948,WINCOL,0)+1))),(VLOOKUP(OFFSET(H948,-11,0),(TABLE!LOSE),(MATCH(E948,LOSECOL,0)+1)))))))","v":""}]
[]
[]
[]
[]
[]
[]
[]
[]
[null,null,null,null,null,null,"Handicap adjustment points total   ",{"$f":"SUM(H940:H948)","v":0}]
[]
[]
[]
[]
[]
[]
[]
[]
[]
[]
[]
[]
[{"$f":"note1","v":"Time limit 2.5 hours, Turn After Bell (61.1.6). Quadway hoops (3 11/16\"), Dawson International balls"}]
[{"$f":"note2","v":"Games may start early. Please be at the venue at least 30 minutes earlier than the scheduled start time."}]
[{"$f":"note3","v":"Entry Fee $40 will be invoiced by email. Please pay by EFT using the invoice No. as reference."}]
[{"$f":"note4","v":"Players please assist with setting and clearing courts."}]
[null,null,null,null,{"$f":"BLOCK!AA43","v":" Block 2 Player 9"}]
[null,null,null,null,{"$f":"BLOCK!I39","v":"TOURNAMENT"}]
[null,null,null,null,{"$f":"BLOCK!I41","v":"GROUP"}]
[null,null,null,null,{"$f":"BLOCK!B43","v":"BLOCK 2"}]
[]
[null,null,null,null,"BLOCK PLAY SCHEDULE"]
[null,"TIME","DAY","COURT",null,"OPPONENT",null,"HANDICAP","PS","OS"]
[null,{"$f":"GAMES!B52","v":"00:00:00"},{"$f":"GAMES!C52","v":"00:00:00"},{"$f":"GAMES!D52","v":0},null,{"$f":"GAMES!E52","v":" Block 2 Player 2"},null,{"$f":"$E$995","v":0},{"$f":"$F$995","v":-1E-3},{"$f":"$G$995","v":-1E-3}]
[null,{"$f":"GAMES!B56","v":"00:00:00"},{"$f":"GAMES!C56","v":"00:00:00"},{"$f":"GAMES!D56","v":0},null,{"$f":"GAMES!E56","v":" Block 2 Player 1"},null,{"$f":"$E$994","v":0},{"$f":"$F$994","v":-1E-3},{"$f":"$G$994","v":-1E-3}]
[null,{"$f":"GAMES!B62","v":"00:00:00"},{"$f":"GAMES!C62","v":"00:00:00"},{"$f":"GAMES!D62","v":0},null,{"$f":"GAMES!E62","v":" Block 2 Player 7"},null,{"$f":"$E$1000","v":0},{"$f":"$F$1000","v":-1E-3},{"$f":"$G$1000","v":-1E-3}]
[null,{"$f":"GAMES!B68","v":"00:00:00"},{"$f":"GAMES!C68","v":"00:00:00"},{"$f":"GAMES!D68","v":0},null,{"$f":"GAMES!E68","v":" Block 2 Player 5"},null,{"$f":"$E$998","v":0},{"$f":"$F$998","v":-1E-3},{"$f":"$G$998","v":-1E-3}]
[null,{"$f":"GAMES!B74","v":"00:00:00"},{"$f":"GAMES!C74","v":"00:00:00"},{"$f":"GAMES!D74","v":0},null,{"$f":"GAMES!E74","v":" Block 2 Player 3"},null,{"$f":"$E$996","v":0},{"$f":"$F$996","v":-1E-3},{"$f":"$G$996","v":-1E-3}]
[null,{"$f":"GAMES!B80","v":"00:00:00"},{"$f":"GAMES!C80","v":"00:00:00"},{"$f":"GAMES!D80","v":0},null,{"$f":"GAMES!E80","v":" Block 2 Player 10"},null,{"$f":"$E$1002","v":0},{"$f":"$F$1002","v":-1E-3},{"$f":"$G$1002","v":-1E-3}]
[null,{"$f":"GAMES!B85","v":"00:00:00"},{"$f":"GAMES!C85","v":"00:00:00"},{"$f":"GAMES!D85","v":0},null,{"$f":"GAMES!G85","v":" Block 2 Player 8"},null,{"$f":"$E$1001","v":0},{"$f":"$F$1001","v":-1E-3},{"$f":"$G$1001","v":-1E-3}]
[null,{"$f":"GAMES!B89","v":"00:00:00"},{"$f":"GAMES!C89","v":"00:00:00"},{"$f":"GAMES!D89","v":0},null,{"$f":"GAMES!G89","v":" Block 2 Player 6"},null,{"$f":"$E$999","v":0},{"$f":"$F$999","v":-1E-3},{"$f":"$G$999","v":-1E-3}]
[null,{"$f":"GAMES!B93","v":"00:00:00"},{"$f":"GAMES!C93","v":"00:00:00"},{"$f":"GAMES!D93","v":0},null,{"$f":"GAMES!G93","v":" Block 2 Player 4"},null,{"$f":"$E$997","v":0},{"$f":"$F$997","v":-1E-3},{"$f":"$G$997","v":-1E-3}]
[]
[null,"PLAYER:",{"$f":"BLOCK!AA43","v":" Block 2 Player 9"},null,null,null,"HANDICAP",{"$f":"BLOCK!B70","v":0}]
[null,null,null,null,"OPP","PLAYER","OPP","H/CAP"]
[null,null,"OPPONENT",null,"HCP","SCORE","SCORE","PTS"]
[null,{"$f":"SCORECARD!C396","v":" Block 2 Player 1"},null,null,{"$f":"SCORECARD!F396","v":0},{"$f":"SCORECARD!G396","v":-1E-3},{"$f":"SCORECARD!H396","v":-1E-3},{"$f":"IF(NOT(OR(F994>0,G994>0)),\"\",IF(HandicapPlay=\"x\",IF(F994>G994,10,-10),(IF((F994-G994>0),(VLOOKUP(OFFSET(H994,-3,0),(TABLE!WIN),(MATCH(E994,WINCOL,0)+1))),(VLOOKUP(OFFSET(H994,-3,0),(TABLE!LOSE),(MATCH(E994,LOSECOL,0)+1)))))))","v":""}]
[null,{"$f":"SCORECARD!C397","v":" Block 2 Player 2"},null,null,{"$f":"SCORECARD!F397","v":0},{"$f":"SCORECARD!G397","v":-1E-3},{"$f":"SCORECARD!H397","v":-1E-3},{"$f":"IF(NOT(OR(F995>0,G995>0)),\"\",IF(HandicapPlay=\"x\",IF(F995>G995,10,-10),(IF((F995-G995>0),(VLOOKUP(OFFSET(H995,-4,0),(TABLE!WIN),(MATCH(E995,WINCOL,0)+1))),(VLOOKUP(OFFSET(H995,-4,0),(TABLE!LOSE),(MATCH(E995,LOSECOL,0)+1)))))))","v":""}]
[null,{"$f":"SCORECARD!C398","v":" Block 2 Player 3"},null,null,{"$f":"SCORECARD!F398","v":0},{"$f":"SCORECARD!G398","v":-1E-3},{"$f":"SCORECARD!H398","v":-1E-3},{"$f":"IF(NOT(OR(F996>0,G996>0)),\"\",IF(HandicapPlay=\"x\",IF(F996>G996,10,-10),(IF((F996-G996>0),(VLOOKUP(OFFSET(H996,-5,0),(TABLE!WIN),(MATCH(E996,WINCOL,0)+1))),(VLOOKUP(OFFSET(H996,-5,0),(TABLE!LOSE),(MATCH(E996,LOSECOL,0)+1)))))))","v":""}]
[null,{"$f":"SCORECARD!C399","v":" Block 2 Player 4"},null,null,{"$f":"SCORECARD!F399","v":0},{"$f":"SCORECARD!G399","v":-1E-3},{"$f":"SCORECARD!H399","v":-1E-3},{"$f":"IF(NOT(OR(F997>0,G997>0)),\"\",IF(HandicapPlay=\"x\",IF(F997>G997,10,-10),(IF((F997-G997>0),(VLOOKUP(OFFSET(H997,-6,0),(TABLE!WIN),(MATCH(E997,WINCOL,0)+1))),(VLOOKUP(OFFSET(H997,-6,0),(TABLE!LOSE),(MATCH(E997,LOSECOL,0)+1)))))))","v":""}]
[null,{"$f":"SCORECARD!C400","v":" Block 2 Player 5"},null,null,{"$f":"SCORECARD!F400","v":0},{"$f":"SCORECARD!G400","v":-1E-3},{"$f":"SCORECARD!H400","v":-1E-3},{"$f":"IF(NOT(OR(F998>0,G998>0)),\"\",IF(HandicapPlay=\"x\",IF(F998>G998,10,-10),(IF((F998-G998>0),(VLOOKUP(OFFSET(H998,-7,0),(TABLE!WIN),(MATCH(E998,WINCOL,0)+1))),(VLOOKUP(OFFSET(H998,-7,0),(TABLE!LOSE),(MATCH(E998,LOSECOL,0)+1)))))))","v":""}]
[null,{"$f":"SCORECARD!C401","v":" Block 2 Player 6"},null,null,{"$f":"SCORECARD!F401","v":0},{"$f":"SCORECARD!G401","v":-1E-3},{"$f":"SCORECARD!H401","v":-1E-3},{"$f":"IF(NOT(OR(F999>0,G999>0)),\"\",IF(HandicapPlay=\"x\",IF(F999>G999,10,-10),(IF((F999-G999>0),(VLOOKUP(OFFSET(H999,-8,0),(TABLE!WIN),(MATCH(E999,WINCOL,0)+1))),(VLOOKUP(OFFSET(H999,-8,0),(TABLE!LOSE),(MATCH(E999,LOSECOL,0)+1)))))))","v":""}]
[null,{"$f":"SCORECARD!C402","v":" Block 2 Player 7"},null,null,{"$f":"SCORECARD!F402","v":0},{"$f":"SCORECARD!G402","v":-1E-3},{"$f":"SCORECARD!H402","v":-1E-3},{"$f":"IF(NOT(OR(F1000>0,G1000>0)),\"\",IF(HandicapPlay=\"x\",IF(F1000>G1000,10,-10),(IF((F1000-G1000>0),(VLOOKUP(OFFSET(H1000,-9,0),(TABLE!WIN),(MATCH(E1000,WINCOL,0)+1))),(VLOOKUP(OFFSET(H1000,-9,0),(TABLE!LOSE),(MATCH(E1000,LOSECOL,0)+1)))))))","v":""}]
[null,{"$f":"SCORECARD!C403","v":" Block 2 Player 8"},null,null,{"$f":"SCORECARD!F403","v":0},{"$f":"SCORECARD!G403","v":-1E-3},{"$f":"SCORECARD!H403","v":-1E-3},{"$f":"IF(NOT(OR(F1001>0,G1001>0)),\"\",IF(HandicapPlay=\"x\",IF(F1001>G1001,10,-10),(IF((F1001-G1001>0),(VLOOKUP(OFFSET(H1001,-10,0),(TABLE!WIN),(MATCH(E1001,WINCOL,0)+1))),(VLOOKUP(OFFSET(H1001,-10,0),(TABLE!LOSE),(MATCH(E1001,LOSECOL,0)+1)))))))","v":""}]
[null,{"$f":"SCORECARD!C404","v":" Block 2 Player 10"},null,null,{"$f":"SCORECARD!F404","v":0},{"$f":"SCORECARD!G404","v":-1E-3},{"$f":"SCORECARD!H404","v":-1E-3},{"$f":"IF(NOT(OR(F1002>0,G1002>0)),\"\",IF(HandicapPlay=\"x\",IF(F1002>G1002,10,-10),(IF((F1002-G1002>0),(VLOOKUP(OFFSET(H1002,-11,0),(TABLE!WIN),(MATCH(E1002,WINCOL,0)+1))),(VLOOKUP(OFFSET(H1002,-11,0),(TABLE!LOSE),(MATCH(E1002,LOSECOL,0)+1)))))))","v":""}]
[]
[]
[]
[]
[]
[]
[]
[]
[null,null,null,null,null,null,"Handicap adjustment points total   ",{"$f":"SUM(H994:H1002)","v":0}]
[]
[]
[]
[]
[]
[]
[]
[]
[]
[]
[]
[]
[{"$f":"note1","v":"Time limit 2.5 hours, Turn After Bell (61.1.6). Quadway hoops (3 11/16\"), Dawson International balls"}]
[{"$f":"note2","v":"Games may start early. Please be at the venue at least 30 minutes earlier than the scheduled start time."}]
[{"$f":"note3","v":"Entry Fee $40 will be invoiced by email. Please pay by EFT using the invoice No. as reference."}]
[{"$f":"note4","v":"Players please assist with setting and clearing courts."}]
[null,null,null,null,{"$f":"BLOCK!AD43","v":" Block 2 Player 10"}]
[null,null,null,null,{"$f":"BLOCK!I39","v":"TOURNAMENT"}]
[null,null,null,null,{"$f":"BLOCK!I41","v":"GROUP"}]
[null,null,null,null,{"$f":"BLOCK!B43","v":"BLOCK 2"}]
[]
[null,null,null,null,"BLOCK PLAY SCHEDULE"]
[null,"TIME","DAY","COURT",null,"OPPONENT",null,"HANDICAP","PS","OS"]
[null,{"$f":"GAMES!B51","v":"00:00:00"},{"$f":"GAMES!C51","v":"00:00:00"},{"$f":"GAMES!D51","v":0},null,{"$f":"GAMES!E51","v":" Block 2 Player 1"},null,{"$f":"$E$1048","v":0},{"$f":"$F$1048","v":-1E-3},{"$f":"$G$1048","v":-1E-3}]
[null,{"$f":"GAMES!B57","v":"00:00:00"},{"$f":"GAMES!C57","v":"00:00:00"},{"$f":"GAMES!D57","v":0},null,{"$f":"GAMES!E57","v":" Block 2 Player 8"},null,{"$f":"$E$1055","v":0},{"$f":"$F$1055","v":-1E-3},{"$f":"$G$1055","v":-1E-3}]
[null,{"$f":"GAMES!B63","v":"00:00:00"},{"$f":"GAMES!C63","v":"00:00:00"},{"$f":"GAMES!D63","v":0},null,{"$f":"GAMES!E63","v":" Block 2 Player 6"},null,{"$f":"$E$1053","v":0},{"$f":"$F$1053","v":-1E-3},{"$f":"$G$1053","v":-1E-3}]
[null,{"$f":"GAMES!B69","v":"00:00:00"},{"$f":"GAMES!C69","v":"00:00:00"},{"$f":"GAMES!D69","v":0},null,{"$f":"GAMES!E69","v":" Block 2 Player 4"},null,{"$f":"$E$1051","v":0},{"$f":"$F$1051","v":-1E-3},{"$f":"$G$1051","v":-1E-3}]
[null,{"$f":"GAMES!B75","v":"00:00:00"},{"$f":"GAMES!C75","v":"00:00:00"},{"$f":"GAMES!D75","v":0},null,{"$f":"GAMES!E75","v":" Block 2 Player 2"},null,{"$f":"$E$1049","v":0},{"$f":"$F$1049","v":-1E-3},{"$f":"$G$1049","v":-1E-3}]
[null,{"$f":"GAMES!B80","v":"00:00:00"},{"$f":"GAMES!C80","v":"00:00:00"},{"$f":"GAMES!D80","v":0},null,{"$f":"GAMES!G80","v":" Block 2 Player 9"},null,{"$f":"$E$1056","v":0},{"$f":"$F$1056","v":-1E-3},{"$f":"$G$1056","v":-1E-3}]
[null,{"$f":"GAMES!B84","v":"00:00:00"},{"$f":"GAMES!C84","v":"00:00:00"},{"$f":"GAMES!D84","v":0},null,{"$f":"GAMES!G84","v":" Block 2 Player 7"},null,{"$f":"$E$1054","v":0},{"$f":"$F$1054","v":-1E-3},{"$f":"$G$1054","v":-1E-3}]
[null,{"$f":"GAMES!B88","v":"00:00:00"},{"$f":"GAMES!C88","v":"00:00:00"},{"$f":"GAMES!D88","v":0},null,{"$f":"GAMES!G88","v":" Block 2 Player 5"},null,{"$f":"$E$1052","v":0},{"$f":"$F$1052","v":-1E-3},{"$f":"$G$1052","v":-1E-3}]
[null,{"$f":"GAMES!B92","v":"00:00:00"},{"$f":"GAMES!C92","v":"00:00:00"},{"$f":"GAMES!D92","v":0},null,{"$f":"GAMES!G92","v":" Block 2 Player 3"},null,{"$f":"$E$1050","v":0},{"$f":"$F$1050","v":-1E-3},{"$f":"$G$1050","v":-1E-3}]
[]
[null,"PLAYER:",{"$f":"BLOCK!AD43","v":" Block 2 Player 10"},null,null,null,"HANDICAP",{"$f":"BLOCK!B73","v":0}]
[null,null,null,null,"OPP","PLAYER","OPP","H/CAP"]
[null,null,"OPPONENT",null,"HCP","SCORE","SCORE","PTS"]
[null,{"$f":"SCORECARD!C416","v":" Block 2 Player 1"},null,null,{"$f":"SCORECARD!F416","v":0},{"$f":"SCORECARD!G416","v":-1E-3},{"$f":"SCORECARD!H416","v":-1E-3},{"$f":"IF(NOT(OR(F1048>0,G1048>0)),\"\",IF(HandicapPlay=\"x\",IF(F1048>G1048,10,-10),(IF((F1048-G1048>0),(VLOOKUP(OFFSET(H1048,-3,0),(TABLE!WIN),(MATCH(E1048,WINCOL,0)+1))),(VLOOKUP(OFFSET(H1048,-3,0),(TABLE!LOSE),(MATCH(E1048,LOSECOL,0)+1)))))))","v":""}]
[null,{"$f":"SCORECARD!C417","v":" Block 2 Player 2"},null,null,{"$f":"SCORECARD!F417","v":0},{"$f":"SCORECARD!G417","v":-1E-3},{"$f":"SCORECARD!H417","v":-1E-3},{"$f":"IF(NOT(OR(F1049>0,G1049>0)),\"\",IF(HandicapPlay=\"x\",IF(F1049>G1049,10,-10),(IF((F1049-G1049>0),(VLOOKUP(OFFSET(H1049,-4,0),(TABLE!WIN),(MATCH(E1049,WINCOL,0)+1))),(VLOOKUP(OFFSET(H1049,-4,0),(TABLE!LOSE),(MATCH(E1049,LOSECOL,0)+1)))))))","v":""}]
[null,{"$f":"SCORECARD!C418","v":" Block 2 Player 3"},null,null,{"$f":"SCORECARD!F418","v":0},{"$f":"SCORECARD!G418","v":-1E-3},{"$f":"SCORECARD!H418","v":-1E-3},{"$f":"IF(NOT(OR(F1050>0,G1050>0)),\"\",IF(HandicapPlay=\"x\",IF(F1050>G1050,10,-10),(IF((F1050-G1050>0),(VLOOKUP(OFFSET(H1050,-5,0),(TABLE!WIN),(MATCH(E1050,WINCOL,0)+1))),(VLOOKUP(OFFSET(H1050,-5,0),(TABLE!LOSE),(MATCH(E1050,LOSECOL,0)+1)))))))","v":""}]
[null,{"$f":"SCORECARD!C419","v":" Block 2 Player 4"},null,null,{"$f":"SCORECARD!F419","v":0},{"$f":"SCORECARD!G419","v":-1E-3},{"$f":"SCORECARD!H419","v":-1E-3},{"$f":"IF(NOT(OR(F1051>0,G1051>0)),\"\",IF(HandicapPlay=\"x\",IF(F1051>G1051,10,-10),(IF((F1051-G1051>0),(VLOOKUP(OFFSET(H1051,-6,0),(TABLE!WIN),(MATCH(E1051,WINCOL,0)+1))),(VLOOKUP(OFFSET(H1051,-6,0),(TABLE!LOSE),(MATCH(E1051,LOSECOL,0)+1)))))))","v":""}]
[null,{"$f":"SCORECARD!C420","v":" Block 2 Player 5"},null,null,{"$f":"SCORECARD!F420","v":0},{"$f":"SCORECARD!G420","v":-1E-3},{"$f":"SCORECARD!H420","v":-1E-3},{"$f":"IF(NOT(OR(F1052>0,G1052>0)),\"\",IF(HandicapPlay=\"x\",IF(F1052>G1052,10,-10),(IF((F1052-G1052>0),(VLOOKUP(OFFSET(H1052,-7,0),(TABLE!WIN),(MATCH(E1052,WINCOL,0)+1))),(VLOOKUP(OFFSET(H1052,-7,0),(TABLE!LOSE),(MATCH(E1052,LOSECOL,0)+1)))))))","v":""}]
[null,{"$f":"SCORECARD!C421","v":" Block 2 Player 6"},null,null,{"$f":"SCORECARD!F421","v":0},{"$f":"SCORECARD!G421","v":-1E-3},{"$f":"SCORECARD!H421","v":-1E-3},{"$f":"IF(NOT(OR(F1053>0,G1053>0)),\"\",IF(HandicapPlay=\"x\",IF(F1053>G1053,10,-10),(IF((F1053-G1053>0),(VLOOKUP(OFFSET(H1053,-8,0),(TABLE!WIN),(MATCH(E1053,WINCOL,0)+1))),(VLOOKUP(OFFSET(H1053,-8,0),(TABLE!LOSE),(MATCH(E1053,LOSECOL,0)+1)))))))","v":""}]
[null,{"$f":"SCORECARD!C422","v":" Block 2 Player 7"},null,null,{"$f":"SCORECARD!F422","v":0},{"$f":"SCORECARD!G422","v":-1E-3},{"$f":"SCORECARD!H422","v":-1E-3},{"$f":"IF(NOT(OR(F1054>0,G1054>0)),\"\",IF(HandicapPlay=\"x\",IF(F1054>G1054,10,-10),(IF((F1054-G1054>0),(VLOOKUP(OFFSET(H1054,-9,0),(TABLE!WIN),(MATCH(E1054,WINCOL,0)+1))),(VLOOKUP(OFFSET(H1054,-9,0),(TABLE!LOSE),(MATCH(E1054,LOSECOL,0)+1)))))))","v":""}]
[null,{"$f":"SCORECARD!C423","v":" Block 2 Player 8"},null,null,{"$f":"SCORECARD!F423","v":0},{"$f":"SCORECARD!G423","v":-1E-3},{"$f":"SCORECARD!H423","v":-1E-3},{"$f":"IF(NOT(OR(F1055>0,G1055>0)),\"\",IF(HandicapPlay=\"x\",IF(F1055>G1055,10,-10),(IF((F1055-G1055>0),(VLOOKUP(OFFSET(H1055,-10,0),(TABLE!WIN),(MATCH(E1055,WINCOL,0)+1))),(VLOOKUP(OFFSET(H1055,-10,0),(TABLE!LOSE),(MATCH(E1055,LOSECOL,0)+1)))))))","v":""}]
[null,{"$f":"SCORECARD!C424","v":" Block 2 Player 9"},null,null,{"$f":"SCORECARD!F424","v":0},{"$f":"SCORECARD!G424","v":-1E-3},{"$f":"SCORECARD!H424","v":-1E-3},{"$f":"IF(NOT(OR(F1056>0,G1056>0)),\"\",IF(HandicapPlay=\"x\",IF(F1056>G1056,10,-10),(IF((F1056-G1056>0),(VLOOKUP(OFFSET(H1056,-11,0),(TABLE!WIN),(MATCH(E1056,WINCOL,0)+1))),(VLOOKUP(OFFSET(H1056,-11,0),(TABLE!LOSE),(MATCH(E1056,LOSECOL,0)+1)))))))","v":""}]
[]
[]
[]
[]
[]
[]
[]
[]
[null,null,null,null,null,null,"Handicap adjustment points total   ",{"$f":"SUM(H1048:H1056)","v":0}]
[]
[]
[]
[]
[]
[]
[]
[]
[]
[]
[]
[]
[{"$f":"note1","v":"Time limit 2.5 hours, Turn After Bell (61.1.6). Quadway hoops (3 11/16\"), Dawson International balls"}]
[{"$f":"note2","v":"Games may start early. Please be at the venue at least 30 minutes earlier than the scheduled start time."}]
[{"$f":"note3","v":"Entry Fee $40 will be invoiced by email. Please pay by EFT using the invoice No. as reference."}]
[{"$f":"note4","v":"Players please assist with setting and clearing courts."}]

{"sheet":"WORLD RANKING RESULTS","index":11,"n_rows":286,"n_cols":13,"rows_kept":286,"cut":false,"hidden":false,"merged":[]}
[]
[]
["BLOCK 1",null,"Name",null,"Name","Margin","Peels","Time","Day",null,"LU Name","Score","Peels"]
[null,null,{"$f":"IF(L4<0,\"\",IF(L4>L5,K4,K5))","v":""},"beat",{"$f":"IF(L4<0,\"\",IF(L4>L5,K5,K4))","v":""},{"$f":"IF(L4>L5,L4-L5,L5-L4)","v":0},{"$f":"IF(C4=\"\",\"\",IF(ISTEXT(M4),M4,IF(ISTEXT(M5),M5,\"\")))","v":""},{"$f":"GAMES!B3","v":"00:00:00"},{"$f":"GAMES!C3","v":"00:00:00"},null,{"$f":"RESULTS!C4","v":" Block 1 Player 1"},{"$f":"RESULTS!D4","v":-1E-3},{"$f":"RESULTS!E4","v":-1E-3}]
[null,null,{"$f":"IF(L6<0,\"\",IF(L6>L7,K6,K7))","v":""},"beat",{"$f":"IF(L6<0,\"\",IF(L6>L7,K7,K6))","v":""},{"$f":"IF(L6>L7,L6-L7,L7-L6)","v":0},{"$f":"IF(C5=\"\",\"\",IF(ISTEXT(M6),M6,IF(ISTEXT(M7),M7,\"\")))","v":""},{"$f":"GAMES!B4","v":"00:00:00"},{"$f":"GAMES!C4","v":"00:00:00"},null,{"$f":"RESULTS!C5","v":" Block 1 Player 10"},{"$f":"RESULTS!D5","v":-1E-3},{"$f":"RESULTS!E5","v":-1E-3}]
[null,null,{"$f":"IF(L8<0,\"\",IF(L8>L9,K8,K9))","v":""},"beat",{"$f":"IF(L8<0,\"\",IF(L8>L9,K9,K8))","v":""},{"$f":"IF(L8>L9,L8-L9,L9-L8)","v":0},{"$f":"IF(C6=\"\",\"\",IF(ISTEXT(M8),M8,IF(ISTEXT(M9),M9,\"\")))","v":""},{"$f":"GAMES!B5","v":"00:00:00"},{"$f":"GAMES!C5","v":"00:00:00"},null,{"$f":"RESULTS!C6","v":" Block 1 Player 2"},{"$f":"RESULTS!D6","v":-1E-3},{"$f":"RESULTS!E6","v":-1E-3}]
[null,null,{"$f":"IF(L10<0,\"\",IF(L10>L11,K10,K11))","v":""},"beat",{"$f":"IF(L10<0,\"\",IF(L10>L11,K11,K10))","v":""},{"$f":"IF(L10>L11,L10-L11,L11-L10)","v":0},{"$f":"IF(C7=\"\",\"\",IF(ISTEXT(M10),M10,IF(ISTEXT(M11),M11,\"\")))","v":""},{"$f":"GAMES!B6","v":"00:00:00"},{"$f":"GAMES!C6","v":"00:00:00"},null,{"$f":"RESULTS!C7","v":" Block 1 Player 9"},{"$f":"RESULTS!D7","v":-1E-3},{"$f":"RESULTS!E7","v":-1E-3}]
[null,null,{"$f":"IF(L12<0,\"\",IF(L12>L13,K12,K13))","v":""},"beat",{"$f":"IF(L12<0,\"\",IF(L12>L13,K13,K12))","v":""},{"$f":"IF(L12>L13,L12-L13,L13-L12)","v":0},{"$f":"IF(C8=\"\",\"\",IF(ISTEXT(M12),M12,IF(ISTEXT(M13),M13,\"\")))","v":""},{"$f":"GAMES!B7","v":"00:00:00"},{"$f":"GAMES!C7","v":"00:00:00"},null,{"$f":"RESULTS!C8","v":" Block 1 Player 3"},{"$f":"RESULTS!D8","v":-1E-3},{"$f":"RESULTS!E8","v":-1E-3}]
[null,null,{"$f":"IF(L14<0,\"\",IF(L14>L15,K14,K15))","v":""},"beat",{"$f":"IF(L14<0,\"\",IF(L14>L15,K15,K14))","v":""},{"$f":"IF(L14>L15,L14-L15,L15-L14)","v":0},{"$f":"IF(C9=\"\",\"\",IF(ISTEXT(M14),M14,IF(ISTEXT(M15),M15,\"\")))","v":""},{"$f":"GAMES!B8","v":"00:00:00"},{"$f":"GAMES!C8","v":"00:00:00"},null,{"$f":"RESULTS!C9","v":" Block 1 Player 8"},{"$f":"RESULTS!D9","v":-1E-3},{"$f":"RESULTS!E9","v":-1E-3}]
[null,null,{"$f":"IF(L16<0,\"\",IF(L16>L17,K16,K17))","v":""},"beat",{"$f":"IF(L16<0,\"\",IF(L16>L17,K17,K16))","v":""},{"$f":"IF(L16>L17,L16-L17,L17-L16)","v":0},{"$f":"IF(C10=\"\",\"\",IF(ISTEXT(M16),M16,IF(ISTEXT(M17),M17,\"\")))","v":""},{"$f":"GAMES!B9","v":"00:00:00"},{"$f":"GAMES!C9","v":"00:00:00"},null,{"$f":"RESULTS!C10","v":" Block 1 Player 4"},{"$f":"RESULTS!D10","v":-1E-3},{"$f":"RESULTS!E10","v":-1E-3}]
[null,null,{"$f":"IF(L18<0,\"\",IF(L18>L19,K18,K19))","v":""},"beat",{"$f":"IF(L18<0,\"\",IF(L18>L19,K19,K18))","v":""},{"$f":"IF(L18>L19,L18-L19,L19-L18)","v":0},{"$f":"IF(C11=\"\",\"\",IF(ISTEXT(M18),M18,IF(ISTEXT(M19),M19,\"\")))","v":""},{"$f":"GAMES!B10","v":"00:00:00"},{"$f":"GAMES!C10","v":"00:00:00"},null,{"$f":"RESULTS!C11","v":" Block 1 Player 7"},{"$f":"RESULTS!D11","v":-1E-3},{"$f":"RESULTS!E11","v":-1E-3}]
[null,null,{"$f":"IF(L20<0,\"\",IF(L20>L21,K20,K21))","v":""},"beat",{"$f":"IF(L20<0,\"\",IF(L20>L21,K21,K20))","v":""},{"$f":"IF(L20>L21,L20-L21,L21-L20)","v":0},{"$f":"IF(C12=\"\",\"\",IF(ISTEXT(M20),M20,IF(ISTEXT(M21),M21,\"\")))","v":""},{"$f":"GAMES!B11","v":"00:00:00"},{"$f":"GAMES!C11","v":"00:00:00"},null,{"$f":"RESULTS!C12","v":" Block 1 Player 5"},{"$f":"RESULTS!D12","v":-1E-3},{"$f":"RESULTS!E12","v":-1E-3}]
[null,null,{"$f":"IF(L22<0,\"\",IF(L22>L23,K22,K23))","v":""},"beat",{"$f":"IF(L22<0,\"\",IF(L22>L23,K23,K22))","v":""},{"$f":"IF(L22>L23,L22-L23,L23-L22)","v":0},{"$f":"IF(C13=\"\",\"\",IF(ISTEXT(M22),M22,IF(ISTEXT(M23),M23,\"\")))","v":""},{"$f":"GAMES!B12","v":"00:00:00"},{"$f":"GAMES!C12","v":"00:00:00"},null,{"$f":"RESULTS!C13","v":" Block 1 Player 6"},{"$f":"RESULTS!D13","v":-1E-3},{"$f":"RESULTS!E13","v":-1E-3}]
[null,null,{"$f":"IF(L24<0,\"\",IF(L24>L25,K24,K25))","v":""},"beat",{"$f":"IF(L24<0,\"\",IF(L24>L25,K25,K24))","v":""},{"$f":"IF(L24>L25,L24-L25,L25-L24)","v":0},{"$f":"IF(C14=\"\",\"\",IF(ISTEXT(M24),M24,IF(ISTEXT(M25),M25,\"\")))","v":""},{"$f":"GAMES!B13","v":"00:00:00"},{"$f":"GAMES!C13","v":"00:00:00"},null,{"$f":"RESULTS!C14","v":" Block 1 Player 1"},{"$f":"RESULTS!D14","v":-1E-3},{"$f":"RESULTS!E14","v":-1E-3}]
[null,null,{"$f":"IF(L26<0,\"\",IF(L26>L27,K26,K27))","v":""},"beat",{"$f":"IF(L26<0,\"\",IF(L26>L27,K27,K26))","v":""},{"$f":"IF(L26>L27,L26-L27,L27-L26)","v":0},{"$f":"IF(C15=\"\",\"\",IF(ISTEXT(M26),M26,IF(ISTEXT(M27),M27,\"\")))","v":""},{"$f":"GAMES!B14","v":"00:00:00"},{"$f":"GAMES!C14","v":"00:00:00"},null,{"$f":"RESULTS!C15","v":" Block 1 Player 9"},{"$f":"RESULTS!D15","v":-1E-3},{"$f":"RESULTS!E15","v":-1E-3}]
[null,null,{"$f":"IF(L28<0,\"\",IF(L28>L29,K28,K29))","v":""},"beat",{"$f":"IF(L28<0,\"\",IF(L28>L29,K29,K28))","v":""},{"$f":"IF(L28>L29,L28-L29,L29-L28)","v":0},{"$f":"IF(C16=\"\",\"\",IF(ISTEXT(M28),M28,IF(ISTEXT(M29),M29,\"\")))","v":""},{"$f":"GAMES!B15","v":"00:00:00"},{"$f":"GAMES!C15","v":"00:00:00"},null,{"$f":"RESULTS!C16","v":" Block 1 Player 8"},{"$f":"RESULTS!D16","v":-1E-3},{"$f":"RESULTS!E16","v":-1E-3}]
[null,null,{"$f":"IF(L30<0,\"\",IF(L30>L31,K30,K31))","v":""},"beat",{"$f":"IF(L30<0,\"\",IF(L30>L31,K31,K30))","v":""},{"$f":"IF(L30>L31,L30-L31,L31-L30)","v":0},{"$f":"IF(C17=\"\",\"\",IF(ISTEXT(M30),M30,IF(ISTEXT(M31),M31,\"\")))","v":""},{"$f":"GAMES!B16","v":"00:00:00"},{"$f":"GAMES!C16","v":"00:00:00"},null,{"$f":"RESULTS!C17","v":" Block 1 Player 10"},{"$f":"RESULTS!D17","v":-1E-3},{"$f":"RESULTS!E17","v":-1E-3}]
[null,null,{"$f":"IF(L32<0,\"\",IF(L32>L33,K32,K33))","v":""},"beat",{"$f":"IF(L32<0,\"\",IF(L32>L33,K33,K32))","v":""},{"$f":"IF(L32>L33,L32-L33,L33-L32)","v":0},{"$f":"IF(C18=\"\",\"\",IF(ISTEXT(M32),M32,IF(ISTEXT(M33),M33,\"\")))","v":""},{"$f":"GAMES!B17","v":"00:00:00"},{"$f":"GAMES!C17","v":"00:00:00"},null,{"$f":"RESULTS!C18","v":" Block 1 Player 7"},{"$f":"RESULTS!D18","v":-1E-3},{"$f":"RESULTS!E18","v":-1E-3}]
[null,null,{"$f":"IF(L34<0,\"\",IF(L34>L35,K34,K35))","v":""},"beat",{"$f":"IF(L34<0,\"\",IF(L34>L35,K35,K34))","v":""},{"$f":"IF(L34>L35,L34-L35,L35-L34)","v":0},{"$f":"IF(C19=\"\",\"\",IF(ISTEXT(M34),M34,IF(ISTEXT(M35),M35,\"\")))","v":""},{"$f":"GAMES!B18","v":"00:00:00"},{"$f":"GAMES!C18","v":"00:00:00"},null,{"$f":"RESULTS!C19","v":" Block 1 Player 2"},{"$f":"RESULTS!D19","v":-1E-3},{"$f":"RESULTS!E19","v":-1E-3}]
[null,null,{"$f":"IF(L36<0,\"\",IF(L36>L37,K36,K37))","v":""},"beat",{"$f":"IF(L36<0,\"\",IF(L36>L37,K37,K36))","v":""},{"$f":"IF(L36>L37,L36-L37,L37-L36)","v":0},{"$f":"IF(C20=\"\",\"\",IF(ISTEXT(M36),M36,IF(ISTEXT(M37),M37,\"\")))","v":""},{"$f":"GAMES!B19","v":"00:00:00"},{"$f":"GAMES!C19","v":"00:00:00"},null,{"$f":"RESULTS!C20","v":" Block 1 Player 6"},{"$f":"RESULTS!D20","v":-1E-3},{"$f":"RESULTS!E20","v":-1E-3}]
[null,null,{"$f":"IF(L38<0,\"\",IF(L38>L39,K38,K39))","v":""},"beat",{"$f":"IF(L38<0,\"\",IF(L38>L39,K39,K38))","v":""},{"$f":"IF(L38>L39,L38-L39,L39-L38)","v":0},{"$f":"IF(C21=\"\",\"\",IF(ISTEXT(M38),M38,IF(ISTEXT(M39),M39,\"\")))","v":""},{"$f":"GAMES!B20","v":"00:00:00"},{"$f":"GAMES!C20","v":"00:00:00"},null,{"$f":"RESULTS!C21","v":" Block 1 Player 3"},{"$f":"RESULTS!D21","v":-1E-3},{"$f":"RESULTS!E21","v":-1E-3}]
[null,null,{"$f":"IF(L40<0,\"\",IF(L40>L41,K40,K41))","v":""},"beat",{"$f":"IF(L40<0,\"\",IF(L40>L41,K41,K40))","v":""},{"$f":"IF(L40>L41,L40-L41,L41-L40)","v":0},{"$f":"IF(C22=\"\",\"\",IF(ISTEXT(M40),M40,IF(ISTEXT(M41),M41,\"\")))","v":""},{"$f":"GAMES!B21","v":"00:00:00"},{"$f":"GAMES!C21","v":"00:00:00"},null,{"$f":"RESULTS!C22","v":" Block 1 Player 5"},{"$f":"RESULTS!D22","v":-1E-3},{"$f":"RESULTS!E22","v":-1E-3}]
[null,null,{"$f":"IF(L42<0,\"\",IF(L42>L43,K42,K43))","v":""},"beat",{"$f":"IF(L42<0,\"\",IF(L42>L43,K43,K42))","v":""},{"$f":"IF(L42>L43,L42-L43,L43-L42)","v":0},{"$f":"IF(C23=\"\",\"\",IF(ISTEXT(M42),M42,IF(ISTEXT(M43),M43,\"\")))","v":""},{"$f":"GAMES!B22","v":"00:00:00"},{"$f":"GAMES!C22","v":"00:00:00"},null,{"$f":"RESULTS!C23","v":" Block 1 Player 4"},{"$f":"RESULTS!D23","v":-1E-3},{"$f":"RESULTS!E23","v":-1E-3}]
[null,null,{"$f":"IF(L44<0,\"\",IF(L44>L45,K44,K45))","v":""},"beat",{"$f":"IF(L44<0,\"\",IF(L44>L45,K45,K44))","v":""},{"$f":"IF(L44>L45,L44-L45,L45-L44)","v":0},{"$f":"IF(C24=\"\",\"\",IF(ISTEXT(M44),M44,IF(ISTEXT(M45),M45,\"\")))","v":""},{"$f":"GAMES!B23","v":"00:00:00"},{"$f":"GAMES!C23","v":"00:00:00"},null,{"$f":"RESULTS!G4","v":" Block 1 Player 1"},{"$f":"RESULTS!H4","v":-1E-3},{"$f":"RESULTS!I4","v":-1E-3}]
[null,null,{"$f":"IF(L46<0,\"\",IF(L46>L47,K46,K47))","v":""},"beat",{"$f":"IF(L46<0,\"\",IF(L46>L47,K47,K46))","v":""},{"$f":"IF(L46>L47,L46-L47,L47-L46)","v":0},{"$f":"IF(C25=\"\",\"\",IF(ISTEXT(M46),M46,IF(ISTEXT(M47),M47,\"\")))","v":""},{"$f":"GAMES!B24","v":"00:00:00"},{"$f":"GAMES!C24","v":"00:00:00"},null,{"$f":"RESULTS!G5","v":" Block 1 Player 8"},{"$f":"RESULTS!H5","v":-1E-3},{"$f":"RESULTS!I5","v":-1E-3}]
[null,null,{"$f":"IF(L48<0,\"\",IF(L48>L49,K48,K49))","v":""},"beat",{"$f":"IF(L48<0,\"\",IF(L48>L49,K49,K48))","v":""},{"$f":"IF(L48>L49,L48-L49,L49-L48)","v":0},{"$f":"IF(C26=\"\",\"\",IF(ISTEXT(M48),M48,IF(ISTEXT(M49),M49,\"\")))","v":""},{"$f":"GAMES!B25","v":"00:00:00"},{"$f":"GAMES!C25","v":"00:00:00"},null,{"$f":"RESULTS!G6","v":" Block 1 Player 7"},{"$f":"RESULTS!H6","v":-1E-3},{"$f":"RESULTS!I6","v":-1E-3}]
[null,null,{"$f":"IF(L50<0,\"\",IF(L50>L51,K50,K51))","v":""},"beat",{"$f":"IF(L50<0,\"\",IF(L50>L51,K51,K50))","v":""},{"$f":"IF(L50>L51,L50-L51,L51-L50)","v":0},{"$f":"IF(C27=\"\",\"\",IF(ISTEXT(M50),M50,IF(ISTEXT(M51),M51,\"\")))","v":""},{"$f":"GAMES!B26","v":"00:00:00"},{"$f":"GAMES!C26","v":"00:00:00"},null,{"$f":"RESULTS!G7","v":" Block 1 Player 9"},{"$f":"RESULTS!H7","v":-1E-3},{"$f":"RESULTS!I7","v":-1E-3}]
[null,null,{"$f":"IF(L52<0,\"\",IF(L52>L53,K52,K53))","v":""},"beat",{"$f":"IF(L52<0,\"\",IF(L52>L53,K53,K52))","v":""},{"$f":"IF(L52>L53,L52-L53,L53-L52)","v":0},{"$f":"IF(C28=\"\",\"\",IF(ISTEXT(M52),M52,IF(ISTEXT(M53),M53,\"\")))","v":""},{"$f":"GAMES!B27","v":"00:00:00"},{"$f":"GAMES!C27","v":"00:00:00"},null,{"$f":"RESULTS!G8","v":" Block 1 Player 6"},{"$f":"RESULTS!H8","v":-1E-3},{"$f":"RESULTS!I8","v":-1E-3}]
[null,null,{"$f":"IF(L54<0,\"\",IF(L54>L55,K54,K55))","v":""},"beat",{"$f":"IF(L54<0,\"\",IF(L54>L55,K55,K54))","v":""},{"$f":"IF(L54>L55,L54-L55,L55-L54)","v":0},{"$f":"IF(C29=\"\",\"\",IF(ISTEXT(M54),M54,IF(ISTEXT(M55),M55,\"\")))","v":""},{"$f":"GAMES!B28","v":"00:00:00"},{"$f":"GAMES!C28","v":"00:00:00"},null,{"$f":"RESULTS!G9","v":" Block 1 Player 10"},{"$f":"RESULTS!H9","v":-1E-3},{"$f":"RESULTS!I9","v":-1E-3}]
[null,null,{"$f":"IF(L56<0,\"\",IF(L56>L57,K56,K57))","v":""},"beat",{"$f":"IF(L56<0,\"\",IF(L56>L57,K57,K56))","v":""},{"$f":"IF(L56>L57,L56-L57,L57-L56)","v":0},{"$f":"IF(C30=\"\",\"\",IF(ISTEXT(M56),M56,IF(ISTEXT(M57),M57,\"\")))","v":""},{"$f":"GAMES!B29","v":"00:00:00"},{"$f":"GAMES!C29","v":"00:00:00"},null,{"$f":"RESULTS!G10","v":" Block 1 Player 5"},{"$f":"RESULTS!H10","v":-1E-3},{"$f":"RESULTS!I10","v":-1E-3}]
[null,null,{"$f":"IF(L58<0,\"\",IF(L58>L59,K58,K59))","v":""},"beat",{"$f":"IF(L58<0,\"\",IF(L58>L59,K59,K58))","v":""},{"$f":"IF(L58>L59,L58-L59,L59-L58)","v":0},{"$f":"IF(C31=\"\",\"\",IF(ISTEXT(M58),M58,IF(ISTEXT(M59),M59,\"\")))","v":""},{"$f":"GAMES!B30","v":"00:00:00"},{"$f":"GAMES!C30","v":"00:00:00"},null,{"$f":"RESULTS!G11","v":" Block 1 Player 2"},{"$f":"RESULTS!H11","v":-1E-3},{"$f":"RESULTS!I11","v":-1E-3}]
[null,null,{"$f":"IF(L60<0,\"\",IF(L60>L61,K60,K61))","v":""},"beat",{"$f":"IF(L60<0,\"\",IF(L60>L61,K61,K60))","v":""},{"$f":"IF(L60>L61,L60-L61,L61-L60)","v":0},{"$f":"IF(C32=\"\",\"\",IF(ISTEXT(M60),M60,IF(ISTEXT(M61),M61,\"\")))","v":""},{"$f":"GAMES!B31","v":"00:00:00"},{"$f":"GAMES!C31","v":"00:00:00"},null,{"$f":"RESULTS!G12","v":" Block 1 Player 4"},{"$f":"RESULTS!H12","v":-1E-3},{"$f":"RESULTS!I12","v":-1E-3}]
[null,null,{"$f":"IF(L62<0,\"\",IF(L62>L63,K62,K63))","v":""},"beat",{"$f":"IF(L62<0,\"\",IF(L62>L63,K63,K62))","v":""},{"$f":"IF(L62>L63,L62-L63,L63-L62)","v":0},{"$f":"IF(C33=\"\",\"\",IF(ISTEXT(M62),M62,IF(ISTEXT(M63),M63,\"\")))","v":""},{"$f":"GAMES!B32","v":"00:00:00"},{"$f":"GAMES!C32","v":"00:00:00"},null,{"$f":"RESULTS!G13","v":" Block 1 Player 3"},{"$f":"RESULTS!H13","v":-1E-3},{"$f":"RESULTS!I13","v":-1E-3}]
[null,null,{"$f":"IF(L64<0,\"\",IF(L64>L65,K64,K65))","v":""},"beat",{"$f":"IF(L64<0,\"\",IF(L64>L65,K65,K64))","v":""},{"$f":"IF(L64>L65,L64-L65,L65-L64)","v":0},{"$f":"IF(C34=\"\",\"\",IF(ISTEXT(M64),M64,IF(ISTEXT(M65),M65,\"\")))","v":""},{"$f":"GAMES!B33","v":"00:00:00"},{"$f":"GAMES!C33","v":"00:00:00"},null,{"$f":"RESULTS!G14","v":" Block 1 Player 1"},{"$f":"RESULTS!H14","v":-1E-3},{"$f":"RESULTS!I14","v":-1E-3}]
[null,null,{"$f":"IF(L66<0,\"\",IF(L66>L67,K66,K67))","v":""},"beat",{"$f":"IF(L66<0,\"\",IF(L66>L67,K67,K66))","v":""},{"$f":"IF(L66>L67,L66-L67,L67-L66)","v":0},{"$f":"IF(C35=\"\",\"\",IF(ISTEXT(M66),M66,IF(ISTEXT(M67),M67,\"\")))","v":""},{"$f":"GAMES!B34","v":"00:00:00"},{"$f":"GAMES!C34","v":"00:00:00"},null,{"$f":"RESULTS!G15","v":" Block 1 Player 7"},{"$f":"RESULTS!H15","v":-1E-3},{"$f":"RESULTS!I15","v":-1E-3}]
[null,null,{"$f":"IF(L68<0,\"\",IF(L68>L69,K68,K69))","v":""},"beat",{"$f":"IF(L68<0,\"\",IF(L68>L69,K69,K68))","v":""},{"$f":"IF(L68>L69,L68-L69,L69-L68)","v":0},{"$f":"IF(C36=\"\",\"\",IF(ISTEXT(M68),M68,IF(ISTEXT(M69),M69,\"\")))","v":""},{"$f":"GAMES!B35","v":"00:00:00"},{"$f":"GAMES!C35","v":"00:00:00"},null,{"$f":"RESULTS!G16","v":" Block 1 Player 6"},{"$f":"RESULTS!H16","v":-1E-3},{"$f":"RESULTS!I16","v":-1E-3}]
[null,null,{"$f":"IF(L70<0,\"\",IF(L70>L71,K70,K71))","v":""},"beat",{"$f":"IF(L70<0,\"\",IF(L70>L71,K71,K70))","v":""},{"$f":"IF(L70>L71,L70-L71,L71-L70)","v":0},{"$f":"IF(C37=\"\",\"\",IF(ISTEXT(M70),M70,IF(ISTEXT(M71),M71,\"\")))","v":""},{"$f":"GAMES!B36","v":"00:00:00"},{"$f":"GAMES!C36","v":"00:00:00"},null,{"$f":"RESULTS!G17","v":" Block 1 Player 8"},{"$f":"RESULTS!H17","v":-1E-3},{"$f":"RESULTS!I17","v":-1E-3}]
[null,null,{"$f":"IF(L72<0,\"\",IF(L72>L73,K72,K73))","v":""},"beat",{"$f":"IF(L72<0,\"\",IF(L72>L73,K73,K72))","v":""},{"$f":"IF(L72>L73,L72-L73,L73-L72)","v":0},{"$f":"IF(C38=\"\",\"\",IF(ISTEXT(M72),M72,IF(ISTEXT(M73),M73,\"\")))","v":""},{"$f":"GAMES!B37","v":"00:00:00"},{"$f":"GAMES!C37","v":"00:00:00"},null,{"$f":"RESULTS!G18","v":" Block 1 Player 5"},{"$f":"RESULTS!H18","v":-1E-3},{"$f":"RESULTS!I18","v":-1E-3}]
[null,null,{"$f":"IF(L74<0,\"\",IF(L74>L75,K74,K75))","v":""},"beat",{"$f":"IF(L74<0,\"\",IF(L74>L75,K75,K74))","v":""},{"$f":"IF(L74>L75,L74-L75,L75-L74)","v":0},{"$f":"IF(C39=\"\",\"\",IF(ISTEXT(M74),M74,IF(ISTEXT(M75),M75,\"\")))","v":""},{"$f":"GAMES!B38","v":"00:00:00"},{"$f":"GAMES!C38","v":"00:00:00"},null,{"$f":"RESULTS!G19","v":" Block 1 Player 9"},{"$f":"RESULTS!H19","v":-1E-3},{"$f":"RESULTS!I19","v":-1E-3}]
[null,null,{"$f":"IF(L76<0,\"\",IF(L76>L77,K76,K77))","v":""},"beat",{"$f":"IF(L76<0,\"\",IF(L76>L77,K77,K76))","v":""},{"$f":"IF(L76>L77,L76-L77,L77-L76)","v":0},{"$f":"IF(C40=\"\",\"\",IF(ISTEXT(M76),M76,IF(ISTEXT(M77),M77,\"\")))","v":""},{"$f":"GAMES!B39","v":"00:00:00"},{"$f":"GAMES!C39","v":"00:00:00"},null,{"$f":"RESULTS!G20","v":" Block 1 Player 4"},{"$f":"RESULTS!H20","v":-1E-3},{"$f":"RESULTS!I20","v":-1E-3}]
[null,null,{"$f":"IF(L78<0,\"\",IF(L78>L79,K78,K79))","v":""},"beat",{"$f":"IF(L78<0,\"\",IF(L78>L79,K79,K78))","v":""},{"$f":"IF(L78>L79,L78-L79,L79-L78)","v":0},{"$f":"IF(C41=\"\",\"\",IF(ISTEXT(M78),M78,IF(ISTEXT(M79),M79,\"\")))","v":""},{"$f":"GAMES!B40","v":"00:00:00"},{"$f":"GAMES!C40","v":"00:00:00"},null,{"$f":"RESULTS!G21","v":" Block 1 Player 10"},{"$f":"RESULTS!H21","v":-1E-3},{"$f":"RESULTS!I21","v":-1E-3}]
[null,null,{"$f":"IF(L80<0,\"\",IF(L80>L81,K80,K81))","v":""},"beat",{"$f":"IF(L80<0,\"\",IF(L80>L81,K81,K80))","v":""},{"$f":"IF(L80>L81,L80-L81,L81-L80)","v":0},{"$f":"IF(C42=\"\",\"\",IF(ISTEXT(M80),M80,IF(ISTEXT(M81),M81,\"\")))","v":""},{"$f":"GAMES!B41","v":"00:00:00"},{"$f":"GAMES!C41","v":"00:00:00"},null,{"$f":"RESULTS!G22","v":" Block 1 Player 3"},{"$f":"RESULTS!H22","v":-1E-3},{"$f":"RESULTS!I22","v":-1E-3}]
[null,null,{"$f":"IF(L82<0,\"\",IF(L82>L83,K82,K83))","v":""},"beat",{"$f":"IF(L82<0,\"\",IF(L82>L83,K83,K82))","v":""},{"$f":"IF(L82>L83,L82-L83,L83-L82)","v":0},{"$f":"IF(C43=\"\",\"\",IF(ISTEXT(M82),M82,IF(ISTEXT(M83),M83,\"\")))","v":""},{"$f":"GAMES!B42","v":"00:00:00"},{"$f":"GAMES!C42","v":"00:00:00"},null,{"$f":"RESULTS!G23","v":" Block 1 Player 2"},{"$f":"RESULTS!H23","v":-1E-3},{"$f":"RESULTS!I23","v":-1E-3}]
[null,null,{"$f":"IF(L84<0,\"\",IF(L84>L85,K84,K85))","v":""},"beat",{"$f":"IF(L84<0,\"\",IF(L84>L85,K85,K84))","v":""},{"$f":"IF(L84>L85,L84-L85,L85-L84)","v":0},{"$f":"IF(C44=\"\",\"\",IF(ISTEXT(M84),M84,IF(ISTEXT(M85),M85,\"\")))","v":""},{"$f":"GAMES!B43","v":"00:00:00"},{"$f":"GAMES!C43","v":"00:00:00"},null,{"$f":"RESULTS!K4","v":" Block 1 Player 1"},{"$f":"RESULTS!L4","v":-1E-3},{"$f":"RESULTS!M4","v":-1E-3}]
[null,null,{"$f":"IF(L86<0,\"\",IF(L86>L87,K86,K87))","v":""},"beat",{"$f":"IF(L86<0,\"\",IF(L86>L87,K87,K86))","v":""},{"$f":"IF(L86>L87,L86-L87,L87-L86)","v":0},{"$f":"IF(C45=\"\",\"\",IF(ISTEXT(M86),M86,IF(ISTEXT(M87),M87,\"\")))","v":""},{"$f":"GAMES!B44","v":"00:00:00"},{"$f":"GAMES!C44","v":"00:00:00"},null,{"$f":"RESULTS!K5","v":" Block 1 Player 6"},{"$f":"RESULTS!L5","v":-1E-3},{"$f":"RESULTS!M5","v":-1E-3}]
[null,null,{"$f":"IF(L88<0,\"\",IF(L88>L89,K88,K89))","v":""},"beat",{"$f":"IF(L88<0,\"\",IF(L88>L89,K89,K88))","v":""},{"$f":"IF(L88>L89,L88-L89,L89-L88)","v":0},{"$f":"IF(C46=\"\",\"\",IF(ISTEXT(M88),M88,IF(ISTEXT(M89),M89,\"\")))","v":""},{"$f":"GAMES!B45","v":"00:00:00"},{"$f":"GAMES!C45","v":"00:00:00"},null,{"$f":"RESULTS!K6","v":" Block 1 Player 5"},{"$f":"RESULTS!L6","v":-1E-3},{"$f":"RESULTS!M6","v":-1E-3}]
[null,null,{"$f":"IF(L90<0,\"\",IF(L90>L91,K90,K91))","v":""},"beat",{"$f":"IF(L90<0,\"\",IF(L90>L91,K91,K90))","v":""},{"$f":"IF(L90>L91,L90-L91,L91-L90)","v":0},{"$f":"IF(C47=\"\",\"\",IF(ISTEXT(M90),M90,IF(ISTEXT(M91),M91,\"\")))","v":""},{"$f":"GAMES!B46","v":"00:00:00"},{"$f":"GAMES!C46","v":"00:00:00"},null,{"$f":"RESULTS!K7","v":" Block 1 Player 7"},{"$f":"RESULTS!L7","v":-1E-3},{"$f":"RESULTS!M7","v":-1E-3}]
[null,null,{"$f":"IF(L92<0,\"\",IF(L92>L93,K92,K93))","v":""},"beat",{"$f":"IF(L92<0,\"\",IF(L92>L93,K93,K92))","v":""},{"$f":"IF(L92>L93,L92-L93,L93-L92)","v":0},{"$f":"IF(C48=\"\",\"\",IF(ISTEXT(M92),M92,IF(ISTEXT(M93),M93,\"\")))","v":""},{"$f":"GAMES!B47","v":"00:00:00"},{"$f":"GAMES!C47","v":"00:00:00"},null,{"$f":"RESULTS!K8","v":" Block 1 Player 4"},{"$f":"RESULTS!L8","v":-1E-3},{"$f":"RESULTS!M8","v":-1E-3}]
[null,null,null,null,null,null,null,null,null,null,{"$f":"RESULTS!K9","v":" Block 1 Player 8"},{"$f":"RESULTS!L9","v":-1E-3},{"$f":"RESULTS!M9","v":-1E-3}]
[null,null,null,null,null,null,null,null,null,null,{"$f":"RESULTS!K10","v":" Block 1 Player 3"},{"$f":"RESULTS!L10","v":-1E-3},{"$f":"RESULTS!M10","v":-1E-3}]
[null,null,null,null,null,null,null,null,null,null,{"$f":"RESULTS!K11","v":" Block 1 Player 9"},{"$f":"RESULTS!L11","v":-1E-3},{"$f":"RESULTS!M11","v":-1E-3}]
[null,null,null,null,null,null,null,null,null,null,{"$f":"RESULTS!K12","v":" Block 1 Player 2"},{"$f":"RESULTS!L12","v":-1E-3},{"$f":"RESULTS!M12","v":-1E-3}]
[null,null,null,null,null,null,null,null,null,null,{"$f":"RESULTS!K13","v":" Block 1 Player 10"},{"$f":"RESULTS!L13","v":-1E-3},{"$f":"RESULTS!M13","v":-1E-3}]
[null,null,null,null,null,null,null,null,null,null,{"$f":"RESULTS!K14","v":" Block 1 Player 1"},{"$f":"RESULTS!L14","v":-1E-3},{"$f":"RESULTS!M14","v":-1E-3}]
[null,null,null,null,null,null,null,null,null,null,{"$f":"RESULTS!K15","v":" Block 1 Player 5"},{"$f":"RESULTS!L15","v":-1E-3},{"$f":"RESULTS!M15","v":-1E-3}]
[null,null,null,null,null,null,null,null,null,null,{"$f":"RESULTS!K16","v":" Block 1 Player 4"},{"$f":"RESULTS!L16","v":-1E-3},{"$f":"RESULTS!M16","v":-1E-3}]
[null,null,null,null,null,null,null,null,null,null,{"$f":"RESULTS!K17","v":" Block 1 Player 6"},{"$f":"RESULTS!L17","v":-1E-3},{"$f":"RESULTS!M17","v":-1E-3}]
[null,null,null,null,null,null,null,null,null,null,{"$f":"RESULTS!K18","v":" Block 1 Player 3"},{"$f":"RESULTS!L18","v":-1E-3},{"$f":"RESULTS!M18","v":-1E-3}]
[null,null,null,null,null,null,null,null,null,null,{"$f":"RESULTS!K19","v":" Block 1 Player 7"},{"$f":"RESULTS!L19","v":-1E-3},{"$f":"RESULTS!M19","v":-1E-3}]
[null,null,null,null,null,null,null,null,null,null,{"$f":"RESULTS!K20","v":" Block 1 Player 2"},{"$f":"RESULTS!L20","v":-1E-3},{"$f":"RESULTS!M20","v":-1E-3}]
[null,null,null,null,null,null,null,null,null,null,{"$f":"RESULTS!K21","v":" Block 1 Player 8"},{"$f":"RESULTS!L21","v":-1E-3},{"$f":"RESULTS!M21","v":-1E-3}]
[null,null,null,null,null,null,null,null,null,null,{"$f":"RESULTS!K22","v":" Block 1 Player 10"},{"$f":"RESULTS!L22","v":-1E-3},{"$f":"RESULTS!M22","v":-1E-3}]
[null,null,null,null,null,null,null,null,null,null,{"$f":"RESULTS!K23","v":" Block 1 Player 9"},{"$f":"RESULTS!L23","v":-1E-3},{"$f":"RESULTS!M23","v":-1E-3}]
[null,null,null,null,null,null,null,null,null,null,{"$f":"RESULTS!O4","v":" Block 1 Player 1"},{"$f":"RESULTS!P4","v":-1E-3},{"$f":"RESULTS!Q4","v":-1E-3}]
[null,null,null,null,null,null,null,null,null,null,{"$f":"RESULTS!O5","v":" Block 1 Player 4"},{"$f":"RESULTS!P5","v":-1E-3},{"$f":"RESULTS!Q5","v":-1E-3}]
[null,null,null,null,null,null,null,null,null,null,{"$f":"RESULTS!O6","v":" Block 1 Player 5"},{"$f":"RESULTS!P6","v":-1E-3},{"$f":"RESULTS!Q6","v":-1E-3}]
[null,null,null,null,null,null,null,null,null,null,{"$f":"RESULTS!O7","v":" Block 1 Player 3"},{"$f":"RESULTS!P7","v":-1E-3},{"$f":"RESULTS!Q7","v":-1E-3}]
[null,null,null,null,null,null,null,null,null,null,{"$f":"RESULTS!O8","v":" Block 1 Player 2"},{"$f":"RESULTS!P8","v":-1E-3},{"$f":"RESULTS!Q8","v":-1E-3}]
[null,null,null,null,null,null,null,null,null,null,{"$f":"RESULTS!O9","v":" Block 1 Player 6"},{"$f":"RESULTS!P9","v":-1E-3},{"$f":"RESULTS!Q9","v":-1E-3}]
[null,null,null,null,null,null,null,null,null,null,{"$f":"RESULTS!O10","v":" Block 1 Player 10"},{"$f":"RESULTS!P10","v":-1E-3},{"$f":"RESULTS!Q10","v":-1E-3}]
[null,null,null,null,null,null,null,null,null,null,{"$f":"RESULTS!O11","v":" Block 1 Player 7"},{"$f":"RESULTS!P11","v":-1E-3},{"$f":"RESULTS!Q11","v":-1E-3}]
[null,null,null,null,null,null,null,null,null,null,{"$f":"RESULTS!O12","v":" Block 1 Player 9"},{"$f":"RESULTS!P12","v":-1E-3},{"$f":"RESULTS!Q12","v":-1E-3}]
[null,null,null,null,null,null,null,null,null,null,{"$f":"RESULTS!O13","v":" Block 1 Player 8"},{"$f":"RESULTS!P13","v":-1E-3},{"$f":"RESULTS!Q13","v":-1E-3}]
[null,null,null,null,null,null,null,null,null,null,{"$f":"RESULTS!O14","v":" Block 1 Player 1"},{"$f":"RESULTS!P14","v":-1E-3},{"$f":"RESULTS!Q14","v":-1E-3}]
[null,null,null,null,null,null,null,null,null,null,{"$f":"RESULTS!O15","v":" Block 1 Player 3"},{"$f":"RESULTS!P15","v":-1E-3},{"$f":"RESULTS!Q15","v":-1E-3}]
[null,null,null,null,null,null,null,null,null,null,{"$f":"RESULTS!O16","v":" Block 1 Player 2"},{"$f":"RESULTS!P16","v":-1E-3},{"$f":"RESULTS!Q16","v":-1E-3}]
[null,null,null,null,null,null,null,null,null,null,{"$f":"RESULTS!O17","v":" Block 1 Player 4"},{"$f":"RESULTS!P17","v":-1E-3},{"$f":"RESULTS!Q17","v":-1E-3}]
[null,null,null,null,null,null,null,null,null,null,{"$f":"RESULTS!O18","v":" Block 1 Player 10"},{"$f":"RESULTS!P18","v":-1E-3},{"$f":"RESULTS!Q18","v":-1E-3}]
[null,null,null,null,null,null,null,null,null,null,{"$f":"RESULTS!O19","v":" Block 1 Player 5"},{"$f":"RESULTS!P19","v":-1E-3},{"$f":"RESULTS!Q19","v":-1E-3}]
[null,null,null,null,null,null,null,null,null,null,{"$f":"RESULTS!O20","v":" Block 1 Player 9"},{"$f":"RESULTS!P20","v":-1E-3},{"$f":"RESULTS!Q20","v":-1E-3}]
[null,null,null,null,null,null,null,null,null,null,{"$f":"RESULTS!O21","v":" Block 1 Player 6"},{"$f":"RESULTS!P21","v":-1E-3},{"$f":"RESULTS!Q21","v":-1E-3}]
[null,null,null,null,null,null,null,null,null,null,{"$f":"RESULTS!O22","v":" Block 1 Player 8"},{"$f":"RESULTS!P22","v":-1E-3},{"$f":"RESULTS!Q22","v":-1E-3}]
[null,null,null,null,null,null,null,null,null,null,{"$f":"RESULTS!O23","v":" Block 1 Player 7"},{"$f":"RESULTS!P23","v":-1E-3},{"$f":"RESULTS!Q23","v":-1E-3}]
[null,null,null,null,null,null,null,null,null,null,{"$f":"RESULTS!S4","v":" Block 1 Player 1"},{"$f":"RESULTS!T4","v":-1E-3},{"$f":"RESULTS!U4","v":-1E-3}]
[null,null,null,null,null,null,null,null,null,null,{"$f":"RESULTS!S5","v":" Block 1 Player 2"},{"$f":"RESULTS!T5","v":-1E-3},{"$f":"RESULTS!U5","v":-1E-3}]
[null,null,null,null,null,null,null,null,null,null,{"$f":"RESULTS!S6","v":" Block 1 Player 10"},{"$f":"RESULTS!T6","v":-1E-3},{"$f":"RESULTS!U6","v":-1E-3}]
[null,null,null,null,null,null,null,null,null,null,{"$f":"RESULTS!S7","v":" Block 1 Player 3"},{"$f":"RESULTS!T7","v":-1E-3},{"$f":"RESULTS!U7","v":-1E-3}]
[null,null,null,null,null,null,null,null,null,null,{"$f":"RESULTS!S8","v":" Block 1 Player 9"},{"$f":"RESULTS!T8","v":-1E-3},{"$f":"RESULTS!U8","v":-1E-3}]
[null,null,null,null,null,null,null,null,null,null,{"$f":"RESULTS!S9","v":" Block 1 Player 4"},{"$f":"RESULTS!T9","v":-1E-3},{"$f":"RESULTS!U9","v":-1E-3}]
[null,null,null,null,null,null,null,null,null,null,{"$f":"RESULTS!S10","v":" Block 1 Player 8"},{"$f":"RESULTS!T10","v":-1E-3},{"$f":"RESULTS!U10","v":-1E-3}]
[null,null,null,null,null,null,null,null,null,null,{"$f":"RESULTS!S11","v":" Block 1 Player 5"},{"$f":"RESULTS!T11","v":-1E-3},{"$f":"RESULTS!U11","v":-1E-3}]
[null,null,null,null,null,null,null,null,null,null,{"$f":"RESULTS!S12","v":" Block 1 Player 7"},{"$f":"RESULTS!T12","v":-1E-3},{"$f":"RESULTS!U12","v":-1E-3}]
[null,null,null,null,null,null,null,null,null,null,{"$f":"RESULTS!S13","v":" Block 1 Player 6"},{"$f":"RESULTS!T13","v":-1E-3},{"$f":"RESULTS!U13","v":-1E-3}]
[]
["BLOCK 2",null,"Name","W/L","Name","Margin","Peels","Time","Day",null,"LU Name","Score","Peels"]
[null,null,{"$f":"IF(L96<0,\"\",IF(L96>L97,K96,K97))","v":""},"beat",{"$f":"IF(L96<0,\"\",IF(L96>L97,K97,K96))","v":""},{"$f":"IF(L96>L97,L96-L97,L97-L96)","v":0},{"$f":"IF(C96=\"\",\"\",IF(ISTEXT(M96),M96,IF(ISTEXT(M97),M97,\"\")))","v":""},{"$f":"GAMES!B51","v":"00:00:00"},{"$f":"GAMES!C51","v":"00:00:00"},null,{"$f":"RESULTS!C28","v":" Block 2 Player 1"},{"$f":"RESULTS!D28","v":-1E-3},{"$f":"RESULTS!E28","v":-1E-3}]
[null,null,{"$f":"IF(L98<0,\"\",IF(L98>L99,K98,K99))","v":""},"beat",{"$f":"IF(L98<0,\"\",IF(L98>L99,K99,K98))","v":""},{"$f":"IF(L98>L99,L98-L99,L99-L98)","v":0},{"$f":"IF(C97=\"\",\"\",IF(ISTEXT(M98),M98,IF(ISTEXT(M99),M99,\"\")))","v":""},{"$f":"GAMES!B52","v":"00:00:00"},{"$f":"GAMES!C52","v":"00:00:00"},null,{"$f":"RESULTS!C29","v":" Block 2 Player 10"},{"$f":"RESULTS!D29","v":-1E-3},{"$f":"RESULTS!E29","v":-1E-3}]
[null,null,{"$f":"IF(L100<0,\"\",IF(L100>L101,K100,K101))","v":""},"beat",{"$f":"IF(L100<0,\"\",IF(L100>L101,K101,K100))","v":""},{"$f":"IF(L100>L101,L100-L101,L101-L100)","v":0},{"$f":"IF(C98=\"\",\"\",IF(ISTEXT(M100),M100,IF(ISTEXT(M101),M101,\"\")))","v":""},{"$f":"GAMES!B53","v":"00:00:00"},{"$f":"GAMES!C53","v":"00:00:00"},null,{"$f":"RESULTS!C30","v":" Block 2 Player 2"},{"$f":"RESULTS!D30","v":-1E-3},{"$f":"RESULTS!E30","v":-1E-3}]
[null,null,{"$f":"IF(L102<0,\"\",IF(L102>L103,K102,K103))","v":""},"beat",{"$f":"IF(L102<0,\"\",IF(L102>L103,K103,K102))","v":""},{"$f":"IF(L102>L103,L102-L103,L103-L102)","v":0},{"$f":"IF(C99=\"\",\"\",IF(ISTEXT(M102),M102,IF(ISTEXT(M103),M103,\"\")))","v":""},{"$f":"GAMES!B54","v":"00:00:00"},{"$f":"GAMES!C54","v":"00:00:00"},null,{"$f":"RESULTS!C31","v":" Block 2 Player 9"},{"$f":"RESULTS!D31","v":-1E-3},{"$f":"RESULTS!E31","v":-1E-3}]
[null,null,{"$f":"IF(L104<0,\"\",IF(L104>L105,K104,K105))","v":""},"beat",{"$f":"IF(L104<0,\"\",IF(L104>L105,K105,K104))","v":""},{"$f":"IF(L104>L105,L104-L105,L105-L104)","v":0},{"$f":"IF(C100=\"\",\"\",IF(ISTEXT(M104),M104,IF(ISTEXT(M105),M105,\"\")))","v":""},{"$f":"GAMES!B55","v":"00:00:00"},{"$f":"GAMES!C55","v":"00:00:00"},null,{"$f":"RESULTS!C32","v":" Block 2 Player 3"},{"$f":"RESULTS!D32","v":-1E-3},{"$f":"RESULTS!E32","v":-1E-3}]
[null,null,{"$f":"IF(L106<0,\"\",IF(L106>L107,K106,K107))","v":""},"beat",{"$f":"IF(L106<0,\"\",IF(L106>L107,K107,K106))","v":""},{"$f":"IF(L106>L107,L106-L107,L107-L106)","v":0},{"$f":"IF(C101=\"\",\"\",IF(ISTEXT(M106),M106,IF(ISTEXT(M107),M107,\"\")))","v":""},{"$f":"GAMES!B56","v":"00:00:00"},{"$f":"GAMES!C56","v":"00:00:00"},null,{"$f":"RESULTS!C33","v":" Block 2 Player 8"},{"$f":"RESULTS!D33","v":-1E-3},{"$f":"RESULTS!E33","v":-1E-3}]
[null,null,{"$f":"IF(L108<0,\"\",IF(L108>L109,K108,K109))","v":""},"beat",{"$f":"IF(L108<0,\"\",IF(L108>L109,K109,K108))","v":""},{"$f":"IF(L108>L109,L108-L109,L109-L108)","v":0},{"$f":"IF(C102=\"\",\"\",IF(ISTEXT(M108),M108,IF(ISTEXT(M109),M109,\"\")))","v":""},{"$f":"GAMES!B57","v":"00:00:00"},{"$f":"GAMES!C57","v":"00:00:00"},null,{"$f":"RESULTS!C34","v":" Block 2 Player 4"},{"$f":"RESULTS!D34","v":-1E-3},{"$f":"RESULTS!E34","v":-1E-3}]
[null,null,{"$f":"IF(L110<0,\"\",IF(L110>L111,K110,K111))","v":""},"beat",{"$f":"IF(L110<0,\"\",IF(L110>L111,K111,K110))","v":""},{"$f":"IF(L110>L111,L110-L111,L111-L110)","v":0},{"$f":"IF(C103=\"\",\"\",IF(ISTEXT(M110),M110,IF(ISTEXT(M111),M111,\"\")))","v":""},{"$f":"GAMES!B58","v":"00:00:00"},{"$f":"GAMES!C58","v":"00:00:00"},null,{"$f":"RESULTS!C35","v":" Block 2 Player 7"},{"$f":"RESULTS!D35","v":-1E-3},{"$f":"RESULTS!E35","v":-1E-3}]
[null,null,{"$f":"IF(L112<0,\"\",IF(L112>L113,K112,K113))","v":""},"beat",{"$f":"IF(L112<0,\"\",IF(L112>L113,K113,K112))","v":""},{"$f":"IF(L112>L113,L112-L113,L113-L112)","v":0},{"$f":"IF(C104=\"\",\"\",IF(ISTEXT(M112),M112,IF(ISTEXT(M113),M113,\"\")))","v":""},{"$f":"GAMES!B59","v":"00:00:00"},{"$f":"GAMES!C59","v":"00:00:00"},null,{"$f":"RESULTS!C36","v":" Block 2 Player 5"},{"$f":"RESULTS!D36","v":-1E-3},{"$f":"RESULTS!E36","v":-1E-3}]
[null,null,{"$f":"IF(L114<0,\"\",IF(L114>L115,K114,K115))","v":""},"beat",{"$f":"IF(L114<0,\"\",IF(L114>L115,K115,K114))","v":""},{"$f":"IF(L114>L115,L114-L115,L115-L114)","v":0},{"$f":"IF(C105=\"\",\"\",IF(ISTEXT(M114),M114,IF(ISTEXT(M115),M115,\"\")))","v":""},{"$f":"GAMES!B60","v":"00:00:00"},{"$f":"GAMES!C60","v":"00:00:00"},null,{"$f":"RESULTS!C37","v":" Block 2 Player 6"},{"$f":"RESULTS!D37","v":-1E-3},{"$f":"RESULTS!E37","v":-1E-3}]
[null,null,{"$f":"IF(L116<0,\"\",IF(L116>L117,K116,K117))","v":""},"beat",{"$f":"IF(L116<0,\"\",IF(L116>L117,K117,K116))","v":""},{"$f":"IF(L116>L117,L116-L117,L117-L116)","v":0},{"$f":"IF(C106=\"\",\"\",IF(ISTEXT(M116),M116,IF(ISTEXT(M117),M117,\"\")))","v":""},{"$f":"GAMES!B61","v":"00:00:00"},{"$f":"GAMES!C61","v":"00:00:00"},null,{"$f":"RESULTS!C38","v":" Block 2 Player 1"},{"$f":"RESULTS!D38","v":-1E-3},{"$f":"RESULTS!E38","v":-1E-3}]
[null,null,{"$f":"IF(L118<0,\"\",IF(L118>L119,K118,K119))","v":""},"beat",{"$f":"IF(L118<0,\"\",IF(L118>L119,K119,K118))","v":""},{"$f":"IF(L118>L119,L118-L119,L119-L118)","v":0},{"$f":"IF(C107=\"\",\"\",IF(ISTEXT(M118),M118,IF(ISTEXT(M119),M119,\"\")))","v":""},{"$f":"GAMES!B62","v":"00:00:00"},{"$f":"GAMES!C62","v":"00:00:00"},null,{"$f":"RESULTS!C39","v":" Block 2 Player 9"},{"$f":"RESULTS!D39","v":-1E-3},{"$f":"RESULTS!E39","v":-1E-3}]
[null,null,{"$f":"IF(L120<0,\"\",IF(L120>L121,K120,K121))","v":""},"beat",{"$f":"IF(L120<0,\"\",IF(L120>L121,K121,K120))","v":""},{"$f":"IF(L120>L121,L120-L121,L121-L120)","v":0},{"$f":"IF(C108=\"\",\"\",IF(ISTEXT(M120),M120,IF(ISTEXT(M121),M121,\"\")))","v":""},{"$f":"GAMES!B63","v":"00:00:00"},{"$f":"GAMES!C63","v":"00:00:00"},null,{"$f":"RESULTS!C40","v":" Block 2 Player 8"},{"$f":"RESULTS!D40","v":-1E-3},{"$f":"RESULTS!E40","v":-1E-3}]
[null,null,{"$f":"IF(L122<0,\"\",IF(L122>L123,K122,K123))","v":""},"beat",{"$f":"IF(L122<0,\"\",IF(L122>L123,K123,K122))","v":""},{"$f":"IF(L122>L123,L122-L123,L123-L122)","v":0},{"$f":"IF(C109=\"\",\"\",IF(ISTEXT(M122),M122,IF(ISTEXT(M123),M123,\"\")))","v":""},{"$f":"GAMES!B64","v":"00:00:00"},{"$f":"GAMES!C64","v":"00:00:00"},null,{"$f":"RESULTS!C41","v":" Block 2 Player 10"},{"$f":"RESULTS!D41","v":-1E-3},{"$f":"RESULTS!E41","v":-1E-3}]
[null,null,{"$f":"IF(L124<0,\"\",IF(L124>L125,K124,K125))","v":""},"beat",{"$f":"IF(L124<0,\"\",IF(L124>L125,K125,K124))","v":""},{"$f":"IF(L124>L125,L124-L125,L125-L124)","v":0},{"$f":"IF(C110=\"\",\"\",IF(ISTEXT(M124),M124,IF(ISTEXT(M125),M125,\"\")))","v":""},{"$f":"GAMES!B65","v":"00:00:00"},{"$f":"GAMES!C65","v":"00:00:00"},null,{"$f":"RESULTS!C42","v":" Block 2 Player 7"},{"$f":"RESULTS!D42","v":-1E-3},{"$f":"RESULTS!E42","v":-1E-3}]
[null,null,{"$f":"IF(L126<0,\"\",IF(L126>L127,K126,K127))","v":""},"beat",{"$f":"IF(L126<0,\"\",IF(L126>L127,K127,K126))","v":""},{"$f":"IF(L126>L127,L126-L127,L127-L126)","v":0},{"$f":"IF(C111=\"\",\"\",IF(ISTEXT(M126),M126,IF(ISTEXT(M127),M127,\"\")))","v":""},{"$f":"GAMES!B66","v":"00:00:00"},{"$f":"GAMES!C66","v":"00:00:00"},null,{"$f":"RESULTS!C43","v":" Block 2 Player 2"},{"$f":"RESULTS!D43","v":-1E-3},{"$f":"RESULTS!E43","v":-1E-3}]
[null,null,{"$f":"IF(L128<0,\"\",IF(L128>L129,K128,K129))","v":""},"beat",{"$f":"IF(L128<0,\"\",IF(L128>L129,K129,K128))","v":""},{"$f":"IF(L128>L129,L128-L129,L129-L128)","v":0},{"$f":"IF(C112=\"\",\"\",IF(ISTEXT(M128),M128,IF(ISTEXT(M129),M129,\"\")))","v":""},{"$f":"GAMES!B67","v":"00:00:00"},{"$f":"GAMES!C67","v":"00:00:00"},null,{"$f":"RESULTS!C44","v":" Block 2 Player 6"},{"$f":"RESULTS!D44","v":-1E-3},{"$f":"RESULTS!E44","v":-1E-3}]
[null,null,{"$f":"IF(L130<0,\"\",IF(L130>L131,K130,K131))","v":""},"beat",{"$f":"IF(L130<0,\"\",IF(L130>L131,K131,K130))","v":""},{"$f":"IF(L130>L131,L130-L131,L131-L130)","v":0},{"$f":"IF(C113=\"\",\"\",IF(ISTEXT(M130),M130,IF(ISTEXT(M131),M131,\"\")))","v":""},{"$f":"GAMES!B68","v":"00:00:00"},{"$f":"GAMES!C68","v":"00:00:00"},null,{"$f":"RESULTS!C45","v":" Block 2 Player 3"},{"$f":"RESULTS!D45","v":-1E-3},{"$f":"RESULTS!E45","v":-1E-3}]
[null,null,{"$f":"IF(L132<0,\"\",IF(L132>L133,K132,K133))","v":""},"beat",{"$f":"IF(L132<0,\"\",IF(L132>L133,K133,K132))","v":""},{"$f":"IF(L132>L133,L132-L133,L133-L132)","v":0},{"$f":"IF(C114=\"\",\"\",IF(ISTEXT(M132),M132,IF(ISTEXT(M133),M133,\"\")))","v":""},{"$f":"GAMES!B69","v":"00:00:00"},{"$f":"GAMES!C69","v":"00:00:00"},null,{"$f":"RESULTS!C46","v":" Block 2 Player 5"},{"$f":"RESULTS!D46","v":-1E-3},{"$f":"RESULTS!E46","v":-1E-3}]
[null,null,{"$f":"IF(L134<0,\"\",IF(L134>L135,K134,K135))","v":""},"beat",{"$f":"IF(L134<0,\"\",IF(L134>L135,K135,K134))","v":""},{"$f":"IF(L134>L135,L134-L135,L135-L134)","v":0},{"$f":"IF(C115=\"\",\"\",IF(ISTEXT(M134),M134,IF(ISTEXT(M135),M135,\"\")))","v":""},{"$f":"GAMES!B70","v":"00:00:00"},{"$f":"GAMES!C70","v":"00:00:00"},null,{"$f":"RESULTS!C47","v":" Block 2 Player 4"},{"$f":"RESULTS!D47","v":-1E-3},{"$f":"RESULTS!E47","v":-1E-3}]
[null,null,{"$f":"IF(L136<0,\"\",IF(L136>L137,K136,K137))","v":""},"beat",{"$f":"IF(L136<0,\"\",IF(L136>L137,K137,K136))","v":""},{"$f":"IF(L136>L137,L136-L137,L137-L136)","v":0},{"$f":"IF(C116=\"\",\"\",IF(ISTEXT(M136),M136,IF(ISTEXT(M137),M137,\"\")))","v":""},{"$f":"GAMES!B71","v":"00:00:00"},{"$f":"GAMES!C71","v":"00:00:00"},null,{"$f":"RESULTS!G28","v":" Block 2 Player 1"},{"$f":"RESULTS!H28","v":-1E-3},{"$f":"RESULTS!I28","v":-1E-3}]
[null,null,{"$f":"IF(L138<0,\"\",IF(L138>L139,K138,K139))","v":""},"beat",{"$f":"IF(L138<0,\"\",IF(L138>L139,K139,K138))","v":""},{"$f":"IF(L138>L139,L138-L139,L139-L138)","v":0},{"$f":"IF(C117=\"\",\"\",IF(ISTEXT(M138),M138,IF(ISTEXT(M139),M139,\"\")))","v":""},{"$f":"GAMES!B72","v":"00:00:00"},{"$f":"GAMES!C72","v":"00:00:00"},null,{"$f":"RESULTS!G29","v":" Block 2 Player 8"},{"$f":"RESULTS!H29","v":-1E-3},{"$f":"RESULTS!I29","v":-1E-3}]
[null,null,{"$f":"IF(L140<0,\"\",IF(L140>L141,K140,K141))","v":""},"beat",{"$f":"IF(L140<0,\"\",IF(L140>L141,K141,K140))","v":""},{"$f":"IF(L140>L141,L140-L141,L141-L140)","v":0},{"$f":"IF(C118=\"\",\"\",IF(ISTEXT(M140),M140,IF(ISTEXT(M141),M141,\"\")))","v":""},{"$f":"GAMES!B73","v":"00:00:00"},{"$f":"GAMES!C73","v":"00:00:00"},null,{"$f":"RESULTS!G30","v":" Block 2 Player 7"},{"$f":"RESULTS!H30","v":-1E-3},{"$f":"RESULTS!I30","v":-1E-3}]
[null,null,{"$f":"IF(L142<0,\"\",IF(L142>L143,K142,K143))","v":""},"beat",{"$f":"IF(L142<0,\"\",IF(L142>L143,K143,K142))","v":""},{"$f":"IF(L142>L143,L142-L143,L143-L142)","v":0},{"$f":"IF(C119=\"\",\"\",IF(ISTEXT(M142),M142,IF(ISTEXT(M143),M143,\"\")))","v":""},{"$f":"GAMES!B74","v":"00:00:00"},{"$f":"GAMES!C74","v":"00:00:00"},null,{"$f":"RESULTS!G31","v":" Block 2 Player 9"},{"$f":"RESULTS!H31","v":-1E-3},{"$f":"RESULTS!I31","v":-1E-3}]
[null,null,{"$f":"IF(L144<0,\"\",IF(L144>L145,K144,K145))","v":""},"beat",{"$f":"IF(L144<0,\"\",IF(L144>L145,K145,K144))","v":""},{"$f":"IF(L144>L145,L144-L145,L145-L144)","v":0},{"$f":"IF(C120=\"\",\"\",IF(ISTEXT(M144),M144,IF(ISTEXT(M145),M145,\"\")))","v":""},{"$f":"GAMES!B75","v":"00:00:00"},{"$f":"GAMES!C75","v":"00:00:00"},null,{"$f":"RESULTS!G32","v":" Block 2 Player 6"},{"$f":"RESULTS!H32","v":-1E-3},{"$f":"RESULTS!I32","v":-1E-3}]
[null,null,{"$f":"IF(L146<0,\"\",IF(L146>L147,K146,K147))","v":""},"beat",{"$f":"IF(L146<0,\"\",IF(L146>L147,K147,K146))","v":""},{"$f":"IF(L146>L147,L146-L147,L147-L146)","v":0},{"$f":"IF(C121=\"\",\"\",IF(ISTEXT(M146),M146,IF(ISTEXT(M147),M147,\"\")))","v":""},{"$f":"GAMES!B76","v":"00:00:00"},{"$f":"GAMES!C76","v":"00:00:00"},null,{"$f":"RESULTS!G33","v":" Block 2 Player 10"},{"$f":"RESULTS!H33","v":-1E-3},{"$f":"RESULTS!I33","v":-1E-3}]
[null,null,{"$f":"IF(L148<0,\"\",IF(L148>L149,K148,K149))","v":""},"beat",{"$f":"IF(L148<0,\"\",IF(L148>L149,K149,K148))","v":""},{"$f":"IF(L148>L149,L148-L149,L149-L148)","v":0},{"$f":"IF(C122=\"\",\"\",IF(ISTEXT(M148),M148,IF(ISTEXT(M149),M149,\"\")))","v":""},{"$f":"GAMES!B77","v":"00:00:00"},{"$f":"GAMES!C77","v":"00:00:00"},null,{"$f":"RESULTS!G34","v":" Block 2 Player 5"},{"$f":"RESULTS!H34","v":-1E-3},{"$f":"RESULTS!I34","v":-1E-3}]
[null,null,{"$f":"IF(L150<0,\"\",IF(L150>L151,K150,K151))","v":""},"beat",{"$f":"IF(L150<0,\"\",IF(L150>L151,K151,K150))","v":""},{"$f":"IF(L150>L151,L150-L151,L151-L150)","v":0},{"$f":"IF(C123=\"\",\"\",IF(ISTEXT(M150),M150,IF(ISTEXT(M151),M151,\"\")))","v":""},{"$f":"GAMES!B78","v":"00:00:00"},{"$f":"GAMES!C78","v":"00:00:00"},null,{"$f":"RESULTS!G35","v":" Block 2 Player 2"},{"$f":"RESULTS!H35","v":-1E-3},{"$f":"RESULTS!I35","v":-1E-3}]
[null,null,{"$f":"IF(L152<0,\"\",IF(L152>L153,K152,K153))","v":""},"beat",{"$f":"IF(L152<0,\"\",IF(L152>L153,K153,K152))","v":""},{"$f":"IF(L152>L153,L152-L153,L153-L152)","v":0},{"$f":"IF(C124=\"\",\"\",IF(ISTEXT(M152),M152,IF(ISTEXT(M153),M153,\"\")))","v":""},{"$f":"GAMES!B79","v":"00:00:00"},{"$f":"GAMES!C79","v":"00:00:00"},null,{"$f":"RESULTS!G36","v":" Block 2 Player 4"},{"$f":"RESULTS!H36","v":-1E-3},{"$f":"RESULTS!I36","v":-1E-3}]
[null,null,{"$f":"IF(L154<0,\"\",IF(L154>L155,K154,K155))","v":""},"beat",{"$f":"IF(L154<0,\"\",IF(L154>L155,K155,K154))","v":""},{"$f":"IF(L154>L155,L154-L155,L155-L154)","v":0},{"$f":"IF(C125=\"\",\"\",IF(ISTEXT(M154),M154,IF(ISTEXT(M155),M155,\"\")))","v":""},{"$f":"GAMES!B80","v":"00:00:00"},{"$f":"GAMES!C80","v":"00:00:00"},null,{"$f":"RESULTS!G37","v":" Block 2 Player 3"},{"$f":"RESULTS!H37","v":-1E-3},{"$f":"RESULTS!I37","v":-1E-3}]
[null,null,{"$f":"IF(L156<0,\"\",IF(L156>L157,K156,K157))","v":""},"beat",{"$f":"IF(L156<0,\"\",IF(L156>L157,K157,K156))","v":""},{"$f":"IF(L156>L157,L156-L157,L157-L156)","v":0},{"$f":"IF(C126=\"\",\"\",IF(ISTEXT(M156),M156,IF(ISTEXT(M157),M157,\"\")))","v":""},{"$f":"GAMES!B81","v":"00:00:00"},{"$f":"GAMES!C81","v":"00:00:00"},null,{"$f":"RESULTS!G38","v":" Block 2 Player 1"},{"$f":"RESULTS!H38","v":-1E-3},{"$f":"RESULTS!I38","v":-1E-3}]
[null,null,{"$f":"IF(L158<0,\"\",IF(L158>L159,K158,K159))","v":""},"beat",{"$f":"IF(L158<0,\"\",IF(L158>L159,K159,K158))","v":""},{"$f":"IF(L158>L159,L158-L159,L159-L158)","v":0},{"$f":"IF(C127=\"\",\"\",IF(ISTEXT(M158),M158,IF(ISTEXT(M159),M159,\"\")))","v":""},{"$f":"GAMES!B82","v":"00:00:00"},{"$f":"GAMES!C82","v":"00:00:00"},null,{"$f":"RESULTS!G39","v":" Block 2 Player 7"},{"$f":"RESULTS!H39","v":-1E-3},{"$f":"RESULTS!I39","v":-1E-3}]
[null,null,{"$f":"IF(L160<0,\"\",IF(L160>L161,K160,K161))","v":""},"beat",{"$f":"IF(L160<0,\"\",IF(L160>L161,K161,K160))","v":""},{"$f":"IF(L160>L161,L160-L161,L161-L160)","v":0},{"$f":"IF(C128=\"\",\"\",IF(ISTEXT(M160),M160,IF(ISTEXT(M161),M161,\"\")))","v":""},{"$f":"GAMES!B83","v":"00:00:00"},{"$f":"GAMES!C83","v":"00:00:00"},null,{"$f":"RESULTS!G40","v":" Block 2 Player 6"},{"$f":"RESULTS!H40","v":-1E-3},{"$f":"RESULTS!I40","v":-1E-3}]
[null,null,{"$f":"IF(L162<0,\"\",IF(L162>L163,K162,K163))","v":""},"beat",{"$f":"IF(L162<0,\"\",IF(L162>L163,K163,K162))","v":""},{"$f":"IF(L162>L163,L162-L163,L163-L162)","v":0},{"$f":"IF(C129=\"\",\"\",IF(ISTEXT(M162),M162,IF(ISTEXT(M163),M163,\"\")))","v":""},{"$f":"GAMES!B84","v":"00:00:00"},{"$f":"GAMES!C84","v":"00:00:00"},null,{"$f":"RESULTS!G41","v":" Block 2 Player 8"},{"$f":"RESULTS!H41","v":-1E-3},{"$f":"RESULTS!I41","v":-1E-3}]
[null,null,{"$f":"IF(L164<0,\"\",IF(L164>L165,K164,K165))","v":""},"beat",{"$f":"IF(L164<0,\"\",IF(L164>L165,K165,K164))","v":""},{"$f":"IF(L164>L165,L164-L165,L165-L164)","v":0},{"$f":"IF(C130=\"\",\"\",IF(ISTEXT(M164),M164,IF(ISTEXT(M165),M165,\"\")))","v":""},{"$f":"GAMES!B85","v":"00:00:00"},{"$f":"GAMES!C85","v":"00:00:00"},null,{"$f":"RESULTS!G42","v":" Block 2 Player 5"},{"$f":"RESULTS!H42","v":-1E-3},{"$f":"RESULTS!I42","v":-1E-3}]
[null,null,{"$f":"IF(L166<0,\"\",IF(L166>L167,K166,K167))","v":""},"beat",{"$f":"IF(L166<0,\"\",IF(L166>L167,K167,K166))","v":""},{"$f":"IF(L166>L167,L166-L167,L167-L166)","v":0},{"$f":"IF(C131=\"\",\"\",IF(ISTEXT(M166),M166,IF(ISTEXT(M167),M167,\"\")))","v":""},{"$f":"GAMES!B86","v":"00:00:00"},{"$f":"GAMES!C86","v":"00:00:00"},null,{"$f":"RESULTS!G43","v":" Block 2 Player 9"},{"$f":"RESULTS!H43","v":-1E-3},{"$f":"RESULTS!I43","v":-1E-3}]
[null,null,{"$f":"IF(L168<0,\"\",IF(L168>L169,K168,K169))","v":""},"beat",{"$f":"IF(L168<0,\"\",IF(L168>L169,K169,K168))","v":""},{"$f":"IF(L168>L169,L168-L169,L169-L168)","v":0},{"$f":"IF(C132=\"\",\"\",IF(ISTEXT(M168),M168,IF(ISTEXT(M169),M169,\"\")))","v":""},{"$f":"GAMES!B87","v":"00:00:00"},{"$f":"GAMES!C87","v":"00:00:00"},null,{"$f":"RESULTS!G44","v":" Block 2 Player 4"},{"$f":"RESULTS!H44","v":-1E-3},{"$f":"RESULTS!I44","v":-1E-3}]
[null,null,{"$f":"IF(L170<0,\"\",IF(L170>L171,K170,K171))","v":""},"beat",{"$f":"IF(L170<0,\"\",IF(L170>L171,K171,K170))","v":""},{"$f":"IF(L170>L171,L170-L171,L171-L170)","v":0},{"$f":"IF(C133=\"\",\"\",IF(ISTEXT(M170),M170,IF(ISTEXT(M171),M171,\"\")))","v":""},{"$f":"GAMES!B88","v":"00:00:00"},{"$f":"GAMES!C88","v":"00:00:00"},null,{"$f":"RESULTS!G45","v":" Block 2 Player 10"},{"$f":"RESULTS!H45","v":-1E-3},{"$f":"RESULTS!I45","v":-1E-3}]
[null,null,{"$f":"IF(L172<0,\"\",IF(L172>L173,K172,K173))","v":""},"beat",{"$f":"IF(L172<0,\"\",IF(L172>L173,K173,K172))","v":""},{"$f":"IF(L172>L173,L172-L173,L173-L172)","v":0},{"$f":"IF(C134=\"\",\"\",IF(ISTEXT(M172),M172,IF(ISTEXT(M173),M173,\"\")))","v":""},{"$f":"GAMES!B89","v":"00:00:00"},{"$f":"GAMES!C89","v":"00:00:00"},null,{"$f":"RESULTS!G46","v":" Block 2 Player 3"},{"$f":"RESULTS!H46","v":-1E-3},{"$f":"RESULTS!I46","v":-1E-3}]
[null,null,{"$f":"IF(L174<0,\"\",IF(L174>L175,K174,K175))","v":""},"beat",{"$f":"IF(L174<0,\"\",IF(L174>L175,K175,K174))","v":""},{"$f":"IF(L174>L175,L174-L175,L175-L174)","v":0},{"$f":"IF(C135=\"\",\"\",IF(ISTEXT(M174),M174,IF(ISTEXT(M175),M175,\"\")))","v":""},{"$f":"GAMES!B90","v":"00:00:00"},{"$f":"GAMES!C90","v":"00:00:00"},null,{"$f":"RESULTS!G47","v":" Block 2 Player 2"},{"$f":"RESULTS!H47","v":-1E-3},{"$f":"RESULTS!I47","v":-1E-3}]
[null,null,{"$f":"IF(L176<0,\"\",IF(L176>L177,K176,K177))","v":""},"beat",{"$f":"IF(L176<0,\"\",IF(L176>L177,K177,K176))","v":""},{"$f":"IF(L176>L177,L176-L177,L177-L176)","v":0},{"$f":"IF(C136=\"\",\"\",IF(ISTEXT(M176),M176,IF(ISTEXT(M177),M177,\"\")))","v":""},{"$f":"GAMES!B91","v":"00:00:00"},{"$f":"GAMES!C91","v":"00:00:00"},null,{"$f":"RESULTS!K28","v":" Block 2 Player 1"},{"$f":"RESULTS!L28","v":-1E-3},{"$f":"RESULTS!M28","v":-1E-3}]
[null,null,{"$f":"IF(L178<0,\"\",IF(L178>L179,K178,K179))","v":""},"beat",{"$f":"IF(L178<0,\"\",IF(L178>L179,K179,K178))","v":""},{"$f":"IF(L178>L179,L178-L179,L179-L178)","v":0},{"$f":"IF(C137=\"\",\"\",IF(ISTEXT(M178),M178,IF(ISTEXT(M179),M179,\"\")))","v":""},{"$f":"GAMES!B92","v":"00:00:00"},{"$f":"GAMES!C92","v":"00:00:00"},null,{"$f":"RESULTS!K29","v":" Block 2 Player 6"},{"$f":"RESULTS!L29","v":-1E-3},{"$f":"RESULTS!M29","v":-1E-3}]
[null,null,{"$f":"IF(L180<0,\"\",IF(L180>L181,K180,K181))","v":""},"beat",{"$f":"IF(L180<0,\"\",IF(L180>L181,K181,K180))","v":""},{"$f":"IF(L180>L181,L180-L181,L181-L180)","v":0},{"$f":"IF(C138=\"\",\"\",IF(ISTEXT(M180),M180,IF(ISTEXT(M181),M181,\"\")))","v":""},{"$f":"GAMES!B93","v":"00:00:00"},{"$f":"GAMES!C93","v":"00:00:00"},null,{"$f":"RESULTS!K30","v":" Block 2 Player 5"},{"$f":"RESULTS!L30","v":-1E-3},{"$f":"RESULTS!M30","v":-1E-3}]
[null,null,{"$f":"IF(L182<0,\"\",IF(L182>L183,K182,K183))","v":""},"beat",{"$f":"IF(L182<0,\"\",IF(L182>L183,K183,K182))","v":""},{"$f":"IF(L182>L183,L182-L183,L183-L182)","v":0},{"$f":"IF(C139=\"\",\"\",IF(ISTEXT(M182),M182,IF(ISTEXT(M183),M183,\"\")))","v":""},{"$f":"GAMES!B94","v":"00:00:00"},{"$f":"GAMES!C94","v":"00:00:00"},null,{"$f":"RESULTS!K31","v":" Block 2 Player 7"},{"$f":"RESULTS!L31","v":-1E-3},{"$f":"RESULTS!M31","v":-1E-3}]
[null,null,{"$f":"IF(L184<0,\"\",IF(L184>L185,K184,K185))","v":""},"beat",{"$f":"IF(L184<0,\"\",IF(L184>L185,K185,K184))","v":""},{"$f":"IF(L184>L185,L184-L185,L185-L184)","v":0},{"$f":"IF(C140=\"\",\"\",IF(ISTEXT(M184),M184,IF(ISTEXT(M185),M185,\"\")))","v":""},{"$f":"GAMES!B95","v":"00:00:00"},{"$f":"GAMES!C95","v":"00:00:00"},null,{"$f":"RESULTS!K32","v":" Block 2 Player 4"},{"$f":"RESULTS!L32","v":-1E-3},{"$f":"RESULTS!M32","v":-1E-3}]
[null,null,null,null,null,null,null,null,null,null,{"$f":"RESULTS!K33","v":" Block 2 Player 8"},{"$f":"RESULTS!L33","v":-1E-3},{"$f":"RESULTS!M33","v":-1E-3}]
[null,null,null,null,null,null,null,null,null,null,{"$f":"RESULTS!K34","v":" Block 2 Player 3"},{"$f":"RESULTS!L34","v":-1E-3},{"$f":"RESULTS!M34","v":-1E-3}]
[null,null,null,null,null,null,null,null,null,null,{"$f":"RESULTS!K35","v":" Block 2 Player 9"},{"$f":"RESULTS!L35","v":-1E-3},{"$f":"RESULTS!M35","v":-1E-3}]
[null,null,null,null,null,null,null,null,null,null,{"$f":"RESULTS!K36","v":" Block 2 Player 2"},{"$f":"RESULTS!L36","v":-1E-3},{"$f":"RESULTS!M36","v":-1E-3}]
[null,null,null,null,null,null,null,null,null,null,{"$f":"RESULTS!K37","v":" Block 2 Player 10"},{"$f":"RESULTS!L37","v":-1E-3},{"$f":"RESULTS!M37","v":-1E-3}]
[null,null,null,null,null,null,null,null,null,null,{"$f":"RESULTS!K38","v":" Block 2 Player 1"},{"$f":"RESULTS!L38","v":-1E-3},{"$f":"RESULTS!M38","v":-1E-3}]
[null,null,null,null,null,null,null,null,null,null,{"$f":"RESULTS!K39","v":" Block 2 Player 5"},{"$f":"RESULTS!L39","v":-1E-3},{"$f":"RESULTS!M39","v":-1E-3}]
[null,null,null,null,null,null,null,null,null,null,{"$f":"RESULTS!K40","v":" Block 2 Player 4"},{"$f":"RESULTS!L40","v":-1E-3},{"$f":"RESULTS!M40","v":-1E-3}]
[null,null,null,null,null,null,null,null,null,null,{"$f":"RESULTS!K41","v":" Block 2 Player 6"},{"$f":"RESULTS!L41","v":-1E-3},{"$f":"RESULTS!M41","v":-1E-3}]
[null,null,null,null,null,null,null,null,null,null,{"$f":"RESULTS!K42","v":" Block 2 Player 3"},{"$f":"RESULTS!L42","v":-1E-3},{"$f":"RESULTS!M42","v":-1E-3}]
[null,null,null,null,null,null,null,null,null,null,{"$f":"RESULTS!K43","v":" Block 2 Player 7"},{"$f":"RESULTS!L43","v":-1E-3},{"$f":"RESULTS!M43","v":-1E-3}]
[null,null,null,null,null,null,null,null,null,null,{"$f":"RESULTS!K44","v":" Block 2 Player 2"},{"$f":"RESULTS!L44","v":-1E-3},{"$f":"RESULTS!M44","v":-1E-3}]
[null,null,null,null,null,null,null,null,null,null,{"$f":"RESULTS!K45","v":" Block 2 Player 8"},{"$f":"RESULTS!L45","v":-1E-3},{"$f":"RESULTS!M45","v":-1E-3}]
[null,null,null,null,null,null,null,null,null,null,{"$f":"RESULTS!K46","v":" Block 2 Player 10"},{"$f":"RESULTS!L46","v":-1E-3},{"$f":"RESULTS!M46","v":-1E-3}]
[null,null,null,null,null,null,null,null,null,null,{"$f":"RESULTS!K47","v":" Block 2 Player 9"},{"$f":"RESULTS!L47","v":-1E-3},{"$f":"RESULTS!M47","v":-1E-3}]
[null,null,null,null,null,null,null,null,null,null,{"$f":"RESULTS!O28","v":" Block 2 Player 1"},{"$f":"RESULTS!P28","v":-1E-3},{"$f":"RESULTS!Q28","v":-1E-3}]
[null,null,null,null,null,null,null,null,null,null,{"$f":"RESULTS!O29","v":" Block 2 Player 4"},{"$f":"RESULTS!P29","v":-1E-3},{"$f":"RESULTS!Q29","v":-1E-3}]
[null,null,null,null,null,null,null,null,null,null,{"$f":"RESULTS!O30","v":" Block 2 Player 5"},{"$f":"RESULTS!P30","v":-1E-3},{"$f":"RESULTS!Q30","v":-1E-3}]
[null,null,null,null,null,null,null,null,null,null,{"$f":"RESULTS!O31","v":" Block 2 Player 3"},{"$f":"RESULTS!P31","v":-1E-3},{"$f":"RESULTS!Q31","v":-1E-3}]
[null,null,null,null,null,null,null,null,null,null,{"$f":"RESULTS!O32","v":" Block 2 Player 2"},{"$f":"RESULTS!P32","v":-1E-3},{"$f":"RESULTS!Q32","v":-1E-3}]
[null,null,null,null,null,null,null,null,null,null,{"$f":"RESULTS!O33","v":" Block 2 Player 6"},{"$f":"RESULTS!P33","v":-1E-3},{"$f":"RESULTS!Q33","v":-1E-3}]
[null,null,null,null,null,null,null,null,null,null,{"$f":"RESULTS!O34","v":" Block 2 Player 10"},{"$f":"RESULTS!P34","v":-1E-3},{"$f":"RESULTS!Q34","v":-1E-3}]
[null,null,null,null,null,null,null,null,null,null,{"$f":"RESULTS!O35","v":" Block 2 Player 7"},{"$f":"RESULTS!P35","v":-1E-3},{"$f":"RESULTS!Q35","v":-1E-3}]
[null,null,null,null,null,null,null,null,null,null,{"$f":"RESULTS!O36","v":" Block 2 Player 9"},{"$f":"RESULTS!P36","v":-1E-3},{"$f":"RESULTS!Q36","v":-1E-3}]
[null,null,null,null,null,null,null,null,null,null,{"$f":"RESULTS!O37","v":" Block 2 Player 8"},{"$f":"RESULTS!P37","v":-1E-3},{"$f":"RESULTS!Q37","v":-1E-3}]
[null,null,null,null,null,null,null,null,null,null,{"$f":"RESULTS!O38","v":" Block 2 Player 1"},{"$f":"RESULTS!P38","v":-1E-3},{"$f":"RESULTS!Q38","v":-1E-3}]
[null,null,null,null,null,null,null,null,null,null,{"$f":"RESULTS!O39","v":" Block 2 Player 3"},{"$f":"RESULTS!P39","v":-1E-3},{"$f":"RESULTS!Q39","v":-1E-3}]
[null,null,null,null,null,null,null,null,null,null,{"$f":"RESULTS!O40","v":" Block 2 Player 2"},{"$f":"RESULTS!P40","v":-1E-3},{"$f":"RESULTS!Q40","v":-1E-3}]
[null,null,null,null,null,null,null,null,null,null,{"$f":"RESULTS!O41","v":" Block 2 Player 4"},{"$f":"RESULTS!P41","v":-1E-3},{"$f":"RESULTS!Q41","v":-1E-3}]
[null,null,null,null,null,null,null,null,null,null,{"$f":"RESULTS!O42","v":" Block 2 Player 10"},{"$f":"RESULTS!P42","v":-1E-3},{"$f":"RESULTS!Q42","v":-1E-3}]
[null,null,null,null,null,null,null,null,null,null,{"$f":"RESULTS!O43","v":" Block 2 Player 5"},{"$f":"RESULTS!P43","v":-1E-3},{"$f":"RESULTS!Q43","v":-1E-3}]
[null,null,null,null,null,null,null,null,null,null,{"$f":"RESULTS!O44","v":" Block 2 Player 9"},{"$f":"RESULTS!P44","v":-1E-3},{"$f":"RESULTS!Q44","v":-1E-3}]
[null,null,null,null,null,null,null,null,null,null,{"$f":"RESULTS!O45","v":" Block 2 Player 6"},{"$f":"RESULTS!P45","v":-1E-3},{"$f":"RESULTS!Q45","v":-1E-3}]
[null,null,null,null,null,null,null,null,null,null,{"$f":"RESULTS!O46","v":" Block 2 Player 8"},{"$f":"RESULTS!P46","v":-1E-3},{"$f":"RESULTS!Q46","v":-1E-3}]
[null,null,null,null,null,null,null,null,null,null,{"$f":"RESULTS!O47","v":" Block 2 Player 7"},{"$f":"RESULTS!P47","v":-1E-3},{"$f":"RESULTS!Q47","v":-1E-3}]
[null,null,null,null,null,null,null,null,null,null,{"$f":"RESULTS!S28","v":" Block 2 Player 1"},{"$f":"RESULTS!T28","v":-1E-3},{"$f":"RESULTS!U28","v":-1E-3}]
[null,null,null,null,null,null,null,null,null,null,{"$f":"RESULTS!S29","v":" Block 2 Player 2"},{"$f":"RESULTS!T29","v":-1E-3},{"$f":"RESULTS!U29","v":-1E-3}]
[null,null,null,null,null,null,null,null,null,null,{"$f":"RESULTS!S30","v":" Block 2 Player 10"},{"$f":"RESULTS!T30","v":-1E-3},{"$f":"RESULTS!U30","v":-1E-3}]
[null,null,null,null,null,null,null,null,null,null,{"$f":"RESULTS!S31","v":" Block 2 Player 3"},{"$f":"RESULTS!T31","v":-1E-3},{"$f":"RESULTS!U31","v":-1E-3}]
[null,null,null,null,null,null,null,null,null,null,{"$f":"RESULTS!S32","v":" Block 2 Player 9"},{"$f":"RESULTS!T32","v":-1E-3},{"$f":"RESULTS!U32","v":-1E-3}]
[null,null,null,null,null,null,null,null,null,null,{"$f":"RESULTS!S33","v":" Block 2 Player 4"},{"$f":"RESULTS!T33","v":-1E-3},{"$f":"RESULTS!U33","v":-1E-3}]
[null,null,null,null,null,null,null,null,null,null,{"$f":"RESULTS!S34","v":" Block 2 Player 8"},{"$f":"RESULTS!T34","v":-1E-3},{"$f":"RESULTS!U34","v":-1E-3}]
[null,null,null,null,null,null,null,null,null,null,{"$f":"RESULTS!S35","v":" Block 2 Player 5"},{"$f":"RESULTS!T35","v":-1E-3},{"$f":"RESULTS!U35","v":-1E-3}]
[null,null,null,null,null,null,null,null,null,null,{"$f":"RESULTS!S36","v":" Block 2 Player 7"},{"$f":"RESULTS!T36","v":-1E-3},{"$f":"RESULTS!U36","v":-1E-3}]
[null,null,null,null,null,null,null,null,null,null,{"$f":"RESULTS!S37","v":" Block 2 Player 6"},{"$f":"RESULTS!T37","v":-1E-3},{"$f":"RESULTS!U37","v":-1E-3}]
[]
[]
[null,null,{"$f":"NAMES!$C$7","v":"TOURNAMENT"}]
[null,null,{"$f":"NAMES!$C$9","v":"DATE"}]
[null,null,{"$f":"NAMES!$C$8","v":"GROUP"},null,{"$f":"NAMES!$C$10","v":"BLOCK 1"}]
[null,null,"Name",null,"Name","Margin","Peels","Time","Day"]
[null,1,"","beat","",0,"","00:00:00","00:00:00"]
[null,2,"","beat","",0,"","00:00:00","00:00:00"]
[null,3,"","beat","",0,"","00:00:00","00:00:00"]
[null,4,"","beat","",0,"","00:00:00","00:00:00"]
[null,5,"","beat","",0,"","00:00:00","00:00:00"]
[null,6,"","beat","",0,"","00:00:00","00:00:00"]
[null,7,"","beat","",0,"","00:00:00","00:00:00"]
[null,8,"","beat","",0,"","00:00:00","00:00:00"]
[null,9,"","beat","",0,"","00:00:00","00:00:00"]
[null,10,"","beat","",0,"","00:00:00","00:00:00"]
[null,11,"","beat","",0,"","00:00:00","00:00:00"]
[null,12,"","beat","",0,"","00:00:00","00:00:00"]
[null,13,"","beat","",0,"","00:00:00","00:00:00"]
[null,14,"","beat","",0,"","00:00:00","00:00:00"]
[null,15,"","beat","",0,"","00:00:00","00:00:00"]
[null,16,"","beat","",0,"","00:00:00","00:00:00"]
[null,17,"","beat","",0,"","00:00:00","00:00:00"]
[null,18,"","beat","",0,"","00:00:00","00:00:00"]
[null,19,"","beat","",0,"","00:00:00","00:00:00"]
[null,20,"","beat","",0,"","00:00:00","00:00:00"]
[null,21,"","beat","",0,"","00:00:00","00:00:00"]
[null,22,"","beat","",0,"","00:00:00","00:00:00"]
[null,23,"","beat","",0,"","00:00:00","00:00:00"]
[null,24,"","beat","",0,"","00:00:00","00:00:00"]
[null,25,"","beat","",0,"","00:00:00","00:00:00"]
[null,26,"","beat","",0,"","00:00:00","00:00:00"]
[null,27,"","beat","",0,"","00:00:00","00:00:00"]
[null,28,"","beat","",0,"","00:00:00","00:00:00"]
[null,29,"","beat","",0,"","00:00:00","00:00:00"]
[null,30,"","beat","",0,"","00:00:00","00:00:00"]
[null,31,"","beat","",0,"","00:00:00","00:00:00"]
[null,32,"","beat","",0,"","00:00:00","00:00:00"]
[null,33,"","beat","",0,"","00:00:00","00:00:00"]
[null,34,"","beat","",0,"","00:00:00","00:00:00"]
[null,35,"","beat","",0,"","00:00:00","00:00:00"]
[null,36,"","beat","",0,"","00:00:00","00:00:00"]
[null,37,"","beat","",0,"","00:00:00","00:00:00"]
[null,38,"","beat","",0,"","00:00:00","00:00:00"]
[null,39,"","beat","",0,"","00:00:00","00:00:00"]
[null,40,"","beat","",0,"","00:00:00","00:00:00"]
[null,41,"","beat","",0,"","00:00:00","00:00:00"]
[null,42,"","beat","",0,"","00:00:00","00:00:00"]
[null,43,"","beat","",0,"","00:00:00","00:00:00"]
[null,44,"","beat","",0,"","00:00:00","00:00:00"]
[null,45,"","beat","",0,"","00:00:00","00:00:00"]
[]
[null,null,{"$f":"NAMES!$C$7","v":"TOURNAMENT"}]
[null,null,{"$f":"NAMES!$C$9","v":"DATE"}]
[null,null,{"$f":"NAMES!$C$8","v":"GROUP"},null,{"$f":"NAMES!$C$61","v":"BLOCK 2"}]
[null,null,"Name",null,"Name","Margin","Peels","Time","Day"]
[null,1,"","beat","",0,"","00:00:00","00:00:00"]
[null,2,"","beat","",0,"","00:00:00","00:00:00"]
[null,3,"","beat","",0,"","00:00:00","00:00:00"]
[null,4,"","beat","",0,"","00:00:00","00:00:00"]
[null,5,"","beat","",0,"","00:00:00","00:00:00"]
[null,6,"","beat","",0,"","00:00:00","00:00:00"]
[null,7,"","beat","",0,"","00:00:00","00:00:00"]
[null,8,"","beat","",0,"","00:00:00","00:00:00"]
[null,9,"","beat","",0,"","00:00:00","00:00:00"]
[null,10,"","beat","",0,"","00:00:00","00:00:00"]
[null,11,"","beat","",0,"","00:00:00","00:00:00"]
[null,12,"","beat","",0,"","00:00:00","00:00:00"]
[null,13,"","beat","",0,"","00:00:00","00:00:00"]
[null,14,"","beat","",0,"","00:00:00","00:00:00"]
[null,15,"","beat","",0,"","00:00:00","00:00:00"]
[null,16,"","beat","",0,"","00:00:00","00:00:00"]
[null,17,"","beat","",0,"","00:00:00","00:00:00"]
[null,18,"","beat","",0,"","00:00:00","00:00:00"]
[null,19,"","beat","",0,"","00:00:00","00:00:00"]
[null,20,"","beat","",0,"","00:00:00","00:00:00"]
[null,21,"","beat","",0,"","00:00:00","00:00:00"]
[null,22,"","beat","",0,"","00:00:00","00:00:00"]
[null,23,"","beat","",0,"","00:00:00","00:00:00"]
[null,24,"","beat","",0,"","00:00:00","00:00:00"]
[null,25,"","beat","",0,"","00:00:00","00:00:00"]
[null,26,"","beat","",0,"","00:00:00","00:00:00"]
[null,27,"","beat","",0,"","00:00:00","00:00:00"]
[null,28,"","beat","",0,"","00:00:00","00:00:00"]
[null,29,"","beat","",0,"","00:00:00","00:00:00"]
[null,30,"","beat","",0,"","00:00:00","00:00:00"]
[null,31,"","beat","",0,"","00:00:00","00:00:00"]
[null,32,"","beat","",0,"","00:00:00","00:00:00"]
[null,33,"","beat","",0,"","00:00:00","00:00:00"]
[null,34,"","beat","",0,"","00:00:00","00:00:00"]
[null,35,"","beat","",0,"","00:00:00","00:00:00"]
[null,36,"","beat","",0,"","00:00:00","00:00:00"]
[null,37,"","beat","",0,"","00:00:00","00:00:00"]
[null,38,"","beat","",0,"","00:00:00","00:00:00"]
[null,39,"","beat","",0,"","00:00:00","00:00:00"]
[null,40,"","beat","",0,"","00:00:00","00:00:00"]
[null,41,"","beat","",0,"","00:00:00","00:00:00"]
[null,42,"","beat","",0,"","00:00:00","00:00:00"]
[null,43,"","beat","",0,"","00:00:00","00:00:00"]
[null,44,"","beat","",0,"","00:00:00","00:00:00"]
[null,45,"","beat","",0,"","00:00:00","00:00:00"]

{"sheet":"HANDICAP CARD","index":12,"n_rows":240,"n_cols":20,"rows_kept":240,"cut":false,"hidden":false,"merged":[[0,1,0,11],[1,13,1,14],[13,1,13,2],[13,12,14,12],[13,13,13,14],[14,6,14,7],[1,1,1,2],[1,12,2,12],[2,6,2,7],[25,1,25,2],[25,12,26,12],[25,13,25,14],[26,6,26,7],[37,1,37,2],[37,12,38,12],[37,13,37,14],[38,6,38,7],[49,1,49,2],[49,12,50,12],[49,13,49,14],[50,6,50,7],[61,1,61,2],[61,12,62,12],[61,13,61,14],[62,6,62,7],[73,1,73,2],[73,12,74,12],[73,13,73,14],[74,6,74,7],[85,1,85,2],[85,12,86,12],[85,13,85,14],[86,6,86,7],[97,1,97,2],[97,12,98,12],[97,13,97,14],[98,6,98,7],[109,1,109,2],[109,12,110,12],[109,13,109,14],[110,6,110,7],[121,1,121,2],[121,12,122,12],[121,13,121,14],[122,6,122,7],[133,1,133,2],[133,12,134,12],[133,13,133,14],[134,6,134,7],[145,1,145,2],[145,12,146,12],[145,13,145,14],[146,6,146,7],[157,1,157,2],[157,12,158,12],[157,13,157,14],[158,6,158,7],[194,6,194,7],[169,1,169,2],[169,12,170,12],[169,13,169,14],[170,6,170,7],[181,1,181,2],[181,12,182,12],[181,13,181,14],[182,6,182,7],[120,1,120,12],[229,1,229,2],[229,12,230,12],[229,13,229,14],[230,6,230,7],[217,1,217,2],[217,12,218,12],[217,13,217,14],[218,6,218,7],[205,1,205,2],[205,12,206,12],[205,13,205,14],[206,6,206,7],[193,1,193,2],[193,12,194,12],[193,13,193,14]]}
[null,{"$f":"SEED!$D$5","v":"BLOCK 1"}]
[null,"Player",null,{"$f":"SEED!$D$7","v":" Block 1 Player 1"},null,null,"Start H/C",{"$f":"SEED!$E$7","v":0},"New H/C",{"$f":"VLOOKUP(D2,HCTableBlk1,2,FALSE)","v":0},"Start Index",{"$f":"SEED!$C$7","v":0},"HC Change Indicator","BLOCK 1"]
[null,"Date","Event","Opponent","Op Hcap","Lev / Hcap","Score",null,"Won / Lost","Change +/-",null,"New Index",null,"Player","H/C","Temp H/C",null,null,"HC Change Flags"]
[null,{"$f":"NAMES!$C$9","v":"DATE"},{"$f":"NAMES!$C$7","v":"TOURNAMENT"},{"$f":"PLAYER!F9","v":" Block 1 Player 10"},{"$f":"VLOOKUP($D$4,HCTableBlk1,2,FALSE)","v":0},{"$f":"IF(HandicapPlay = \"x\",\"H\",\"L\")","v":"L"},{"$f":"PLAYER!I9","v":-1E-3},{"$f":"PLAYER!J9","v":-1E-3},{"$f":"IF(G4<0,\"\",IF(G4>H4,\"W\",\"L\"))","v":""},null,null,{"$f":"IF(J4=\"\",\"\",IF((L2+J4)<900,900,(L2+J4)))","v":""},null,{"$f":"SEED!D7","v":" Block 1 Player 1"},{"$f":"SEED!E7","v":0},null,{"$f":"VLOOKUP($D$4,HCTableBlk1,2,FALSE)","v":0},null,0,1]
[null,"\"","\"                   \"",{"$f":"PLAYER!F10","v":" Block 1 Player 9"},{"$f":"VLOOKUP($D$5,HCTableBlk1,2,FALSE)","v":0},"L",{"$f":"PLAYER!I10","v":-1E-3},{"$f":"PLAYER!J10","v":-1E-3},{"$f":"IF(G5<0,\"\",IF(G5>H5,\"W\",\"L\"))","v":""},null,null,{"$f":"IF(J5=\"\",\"\",IF((L4+J5)<900,900,(L4+J5)))","v":""},null,{"$f":"SEED!D8","v":" Block 1 Player 2"},{"$f":"SEED!E8","v":0},null,{"$f":"VLOOKUP($D$5,HCTableBlk1,2,FALSE)","v":0},null,0,2]
[null,"\"","\"                   \"",{"$f":"PLAYER!F11","v":" Block 1 Player 8"},{"$f":"VLOOKUP($D$6,HCTableBlk1,2,FALSE)","v":0},"L",{"$f":"PLAYER!I11","v":-1E-3},{"$f":"PLAYER!J11","v":-1E-3},"",null,null,"",null,{"$f":"SEED!D9","v":" Block 1 Player 3"},{"$f":"SEED!E9","v":0},null,{"$f":"VLOOKUP($D$6,HCTableBlk1,2,FALSE)","v":0},null,0,3]
[null,"\"","\"                   \"",{"$f":"PLAYER!F12","v":" Block 1 Player 7"},{"$f":"VLOOKUP($D$7,HCTableBlk1,2,FALSE)","v":0},"L",{"$f":"PLAYER!I12","v":-1E-3},{"$f":"PLAYER!J12","v":-1E-3},"",null,null,"",null,{"$f":"SEED!D10","v":" Block 1 Player 4"},{"$f":"SEED!E10","v":0},null,{"$f":"VLOOKUP($D$7,HCTableBlk1,2,FALSE)","v":0},null,0,4]
[null,"\"","\"                   \"",{"$f":"PLAYER!F13","v":" Block 1 Player 6"},{"$f":"VLOOKUP($D$8,HCTableBlk1,2,FALSE)","v":0},"L",{"$f":"PLAYER!I13","v":-1E-3},{"$f":"PLAYER!J13","v":-1E-3},"",null,null,"",null,{"$f":"SEED!D11","v":" Block 1 Player 5"},{"$f":"SEED!E11","v":0},null,{"$f":"VLOOKUP($D$8,HCTableBlk1,2,FALSE)","v":0},null,0,5]
[null,"\"","\"                   \"",{"$f":"PLAYER!F14","v":" Block 1 Player 5"},{"$f":"VLOOKUP($D$9,HCTableBlk1,2,FALSE)","v":0},"L",{"$f":"PLAYER!I14","v":-1E-3},{"$f":"PLAYER!J14","v":-1E-3},"",null,null,"",null,{"$f":"SEED!D12","v":" Block 1 Player 6"},{"$f":"SEED!E12","v":0},null,{"$f":"VLOOKUP($D$9,HCTableBlk1,2,FALSE)","v":0},null,0,6]
[null,"\"","\"                   \"",{"$f":"PLAYER!F15","v":" Block 1 Player 4"},{"$f":"VLOOKUP($D$10,HCTableBlk1,2,FALSE)","v":0},"L",{"$f":"PLAYER!I15","v":-1E-3},{"$f":"PLAYER!J15","v":-1E-3},"",null,null,"",null,{"$f":"SEED!D13","v":" Block 1 Player 7"},{"$f":"SEED!E13","v":0},null,{"$f":"VLOOKUP($D$10,HCTableBlk1,2,FALSE)","v":0},null,0,7]
[null,"\"","\"                   \"",{"$f":"PLAYER!F16","v":" Block 1 Player 3"},{"$f":"VLOOKUP($D$11,HCTableBlk1,2,FALSE)","v":0},"L",{"$f":"PLAYER!I16","v":-1E-3},{"$f":"PLAYER!J16","v":-1E-3},"",null,null,"",null,{"$f":"SEED!D14","v":" Block 1 Player 8"},{"$f":"SEED!E14","v":0},null,{"$f":"VLOOKUP($D$11,HCTableBlk1,2,FALSE)","v":0},null,0,8]
[null,"\"","\"                   \"",{"$f":"PLAYER!F17","v":" Block 1 Player 2"},{"$f":"VLOOKUP($D$12,HCTableBlk1,2,FALSE)","v":0},"L",{"$f":"PLAYER!I17","v":-1E-3},{"$f":"PLAYER!J17","v":-1E-3},"",null,"Finish >","",null,{"$f":"SEED!D15","v":" Block 1 Player 9"},{"$f":"SEED!E15","v":0},null,{"$f":"VLOOKUP($D$12,HCTableBlk1,2,FALSE)","v":0},null,0,9]
[null,null,null,null,null,null,null,null,null,null,null,null,null,{"$f":"SEED!D16","v":" Block 1 Player 10"},{"$f":"SEED!E16","v":0},null,null,null,0,10]
[null,"Player",null,{"$f":"SEED!$D$8","v":" Block 1 Player 2"},null,null,"Start H/C",{"$f":"SEED!$E$8","v":0},"New H/C",{"$f":"VLOOKUP(D14,HCTableBlk1,2,FALSE)","v":0},"Start Index",{"$f":"SEED!$C$8","v":0},"HC Change Indicator",null,null,7]
[null,"Date","Event","Opponent","Op Hcap","Lev / Hcap","Score",null,"Won / Lost","Change +/-",null,"New Index"]
[null,{"$f":"NAMES!$C$9","v":"DATE"},{"$f":"NAMES!$C$7","v":"TOURNAMENT"},{"$f":"PLAYER!F63","v":" Block 1 Player 9"},{"$f":"VLOOKUP($D$16,HCTableBlk1,2,FALSE)","v":0},{"$f":"IF(HandicapPlay = \"x\",\"H\",\"L\")","v":"L"},{"$f":"PLAYER!I63","v":-1E-3},{"$f":"PLAYER!J63","v":-1E-3},{"$f":"IF(G16<0,\"\",IF(G16>H16,\"W\",\"L\"))","v":""},null,null,{"$f":"IF(J16=\"\",\"\",IF((L14+J16)<900,900,(L14+J16)))","v":""},null,null,null,null,{"$f":"VLOOKUP($D$16,HCTableBlk1,2,FALSE)","v":0}]
[null,"\"","\"                   \"",{"$f":"PLAYER!F64","v":" Block 1 Player 7"},{"$f":"VLOOKUP($D$17,HCTableBlk1,2,FALSE)","v":0},"L",{"$f":"PLAYER!I64","v":-1E-3},{"$f":"PLAYER!J64","v":-1E-3},{"$f":"IF(G17<0,\"\",IF(G17>H17,\"W\",\"L\"))","v":""},null,null,{"$f":"IF(J17=\"\",\"\",IF((L16+J17)<900,900,(L16+J17)))","v":""},null,null,null,null,{"$f":"VLOOKUP($D$17,HCTableBlk1,2,FALSE)","v":0}]
[null,"\"","\"                   \"",{"$f":"PLAYER!F65","v":" Block 1 Player 5"},{"$f":"VLOOKUP($D$18,HCTableBlk1,2,FALSE)","v":0},"L",{"$f":"PLAYER!I65","v":-1E-3},{"$f":"PLAYER!J65","v":-1E-3},"",null,null,"",null,null,null,null,{"$f":"VLOOKUP($D$18,HCTableBlk1,2,FALSE)","v":0}]
[null,"\"","\"                   \"",{"$f":"PLAYER!F66","v":" Block 1 Player 3"},{"$f":"VLOOKUP($D$19,HCTableBlk1,2,FALSE)","v":0},"L",{"$f":"PLAYER!I66","v":-1E-3},{"$f":"PLAYER!J66","v":-1E-3},"",null,null,"",null,null,null,null,{"$f":"VLOOKUP($D$19,HCTableBlk1,2,FALSE)","v":0}]
[null,"\"","\"                   \"",{"$f":"PLAYER!F67","v":" Block 1 Player 10"},{"$f":"VLOOKUP($D$20,HCTableBlk1,2,FALSE)","v":0},"L",{"$f":"PLAYER!I67","v":-1E-3},{"$f":"PLAYER!J67","v":-1E-3},"",null,null,"",null,null,null,null,{"$f":"VLOOKUP($D$20,HCTableBlk1,2,FALSE)","v":0}]
[null,"\"","\"                   \"",{"$f":"PLAYER!F68","v":" Block 1 Player 8"},{"$f":"VLOOKUP($D$21,HCTableBlk1,2,FALSE)","v":0},"L",{"$f":"PLAYER!I68","v":-1E-3},{"$f":"PLAYER!J68","v":-1E-3},"",null,null,"",null,null,null,null,{"$f":"VLOOKUP($D$21,HCTableBlk1,2,FALSE)","v":0}]
[null,"\"","\"                   \"",{"$f":"PLAYER!F69","v":" Block 1 Player 6"},{"$f":"VLOOKUP($D$22,HCTableBlk1,2,FALSE)","v":0},"L",{"$f":"PLAYER!I69","v":-1E-3},{"$f":"PLAYER!J69","v":-1E-3},"",null,null,"",null,null,null,null,{"$f":"VLOOKUP($D$22,HCTableBlk1,2,FALSE)","v":0}]
[null,"\"","\"                   \"",{"$f":"PLAYER!F70","v":" Block 1 Player 4"},{"$f":"VLOOKUP($D$23,HCTableBlk1,2,FALSE)","v":0},"L",{"$f":"PLAYER!I70","v":-1E-3},{"$f":"PLAYER!J70","v":-1E-3},"",null,null,"",null,null,null,null,{"$f":"VLOOKUP($D$23,HCTableBlk1,2,FALSE)","v":0}]
[null,"\"","\"                   \"",{"$f":"PLAYER!F71","v":" Block 1 Player 1"},{"$f":"VLOOKUP($D$24,HCTableBlk1,2,FALSE)","v":0},"L",{"$f":"PLAYER!I71","v":-1E-3},{"$f":"PLAYER!J71","v":-1E-3},"",null,"Finish >","",null,null,null,null,{"$f":"VLOOKUP($D$24,HCTableBlk1,2,FALSE)","v":0}]
[]
[null,"Player",null,{"$f":"SEED!$D$9","v":" Block 1 Player 3"},null,null,"Start H/C",{"$f":"SEED!$E$9","v":0},"New H/C",{"$f":"VLOOKUP(D26,HCTableBlk1,2,FALSE)","v":0},"Start Index",{"$f":"SEED!$C$9","v":0},"HC Change Indicator"]
[null,"Date","Event","Opponent","Op Hcap","Lev / Hcap","Score",null,"Won / Lost","Change +/-",null,"New Index"]
[null,{"$f":"NAMES!$C$9","v":"DATE"},{"$f":"NAMES!$C$7","v":"TOURNAMENT"},{"$f":"PLAYER!F117","v":" Block 1 Player 8"},{"$f":"VLOOKUP($D$28,HCTableBlk1,2,FALSE)","v":0},{"$f":"IF(HandicapPlay = \"x\",\"H\",\"L\")","v":"L"},{"$f":"PLAYER!I117","v":-1E-3},{"$f":"PLAYER!J117","v":-1E-3},{"$f":"IF(G28<0,\"\",IF(G28>H28,\"W\",\"L\"))","v":""},null,null,{"$f":"IF(J28=\"\",\"\",IF((L26+J28)<900,900,(L26+J28)))","v":""},null,null,null,null,{"$f":"VLOOKUP($D$28,HCTableBlk1,2,FALSE)","v":0}]
[null,"\"","\"                   \"",{"$f":"PLAYER!F118","v":" Block 1 Player 6"},{"$f":"VLOOKUP($D$29,HCTableBlk1,2,FALSE)","v":0},"L",{"$f":"PLAYER!I118","v":-1E-3},{"$f":"PLAYER!J118","v":-1E-3},{"$f":"IF(G29<0,\"\",IF(G29>H29,\"W\",\"L\"))","v":""},null,null,{"$f":"IF(J29=\"\",\"\",IF((L28+J29)<900,900,(L28+J29)))","v":""},null,null,null,null,{"$f":"VLOOKUP($D$29,HCTableBlk1,2,FALSE)","v":0}]
[null,"\"","\"                   \"",{"$f":"PLAYER!F119","v":" Block 1 Player 4"},{"$f":"VLOOKUP($D$30,HCTableBlk1,2,FALSE)","v":0},"L",{"$f":"PLAYER!I119","v":-1E-3},{"$f":"PLAYER!J119","v":-1E-3},"",null,null,"",null,null,null,null,{"$f":"VLOOKUP($D$30,HCTableBlk1,2,FALSE)","v":0}]
[null,"\"","\"                   \"",{"$f":"PLAYER!F120","v":" Block 1 Player 2"},{"$f":"VLOOKUP($D$31,HCTableBlk1,2,FALSE)","v":0},"L",{"$f":"PLAYER!I120","v":-1E-3},{"$f":"PLAYER!J120","v":-1E-3},"",null,null,"",null,null,null,null,{"$f":"VLOOKUP($D$31,HCTableBlk1,2,FALSE)","v":0}]
[null,"\"","\"                   \"",{"$f":"PLAYER!F121","v":" Block 1 Player 9"},{"$f":"VLOOKUP($D$32,HCTableBlk1,2,FALSE)","v":0},"L",{"$f":"PLAYER!I121","v":-1E-3},{"$f":"PLAYER!J121","v":-1E-3},"",null,null,"",null,null,null,null,{"$f":"VLOOKUP($D$32,HCTableBlk1,2,FALSE)","v":0}]
[null,"\"","\"                   \"",{"$f":"PLAYER!F122","v":" Block 1 Player 7"},{"$f":"VLOOKUP($D$33,HCTableBlk1,2,FALSE)","v":0},"L",{"$f":"PLAYER!I122","v":-1E-3},{"$f":"PLAYER!J122","v":-1E-3},"",null,null,"",null,null,null,null,{"$f":"VLOOKUP($D$33,HCTableBlk1,2,FALSE)","v":0}]
[null,"\"","\"                   \"",{"$f":"PLAYER!F123","v":" Block 1 Player 5"},{"$f":"VLOOKUP($D$34,HCTableBlk1,2,FALSE)","v":0},"L",{"$f":"PLAYER!I123","v":-1E-3},{"$f":"PLAYER!J123","v":-1E-3},"",null,null,"",null,null,null,null,{"$f":"VLOOKUP($D$34,HCTableBlk1,2,FALSE)","v":0}]
[null,"\"","\"                   \"",{"$f":"PLAYER!F124","v":" Block 1 Player 1"},{"$f":"VLOOKUP($D$35,HCTableBlk1,2,FALSE)","v":0},"L",{"$f":"PLAYER!I124","v":-1E-3},{"$f":"PLAYER!J124","v":-1E-3},"",null,null,"",null,null,null,null,{"$f":"VLOOKUP($D$35,HCTableBlk1,2,FALSE)","v":0}]
[null,"\"","\"                   \"",{"$f":"PLAYER!F125","v":" Block 1 Player 10"},{"$f":"VLOOKUP($D$36,HCTableBlk1,2,FALSE)","v":0},"L",{"$f":"PLAYER!I125","v":-1E-3},{"$f":"PLAYER!J125","v":-1E-3},"",null,"Finish >","",null,null,null,null,{"$f":"VLOOKUP($D$36,HCTableBlk1,2,FALSE)","v":0}]
[]
[null,"Player",null,{"$f":"SEED!$D$10","v":" Block 1 Player 4"},null,null,"Start H/C",{"$f":"SEED!$E$10","v":0},"New H/C",{"$f":"VLOOKUP(D38,HCTableBlk1,2,FALSE)","v":0},"Start Index",{"$f":"SEED!$C$10","v":0},"HC Change Indicator"]
[null,"Date","Event","Opponent","Op Hcap","Lev / Hcap","Score",null,"Won / Lost","Change +/-",null,"New Index"]
[null,{"$f":"NAMES!$C$9","v":"DATE"},{"$f":"NAMES!$C$7","v":"TOURNAMENT"},{"$f":"PLAYER!F171","v":" Block 1 Player 7"},{"$f":"VLOOKUP($D$40,HCTableBlk1,2,FALSE)","v":0},{"$f":"IF(HandicapPlay = \"x\",\"H\",\"L\")","v":"L"},{"$f":"PLAYER!I171","v":-1E-3},{"$f":"PLAYER!J171","v":-1E-3},{"$f":"IF(G40<0,\"\",IF(G40>H40,\"W\",\"L\"))","v":""},null,null,{"$f":"IF(J40=\"\",\"\",IF((L38+J40)<900,900,(L38+J40)))","v":""},null,null,null,null,{"$f":"VLOOKUP($D$40,HCTableBlk1,2,FALSE)","v":0}]
[null,"\"","\"                   \"",{"$f":"PLAYER!F172","v":" Block 1 Player 5"},{"$f":"VLOOKUP($D$41,HCTableBlk1,2,FALSE)","v":0},"L",{"$f":"PLAYER!I172","v":-1E-3},{"$f":"PLAYER!J172","v":-1E-3},{"$f":"IF(G41<0,\"\",IF(G41>H41,\"W\",\"L\"))","v":""},null,null,{"$f":"IF(J41=\"\",\"\",IF((L40+J41)<900,900,(L40+J41)))","v":""},null,null,null,null,{"$f":"VLOOKUP($D$41,HCTableBlk1,2,FALSE)","v":0}]
[null,"\"","\"                   \"",{"$f":"PLAYER!F173","v":" Block 1 Player 3"},{"$f":"VLOOKUP($D$42,HCTableBlk1,2,FALSE)","v":0},"L",{"$f":"PLAYER!I173","v":-1E-3},{"$f":"PLAYER!J173","v":-1E-3},"",null,null,"",null,null,null,null,{"$f":"VLOOKUP($D$42,HCTableBlk1,2,FALSE)","v":0}]
[null,"\"","\"                   \"",{"$f":"PLAYER!F174","v":" Block 1 Player 10"},{"$f":"VLOOKUP($D$43,HCTableBlk1,2,FALSE)","v":0},"L",{"$f":"PLAYER!I174","v":-1E-3},{"$f":"PLAYER!J174","v":-1E-3},"",null,null,"",null,null,null,null,{"$f":"VLOOKUP($D$43,HCTableBlk1,2,FALSE)","v":0}]
[null,"\"","\"                   \"",{"$f":"PLAYER!F175","v":" Block 1 Player 8"},{"$f":"VLOOKUP($D$44,HCTableBlk1,2,FALSE)","v":0},"L",{"$f":"PLAYER!I175","v":-1E-3},{"$f":"PLAYER!J175","v":-1E-3},"",null,null,"",null,null,null,null,{"$f":"VLOOKUP($D$44,HCTableBlk1,2,FALSE)","v":0}]
[null,"\"","\"                   \"",{"$f":"PLAYER!F176","v":" Block 1 Player 6"},{"$f":"VLOOKUP($D$45,HCTableBlk1,2,FALSE)","v":0},"L",{"$f":"PLAYER!I176","v":-1E-3},{"$f":"PLAYER!J176","v":-1E-3},"",null,null,"",null,null,null,null,{"$f":"VLOOKUP($D$45,HCTableBlk1,2,FALSE)","v":0}]
[null,"\"","\"                   \"",{"$f":"PLAYER!F177","v":" Block 1 Player 1"},{"$f":"VLOOKUP($D$46,HCTableBlk1,2,FALSE)","v":0},"L",{"$f":"PLAYER!I177","v":-1E-3},{"$f":"PLAYER!J177","v":-1E-3},"",null,null,"",null,null,null,null,{"$f":"VLOOKUP($D$46,HCTableBlk1,2,FALSE)","v":0}]
[null,"\"","\"                   \"",{"$f":"PLAYER!F178","v":" Block 1 Player 2"},{"$f":"VLOOKUP($D$47,HCTableBlk1,2,FALSE)","v":0},"L",{"$f":"PLAYER!I178","v":-1E-3},{"$f":"PLAYER!J178","v":-1E-3},"",null,null,"",null,null,null,null,{"$f":"VLOOKUP($D$47,HCTableBlk1,2,FALSE)","v":0}]
[null,"\"","\"                   \"",{"$f":"PLAYER!F179","v":" Block 1 Player 9"},{"$f":"VLOOKUP($D$48,HCTableBlk1,2,FALSE)","v":0},"L",{"$f":"PLAYER!I179","v":-1E-3},{"$f":"PLAYER!J179","v":-1E-3},"",null,"Finish >","",null,null,null,null,{"$f":"VLOOKUP($D$48,HCTableBlk1,2,FALSE)","v":0}]
[]
[null,"Player",null,{"$f":"SEED!$D$11","v":" Block 1 Player 5"},null,null,"Start H/C",{"$f":"SEED!$E$11","v":0},"New H/C",{"$f":"VLOOKUP(D50,HCTableBlk1,2,FALSE)","v":0},"Start Index",{"$f":"SEED!$C$11","v":0},"HC Change Indicator"]
[null,"Date","Event","Opponent","Op Hcap","Lev / Hcap","Score",null,"Won / Lost","Change +/-",null,"New Index"]
[null,{"$f":"NAMES!$C$9","v":"DATE"},{"$f":"NAMES!$C$7","v":"TOURNAMENT"},{"$f":"PLAYER!F225","v":" Block 1 Player 6"},{"$f":"VLOOKUP($D$52,HCTableBlk1,2,FALSE)","v":0},{"$f":"IF(HandicapPlay = \"x\",\"H\",\"L\")","v":"L"},{"$f":"PLAYER!I225","v":-1E-3},{"$f":"PLAYER!J225","v":-1E-3},{"$f":"IF(G52<0,\"\",IF(G52>H52,\"W\",\"L\"))","v":""},null,null,{"$f":"IF(J52=\"\",\"\",IF((L50+J52)<900,900,(L50+J52)))","v":""},null,null,null,null,{"$f":"VLOOKUP($D$52,HCTableBlk1,2,FALSE)","v":0}]
[null,"\"","\"                   \"",{"$f":"PLAYER!F226","v":" Block 1 Player 4"},{"$f":"VLOOKUP($D$53,HCTableBlk1,2,FALSE)","v":0},"L",{"$f":"PLAYER!I226","v":-1E-3},{"$f":"PLAYER!J226","v":-1E-3},{"$f":"IF(G53<0,\"\",IF(G53>H53,\"W\",\"L\"))","v":""},null,null,{"$f":"IF(J53=\"\",\"\",IF((L52+J53)<900,900,(L52+J53)))","v":""},null,null,null,null,{"$f":"VLOOKUP($D$53,HCTableBlk1,2,FALSE)","v":0}]
[null,"\"","\"                   \"",{"$f":"PLAYER!F227","v":" Block 1 Player 2"},{"$f":"VLOOKUP($D$54,HCTableBlk1,2,FALSE)","v":0},"L",{"$f":"PLAYER!I227","v":-1E-3},{"$f":"PLAYER!J227","v":-1E-3},"",null,null,"",null,null,null,null,{"$f":"VLOOKUP($D$54,HCTableBlk1,2,FALSE)","v":0}]
[null,"\"","\"                   \"",{"$f":"PLAYER!F228","v":" Block 1 Player 9"},{"$f":"VLOOKUP($D$55,HCTableBlk1,2,FALSE)","v":0},"L",{"$f":"PLAYER!I228","v":-1E-3},{"$f":"PLAYER!J228","v":-1E-3},"",null,null,"",null,null,null,null,{"$f":"VLOOKUP($D$55,HCTableBlk1,2,FALSE)","v":0}]
[null,"\"","\"                   \"",{"$f":"PLAYER!F229","v":" Block 1 Player 7"},{"$f":"VLOOKUP($D$56,HCTableBlk1,2,FALSE)","v":0},"L",{"$f":"PLAYER!I229","v":-1E-3},{"$f":"PLAYER!J229","v":-1E-3},"",null,null,"",null,null,null,null,{"$f":"VLOOKUP($D$56,HCTableBlk1,2,FALSE)","v":0}]
[null,"\"","\"                   \"",{"$f":"PLAYER!F230","v":" Block 1 Player 1"},{"$f":"VLOOKUP($D$57,HCTableBlk1,2,FALSE)","v":0},"L",{"$f":"PLAYER!I230","v":-1E-3},{"$f":"PLAYER!J230","v":-1E-3},"",null,null,"",null,null,null,null,{"$f":"VLOOKUP($D$57,HCTableBlk1,2,FALSE)","v":0}]
[null,"\"","\"                   \"",{"$f":"PLAYER!F231","v":" Block 1 Player 3"},{"$f":"VLOOKUP($D$58,HCTableBlk1,2,FALSE)","v":0},"L",{"$f":"PLAYER!I231","v":-1E-3},{"$f":"PLAYER!J231","v":-1E-3},"",null,null,"",null,null,null,null,{"$f":"VLOOKUP($D$58,HCTableBlk1,2,FALSE)","v":0}]
[null,"\"","\"                   \"",{"$f":"PLAYER!F232","v":" Block 1 Player 10"},{"$f":"VLOOKUP($D$59,HCTableBlk1,2,FALSE)","v":0},"L",{"$f":"PLAYER!I232","v":-1E-3},{"$f":"PLAYER!J232","v":-1E-3},"",null,null,"",null,null,null,null,{"$f":"VLOOKUP($D$59,HCTableBlk1,2,FALSE)","v":0}]
[null,"\"","\"                   \"",{"$f":"PLAYER!F233","v":" Block 1 Player 8"},{"$f":"VLOOKUP($D$60,HCTableBlk1,2,FALSE)","v":0},"L",{"$f":"PLAYER!I233","v":-1E-3},{"$f":"PLAYER!J233","v":-1E-3},"",null,"Finish >","",null,null,null,null,{"$f":"VLOOKUP($D$60,HCTableBlk1,2,FALSE)","v":0}]
[]
[null,"Player",null,{"$f":"SEED!$D$12","v":" Block 1 Player 6"},null,null,"Start H/C",{"$f":"SEED!$E$12","v":0},"New H/C",{"$f":"VLOOKUP(D62,HCTableBlk1,2,FALSE)","v":0},"Start Index",{"$f":"SEED!$C$12","v":0},"HC Change Indicator"]
[null,"Date","Event","Opponent","Op Hcap","Lev / Hcap","Score",null,"Won / Lost","Change +/-",null,"New Index"]
[null,{"$f":"NAMES!$C$9","v":"DATE"},{"$f":"NAMES!$C$7","v":"TOURNAMENT"},{"$f":"PLAYER!F279","v":" Block 1 Player 5"},{"$f":"VLOOKUP($D$64,HCTableBlk1,2,FALSE)","v":0},{"$f":"IF(HandicapPlay = \"x\",\"H\",\"L\")","v":"L"},{"$f":"PLAYER!I279","v":-1E-3},{"$f":"PLAYER!J279","v":-1E-3},{"$f":"IF(G64<0,\"\",IF(G64>H64,\"W\",\"L\"))","v":""},null,null,{"$f":"IF(J64=\"\",\"\",IF((L62+J64)<900,900,(L62+J64)))","v":""},null,null,null,null,{"$f":"VLOOKUP($D$64,HCTableBlk1,2,FALSE)","v":0}]
[null,"\"","\"                   \"",{"$f":"PLAYER!F280","v":" Block 1 Player 3"},{"$f":"VLOOKUP($D$65,HCTableBlk1,2,FALSE)","v":0},"L",{"$f":"PLAYER!I280","v":-1E-3},{"$f":"PLAYER!J280","v":-1E-3},{"$f":"IF(G65<0,\"\",IF(G65>H65,\"W\",\"L\"))","v":""},null,null,{"$f":"IF(J65=\"\",\"\",IF((L64+J65)<900,900,(L64+J65)))","v":""},null,null,null,null,{"$f":"VLOOKUP($D$65,HCTableBlk1,2,FALSE)","v":0}]
[null,"\"","\"                   \"",{"$f":"PLAYER!F281","v":" Block 1 Player 10"},{"$f":"VLOOKUP($D$66,HCTableBlk1,2,FALSE)","v":0},"L",{"$f":"PLAYER!I281","v":-1E-3},{"$f":"PLAYER!J281","v":-1E-3},"",null,null,"",null,null,null,null,{"$f":"VLOOKUP($D$66,HCTableBlk1,2,FALSE)","v":0}]
[null,"\"","\"                   \"",{"$f":"PLAYER!F282","v":" Block 1 Player 8"},{"$f":"VLOOKUP($D$67,HCTableBlk1,2,FALSE)","v":0},"L",{"$f":"PLAYER!I282","v":-1E-3},{"$f":"PLAYER!J282","v":-1E-3},"",null,null,"",null,null,null,null,{"$f":"VLOOKUP($D$67,HCTableBlk1,2,FALSE)","v":0}]
[null,"\"","\"                   \"",{"$f":"PLAYER!F283","v":" Block 1 Player 1"},{"$f":"VLOOKUP($D$68,HCTableBlk1,2,FALSE)","v":0},"L",{"$f":"PLAYER!I283","v":-1E-3},{"$f":"PLAYER!J283","v":-1E-3},"",null,null,"",null,null,null,null,{"$f":"VLOOKUP($D$68,HCTableBlk1,2,FALSE)","v":0}]
[null,"\"","\"                   \"",{"$f":"PLAYER!F284","v":" Block 1 Player 4"},{"$f":"VLOOKUP($D$69,HCTableBlk1,2,FALSE)","v":0},"L",{"$f":"PLAYER!I284","v":-1E-3},{"$f":"PLAYER!J284","v":-1E-3},"",null,null,"",null,null,null,null,{"$f":"VLOOKUP($D$69,HCTableBlk1,2,FALSE)","v":0}]
[null,"\"","\"                   \"",{"$f":"PLAYER!F285","v":" Block 1 Player 2"},{"$f":"VLOOKUP($D$70,HCTableBlk1,2,FALSE)","v":0},"L",{"$f":"PLAYER!I285","v":-1E-3},{"$f":"PLAYER!J285","v":-1E-3},"",null,null,"",null,null,null,null,{"$f":"VLOOKUP($D$70,HCTableBlk1,2,FALSE)","v":0}]
[null,"\"","\"                   \"",{"$f":"PLAYER!F286","v":" Block 1 Player 9"},{"$f":"VLOOKUP($D$71,HCTableBlk1,2,FALSE)","v":0},"L",{"$f":"PLAYER!I286","v":-1E-3},{"$f":"PLAYER!J286","v":-1E-3},"",null,null,"",null,null,null,null,{"$f":"VLOOKUP($D$71,HCTableBlk1,2,FALSE)","v":0}]
[null,"\"","\"                   \"",{"$f":"PLAYER!F287","v":" Block 1 Player 7"},{"$f":"VLOOKUP($D$72,HCTableBlk1,2,FALSE)","v":0},"L",{"$f":"PLAYER!I287","v":-1E-3},{"$f":"PLAYER!J287","v":-1E-3},"",null,"Finish >","",null,null,null,null,{"$f":"VLOOKUP($D$72,HCTableBlk1,2,FALSE)","v":0}]
[]
[null,"Player",null,{"$f":"SEED!$D$13","v":" Block 1 Player 7"},null,null,"Start H/C",{"$f":"SEED!$E$13","v":0},"New H/C",{"$f":"VLOOKUP(D74,HCTableBlk1,2,FALSE)","v":0},"Start Index",{"$f":"SEED!$C$13","v":0},"HC Change Indicator"]
[null,"Date","Event","Opponent","Op Hcap","Lev / Hcap","Score",null,"Won / Lost","Change +/-",null,"New Index"]
[null,{"$f":"NAMES!$C$9","v":"DATE"},{"$f":"NAMES!$C$7","v":"TOURNAMENT"},{"$f":"PLAYER!F333","v":" Block 1 Player 4"},{"$f":"VLOOKUP($D$76,HCTableBlk1,2,FALSE)","v":0},{"$f":"IF(HandicapPlay = \"x\",\"H\",\"L\")","v":"L"},{"$f":"PLAYER!I333","v":-1E-3},{"$f":"PLAYER!J333","v":-1E-3},{"$f":"IF(G76<0,\"\",IF(G76>H76,\"W\",\"L\"))","v":""},null,null,{"$f":"IF(J76=\"\",\"\",IF((L74+J76)<900,900,(L74+J76)))","v":""},null,null,null,null,{"$f":"VLOOKUP($D$76,HCTableBlk1,2,FALSE)","v":0}]
[null,"\"","\"                   \"",{"$f":"PLAYER!F334","v":" Block 1 Player 2"},{"$f":"VLOOKUP($D$77,HCTableBlk1,2,FALSE)","v":0},"L",{"$f":"PLAYER!I334","v":-1E-3},{"$f":"PLAYER!J334","v":-1E-3},{"$f":"IF(G77<0,\"\",IF(G77>H77,\"W\",\"L\"))","v":""},null,null,{"$f":"IF(J77=\"\",\"\",IF((L76+J77)<900,900,(L76+J77)))","v":""},null,null,null,null,{"$f":"VLOOKUP($D$77,HCTableBlk1,2,FALSE)","v":0}]
[null,"\"","\"                   \"",{"$f":"PLAYER!F335","v":" Block 1 Player 9"},{"$f":"VLOOKUP($D$78,HCTableBlk1,2,FALSE)","v":0},"L",{"$f":"PLAYER!I335","v":-1E-3},{"$f":"PLAYER!J335","v":-1E-3},"",null,null,"",null,null,null,null,{"$f":"VLOOKUP($D$78,HCTableBlk1,2,FALSE)","v":0}]
[null,"\"","\"                   \"",{"$f":"PLAYER!F336","v":" Block 1 Player 1"},{"$f":"VLOOKUP($D$79,HCTableBlk1,2,FALSE)","v":0},"L",{"$f":"PLAYER!I336","v":-1E-3},{"$f":"PLAYER!J336","v":-1E-3},"",null,null,"",null,null,null,null,{"$f":"VLOOKUP($D$79,HCTableBlk1,2,FALSE)","v":0}]
[null,"\"","\"                   \"",{"$f":"PLAYER!F337","v":" Block 1 Player 5"},{"$f":"VLOOKUP($D$80,HCTableBlk1,2,FALSE)","v":0},"L",{"$f":"PLAYER!I337","v":-1E-3},{"$f":"PLAYER!J337","v":-1E-3},"",null,null,"",null,null,null,null,{"$f":"VLOOKUP($D$80,HCTableBlk1,2,FALSE)","v":0}]
[null,"\"","\"                   \"",{"$f":"PLAYER!F338","v":" Block 1 Player 3"},{"$f":"VLOOKUP($D$81,HCTableBlk1,2,FALSE)","v":0},"L",{"$f":"PLAYER!I338","v":-1E-3},{"$f":"PLAYER!J338","v":-1E-3},"",null,null,"",null,null,null,null,{"$f":"VLOOKUP($D$81,HCTableBlk1,2,FALSE)","v":0}]
[null,"\"","\"                   \"",{"$f":"PLAYER!F339","v":" Block 1 Player 10"},{"$f":"VLOOKUP($D$82,HCTableBlk1,2,FALSE)","v":0},"L",{"$f":"PLAYER!I339","v":-1E-3},{"$f":"PLAYER!J339","v":-1E-3},"",null,null,"",null,null,null,null,{"$f":"VLOOKUP($D$82,HCTableBlk1,2,FALSE)","v":0}]
[null,"\"","\"                   \"",{"$f":"PLAYER!F340","v":" Block 1 Player 8"},{"$f":"VLOOKUP($D$83,HCTableBlk1,2,FALSE)","v":0},"L",{"$f":"PLAYER!I340","v":-1E-3},{"$f":"PLAYER!J340","v":-1E-3},"",null,null,"",null,null,null,null,{"$f":"VLOOKUP($D$83,HCTableBlk1,2,FALSE)","v":0}]
[null,"\"","\"                   \"",{"$f":"PLAYER!F341","v":" Block 1 Player 6"},{"$f":"VLOOKUP($D$84,HCTableBlk1,2,FALSE)","v":0},"L",{"$f":"PLAYER!I341","v":-1E-3},{"$f":"PLAYER!J341","v":-1E-3},"",null,"Finish >","",null,null,null,null,{"$f":"VLOOKUP($D$84,HCTableBlk1,2,FALSE)","v":0}]
[]
[null,"Player",null,{"$f":"SEED!$D$14","v":" Block 1 Player 8"},null,null,"Start H/C",{"$f":"SEED!$E$14","v":0},"New H/C",{"$f":"VLOOKUP(D86,HCTableBlk1,2,FALSE)","v":0},"Start Index",{"$f":"SEED!$C$14","v":0},"HC Change Indicator"]
[null,"Date","Event","Opponent","Op Hcap","Lev / Hcap","Score",null,"Won / Lost","Change +/-",null,"New Index"]
[null,{"$f":"NAMES!$C$9","v":"DATE"},{"$f":"NAMES!$C$7","v":"TOURNAMENT"},{"$f":"PLAYER!F387","v":" Block 1 Player 3"},{"$f":"VLOOKUP($D$88,HCTableBlk1,2,FALSE)","v":0},{"$f":"IF(HandicapPlay = \"x\",\"H\",\"L\")","v":"L"},{"$f":"PLAYER!I387","v":-1E-3},{"$f":"PLAYER!J387","v":-1E-3},{"$f":"IF(G88<0,\"\",IF(G88>H88,\"W\",\"L\"))","v":""},null,null,{"$f":"IF(J88=\"\",\"\",IF((L86+J88)<900,900,(L86+J88)))","v":""},null,null,null,null,{"$f":"VLOOKUP($D$88,HCTableBlk1,2,FALSE)","v":0}]
[null,"\"","\"                   \"",{"$f":"PLAYER!F388","v":" Block 1 Player 10"},{"$f":"VLOOKUP($D$89,HCTableBlk1,2,FALSE)","v":0},"L",{"$f":"PLAYER!I388","v":-1E-3},{"$f":"PLAYER!J388","v":-1E-3},{"$f":"IF(G89<0,\"\",IF(G89>H89,\"W\",\"L\"))","v":""},null,null,{"$f":"IF(J89=\"\",\"\",IF((L88+J89)<900,900,(L88+J89)))","v":""},null,null,null,null,{"$f":"VLOOKUP($D$89,HCTableBlk1,2,FALSE)","v":0}]
[null,"\"","\"                   \"",{"$f":"PLAYER!F389","v":" Block 1 Player 1"},{"$f":"VLOOKUP($D$90,HCTableBlk1,2,FALSE)","v":0},"L",{"$f":"PLAYER!I389","v":-1E-3},{"$f":"PLAYER!J389","v":-1E-3},"",null,null,"",null,null,null,null,{"$f":"VLOOKUP($D$90,HCTableBlk1,2,FALSE)","v":0}]
[null,"\"","\"                   \"",{"$f":"PLAYER!F390","v":" Block 1 Player 6"},{"$f":"VLOOKUP($D$91,HCTableBlk1,2,FALSE)","v":0},"L",{"$f":"PLAYER!I390","v":-1E-3},{"$f":"PLAYER!J390","v":-1E-3},"",null,null,"",null,null,null,null,{"$f":"VLOOKUP($D$91,HCTableBlk1,2,FALSE)","v":0}]
[null,"\"","\"                   \"",{"$f":"PLAYER!F391","v":" Block 1 Player 4"},{"$f":"VLOOKUP($D$92,HCTableBlk1,2,FALSE)","v":0},"L",{"$f":"PLAYER!I391","v":-1E-3},{"$f":"PLAYER!J391","v":-1E-3},"",null,null,"",null,null,null,null,{"$f":"VLOOKUP($D$92,HCTableBlk1,2,FALSE)","v":0}]
[null,"\"","\"                   \"",{"$f":"PLAYER!F392","v":" Block 1 Player 2"},{"$f":"VLOOKUP($D$93,HCTableBlk1,2,FALSE)","v":0},"L",{"$f":"PLAYER!I392","v":-1E-3},{"$f":"PLAYER!J392","v":-1E-3},"",null,null,"",null,null,null,null,{"$f":"VLOOKUP($D$93,HCTableBlk1,2,FALSE)","v":0}]
[null,"\"","\"                   \"",{"$f":"PLAYER!F393","v":" Block 1 Player 9"},{"$f":"VLOOKUP($D$94,HCTableBlk1,2,FALSE)","v":0},"L",{"$f":"PLAYER!I393","v":-1E-3},{"$f":"PLAYER!J393","v":-1E-3},"",null,null,"",null,null,null,null,{"$f":"VLOOKUP($D$94,HCTableBlk1,2,FALSE)","v":0}]
[null,"\"","\"                   \"",{"$f":"PLAYER!F394","v":" Block 1 Player 7"},{"$f":"VLOOKUP($D$95,HCTableBlk1,2,FALSE)","v":0},"L",{"$f":"PLAYER!I394","v":-1E-3},{"$f":"PLAYER!J394","v":-1E-3},"",null,null,"",null,null,null,null,{"$f":"VLOOKUP($D$95,HCTableBlk1,2,FALSE)","v":0}]
[null,"\"","\"                   \"",{"$f":"PLAYER!F395","v":" Block 1 Player 5"},{"$f":"VLOOKUP($D$96,HCTableBlk1,2,FALSE)","v":0},"L",{"$f":"PLAYER!I395","v":-1E-3},{"$f":"PLAYER!J395","v":-1E-3},"",null,"Finish >","",null,null,null,null,{"$f":"VLOOKUP($D$96,HCTableBlk1,2,FALSE)","v":0}]
[]
[null,"Player",null,{"$f":"SEED!$D$15","v":" Block 1 Player 9"},null,null,"Start H/C",{"$f":"SEED!$E$15","v":0},"New H/C",{"$f":"VLOOKUP(D98,HCTableBlk1,2,FALSE)","v":0},"Start Index",{"$f":"SEED!$C$15","v":0},"HC Change Indicator"]
[null,"Date","Event","Opponent","Op Hcap","Lev / Hcap","Score",null,"Won / Lost","Change +/-",null,"New Index"]
[null,{"$f":"NAMES!$C$9","v":"DATE"},{"$f":"NAMES!$C$7","v":"TOURNAMENT"},{"$f":"PLAYER!F441","v":" Block 1 Player 2"},{"$f":"VLOOKUP($D$100,HCTableBlk1,2,FALSE)","v":0},{"$f":"IF(HandicapPlay = \"x\",\"H\",\"L\")","v":"L"},{"$f":"PLAYER!I441","v":-1E-3},{"$f":"PLAYER!J441","v":-1E-3},{"$f":"IF(G100<0,\"\",IF(G100>H100,\"W\",\"L\"))","v":""},null,null,{"$f":"IF(J100=\"\",\"\",IF((L98+J100)<900,900,(L98+J100)))","v":""},null,null,null,null,{"$f":"VLOOKUP($D$100,HCTableBlk1,2,FALSE)","v":0}]
[null,"\"","\"                   \"",{"$f":"PLAYER!F442","v":" Block 1 Player 1"},{"$f":"VLOOKUP($D$101,HCTableBlk1,2,FALSE)","v":0},"L",{"$f":"PLAYER!I442","v":-1E-3},{"$f":"PLAYER!J442","v":-1E-3},{"$f":"IF(G101<0,\"\",IF(G101>H101,\"W\",\"L\"))","v":""},null,null,{"$f":"IF(J101=\"\",\"\",IF((L100+J101)<900,900,(L100+J101)))","v":""},null,null,null,null,{"$f":"VLOOKUP($D$101,HCTableBlk1,2,FALSE)","v":0}]
[null,"\"","\"                   \"",{"$f":"PLAYER!F443","v":" Block 1 Player 7"},{"$f":"VLOOKUP($D$102,HCTableBlk1,2,FALSE)","v":0},"L",{"$f":"PLAYER!I443","v":-1E-3},{"$f":"PLAYER!J443","v":-1E-3},"",null,null,"",null,null,null,null,{"$f":"VLOOKUP($D$102,HCTableBlk1,2,FALSE)","v":0}]
[null,"\"","\"                   \"",{"$f":"PLAYER!F444","v":" Block 1 Player 5"},{"$f":"VLOOKUP($D$103,HCTableBlk1,2,FALSE)","v":0},"L",{"$f":"PLAYER!I444","v":-1E-3},{"$f":"PLAYER!J444","v":-1E-3},"",null,null,"",null,null,null,null,{"$f":"VLOOKUP($D$103,HCTableBlk1,2,FALSE)","v":0}]
[null,"\"","\"                   \"",{"$f":"PLAYER!F445","v":" Block 1 Player 3"},{"$f":"VLOOKUP($D$104,HCTableBlk1,2,FALSE)","v":0},"L",{"$f":"PLAYER!I445","v":-1E-3},{"$f":"PLAYER!J445","v":-1E-3},"",null,null,"",null,null,null,null,{"$f":"VLOOKUP($D$104,HCTableBlk1,2,FALSE)","v":0}]
[null,"\"","\"                   \"",{"$f":"PLAYER!F446","v":" Block 1 Player 10"},{"$f":"VLOOKUP($D$105,HCTableBlk1,2,FALSE)","v":0},"L",{"$f":"PLAYER!I446","v":-1E-3},{"$f":"PLAYER!J446","v":-1E-3},"",null,null,"",null,null,null,null,{"$f":"VLOOKUP($D$105,HCTableBlk1,2,FALSE)","v":0}]
[null,"\"","\"                   \"",{"$f":"PLAYER!F447","v":" Block 1 Player 8"},{"$f":"VLOOKUP($D$106,HCTableBlk1,2,FALSE)","v":0},"L",{"$f":"PLAYER!I447","v":-1E-3},{"$f":"PLAYER!J447","v":-1E-3},"",null,null,"",null,null,null,null,{"$f":"VLOOKUP($D$106,HCTableBlk1,2,FALSE)","v":0}]
[null,"\"","\"                   \"",{"$f":"PLAYER!F448","v":" Block 1 Player 6"},{"$f":"VLOOKUP($D$107,HCTableBlk1,2,FALSE)","v":0},"L",{"$f":"PLAYER!I448","v":-1E-3},{"$f":"PLAYER!J448","v":-1E-3},"",null,null,"",null,null,null,null,{"$f":"VLOOKUP($D$107,HCTableBlk1,2,FALSE)","v":0}]
[null,"\"","\"                   \"",{"$f":"PLAYER!F449","v":" Block 1 Player 4"},{"$f":"VLOOKUP($D$108,HCTableBlk1,2,FALSE)","v":0},"L",{"$f":"PLAYER!I449","v":-1E-3},{"$f":"PLAYER!J449","v":-1E-3},"",null,"Finish >","",null,null,null,null,{"$f":"VLOOKUP($D$108,HCTableBlk1,2,FALSE)","v":0}]
[]
[null,"Player",null,{"$f":"SEED!$D$16","v":" Block 1 Player 10"},null,null,"Start H/C",{"$f":"SEED!$E$16","v":0},"New H/C",{"$f":"VLOOKUP(D110,HCTableBlk1,2,FALSE)","v":0},"Start Index",{"$f":"SEED!$C$16","v":0},"HC Change Indicator"]
[null,"Date","Event","Opponent","Op Hcap","Lev / Hcap","Score",null,"Won / Lost","Change +/-",null,"New Index"]
[null,{"$f":"NAMES!$C$9","v":"DATE"},{"$f":"NAMES!$C$7","v":"TOURNAMENT"},{"$f":"PLAYER!F495","v":" Block 1 Player 1"},{"$f":"VLOOKUP($D$112,HCTableBlk1,2,FALSE)","v":0},{"$f":"IF(HandicapPlay = \"x\",\"H\",\"L\")","v":"L"},{"$f":"PLAYER!I495","v":-1E-3},{"$f":"PLAYER!J495","v":-1E-3},{"$f":"IF(G112<0,\"\",IF(G112>H112,\"W\",\"L\"))","v":""},null,null,{"$f":"IF(J112=\"\",\"\",IF((L110+J112)<900,900,(L110+J112)))","v":""},null,null,null,null,{"$f":"VLOOKUP($D$112,HCTableBlk1,2,FALSE)","v":0}]
[null,"\"","\"                   \"",{"$f":"PLAYER!F496","v":" Block 1 Player 8"},{"$f":"VLOOKUP($D$113,HCTableBlk1,2,FALSE)","v":0},"L",{"$f":"PLAYER!I496","v":-1E-3},{"$f":"PLAYER!J496","v":-1E-3},{"$f":"IF(G113<0,\"\",IF(G113>H113,\"W\",\"L\"))","v":""},null,null,{"$f":"IF(J113=\"\",\"\",IF((L112+J113)<900,900,(L112+J113)))","v":""},null,null,null,null,{"$f":"VLOOKUP($D$113,HCTableBlk1,2,FALSE)","v":0}]
[null,"\"","\"                   \"",{"$f":"PLAYER!F497","v":" Block 1 Player 6"},{"$f":"VLOOKUP($D$114,HCTableBlk1,2,FALSE)","v":0},"L",{"$f":"PLAYER!I497","v":-1E-3},{"$f":"PLAYER!J497","v":-1E-3},"",null,null,"",null,null,null,null,{"$f":"VLOOKUP($D$114,HCTableBlk1,2,FALSE)","v":0}]
[null,"\"","\"                   \"",{"$f":"PLAYER!F498","v":" Block 1 Player 4"},{"$f":"VLOOKUP($D$115,HCTableBlk1,2,FALSE)","v":0},"L",{"$f":"PLAYER!I498","v":-1E-3},{"$f":"PLAYER!J498","v":-1E-3},"",null,null,"",null,null,null,null,{"$f":"VLOOKUP($D$115,HCTableBlk1,2,FALSE)","v":0}]
[null,"\"","\"                   \"",{"$f":"PLAYER!F499","v":" Block 1 Player 2"},{"$f":"VLOOKUP($D$116,HCTableBlk1,2,FALSE)","v":0},"L",{"$f":"PLAYER!I499","v":-1E-3},{"$f":"PLAYER!J499","v":-1E-3},"",null,null,"",null,null,null,null,{"$f":"VLOOKUP($D$116,HCTableBlk1,2,FALSE)","v":0}]
[null,"\"","\"                   \"",{"$f":"PLAYER!F500","v":" Block 1 Player 9"},{"$f":"VLOOKUP($D$117,HCTableBlk1,2,FALSE)","v":0},"L",{"$f":"PLAYER!I500","v":-1E-3},{"$f":"PLAYER!J500","v":-1E-3},"",null,null,"",null,null,null,null,{"$f":"VLOOKUP($D$117,HCTableBlk1,2,FALSE)","v":0}]
[null,"\"","\"                   \"",{"$f":"PLAYER!F501","v":" Block 1 Player 7"},{"$f":"VLOOKUP($D$118,HCTableBlk1,2,FALSE)","v":0},"L",{"$f":"PLAYER!I501","v":-1E-3},{"$f":"PLAYER!J501","v":-1E-3},"",null,null,"",null,null,null,null,{"$f":"VLOOKUP($D$118,HCTableBlk1,2,FALSE)","v":0}]
[null,"\"","\"                   \"",{"$f":"PLAYER!F502","v":" Block 1 Player 5"},{"$f":"VLOOKUP($D$119,HCTableBlk1,2,FALSE)","v":0},"L",{"$f":"PLAYER!I502","v":-1E-3},{"$f":"PLAYER!J502","v":-1E-3},"",null,null,"",null,null,null,null,{"$f":"VLOOKUP($D$119,HCTableBlk1,2,FALSE)","v":0}]
[null,"\"","\"                   \"",{"$f":"PLAYER!F503","v":" Block 1 Player 3"},{"$f":"VLOOKUP($D$120,HCTableBlk1,2,FALSE)","v":0},"L",{"$f":"PLAYER!I503","v":-1E-3},{"$f":"PLAYER!J503","v":-1E-3},"",null,"Finish >","",null,null,null,null,{"$f":"VLOOKUP($D$120,HCTableBlk1,2,FALSE)","v":0}]
[null,{"$f":"SEED!$J$5","v":"BLOCK 2"}]
[null,"Player",null,{"$f":"SEED!$J$7","v":" Block 2 Player 1"},null,null,"Start H/C",{"$f":"SEED!$K$7","v":0},"New H/C",{"$f":"VLOOKUP(D122,HCTableBlk2,2,FALSE)","v":0},"Start Index",{"$f":"SEED!$I$7","v":0},"HC Change Indicator","BLOCK 2"]
[null,"Date","Event","Opponent","Op Hcap","Lev / Hcap","Score",null,"Won / Lost","Change +/-",null,"New Index",null,"Player","H/C","Temp H/C",null,null,"HC Change Flags"]
[null,{"$f":"NAMES!$C$9","v":"DATE"},{"$f":"NAMES!$C$7","v":"TOURNAMENT"},{"$f":"PLAYER!F549","v":" Block 2 Player 10"},{"$f":"VLOOKUP($D$124,HCTableBlk2,2,FALSE)","v":0},{"$f":"IF(HandicapPlay = \"x\",\"H\",\"L\")","v":"L"},{"$f":"PLAYER!I549","v":-1E-3},{"$f":"PLAYER!J549","v":-1E-3},{"$f":"IF(G124<0,\"\",IF(G124>H124,\"W\",\"L\"))","v":""},null,null,{"$f":"IF(J124=\"\",\"\",IF((L122+J124)<900,900,(L122+J124)))","v":""},null,{"$f":"SEED!J7","v":" Block 2 Player 1"},{"$f":"SEED!K7","v":0},null,{"$f":"VLOOKUP($D$124,HCTableBlk2,2,FALSE)","v":0},null,0,11]
[null,"\"","\"                   \"",{"$f":"PLAYER!F550","v":" Block 2 Player 9"},{"$f":"VLOOKUP($D$125,HCTableBlk2,2,FALSE)","v":0},"L",{"$f":"PLAYER!I550","v":-1E-3},{"$f":"PLAYER!J550","v":-1E-3},{"$f":"IF(G125<0,\"\",IF(G125>H125,\"W\",\"L\"))","v":""},null,null,{"$f":"IF(J125=\"\",\"\",IF((L124+J125)<900,900,(L124+J125)))","v":""},null,{"$f":"SEED!J8","v":" Block 2 Player 2"},{"$f":"SEED!K8","v":0},null,{"$f":"VLOOKUP($D$125,HCTableBlk2,2,FALSE)","v":0},null,0,12]
[null,"\"","\"                   \"",{"$f":"PLAYER!F551","v":" Block 2 Player 8"},{"$f":"VLOOKUP($D$126,HCTableBlk2,2,FALSE)","v":0},"L",{"$f":"PLAYER!I551","v":-1E-3},{"$f":"PLAYER!J551","v":-1E-3},"",null,null,"",null,{"$f":"SEED!J9","v":" Block 2 Player 3"},{"$f":"SEED!K9","v":0},null,{"$f":"VLOOKUP($D$126,HCTableBlk2,2,FALSE)","v":0},null,0,13]
[null,"\"","\"                   \"",{"$f":"PLAYER!F552","v":" Block 2 Player 7"},{"$f":"VLOOKUP($D$127,HCTableBlk2,2,FALSE)","v":0},"L",{"$f":"PLAYER!I552","v":-1E-3},{"$f":"PLAYER!J552","v":-1E-3},"",null,null,"",null,{"$f":"SEED!J10","v":" Block 2 Player 4"},{"$f":"SEED!K10","v":0},null,{"$f":"VLOOKUP($D$127,HCTableBlk2,2,FALSE)","v":0},null,0,14]
[null,"\"","\"                   \"",{"$f":"PLAYER!F553","v":" Block 2 Player 6"},{"$f":"VLOOKUP($D$128,HCTableBlk2,2,FALSE)","v":0},"L",{"$f":"PLAYER!I553","v":-1E-3},{"$f":"PLAYER!J553","v":-1E-3},"",null,null,"",null,{"$f":"SEED!J11","v":" Block 2 Player 5"},{"$f":"SEED!K11","v":0},null,{"$f":"VLOOKUP($D$128,HCTableBlk2,2,FALSE)","v":0},null,0,15]
[null,"\"","\"                   \"",{"$f":"PLAYER!F554","v":" Block 2 Player 5"},{"$f":"VLOOKUP($D$129,HCTableBlk2,2,FALSE)","v":0},"L",{"$f":"PLAYER!I554","v":-1E-3},{"$f":"PLAYER!J554","v":-1E-3},"",null,null,"",null,{"$f":"SEED!J12","v":" Block 2 Player 6"},{"$f":"SEED!K12","v":0},null,{"$f":"VLOOKUP($D$129,HCTableBlk2,2,FALSE)","v":0},null,0,16]
[null,"\"","\"                   \"",{"$f":"PLAYER!F555","v":" Block 2 Player 4"},{"$f":"VLOOKUP($D$130,HCTableBlk2,2,FALSE)","v":0},"L",{"$f":"PLAYER!I555","v":-1E-3},{"$f":"PLAYER!J555","v":-1E-3},"",null,null,"",null,{"$f":"SEED!J13","v":" Block 2 Player 7"},{"$f":"SEED!K13","v":0},null,{"$f":"VLOOKUP($D$130,HCTableBlk2,2,FALSE)","v":0},null,0,17]
[null,"\"","\"                   \"",{"$f":"PLAYER!F556","v":" Block 2 Player 3"},{"$f":"VLOOKUP($D$131,HCTableBlk2,2,FALSE)","v":0},"L",{"$f":"PLAYER!I556","v":-1E-3},{"$f":"PLAYER!J556","v":-1E-3},"",null,null,"",null,{"$f":"SEED!J14","v":" Block 2 Player 8"},{"$f":"SEED!K14","v":0},null,{"$f":"VLOOKUP($D$131,HCTableBlk2,2,FALSE)","v":0},null,0,18]
[null,"\"","\"                   \"",{"$f":"PLAYER!F557","v":" Block 2 Player 2"},{"$f":"VLOOKUP($D$132,HCTableBlk2,2,FALSE)","v":0},"L",{"$f":"PLAYER!I557","v":-1E-3},{"$f":"PLAYER!J557","v":-1E-3},"",null,"Finish >","",null,{"$f":"SEED!J15","v":" Block 2 Player 9"},{"$f":"SEED!K15","v":0},null,{"$f":"VLOOKUP($D$132,HCTableBlk2,2,FALSE)","v":0},null,0,19]
[null,null,null,null,null,null,null,null,null,null,null,null,null,{"$f":"SEED!J16","v":" Block 2 Player 10"},{"$f":"SEED!K16","v":0},null,null,null,0,20]
[null,"Player",null,{"$f":"SEED!$J$8","v":" Block 2 Player 2"},null,null,"Start H/C",{"$f":"SEED!$K$8","v":0},"New H/C",{"$f":"VLOOKUP(D134,HCTableBlk2,2,FALSE)","v":0},"Start Index",{"$f":"SEED!$I$8","v":0},"HC Change Indicator",null,null,7]
[null,"Date","Event","Opponent","Op Hcap","Lev / Hcap","Score",null,"Won / Lost","Change +/-",null,"New Index"]
[null,{"$f":"NAMES!$C$9","v":"DATE"},{"$f":"NAMES!$C$7","v":"TOURNAMENT"},{"$f":"PLAYER!F603","v":" Block 2 Player 9"},{"$f":"VLOOKUP($D$136,HCTableBlk2,2,FALSE)","v":0},{"$f":"IF(HandicapPlay = \"x\",\"H\",\"L\")","v":"L"},{"$f":"PLAYER!I603","v":-1E-3},{"$f":"PLAYER!J603","v":-1E-3},{"$f":"IF(G136<0,\"\",IF(G136>H136,\"W\",\"L\"))","v":""},null,null,{"$f":"IF(J136=\"\",\"\",IF((L134+J136)<900,900,(L134+J136)))","v":""},null,null,null,null,{"$f":"VLOOKUP($D$136,HCTableBlk2,2,FALSE)","v":0}]
[null,"\"","\"                   \"",{"$f":"PLAYER!F604","v":" Block 2 Player 7"},{"$f":"VLOOKUP($D$137,HCTableBlk2,2,FALSE)","v":0},"L",{"$f":"PLAYER!I604","v":-1E-3},{"$f":"PLAYER!J604","v":-1E-3},{"$f":"IF(G137<0,\"\",IF(G137>H137,\"W\",\"L\"))","v":""},null,null,{"$f":"IF(J137=\"\",\"\",IF((L136+J137)<900,900,(L136+J137)))","v":""},null,null,null,null,{"$f":"VLOOKUP($D$137,HCTableBlk2,2,FALSE)","v":0}]
[null,"\"","\"                   \"",{"$f":"PLAYER!F605","v":" Block 2 Player 5"},{"$f":"VLOOKUP($D$138,HCTableBlk2,2,FALSE)","v":0},"L",{"$f":"PLAYER!I605","v":-1E-3},{"$f":"PLAYER!J605","v":-1E-3},"",null,null,"",null,null,null,null,{"$f":"VLOOKUP($D$138,HCTableBlk2,2,FALSE)","v":0}]
[null,"\"","\"                   \"",{"$f":"PLAYER!F606","v":" Block 2 Player 3"},{"$f":"VLOOKUP($D$139,HCTableBlk2,2,FALSE)","v":0},"L",{"$f":"PLAYER!I606","v":-1E-3},{"$f":"PLAYER!J606","v":-1E-3},"",null,null,"",null,null,null,null,{"$f":"VLOOKUP($D$139,HCTableBlk2,2,FALSE)","v":0}]
[null,"\"","\"                   \"",{"$f":"PLAYER!F607","v":" Block 2 Player 10"},{"$f":"VLOOKUP($D$140,HCTableBlk2,2,FALSE)","v":0},"L",{"$f":"PLAYER!I607","v":-1E-3},{"$f":"PLAYER!J607","v":-1E-3},"",null,null,"",null,null,null,null,{"$f":"VLOOKUP($D$140,HCTableBlk2,2,FALSE)","v":0}]
[null,"\"","\"                   \"",{"$f":"PLAYER!F608","v":" Block 2 Player 8"},{"$f":"VLOOKUP($D$141,HCTableBlk2,2,FALSE)","v":0},"L",{"$f":"PLAYER!I608","v":-1E-3},{"$f":"PLAYER!J608","v":-1E-3},"",null,null,"",null,null,null,null,{"$f":"VLOOKUP($D$141,HCTableBlk2,2,FALSE)","v":0}]
[null,"\"","\"                   \"",{"$f":"PLAYER!F609","v":" Block 2 Player 6"},{"$f":"VLOOKUP($D$142,HCTableBlk2,2,FALSE)","v":0},"L",{"$f":"PLAYER!I609","v":-1E-3},{"$f":"PLAYER!J609","v":-1E-3},"",null,null,"",null,null,null,null,{"$f":"VLOOKUP($D$142,HCTableBlk2,2,FALSE)","v":0}]
[null,"\"","\"                   \"",{"$f":"PLAYER!F610","v":" Block 2 Player 4"},{"$f":"VLOOKUP($D$143,HCTableBlk2,2,FALSE)","v":0},"L",{"$f":"PLAYER!I610","v":-1E-3},{"$f":"PLAYER!J610","v":-1E-3},"",null,null,"",null,null,null,null,{"$f":"VLOOKUP($D$143,HCTableBlk2,2,FALSE)","v":0}]
[null,"\"","\"                   \"",{"$f":"PLAYER!F611","v":" Block 2 Player 1"},{"$f":"VLOOKUP($D$144,HCTableBlk2,2,FALSE)","v":0},"L",{"$f":"PLAYER!I611","v":-1E-3},{"$f":"PLAYER!J611","v":-1E-3},"",null,"Finish >","",null,null,null,null,{"$f":"VLOOKUP($D$144,HCTableBlk2,2,FALSE)","v":0}]
[]
[null,"Player",null,{"$f":"SEED!$J$9","v":" Block 2 Player 3"},null,null,"Start H/C",{"$f":"SEED!$K$9","v":0},"New H/C",{"$f":"VLOOKUP(D146,HCTableBlk2,2,FALSE)","v":0},"Start Index",{"$f":"SEED!$I$9","v":0}]
[null,"Date","Event","Opponent","Op Hcap","Lev / Hcap","Score",null,"Won / Lost","Change +/-",null,"New Index"]
[null,{"$f":"NAMES!$C$9","v":"DATE"},{"$f":"NAMES!$C$7","v":"TOURNAMENT"},{"$f":"PLAYER!F657","v":" Block 2 Player 8"},{"$f":"VLOOKUP($D$148,HCTableBlk2,2,FALSE)","v":0},{"$f":"IF(HandicapPlay = \"x\",\"H\",\"L\")","v":"L"},{"$f":"PLAYER!I657","v":-1E-3},{"$f":"PLAYER!J657","v":-1E-3},{"$f":"IF(G148<0,\"\",IF(G148>H148,\"W\",\"L\"))","v":""},null,null,{"$f":"IF(J148=\"\",\"\",IF((L146+J148)<900,900,(L146+J148)))","v":""},null,null,null,null,{"$f":"VLOOKUP($D$148,HCTableBlk2,2,FALSE)","v":0}]
[null,"\"","\"                   \"",{"$f":"PLAYER!F658","v":" Block 2 Player 6"},{"$f":"VLOOKUP($D$149,HCTableBlk2,2,FALSE)","v":0},"L",{"$f":"PLAYER!I658","v":-1E-3},{"$f":"PLAYER!J658","v":-1E-3},{"$f":"IF(G149<0,\"\",IF(G149>H149,\"W\",\"L\"))","v":""},null,null,{"$f":"IF(J149=\"\",\"\",IF((L148+J149)<900,900,(L148+J149)))","v":""},null,null,null,null,{"$f":"VLOOKUP($D$149,HCTableBlk2,2,FALSE)","v":0}]
[null,"\"","\"                   \"",{"$f":"PLAYER!F659","v":" Block 2 Player 4"},{"$f":"VLOOKUP($D$150,HCTableBlk2,2,FALSE)","v":0},"L",{"$f":"PLAYER!I659","v":-1E-3},{"$f":"PLAYER!J659","v":-1E-3},"",null,null,"",null,null,null,null,{"$f":"VLOOKUP($D$150,HCTableBlk2,2,FALSE)","v":0}]
[null,"\"","\"                   \"",{"$f":"PLAYER!F660","v":" Block 2 Player 2"},{"$f":"VLOOKUP($D$151,HCTableBlk2,2,FALSE)","v":0},"L",{"$f":"PLAYER!I660","v":-1E-3},{"$f":"PLAYER!J660","v":-1E-3},"",null,null,"",null,null,null,null,{"$f":"VLOOKUP($D$151,HCTableBlk2,2,FALSE)","v":0}]
[null,"\"","\"                   \"",{"$f":"PLAYER!F661","v":" Block 2 Player 9"},{"$f":"VLOOKUP($D$152,HCTableBlk2,2,FALSE)","v":0},"L",{"$f":"PLAYER!I661","v":-1E-3},{"$f":"PLAYER!J661","v":-1E-3},"",null,null,"",null,null,null,null,{"$f":"VLOOKUP($D$152,HCTableBlk2,2,FALSE)","v":0}]
[null,"\"","\"                   \"",{"$f":"PLAYER!F662","v":" Block 2 Player 7"},{"$f":"VLOOKUP($D$153,HCTableBlk2,2,FALSE)","v":0},"L",{"$f":"PLAYER!I662","v":-1E-3},{"$f":"PLAYER!J662","v":-1E-3},"",null,null,"",null,null,null,null,{"$f":"VLOOKUP($D$153,HCTableBlk2,2,FALSE)","v":0}]
[null,"\"","\"                   \"",{"$f":"PLAYER!F663","v":" Block 2 Player 5"},{"$f":"VLOOKUP($D$154,HCTableBlk2,2,FALSE)","v":0},"L",{"$f":"PLAYER!I663","v":-1E-3},{"$f":"PLAYER!J663","v":-1E-3},"",null,null,"",null,null,null,null,{"$f":"VLOOKUP($D$154,HCTableBlk2,2,FALSE)","v":0}]
[null,"\"","\"                   \"",{"$f":"PLAYER!F664","v":" Block 2 Player 1"},{"$f":"VLOOKUP($D$155,HCTableBlk2,2,FALSE)","v":0},"L",{"$f":"PLAYER!I664","v":-1E-3},{"$f":"PLAYER!J664","v":-1E-3},"",null,null,"",null,null,null,null,{"$f":"VLOOKUP($D$155,HCTableBlk2,2,FALSE)","v":0}]
[null,"\"","\"                   \"",{"$f":"PLAYER!F665","v":" Block 2 Player 10"},{"$f":"VLOOKUP($D$156,HCTableBlk2,2,FALSE)","v":0},"L",{"$f":"PLAYER!I665","v":-1E-3},{"$f":"PLAYER!J665","v":-1E-3},"",null,"Finish >","",null,null,null,null,{"$f":"VLOOKUP($D$156,HCTableBlk2,2,FALSE)","v":0}]
[]
[null,"Player",null,{"$f":"SEED!$J$10","v":" Block 2 Player 4"},null,null,"Start H/C",{"$f":"SEED!$K$10","v":0},"New H/C",{"$f":"VLOOKUP(D158,HCTableBlk2,2,FALSE)","v":0},"Start Index",{"$f":"SEED!$I$10","v":0}]
[null,"Date","Event","Opponent","Op Hcap","Lev / Hcap","Score",null,"Won / Lost","Change +/-",null,"New Index"]
[null,{"$f":"NAMES!$C$9","v":"DATE"},{"$f":"NAMES!$C$7","v":"TOURNAMENT"},{"$f":"PLAYER!F711","v":" Block 2 Player 7"},{"$f":"VLOOKUP($D$160,HCTableBlk2,2,FALSE)","v":0},{"$f":"IF(HandicapPlay = \"x\",\"H\",\"L\")","v":"L"},{"$f":"PLAYER!I711","v":-1E-3},{"$f":"PLAYER!J711","v":-1E-3},{"$f":"IF(G160<0,\"\",IF(G160>H160,\"W\",\"L\"))","v":""},null,null,{"$f":"IF(J160=\"\",\"\",IF((L158+J160)<900,900,(L158+J160)))","v":""},null,null,null,null,{"$f":"VLOOKUP($D$160,HCTableBlk2,2,FALSE)","v":0}]
[null,"\"","\"                   \"",{"$f":"PLAYER!F712","v":" Block 2 Player 5"},{"$f":"VLOOKUP($D$161,HCTableBlk2,2,FALSE)","v":0},"L",{"$f":"PLAYER!I712","v":-1E-3},{"$f":"PLAYER!J712","v":-1E-3},{"$f":"IF(G161<0,\"\",IF(G161>H161,\"W\",\"L\"))","v":""},null,null,{"$f":"IF(J161=\"\",\"\",IF((L160+J161)<900,900,(L160+J161)))","v":""},null,null,null,null,{"$f":"VLOOKUP($D$161,HCTableBlk2,2,FALSE)","v":0}]
[null,"\"","\"                   \"",{"$f":"PLAYER!F713","v":" Block 2 Player 3"},{"$f":"VLOOKUP($D$162,HCTableBlk2,2,FALSE)","v":0},"L",{"$f":"PLAYER!I713","v":-1E-3},{"$f":"PLAYER!J713","v":-1E-3},"",null,null,"",null,null,null,null,{"$f":"VLOOKUP($D$162,HCTableBlk2,2,FALSE)","v":0}]
[null,"\"","\"                   \"",{"$f":"PLAYER!F714","v":" Block 2 Player 10"},{"$f":"VLOOKUP($D$163,HCTableBlk2,2,FALSE)","v":0},"L",{"$f":"PLAYER!I714","v":-1E-3},{"$f":"PLAYER!J714","v":-1E-3},"",null,null,"",null,null,null,null,{"$f":"VLOOKUP($D$163,HCTableBlk2,2,FALSE)","v":0}]
[null,"\"","\"                   \"",{"$f":"PLAYER!F715","v":" Block 2 Player 8"},{"$f":"VLOOKUP($D$164,HCTableBlk2,2,FALSE)","v":0},"L",{"$f":"PLAYER!I715","v":-1E-3},{"$f":"PLAYER!J715","v":-1E-3},"",null,null,"",null,null,null,null,{"$f":"VLOOKUP($D$164,HCTableBlk2,2,FALSE)","v":0}]
[null,"\"","\"                   \"",{"$f":"PLAYER!F716","v":" Block 2 Player 6"},{"$f":"VLOOKUP($D$165,HCTableBlk2,2,FALSE)","v":0},"L",{"$f":"PLAYER!I716","v":-1E-3},{"$f":"PLAYER!J716","v":-1E-3},"",null,null,"",null,null,null,null,{"$f":"VLOOKUP($D$165,HCTableBlk2,2,FALSE)","v":0}]
[null,"\"","\"                   \"",{"$f":"PLAYER!F717","v":" Block 2 Player 1"},{"$f":"VLOOKUP($D$166,HCTableBlk2,2,FALSE)","v":0},"L",{"$f":"PLAYER!I717","v":-1E-3},{"$f":"PLAYER!J717","v":-1E-3},"",null,null,"",null,null,null,null,{"$f":"VLOOKUP($D$166,HCTableBlk2,2,FALSE)","v":0}]
[null,"\"","\"                   \"",{"$f":"PLAYER!F718","v":" Block 2 Player 2"},{"$f":"VLOOKUP($D$167,HCTableBlk2,2,FALSE)","v":0},"L",{"$f":"PLAYER!I718","v":-1E-3},{"$f":"PLAYER!J718","v":-1E-3},"",null,null,"",null,null,null,null,{"$f":"VLOOKUP($D$167,HCTableBlk2,2,FALSE)","v":0}]
[null,"\"","\"                   \"",{"$f":"PLAYER!F719","v":" Block 2 Player 9"},{"$f":"VLOOKUP($D$168,HCTableBlk2,2,FALSE)","v":0},"L",{"$f":"PLAYER!I719","v":-1E-3},{"$f":"PLAYER!J719","v":-1E-3},"",null,"Finish >","",null,null,null,null,{"$f":"VLOOKUP($D$168,HCTableBlk2,2,FALSE)","v":0}]
[]
[null,"Player",null,{"$f":"SEED!$J$11","v":" Block 2 Player 5"},null,null,"Start H/C",{"$f":"SEED!$K$11","v":0},"New H/C",{"$f":"VLOOKUP(D170,HCTableBlk2,2,FALSE)","v":0},"Start Index",{"$f":"SEED!$I$11","v":0}]
[null,"Date","Event","Opponent","Op Hcap","Lev / Hcap","Score",null,"Won / Lost","Change +/-",null,"New Index"]
[null,{"$f":"NAMES!$C$9","v":"DATE"},{"$f":"NAMES!$C$7","v":"TOURNAMENT"},{"$f":"PLAYER!F765","v":" Block 2 Player 6"},{"$f":"VLOOKUP($D$172,HCTableBlk2,2,FALSE)","v":0},{"$f":"IF(HandicapPlay = \"x\",\"H\",\"L\")","v":"L"},{"$f":"PLAYER!I765","v":-1E-3},{"$f":"PLAYER!J765","v":-1E-3},{"$f":"IF(G172<0,\"\",IF(G172>H172,\"W\",\"L\"))","v":""},null,null,{"$f":"IF(J172=\"\",\"\",IF((L170+J172)<900,900,(L170+J172)))","v":""},null,null,null,null,{"$f":"VLOOKUP($D$172,HCTableBlk2,2,FALSE)","v":0}]
[null,"\"","\"                   \"",{"$f":"PLAYER!F766","v":" Block 2 Player 4"},{"$f":"VLOOKUP($D$173,HCTableBlk2,2,FALSE)","v":0},"L",{"$f":"PLAYER!I766","v":-1E-3},{"$f":"PLAYER!J766","v":-1E-3},{"$f":"IF(G173<0,\"\",IF(G173>H173,\"W\",\"L\"))","v":""},null,null,{"$f":"IF(J173=\"\",\"\",IF((L172+J173)<900,900,(L172+J173)))","v":""},null,null,null,null,{"$f":"VLOOKUP($D$173,HCTableBlk2,2,FALSE)","v":0}]
[null,"\"","\"                   \"",{"$f":"PLAYER!F767","v":" Block 2 Player 2"},{"$f":"VLOOKUP($D$174,HCTableBlk2,2,FALSE)","v":0},"L",{"$f":"PLAYER!I767","v":-1E-3},{"$f":"PLAYER!J767","v":-1E-3},"",null,null,"",null,null,null,null,{"$f":"VLOOKUP($D$174,HCTableBlk2,2,FALSE)","v":0}]
[null,"\"","\"                   \"",{"$f":"PLAYER!F768","v":" Block 2 Player 9"},{"$f":"VLOOKUP($D$175,HCTableBlk2,2,FALSE)","v":0},"L",{"$f":"PLAYER!I768","v":-1E-3},{"$f":"PLAYER!J768","v":-1E-3},"",null,null,"",null,null,null,null,{"$f":"VLOOKUP($D$175,HCTableBlk2,2,FALSE)","v":0}]
[null,"\"","\"                   \"",{"$f":"PLAYER!F769","v":" Block 2 Player 7"},{"$f":"VLOOKUP($D$176,HCTableBlk2,2,FALSE)","v":0},"L",{"$f":"PLAYER!I769","v":-1E-3},{"$f":"PLAYER!J769","v":-1E-3},"",null,null,"",null,null,null,null,{"$f":"VLOOKUP($D$176,HCTableBlk2,2,FALSE)","v":0}]
[null,"\"","\"                   \"",{"$f":"PLAYER!F770","v":" Block 2 Player 1"},{"$f":"VLOOKUP($D$177,HCTableBlk2,2,FALSE)","v":0},"L",{"$f":"PLAYER!I770","v":-1E-3},{"$f":"PLAYER!J770","v":-1E-3},"",null,null,"",null,null,null,null,{"$f":"VLOOKUP($D$177,HCTableBlk2,2,FALSE)","v":0}]
[null,"\"","\"                   \"",{"$f":"PLAYER!F771","v":" Block 2 Player 3"},{"$f":"VLOOKUP($D$178,HCTableBlk2,2,FALSE)","v":0},"L",{"$f":"PLAYER!I771","v":-1E-3},{"$f":"PLAYER!J771","v":-1E-3},"",null,null,"",null,null,null,null,{"$f":"VLOOKUP($D$178,HCTableBlk2,2,FALSE)","v":0}]
[null,"\"","\"                   \"",{"$f":"PLAYER!F772","v":" Block 2 Player 10"},{"$f":"VLOOKUP($D$179,HCTableBlk2,2,FALSE)","v":0},"L",{"$f":"PLAYER!I772","v":-1E-3},{"$f":"PLAYER!J772","v":-1E-3},"",null,null,"",null,null,null,null,{"$f":"VLOOKUP($D$179,HCTableBlk2,2,FALSE)","v":0}]
[null,"\"","\"                   \"",{"$f":"PLAYER!F773","v":" Block 2 Player 8"},{"$f":"VLOOKUP($D$180,HCTableBlk2,2,FALSE)","v":0},"L",{"$f":"PLAYER!I773","v":-1E-3},{"$f":"PLAYER!J773","v":-1E-3},"",null,"Finish >","",null,null,null,null,{"$f":"VLOOKUP($D$180,HCTableBlk2,2,FALSE)","v":0}]
[]
[null,"Player",null,{"$f":"SEED!$J$12","v":" Block 2 Player 6"},null,null,"Start H/C",{"$f":"SEED!$K$12","v":0},"New H/C",{"$f":"VLOOKUP(D182,HCTableBlk2,2,FALSE)","v":0},"Start Index",{"$f":"SEED!$I$12","v":0}]
[null,"Date","Event","Opponent","Op Hcap","Lev / Hcap","Score",null,"Won / Lost","Change +/-",null,"New Index"]
[null,{"$f":"NAMES!$C$9","v":"DATE"},{"$f":"NAMES!$C$7","v":"TOURNAMENT"},{"$f":"PLAYER!F819","v":" Block 2 Player 5"},{"$f":"VLOOKUP($D$184,HCTableBlk2,2,FALSE)","v":0},{"$f":"IF(HandicapPlay = \"x\",\"H\",\"L\")","v":"L"},{"$f":"PLAYER!I819","v":-1E-3},{"$f":"PLAYER!J819","v":-1E-3},{"$f":"IF(G184<0,\"\",IF(G184>H184,\"W\",\"L\"))","v":""},null,null,{"$f":"IF(J184=\"\",\"\",IF((L182+J184)<900,900,(L182+J184)))","v":""},null,null,null,null,{"$f":"VLOOKUP($D$184,HCTableBlk2,2,FALSE)","v":0}]
[null,"\"","\"                   \"",{"$f":"PLAYER!F820","v":" Block 2 Player 3"},{"$f":"VLOOKUP($D$185,HCTableBlk2,2,FALSE)","v":0},"L",{"$f":"PLAYER!I820","v":-1E-3},{"$f":"PLAYER!J820","v":-1E-3},{"$f":"IF(G185<0,\"\",IF(G185>H185,\"W\",\"L\"))","v":""},null,null,{"$f":"IF(J185=\"\",\"\",IF((L184+J185)<900,900,(L184+J185)))","v":""},null,null,null,null,{"$f":"VLOOKUP($D$185,HCTableBlk2,2,FALSE)","v":0}]
[null,"\"","\"                   \"",{"$f":"PLAYER!F821","v":" Block 2 Player 10"},{"$f":"VLOOKUP($D$186,HCTableBlk2,2,FALSE)","v":0},"L",{"$f":"PLAYER!I821","v":-1E-3},{"$f":"PLAYER!J821","v":-1E-3},"",null,null,"",null,null,null,null,{"$f":"VLOOKUP($D$186,HCTableBlk2,2,FALSE)","v":0}]
[null,"\"","\"                   \"",{"$f":"PLAYER!F822","v":" Block 2 Player 8"},{"$f":"VLOOKUP($D$187,HCTableBlk2,2,FALSE)","v":0},"L",{"$f":"PLAYER!I822","v":-1E-3},{"$f":"PLAYER!J822","v":-1E-3},"",null,null,"",null,null,null,null,{"$f":"VLOOKUP($D$187,HCTableBlk2,2,FALSE)","v":0}]
[null,"\"","\"                   \"",{"$f":"PLAYER!F823","v":" Block 2 Player 1"},{"$f":"VLOOKUP($D$188,HCTableBlk2,2,FALSE)","v":0},"L",{"$f":"PLAYER!I823","v":-1E-3},{"$f":"PLAYER!J823","v":-1E-3},"",null,null,"",null,null,null,null,{"$f":"VLOOKUP($D$188,HCTableBlk2,2,FALSE)","v":0}]
[null,"\"","\"                   \"",{"$f":"PLAYER!F824","v":" Block 2 Player 4"},{"$f":"VLOOKUP($D$189,HCTableBlk2,2,FALSE)","v":0},"L",{"$f":"PLAYER!I824","v":-1E-3},{"$f":"PLAYER!J824","v":-1E-3},"",null,null,"",null,null,null,null,{"$f":"VLOOKUP($D$189,HCTableBlk2,2,FALSE)","v":0}]
[null,"\"","\"                   \"",{"$f":"PLAYER!F825","v":" Block 2 Player 2"},{"$f":"VLOOKUP($D$190,HCTableBlk2,2,FALSE)","v":0},"L",{"$f":"PLAYER!I825","v":-1E-3},{"$f":"PLAYER!J825","v":-1E-3},"",null,null,"",null,null,null,null,{"$f":"VLOOKUP($D$190,HCTableBlk2,2,FALSE)","v":0}]
[null,"\"","\"                   \"",{"$f":"PLAYER!F826","v":" Block 2 Player 9"},{"$f":"VLOOKUP($D$191,HCTableBlk2,2,FALSE)","v":0},"L",{"$f":"PLAYER!I826","v":-1E-3},{"$f":"PLAYER!J826","v":-1E-3},"",null,null,"",null,null,null,null,{"$f":"VLOOKUP($D$191,HCTableBlk2,2,FALSE)","v":0}]
[null,"\"","\"                   \"",{"$f":"PLAYER!F827","v":" Block 2 Player 7"},{"$f":"VLOOKUP($D$192,HCTableBlk2,2,FALSE)","v":0},"L",{"$f":"PLAYER!I827","v":-1E-3},{"$f":"PLAYER!J827","v":-1E-3},"",null,"Finish >","",null,null,null,null,{"$f":"VLOOKUP($D$192,HCTableBlk2,2,FALSE)","v":0}]
[]
[null,"Player",null,{"$f":"SEED!$J$13","v":" Block 2 Player 7"},null,null,"Start H/C",{"$f":"SEED!$K$13","v":0},"New H/C",{"$f":"VLOOKUP(D194,HCTableBlk2,2,FALSE)","v":0},"Start Index",{"$f":"SEED!$I$13","v":0}]
[null,"Date","Event","Opponent","Op Hcap","Lev / Hcap","Score",null,"Won / Lost","Change +/-",null,"New Index"]
[null,{"$f":"NAMES!$C$9","v":"DATE"},{"$f":"NAMES!$C$7","v":"TOURNAMENT"},{"$f":"PLAYER!F873","v":" Block 2 Player 4"},{"$f":"VLOOKUP($D$196,HCTableBlk2,2,FALSE)","v":0},{"$f":"IF(HandicapPlay = \"x\",\"H\",\"L\")","v":"L"},{"$f":"PLAYER!I873","v":-1E-3},{"$f":"PLAYER!J873","v":-1E-3},{"$f":"IF(G196<0,\"\",IF(G196>H196,\"W\",\"L\"))","v":""},null,null,{"$f":"IF(J196=\"\",\"\",IF((L194+J196)<900,900,(L194+J196)))","v":""},null,null,null,null,{"$f":"VLOOKUP($D$196,HCTableBlk2,2,FALSE)","v":0}]
[null,"\"","\"                   \"",{"$f":"PLAYER!F874","v":" Block 2 Player 2"},{"$f":"VLOOKUP($D$197,HCTableBlk2,2,FALSE)","v":0},"L",{"$f":"PLAYER!I874","v":-1E-3},{"$f":"PLAYER!J874","v":-1E-3},{"$f":"IF(G197<0,\"\",IF(G197>H197,\"W\",\"L\"))","v":""},null,null,{"$f":"IF(J197=\"\",\"\",IF((L196+J197)<900,900,(L196+J197)))","v":""},null,null,null,null,{"$f":"VLOOKUP($D$197,HCTableBlk2,2,FALSE)","v":0}]
[null,"\"","\"                   \"",{"$f":"PLAYER!F875","v":" Block 2 Player 9"},{"$f":"VLOOKUP($D$198,HCTableBlk2,2,FALSE)","v":0},"L",{"$f":"PLAYER!I875","v":-1E-3},{"$f":"PLAYER!J875","v":-1E-3},"",null,null,"",null,null,null,null,{"$f":"VLOOKUP($D$198,HCTableBlk2,2,FALSE)","v":0}]
[null,"\"","\"                   \"",{"$f":"PLAYER!F876","v":" Block 2 Player 1"},{"$f":"VLOOKUP($D$199,HCTableBlk2,2,FALSE)","v":0},"L",{"$f":"PLAYER!I876","v":-1E-3},{"$f":"PLAYER!J876","v":-1E-3},"",null,null,"",null,null,null,null,{"$f":"VLOOKUP($D$199,HCTableBlk2,2,FALSE)","v":0}]
[null,"\"","\"                   \"",{"$f":"PLAYER!F877","v":" Block 2 Player 5"},{"$f":"VLOOKUP($D$200,HCTableBlk2,2,FALSE)","v":0},"L",{"$f":"PLAYER!I877","v":-1E-3},{"$f":"PLAYER!J877","v":-1E-3},"",null,null,"",null,null,null,null,{"$f":"VLOOKUP($D$200,HCTableBlk2,2,FALSE)","v":0}]
[null,"\"","\"                   \"",{"$f":"PLAYER!F878","v":" Block 2 Player 3"},{"$f":"VLOOKUP($D$201,HCTableBlk2,2,FALSE)","v":0},"L",{"$f":"PLAYER!I878","v":-1E-3},{"$f":"PLAYER!J878","v":-1E-3},"",null,null,"",null,null,null,null,{"$f":"VLOOKUP($D$201,HCTableBlk2,2,FALSE)","v":0}]
[null,"\"","\"                   \"",{"$f":"PLAYER!F879","v":" Block 2 Player 10"},{"$f":"VLOOKUP($D$202,HCTableBlk2,2,FALSE)","v":0},"L",{"$f":"PLAYER!I879","v":-1E-3},{"$f":"PLAYER!J879","v":-1E-3},"",null,null,"",null,null,null,null,{"$f":"VLOOKUP($D$202,HCTableBlk2,2,FALSE)","v":0}]
[null,"\"","\"                   \"",{"$f":"PLAYER!F880","v":" Block 2 Player 8"},{"$f":"VLOOKUP($D$203,HCTableBlk2,2,FALSE)","v":0},"L",{"$f":"PLAYER!I880","v":-1E-3},{"$f":"PLAYER!J880","v":-1E-3},"",null,null,"",null,null,null,null,{"$f":"VLOOKUP($D$203,HCTableBlk2,2,FALSE)","v":0}]
[null,"\"","\"                   \"",{"$f":"PLAYER!F881","v":" Block 2 Player 6"},{"$f":"VLOOKUP($D$204,HCTableBlk2,2,FALSE)","v":0},"L",{"$f":"PLAYER!I881","v":-1E-3},{"$f":"PLAYER!J881","v":-1E-3},"",null,"Finish >","",null,null,null,null,{"$f":"VLOOKUP($D$204,HCTableBlk2,2,FALSE)","v":0}]
[]
[null,"Player",null,{"$f":"SEED!$J$14","v":" Block 2 Player 8"},null,null,"Start H/C",{"$f":"SEED!$K$14","v":0},"New H/C",{"$f":"VLOOKUP(D206,HCTableBlk2,2,FALSE)","v":0},"Start Index",{"$f":"SEED!$I$14","v":0},"HC Change Indicator"]
[null,"Date","Event","Opponent","Op Hcap","Lev / Hcap","Score",null,"Won / Lost","Change +/-",null,"New Index"]
[null,{"$f":"NAMES!$C$9","v":"DATE"},{"$f":"NAMES!$C$7","v":"TOURNAMENT"},{"$f":"PLAYER!F927","v":" Block 2 Player 3"},{"$f":"VLOOKUP($D$208,HCTableBlk2,2,FALSE)","v":0},{"$f":"IF(HandicapPlay = \"x\",\"H\",\"L\")","v":"L"},{"$f":"PLAYER!I927","v":-1E-3},{"$f":"PLAYER!J927","v":-1E-3},{"$f":"IF(G208<0,\"\",IF(G208>H208,\"W\",\"L\"))","v":""},null,null,{"$f":"IF(J208=\"\",\"\",IF((L206+J208)<900,900,(L206+J208)))","v":""},null,null,null,null,{"$f":"VLOOKUP($D$208,HCTableBlk2,2,FALSE)","v":0}]
[null,"\"","\"                   \"",{"$f":"PLAYER!F928","v":" Block 2 Player 10"},{"$f":"VLOOKUP($D$209,HCTableBlk2,2,FALSE)","v":0},"L",{"$f":"PLAYER!I928","v":-1E-3},{"$f":"PLAYER!J928","v":-1E-3},{"$f":"IF(G209<0,\"\",IF(G209>H209,\"W\",\"L\"))","v":""},null,null,{"$f":"IF(J209=\"\",\"\",IF((L208+J209)<900,900,(L208+J209)))","v":""},null,null,null,null,{"$f":"VLOOKUP($D$209,HCTableBlk2,2,FALSE)","v":0}]
[null,"\"","\"                   \"",{"$f":"PLAYER!F929","v":" Block 2 Player 1"},{"$f":"VLOOKUP($D$210,HCTableBlk2,2,FALSE)","v":0},"L",{"$f":"PLAYER!I929","v":-1E-3},{"$f":"PLAYER!J929","v":-1E-3},"",null,null,"",null,null,null,null,{"$f":"VLOOKUP($D$210,HCTableBlk2,2,FALSE)","v":0}]
[null,"\"","\"                   \"",{"$f":"PLAYER!F930","v":" Block 2 Player 6"},{"$f":"VLOOKUP($D$211,HCTableBlk2,2,FALSE)","v":0},"L",{"$f":"PLAYER!I930","v":-1E-3},{"$f":"PLAYER!J930","v":-1E-3},"",null,null,"",null,null,null,null,{"$f":"VLOOKUP($D$211,HCTableBlk2,2,FALSE)","v":0}]
[null,"\"","\"                   \"",{"$f":"PLAYER!F931","v":" Block 2 Player 4"},{"$f":"VLOOKUP($D$212,HCTableBlk2,2,FALSE)","v":0},"L",{"$f":"PLAYER!I931","v":-1E-3},{"$f":"PLAYER!J931","v":-1E-3},"",null,null,"",null,null,null,null,{"$f":"VLOOKUP($D$212,HCTableBlk2,2,FALSE)","v":0}]
[null,"\"","\"                   \"",{"$f":"PLAYER!F932","v":" Block 2 Player 2"},{"$f":"VLOOKUP($D$213,HCTableBlk2,2,FALSE)","v":0},"L",{"$f":"PLAYER!I932","v":-1E-3},{"$f":"PLAYER!J932","v":-1E-3},"",null,null,"",null,null,null,null,{"$f":"VLOOKUP($D$213,HCTableBlk2,2,FALSE)","v":0}]
[null,"\"","\"                   \"",{"$f":"PLAYER!F933","v":" Block 2 Player 9"},{"$f":"VLOOKUP($D$214,HCTableBlk2,2,FALSE)","v":0},"L",{"$f":"PLAYER!I933","v":-1E-3},{"$f":"PLAYER!J933","v":-1E-3},"",null,null,"",null,null,null,null,{"$f":"VLOOKUP($D$214,HCTableBlk2,2,FALSE)","v":0}]
[null,"\"","\"                   \"",{"$f":"PLAYER!F934","v":" Block 2 Player 7"},{"$f":"VLOOKUP($D$215,HCTableBlk2,2,FALSE)","v":0},"L",{"$f":"PLAYER!I934","v":-1E-3},{"$f":"PLAYER!J934","v":-1E-3},"",null,null,"",null,null,null,null,{"$f":"VLOOKUP($D$215,HCTableBlk2,2,FALSE)","v":0}]
[null,"\"","\"                   \"",{"$f":"PLAYER!F935","v":" Block 2 Player 5"},{"$f":"VLOOKUP($D$216,HCTableBlk2,2,FALSE)","v":0},"L",{"$f":"PLAYER!I935","v":-1E-3},{"$f":"PLAYER!J935","v":-1E-3},"",null,"Finish >","",null,null,null,null,{"$f":"VLOOKUP($D$216,HCTableBlk2,2,FALSE)","v":0}]
[]
[null,"Player",null,{"$f":"SEED!$J$15","v":" Block 2 Player 9"},null,null,"Start H/C",{"$f":"SEED!$K$15","v":0},"New H/C",{"$f":"VLOOKUP(D218,HCTableBlk2,2,FALSE)","v":0},"Start Index",{"$f":"SEED!$I$15","v":0},"HC Change Indicator"]
[null,"Date","Event","Opponent","Op Hcap","Lev / Hcap","Score",null,"Won / Lost","Change +/-",null,"New Index"]
[null,{"$f":"NAMES!$C$9","v":"DATE"},{"$f":"NAMES!$C$7","v":"TOURNAMENT"},{"$f":"PLAYER!F981","v":" Block 2 Player 2"},{"$f":"VLOOKUP($D$220,HCTableBlk2,2,FALSE)","v":0},{"$f":"IF(HandicapPlay = \"x\",\"H\",\"L\")","v":"L"},{"$f":"PLAYER!I981","v":-1E-3},{"$f":"PLAYER!J981","v":-1E-3},{"$f":"IF(G220<0,\"\",IF(G220>H220,\"W\",\"L\"))","v":""},null,null,{"$f":"IF(J220=\"\",\"\",IF((L218+J220)<900,900,(L218+J220)))","v":""},null,null,null,null,{"$f":"VLOOKUP($D$220,HCTableBlk2,2,FALSE)","v":0}]
[null,"\"","\"                   \"",{"$f":"PLAYER!F982","v":" Block 2 Player 1"},{"$f":"VLOOKUP($D$221,HCTableBlk2,2,FALSE)","v":0},"L",{"$f":"PLAYER!I982","v":-1E-3},{"$f":"PLAYER!J982","v":-1E-3},{"$f":"IF(G221<0,\"\",IF(G221>H221,\"W\",\"L\"))","v":""},null,null,{"$f":"IF(J221=\"\",\"\",IF((L220+J221)<900,900,(L220+J221)))","v":""},null,null,null,null,{"$f":"VLOOKUP($D$221,HCTableBlk2,2,FALSE)","v":0}]
[null,"\"","\"                   \"",{"$f":"PLAYER!F983","v":" Block 2 Player 7"},{"$f":"VLOOKUP($D$222,HCTableBlk2,2,FALSE)","v":0},"L",{"$f":"PLAYER!I983","v":-1E-3},{"$f":"PLAYER!J983","v":-1E-3},"",null,null,"",null,null,null,null,{"$f":"VLOOKUP($D$222,HCTableBlk2,2,FALSE)","v":0}]
[null,"\"","\"                   \"",{"$f":"PLAYER!F984","v":" Block 2 Player 5"},{"$f":"VLOOKUP($D$223,HCTableBlk2,2,FALSE)","v":0},"L",{"$f":"PLAYER!I984","v":-1E-3},{"$f":"PLAYER!J984","v":-1E-3},"",null,null,"",null,null,null,null,{"$f":"VLOOKUP($D$223,HCTableBlk2,2,FALSE)","v":0}]
[null,"\"","\"                   \"",{"$f":"PLAYER!F985","v":" Block 2 Player 3"},{"$f":"VLOOKUP($D$224,HCTableBlk2,2,FALSE)","v":0},"L",{"$f":"PLAYER!I985","v":-1E-3},{"$f":"PLAYER!J985","v":-1E-3},"",null,null,"",null,null,null,null,{"$f":"VLOOKUP($D$224,HCTableBlk2,2,FALSE)","v":0}]
[null,"\"","\"                   \"",{"$f":"PLAYER!F986","v":" Block 2 Player 10"},{"$f":"VLOOKUP($D$225,HCTableBlk2,2,FALSE)","v":0},"L",{"$f":"PLAYER!I986","v":-1E-3},{"$f":"PLAYER!J986","v":-1E-3},"",null,null,"",null,null,null,null,{"$f":"VLOOKUP($D$225,HCTableBlk2,2,FALSE)","v":0}]
[null,"\"","\"                   \"",{"$f":"PLAYER!F987","v":" Block 2 Player 8"},{"$f":"VLOOKUP($D$226,HCTableBlk2,2,FALSE)","v":0},"L",{"$f":"PLAYER!I987","v":-1E-3},{"$f":"PLAYER!J987","v":-1E-3},"",null,null,"",null,null,null,null,{"$f":"VLOOKUP($D$226,HCTableBlk2,2,FALSE)","v":0}]
[null,"\"","\"                   \"",{"$f":"PLAYER!F988","v":" Block 2 Player 6"},{"$f":"VLOOKUP($D$227,HCTableBlk2,2,FALSE)","v":0},"L",{"$f":"PLAYER!I988","v":-1E-3},{"$f":"PLAYER!J988","v":-1E-3},"",null,null,"",null,null,null,null,{"$f":"VLOOKUP($D$227,HCTableBlk2,2,FALSE)","v":0}]
[null,"\"","\"                   \"",{"$f":"PLAYER!F989","v":" Block 2 Player 4"},{"$f":"VLOOKUP($D$228,HCTableBlk2,2,FALSE)","v":0},"L",{"$f":"PLAYER!I989","v":-1E-3},{"$f":"PLAYER!J989","v":-1E-3},"",null,"Finish >","",null,null,null,null,{"$f":"VLOOKUP($D$228,HCTableBlk2,2,FALSE)","v":0}]
[]
[null,"Player",null,{"$f":"SEED!$J$16","v":" Block 2 Player 10"},null,null,"Start H/C",{"$f":"SEED!$K$16","v":0},"New H/C",{"$f":"VLOOKUP(D230,HCTableBlk2,2,FALSE)","v":0},"Start Index",{"$f":"SEED!$I$16","v":0}]
[null,"Date","Event","Opponent","Op Hcap","Lev / Hcap","Score",null,"Won / Lost","Change +/-",null,"New Index"]
[null,{"$f":"NAMES!$C$9","v":"DATE"},{"$f":"NAMES!$C$7","v":"TOURNAMENT"},{"$f":"PLAYER!F1035","v":" Block 2 Player 1"},{"$f":"VLOOKUP($D$232,HCTableBlk2,2,FALSE)","v":0},{"$f":"IF(HandicapPlay = \"x\",\"H\",\"L\")","v":"L"},{"$f":"PLAYER!I1035","v":-1E-3},{"$f":"PLAYER!J1035","v":-1E-3},{"$f":"IF(G232<0,\"\",IF(G232>H232,\"W\",\"L\"))","v":""},null,null,{"$f":"IF(J232=\"\",\"\",IF((L230+J232)<900,900,(L230+J232)))","v":""},null,null,null,null,{"$f":"VLOOKUP($D$232,HCTableBlk2,2,FALSE)","v":0}]
[null,"\"","\"                   \"",{"$f":"PLAYER!F1036","v":" Block 2 Player 8"},{"$f":"VLOOKUP($D$233,HCTableBlk2,2,FALSE)","v":0},"L",{"$f":"PLAYER!I1036","v":-1E-3},{"$f":"PLAYER!J1036","v":-1E-3},{"$f":"IF(G233<0,\"\",IF(G233>H233,\"W\",\"L\"))","v":""},null,null,{"$f":"IF(J233=\"\",\"\",IF((L232+J233)<900,900,(L232+J233)))","v":""},null,null,null,null,{"$f":"VLOOKUP($D$233,HCTableBlk2,2,FALSE)","v":0}]
[null,"\"","\"                   \"",{"$f":"PLAYER!F1037","v":" Block 2 Player 6"},{"$f":"VLOOKUP($D$234,HCTableBlk2,2,FALSE)","v":0},"L",{"$f":"PLAYER!I1037","v":-1E-3},{"$f":"PLAYER!J1037","v":-1E-3},"",null,null,"",null,null,null,null,{"$f":"VLOOKUP($D$234,HCTableBlk2,2,FALSE)","v":0}]
[null,"\"","\"                   \"",{"$f":"PLAYER!F1038","v":" Block 2 Player 4"},{"$f":"VLOOKUP($D$235,HCTableBlk2,2,FALSE)","v":0},"L",{"$f":"PLAYER!I1038","v":-1E-3},{"$f":"PLAYER!J1038","v":-1E-3},"",null,null,"",null,null,null,null,{"$f":"VLOOKUP($D$235,HCTableBlk2,2,FALSE)","v":0}]
[null,"\"","\"                   \"",{"$f":"PLAYER!F1039","v":" Block 2 Player 2"},{"$f":"VLOOKUP($D$236,HCTableBlk2,2,FALSE)","v":0},"L",{"$f":"PLAYER!I1039","v":-1E-3},{"$f":"PLAYER!J1039","v":-1E-3},"",null,null,"",null,null,null,null,{"$f":"VLOOKUP($D$236,HCTableBlk2,2,FALSE)","v":0}]
[null,"\"","\"                   \"",{"$f":"PLAYER!F1040","v":" Block 2 Player 9"},{"$f":"VLOOKUP($D$237,HCTableBlk2,2,FALSE)","v":0},"L",{"$f":"PLAYER!I1040","v":-1E-3},{"$f":"PLAYER!J1040","v":-1E-3},"",null,null,"",null,null,null,null,{"$f":"VLOOKUP($D$237,HCTableBlk2,2,FALSE)","v":0}]
[null,"\"","\"                   \"",{"$f":"PLAYER!F1041","v":" Block 2 Player 7"},{"$f":"VLOOKUP($D$238,HCTableBlk2,2,FALSE)","v":0},"L",{"$f":"PLAYER!I1041","v":-1E-3},{"$f":"PLAYER!J1041","v":-1E-3},"",null,null,"",null,null,null,null,{"$f":"VLOOKUP($D$238,HCTableBlk2,2,FALSE)","v":0}]
[null,"\"","\"                   \"",{"$f":"PLAYER!F1042","v":" Block 2 Player 5"},{"$f":"VLOOKUP($D$239,HCTableBlk2,2,FALSE)","v":0},"L",{"$f":"PLAYER!I1042","v":-1E-3},{"$f":"PLAYER!J1042","v":-1E-3},"",null,null,"",null,null,null,null,{"$f":"VLOOKUP($D$239,HCTableBlk2,2,FALSE)","v":0}]
[null,"\"","\"                   \"",{"$f":"PLAYER!F1043","v":" Block 2 Player 3"},{"$f":"VLOOKUP($D$240,HCTableBlk2,2,FALSE)","v":0},"L",{"$f":"PLAYER!I1043","v":-1E-3},{"$f":"PLAYER!J1043","v":-1E-3},"",null,"Finish >","",null,null,null,null,{"$f":"VLOOKUP($D$240,HCTableBlk2,2,FALSE)","v":0}]

{"sheet":"AHS1","index":13,"n_rows":58,"n_cols":20,"rows_kept":58,"cut":false,"hidden":false,"merged":[[14,9,14,10],[3,5,3,10],[8,2,8,10],[9,2,9,10],[12,3,12,6],[14,2,15,2],[2,2,5,4],[21,3,21,5],[16,3,16,5],[17,3,17,5],[18,3,18,5],[14,7,14,8],[14,3,15,5],[14,6,15,6],[19,3,19,5],[20,3,20,5],[33,3,33,5],[22,3,22,5],[23,3,23,5],[24,3,24,5],[25,3,25,5],[26,3,26,5],[27,3,27,5],[28,3,28,5],[29,3,29,5],[30,3,30,5],[31,3,31,5],[32,3,32,5],[35,3,35,5],[36,3,36,5],[37,3,37,5],[38,3,38,5],[45,3,45,5],[57,3,57,5],[51,3,51,5],[52,3,52,5],[53,3,53,5],[54,3,54,5],[14,18,15,18],[14,19,15,19],[55,3,55,5],[56,3,56,5],[47,3,47,5],[48,3,48,5],[49,3,49,5],[50,3,50,5],[43,3,43,5],[44,3,44,5],[46,3,46,5],[39,3,39,5],[40,3,40,5],[41,3,41,5],[42,3,42,5],[34,3,34,5]]}
[]
[]
[null,null,"AHS1"]
[null,null,null,null,null,"HANDICAP CHANGES REPORT FORM"]
[]
[]
[]
[]
[null,null,"Players are to fill in the details from their National Handicap Cards and hand the slips to the"]
[null,null,"Tournament Handicapper before leaving the venue at the end of the tournament"]
[]
[]
[null,null,"Event:",{"$f":"NAMES!$C$7","v":"TOURNAMENT"},null,null,null,"State:",null,"Date:",{"$f":"NAMES!$C$9","v":"DATE"}]
[]
[null,null,"ACA ID","NAME",null,null,"*Non AHS","HANDICAP",null,"INDEX",null,null,null,null,null,"H/Cap","Index",null,"Running Handicap","Calculated Handicap"]
[null,null,null,null,null,null,null,"Start","Finish","Start","Finish",null,null,null,null,-3,3050]
[null,1,{"$f":"SEED!B7","v":0},{"$f":"SEED!D7","v":" Block 1 Player 1"},null,null,null,{"$f":"SEED!E7","v":0},{"$f":"'HANDICAP CARD'!$J$2","v":0},{"$f":"SEED!C7","v":0},{"$f":"'HANDICAP CARD'!$L$12","v":""},null,null,null,null,-2.5,2800,null,null,{"$f":"Handicap(S17,J17,K17)","v":{"$error":"#NAME?"}}]
[null,2,{"$f":"SEED!B8","v":0},{"$f":"SEED!D8","v":" Block 1 Player 2"},null,null,null,{"$f":"SEED!E8","v":0},{"$f":"'HANDICAP CARD'!$J$14","v":0},{"$f":"SEED!C8","v":0},{"$f":"'HANDICAP CARD'!$L$24","v":""},null,null,null,null,-2,2600,null,null,{"$f":"Handicap(S18,J18,K18)","v":{"$error":"#NAME?"}}]
[null,3,{"$f":"SEED!B9","v":0},{"$f":"SEED!D9","v":" Block 1 Player 3"},null,null,null,{"$f":"SEED!E9","v":0},{"$f":"'HANDICAP CARD'!$J$26","v":0},{"$f":"SEED!C9","v":0},{"$f":"'HANDICAP CARD'!$L$36","v":""},null,null,null,null,-1.5,2400,null,null,{"$error":"#NAME?"}]
[null,4,{"$f":"SEED!B10","v":0},{"$f":"SEED!D10","v":" Block 1 Player 4"},null,null,null,{"$f":"SEED!E10","v":0},{"$f":"'HANDICAP CARD'!$J$38","v":0},{"$f":"SEED!C10","v":0},{"$f":"'HANDICAP CARD'!$L$48","v":""},null,null,null,null,-1,2250,null,null,{"$error":"#NAME?"}]
[null,5,{"$f":"SEED!B11","v":0},{"$f":"SEED!D11","v":" Block 1 Player 5"},null,null,null,{"$f":"SEED!E11","v":0},{"$f":"'HANDICAP CARD'!$J$50","v":0},{"$f":"SEED!C11","v":0},{"$f":"'HANDICAP CARD'!$L$60","v":""},null,null,null,null,-0.5,2100,null,null,{"$error":"#NAME?"}]
[null,6,{"$f":"SEED!B12","v":0},{"$f":"SEED!D12","v":" Block 1 Player 6"},null,null,null,{"$f":"SEED!E12","v":0},{"$f":"'HANDICAP CARD'!$J$62","v":0},{"$f":"SEED!C12","v":0},{"$f":"'HANDICAP CARD'!$L$72","v":""},null,null,null,null,0,2000,null,null,{"$error":"#NAME?"}]
[null,7,{"$f":"SEED!B13","v":0},{"$f":"SEED!D13","v":" Block 1 Player 7"},null,null,null,{"$f":"SEED!E13","v":0},{"$f":"'HANDICAP CARD'!$J$74","v":0},{"$f":"SEED!C13","v":0},{"$f":"'HANDICAP CARD'!$L$84","v":""},null,null,null,null,0.5,1950,null,null,{"$error":"#NAME?"}]
[null,8,{"$f":"SEED!B14","v":0},{"$f":"SEED!D14","v":" Block 1 Player 8"},null,null,null,{"$f":"SEED!E14","v":0},{"$f":"'HANDICAP CARD'!$J$86","v":0},{"$f":"SEED!C14","v":0},{"$f":"'HANDICAP CARD'!$L$96","v":""},null,null,null,null,1,1900,null,null,{"$error":"#NAME?"}]
[null,9,{"$f":"SEED!B15","v":0},{"$f":"SEED!D15","v":" Block 1 Player 9"},null,null,null,{"$f":"SEED!E15","v":0},{"$f":"'HANDICAP CARD'!$J$98","v":0},{"$f":"SEED!C15","v":0},{"$f":"'HANDICAP CARD'!$L$108","v":""},null,null,null,null,1.5,1850,null,null,{"$error":"#NAME?"}]
[null,10,{"$f":"SEED!B16","v":0},{"$f":"SEED!D16","v":" Block 1 Player 10"},null,null,null,{"$f":"SEED!E16","v":0},{"$f":"'HANDICAP CARD'!$J$110","v":0},{"$f":"SEED!C16","v":0},{"$f":"'HANDICAP CARD'!$L$120","v":""},null,null,null,null,2,1800,null,null,{"$error":"#NAME?"}]
[null,11,{"$f":"SEED!H7","v":0},{"$f":"SEED!J7","v":" Block 2 Player 1"},null,null,null,{"$f":"SEED!K7","v":0},{"$f":"'HANDICAP CARD'!$J$122","v":0},{"$f":"SEED!I7","v":0},{"$f":"'HANDICAP CARD'!$L$132","v":""},null,null,null,null,2.5,1750,null,null,{"$error":"#NAME?"}]
[null,12,{"$f":"SEED!H8","v":0},{"$f":"SEED!J8","v":" Block 2 Player 2"},null,null,null,{"$f":"SEED!K8","v":0},{"$f":"'HANDICAP CARD'!$J$134","v":0},{"$f":"SEED!I8","v":0},{"$f":"'HANDICAP CARD'!$L$144","v":""},null,null,null,null,3,1700,null,null,{"$error":"#NAME?"}]
[null,13,{"$f":"SEED!H9","v":0},{"$f":"SEED!J9","v":" Block 2 Player 3"},null,null,null,{"$f":"SEED!K9","v":0},{"$f":"'HANDICAP CARD'!$J$146","v":0},{"$f":"SEED!I9","v":0},{"$f":"'HANDICAP CARD'!$L$156","v":""},null,null,null,null,3.5,1650,null,null,{"$error":"#NAME?"}]
[null,14,{"$f":"SEED!H10","v":0},{"$f":"SEED!J10","v":" Block 2 Player 4"},null,null,null,{"$f":"SEED!K10","v":0},{"$f":"'HANDICAP CARD'!$J$158","v":0},{"$f":"SEED!I10","v":0},{"$f":"'HANDICAP CARD'!$L$168","v":""},null,null,null,null,4,1600,null,null,{"$error":"#NAME?"}]
[null,15,{"$f":"SEED!H11","v":0},{"$f":"SEED!J11","v":" Block 2 Player 5"},null,null,null,{"$f":"SEED!K11","v":0},{"$f":"'HANDICAP CARD'!$J$170","v":0},{"$f":"SEED!I11","v":0},{"$f":"'HANDICAP CARD'!$L$180","v":""},null,null,null,null,4.5,1550,null,null,{"$error":"#NAME?"}]
[null,16,{"$f":"SEED!H12","v":0},{"$f":"SEED!J12","v":" Block 2 Player 6"},null,null,null,{"$f":"SEED!K12","v":0},{"$f":"'HANDICAP CARD'!$J$182","v":0},{"$f":"SEED!I12","v":0},{"$f":"'HANDICAP CARD'!$L$192","v":""},null,null,null,null,5,1500,null,null,{"$error":"#NAME?"}]
[null,17,{"$f":"SEED!H13","v":0},{"$f":"SEED!J13","v":" Block 2 Player 7"},null,null,null,{"$f":"SEED!K13","v":0},{"$f":"'HANDICAP CARD'!$J$194","v":0},{"$f":"SEED!I13","v":0},{"$f":"'HANDICAP CARD'!$L$204","v":""},null,null,null,null,6,1450,null,null,{"$error":"#NAME?"}]
[null,18,{"$f":"SEED!H14","v":0},{"$f":"SEED!J14","v":" Block 2 Player 8"},null,null,null,{"$f":"SEED!K14","v":0},{"$f":"'HANDICAP CARD'!$J$206","v":0},{"$f":"SEED!I14","v":0},{"$f":"'HANDICAP CARD'!$L$216","v":""},null,null,null,null,7,1400,null,null,{"$error":"#NAME?"}]
[null,19,{"$f":"SEED!H15","v":0},{"$f":"SEED!J15","v":" Block 2 Player 9"},null,null,null,{"$f":"SEED!K15","v":0},{"$f":"'HANDICAP CARD'!$J$218","v":0},{"$f":"SEED!I15","v":0},{"$f":"'HANDICAP CARD'!$L$228","v":""},null,null,null,null,8,1350,null,null,{"$error":"#NAME?"}]
[null,20,{"$f":"SEED!H16","v":0},{"$f":"SEED!J16","v":" Block 2 Player 10"},null,null,null,{"$f":"SEED!K16","v":0},{"$f":"'HANDICAP CARD'!$J$230","v":0},{"$f":"SEED!I16","v":0},{"$f":"'HANDICAP CARD'!$L$240","v":""},null,null,null,null,9,1300,null,null,{"$error":"#NAME?"}]
[null,21,null,null,null,null,null,null,null,null,null,null,null,null,null,10,1250]
[null,22,null,null,null,null,null,null,null,null,null,null,null,null,null,11,1200]
[null,23,null,null,null,null,null,null,null,null,null,null,null,null,null,12,1150]
[null,24,null,null,null,null,null,null,null,null,null,null,null,null,null,14,1100]
[null,25,null,null,null,null,null,null,null,null,null,null,null,null,null,16,1050]
[null,26,null,null,null,null,null,null,null,null,null,null,null,null,null,18,1000]
[null,27,null,null,null,null,null,null,null,null,null,null,null,null,null,20,950]
[null,28,null,null,null,null,null,null,null,null,null,null,null,null,null,22,900]
[null,29,null,null,null,null,null,null,null,null,null,null,null,null,null,24,850]
[null,30]
[null,31]
[null,32]
[null,33]
[null,34]
[null,35]
[null,36]
[null,37]
[null,38]
[null,39]
[null,40]
[null,41]
[null,42]

{"sheet":"HANDICAPS","index":14,"n_rows":44,"n_cols":22,"rows_kept":44,"cut":false,"hidden":true,"merged":[]}
[]
[null,null,null,null,null,null,{"$f":"BLOCK!I2","v":"TOURNAMENT"}]
[null,null,null,null,null,null,{"$f":"BLOCK!I4","v":"GROUP"}]
[null,"PLAYERS NAME","HCAP","WIN / LOSS RECORD",null,null,null,null,null,null,null,null,null,null,null,null,null,null,null,null,null,"POINTS"]
[null,{"$f":"SCORECARD!D6","v":" Block 1 Player 1"},{"$f":"SCORECARD!I6","v":0},{"$f":"IF(SCORECARD!I9>0,\"W\",(IF(SCORECARD!I9<0,\"L\",\"\")))","v":""},{"$f":"SCORECARD!F9","v":0},{"$f":"IF(SCORECARD!I10>0,\"W\",(IF(SCORECARD!I10<0,\"L\",\"\")))","v":""},{"$f":"SCORECARD!F10","v":0},{"$f":"IF(SCORECARD!I11>0,\"W\",(IF(SCORECARD!I11<0,\"L\",\"\")))","v":""},{"$f":"SCORECARD!F11","v":0},{"$f":"IF(SCORECARD!I12>0,\"W\",(IF(SCORECARD!I12<0,\"L\",\"\")))","v":""},{"$f":"SCORECARD!F12","v":0},{"$f":"IF(SCORECARD!I13>0,\"W\",(IF(SCORECARD!I13<0,\"L\",\"\")))","v":""},{"$f":"SCORECARD!F13","v":0},{"$f":"IF(SCORECARD!I14>0,\"W\",(IF(SCORECARD!I14<0,\"L\",\"\")))","v":""},{"$f":"SCORECARD!F14","v":0},{"$f":"IF(SCORECARD!$I15>0,\"W\",(IF(SCORECARD!$I15<0,\"L\",\"\")))","v":""},{"$f":"SCORECARD!F15","v":0},{"$f":"IF(SCORECARD!I16>0,\"W\",(IF(SCORECARD!I16<0,\"L\",\"\")))","v":""},{"$f":"SCORECARD!F16","v":0},{"$f":"IF(SCORECARD!I17>0,\"W\",(IF(SCORECARD!I17<0,\"L\",\"\")))","v":""},{"$f":"SCORECARD!F17","v":0}]
[null,null,null,{"$f":"IF(NOT(OR(D5=\"W\",D5=\"L\")),\"\",IF(HandicapPlay=\"x\",IF(D5=\"W\",10,-10),(IF(D5=\"W\",(VLOOKUP($C5,(TABLE!WIN),(MATCH(E5,WINCOL,0)+1))),(VLOOKUP($C5,(TABLE!LOSE),(MATCH(E5,LOSECOL,0)+1)))))))","v":""},null,{"$f":"IF(NOT(OR(F5=\"W\",F5=\"L\")),\"\",IF(HandicapPlay=\"x\",IF(F5=\"W\",10,-10),(IF(F5=\"W\",(VLOOKUP($C5,(TABLE!WIN),(MATCH(G5,WINCOL,0)+1))),(VLOOKUP($C5,(TABLE!LOSE),(MATCH(G5,LOSECOL,0)+1)))))))","v":""},null,{"$f":"IF(NOT(OR(H5=\"W\",H5=\"L\")),\"\",IF(HandicapPlay=\"x\",IF(H5=\"W\",10,-10),(IF(H5=\"W\",(VLOOKUP($C5,(TABLE!WIN),(MATCH(I5,WINCOL,0)+1))),(VLOOKUP($C5,(TABLE!LOSE),(MATCH(I5,LOSECOL,0)+1)))))))","v":""},null,{"$f":"IF(NOT(OR(J5=\"W\",J5=\"L\")),\"\",IF(HandicapPlay=\"x\",IF(J5=\"W\",10,-10),(IF(J5=\"W\",(VLOOKUP($C5,(TABLE!WIN),(MATCH(K5,WINCOL,0)+1))),(VLOOKUP($C5,(TABLE!LOSE),(MATCH(K5,LOSECOL,0)+1)))))))","v":""},null,{"$f":"IF(NOT(OR(L5=\"W\",L5=\"L\")),\"\",IF(HandicapPlay=\"x\",IF(L5=\"W\",10,-10),(IF(L5=\"W\",(VLOOKUP($C5,(TABLE!WIN),(MATCH(M5,WINCOL,0)+1))),(VLOOKUP($C5,(TABLE!LOSE),(MATCH(M5,LOSECOL,0)+1)))))))","v":""},null,{"$f":"IF(NOT(OR(N5=\"W\",N5=\"L\")),\"\",IF(HandicapPlay=\"x\",IF(N5=\"W\",10,-10),(IF(N5=\"W\",(VLOOKUP($C5,(TABLE!WIN),(MATCH(O5,WINCOL,0)+1))),(VLOOKUP($C5,(TABLE!LOSE),(MATCH(O5,LOSECOL,0)+1)))))))","v":""},null,{"$f":"IF(NOT(OR(P5=\"W\",P5=\"L\")),\"\",IF(HandicapPlay=\"x\",IF(P5=\"W\",10,-10),(IF(P5=\"W\",(VLOOKUP($C5,(TABLE!WIN),(MATCH(Q5,WINCOL,0)+1))),(VLOOKUP($C5,(TABLE!LOSE),(MATCH(Q5,LOSECOL,0)+1)))))))","v":""},null,{"$f":"IF(NOT(OR(R5=\"W\",R5=\"L\")),\"\",IF(HandicapPlay=\"x\",IF(R5=\"W\",10,-10),(IF(R5=\"W\",(VLOOKUP($C5,(TABLE!WIN),(MATCH(S5,WINCOL,0)+1))),(VLOOKUP($C5,(TABLE!LOSE),(MATCH(S5,LOSECOL,0)+1)))))))","v":""},null,{"$f":"IF(NOT(OR(T5=\"W\",T5=\"L\")),\"\",IF(HandicapPlay=\"x\",IF(T5=\"W\",10,-10),(IF(T5=\"W\",(VLOOKUP($C5,(TABLE!WIN),(MATCH(U5,WINCOL,0)+1))),(VLOOKUP($C5,(TABLE!LOSE),(MATCH(U5,LOSECOL,0)+1)))))))","v":""},null,{"$f":"SUM(D6:U6)","v":0}]
[null,{"$f":"SCORECARD!D26","v":" Block 1 Player 2"},{"$f":"SCORECARD!I26","v":0},{"$f":"IF(SCORECARD!$I29>0,\"W\",(IF(SCORECARD!$I29<0,\"L\",\"\")))","v":""},{"$f":"SCORECARD!F29","v":0},{"$f":"IF(SCORECARD!$I30>0,\"W\",(IF(SCORECARD!$I30<0,\"L\",\"\")))","v":""},{"$f":"SCORECARD!F30","v":0},{"$f":"IF(SCORECARD!$I31>0,\"W\",(IF(SCORECARD!$I31<0,\"L\",\"\")))","v":""},{"$f":"SCORECARD!F31","v":0},{"$f":"IF(SCORECARD!$I32>0,\"W\",(IF(SCORECARD!$I32<0,\"L\",\"\")))","v":""},{"$f":"SCORECARD!F32","v":0},{"$f":"IF(SCORECARD!$I33>0,\"W\",(IF(SCORECARD!$I33<0,\"L\",\"\")))","v":""},{"$f":"SCORECARD!$F$33","v":0},{"$f":"IF(SCORECARD!$I34>0,\"W\",(IF(SCORECARD!$I34<0,\"L\",\"\")))","v":""},{"$f":"SCORECARD!$F$34","v":0},{"$f":"IF(SCORECARD!$I35>0,\"W\",(IF(SCORECARD!$I35<0,\"L\",\"\")))","v":""},{"$f":"SCORECARD!$F$35","v":0},{"$f":"IF(SCORECARD!$I36>0,\"W\",(IF(SCORECARD!$I36<0,\"L\",\"\")))","v":""},{"$f":"SCORECARD!$F$36","v":0},{"$f":"IF(SCORECARD!$I37>0,\"W\",(IF(SCORECARD!$I37<0,\"L\",\"\")))","v":""},{"$f":"SCORECARD!$F$37","v":0}]
[null,null,null,{"$f":"IF(NOT(OR(D7=\"W\",D7=\"L\")),\"\",IF(HandicapPlay=\"x\",IF(D7=\"W\",10,-10),(IF(D7=\"W\",(VLOOKUP($C7,(TABLE!WIN),(MATCH(E7,WINCOL,0)+1))),(VLOOKUP($C7,(TABLE!LOSE),(MATCH(E7,LOSECOL,0)+1)))))))","v":""},null,{"$f":"IF(NOT(OR(F7=\"W\",F7=\"L\")),\"\",IF(HandicapPlay=\"x\",IF(F7=\"W\",10,-10),(IF(F7=\"W\",(VLOOKUP($C7,(TABLE!WIN),(MATCH(G7,WINCOL,0)+1))),(VLOOKUP($C7,(TABLE!LOSE),(MATCH(G7,LOSECOL,0)+1)))))))","v":""},null,{"$f":"IF(NOT(OR(H7=\"W\",H7=\"L\")),\"\",IF(HandicapPlay=\"x\",IF(H7=\"W\",10,-10),(IF(H7=\"W\",(VLOOKUP($C7,(TABLE!WIN),(MATCH(I7,WINCOL,0)+1))),(VLOOKUP($C7,(TABLE!LOSE),(MATCH(I7,LOSECOL,0)+1)))))))","v":""},null,{"$f":"IF(NOT(OR(J7=\"W\",J7=\"L\")),\"\",IF(HandicapPlay=\"x\",IF(J7=\"W\",10,-10),(IF(J7=\"W\",(VLOOKUP($C7,(TABLE!WIN),(MATCH(K7,WINCOL,0)+1))),(VLOOKUP($C7,(TABLE!LOSE),(MATCH(K7,LOSECOL,0)+1)))))))","v":""},null,{"$f":"IF(NOT(OR(L7=\"W\",L7=\"L\")),\"\",IF(HandicapPlay=\"x\",IF(L7=\"W\",10,-10),(IF(L7=\"W\",(VLOOKUP($C7,(TABLE!WIN),(MATCH(M7,WINCOL,0)+1))),(VLOOKUP($C7,(TABLE!LOSE),(MATCH(M7,LOSECOL,0)+1)))))))","v":""},null,{"$f":"IF(NOT(OR(N7=\"W\",N7=\"L\")),\"\",IF(HandicapPlay=\"x\",IF(N7=\"W\",10,-10),(IF(N7=\"W\",(VLOOKUP($C7,(TABLE!WIN),(MATCH(O7,WINCOL,0)+1))),(VLOOKUP($C7,(TABLE!LOSE),(MATCH(O7,LOSECOL,0)+1)))))))","v":""},null,{"$f":"IF(NOT(OR(P7=\"W\",P7=\"L\")),\"\",IF(HandicapPlay=\"x\",IF(P7=\"W\",10,-10),(IF(P7=\"W\",(VLOOKUP($C7,(TABLE!WIN),(MATCH(Q7,WINCOL,0)+1))),(VLOOKUP($C7,(TABLE!LOSE),(MATCH(Q7,LOSECOL,0)+1)))))))","v":""},null,{"$f":"IF(NOT(OR(R7=\"W\",R7=\"L\")),\"\",IF(HandicapPlay=\"x\",IF(R7=\"W\",10,-10),(IF(R7=\"W\",(VLOOKUP($C7,(TABLE!WIN),(MATCH(S7,WINCOL,0)+1))),(VLOOKUP($C7,(TABLE!LOSE),(MATCH(S7,LOSECOL,0)+1)))))))","v":""},null,{"$f":"IF(NOT(OR(T7=\"W\",T7=\"L\")),\"\",IF(HandicapPlay=\"x\",IF(T7=\"W\",10,-10),(IF(T7=\"W\",(VLOOKUP($C7,(TABLE!WIN),(MATCH(U7,WINCOL,0)+1))),(VLOOKUP($C7,(TABLE!LOSE),(MATCH(U7,LOSECOL,0)+1)))))))","v":""},null,{"$f":"SUM(D8:U8)","v":0}]
[null,{"$f":"SCORECARD!D49","v":" Block 1 Player 3"},{"$f":"SCORECARD!I49","v":0},{"$f":"IF(SCORECARD!$I52>0,\"W\",(IF(SCORECARD!$I52<0,\"L\",\"\")))","v":""},{"$f":"SCORECARD!F52","v":0},{"$f":"IF(SCORECARD!$I53>0,\"W\",(IF(SCORECARD!$I53<0,\"L\",\"\")))","v":""},{"$f":"SCORECARD!F53","v":0},{"$f":"IF(SCORECARD!$I54>0,\"W\",(IF(SCORECARD!$I54<0,\"L\",\"\")))","v":""},{"$f":"SCORECARD!F54","v":0},{"$f":"IF(SCORECARD!$I55>0,\"W\",(IF(SCORECARD!$I55<0,\"L\",\"\")))","v":""},{"$f":"SCORECARD!F55","v":0},{"$f":"IF(SCORECARD!$I56>0,\"W\",(IF(SCORECARD!$I56<0,\"L\",\"\")))","v":""},{"$f":"SCORECARD!F56","v":0},{"$f":"IF(SCORECARD!$I57>0,\"W\",(IF(SCORECARD!$I57<0,\"L\",\"\")))","v":""},{"$f":"SCORECARD!F57","v":0},{"$f":"IF(SCORECARD!$I58>0,\"W\",(IF(SCORECARD!$I58<0,\"L\",\"\")))","v":""},{"$f":"SCORECARD!F58","v":0},{"$f":"IF(SCORECARD!$I59>0,\"W\",(IF(SCORECARD!$I59<0,\"L\",\"\")))","v":""},{"$f":"SCORECARD!F59","v":0},{"$f":"IF(SCORECARD!$I60>0,\"W\",(IF(SCORECARD!$I60<0,\"L\",\"\")))","v":""},{"$f":"SCORECARD!F60","v":0}]
[null,null,null,{"$f":"IF(NOT(OR(D9=\"W\",D9=\"L\")),\"\",IF(HandicapPlay=\"x\",IF(D9=\"W\",10,-10),(IF(D9=\"W\",(VLOOKUP($C9,(TABLE!WIN),(MATCH(E9,WINCOL,0)+1))),(VLOOKUP($C9,(TABLE!LOSE),(MATCH(E9,LOSECOL,0)+1)))))))","v":""},null,{"$f":"IF(NOT(OR(F9=\"W\",F9=\"L\")),\"\",IF(HandicapPlay=\"x\",IF(F9=\"W\",10,-10),(IF(F9=\"W\",(VLOOKUP($C9,(TABLE!WIN),(MATCH(G9,WINCOL,0)+1))),(VLOOKUP($C9,(TABLE!LOSE),(MATCH(G9,LOSECOL,0)+1)))))))","v":""},null,{"$f":"IF(NOT(OR(H9=\"W\",H9=\"L\")),\"\",IF(HandicapPlay=\"x\",IF(H9=\"W\",10,-10),(IF(H9=\"W\",(VLOOKUP($C9,(TABLE!WIN),(MATCH(I9,WINCOL,0)+1))),(VLOOKUP($C9,(TABLE!LOSE),(MATCH(I9,LOSECOL,0)+1)))))))","v":""},null,{"$f":"IF(NOT(OR(J9=\"W\",J9=\"L\")),\"\",IF(HandicapPlay=\"x\",IF(J9=\"W\",10,-10),(IF(J9=\"W\",(VLOOKUP($C9,(TABLE!WIN),(MATCH(K9,WINCOL,0)+1))),(VLOOKUP($C9,(TABLE!LOSE),(MATCH(K9,LOSECOL,0)+1)))))))","v":""},null,{"$f":"IF(NOT(OR(L9=\"W\",L9=\"L\")),\"\",IF(HandicapPlay=\"x\",IF(L9=\"W\",10,-10),(IF(L9=\"W\",(VLOOKUP($C9,(TABLE!WIN),(MATCH(M9,WINCOL,0)+1))),(VLOOKUP($C9,(TABLE!LOSE),(MATCH(M9,LOSECOL,0)+1)))))))","v":""},null,{"$f":"IF(NOT(OR(N9=\"W\",N9=\"L\")),\"\",IF(HandicapPlay=\"x\",IF(N9=\"W\",10,-10),(IF(N9=\"W\",(VLOOKUP($C9,(TABLE!WIN),(MATCH(O9,WINCOL,0)+1))),(VLOOKUP($C9,(TABLE!LOSE),(MATCH(O9,LOSECOL,0)+1)))))))","v":""},null,{"$f":"IF(NOT(OR(P9=\"W\",P9=\"L\")),\"\",IF(HandicapPlay=\"x\",IF(P9=\"W\",10,-10),(IF(P9=\"W\",(VLOOKUP($C9,(TABLE!WIN),(MATCH(Q9,WINCOL,0)+1))),(VLOOKUP($C9,(TABLE!LOSE),(MATCH(Q9,LOSECOL,0)+1)))))))","v":""},null,{"$f":"IF(NOT(OR(R9=\"W\",R9=\"L\")),\"\",IF(HandicapPlay=\"x\",IF(R9=\"W\",10,-10),(IF(R9=\"W\",(VLOOKUP($C9,(TABLE!WIN),(MATCH(S9,WINCOL,0)+1))),(VLOOKUP($C9,(TABLE!LOSE),(MATCH(S9,LOSECOL,0)+1)))))))","v":""},null,{"$f":"IF(NOT(OR(T9=\"W\",T9=\"L\")),\"\",IF(HandicapPlay=\"x\",IF(T9=\"W\",10,-10),(IF(T9=\"W\",(VLOOKUP($C9,(TABLE!WIN),(MATCH(U9,WINCOL,0)+1))),(VLOOKUP($C9,(TABLE!LOSE),(MATCH(U9,LOSECOL,0)+1)))))))","v":""},null,{"$f":"SUM(D10:U10)","v":0}]
[null,{"$f":"SCORECARD!D69","v":" Block 1 Player 4"},{"$f":"SCORECARD!I69","v":0},{"$f":"IF(SCORECARD!$I72>0,\"W\",(IF(SCORECARD!$I72<0,\"L\",\"\")))","v":""},{"$f":"SCORECARD!F72","v":0},{"$f":"IF(SCORECARD!$I73>0,\"W\",(IF(SCORECARD!$I73<0,\"L\",\"\")))","v":""},{"$f":"SCORECARD!F73","v":0},{"$f":"IF(SCORECARD!$I74>0,\"W\",(IF(SCORECARD!$I74<0,\"L\",\"\")))","v":""},{"$f":"SCORECARD!F74","v":0},{"$f":"IF(SCORECARD!$I75>0,\"W\",(IF(SCORECARD!$I75<0,\"L\",\"\")))","v":""},{"$f":"SCORECARD!F75","v":0},{"$f":"IF(SCORECARD!$I76>0,\"W\",(IF(SCORECARD!$I76<0,\"L\",\"\")))","v":""},{"$f":"SCORECARD!F76","v":0},{"$f":"IF(SCORECARD!$I77>0,\"W\",(IF(SCORECARD!$I77<0,\"L\",\"\")))","v":""},{"$f":"SCORECARD!F77","v":0},{"$f":"IF(SCORECARD!$I78>0,\"W\",(IF(SCORECARD!$I78<0,\"L\",\"\")))","v":""},{"$f":"SCORECARD!F78","v":0},{"$f":"IF(SCORECARD!$I79>0,\"W\",(IF(SCORECARD!$I79<0,\"L\",\"\")))","v":""},{"$f":"SCORECARD!F79","v":0},{"$f":"IF(SCORECARD!$I80>0,\"W\",(IF(SCORECARD!$I80<0,\"L\",\"\")))","v":""},{"$f":"SCORECARD!F80","v":0}]
[null,null,null,{"$f":"IF(NOT(OR(D11=\"W\",D11=\"L\")),\"\",IF(HandicapPlay=\"x\",IF(D11=\"W\",10,-10),(IF(D11=\"W\",(VLOOKUP($C11,(TABLE!WIN),(MATCH(E11,WINCOL,0)+1))),(VLOOKUP($C11,(TABLE!LOSE),(MATCH(E11,LOSECOL,0)+1)))))))","v":""},null,{"$f":"IF(NOT(OR(F11=\"W\",F11=\"L\")),\"\",IF(HandicapPlay=\"x\",IF(F11=\"W\",10,-10),(IF(F11=\"W\",(VLOOKUP($C11,(TABLE!WIN),(MATCH(G11,WINCOL,0)+1))),(VLOOKUP($C11,(TABLE!LOSE),(MATCH(G11,LOSECOL,0)+1)))))))","v":""},null,{"$f":"IF(NOT(OR(H11=\"W\",H11=\"L\")),\"\",IF(HandicapPlay=\"x\",IF(H11=\"W\",10,-10),(IF(H11=\"W\",(VLOOKUP($C11,(TABLE!WIN),(MATCH(I11,WINCOL,0)+1))),(VLOOKUP($C11,(TABLE!LOSE),(MATCH(I11,LOSECOL,0)+1)))))))","v":""},null,{"$f":"IF(NOT(OR(J11=\"W\",J11=\"L\")),\"\",IF(HandicapPlay=\"x\",IF(J11=\"W\",10,-10),(IF(J11=\"W\",(VLOOKUP($C11,(TABLE!WIN),(MATCH(K11,WINCOL,0)+1))),(VLOOKUP($C11,(TABLE!LOSE),(MATCH(K11,LOSECOL,0)+1)))))))","v":""},null,{"$f":"IF(NOT(OR(L11=\"W\",L11=\"L\")),\"\",IF(HandicapPlay=\"x\",IF(L11=\"W\",10,-10),(IF(L11=\"W\",(VLOOKUP($C11,(TABLE!WIN),(MATCH(M11,WINCOL,0)+1))),(VLOOKUP($C11,(TABLE!LOSE),(MATCH(M11,LOSECOL,0)+1)))))))","v":""},null,{"$f":"IF(NOT(OR(N11=\"W\",N11=\"L\")),\"\",IF(HandicapPlay=\"x\",IF(N11=\"W\",10,-10),(IF(N11=\"W\",(VLOOKUP($C11,(TABLE!WIN),(MATCH(O11,WINCOL,0)+1))),(VLOOKUP($C11,(TABLE!LOSE),(MATCH(O11,LOSECOL,0)+1)))))))","v":""},null,{"$f":"IF(NOT(OR(P11=\"W\",P11=\"L\")),\"\",IF(HandicapPlay=\"x\",IF(P11=\"W\",10,-10),(IF(P11=\"W\",(VLOOKUP($C11,(TABLE!WIN),(MATCH(Q11,WINCOL,0)+1))),(VLOOKUP($C11,(TABLE!LOSE),(MATCH(Q11,LOSECOL,0)+1)))))))","v":""},null,{"$f":"IF(NOT(OR(R11=\"W\",R11=\"L\")),\"\",IF(HandicapPlay=\"x\",IF(R11=\"W\",10,-10),(IF(R11=\"W\",(VLOOKUP($C11,(TABLE!WIN),(MATCH(S11,WINCOL,0)+1))),(VLOOKUP($C11,(TABLE!LOSE),(MATCH(S11,LOSECOL,0)+1)))))))","v":""},null,{"$f":"IF(NOT(OR(T11=\"W\",T11=\"L\")),\"\",IF(HandicapPlay=\"x\",IF(T11=\"W\",10,-10),(IF(T11=\"W\",(VLOOKUP($C11,(TABLE!WIN),(MATCH(U11,WINCOL,0)+1))),(VLOOKUP($C11,(TABLE!LOSE),(MATCH(U11,LOSECOL,0)+1)))))))","v":""},null,{"$f":"SUM(D12:U12)","v":0}]
[null,{"$f":"SCORECARD!D92","v":" Block 1 Player 5"},{"$f":"SCORECARD!I92","v":0},{"$f":"IF(SCORECARD!$I95>0,\"W\",(IF(SCORECARD!I95<0,\"L\",\"\")))","v":""},{"$f":"SCORECARD!F95","v":0},{"$f":"IF(SCORECARD!$I96>0,\"W\",(IF(SCORECARD!$I96<0,\"L\",\"\")))","v":""},{"$f":"SCORECARD!F96","v":0},{"$f":"IF(SCORECARD!$I97>0,\"W\",(IF(SCORECARD!$I97<0,\"L\",\"\")))","v":""},{"$f":"SCORECARD!F97","v":0},{"$f":"IF(SCORECARD!$I98>0,\"W\",(IF(SCORECARD!$I98<0,\"L\",\"\")))","v":""},{"$f":"SCORECARD!F98","v":0},{"$f":"IF(SCORECARD!$I99>0,\"W\",(IF(SCORECARD!$I99<0,\"L\",\"\")))","v":""},{"$f":"SCORECARD!F99","v":0},{"$f":"IF(SCORECARD!$I100>0,\"W\",(IF(SCORECARD!$I100<0,\"L\",\"\")))","v":""},{"$f":"SCORECARD!F100","v":0},{"$f":"IF(SCORECARD!$I101>0,\"W\",(IF(SCORECARD!$I101<0,\"L\",\"\")))","v":""},{"$f":"SCORECARD!F101","v":0},{"$f":"IF(SCORECARD!$I102>0,\"W\",(IF(SCORECARD!$I102<0,\"L\",\"\")))","v":""},{"$f":"SCORECARD!F102","v":0},{"$f":"IF(SCORECARD!$I103>0,\"W\",(IF(SCORECARD!$I103,\"L\",\"\")))","v":""},{"$f":"SCORECARD!F103","v":0}]
[null,null,null,{"$f":"IF(NOT(OR(D13=\"W\",D13=\"L\")),\"\",IF(HandicapPlay=\"x\",IF(D13=\"W\",10,-10),(IF(D13=\"W\",(VLOOKUP($C13,(TABLE!WIN),(MATCH(E13,WINCOL,0)+1))),(VLOOKUP($C13,(TABLE!LOSE),(MATCH(E13,LOSECOL,0)+1)))))))","v":""},null,{"$f":"IF(NOT(OR(F13=\"W\",F13=\"L\")),\"\",IF(HandicapPlay=\"x\",IF(F13=\"W\",10,-10),(IF(F13=\"W\",(VLOOKUP($C13,(TABLE!WIN),(MATCH(G13,WINCOL,0)+1))),(VLOOKUP($C13,(TABLE!LOSE),(MATCH(G13,LOSECOL,0)+1)))))))","v":""},null,{"$f":"IF(NOT(OR(H13=\"W\",H13=\"L\")),\"\",IF(HandicapPlay=\"x\",IF(H13=\"W\",10,-10),(IF(H13=\"W\",(VLOOKUP($C13,(TABLE!WIN),(MATCH(I13,WINCOL,0)+1))),(VLOOKUP($C13,(TABLE!LOSE),(MATCH(I13,LOSECOL,0)+1)))))))","v":""},null,{"$f":"IF(NOT(OR(J13=\"W\",J13=\"L\")),\"\",IF(HandicapPlay=\"x\",IF(J13=\"W\",10,-10),(IF(J13=\"W\",(VLOOKUP($C13,(TABLE!WIN),(MATCH(K13,WINCOL,0)+1))),(VLOOKUP($C13,(TABLE!LOSE),(MATCH(K13,LOSECOL,0)+1)))))))","v":""},null,{"$f":"IF(NOT(OR(L13=\"W\",L13=\"L\")),\"\",IF(HandicapPlay=\"x\",IF(L13=\"W\",10,-10),(IF(L13=\"W\",(VLOOKUP($C13,(TABLE!WIN),(MATCH(M13,WINCOL,0)+1))),(VLOOKUP($C13,(TABLE!LOSE),(MATCH(M13,LOSECOL,0)+1)))))))","v":""},null,{"$f":"IF(NOT(OR(N13=\"W\",N13=\"L\")),\"\",IF(HandicapPlay=\"x\",IF(N13=\"W\",10,-10),(IF(N13=\"W\",(VLOOKUP($C13,(TABLE!WIN),(MATCH(O13,WINCOL,0)+1))),(VLOOKUP($C13,(TABLE!LOSE),(MATCH(O13,LOSECOL,0)+1)))))))","v":""},null,{"$f":"IF(NOT(OR(P13=\"W\",P13=\"L\")),\"\",IF(HandicapPlay=\"x\",IF(P13=\"W\",10,-10),(IF(P13=\"W\",(VLOOKUP($C13,(TABLE!WIN),(MATCH(Q13,WINCOL,0)+1))),(VLOOKUP($C13,(TABLE!LOSE),(MATCH(Q13,LOSECOL,0)+1)))))))","v":""},null,{"$f":"IF(NOT(OR(R13=\"W\",R13=\"L\")),\"\",IF(HandicapPlay=\"x\",IF(R13=\"W\",10,-10),(IF(R13=\"W\",(VLOOKUP($C13,(TABLE!WIN),(MATCH(S13,WINCOL,0)+1))),(VLOOKUP($C13,(TABLE!LOSE),(MATCH(S13,LOSECOL,0)+1)))))))","v":""},null,{"$f":"IF(NOT(OR(T13=\"W\",T13=\"L\")),\"\",IF(HandicapPlay=\"x\",IF(T13=\"W\",10,-10),(IF(T13=\"W\",(VLOOKUP($C13,(TABLE!WIN),(MATCH(U13,WINCOL,0)+1))),(VLOOKUP($C13,(TABLE!LOSE),(MATCH(U13,LOSECOL,0)+1)))))))","v":""},null,{"$f":"SUM(D14:U14)","v":0}]
[null,{"$f":"SCORECARD!D112","v":" Block 1 Player 6"},{"$f":"SCORECARD!I112","v":0},{"$f":"IF(SCORECARD!$I115>0,\"W\",(IF(SCORECARD!$I115<0,\"L\",\"\")))","v":""},{"$f":"SCORECARD!F115","v":0},{"$f":"IF(SCORECARD!$I116>0,\"W\",(IF(SCORECARD!$I116<0,\"L\",\"\")))","v":""},{"$f":"SCORECARD!F116","v":0},{"$f":"IF(SCORECARD!$I117>0,\"W\",(IF(SCORECARD!$I117<0,\"L\",\"\")))","v":""},{"$f":"SCORECARD!F117","v":0},{"$f":"IF(SCORECARD!$I118>0,\"W\",(IF(SCORECARD!$I118<0,\"L\",\"\")))","v":""},{"$f":"SCORECARD!F118","v":0},{"$f":"IF(SCORECARD!$I119>0,\"W\",(IF(SCORECARD!$I119<0,\"L\",\"\")))","v":""},{"$f":"SCORECARD!F119","v":0},{"$f":"IF(SCORECARD!$I120>0,\"W\",(IF(SCORECARD!$I120<0,\"L\",\"\")))","v":""},{"$f":"SCORECARD!F120","v":0},{"$f":"IF(SCORECARD!$I121>0,\"W\",(IF(SCORECARD!$I121<0,\"L\",\"\")))","v":""},{"$f":"SCORECARD!F121","v":0},{"$f":"IF(SCORECARD!$I122>0,\"W\",(IF(SCORECARD!$I122<0,\"L\",\"\")))","v":""},{"$f":"SCORECARD!F122","v":0},{"$f":"IF(SCORECARD!$I123>0,\"W\",(IF(SCORECARD!$I123<0,\"L\",\"\")))","v":""},{"$f":"SCORECARD!F123","v":0}]
[null,null,null,{"$f":"IF(NOT(OR(D15=\"W\",D15=\"L\")),\"\",IF(HandicapPlay=\"x\",IF(D15=\"W\",10,-10),(IF(D15=\"W\",(VLOOKUP($C15,(TABLE!WIN),(MATCH(E15,WINCOL,0)+1))),(VLOOKUP($C15,(TABLE!LOSE),(MATCH(E15,LOSECOL,0)+1)))))))","v":""},null,{"$f":"IF(NOT(OR(F15=\"W\",F15=\"L\")),\"\",IF(HandicapPlay=\"x\",IF(F15=\"W\",10,-10),(IF(F15=\"W\",(VLOOKUP($C15,(TABLE!WIN),(MATCH(G15,WINCOL,0)+1))),(VLOOKUP($C15,(TABLE!LOSE),(MATCH(G15,LOSECOL,0)+1)))))))","v":""},null,{"$f":"IF(NOT(OR(H15=\"W\",H15=\"L\")),\"\",IF(HandicapPlay=\"x\",IF(H15=\"W\",10,-10),(IF(H15=\"W\",(VLOOKUP($C15,(TABLE!WIN),(MATCH(I15,WINCOL,0)+1))),(VLOOKUP($C15,(TABLE!LOSE),(MATCH(I15,LOSECOL,0)+1)))))))","v":""},null,{"$f":"IF(NOT(OR(J15=\"W\",J15=\"L\")),\"\",IF(HandicapPlay=\"x\",IF(J15=\"W\",10,-10),(IF(J15=\"W\",(VLOOKUP($C15,(TABLE!WIN),(MATCH(K15,WINCOL,0)+1))),(VLOOKUP($C15,(TABLE!LOSE),(MATCH(K15,LOSECOL,0)+1)))))))","v":""},null,{"$f":"IF(NOT(OR(L15=\"W\",L15=\"L\")),\"\",IF(HandicapPlay=\"x\",IF(L15=\"W\",10,-10),(IF(L15=\"W\",(VLOOKUP($C15,(TABLE!WIN),(MATCH(M15,WINCOL,0)+1))),(VLOOKUP($C15,(TABLE!LOSE),(MATCH(M15,LOSECOL,0)+1)))))))","v":""},null,{"$f":"IF(NOT(OR(N15=\"W\",N15=\"L\")),\"\",IF(HandicapPlay=\"x\",IF(N15=\"W\",10,-10),(IF(N15=\"W\",(VLOOKUP($C15,(TABLE!WIN),(MATCH(O15,WINCOL,0)+1))),(VLOOKUP($C15,(TABLE!LOSE),(MATCH(O15,LOSECOL,0)+1)))))))","v":""},null,{"$f":"IF(NOT(OR(P15=\"W\",P15=\"L\")),\"\",IF(HandicapPlay=\"x\",IF(P15=\"W\",10,-10),(IF(P15=\"W\",(VLOOKUP($C15,(TABLE!WIN),(MATCH(Q15,WINCOL,0)+1))),(VLOOKUP($C15,(TABLE!LOSE),(MATCH(Q15,LOSECOL,0)+1)))))))","v":""},null,{"$f":"IF(NOT(OR(R15=\"W\",R15=\"L\")),\"\",IF(HandicapPlay=\"x\",IF(R15=\"W\",10,-10),(IF(R15=\"W\",(VLOOKUP($C15,(TABLE!WIN),(MATCH(S15,WINCOL,0)+1))),(VLOOKUP($C15,(TABLE!LOSE),(MATCH(S15,LOSECOL,0)+1)))))))","v":""},null,{"$f":"IF(NOT(OR(T15=\"W\",T15=\"L\")),\"\",IF(HandicapPlay=\"x\",IF(T15=\"W\",10,-10),(IF(T15=\"W\",(VLOOKUP($C15,(TABLE!WIN),(MATCH(U15,WINCOL,0)+1))),(VLOOKUP($C15,(TABLE!LOSE),(MATCH(U15,LOSECOL,0)+1)))))))","v":""},null,{"$f":"SUM(D16:U16)","v":0}]
[null,{"$f":"SCORECARD!D135","v":" Block 1 Player 7"},{"$f":"SCORECARD!I135","v":0},{"$f":"IF(SCORECARD!$I138>0,\"W\",(IF(SCORECARD!$I138<0,\"L\",\"\")))","v":""},{"$f":"SCORECARD!F138","v":0},{"$f":"IF(SCORECARD!$I139>0,\"W\",(IF(SCORECARD!$I139<0,\"L\",\"\")))","v":""},{"$f":"SCORECARD!F139","v":0},{"$f":"IF(SCORECARD!$I140>0,\"W\",(IF(SCORECARD!$I140<0,\"L\",\"\")))","v":""},{"$f":"SCORECARD!F140","v":0},{"$f":"IF(SCORECARD!$I141>0,\"W\",(IF(SCORECARD!$I141<0,\"L\",\"\")))","v":""},{"$f":"SCORECARD!F141","v":0},{"$f":"IF(SCORECARD!$I142>0,\"W\",(IF(SCORECARD!$I142<0,\"L\",\"\")))","v":""},{"$f":"SCORECARD!F142","v":0},{"$f":"IF(SCORECARD!$I143>0,\"W\",(IF(SCORECARD!$I143<0,\"L\",\"\")))","v":""},{"$f":"SCORECARD!F143","v":0},{"$f":"IF(SCORECARD!$I144>0,\"W\",(IF(SCORECARD!$I144<0,\"L\",\"\")))","v":""},{"$f":"SCORECARD!F144","v":0},{"$f":"IF(SCORECARD!$I145>0,\"W\",(IF(SCORECARD!$I145<0,\"L\",\"\")))","v":""},{"$f":"SCORECARD!F145","v":0},{"$f":"IF(SCORECARD!$I146>0,\"W\",(IF(SCORECARD!$I146<0,\"L\",\"\")))","v":""},{"$f":"SCORECARD!F146","v":0}]
[null,null,null,{"$f":"IF(NOT(OR(D17=\"W\",D17=\"L\")),\"\",IF(HandicapPlay=\"x\",IF(D17=\"W\",10,-10),(IF(D17=\"W\",(VLOOKUP($C17,(TABLE!WIN),(MATCH(E17,WINCOL,0)+1))),(VLOOKUP($C17,(TABLE!LOSE),(MATCH(E17,LOSECOL,0)+1)))))))","v":""},null,{"$f":"IF(NOT(OR(F17=\"W\",F17=\"L\")),\"\",IF(HandicapPlay=\"x\",IF(F17=\"W\",10,-10),(IF(F17=\"W\",(VLOOKUP($C17,(TABLE!WIN),(MATCH(G17,WINCOL,0)+1))),(VLOOKUP($C17,(TABLE!LOSE),(MATCH(G17,LOSECOL,0)+1)))))))","v":""},null,{"$f":"IF(NOT(OR(H17=\"W\",H17=\"L\")),\"\",IF(HandicapPlay=\"x\",IF(H17=\"W\",10,-10),(IF(H17=\"W\",(VLOOKUP($C17,(TABLE!WIN),(MATCH(I17,WINCOL,0)+1))),(VLOOKUP($C17,(TABLE!LOSE),(MATCH(I17,LOSECOL,0)+1)))))))","v":""},null,{"$f":"IF(NOT(OR(J17=\"W\",J17=\"L\")),\"\",IF(HandicapPlay=\"x\",IF(J17=\"W\",10,-10),(IF(J17=\"W\",(VLOOKUP($C17,(TABLE!WIN),(MATCH(K17,WINCOL,0)+1))),(VLOOKUP($C17,(TABLE!LOSE),(MATCH(K17,LOSECOL,0)+1)))))))","v":""},null,{"$f":"IF(NOT(OR(L17=\"W\",L17=\"L\")),\"\",IF(HandicapPlay=\"x\",IF(L17=\"W\",10,-10),(IF(L17=\"W\",(VLOOKUP($C17,(TABLE!WIN),(MATCH(M17,WINCOL,0)+1))),(VLOOKUP($C17,(TABLE!LOSE),(MATCH(M17,LOSECOL,0)+1)))))))","v":""},null,{"$f":"IF(NOT(OR(N17=\"W\",N17=\"L\")),\"\",IF(HandicapPlay=\"x\",IF(N17=\"W\",10,-10),(IF(N17=\"W\",(VLOOKUP($C17,(TABLE!WIN),(MATCH(O17,WINCOL,0)+1))),(VLOOKUP($C17,(TABLE!LOSE),(MATCH(O17,LOSECOL,0)+1)))))))","v":""},null,{"$f":"IF(NOT(OR(P17=\"W\",P17=\"L\")),\"\",IF(HandicapPlay=\"x\",IF(P17=\"W\",10,-10),(IF(P17=\"W\",(VLOOKUP($C17,(TABLE!WIN),(MATCH(Q17,WINCOL,0)+1))),(VLOOKUP($C17,(TABLE!LOSE),(MATCH(Q17,LOSECOL,0)+1)))))))","v":""},null,{"$f":"IF(NOT(OR(R17=\"W\",R17=\"L\")),\"\",IF(HandicapPlay=\"x\",IF(R17=\"W\",10,-10),(IF(R17=\"W\",(VLOOKUP($C17,(TABLE!WIN),(MATCH(S17,WINCOL,0)+1))),(VLOOKUP($C17,(TABLE!LOSE),(MATCH(S17,LOSECOL,0)+1)))))))","v":""},null,{"$f":"IF(NOT(OR(T17=\"W\",T17=\"L\")),\"\",IF(HandicapPlay=\"x\",IF(T17=\"W\",10,-10),(IF(T17=\"W\",(VLOOKUP($C17,(TABLE!WIN),(MATCH(U17,WINCOL,0)+1))),(VLOOKUP($C17,(TABLE!LOSE),(MATCH(U17,LOSECOL,0)+1)))))))","v":""},null,{"$f":"SUM(D18:U18)","v":0}]
[null,{"$f":"SCORECARD!D155","v":" Block 1 Player 8"},{"$f":"SCORECARD!I155","v":0},{"$f":"IF(SCORECARD!$I158>0,\"W\",(IF(SCORECARD!$I158<0,\"L\",\"\")))","v":""},{"$f":"SCORECARD!$F158","v":0},{"$f":"IF(SCORECARD!$I159>0,\"W\",(IF(SCORECARD!$I159<0,\"L\",\"\")))","v":""},{"$f":"SCORECARD!$F159","v":0},{"$f":"IF(SCORECARD!$I160>0,\"W\",(IF(SCORECARD!$I160<0,\"L\",\"\")))","v":""},{"$f":"SCORECARD!$F160","v":0},{"$f":"IF(SCORECARD!$I161>0,\"W\",(IF(SCORECARD!$I161<0,\"L\",\"\")))","v":""},{"$f":"SCORECARD!$F161","v":0},{"$f":"IF(SCORECARD!$I162>0,\"W\",(IF(SCORECARD!$I162<0,\"L\",\"\")))","v":""},{"$f":"SCORECARD!$F162","v":0},{"$f":"IF(SCORECARD!$I163>0,\"W\",(IF(SCORECARD!$I163<0,\"L\",\"\")))","v":""},{"$f":"SCORECARD!$F163","v":0},{"$f":"IF(SCORECARD!$I164>0,\"W\",(IF(SCORECARD!$I164<0,\"L\",\"\")))","v":""},{"$f":"SCORECARD!$F164","v":0},{"$f":"IF(SCORECARD!$I165>0,\"W\",(IF(SCORECARD!$I165<0,\"L\",\"\")))","v":""},{"$f":"SCORECARD!$F165","v":0},{"$f":"IF(SCORECARD!$I166>0,\"W\",(IF(SCORECARD!$I166<0,\"L\",\"\")))","v":""},{"$f":"SCORECARD!$F166","v":0}]
[null,null,null,{"$f":"IF(NOT(OR(D19=\"W\",D19=\"L\")),\"\",IF(HandicapPlay=\"x\",IF(D19=\"W\",10,-10),(IF(D19=\"W\",(VLOOKUP($C19,(TABLE!WIN),(MATCH(E19,WINCOL,0)+1))),(VLOOKUP($C19,(TABLE!LOSE),(MATCH(E19,LOSECOL,0)+1)))))))","v":""},null,{"$f":"IF(NOT(OR(F19=\"W\",F19=\"L\")),\"\",IF(HandicapPlay=\"x\",IF(F19=\"W\",10,-10),(IF(F19=\"W\",(VLOOKUP($C19,(TABLE!WIN),(MATCH(G19,WINCOL,0)+1))),(VLOOKUP($C19,(TABLE!LOSE),(MATCH(G19,LOSECOL,0)+1)))))))","v":""},null,{"$f":"IF(NOT(OR(H19=\"W\",H19=\"L\")),\"\",IF(HandicapPlay=\"x\",IF(H19=\"W\",10,-10),(IF(H19=\"W\",(VLOOKUP($C19,(TABLE!WIN),(MATCH(I19,WINCOL,0)+1))),(VLOOKUP($C19,(TABLE!LOSE),(MATCH(I19,LOSECOL,0)+1)))))))","v":""},null,{"$f":"IF(NOT(OR(J19=\"W\",J19=\"L\")),\"\",IF(HandicapPlay=\"x\",IF(J19=\"W\",10,-10),(IF(J19=\"W\",(VLOOKUP($C19,(TABLE!WIN),(MATCH(K19,WINCOL,0)+1))),(VLOOKUP($C19,(TABLE!LOSE),(MATCH(K19,LOSECOL,0)+1)))))))","v":""},null,{"$f":"IF(NOT(OR(L19=\"W\",L19=\"L\")),\"\",IF(HandicapPlay=\"x\",IF(L19=\"W\",10,-10),(IF(L19=\"W\",(VLOOKUP($C19,(TABLE!WIN),(MATCH(M19,WINCOL,0)+1))),(VLOOKUP($C19,(TABLE!LOSE),(MATCH(M19,LOSECOL,0)+1)))))))","v":""},null,{"$f":"IF(NOT(OR(N19=\"W\",N19=\"L\")),\"\",IF(HandicapPlay=\"x\",IF(N19=\"W\",10,-10),(IF(N19=\"W\",(VLOOKUP($C19,(TABLE!WIN),(MATCH(O19,WINCOL,0)+1))),(VLOOKUP($C19,(TABLE!LOSE),(MATCH(O19,LOSECOL,0)+1)))))))","v":""},null,{"$f":"IF(NOT(OR(P19=\"W\",P19=\"L\")),\"\",IF(HandicapPlay=\"x\",IF(P19=\"W\",10,-10),(IF(P19=\"W\",(VLOOKUP($C19,(TABLE!WIN),(MATCH(Q19,WINCOL,0)+1))),(VLOOKUP($C19,(TABLE!LOSE),(MATCH(Q19,LOSECOL,0)+1)))))))","v":""},null,{"$f":"IF(NOT(OR(R19=\"W\",R19=\"L\")),\"\",IF(HandicapPlay=\"x\",IF(R19=\"W\",10,-10),(IF(R19=\"W\",(VLOOKUP($C19,(TABLE!WIN),(MATCH(S19,WINCOL,0)+1))),(VLOOKUP($C19,(TABLE!LOSE),(MATCH(S19,LOSECOL,0)+1)))))))","v":""},null,{"$f":"IF(NOT(OR(T19=\"W\",T19=\"L\")),\"\",IF(HandicapPlay=\"x\",IF(T19=\"W\",10,-10),(IF(T19=\"W\",(VLOOKUP($C19,(TABLE!WIN),(MATCH(U19,WINCOL,0)+1))),(VLOOKUP($C19,(TABLE!LOSE),(MATCH(U19,LOSECOL,0)+1)))))))","v":""},null,{"$f":"SUM(D20:U20)","v":0}]
[null,{"$f":"SCORECARD!D178","v":" Block 1 Player 9"},{"$f":"SCORECARD!I178","v":0},{"$f":"IF(SCORECARD!$I181>0,\"W\",(IF(SCORECARD!$I181<0,\"L\",\"\")))","v":""},{"$f":"SCORECARD!F181","v":0},{"$f":"IF(SCORECARD!$I182>0,\"W\",(IF(SCORECARD!$I182<0,\"L\",\"\")))","v":""},{"$f":"SCORECARD!F182","v":0},{"$f":"IF(SCORECARD!$I183>0,\"W\",(IF(SCORECARD!$I183<0,\"L\",\"\")))","v":""},{"$f":"SCORECARD!F183","v":0},{"$f":"IF(SCORECARD!$I184>0,\"W\",(IF(SCORECARD!$I184<0,\"L\",\"\")))","v":""},{"$f":"SCORECARD!F184","v":0},{"$f":"IF(SCORECARD!$I185>0,\"W\",(IF(SCORECARD!$I185<0,\"L\",\"\")))","v":""},{"$f":"SCORECARD!F185","v":0},{"$f":"IF(SCORECARD!$I186>0,\"W\",(IF(SCORECARD!$I186<0,\"L\",\"\")))","v":""},{"$f":"SCORECARD!F186","v":0},{"$f":"IF(SCORECARD!$I187>0,\"W\",(IF(SCORECARD!$I187<0,\"L\",\"\")))","v":""},{"$f":"SCORECARD!F187","v":0},{"$f":"IF(SCORECARD!$I188>0,\"W\",(IF(SCORECARD!$I188<0,\"L\",\"\")))","v":""},{"$f":"SCORECARD!F188","v":0},{"$f":"IF(SCORECARD!$I189>0,\"W\",(IF(SCORECARD!$I189<0,\"L\",\"\")))","v":""},{"$f":"SCORECARD!F189","v":0}]
[null,null,null,{"$f":"IF(NOT(OR(D21=\"W\",D21=\"L\")),\"\",IF(HandicapPlay=\"x\",IF(D21=\"W\",10,-10),(IF(D21=\"W\",(VLOOKUP($C21,(TABLE!WIN),(MATCH(E21,WINCOL,0)+1))),(VLOOKUP($C21,(TABLE!LOSE),(MATCH(E21,LOSECOL,0)+1)))))))","v":""},null,{"$f":"IF(NOT(OR(F21=\"W\",F21=\"L\")),\"\",IF(HandicapPlay=\"x\",IF(F21=\"W\",10,-10),(IF(F21=\"W\",(VLOOKUP($C21,(TABLE!WIN),(MATCH(G21,WINCOL,0)+1))),(VLOOKUP($C21,(TABLE!LOSE),(MATCH(G21,LOSECOL,0)+1)))))))","v":""},null,{"$f":"IF(NOT(OR(H21=\"W\",H21=\"L\")),\"\",IF(HandicapPlay=\"x\",IF(H21=\"W\",10,-10),(IF(H21=\"W\",(VLOOKUP($C21,(TABLE!WIN),(MATCH(I21,WINCOL,0)+1))),(VLOOKUP($C21,(TABLE!LOSE),(MATCH(I21,LOSECOL,0)+1)))))))","v":""},null,{"$f":"IF(NOT(OR(J21=\"W\",J21=\"L\")),\"\",IF(HandicapPlay=\"x\",IF(J21=\"W\",10,-10),(IF(J21=\"W\",(VLOOKUP($C21,(TABLE!WIN),(MATCH(K21,WINCOL,0)+1))),(VLOOKUP($C21,(TABLE!LOSE),(MATCH(K21,LOSECOL,0)+1)))))))","v":""},null,{"$f":"IF(NOT(OR(L21=\"W\",L21=\"L\")),\"\",IF(HandicapPlay=\"x\",IF(L21=\"W\",10,-10),(IF(L21=\"W\",(VLOOKUP($C21,(TABLE!WIN),(MATCH(M21,WINCOL,0)+1))),(VLOOKUP($C21,(TABLE!LOSE),(MATCH(M21,LOSECOL,0)+1)))))))","v":""},null,{"$f":"IF(NOT(OR(N21=\"W\",N21=\"L\")),\"\",IF(HandicapPlay=\"x\",IF(N21=\"W\",10,-10),(IF(N21=\"W\",(VLOOKUP($C21,(TABLE!WIN),(MATCH(O21,WINCOL,0)+1))),(VLOOKUP($C21,(TABLE!LOSE),(MATCH(O21,LOSECOL,0)+1)))))))","v":""},null,{"$f":"IF(NOT(OR(P21=\"W\",P21=\"L\")),\"\",IF(HandicapPlay=\"x\",IF(P21=\"W\",10,-10),(IF(P21=\"W\",(VLOOKUP($C21,(TABLE!WIN),(MATCH(Q21,WINCOL,0)+1))),(VLOOKUP($C21,(TABLE!LOSE),(MATCH(Q21,LOSECOL,0)+1)))))))","v":""},null,{"$f":"IF(NOT(OR(R21=\"W\",R21=\"L\")),\"\",IF(HandicapPlay=\"x\",IF(R21=\"W\",10,-10),(IF(R21=\"W\",(VLOOKUP($C21,(TABLE!WIN),(MATCH(S21,WINCOL,0)+1))),(VLOOKUP($C21,(TABLE!LOSE),(MATCH(S21,LOSECOL,0)+1)))))))","v":""},null,{"$f":"IF(NOT(OR(T21=\"W\",T21=\"L\")),\"\",IF(HandicapPlay=\"x\",IF(T21=\"W\",10,-10),(IF(T21=\"W\",(VLOOKUP($C21,(TABLE!WIN),(MATCH(U21,WINCOL,0)+1))),(VLOOKUP($C21,(TABLE!LOSE),(MATCH(U21,LOSECOL,0)+1)))))))","v":""},null,{"$f":"SUM(D22:U22)","v":0}]
[null,{"$f":"SCORECARD!D198","v":" Block 1 Player 10"},{"$f":"SCORECARD!I198","v":0},{"$f":"IF(SCORECARD!$I201>0,\"W\",(IF(SCORECARD!$I201<0,\"L\",\"\")))","v":""},{"$f":"SCORECARD!F201","v":0},{"$f":"IF(SCORECARD!$I202>0,\"W\",(IF(SCORECARD!$I202<0,\"L\",\"\")))","v":""},{"$f":"SCORECARD!F202","v":0},{"$f":"IF(SCORECARD!$I203>0,\"W\",(IF(SCORECARD!$I203<0,\"L\",\"\")))","v":""},{"$f":"SCORECARD!F203","v":0},{"$f":"IF(SCORECARD!$I204>0,\"W\",(IF(SCORECARD!$I204<0,\"L\",\"\")))","v":""},{"$f":"SCORECARD!F204","v":0},{"$f":"IF(SCORECARD!$I205>0,\"W\",(IF(SCORECARD!$I205<0,\"L\",\"\")))","v":""},{"$f":"SCORECARD!F205","v":0},{"$f":"IF(SCORECARD!$I206>0,\"W\",(IF(SCORECARD!$I206<0,\"L\",\"\")))","v":""},{"$f":"SCORECARD!F206","v":0},{"$f":"IF(SCORECARD!$I207>0,\"W\",(IF(SCORECARD!$I207<0,\"L\",\"\")))","v":""},{"$f":"SCORECARD!F207","v":0},{"$f":"IF(SCORECARD!$I208>0,\"W\",(IF(SCORECARD!$I208<0,\"L\",\"\")))","v":""},{"$f":"SCORECARD!F208","v":0},{"$f":"IF(SCORECARD!$I209>0,\"W\",(IF(SCORECARD!$I209<0,\"L\",\"\")))","v":""},{"$f":"SCORECARD!F209","v":0}]
[null,null,null,{"$f":"IF(NOT(OR(D23=\"W\",D23=\"L\")),\"\",IF(HandicapPlay=\"x\",IF(D23=\"W\",10,-10),(IF(D23=\"W\",(VLOOKUP($C23,(TABLE!WIN),(MATCH(E23,WINCOL,0)+1))),(VLOOKUP($C23,(TABLE!LOSE),(MATCH(E23,LOSECOL,0)+1)))))))","v":""},null,{"$f":"IF(NOT(OR(F23=\"W\",F23=\"L\")),\"\",IF(HandicapPlay=\"x\",IF(F23=\"W\",10,-10),(IF(F23=\"W\",(VLOOKUP($C23,(TABLE!WIN),(MATCH(G23,WINCOL,0)+1))),(VLOOKUP($C23,(TABLE!LOSE),(MATCH(G23,LOSECOL,0)+1)))))))","v":""},null,{"$f":"IF(NOT(OR(H23=\"W\",H23=\"L\")),\"\",IF(HandicapPlay=\"x\",IF(H23=\"W\",10,-10),(IF(H23=\"W\",(VLOOKUP($C23,(TABLE!WIN),(MATCH(I23,WINCOL,0)+1))),(VLOOKUP($C23,(TABLE!LOSE),(MATCH(I23,LOSECOL,0)+1)))))))","v":""},null,{"$f":"IF(NOT(OR(J23=\"W\",J23=\"L\")),\"\",IF(HandicapPlay=\"x\",IF(J23=\"W\",10,-10),(IF(J23=\"W\",(VLOOKUP($C23,(TABLE!WIN),(MATCH(K23,WINCOL,0)+1))),(VLOOKUP($C23,(TABLE!LOSE),(MATCH(K23,LOSECOL,0)+1)))))))","v":""},null,{"$f":"IF(NOT(OR(L23=\"W\",L23=\"L\")),\"\",IF(HandicapPlay=\"x\",IF(L23=\"W\",10,-10),(IF(L23=\"W\",(VLOOKUP($C23,(TABLE!WIN),(MATCH(M23,WINCOL,0)+1))),(VLOOKUP($C23,(TABLE!LOSE),(MATCH(M23,LOSECOL,0)+1)))))))","v":""},null,{"$f":"IF(NOT(OR(N23=\"W\",N23=\"L\")),\"\",IF(HandicapPlay=\"x\",IF(N23=\"W\",10,-10),(IF(N23=\"W\",(VLOOKUP($C23,(TABLE!WIN),(MATCH(O23,WINCOL,0)+1))),(VLOOKUP($C23,(TABLE!LOSE),(MATCH(O23,LOSECOL,0)+1)))))))","v":""},null,{"$f":"IF(NOT(OR(P23=\"W\",P23=\"L\")),\"\",IF(HandicapPlay=\"x\",IF(P23=\"W\",10,-10),(IF(P23=\"W\",(VLOOKUP($C23,(TABLE!WIN),(MATCH(Q23,WINCOL,0)+1))),(VLOOKUP($C23,(TABLE!LOSE),(MATCH(Q23,LOSECOL,0)+1)))))))","v":""},null,{"$f":"IF(NOT(OR(R23=\"W\",R23=\"L\")),\"\",IF(HandicapPlay=\"x\",IF(R23=\"W\",10,-10),(IF(R23=\"W\",(VLOOKUP($C23,(TABLE!WIN),(MATCH(S23,WINCOL,0)+1))),(VLOOKUP($C23,(TABLE!LOSE),(MATCH(S23,LOSECOL,0)+1)))))))","v":""},null,{"$f":"IF(NOT(OR(T23=\"W\",T23=\"L\")),\"\",IF(HandicapPlay=\"x\",IF(T23=\"W\",10,-10),(IF(T23=\"W\",(VLOOKUP($C23,(TABLE!WIN),(MATCH(U23,WINCOL,0)+1))),(VLOOKUP($C23,(TABLE!LOSE),(MATCH(U23,LOSECOL,0)+1)))))))","v":""},null,{"$f":"SUM(D24:U24)","v":0}]
[null,{"$f":"SCORECARD!D221","v":" Block 2 Player 1"},{"$f":"SCORECARD!I221","v":0},{"$f":"IF(SCORECARD!$I224>0,\"W\",(IF(SCORECARD!$I224<0,\"L\",\"\")))","v":""},{"$f":"SCORECARD!F224","v":0},{"$f":"IF(SCORECARD!$I225>0,\"W\",(IF(SCORECARD!$I225<0,\"L\",\"\")))","v":""},{"$f":"SCORECARD!F225","v":0},{"$f":"IF(SCORECARD!$I226>0,\"W\",(IF(SCORECARD!$I226<0,\"L\",\"\")))","v":""},{"$f":"SCORECARD!F226","v":0},{"$f":"IF(SCORECARD!$I227>0,\"W\",(IF(SCORECARD!$I227<0,\"L\",\"\")))","v":""},{"$f":"SCORECARD!F227","v":0},{"$f":"IF(SCORECARD!$I228>0,\"W\",(IF(SCORECARD!$I228<0,\"L\",\"\")))","v":""},{"$f":"SCORECARD!F228","v":0},{"$f":"IF(SCORECARD!$I229>0,\"W\",(IF(SCORECARD!$I229<0,\"L\",\"\")))","v":""},{"$f":"SCORECARD!F229","v":0},{"$f":"IF(SCORECARD!$I230>0,\"W\",(IF(SCORECARD!$I230<0,\"L\",\"\")))","v":""},{"$f":"SCORECARD!F230","v":0},{"$f":"IF(SCORECARD!$I231>0,\"W\",(IF(SCORECARD!$I231<0,\"L\",\"\")))","v":""},{"$f":"SCORECARD!F231","v":0},{"$f":"IF(SCORECARD!$I232>0,\"W\",(IF(SCORECARD!$I232<0,\"L\",\"\")))","v":""},{"$f":"SCORECARD!F232","v":0}]
[null,null,null,{"$f":"IF(NOT(OR(D25=\"W\",D25=\"L\")),\"\",IF(HandicapPlay=\"x\",IF(D25=\"W\",10,-10),(IF(D25=\"W\",(VLOOKUP($C25,(TABLE!WIN),(MATCH(E25,WINCOL,0)+1))),(VLOOKUP($C25,(TABLE!LOSE),(MATCH(E25,LOSECOL,0)+1)))))))","v":""},null,{"$f":"IF(NOT(OR(F25=\"W\",F25=\"L\")),\"\",IF(HandicapPlay=\"x\",IF(F25=\"W\",10,-10),(IF(F25=\"W\",(VLOOKUP($C25,(TABLE!WIN),(MATCH(G25,WINCOL,0)+1))),(VLOOKUP($C25,(TABLE!LOSE),(MATCH(G25,LOSECOL,0)+1)))))))","v":""},null,{"$f":"IF(NOT(OR(H25=\"W\",H25=\"L\")),\"\",IF(HandicapPlay=\"x\",IF(H25=\"W\",10,-10),(IF(H25=\"W\",(VLOOKUP($C25,(TABLE!WIN),(MATCH(I25,WINCOL,0)+1))),(VLOOKUP($C25,(TABLE!LOSE),(MATCH(I25,LOSECOL,0)+1)))))))","v":""},null,{"$f":"IF(NOT(OR(J25=\"W\",J25=\"L\")),\"\",IF(HandicapPlay=\"x\",IF(J25=\"W\",10,-10),(IF(J25=\"W\",(VLOOKUP($C25,(TABLE!WIN),(MATCH(K25,WINCOL,0)+1))),(VLOOKUP($C25,(TABLE!LOSE),(MATCH(K25,LOSECOL,0)+1)))))))","v":""},null,{"$f":"IF(NOT(OR(L25=\"W\",L25=\"L\")),\"\",IF(HandicapPlay=\"x\",IF(L25=\"W\",10,-10),(IF(L25=\"W\",(VLOOKUP($C25,(TABLE!WIN),(MATCH(M25,WINCOL,0)+1))),(VLOOKUP($C25,(TABLE!LOSE),(MATCH(M25,LOSECOL,0)+1)))))))","v":""},null,{"$f":"IF(NOT(OR(N25=\"W\",N25=\"L\")),\"\",IF(HandicapPlay=\"x\",IF(N25=\"W\",10,-10),(IF(N25=\"W\",(VLOOKUP($C25,(TABLE!WIN),(MATCH(O25,WINCOL,0)+1))),(VLOOKUP($C25,(TABLE!LOSE),(MATCH(O25,LOSECOL,0)+1)))))))","v":""},null,{"$f":"IF(NOT(OR(P25=\"W\",P25=\"L\")),\"\",IF(HandicapPlay=\"x\",IF(P25=\"W\",10,-10),(IF(P25=\"W\",(VLOOKUP($C25,(TABLE!WIN),(MATCH(Q25,WINCOL,0)+1))),(VLOOKUP($C25,(TABLE!LOSE),(MATCH(Q25,LOSECOL,0)+1)))))))","v":""},null,{"$f":"IF(NOT(OR(R25=\"W\",R25=\"L\")),\"\",IF(HandicapPlay=\"x\",IF(R25=\"W\",10,-10),(IF(R25=\"W\",(VLOOKUP($C25,(TABLE!WIN),(MATCH(S25,WINCOL,0)+1))),(VLOOKUP($C25,(TABLE!LOSE),(MATCH(S25,LOSECOL,0)+1)))))))","v":""},null,{"$f":"IF(NOT(OR(T25=\"W\",T25=\"L\")),\"\",IF(HandicapPlay=\"x\",IF(T25=\"W\",10,-10),(IF(T25=\"W\",(VLOOKUP($C25,(TABLE!WIN),(MATCH(U25,WINCOL,0)+1))),(VLOOKUP($C25,(TABLE!LOSE),(MATCH(U25,LOSECOL,0)+1)))))))","v":""},null,{"$f":"SUM(D26:U26)","v":0}]
[null,{"$f":"SCORECARD!D241","v":" Block 2 Player 2"},{"$f":"SCORECARD!I241","v":0},{"$f":"IF(SCORECARD!$I244>0,\"W\",(IF(SCORECARD!$I244<0,\"L\",\"\")))","v":""},{"$f":"SCORECARD!F244","v":0},{"$f":"IF(SCORECARD!$I245>0,\"W\",(IF(SCORECARD!$I245<0,\"L\",\"\")))","v":""},{"$f":"SCORECARD!F245","v":0},{"$f":"IF(SCORECARD!$I246>0,\"W\",(IF(SCORECARD!$I246<0,\"L\",\"\")))","v":""},{"$f":"SCORECARD!F246","v":0},{"$f":"IF(SCORECARD!$I247>0,\"W\",(IF(SCORECARD!$I247<0,\"L\",\"\")))","v":""},{"$f":"SCORECARD!F247","v":0},{"$f":"IF(SCORECARD!$I248>0,\"W\",(IF(SCORECARD!$I248<0,\"L\",\"\")))","v":""},{"$f":"SCORECARD!F248","v":0},{"$f":"IF(SCORECARD!$I249>0,\"W\",(IF(SCORECARD!$I249<0,\"L\",\"\")))","v":""},{"$f":"SCORECARD!F249","v":0},{"$f":"IF(SCORECARD!$I250>0,\"W\",(IF(SCORECARD!$I250<0,\"L\",\"\")))","v":""},{"$f":"SCORECARD!F250","v":0},{"$f":"IF(SCORECARD!$I251>0,\"W\",(IF(SCORECARD!$I251<0,\"L\",\"\")))","v":""},{"$f":"SCORECARD!F251","v":0},{"$f":"IF(SCORECARD!$I252>0,\"W\",(IF(SCORECARD!$I252<0,\"L\",\"\")))","v":""},{"$f":"SCORECARD!F252","v":0}]
[null,null,null,{"$f":"IF(NOT(OR(D27=\"W\",D27=\"L\")),\"\",IF(HandicapPlay=\"x\",IF(D27=\"W\",10,-10),(IF(D27=\"W\",(VLOOKUP($C27,(TABLE!WIN),(MATCH(E27,WINCOL,0)+1))),(VLOOKUP($C27,(TABLE!LOSE),(MATCH(E27,LOSECOL,0)+1)))))))","v":""},null,{"$f":"IF(NOT(OR(F27=\"W\",F27=\"L\")),\"\",IF(HandicapPlay=\"x\",IF(F27=\"W\",10,-10),(IF(F27=\"W\",(VLOOKUP($C27,(TABLE!WIN),(MATCH(G27,WINCOL,0)+1))),(VLOOKUP($C27,(TABLE!LOSE),(MATCH(G27,LOSECOL,0)+1)))))))","v":""},null,{"$f":"IF(NOT(OR(H27=\"W\",H27=\"L\")),\"\",IF(HandicapPlay=\"x\",IF(H27=\"W\",10,-10),(IF(H27=\"W\",(VLOOKUP($C27,(TABLE!WIN),(MATCH(I27,WINCOL,0)+1))),(VLOOKUP($C27,(TABLE!LOSE),(MATCH(I27,LOSECOL,0)+1)))))))","v":""},null,{"$f":"IF(NOT(OR(J27=\"W\",J27=\"L\")),\"\",IF(HandicapPlay=\"x\",IF(J27=\"W\",10,-10),(IF(J27=\"W\",(VLOOKUP($C27,(TABLE!WIN),(MATCH(K27,WINCOL,0)+1))),(VLOOKUP($C27,(TABLE!LOSE),(MATCH(K27,LOSECOL,0)+1)))))))","v":""},null,{"$f":"IF(NOT(OR(L27=\"W\",L27=\"L\")),\"\",IF(HandicapPlay=\"x\",IF(L27=\"W\",10,-10),(IF(L27=\"W\",(VLOOKUP($C27,(TABLE!WIN),(MATCH(M27,WINCOL,0)+1))),(VLOOKUP($C27,(TABLE!LOSE),(MATCH(M27,LOSECOL,0)+1)))))))","v":""},null,{"$f":"IF(NOT(OR(N27=\"W\",N27=\"L\")),\"\",IF(HandicapPlay=\"x\",IF(N27=\"W\",10,-10),(IF(N27=\"W\",(VLOOKUP($C27,(TABLE!WIN),(MATCH(O27,WINCOL,0)+1))),(VLOOKUP($C27,(TABLE!LOSE),(MATCH(O27,LOSECOL,0)+1)))))))","v":""},null,{"$f":"IF(NOT(OR(P27=\"W\",P27=\"L\")),\"\",IF(HandicapPlay=\"x\",IF(P27=\"W\",10,-10),(IF(P27=\"W\",(VLOOKUP($C27,(TABLE!WIN),(MATCH(Q27,WINCOL,0)+1))),(VLOOKUP($C27,(TABLE!LOSE),(MATCH(Q27,LOSECOL,0)+1)))))))","v":""},null,{"$f":"IF(NOT(OR(R27=\"W\",R27=\"L\")),\"\",IF(HandicapPlay=\"x\",IF(R27=\"W\",10,-10),(IF(R27=\"W\",(VLOOKUP($C27,(TABLE!WIN),(MATCH(S27,WINCOL,0)+1))),(VLOOKUP($C27,(TABLE!LOSE),(MATCH(S27,LOSECOL,0)+1)))))))","v":""},null,{"$f":"IF(NOT(OR(T27=\"W\",T27=\"L\")),\"\",IF(HandicapPlay=\"x\",IF(T27=\"W\",10,-10),(IF(T27=\"W\",(VLOOKUP($C27,(TABLE!WIN),(MATCH(U27,WINCOL,0)+1))),(VLOOKUP($C27,(TABLE!LOSE),(MATCH(U27,LOSECOL,0)+1)))))))","v":""},null,{"$f":"SUM(D28:U28)","v":0}]
[null,{"$f":"SCORECARD!D264","v":" Block 2 Player 3"},{"$f":"SCORECARD!I264","v":0},{"$f":"IF(SCORECARD!$I267>0,\"W\",(IF(SCORECARD!$I267<0,\"L\",\"\")))","v":""},{"$f":"SCORECARD!F267","v":0},{"$f":"IF(SCORECARD!$I268>0,\"W\",(IF(SCORECARD!$I268<0,\"L\",\"\")))","v":""},{"$f":"SCORECARD!F268","v":0},{"$f":"IF(SCORECARD!$I269>0,\"W\",(IF(SCORECARD!$I269<0,\"L\",\"\")))","v":""},{"$f":"SCORECARD!F269","v":0},{"$f":"IF(SCORECARD!$I270>0,\"W\",(IF(SCORECARD!$I270<0,\"L\",\"\")))","v":""},{"$f":"SCORECARD!F270","v":0},{"$f":"IF(SCORECARD!$I271>0,\"W\",(IF(SCORECARD!$I271<0,\"L\",\"\")))","v":""},{"$f":"SCORECARD!F271","v":0},{"$f":"IF(SCORECARD!$I272>0,\"W\",(IF(SCORECARD!$I272<0,\"L\",\"\")))","v":""},{"$f":"SCORECARD!F272","v":0},{"$f":"IF(SCORECARD!$I273>0,\"W\",(IF(SCORECARD!$I273<0,\"L\",\"\")))","v":""},{"$f":"SCORECARD!F273","v":0},{"$f":"IF(SCORECARD!$I274>0,\"W\",(IF(SCORECARD!$I274<0,\"L\",\"\")))","v":""},{"$f":"SCORECARD!F274","v":0},{"$f":"IF(SCORECARD!$I275>0,\"W\",(IF(SCORECARD!$I275<0,\"L\",\"\")))","v":""},{"$f":"SCORECARD!F275","v":0}]
[null,null,null,{"$f":"IF(NOT(OR(D29=\"W\",D29=\"L\")),\"\",IF(HandicapPlay=\"x\",IF(D29=\"W\",10,-10),(IF(D29=\"W\",(VLOOKUP($C29,(TABLE!WIN),(MATCH(E29,WINCOL,0)+1))),(VLOOKUP($C29,(TABLE!LOSE),(MATCH(E29,LOSECOL,0)+1)))))))","v":""},null,{"$f":"IF(NOT(OR(F29=\"W\",F29=\"L\")),\"\",IF(HandicapPlay=\"x\",IF(F29=\"W\",10,-10),(IF(F29=\"W\",(VLOOKUP($C29,(TABLE!WIN),(MATCH(G29,WINCOL,0)+1))),(VLOOKUP($C29,(TABLE!LOSE),(MATCH(G29,LOSECOL,0)+1)))))))","v":""},null,{"$f":"IF(NOT(OR(H29=\"W\",H29=\"L\")),\"\",IF(HandicapPlay=\"x\",IF(H29=\"W\",10,-10),(IF(H29=\"W\",(VLOOKUP($C29,(TABLE!WIN),(MATCH(I29,WINCOL,0)+1))),(VLOOKUP($C29,(TABLE!LOSE),(MATCH(I29,LOSECOL,0)+1)))))))","v":""},null,{"$f":"IF(NOT(OR(J29=\"W\",J29=\"L\")),\"\",IF(HandicapPlay=\"x\",IF(J29=\"W\",10,-10),(IF(J29=\"W\",(VLOOKUP($C29,(TABLE!WIN),(MATCH(K29,WINCOL,0)+1))),(VLOOKUP($C29,(TABLE!LOSE),(MATCH(K29,LOSECOL,0)+1)))))))","v":""},null,{"$f":"IF(NOT(OR(L29=\"W\",L29=\"L\")),\"\",IF(HandicapPlay=\"x\",IF(L29=\"W\",10,-10),(IF(L29=\"W\",(VLOOKUP($C29,(TABLE!WIN),(MATCH(M29,WINCOL,0)+1))),(VLOOKUP($C29,(TABLE!LOSE),(MATCH(M29,LOSECOL,0)+1)))))))","v":""},null,{"$f":"IF(NOT(OR(N29=\"W\",N29=\"L\")),\"\",IF(HandicapPlay=\"x\",IF(N29=\"W\",10,-10),(IF(N29=\"W\",(VLOOKUP($C29,(TABLE!WIN),(MATCH(O29,WINCOL,0)+1))),(VLOOKUP($C29,(TABLE!LOSE),(MATCH(O29,LOSECOL,0)+1)))))))","v":""},null,{"$f":"IF(NOT(OR(P29=\"W\",P29=\"L\")),\"\",IF(HandicapPlay=\"x\",IF(P29=\"W\",10,-10),(IF(P29=\"W\",(VLOOKUP($C29,(TABLE!WIN),(MATCH(Q29,WINCOL,0)+1))),(VLOOKUP($C29,(TABLE!LOSE),(MATCH(Q29,LOSECOL,0)+1)))))))","v":""},null,{"$f":"IF(NOT(OR(R29=\"W\",R29=\"L\")),\"\",IF(HandicapPlay=\"x\",IF(R29=\"W\",10,-10),(IF(R29=\"W\",(VLOOKUP($C29,(TABLE!WIN),(MATCH(S29,WINCOL,0)+1))),(VLOOKUP($C29,(TABLE!LOSE),(MATCH(S29,LOSECOL,0)+1)))))))","v":""},null,{"$f":"IF(NOT(OR(T29=\"W\",T29=\"L\")),\"\",IF(HandicapPlay=\"x\",IF(T29=\"W\",10,-10),(IF(T29=\"W\",(VLOOKUP($C29,(TABLE!WIN),(MATCH(U29,WINCOL,0)+1))),(VLOOKUP($C29,(TABLE!LOSE),(MATCH(U29,LOSECOL,0)+1)))))))","v":""},null,{"$f":"SUM(D30:U30)","v":0}]
[null,{"$f":"SCORECARD!D284","v":" Block 2 Player 4"},{"$f":"SCORECARD!I284","v":0},{"$f":"IF(SCORECARD!$I287>0,\"W\",(IF(SCORECARD!$I287<0,\"L\",\"\")))","v":""},{"$f":"SCORECARD!F287","v":0},{"$f":"IF(SCORECARD!$I288>0,\"W\",(IF(SCORECARD!$I288<0,\"L\",\"\")))","v":""},{"$f":"SCORECARD!F288","v":0},{"$f":"IF(SCORECARD!$I289>0,\"W\",(IF(SCORECARD!$I289<0,\"L\",\"\")))","v":""},{"$f":"SCORECARD!F289","v":0},{"$f":"IF(SCORECARD!$I290>0,\"W\",(IF(SCORECARD!$I290<0,\"L\",\"\")))","v":""},{"$f":"SCORECARD!F290","v":0},{"$f":"IF(SCORECARD!$I291>0,\"W\",(IF(SCORECARD!$I291<0,\"L\",\"\")))","v":""},{"$f":"SCORECARD!F291","v":0},{"$f":"IF(SCORECARD!$I292>0,\"W\",(IF(SCORECARD!$I292<0,\"L\",\"\")))","v":""},{"$f":"SCORECARD!F292","v":0},{"$f":"IF(SCORECARD!$I293>0,\"W\",(IF(SCORECARD!$I293<0,\"L\",\"\")))","v":""},{"$f":"SCORECARD!F293","v":0},{"$f":"IF(SCORECARD!$I294>0,\"W\",(IF(SCORECARD!$I294<0,\"L\",\"\")))","v":""},{"$f":"SCORECARD!F294","v":0},{"$f":"IF(SCORECARD!$I295>0,\"W\",(IF(SCORECARD!$I295<0,\"L\",\"\")))","v":""},{"$f":"SCORECARD!F295","v":0}]
[null,null,null,{"$f":"IF(NOT(OR(D31=\"W\",D31=\"L\")),\"\",IF(HandicapPlay=\"x\",IF(D31=\"W\",10,-10),(IF(D31=\"W\",(VLOOKUP($C31,(TABLE!WIN),(MATCH(E31,WINCOL,0)+1))),(VLOOKUP($C31,(TABLE!LOSE),(MATCH(E31,LOSECOL,0)+1)))))))","v":""},null,{"$f":"IF(NOT(OR(F31=\"W\",F31=\"L\")),\"\",IF(HandicapPlay=\"x\",IF(F31=\"W\",10,-10),(IF(F31=\"W\",(VLOOKUP($C31,(TABLE!WIN),(MATCH(G31,WINCOL,0)+1))),(VLOOKUP($C31,(TABLE!LOSE),(MATCH(G31,LOSECOL,0)+1)))))))","v":""},null,{"$f":"IF(NOT(OR(H31=\"W\",H31=\"L\")),\"\",IF(HandicapPlay=\"x\",IF(H31=\"W\",10,-10),(IF(H31=\"W\",(VLOOKUP($C31,(TABLE!WIN),(MATCH(I31,WINCOL,0)+1))),(VLOOKUP($C31,(TABLE!LOSE),(MATCH(I31,LOSECOL,0)+1)))))))","v":""},null,{"$f":"IF(NOT(OR(J31=\"W\",J31=\"L\")),\"\",IF(HandicapPlay=\"x\",IF(J31=\"W\",10,-10),(IF(J31=\"W\",(VLOOKUP($C31,(TABLE!WIN),(MATCH(K31,WINCOL,0)+1))),(VLOOKUP($C31,(TABLE!LOSE),(MATCH(K31,LOSECOL,0)+1)))))))","v":""},null,{"$f":"IF(NOT(OR(L31=\"W\",L31=\"L\")),\"\",IF(HandicapPlay=\"x\",IF(L31=\"W\",10,-10),(IF(L31=\"W\",(VLOOKUP($C31,(TABLE!WIN),(MATCH(M31,WINCOL,0)+1))),(VLOOKUP($C31,(TABLE!LOSE),(MATCH(M31,LOSECOL,0)+1)))))))","v":""},null,{"$f":"IF(NOT(OR(N31=\"W\",N31=\"L\")),\"\",IF(HandicapPlay=\"x\",IF(N31=\"W\",10,-10),(IF(N31=\"W\",(VLOOKUP($C31,(TABLE!WIN),(MATCH(O31,WINCOL,0)+1))),(VLOOKUP($C31,(TABLE!LOSE),(MATCH(O31,LOSECOL,0)+1)))))))","v":""},null,{"$f":"IF(NOT(OR(P31=\"W\",P31=\"L\")),\"\",IF(HandicapPlay=\"x\",IF(P31=\"W\",10,-10),(IF(P31=\"W\",(VLOOKUP($C31,(TABLE!WIN),(MATCH(Q31,WINCOL,0)+1))),(VLOOKUP($C31,(TABLE!LOSE),(MATCH(Q31,LOSECOL,0)+1)))))))","v":""},null,{"$f":"IF(NOT(OR(R31=\"W\",R31=\"L\")),\"\",IF(HandicapPlay=\"x\",IF(R31=\"W\",10,-10),(IF(R31=\"W\",(VLOOKUP($C31,(TABLE!WIN),(MATCH(S31,WINCOL,0)+1))),(VLOOKUP($C31,(TABLE!LOSE),(MATCH(S31,LOSECOL,0)+1)))))))","v":""},null,{"$f":"IF(NOT(OR(T31=\"W\",T31=\"L\")),\"\",IF(HandicapPlay=\"x\",IF(T31=\"W\",10,-10),(IF(T31=\"W\",(VLOOKUP($C31,(TABLE!WIN),(MATCH(U31,WINCOL,0)+1))),(VLOOKUP($C31,(TABLE!LOSE),(MATCH(U31,LOSECOL,0)+1)))))))","v":""},null,{"$f":"SUM(D32:U32)","v":0}]
[null,{"$f":"SCORECARD!D307","v":" Block 2 Player 5"},{"$f":"SCORECARD!I307","v":0},{"$f":"IF(SCORECARD!$I310>0,\"W\",(IF(SCORECARD!$I310<0,\"L\",\"\")))","v":""},{"$f":"SCORECARD!$F310","v":0},{"$f":"IF(SCORECARD!$I311>0,\"W\",(IF(SCORECARD!$I311<0,\"L\",\"\")))","v":""},{"$f":"SCORECARD!$F311","v":0},{"$f":"IF(SCORECARD!$I312>0,\"W\",(IF(SCORECARD!$I312<0,\"L\",\"\")))","v":""},{"$f":"SCORECARD!$F312","v":0},{"$f":"IF(SCORECARD!$I313>0,\"W\",(IF(SCORECARD!$I313<0,\"L\",\"\")))","v":""},{"$f":"SCORECARD!$F313","v":0},{"$f":"IF(SCORECARD!$I314>0,\"W\",(IF(SCORECARD!$I314<0,\"L\",\"\")))","v":""},{"$f":"SCORECARD!$F314","v":0},{"$f":"IF(SCORECARD!$I315>0,\"W\",(IF(SCORECARD!$I315<0,\"L\",\"\")))","v":""},{"$f":"SCORECARD!$F315","v":0},{"$f":"IF(SCORECARD!$I316>0,\"W\",(IF(SCORECARD!$I316<0,\"L\",\"\")))","v":""},{"$f":"SCORECARD!$F316","v":0},{"$f":"IF(SCORECARD!$I317>0,\"W\",(IF(SCORECARD!$I317<0,\"L\",\"\")))","v":""},{"$f":"SCORECARD!$F317","v":0},{"$f":"IF(SCORECARD!$I318>0,\"W\",(IF(SCORECARD!$I318<0,\"L\",\"\")))","v":""},{"$f":"SCORECARD!$F318","v":0}]
[null,null,null,{"$f":"IF(NOT(OR(D33=\"W\",D33=\"L\")),\"\",IF(HandicapPlay=\"x\",IF(D33=\"W\",10,-10),(IF(D33=\"W\",(VLOOKUP($C33,(TABLE!WIN),(MATCH(E33,WINCOL,0)+1))),(VLOOKUP($C33,(TABLE!LOSE),(MATCH(E33,LOSECOL,0)+1)))))))","v":""},null,{"$f":"IF(NOT(OR(F33=\"W\",F33=\"L\")),\"\",IF(HandicapPlay=\"x\",IF(F33=\"W\",10,-10),(IF(F33=\"W\",(VLOOKUP($C33,(TABLE!WIN),(MATCH(G33,WINCOL,0)+1))),(VLOOKUP($C33,(TABLE!LOSE),(MATCH(G33,LOSECOL,0)+1)))))))","v":""},null,{"$f":"IF(NOT(OR(H33=\"W\",H33=\"L\")),\"\",IF(HandicapPlay=\"x\",IF(H33=\"W\",10,-10),(IF(H33=\"W\",(VLOOKUP($C33,(TABLE!WIN),(MATCH(I33,WINCOL,0)+1))),(VLOOKUP($C33,(TABLE!LOSE),(MATCH(I33,LOSECOL,0)+1)))))))","v":""},null,{"$f":"IF(NOT(OR(J33=\"W\",J33=\"L\")),\"\",IF(HandicapPlay=\"x\",IF(J33=\"W\",10,-10),(IF(J33=\"W\",(VLOOKUP($C33,(TABLE!WIN),(MATCH(K33,WINCOL,0)+1))),(VLOOKUP($C33,(TABLE!LOSE),(MATCH(K33,LOSECOL,0)+1)))))))","v":""},null,{"$f":"IF(NOT(OR(L33=\"W\",L33=\"L\")),\"\",IF(HandicapPlay=\"x\",IF(L33=\"W\",10,-10),(IF(L33=\"W\",(VLOOKUP($C33,(TABLE!WIN),(MATCH(M33,WINCOL,0)+1))),(VLOOKUP($C33,(TABLE!LOSE),(MATCH(M33,LOSECOL,0)+1)))))))","v":""},null,{"$f":"IF(NOT(OR(N33=\"W\",N33=\"L\")),\"\",IF(HandicapPlay=\"x\",IF(N33=\"W\",10,-10),(IF(N33=\"W\",(VLOOKUP($C33,(TABLE!WIN),(MATCH(O33,WINCOL,0)+1))),(VLOOKUP($C33,(TABLE!LOSE),(MATCH(O33,LOSECOL,0)+1)))))))","v":""},null,{"$f":"IF(NOT(OR(P33=\"W\",P33=\"L\")),\"\",IF(HandicapPlay=\"x\",IF(P33=\"W\",10,-10),(IF(P33=\"W\",(VLOOKUP($C33,(TABLE!WIN),(MATCH(Q33,WINCOL,0)+1))),(VLOOKUP($C33,(TABLE!LOSE),(MATCH(Q33,LOSECOL,0)+1)))))))","v":""},null,{"$f":"IF(NOT(OR(R33=\"W\",R33=\"L\")),\"\",IF(HandicapPlay=\"x\",IF(R33=\"W\",10,-10),(IF(R33=\"W\",(VLOOKUP($C33,(TABLE!WIN),(MATCH(S33,WINCOL,0)+1))),(VLOOKUP($C33,(TABLE!LOSE),(MATCH(S33,LOSECOL,0)+1)))))))","v":""},null,{"$f":"IF(NOT(OR(T33=\"W\",T33=\"L\")),\"\",IF(HandicapPlay=\"x\",IF(T33=\"W\",10,-10),(IF(T33=\"W\",(VLOOKUP($C33,(TABLE!WIN),(MATCH(U33,WINCOL,0)+1))),(VLOOKUP($C33,(TABLE!LOSE),(MATCH(U33,LOSECOL,0)+1)))))))","v":""},null,{"$f":"SUM(D34:U34)","v":0}]
[null,{"$f":"SCORECARD!D327","v":" Block 2 Player 6"},{"$f":"SCORECARD!I327","v":0},{"$f":"IF(SCORECARD!$I330>0,\"W\",(IF(SCORECARD!$I330<0,\"L\",\"\")))","v":""},{"$f":"SCORECARD!$F330","v":0},{"$f":"IF(SCORECARD!$I331>0,\"W\",(IF(SCORECARD!$I331<0,\"L\",\"\")))","v":""},{"$f":"SCORECARD!$F331","v":0},{"$f":"IF(SCORECARD!$I332>0,\"W\",(IF(SCORECARD!$I332<0,\"L\",\"\")))","v":""},{"$f":"SCORECARD!$F332","v":0},{"$f":"IF(SCORECARD!$I333>0,\"W\",(IF(SCORECARD!$I333<0,\"L\",\"\")))","v":""},{"$f":"SCORECARD!$F333","v":0},{"$f":"IF(SCORECARD!$I334>0,\"W\",(IF(SCORECARD!$I334<0,\"L\",\"\")))","v":""},{"$f":"SCORECARD!$F334","v":0},{"$f":"IF(SCORECARD!$I335>0,\"W\",(IF(SCORECARD!$I335<0,\"L\",\"\")))","v":""},{"$f":"SCORECARD!$F335","v":0},{"$f":"IF(SCORECARD!$I336>0,\"W\",(IF(SCORECARD!$I336<0,\"L\",\"\")))","v":""},{"$f":"SCORECARD!$F336","v":0},{"$f":"IF(SCORECARD!$I337>0,\"W\",(IF(SCORECARD!$I337<0,\"L\",\"\")))","v":""},{"$f":"SCORECARD!$F337","v":0},{"$f":"IF(SCORECARD!$I338>0,\"W\",(IF(SCORECARD!$I338<0,\"L\",\"\")))","v":""},{"$f":"SCORECARD!$F338","v":0}]
[null,null,null,{"$f":"IF(NOT(OR(D35=\"W\",D35=\"L\")),\"\",IF(HandicapPlay=\"x\",IF(D35=\"W\",10,-10),(IF(D35=\"W\",(VLOOKUP($C35,(TABLE!WIN),(MATCH(E35,WINCOL,0)+1))),(VLOOKUP($C35,(TABLE!LOSE),(MATCH(E35,LOSECOL,0)+1)))))))","v":""},null,{"$f":"IF(NOT(OR(F35=\"W\",F35=\"L\")),\"\",IF(HandicapPlay=\"x\",IF(F35=\"W\",10,-10),(IF(F35=\"W\",(VLOOKUP($C35,(TABLE!WIN),(MATCH(G35,WINCOL,0)+1))),(VLOOKUP($C35,(TABLE!LOSE),(MATCH(G35,LOSECOL,0)+1)))))))","v":""},null,{"$f":"IF(NOT(OR(H35=\"W\",H35=\"L\")),\"\",IF(HandicapPlay=\"x\",IF(H35=\"W\",10,-10),(IF(H35=\"W\",(VLOOKUP($C35,(TABLE!WIN),(MATCH(I35,WINCOL,0)+1))),(VLOOKUP($C35,(TABLE!LOSE),(MATCH(I35,LOSECOL,0)+1)))))))","v":""},null,{"$f":"IF(NOT(OR(J35=\"W\",J35=\"L\")),\"\",IF(HandicapPlay=\"x\",IF(J35=\"W\",10,-10),(IF(J35=\"W\",(VLOOKUP($C35,(TABLE!WIN),(MATCH(K35,WINCOL,0)+1))),(VLOOKUP($C35,(TABLE!LOSE),(MATCH(K35,LOSECOL,0)+1)))))))","v":""},null,{"$f":"IF(NOT(OR(L35=\"W\",L35=\"L\")),\"\",IF(HandicapPlay=\"x\",IF(L35=\"W\",10,-10),(IF(L35=\"W\",(VLOOKUP($C35,(TABLE!WIN),(MATCH(M35,WINCOL,0)+1))),(VLOOKUP($C35,(TABLE!LOSE),(MATCH(M35,LOSECOL,0)+1)))))))","v":""},null,{"$f":"IF(NOT(OR(N35=\"W\",N35=\"L\")),\"\",IF(HandicapPlay=\"x\",IF(N35=\"W\",10,-10),(IF(N35=\"W\",(VLOOKUP($C35,(TABLE!WIN),(MATCH(O35,WINCOL,0)+1))),(VLOOKUP($C35,(TABLE!LOSE),(MATCH(O35,LOSECOL,0)+1)))))))","v":""},null,{"$f":"IF(NOT(OR(P35=\"W\",P35=\"L\")),\"\",IF(HandicapPlay=\"x\",IF(P35=\"W\",10,-10),(IF(P35=\"W\",(VLOOKUP($C35,(TABLE!WIN),(MATCH(Q35,WINCOL,0)+1))),(VLOOKUP($C35,(TABLE!LOSE),(MATCH(Q35,LOSECOL,0)+1)))))))","v":""},null,{"$f":"IF(NOT(OR(R35=\"W\",R35=\"L\")),\"\",IF(HandicapPlay=\"x\",IF(R35=\"W\",10,-10),(IF(R35=\"W\",(VLOOKUP($C35,(TABLE!WIN),(MATCH(S35,WINCOL,0)+1))),(VLOOKUP($C35,(TABLE!LOSE),(MATCH(S35,LOSECOL,0)+1)))))))","v":""},null,{"$f":"IF(NOT(OR(T35=\"W\",T35=\"L\")),\"\",IF(HandicapPlay=\"x\",IF(T35=\"W\",10,-10),(IF(T35=\"W\",(VLOOKUP($C35,(TABLE!WIN),(MATCH(U35,WINCOL,0)+1))),(VLOOKUP($C35,(TABLE!LOSE),(MATCH(U35,LOSECOL,0)+1)))))))","v":""},null,{"$f":"SUM(D36:U36)","v":0}]
[null,{"$f":"SCORECARD!D350","v":" Block 2 Player 7"},{"$f":"SCORECARD!I350","v":0},{"$f":"IF(SCORECARD!$I353>0,\"W\",(IF(SCORECARD!$I353<0,\"L\",\"\")))","v":""},{"$f":"SCORECARD!F353","v":0},{"$f":"IF(SCORECARD!$I354>0,\"W\",(IF(SCORECARD!$I354<0,\"L\",\"\")))","v":""},{"$f":"SCORECARD!F354","v":0},{"$f":"IF(SCORECARD!$I355>0,\"W\",(IF(SCORECARD!$I355<0,\"L\",\"\")))","v":""},{"$f":"SCORECARD!F355","v":0},{"$f":"IF(SCORECARD!$I356>0,\"W\",(IF(SCORECARD!$I356<0,\"L\",\"\")))","v":""},{"$f":"SCORECARD!F356","v":0},{"$f":"IF(SCORECARD!$I357>0,\"W\",(IF(SCORECARD!$I357<0,\"L\",\"\")))","v":""},{"$f":"SCORECARD!F357","v":0},{"$f":"IF(SCORECARD!$I358>0,\"W\",(IF(SCORECARD!$I358<0,\"L\",\"\")))","v":""},{"$f":"SCORECARD!F358","v":0},{"$f":"IF(SCORECARD!$I359>0,\"W\",(IF(SCORECARD!$I359<0,\"L\",\"\")))","v":""},{"$f":"SCORECARD!F359","v":0},{"$f":"IF(SCORECARD!$I360>0,\"W\",(IF(SCORECARD!$I360<0,\"L\",\"\")))","v":""},{"$f":"SCORECARD!F360","v":0},{"$f":"IF(SCORECARD!$I361>0,\"W\",(IF(SCORECARD!$I361<0,\"L\",\"\")))","v":""},{"$f":"SCORECARD!F361","v":0}]
[null,null,null,{"$f":"IF(NOT(OR(D37=\"W\",D37=\"L\")),\"\",IF(HandicapPlay=\"x\",IF(D37=\"W\",10,-10),(IF(D37=\"W\",(VLOOKUP($C37,(TABLE!WIN),(MATCH(E37,WINCOL,0)+1))),(VLOOKUP($C37,(TABLE!LOSE),(MATCH(E37,LOSECOL,0)+1)))))))","v":""},null,{"$f":"IF(NOT(OR(F37=\"W\",F37=\"L\")),\"\",IF(HandicapPlay=\"x\",IF(F37=\"W\",10,-10),(IF(F37=\"W\",(VLOOKUP($C37,(TABLE!WIN),(MATCH(G37,WINCOL,0)+1))),(VLOOKUP($C37,(TABLE!LOSE),(MATCH(G37,LOSECOL,0)+1)))))))","v":""},null,{"$f":"IF(NOT(OR(H37=\"W\",H37=\"L\")),\"\",IF(HandicapPlay=\"x\",IF(H37=\"W\",10,-10),(IF(H37=\"W\",(VLOOKUP($C37,(TABLE!WIN),(MATCH(I37,WINCOL,0)+1))),(VLOOKUP($C37,(TABLE!LOSE),(MATCH(I37,LOSECOL,0)+1)))))))","v":""},null,{"$f":"IF(NOT(OR(J37=\"W\",J37=\"L\")),\"\",IF(HandicapPlay=\"x\",IF(J37=\"W\",10,-10),(IF(J37=\"W\",(VLOOKUP($C37,(TABLE!WIN),(MATCH(K37,WINCOL,0)+1))),(VLOOKUP($C37,(TABLE!LOSE),(MATCH(K37,LOSECOL,0)+1)))))))","v":""},null,{"$f":"IF(NOT(OR(L37=\"W\",L37=\"L\")),\"\",IF(HandicapPlay=\"x\",IF(L37=\"W\",10,-10),(IF(L37=\"W\",(VLOOKUP($C37,(TABLE!WIN),(MATCH(M37,WINCOL,0)+1))),(VLOOKUP($C37,(TABLE!LOSE),(MATCH(M37,LOSECOL,0)+1)))))))","v":""},null,{"$f":"IF(NOT(OR(N37=\"W\",N37=\"L\")),\"\",IF(HandicapPlay=\"x\",IF(N37=\"W\",10,-10),(IF(N37=\"W\",(VLOOKUP($C37,(TABLE!WIN),(MATCH(O37,WINCOL,0)+1))),(VLOOKUP($C37,(TABLE!LOSE),(MATCH(O37,LOSECOL,0)+1)))))))","v":""},null,{"$f":"IF(NOT(OR(P37=\"W\",P37=\"L\")),\"\",IF(HandicapPlay=\"x\",IF(P37=\"W\",10,-10),(IF(P37=\"W\",(VLOOKUP($C37,(TABLE!WIN),(MATCH(Q37,WINCOL,0)+1))),(VLOOKUP($C37,(TABLE!LOSE),(MATCH(Q37,LOSECOL,0)+1)))))))","v":""},null,{"$f":"IF(NOT(OR(R37=\"W\",R37=\"L\")),\"\",IF(HandicapPlay=\"x\",IF(R37=\"W\",10,-10),(IF(R37=\"W\",(VLOOKUP($C37,(TABLE!WIN),(MATCH(S37,WINCOL,0)+1))),(VLOOKUP($C37,(TABLE!LOSE),(MATCH(S37,LOSECOL,0)+1)))))))","v":""},null,{"$f":"IF(NOT(OR(T37=\"W\",T37=\"L\")),\"\",IF(HandicapPlay=\"x\",IF(T37=\"W\",10,-10),(IF(T37=\"W\",(VLOOKUP($C37,(TABLE!WIN),(MATCH(U37,WINCOL,0)+1))),(VLOOKUP($C37,(TABLE!LOSE),(MATCH(U37,LOSECOL,0)+1)))))))","v":""},null,{"$f":"SUM(D38:U38)","v":0}]
[null,{"$f":"SCORECARD!D370","v":" Block 2 Player 8"},{"$f":"SCORECARD!I370","v":0},{"$f":"IF(SCORECARD!$I373>0,\"W\",(IF(SCORECARD!$I373<0,\"L\",\"\")))","v":""},{"$f":"SCORECARD!F373","v":0},{"$f":"IF(SCORECARD!$I374>0,\"W\",(IF(SCORECARD!$I374<0,\"L\",\"\")))","v":""},{"$f":"SCORECARD!F374","v":0},{"$f":"IF(SCORECARD!$I375>0,\"W\",(IF(SCORECARD!$I375<0,\"L\",\"\")))","v":""},{"$f":"SCORECARD!F375","v":0},{"$f":"IF(SCORECARD!$I376>0,\"W\",(IF(SCORECARD!$I376<0,\"L\",\"\")))","v":""},{"$f":"SCORECARD!F376","v":0},{"$f":"IF(SCORECARD!$I377>0,\"W\",(IF(SCORECARD!$I377<0,\"L\",\"\")))","v":""},{"$f":"SCORECARD!F377","v":0},{"$f":"IF(SCORECARD!$I378>0,\"W\",(IF(SCORECARD!$I378<0,\"L\",\"\")))","v":""},{"$f":"SCORECARD!F378","v":0},{"$f":"IF(SCORECARD!$I379>0,\"W\",(IF(SCORECARD!$I379<0,\"L\",\"\")))","v":""},{"$f":"SCORECARD!F379","v":0},{"$f":"IF(SCORECARD!$I380>0,\"W\",(IF(SCORECARD!$I380<0,\"L\",\"\")))","v":""},{"$f":"SCORECARD!F380","v":0},{"$f":"IF(SCORECARD!$I381>0,\"W\",(IF(SCORECARD!$I381<0,\"L\",\"\")))","v":""},{"$f":"SCORECARD!F381","v":0}]
[null,null,null,{"$f":"IF(NOT(OR(D39=\"W\",D39=\"L\")),\"\",IF(HandicapPlay=\"x\",IF(D39=\"W\",10,-10),(IF(D39=\"W\",(VLOOKUP($C39,(TABLE!WIN),(MATCH(E39,WINCOL,0)+1))),(VLOOKUP($C39,(TABLE!LOSE),(MATCH(E39,LOSECOL,0)+1)))))))","v":""},null,{"$f":"IF(NOT(OR(F39=\"W\",F39=\"L\")),\"\",IF(HandicapPlay=\"x\",IF(F39=\"W\",10,-10),(IF(F39=\"W\",(VLOOKUP($C39,(TABLE!WIN),(MATCH(G39,WINCOL,0)+1))),(VLOOKUP($C39,(TABLE!LOSE),(MATCH(G39,LOSECOL,0)+1)))))))","v":""},null,{"$f":"IF(NOT(OR(H39=\"W\",H39=\"L\")),\"\",IF(HandicapPlay=\"x\",IF(H39=\"W\",10,-10),(IF(H39=\"W\",(VLOOKUP($C39,(TABLE!WIN),(MATCH(I39,WINCOL,0)+1))),(VLOOKUP($C39,(TABLE!LOSE),(MATCH(I39,LOSECOL,0)+1)))))))","v":""},null,{"$f":"IF(NOT(OR(J39=\"W\",J39=\"L\")),\"\",IF(HandicapPlay=\"x\",IF(J39=\"W\",10,-10),(IF(J39=\"W\",(VLOOKUP($C39,(TABLE!WIN),(MATCH(K39,WINCOL,0)+1))),(VLOOKUP($C39,(TABLE!LOSE),(MATCH(K39,LOSECOL,0)+1)))))))","v":""},null,{"$f":"IF(NOT(OR(L39=\"W\",L39=\"L\")),\"\",IF(HandicapPlay=\"x\",IF(L39=\"W\",10,-10),(IF(L39=\"W\",(VLOOKUP($C39,(TABLE!WIN),(MATCH(M39,WINCOL,0)+1))),(VLOOKUP($C39,(TABLE!LOSE),(MATCH(M39,LOSECOL,0)+1)))))))","v":""},null,{"$f":"IF(NOT(OR(N39=\"W\",N39=\"L\")),\"\",IF(HandicapPlay=\"x\",IF(N39=\"W\",10,-10),(IF(N39=\"W\",(VLOOKUP($C39,(TABLE!WIN),(MATCH(O39,WINCOL,0)+1))),(VLOOKUP($C39,(TABLE!LOSE),(MATCH(O39,LOSECOL,0)+1)))))))","v":""},null,{"$f":"IF(NOT(OR(P39=\"W\",P39=\"L\")),\"\",IF(HandicapPlay=\"x\",IF(P39=\"W\",10,-10),(IF(P39=\"W\",(VLOOKUP($C39,(TABLE!WIN),(MATCH(Q39,WINCOL,0)+1))),(VLOOKUP($C39,(TABLE!LOSE),(MATCH(Q39,LOSECOL,0)+1)))))))","v":""},null,{"$f":"IF(NOT(OR(R39=\"W\",R39=\"L\")),\"\",IF(HandicapPlay=\"x\",IF(R39=\"W\",10,-10),(IF(R39=\"W\",(VLOOKUP($C39,(TABLE!WIN),(MATCH(S39,WINCOL,0)+1))),(VLOOKUP($C39,(TABLE!LOSE),(MATCH(S39,LOSECOL,0)+1)))))))","v":""},null,{"$f":"IF(NOT(OR(T39=\"W\",T39=\"L\")),\"\",IF(HandicapPlay=\"x\",IF(T39=\"W\",10,-10),(IF(T39=\"W\",(VLOOKUP($C39,(TABLE!WIN),(MATCH(U39,WINCOL,0)+1))),(VLOOKUP($C39,(TABLE!LOSE),(MATCH(U39,LOSECOL,0)+1)))))))","v":""},null,{"$f":"SUM(D40:U40)","v":0}]
[null,{"$f":"SCORECARD!D393","v":" Block 2 Player 9"},{"$f":"SCORECARD!I393","v":0},{"$f":"IF(SCORECARD!$I396>0,\"W\",(IF(SCORECARD!$I396<0,\"L\",\"\")))","v":""},{"$f":"SCORECARD!$F396","v":0},{"$f":"IF(SCORECARD!$I397>0,\"W\",(IF(SCORECARD!$I397<0,\"L\",\"\")))","v":""},{"$f":"SCORECARD!$F397","v":0},{"$f":"IF(SCORECARD!$I398>0,\"W\",(IF(SCORECARD!$I398<0,\"L\",\"\")))","v":""},{"$f":"SCORECARD!$F398","v":0},{"$f":"IF(SCORECARD!$I399>0,\"W\",(IF(SCORECARD!$I399<0,\"L\",\"\")))","v":""},{"$f":"SCORECARD!$F399","v":0},{"$f":"IF(SCORECARD!$I400>0,\"W\",(IF(SCORECARD!$I400<0,\"L\",\"\")))","v":""},{"$f":"SCORECARD!$F400","v":0},{"$f":"IF(SCORECARD!$I401>0,\"W\",(IF(SCORECARD!$I401<0,\"L\",\"\")))","v":""},{"$f":"SCORECARD!$F401","v":0},{"$f":"IF(SCORECARD!$I402>0,\"W\",(IF(SCORECARD!$I402<0,\"L\",\"\")))","v":""},{"$f":"SCORECARD!$F402","v":0},{"$f":"IF(SCORECARD!$I403>0,\"W\",(IF(SCORECARD!$I403<0,\"L\",\"\")))","v":""},{"$f":"SCORECARD!$F403","v":0},{"$f":"IF(SCORECARD!$I404>0,\"W\",(IF(SCORECARD!$I404<0,\"L\",\"\")))","v":""},{"$f":"SCORECARD!$F404","v":0}]
[null,null,null,{"$f":"IF(NOT(OR(D41=\"W\",D41=\"L\")),\"\",IF(HandicapPlay=\"x\",IF(D41=\"W\",10,-10),(IF(D41=\"W\",(VLOOKUP($C41,(TABLE!WIN),(MATCH(E41,WINCOL,0)+1))),(VLOOKUP($C41,(TABLE!LOSE),(MATCH(E41,LOSECOL,0)+1)))))))","v":""},null,{"$f":"IF(NOT(OR(F41=\"W\",F41=\"L\")),\"\",IF(HandicapPlay=\"x\",IF(F41=\"W\",10,-10),(IF(F41=\"W\",(VLOOKUP($C41,(TABLE!WIN),(MATCH(G41,WINCOL,0)+1))),(VLOOKUP($C41,(TABLE!LOSE),(MATCH(G41,LOSECOL,0)+1)))))))","v":""},null,{"$f":"IF(NOT(OR(H41=\"W\",H41=\"L\")),\"\",IF(HandicapPlay=\"x\",IF(H41=\"W\",10,-10),(IF(H41=\"W\",(VLOOKUP($C41,(TABLE!WIN),(MATCH(I41,WINCOL,0)+1))),(VLOOKUP($C41,(TABLE!LOSE),(MATCH(I41,LOSECOL,0)+1)))))))","v":""},null,{"$f":"IF(NOT(OR(J41=\"W\",J41=\"L\")),\"\",IF(HandicapPlay=\"x\",IF(J41=\"W\",10,-10),(IF(J41=\"W\",(VLOOKUP($C41,(TABLE!WIN),(MATCH(K41,WINCOL,0)+1))),(VLOOKUP($C41,(TABLE!LOSE),(MATCH(K41,LOSECOL,0)+1)))))))","v":""},null,{"$f":"IF(NOT(OR(L41=\"W\",L41=\"L\")),\"\",IF(HandicapPlay=\"x\",IF(L41=\"W\",10,-10),(IF(L41=\"W\",(VLOOKUP($C41,(TABLE!WIN),(MATCH(M41,WINCOL,0)+1))),(VLOOKUP($C41,(TABLE!LOSE),(MATCH(M41,LOSECOL,0)+1)))))))","v":""},null,{"$f":"IF(NOT(OR(N41=\"W\",N41=\"L\")),\"\",IF(HandicapPlay=\"x\",IF(N41=\"W\",10,-10),(IF(N41=\"W\",(VLOOKUP($C41,(TABLE!WIN),(MATCH(O41,WINCOL,0)+1))),(VLOOKUP($C41,(TABLE!LOSE),(MATCH(O41,LOSECOL,0)+1)))))))","v":""},null,{"$f":"IF(NOT(OR(P41=\"W\",P41=\"L\")),\"\",IF(HandicapPlay=\"x\",IF(P41=\"W\",10,-10),(IF(P41=\"W\",(VLOOKUP($C41,(TABLE!WIN),(MATCH(Q41,WINCOL,0)+1))),(VLOOKUP($C41,(TABLE!LOSE),(MATCH(Q41,LOSECOL,0)+1)))))))","v":""},null,{"$f":"IF(NOT(OR(R41=\"W\",R41=\"L\")),\"\",IF(HandicapPlay=\"x\",IF(R41=\"W\",10,-10),(IF(R41=\"W\",(VLOOKUP($C41,(TABLE!WIN),(MATCH(S41,WINCOL,0)+1))),(VLOOKUP($C41,(TABLE!LOSE),(MATCH(S41,LOSECOL,0)+1)))))))","v":""},null,{"$f":"IF(NOT(OR(T41=\"W\",T41=\"L\")),\"\",IF(HandicapPlay=\"x\",IF(T41=\"W\",10,-10),(IF(T41=\"W\",(VLOOKUP($C41,(TABLE!WIN),(MATCH(U41,WINCOL,0)+1))),(VLOOKUP($C41,(TABLE!LOSE),(MATCH(U41,LOSECOL,0)+1)))))))","v":""},null,{"$f":"SUM(D42:U42)","v":0}]
[null,{"$f":"SCORECARD!D413","v":" Block 2 Player 10"},{"$f":"SCORECARD!I413","v":0},{"$f":"IF(SCORECARD!$I416>0,\"W\",(IF(SCORECARD!$I416<0,\"L\",\"\")))","v":""},{"$f":"SCORECARD!$F416","v":0},{"$f":"IF(SCORECARD!$I417>0,\"W\",(IF(SCORECARD!$I417<0,\"L\",\"\")))","v":""},{"$f":"SCORECARD!$F417","v":0},{"$f":"IF(SCORECARD!$I418>0,\"W\",(IF(SCORECARD!$I418<0,\"L\",\"\")))","v":""},{"$f":"SCORECARD!$F418","v":0},{"$f":"IF(SCORECARD!$I419>0,\"W\",(IF(SCORECARD!$I419<0,\"L\",\"\")))","v":""},{"$f":"SCORECARD!$F419","v":0},{"$f":"IF(SCORECARD!$I420>0,\"W\",(IF(SCORECARD!$I420<0,\"L\",\"\")))","v":""},{"$f":"SCORECARD!$F420","v":0},{"$f":"IF(SCORECARD!$I421>0,\"W\",(IF(SCORECARD!$I421<0,\"L\",\"\")))","v":""},{"$f":"SCORECARD!$F421","v":0},{"$f":"IF(SCORECARD!$I422>0,\"W\",(IF(SCORECARD!$I422<0,\"L\",\"\")))","v":""},{"$f":"SCORECARD!$F422","v":0},{"$f":"IF(SCORECARD!$I423>0,\"W\",(IF(SCORECARD!$I423<0,\"L\",\"\")))","v":""},{"$f":"SCORECARD!$F423","v":0},{"$f":"IF(SCORECARD!$I424>0,\"W\",(IF(SCORECARD!$I424<0,\"L\",\"\")))","v":""},{"$f":"SCORECARD!$F424","v":0}]
[null,null,null,{"$f":"IF(NOT(OR(D43=\"W\",D43=\"L\")),\"\",IF(HandicapPlay=\"x\",IF(D43=\"W\",10,-10),(IF(D43=\"W\",(VLOOKUP($C43,(TABLE!WIN),(MATCH(E43,WINCOL,0)+1))),(VLOOKUP($C43,(TABLE!LOSE),(MATCH(E43,LOSECOL,0)+1)))))))","v":""},null,{"$f":"IF(NOT(OR(F43=\"W\",F43=\"L\")),\"\",IF(HandicapPlay=\"x\",IF(F43=\"W\",10,-10),(IF(F43=\"W\",(VLOOKUP($C43,(TABLE!WIN),(MATCH(G43,WINCOL,0)+1))),(VLOOKUP($C43,(TABLE!LOSE),(MATCH(G43,LOSECOL,0)+1)))))))","v":""},null,{"$f":"IF(NOT(OR(H43=\"W\",H43=\"L\")),\"\",IF(HandicapPlay=\"x\",IF(H43=\"W\",10,-10),(IF(H43=\"W\",(VLOOKUP($C43,(TABLE!WIN),(MATCH(I43,WINCOL,0)+1))),(VLOOKUP($C43,(TABLE!LOSE),(MATCH(I43,LOSECOL,0)+1)))))))","v":""},null,{"$f":"IF(NOT(OR(J43=\"W\",J43=\"L\")),\"\",IF(HandicapPlay=\"x\",IF(J43=\"W\",10,-10),(IF(J43=\"W\",(VLOOKUP($C43,(TABLE!WIN),(MATCH(K43,WINCOL,0)+1))),(VLOOKUP($C43,(TABLE!LOSE),(MATCH(K43,LOSECOL,0)+1)))))))","v":""},null,{"$f":"IF(NOT(OR(L43=\"W\",L43=\"L\")),\"\",IF(HandicapPlay=\"x\",IF(L43=\"W\",10,-10),(IF(L43=\"W\",(VLOOKUP($C43,(TABLE!WIN),(MATCH(M43,WINCOL,0)+1))),(VLOOKUP($C43,(TABLE!LOSE),(MATCH(M43,LOSECOL,0)+1)))))))","v":""},null,{"$f":"IF(NOT(OR(N43=\"W\",N43=\"L\")),\"\",IF(HandicapPlay=\"x\",IF(N43=\"W\",10,-10),(IF(N43=\"W\",(VLOOKUP($C43,(TABLE!WIN),(MATCH(O43,WINCOL,0)+1))),(VLOOKUP($C43,(TABLE!LOSE),(MATCH(O43,LOSECOL,0)+1)))))))","v":""},null,{"$f":"IF(NOT(OR(P43=\"W\",P43=\"L\")),\"\",IF(HandicapPlay=\"x\",IF(P43=\"W\",10,-10),(IF(P43=\"W\",(VLOOKUP($C43,(TABLE!WIN),(MATCH(Q43,WINCOL,0)+1))),(VLOOKUP($C43,(TABLE!LOSE),(MATCH(Q43,LOSECOL,0)+1)))))))","v":""},null,{"$f":"IF(NOT(OR(R43=\"W\",R43=\"L\")),\"\",IF(HandicapPlay=\"x\",IF(R43=\"W\",10,-10),(IF(R43=\"W\",(VLOOKUP($C43,(TABLE!WIN),(MATCH(S43,WINCOL,0)+1))),(VLOOKUP($C43,(TABLE!LOSE),(MATCH(S43,LOSECOL,0)+1)))))))","v":""},null,{"$f":"IF(NOT(OR(T43=\"W\",T43=\"L\")),\"\",IF(HandicapPlay=\"x\",IF(T43=\"W\",10,-10),(IF(T43=\"W\",(VLOOKUP($C43,(TABLE!WIN),(MATCH(U43,WINCOL,0)+1))),(VLOOKUP($C43,(TABLE!LOSE),(MATCH(U43,LOSECOL,0)+1)))))))","v":""},null,{"$f":"SUM(D44:U44)","v":0}]

{"sheet":"PUBLISHING","index":15,"n_rows":191,"n_cols":11,"rows_kept":191,"cut":false,"hidden":true,"merged":[[553,1,554,1],[553,2,554,2],[553,3,554,3],[551,3,552,3],[555,4,556,4],[555,5,556,5],[555,1,556,1],[555,2,556,2],[555,3,556,3],[553,4,554,4],[553,5,554,5],[549,1,550,1],[549,2,550,2],[549,3,550,3],[547,1,548,1],[547,2,548,2],[547,3,548,3],[551,4,552,4],[551,5,552,5],[547,4,548,4],[547,5,548,5],[549,4,550,4],[549,5,550,5],[551,1,552,1],[551,2,552,2],[545,4,546,4],[545,5,546,5],[543,1,544,1],[543,2,544,2],[545,1,546,1],[545,2,546,2],[545,3,546,3],[543,3,544,3],[543,4,544,4],[543,5,544,5],[539,4,540,4],[539,5,540,5],[541,4,542,4],[541,5,542,5],[541,1,542,1],[541,2,542,2],[541,3,542,3],[539,1,540,1],[539,2,540,2],[539,3,540,3],[537,4,538,4],[537,5,538,5],[535,1,536,1],[535,2,536,2],[537,1,538,1],[537,2,538,2],[537,3,538,3],[535,3,536,3],[535,4,536,4],[535,5,536,5],[531,4,532,4],[531,5,532,5],[533,4,534,4],[533,5,534,5],[533,1,534,1],[533,2,534,2],[533,3,534,3],[531,1,532,1],[531,2,532,2],[531,3,532,3],[529,4,530,4],[529,5,530,5],[527,1,528,1],[527,2,528,2],[529,1,530,1],[529,2,530,2],[529,3,530,3],[527,3,528,3],[527,4,528,4],[527,5,528,5],[523,4,524,4],[523,5,524,5],[525,4,526,4],[525,5,526,5],[525,1,526,1],[525,2,526,2],[525,3,526,3],[523,1,524,1],[523,2,524,2],[523,3,524,3],[521,4,522,4],[521,5,522,5],[519,1,520,1],[519,2,520,2],[521,1,522,1],[521,2,522,2],[521,3,522,3],[519,3,520,3],[519,4,520,4],[519,5,520,5],[515,4,516,4],[515,5,516,5],[517,4,518,4],[517,5,518,5],[517,1,518,1],[517,2,518,2],[517,3,518,3],[515,1,516,1],[515,2,516,2],[515,3,516,3],[513,4,514,4],[513,5,514,5],[511,1,512,1],[511,2,512,2],[513,1,514,1],[513,2,514,2],[513,3,514,3],[511,3,512,3],[511,4,512,4],[511,5,512,5],[507,4,508,4],[507,5,508,5],[509,4,510,4],[509,5,510,5],[509,1,510,1],[509,2,510,2],[509,3,510,3],[507,1,508,1],[507,2,508,2],[507,3,508,3],[505,4,506,4],[505,5,506,5],[503,1,504,1],[503,2,504,2],[505,1,506,1],[505,2,506,2],[505,3,506,3],[503,3,504,3],[503,4,504,4],[503,5,504,5],[499,4,500,4],[499,5,500,5],[501,4,502,4],[501,5,502,5],[501,1,502,1],[501,2,502,2],[501,3,502,3],[499,1,500,1],[499,2,500,2],[499,3,500,3],[497,4,498,4],[497,5,498,5],[495,1,496,1],[495,2,496,2],[497,1,498,1],[497,2,498,2],[497,3,498,3],[495,3,496,3],[495,4,496,4],[495,5,496,5],[491,4,492,4],[491,5,492,5],[493,4,494,4],[493,5,494,5],[493,1,494,1],[493,2,494,2],[493,3,494,3],[491,1,492,1],[491,2,492,2],[491,3,492,3],[485,4,486,4],[485,5,486,5],[485,1,486,1],[485,2,486,2],[485,3,486,3],[483,1,484,1],[483,2,484,2],[483,3,484,3],[489,4,490,4],[489,5,490,5],[487,1,488,1],[487,2,488,2],[489,1,490,1],[489,2,490,2],[489,3,490,3],[487,3,488,3],[487,4,488,4],[487,5,488,5],[481,1,482,1],[481,2,482,2],[481,3,482,3],[481,4,482,4],[481,5,482,5],[479,1,480,1],[479,2,480,2],[479,3,480,3],[483,4,484,4],[483,5,484,5],[473,1,473,4],[474,1,474,4],[476,1,476,5],[477,1,478,1],[477,2,478,2],[477,3,478,3],[477,4,478,4],[477,5,478,5],[479,4,480,4],[479,5,480,5],[469,4,470,4],[469,5,470,5],[471,1,472,1],[471,2,472,2],[471,3,472,3],[471,4,472,4],[471,5,472,5],[469,1,470,1],[469,2,470,2],[469,3,470,3],[465,4,466,4],[465,3,466,3],[465,5,466,5],[467,1,468,1],[467,2,468,2],[467,3,468,3],[467,4,468,4],[467,5,468,5],[465,1,466,1],[465,2,466,2],[463,4,464,4],[463,5,464,5],[461,1,462,1],[461,2,462,2],[463,1,464,1],[463,2,464,2],[463,3,464,3],[461,3,462,3],[461,4,462,4],[461,5,462,5],[457,4,458,4],[457,5,458,5],[459,4,460,4],[459,5,460,5],[459,1,460,1],[459,2,460,2],[459,3,460,3],[457,1,458,1],[457,2,458,2],[457,3,458,3],[455,4,456,4],[455,5,456,5],[453,1,454,1],[453,2,454,2],[455,1,456,1],[455,2,456,2],[455,3,456,3],[453,3,454,3],[453,4,454,4],[453,5,454,5],[449,4,450,4],[449,5,450,5],[451,4,452,4],[451,5,452,5],[451,1,452,1],[451,2,452,2],[451,3,452,3],[449,1,450,1],[449,2,450,2],[449,3,450,3],[447,4,448,4],[447,5,448,5],[445,1,446,1],[445,2,446,2],[447,1,448,1],[447,2,448,2],[447,3,448,3],[445,3,446,3],[445,4,446,4],[445,5,446,5],[441,4,442,4],[441,5,442,5],[443,4,444,4],[443,5,444,5],[443,1,444,1],[443,2,444,2],[443,3,444,3],[441,1,442,1],[441,2,442,2],[441,3,442,3],[439,4,440,4],[439,5,440,5],[437,1,438,1],[437,2,438,2],[439,1,440,1],[439,2,440,2],[439,3,440,3],[437,3,438,3],[437,4,438,4],[437,5,438,5],[433,4,434,4],[433,5,434,5],[435,4,436,4],[435,5,436,5],[435,1,436,1],[435,2,436,2],[435,3,436,3],[433,1,434,1],[433,2,434,2],[433,3,434,3],[431,4,432,4],[431,5,432,5],[429,1,430,1],[429,2,430,2],[431,1,432,1],[431,2,432,2],[431,3,432,3],[429,3,430,3],[429,4,430,4],[429,5,430,5],[425,4,426,4],[425,5,426,5],[427,4,428,4],[427,5,428,5],[427,1,428,1],[427,2,428,2],[427,3,428,3],[425,1,426,1],[425,2,426,2],[425,3,426,3],[423,4,424,4],[423,5,424,5],[421,1,422,1],[421,2,422,2],[423,1,424,1],[423,2,424,2],[423,3,424,3],[421,3,422,3],[421,4,422,4],[421,5,422,5],[417,4,418,4],[417,5,418,5],[419,4,420,4],[419,5,420,5],[419,1,420,1],[419,2,420,2],[419,3,420,3],[417,1,418,1],[417,2,418,2],[417,3,418,3],[415,4,416,4],[415,5,416,5],[413,1,414,1],[413,2,414,2],[415,1,416,1],[415,2,416,2],[415,3,416,3],[413,3,414,3],[413,4,414,4],[413,5,414,5],[409,4,410,4],[409,5,410,5],[411,4,412,4],[411,5,412,5],[411,1,412,1],[411,2,412,2],[411,3,412,3],[409,1,410,1],[409,2,410,2],[409,3,410,3],[407,4,408,4],[407,5,408,5],[405,1,406,1],[405,2,406,2],[407,1,408,1],[407,2,408,2],[407,3,408,3],[405,3,406,3],[405,4,406,4],[405,5,406,5],[401,4,402,4],[401,5,402,5],[403,4,404,4],[403,5,404,5],[403,1,404,1],[403,2,404,2],[403,3,404,3],[401,1,402,1],[401,2,402,2],[401,3,402,3],[399,4,400,4],[399,5,400,5],[397,1,398,1],[397,2,398,2],[399,1,400,1],[399,2,400,2],[399,3,400,3],[397,3,398,3],[397,4,398,4],[397,5,398,5],[393,4,394,4],[393,5,394,5],[395,4,396,4],[395,5,396,5],[395,1,396,1],[395,2,396,2],[395,3,396,3],[393,1,394,1],[393,2,394,2],[393,3,394,3],[387,4,388,4],[387,5,388,5],[387,1,388,1],[387,2,388,2],[387,3,388,3],[385,1,386,1],[385,2,386,2],[385,3,386,3],[391,4,392,4],[391,5,392,5],[389,1,390,1],[389,2,390,2],[391,1,392,1],[391,2,392,2],[391,3,392,3],[389,3,390,3],[389,4,390,4],[389,5,390,5],[379,1,379,4],[380,1,380,4],[382,1,382,5],[383,1,384,1],[383,2,384,2],[383,3,384,3],[383,4,384,4],[383,5,384,5],[385,4,386,4],[385,5,386,5],[377,4,378,4],[377,5,378,5],[375,1,376,1],[375,2,376,2],[377,1,378,1],[377,2,378,2],[377,3,378,3],[375,3,376,3],[375,4,376,4],[375,5,376,5],[371,4,372,4],[371,5,372,5],[373,4,374,4],[373,5,374,5],[373,1,374,1],[373,2,374,2],[373,3,374,3],[371,1,372,1],[371,2,372,2],[371,3,372,3],[369,4,370,4],[369,5,370,5],[367,1,368,1],[367,2,368,2],[369,1,370,1],[369,2,370,2],[369,3,370,3],[367,3,368,3],[367,4,368,4],[367,5,368,5],[363,4,364,4],[363,5,364,5],[365,4,366,4],[365,5,366,5],[365,1,366,1],[365,2,366,2],[365,3,366,3],[363,1,364,1],[363,2,364,2],[363,3,364,3],[361,4,362,4],[361,5,362,5],[359,1,360,1],[359,2,360,2],[361,1,362,1],[361,2,362,2],[361,3,362,3],[359,3,360,3],[359,4,360,4],[359,5,360,5],[355,4,356,4],[355,5,356,5],[357,4,358,4],[357,5,358,5],[357,1,358,1],[357,2,358,2],[357,3,358,3],[355,1,356,1],[355,2,356,2],[355,3,356,3],[353,4,354,4],[353,5,354,5],[351,1,352,1],[351,2,352,2],[353,1,354,1],[353,2,354,2],[353,3,354,3],[351,3,352,3],[351,4,352,4],[351,5,352,5],[347,4,348,4],[347,5,348,5],[349,4,350,4],[349,5,350,5],[349,1,350,1],[349,2,350,2],[349,3,350,3],[347,1,348,1],[347,2,348,2],[347,3,348,3],[345,4,346,4],[345,5,346,5],[343,1,344,1],[343,2,344,2],[345,1,346,1],[345,2,346,2],[345,3,346,3],[343,3,344,3],[343,4,344,4],[343,5,344,5],[339,4,340,4],[339,5,340,5],[341,4,342,4],[341,5,342,5],[341,1,342,1],[341,2,342,2],[341,3,342,3],[339,1,340,1],[339,2,340,2],[339,3,340,3],[337,4,338,4],[337,5,338,5],[335,1,336,1],[335,2,336,2],[337,1,338,1],[337,2,338,2],[337,3,338,3],[335,3,336,3],[335,4,336,4],[335,5,336,5],[331,4,332,4],[331,5,332,5],[333,4,334,4],[333,5,334,5],[333,1,334,1],[333,2,334,2],[333,3,334,3],[331,1,332,1],[331,2,332,2],[331,3,332,3],[329,4,330,4],[329,5,330,5],[327,1,328,1],[327,2,328,2],[329,1,330,1],[329,2,330,2],[329,3,330,3],[327,3,328,3],[327,4,328,4],[327,5,328,5],[323,4,324,4],[323,5,324,5],[325,4,326,4],[325,5,326,5],[325,1,326,1],[325,2,326,2],[325,3,326,3],[323,1,324,1],[323,2,324,2],[323,3,324,3],[321,4,322,4],[321,5,322,5],[319,1,320,1],[319,2,320,2],[321,1,322,1],[321,2,322,2],[321,3,322,3],[319,3,320,3],[319,4,320,4],[319,5,320,5],[315,4,316,4],[315,5,316,5],[317,4,318,4],[317,5,318,5],[317,1,318,1],[317,2,318,2],[317,3,318,3],[315,1,316,1],[315,2,316,2],[315,3,316,3],[313,4,314,4],[313,5,314,5],[311,1,312,1],[311,2,312,2],[313,1,314,1],[313,2,314,2],[313,3,314,3],[311,3,312,3],[311,4,312,4],[311,5,312,5],[307,4,308,4],[307,5,308,5],[309,4,310,4],[309,5,310,5],[309,1,310,1],[309,2,310,2],[309,3,310,3],[307,1,308,1],[307,2,308,2],[307,3,308,3],[305,4,306,4],[305,5,306,5],[303,1,304,1],[303,2,304,2],[305,1,306,1],[305,2,306,2],[305,3,306,3],[303,3,304,3],[303,4,304,4],[303,5,304,5],[299,4,300,4],[299,5,300,5],[301,4,302,4],[301,5,302,5],[301,1,302,1],[301,2,302,2],[301,3,302,3],[299,1,300,1],[299,2,300,2],[299,3,300,3],[293,4,294,4],[293,5,294,5],[293,1,294,1],[293,2,294,2],[293,3,294,3],[291,1,292,1],[291,2,292,2],[291,3,292,3],[297,4,298,4],[297,5,298,5],[295,1,296,1],[295,2,296,2],[297,1,298,1],[297,2,298,2],[297,3,298,3],[295,3,296,3],[295,4,296,4],[295,5,296,5],[285,1,285,4],[286,1,286,4],[288,1,288,5],[289,1,290,1],[289,2,290,2],[289,3,290,3],[289,4,290,4],[289,5,290,5],[291,4,292,4],[291,5,292,5],[283,4,284,4],[283,5,284,5],[281,1,282,1],[281,2,282,2],[283,1,284,1],[283,2,284,2],[283,3,284,3],[281,3,282,3],[281,4,282,4],[281,5,282,5],[277,4,278,4],[277,5,278,5],[279,4,280,4],[279,5,280,5],[279,1,280,1],[279,2,280,2],[279,3,280,3],[277,1,278,1],[277,2,278,2],[277,3,278,3],[275,4,276,4],[275,5,276,5],[273,1,274,1],[273,2,274,2],[275,1,276,1],[275,2,276,2],[275,3,276,3],[273,3,274,3],[273,4,274,4],[273,5,274,5],[269,4,270,4],[269,5,270,5],[271,4,272,4],[271,5,272,5],[271,1,272,1],[271,2,272,2],[271,3,272,3],[269,1,270,1],[269,2,270,2],[269,3,270,3],[267,4,268,4],[267,5,268,5],[265,1,266,1],[265,2,266,2],[267,1,268,1],[267,2,268,2],[267,3,268,3],[265,3,266,3],[265,4,266,4],[265,5,266,5],[261,4,262,4],[261,5,262,5],[263,4,264,4],[263,5,264,5],[263,1,264,1],[263,2,264,2],[263,3,264,3],[261,1,262,1],[261,2,262,2],[261,3,262,3],[259,4,260,4],[259,5,260,5],[257,1,258,1],[257,2,258,2],[259,1,260,1],[259,2,260,2],[259,3,260,3],[257,3,258,3],[257,4,258,4],[257,5,258,5],[253,4,254,4],[253,5,254,5],[255,4,256,4],[255,5,256,5],[255,1,256,1],[255,2,256,2],[255,3,256,3],[253,1,254,1],[253,2,254,2],[253,3,254,3],[251,4,252,4],[251,5,252,5],[249,1,250,1],[249,2,250,2],[251,1,252,1],[251,2,252,2],[251,3,252,3],[249,3,250,3],[249,4,250,4],[249,5,250,5],[245,4,246,4],[245,5,246,5],[247,4,248,4],[247,5,248,5],[247,1,248,1],[247,2,248,2],[247,3,248,3],[245,1,246,1],[245,2,246,2],[245,3,246,3],[243,4,244,4],[243,5,244,5],[241,1,242,1],[241,2,242,2],[243,1,244,1],[243,2,244,2],[243,3,244,3],[241,3,242,3],[241,4,242,4],[241,5,242,5],[237,4,238,4],[237,5,238,5],[239,4,240,4],[239,5,240,5],[239,1,240,1],[239,2,240,2],[239,3,240,3],[237,1,238,1],[237,2,238,2],[237,3,238,3],[235,4,236,4],[235,5,236,5],[233,1,234,1],[233,2,234,2],[235,1,236,1],[235,2,236,2],[235,3,236,3],[233,3,234,3],[233,4,234,4],[233,5,234,5],[229,4,230,4],[229,5,230,5],[231,4,232,4],[231,5,232,5],[231,1,232,1],[231,2,232,2],[231,3,232,3],[229,1,230,1],[229,2,230,2],[229,3,230,3],[227,4,228,4],[227,5,228,5],[225,1,226,1],[225,2,226,2],[227,1,228,1],[227,2,228,2],[227,3,228,3],[225,3,226,3],[225,4,226,4],[225,5,226,5],[221,4,222,4],[221,5,222,5],[223,4,224,4],[223,5,224,5],[223,1,224,1],[223,2,224,2],[223,3,224,3],[221,1,222,1],[221,2,222,2],[221,3,222,3],[219,4,220,4],[219,5,220,5],[217,1,218,1],[217,2,218,2],[219,1,220,1],[219,2,220,2],[219,3,220,3],[217,3,218,3],[217,4,218,4],[217,5,218,5],[213,4,214,4],[213,5,214,5],[215,4,216,4],[215,5,216,5],[215,1,216,1],[215,2,216,2],[215,3,216,3],[213,1,214,1],[213,2,214,2],[213,3,214,3],[211,4,212,4],[211,5,212,5],[209,1,210,1],[209,2,210,2],[211,1,212,1],[211,2,212,2],[211,3,212,3],[209,3,210,3],[209,4,210,4],[209,5,210,5],[205,4,206,4],[205,5,206,5],[207,4,208,4],[207,5,208,5],[207,1,208,1],[207,2,208,2],[207,3,208,3],[205,1,206,1],[205,2,206,2],[205,3,206,3],[199,1,200,1],[199,2,200,2],[199,3,200,3],[199,4,200,4],[199,5,200,5],[197,4,198,4],[197,5,198,5],[203,4,204,4],[203,5,204,5],[201,1,202,1],[201,2,202,2],[203,1,204,1],[203,2,204,2],[203,3,204,3],[201,3,202,3],[201,4,202,4],[201,5,202,5],[195,4,196,4],[195,5,196,5],[2,1,2,4],[4,1,4,4],[3,1,3,4],[194,1,194,5],[195,1,196,1],[195,2,196,2],[197,1,198,1],[197,2,198,2],[197,3,198,3],[195,3,196,3]]}
[]
[]
[null,{"$f":"NAMES!$C$7","v":"TOURNAMENT"}]
[null,{"$f":"NAMES!$C$9","v":"DATE"}]
[null,{"$f":"NAMES!$C$8","v":"GROUP"}]
[]
[null,{"$f":"NAMES!$C$10","v":"BLOCK 1"},null,null,null,null,null,null,"LU Name","Score","Peels"]
[null,{"$f":"IF(J8<0,\"\",IF(J8>J9,I8,I9))","v":""},{"$f":"IF(J8<0,\"\",IF(J8>J9,J8,J9))","v":""},"d.",{"$f":"IF(J8<0,\"\",IF(J8>J9,I9,I8))","v":""},{"$f":"IF(J8<0,\"\",IF(J8>J9,J9,J8))","v":""},{"$f":"IF(B8=\"\",\"\",IF(ISTEXT(K8),K8,IF(ISTEXT(K9),K9,\"\")))","v":""},null,{"$f":"RESULTS!C4","v":" Block 1 Player 1"},{"$f":"RESULTS!D4","v":-1E-3},{"$f":"RESULTS!E4","v":-1E-3}]
[null,null,null,null,null,null,null,null,{"$f":"RESULTS!C5","v":" Block 1 Player 10"},{"$f":"RESULTS!D5","v":-1E-3},{"$f":"RESULTS!E5","v":-1E-3}]
[null,{"$f":"IF(J10<0,\"\",IF(J10>J11,I10,I11))","v":""},{"$f":"IF(J10<0,\"\",IF(J10>J11,J10,J11))","v":""},"d.",{"$f":"IF(J10<0,\"\",IF(J10>J11,I11,I10))","v":""},{"$f":"IF(J10<0,\"\",IF(J10>J11,J11,J10))","v":""},{"$f":"IF(B10=\"\",\"\",IF(ISTEXT(K10),K10,IF(ISTEXT(K11),K11,\"\")))","v":""},null,{"$f":"RESULTS!C6","v":" Block 1 Player 2"},{"$f":"RESULTS!D6","v":-1E-3},{"$f":"RESULTS!E6","v":-1E-3}]
[null,null,null,null,null,null,null,null,{"$f":"RESULTS!C7","v":" Block 1 Player 9"},{"$f":"RESULTS!D7","v":-1E-3},{"$f":"RESULTS!E7","v":-1E-3}]
[null,{"$f":"IF(J12<0,\"\",IF(J12>J13,I12,I13))","v":""},{"$f":"IF(J12<0,\"\",IF(J12>J13,J12,J13))","v":""},"d.",{"$f":"IF(J12<0,\"\",IF(J12>J13,I13,I12))","v":""},{"$f":"IF(J12<0,\"\",IF(J12>J13,J13,J12))","v":""},{"$f":"IF(B12=\"\",\"\",IF(ISTEXT(K12),K12,IF(ISTEXT(K13),K13,\"\")))","v":""},null,{"$f":"RESULTS!C8","v":" Block 1 Player 3"},{"$f":"RESULTS!D8","v":-1E-3},{"$f":"RESULTS!E8","v":-1E-3}]
[null,null,null,null,null,null,null,null,{"$f":"RESULTS!C9","v":" Block 1 Player 8"},{"$f":"RESULTS!D9","v":-1E-3},{"$f":"RESULTS!E9","v":-1E-3}]
[null,{"$f":"IF(J14<0,\"\",IF(J14>J15,I14,I15))","v":""},{"$f":"IF(J14<0,\"\",IF(J14>J15,J14,J15))","v":""},"d.",{"$f":"IF(J14<0,\"\",IF(J14>J15,I15,I14))","v":""},{"$f":"IF(J14<0,\"\",IF(J14>J15,J15,J14))","v":""},{"$f":"IF(B14=\"\",\"\",IF(ISTEXT(K14),K14,IF(ISTEXT(K15),K15,\"\")))","v":""},null,{"$f":"RESULTS!C10","v":" Block 1 Player 4"},{"$f":"RESULTS!D10","v":-1E-3},{"$f":"RESULTS!E10","v":-1E-3}]
[null,null,null,null,null,null,null,null,{"$f":"RESULTS!C11","v":" Block 1 Player 7"},{"$f":"RESULTS!D11","v":-1E-3},{"$f":"RESULTS!E11","v":-1E-3}]
[null,{"$f":"IF(J16<0,\"\",IF(J16>J17,I16,I17))","v":""},{"$f":"IF(J16<0,\"\",IF(J16>J17,J16,J17))","v":""},"d.",{"$f":"IF(J16<0,\"\",IF(J16>J17,I17,I16))","v":""},{"$f":"IF(J16<0,\"\",IF(J16>J17,J17,J16))","v":""},{"$f":"IF(B16=\"\",\"\",IF(ISTEXT(K16),K16,IF(ISTEXT(K17),K17,\"\")))","v":""},null,{"$f":"RESULTS!C12","v":" Block 1 Player 5"},{"$f":"RESULTS!D12","v":-1E-3},{"$f":"RESULTS!E12","v":-1E-3}]
[null,null,null,null,null,null,null,null,{"$f":"RESULTS!C13","v":" Block 1 Player 6"},{"$f":"RESULTS!D13","v":-1E-3},{"$f":"RESULTS!E13","v":-1E-3}]
[null,{"$f":"IF(J18<0,\"\",IF(J18>J19,I18,I19))","v":""},{"$f":"IF(J18<0,\"\",IF(J18>J19,J18,J19))","v":""},"d.",{"$f":"IF(J18<0,\"\",IF(J18>J19,I19,I18))","v":""},{"$f":"IF(J18<0,\"\",IF(J18>J19,J19,J18))","v":""},{"$f":"IF(B18=\"\",\"\",IF(ISTEXT(K18),K18,IF(ISTEXT(K19),K19,\"\")))","v":""},null,{"$f":"RESULTS!C14","v":" Block 1 Player 1"},{"$f":"RESULTS!D14","v":-1E-3},{"$f":"RESULTS!E14","v":-1E-3}]
[null,null,null,null,null,null,null,null,{"$f":"RESULTS!C15","v":" Block 1 Player 9"},{"$f":"RESULTS!D15","v":-1E-3},{"$f":"RESULTS!E15","v":-1E-3}]
[null,{"$f":"IF(J20<0,\"\",IF(J20>J21,I20,I21))","v":""},{"$f":"IF(J20<0,\"\",IF(J20>J21,J20,J21))","v":""},"d.",{"$f":"IF(J20<0,\"\",IF(J20>J21,I21,I20))","v":""},{"$f":"IF(J20<0,\"\",IF(J20>J21,J21,J20))","v":""},{"$f":"IF(B20=\"\",\"\",IF(ISTEXT(K20),K20,IF(ISTEXT(K21),K21,\"\")))","v":""},null,{"$f":"RESULTS!C16","v":" Block 1 Player 8"},{"$f":"RESULTS!D16","v":-1E-3},{"$f":"RESULTS!E16","v":-1E-3}]
[null,null,null,null,null,null,null,null,{"$f":"RESULTS!C17","v":" Block 1 Player 10"},{"$f":"RESULTS!D17","v":-1E-3},{"$f":"RESULTS!E17","v":-1E-3}]
[null,{"$f":"IF(J22<0,\"\",IF(J22>J23,I22,I23))","v":""},{"$f":"IF(J22<0,\"\",IF(J22>J23,J22,J23))","v":""},"d.",{"$f":"IF(J22<0,\"\",IF(J22>J23,I23,I22))","v":""},{"$f":"IF(J22<0,\"\",IF(J22>J23,J23,J22))","v":""},{"$f":"IF(B22=\"\",\"\",IF(ISTEXT(K22),K22,IF(ISTEXT(K23),K23,\"\")))","v":""},null,{"$f":"RESULTS!C18","v":" Block 1 Player 7"},{"$f":"RESULTS!D18","v":-1E-3},{"$f":"RESULTS!E18","v":-1E-3}]
[null,null,null,null,null,null,null,null,{"$f":"RESULTS!C19","v":" Block 1 Player 2"},{"$f":"RESULTS!D19","v":-1E-3},{"$f":"RESULTS!E19","v":-1E-3}]
[null,{"$f":"IF(J24<0,\"\",IF(J24>J25,I24,I25))","v":""},{"$f":"IF(J24<0,\"\",IF(J24>J25,J24,J25))","v":""},"d.",{"$f":"IF(J24<0,\"\",IF(J24>J25,I25,I24))","v":""},{"$f":"IF(J24<0,\"\",IF(J24>J25,J25,J24))","v":""},{"$f":"IF(B24=\"\",\"\",IF(ISTEXT(K24),K24,IF(ISTEXT(K25),K25,\"\")))","v":""},null,{"$f":"RESULTS!C20","v":" Block 1 Player 6"},{"$f":"RESULTS!D20","v":-1E-3},{"$f":"RESULTS!E20","v":-1E-3}]
[null,null,null,null,null,null,null,null,{"$f":"RESULTS!C21","v":" Block 1 Player 3"},{"$f":"RESULTS!D21","v":-1E-3},{"$f":"RESULTS!E21","v":-1E-3}]
[null,{"$f":"IF(J26<0,\"\",IF(J26>J27,I26,I27))","v":""},{"$f":"IF(J26<0,\"\",IF(J26>J27,J26,J27))","v":""},"d.",{"$f":"IF(J26<0,\"\",IF(J26>J27,I27,I26))","v":""},{"$f":"IF(J26<0,\"\",IF(J26>J27,J27,J26))","v":""},{"$f":"IF(B26=\"\",\"\",IF(ISTEXT(K26),K26,IF(ISTEXT(K27),K27,\"\")))","v":""},null,{"$f":"RESULTS!C22","v":" Block 1 Player 5"},{"$f":"RESULTS!D22","v":-1E-3},{"$f":"RESULTS!E22","v":-1E-3}]
[null,null,null,null,null,null,null,null,{"$f":"RESULTS!C23","v":" Block 1 Player 4"},{"$f":"RESULTS!D23","v":-1E-3},{"$f":"RESULTS!E23","v":-1E-3}]
[null,{"$f":"IF(J28<0,\"\",IF(J28>J29,I28,I29))","v":""},{"$f":"IF(J28<0,\"\",IF(J28>J29,J28,J29))","v":""},"d.",{"$f":"IF(J28<0,\"\",IF(J28>J29,I29,I28))","v":""},{"$f":"IF(J28<0,\"\",IF(J28>J29,J29,J28))","v":""},{"$f":"IF(B28=\"\",\"\",IF(ISTEXT(K28),K28,IF(ISTEXT(K29),K29,\"\")))","v":""},null,{"$f":"RESULTS!G4","v":" Block 1 Player 1"},{"$f":"RESULTS!H4","v":-1E-3},{"$f":"RESULTS!I4","v":-1E-3}]
[null,null,null,null,null,null,null,null,{"$f":"RESULTS!G5","v":" Block 1 Player 8"},{"$f":"RESULTS!H5","v":-1E-3},{"$f":"RESULTS!I5","v":-1E-3}]
[null,{"$f":"IF(J30<0,\"\",IF(J30>J31,I30,I31))","v":""},{"$f":"IF(J30<0,\"\",IF(J30>J31,J30,J31))","v":""},"d.",{"$f":"IF(J30<0,\"\",IF(J30>J31,I31,I30))","v":""},{"$f":"IF(J30<0,\"\",IF(J30>J31,J31,J30))","v":""},{"$f":"IF(B30=\"\",\"\",IF(ISTEXT(K30),K30,IF(ISTEXT(K31),K31,\"\")))","v":""},null,{"$f":"RESULTS!G6","v":" Block 1 Player 7"},{"$f":"RESULTS!H6","v":-1E-3},{"$f":"RESULTS!I6","v":-1E-3}]
[null,null,null,null,null,null,null,null,{"$f":"RESULTS!G7","v":" Block 1 Player 9"},{"$f":"RESULTS!H7","v":-1E-3},{"$f":"RESULTS!I7","v":-1E-3}]
[null,{"$f":"IF(J32<0,\"\",IF(J32>J33,I32,I33))","v":""},{"$f":"IF(J32<0,\"\",IF(J32>J33,J32,J33))","v":""},"d.",{"$f":"IF(J32<0,\"\",IF(J32>J33,I33,I32))","v":""},{"$f":"IF(J32<0,\"\",IF(J32>J33,J33,J32))","v":""},{"$f":"IF(B32=\"\",\"\",IF(ISTEXT(K32),K32,IF(ISTEXT(K33),K33,\"\")))","v":""},null,{"$f":"RESULTS!G8","v":" Block 1 Player 6"},{"$f":"RESULTS!H8","v":-1E-3},{"$f":"RESULTS!I8","v":-1E-3}]
[null,null,null,null,null,null,null,null,{"$f":"RESULTS!G9","v":" Block 1 Player 10"},{"$f":"RESULTS!H9","v":-1E-3},{"$f":"RESULTS!I9","v":-1E-3}]
[null,{"$f":"IF(J34<0,\"\",IF(J34>J35,I34,I35))","v":""},{"$f":"IF(J34<0,\"\",IF(J34>J35,J34,J35))","v":""},"d.",{"$f":"IF(J34<0,\"\",IF(J34>J35,I35,I34))","v":""},{"$f":"IF(J34<0,\"\",IF(J34>J35,J35,J34))","v":""},{"$f":"IF(B34=\"\",\"\",IF(ISTEXT(K34),K34,IF(ISTEXT(K35),K35,\"\")))","v":""},null,{"$f":"RESULTS!G10","v":" Block 1 Player 5"},{"$f":"RESULTS!H10","v":-1E-3},{"$f":"RESULTS!I10","v":-1E-3}]
[null,null,null,null,null,null,null,null,{"$f":"RESULTS!G11","v":" Block 1 Player 2"},{"$f":"RESULTS!H11","v":-1E-3},{"$f":"RESULTS!I11","v":-1E-3}]
[null,{"$f":"IF(J36<0,\"\",IF(J36>J37,I36,I37))","v":""},{"$f":"IF(J36<0,\"\",IF(J36>J37,J36,J37))","v":""},"d.",{"$f":"IF(J36<0,\"\",IF(J36>J37,I37,I36))","v":""},{"$f":"IF(J36<0,\"\",IF(J36>J37,J37,J36))","v":""},{"$f":"IF(B36=\"\",\"\",IF(ISTEXT(K36),K36,IF(ISTEXT(K37),K37,\"\")))","v":""},null,{"$f":"RESULTS!G12","v":" Block 1 Player 4"},{"$f":"RESULTS!H12","v":-1E-3},{"$f":"RESULTS!I12","v":-1E-3}]
[null,null,null,null,null,null,null,null,{"$f":"RESULTS!G13","v":" Block 1 Player 3"},{"$f":"RESULTS!H13","v":-1E-3},{"$f":"RESULTS!I13","v":-1E-3}]
[null,{"$f":"IF(J38<0,\"\",IF(J38>J39,I38,I39))","v":""},{"$f":"IF(J38<0,\"\",IF(J38>J39,J38,J39))","v":""},"d.",{"$f":"IF(J38<0,\"\",IF(J38>J39,I39,I38))","v":""},{"$f":"IF(J38<0,\"\",IF(J38>J39,J39,J38))","v":""},{"$f":"IF(B38=\"\",\"\",IF(ISTEXT(K38),K38,IF(ISTEXT(K39),K39,\"\")))","v":""},null,{"$f":"RESULTS!G14","v":" Block 1 Player 1"},{"$f":"RESULTS!H14","v":-1E-3},{"$f":"RESULTS!I14","v":-1E-3}]
[null,null,null,null,null,null,null,null,{"$f":"RESULTS!G15","v":" Block 1 Player 7"},{"$f":"RESULTS!H15","v":-1E-3},{"$f":"RESULTS!I15","v":-1E-3}]
[null,{"$f":"IF(J40<0,\"\",IF(J40>J41,I40,I41))","v":""},{"$f":"IF(J40<0,\"\",IF(J40>J41,J40,J41))","v":""},"d.",{"$f":"IF(J40<0,\"\",IF(J40>J41,I41,I40))","v":""},{"$f":"IF(J40<0,\"\",IF(J40>J41,J41,J40))","v":""},{"$f":"IF(B40=\"\",\"\",IF(ISTEXT(K40),K40,IF(ISTEXT(K41),K41,\"\")))","v":""},null,{"$f":"RESULTS!G16","v":" Block 1 Player 6"},{"$f":"RESULTS!H16","v":-1E-3},{"$f":"RESULTS!I16","v":-1E-3}]
[null,null,null,null,null,null,null,null,{"$f":"RESULTS!G17","v":" Block 1 Player 8"},{"$f":"RESULTS!H17","v":-1E-3},{"$f":"RESULTS!I17","v":-1E-3}]
[null,{"$f":"IF(J42<0,\"\",IF(J42>J43,I42,I43))","v":""},{"$f":"IF(J42<0,\"\",IF(J42>J43,J42,J43))","v":""},"d.",{"$f":"IF(J42<0,\"\",IF(J42>J43,I43,I42))","v":""},{"$f":"IF(J42<0,\"\",IF(J42>J43,J43,J42))","v":""},{"$f":"IF(B42=\"\",\"\",IF(ISTEXT(K42),K42,IF(ISTEXT(K43),K43,\"\")))","v":""},null,{"$f":"RESULTS!G18","v":" Block 1 Player 5"},{"$f":"RESULTS!H18","v":-1E-3},{"$f":"RESULTS!I18","v":-1E-3}]
[null,null,null,null,null,null,null,null,{"$f":"RESULTS!G19","v":" Block 1 Player 9"},{"$f":"RESULTS!H19","v":-1E-3},{"$f":"RESULTS!I19","v":-1E-3}]
[null,{"$f":"IF(J44<0,\"\",IF(J44>J45,I44,I45))","v":""},{"$f":"IF(J44<0,\"\",IF(J44>J45,J44,J45))","v":""},"d.",{"$f":"IF(J44<0,\"\",IF(J44>J45,I45,I44))","v":""},{"$f":"IF(J44<0,\"\",IF(J44>J45,J45,J44))","v":""},{"$f":"IF(B44=\"\",\"\",IF(ISTEXT(K44),K44,IF(ISTEXT(K45),K45,\"\")))","v":""},null,{"$f":"RESULTS!G20","v":" Block 1 Player 4"},{"$f":"RESULTS!H20","v":-1E-3},{"$f":"RESULTS!I20","v":-1E-3}]
[null,null,null,null,null,null,null,null,{"$f":"RESULTS!G21","v":" Block 1 Player 10"},{"$f":"RESULTS!H21","v":-1E-3},{"$f":"RESULTS!I21","v":-1E-3}]
[null,{"$f":"IF(J46<0,\"\",IF(J46>J47,I46,I47))","v":""},{"$f":"IF(J46<0,\"\",IF(J46>J47,J46,J47))","v":""},"d.",{"$f":"IF(J46<0,\"\",IF(J46>J47,I47,I46))","v":""},{"$f":"IF(J46<0,\"\",IF(J46>J47,J47,J46))","v":""},{"$f":"IF(B46=\"\",\"\",IF(ISTEXT(K46),K46,IF(ISTEXT(K47),K47,\"\")))","v":""},null,{"$f":"RESULTS!G22","v":" Block 1 Player 3"},{"$f":"RESULTS!H22","v":-1E-3},{"$f":"RESULTS!I22","v":-1E-3}]
[null,null,null,null,null,null,null,null,{"$f":"RESULTS!G23","v":" Block 1 Player 2"},{"$f":"RESULTS!H23","v":-1E-3},{"$f":"RESULTS!I23","v":-1E-3}]
[null,{"$f":"IF(J48<0,\"\",IF(J48>J49,I48,I49))","v":""},{"$f":"IF(J48<0,\"\",IF(J48>J49,J48,J49))","v":""},"d.",{"$f":"IF(J48<0,\"\",IF(J48>J49,I49,I48))","v":""},{"$f":"IF(J48<0,\"\",IF(J48>J49,J49,J48))","v":""},{"$f":"IF(B48=\"\",\"\",IF(ISTEXT(K48),K48,IF(ISTEXT(K49),K49,\"\")))","v":""},null,{"$f":"RESULTS!K4","v":" Block 1 Player 1"},{"$f":"RESULTS!L4","v":-1E-3},{"$f":"RESULTS!M4","v":-1E-3}]
[null,null,null,null,null,null,null,null,{"$f":"RESULTS!K5","v":" Block 1 Player 6"},{"$f":"RESULTS!L5","v":-1E-3},{"$f":"RESULTS!M5","v":-1E-3}]
[null,{"$f":"IF(J50<0,\"\",IF(J50>J51,I50,I51))","v":""},{"$f":"IF(J50<0,\"\",IF(J50>J51,J50,J51))","v":""},"d.",{"$f":"IF(J50<0,\"\",IF(J50>J51,I51,I50))","v":""},{"$f":"IF(J50<0,\"\",IF(J50>J51,J51,J50))","v":""},{"$f":"IF(B50=\"\",\"\",IF(ISTEXT(K50),K50,IF(ISTEXT(K51),K51,\"\")))","v":""},null,{"$f":"RESULTS!K6","v":" Block 1 Player 5"},{"$f":"RESULTS!L6","v":-1E-3},{"$f":"RESULTS!M6","v":-1E-3}]
[null,null,null,null,null,null,null,null,{"$f":"RESULTS!K7","v":" Block 1 Player 7"},{"$f":"RESULTS!L7","v":-1E-3},{"$f":"RESULTS!M7","v":-1E-3}]
[null,{"$f":"IF(J52<0,\"\",IF(J52>J53,I52,I53))","v":""},{"$f":"IF(J52<0,\"\",IF(J52>J53,J52,J53))","v":""},"d.",{"$f":"IF(J52<0,\"\",IF(J52>J53,I53,I52))","v":""},{"$f":"IF(J52<0,\"\",IF(J52>J53,J53,J52))","v":""},{"$f":"IF(B52=\"\",\"\",IF(ISTEXT(K52),K52,IF(ISTEXT(K53),K53,\"\")))","v":""},null,{"$f":"RESULTS!K8","v":" Block 1 Player 4"},{"$f":"RESULTS!L8","v":-1E-3},{"$f":"RESULTS!M8","v":-1E-3}]
[null,null,null,null,null,null,null,null,{"$f":"RESULTS!K9","v":" Block 1 Player 8"},{"$f":"RESULTS!L9","v":-1E-3},{"$f":"RESULTS!M9","v":-1E-3}]
[null,{"$f":"IF(J54<0,\"\",IF(J54>J55,I54,I55))","v":""},{"$f":"IF(J54<0,\"\",IF(J54>J55,J54,J55))","v":""},"d.",{"$f":"IF(J54<0,\"\",IF(J54>J55,I55,I54))","v":""},{"$f":"IF(J54<0,\"\",IF(J54>J55,J55,J54))","v":""},{"$f":"IF(B54=\"\",\"\",IF(ISTEXT(K54),K54,IF(ISTEXT(K55),K55,\"\")))","v":""},null,{"$f":"RESULTS!K10","v":" Block 1 Player 3"},{"$f":"RESULTS!L10","v":-1E-3},{"$f":"RESULTS!M10","v":-1E-3}]
[null,null,null,null,null,null,null,null,{"$f":"RESULTS!K11","v":" Block 1 Player 9"},{"$f":"RESULTS!L11","v":-1E-3},{"$f":"RESULTS!M11","v":-1E-3}]
[null,{"$f":"IF(J56<0,\"\",IF(J56>J57,I56,I57))","v":""},{"$f":"IF(J56<0,\"\",IF(J56>J57,J56,J57))","v":""},"d.",{"$f":"IF(J56<0,\"\",IF(J56>J57,I57,I56))","v":""},{"$f":"IF(J56<0,\"\",IF(J56>J57,J57,J56))","v":""},{"$f":"IF(B56=\"\",\"\",IF(ISTEXT(K56),K56,IF(ISTEXT(K57),K57,\"\")))","v":""},null,{"$f":"RESULTS!K12","v":" Block 1 Player 2"},{"$f":"RESULTS!L12","v":-1E-3},{"$f":"RESULTS!M12","v":-1E-3}]
[null,null,null,null,null,null,null,null,{"$f":"RESULTS!K13","v":" Block 1 Player 10"},{"$f":"RESULTS!L13","v":-1E-3},{"$f":"RESULTS!M13","v":-1E-3}]
[null,{"$f":"IF(J58<0,\"\",IF(J58>J59,I58,I59))","v":""},{"$f":"IF(J58<0,\"\",IF(J58>J59,J58,J59))","v":""},"d.",{"$f":"IF(J58<0,\"\",IF(J58>J59,I59,I58))","v":""},{"$f":"IF(J58<0,\"\",IF(J58>J59,J59,J58))","v":""},{"$f":"IF(B58=\"\",\"\",IF(ISTEXT(K58),K58,IF(ISTEXT(K59),K59,\"\")))","v":""},null,{"$f":"RESULTS!K14","v":" Block 1 Player 1"},{"$f":"RESULTS!L14","v":-1E-3},{"$f":"RESULTS!M14","v":-1E-3}]
[null,null,null,null,null,null,null,null,{"$f":"RESULTS!K15","v":" Block 1 Player 5"},{"$f":"RESULTS!L15","v":-1E-3},{"$f":"RESULTS!M15","v":-1E-3}]
[null,{"$f":"IF(J60<0,\"\",IF(J60>J61,I60,I61))","v":""},{"$f":"IF(J60<0,\"\",IF(J60>J61,J60,J61))","v":""},"d.",{"$f":"IF(J60<0,\"\",IF(J60>J61,I61,I60))","v":""},{"$f":"IF(J60<0,\"\",IF(J60>J61,J61,J60))","v":""},{"$f":"IF(B60=\"\",\"\",IF(ISTEXT(K60),K60,IF(ISTEXT(K61),K61,\"\")))","v":""},null,{"$f":"RESULTS!K16","v":" Block 1 Player 4"},{"$f":"RESULTS!L16","v":-1E-3},{"$f":"RESULTS!M16","v":-1E-3}]
[null,null,null,null,null,null,null,null,{"$f":"RESULTS!K17","v":" Block 1 Player 6"},{"$f":"RESULTS!L17","v":-1E-3},{"$f":"RESULTS!M17","v":-1E-3}]
[null,{"$f":"IF(J62<0,\"\",IF(J62>J63,I62,I63))","v":""},{"$f":"IF(J62<0,\"\",IF(J62>J63,J62,J63))","v":""},"d.",{"$f":"IF(J62<0,\"\",IF(J62>J63,I63,I62))","v":""},{"$f":"IF(J62<0,\"\",IF(J62>J63,J63,J62))","v":""},{"$f":"IF(B62=\"\",\"\",IF(ISTEXT(K62),K62,IF(ISTEXT(K63),K63,\"\")))","v":""},null,{"$f":"RESULTS!K18","v":" Block 1 Player 3"},{"$f":"RESULTS!L18","v":-1E-3},{"$f":"RESULTS!M18","v":-1E-3}]
[null,null,null,null,null,null,null,null,{"$f":"RESULTS!K19","v":" Block 1 Player 7"},{"$f":"RESULTS!L19","v":-1E-3},{"$f":"RESULTS!M19","v":-1E-3}]
[null,{"$f":"IF(J64<0,\"\",IF(J64>J65,I64,I65))","v":""},{"$f":"IF(J64<0,\"\",IF(J64>J65,J64,J65))","v":""},"d.",{"$f":"IF(J64<0,\"\",IF(J64>J65,I65,I64))","v":""},{"$f":"IF(J64<0,\"\",IF(J64>J65,J65,J64))","v":""},{"$f":"IF(B64=\"\",\"\",IF(ISTEXT(K64),K64,IF(ISTEXT(K65),K65,\"\")))","v":""},null,{"$f":"RESULTS!K20","v":" Block 1 Player 2"},{"$f":"RESULTS!L20","v":-1E-3},{"$f":"RESULTS!M20","v":-1E-3}]
[null,null,null,null,null,null,null,null,{"$f":"RESULTS!K21","v":" Block 1 Player 8"},{"$f":"RESULTS!L21","v":-1E-3},{"$f":"RESULTS!M21","v":-1E-3}]
[null,{"$f":"IF(J66<0,\"\",IF(J66>J67,I66,I67))","v":""},{"$f":"IF(J66<0,\"\",IF(J66>J67,J66,J67))","v":""},"d.",{"$f":"IF(J66<0,\"\",IF(J66>J67,I67,I66))","v":""},{"$f":"IF(J66<0,\"\",IF(J66>J67,J67,J66))","v":""},{"$f":"IF(B66=\"\",\"\",IF(ISTEXT(K66),K66,IF(ISTEXT(K67),K67,\"\")))","v":""},null,{"$f":"RESULTS!K22","v":" Block 1 Player 10"},{"$f":"RESULTS!L22","v":-1E-3},{"$f":"RESULTS!M22","v":-1E-3}]
[null,null,null,null,null,null,null,null,{"$f":"RESULTS!K23","v":" Block 1 Player 9"},{"$f":"RESULTS!L23","v":-1E-3},{"$f":"RESULTS!M23","v":-1E-3}]
[null,{"$f":"IF(J68<0,\"\",IF(J68>J69,I68,I69))","v":""},{"$f":"IF(J68<0,\"\",IF(J68>J69,J68,J69))","v":""},"d.",{"$f":"IF(J68<0,\"\",IF(J68>J69,I69,I68))","v":""},{"$f":"IF(J68<0,\"\",IF(J68>J69,J69,J68))","v":""},{"$f":"IF(B68=\"\",\"\",IF(ISTEXT(K68),K68,IF(ISTEXT(K69),K69,\"\")))","v":""},null,{"$f":"RESULTS!O4","v":" Block 1 Player 1"},{"$f":"RESULTS!P4","v":-1E-3},{"$f":"RESULTS!Q4","v":-1E-3}]
[null,null,null,null,null,null,null,null,{"$f":"RESULTS!O5","v":" Block 1 Player 4"},{"$f":"RESULTS!P5","v":-1E-3},{"$f":"RESULTS!Q5","v":-1E-3}]
[null,{"$f":"IF(J70<0,\"\",IF(J70>J71,I70,I71))","v":""},{"$f":"IF(J70<0,\"\",IF(J70>J71,J70,J71))","v":""},"d.",{"$f":"IF(J70<0,\"\",IF(J70>J71,I71,I70))","v":""},{"$f":"IF(J70<0,\"\",IF(J70>J71,J71,J70))","v":""},{"$f":"IF(B70=\"\",\"\",IF(ISTEXT(K70),K70,IF(ISTEXT(K71),K71,\"\")))","v":""},null,{"$f":"RESULTS!O6","v":" Block 1 Player 5"},{"$f":"RESULTS!P6","v":-1E-3},{"$f":"RESULTS!Q6","v":-1E-3}]
[null,null,null,null,null,null,null,null,{"$f":"RESULTS!O7","v":" Block 1 Player 3"},{"$f":"RESULTS!P7","v":-1E-3},{"$f":"RESULTS!Q7","v":-1E-3}]
[null,{"$f":"IF(J72<0,\"\",IF(J72>J73,I72,I73))","v":""},{"$f":"IF(J72<0,\"\",IF(J72>J73,J72,J73))","v":""},"d.",{"$f":"IF(J72<0,\"\",IF(J72>J73,I73,I72))","v":""},{"$f":"IF(J72<0,\"\",IF(J72>J73,J73,J72))","v":""},{"$f":"IF(B72=\"\",\"\",IF(ISTEXT(K72),K72,IF(ISTEXT(K73),K73,\"\")))","v":""},null,{"$f":"RESULTS!O8","v":" Block 1 Player 2"},{"$f":"RESULTS!P8","v":-1E-3},{"$f":"RESULTS!Q8","v":-1E-3}]
[null,null,null,null,null,null,null,null,{"$f":"RESULTS!O9","v":" Block 1 Player 6"},{"$f":"RESULTS!P9","v":-1E-3},{"$f":"RESULTS!Q9","v":-1E-3}]
[null,{"$f":"IF(J74<0,\"\",IF(J74>J75,I74,I75))","v":""},{"$f":"IF(J74<0,\"\",IF(J74>J75,J74,J75))","v":""},"d.",{"$f":"IF(J74<0,\"\",IF(J74>J75,I75,I74))","v":""},{"$f":"IF(J74<0,\"\",IF(J74>J75,J75,J74))","v":""},{"$f":"IF(B74=\"\",\"\",IF(ISTEXT(K74),K74,IF(ISTEXT(K75),K75,\"\")))","v":""},null,{"$f":"RESULTS!O10","v":" Block 1 Player 10"},{"$f":"RESULTS!P10","v":-1E-3},{"$f":"RESULTS!Q10","v":-1E-3}]
[null,null,null,null,null,null,null,null,{"$f":"RESULTS!O11","v":" Block 1 Player 7"},{"$f":"RESULTS!P11","v":-1E-3},{"$f":"RESULTS!Q11","v":-1E-3}]
[null,{"$f":"IF(J76<0,\"\",IF(J76>J77,I76,I77))","v":""},{"$f":"IF(J76<0,\"\",IF(J76>J77,J76,J77))","v":""},"d.",{"$f":"IF(J76<0,\"\",IF(J76>J77,I77,I76))","v":""},{"$f":"IF(J76<0,\"\",IF(J76>J77,J77,J76))","v":""},{"$f":"IF(B76=\"\",\"\",IF(ISTEXT(K76),K76,IF(ISTEXT(K77),K77,\"\")))","v":""},null,{"$f":"RESULTS!O12","v":" Block 1 Player 9"},{"$f":"RESULTS!P12","v":-1E-3},{"$f":"RESULTS!Q12","v":-1E-3}]
[null,null,null,null,null,null,null,null,{"$f":"RESULTS!O13","v":" Block 1 Player 8"},{"$f":"RESULTS!P13","v":-1E-3},{"$f":"RESULTS!Q13","v":-1E-3}]
[null,{"$f":"IF(J78<0,\"\",IF(J78>J79,I78,I79))","v":""},{"$f":"IF(J78<0,\"\",IF(J78>J79,J78,J79))","v":""},"d.",{"$f":"IF(J78<0,\"\",IF(J78>J79,I79,I78))","v":""},{"$f":"IF(J78<0,\"\",IF(J78>J79,J79,J78))","v":""},{"$f":"IF(B78=\"\",\"\",IF(ISTEXT(K78),K78,IF(ISTEXT(K79),K79,\"\")))","v":""},null,{"$f":"RESULTS!O14","v":" Block 1 Player 1"},{"$f":"RESULTS!P14","v":-1E-3},{"$f":"RESULTS!Q14","v":-1E-3}]
[null,null,null,null,null,null,null,null,{"$f":"RESULTS!O15","v":" Block 1 Player 3"},{"$f":"RESULTS!P15","v":-1E-3},{"$f":"RESULTS!Q15","v":-1E-3}]
[null,{"$f":"IF(J80<0,\"\",IF(J80>J81,I80,I81))","v":""},{"$f":"IF(J80<0,\"\",IF(J80>J81,J80,J81))","v":""},"d.",{"$f":"IF(J80<0,\"\",IF(J80>J81,I81,I80))","v":""},{"$f":"IF(J80<0,\"\",IF(J80>J81,J81,J80))","v":""},{"$f":"IF(B80=\"\",\"\",IF(ISTEXT(K80),K80,IF(ISTEXT(K81),K81,\"\")))","v":""},null,{"$f":"RESULTS!O16","v":" Block 1 Player 2"},{"$f":"RESULTS!P16","v":-1E-3},{"$f":"RESULTS!Q16","v":-1E-3}]
[null,null,null,null,null,null,null,null,{"$f":"RESULTS!O17","v":" Block 1 Player 4"},{"$f":"RESULTS!P17","v":-1E-3},{"$f":"RESULTS!Q17","v":-1E-3}]
[null,{"$f":"IF(J82<0,\"\",IF(J82>J83,I82,I83))","v":""},{"$f":"IF(J82<0,\"\",IF(J82>J83,J82,J83))","v":""},"d.",{"$f":"IF(J82<0,\"\",IF(J82>J83,I83,I82))","v":""},{"$f":"IF(J82<0,\"\",IF(J82>J83,J83,J82))","v":""},{"$f":"IF(B82=\"\",\"\",IF(ISTEXT(K82),K82,IF(ISTEXT(K83),K83,\"\")))","v":""},null,{"$f":"RESULTS!O18","v":" Block 1 Player 10"},{"$f":"RESULTS!P18","v":-1E-3},{"$f":"RESULTS!Q18","v":-1E-3}]
[null,null,null,null,null,null,null,null,{"$f":"RESULTS!O19","v":" Block 1 Player 5"},{"$f":"RESULTS!P19","v":-1E-3},{"$f":"RESULTS!Q19","v":-1E-3}]
[null,{"$f":"IF(J84<0,\"\",IF(J84>J85,I84,I85))","v":""},{"$f":"IF(J84<0,\"\",IF(J84>J85,J84,J85))","v":""},"d.",{"$f":"IF(J84<0,\"\",IF(J84>J85,I85,I84))","v":""},{"$f":"IF(J84<0,\"\",IF(J84>J85,J85,J84))","v":""},{"$f":"IF(B84=\"\",\"\",IF(ISTEXT(K84),K84,IF(ISTEXT(K85),K85,\"\")))","v":""},null,{"$f":"RESULTS!O20","v":" Block 1 Player 9"},{"$f":"RESULTS!P20","v":-1E-3},{"$f":"RESULTS!Q20","v":-1E-3}]
[null,null,null,null,null,null,null,null,{"$f":"RESULTS!O21","v":" Block 1 Player 6"},{"$f":"RESULTS!P21","v":-1E-3},{"$f":"RESULTS!Q21","v":-1E-3}]
[null,{"$f":"IF(J86<0,\"\",IF(J86>J87,I86,I87))","v":""},{"$f":"IF(J86<0,\"\",IF(J86>J87,J86,J87))","v":""},"d.",{"$f":"IF(J86<0,\"\",IF(J86>J87,I87,I86))","v":""},{"$f":"IF(J86<0,\"\",IF(J86>J87,J87,J86))","v":""},{"$f":"IF(B86=\"\",\"\",IF(ISTEXT(K86),K86,IF(ISTEXT(K87),K87,\"\")))","v":""},null,{"$f":"RESULTS!O22","v":" Block 1 Player 8"},{"$f":"RESULTS!P22","v":-1E-3},{"$f":"RESULTS!Q22","v":-1E-3}]
[null,null,null,null,null,null,null,null,{"$f":"RESULTS!O23","v":" Block 1 Player 7"},{"$f":"RESULTS!P23","v":-1E-3},{"$f":"RESULTS!Q23","v":-1E-3}]
[null,{"$f":"IF(J88<0,\"\",IF(J88>J89,I88,I89))","v":""},{"$f":"IF(J88<0,\"\",IF(J88>J89,J88,J89))","v":""},"d.",{"$f":"IF(J88<0,\"\",IF(J88>J89,I89,I88))","v":""},{"$f":"IF(J88<0,\"\",IF(J88>J89,J89,J88))","v":""},{"$f":"IF(B88=\"\",\"\",IF(ISTEXT(K88),K88,IF(ISTEXT(K89),K89,\"\")))","v":""},null,{"$f":"RESULTS!S4","v":" Block 1 Player 1"},{"$f":"RESULTS!T4","v":-1E-3},{"$f":"RESULTS!U4","v":-1E-3}]
[null,null,null,null,null,null,null,null,{"$f":"RESULTS!S5","v":" Block 1 Player 2"},{"$f":"RESULTS!T5","v":-1E-3},{"$f":"RESULTS!U5","v":-1E-3}]
[null,{"$f":"IF(J90<0,\"\",IF(J90>J91,I90,I91))","v":""},{"$f":"IF(J90<0,\"\",IF(J90>J91,J90,J91))","v":""},"d.",{"$f":"IF(J90<0,\"\",IF(J90>J91,I91,I90))","v":""},{"$f":"IF(J90<0,\"\",IF(J90>J91,J91,J90))","v":""},{"$f":"IF(B90=\"\",\"\",IF(ISTEXT(K90),K90,IF(ISTEXT(K91),K91,\"\")))","v":""},null,{"$f":"RESULTS!S6","v":" Block 1 Player 10"},{"$f":"RESULTS!T6","v":-1E-3},{"$f":"RESULTS!U6","v":-1E-3}]
[null,null,null,null,null,null,null,null,{"$f":"RESULTS!S7","v":" Block 1 Player 3"},{"$f":"RESULTS!T7","v":-1E-3},{"$f":"RESULTS!U7","v":-1E-3}]
[null,{"$f":"IF(J92<0,\"\",IF(J92>J93,I92,I93))","v":""},{"$f":"IF(J92<0,\"\",IF(J92>J93,J92,J93))","v":""},"d.",{"$f":"IF(J92<0,\"\",IF(J92>J93,I93,I92))","v":""},{"$f":"IF(J92<0,\"\",IF(J92>J93,J93,J92))","v":""},{"$f":"IF(B92=\"\",\"\",IF(ISTEXT(K92),K92,IF(ISTEXT(K93),K93,\"\")))","v":""},null,{"$f":"RESULTS!S8","v":" Block 1 Player 9"},{"$f":"RESULTS!T8","v":-1E-3},{"$f":"RESULTS!U8","v":-1E-3}]
[null,null,null,null,null,null,null,null,{"$f":"RESULTS!S9","v":" Block 1 Player 4"},{"$f":"RESULTS!T9","v":-1E-3},{"$f":"RESULTS!U9","v":-1E-3}]
[null,{"$f":"IF(J94<0,\"\",IF(J94>J95,I94,I95))","v":""},{"$f":"IF(J94<0,\"\",IF(J94>J95,J94,J95))","v":""},"d.",{"$f":"IF(J94<0,\"\",IF(J94>J95,I95,I94))","v":""},{"$f":"IF(J94<0,\"\",IF(J94>J95,J95,J94))","v":""},{"$f":"IF(B94=\"\",\"\",IF(ISTEXT(K94),K94,IF(ISTEXT(K95),K95,\"\")))","v":""},null,{"$f":"RESULTS!S10","v":" Block 1 Player 8"},{"$f":"RESULTS!T10","v":-1E-3},{"$f":"RESULTS!U10","v":-1E-3}]
[null,null,null,null,null,null,null,null,{"$f":"RESULTS!S11","v":" Block 1 Player 5"},{"$f":"RESULTS!T11","v":-1E-3},{"$f":"RESULTS!U11","v":-1E-3}]
[null,{"$f":"IF(J96<0,\"\",IF(J96>J97,I96,I97))","v":""},{"$f":"IF(J96<0,\"\",IF(J96>J97,J96,J97))","v":""},"d.",{"$f":"IF(J96<0,\"\",IF(J96>J97,I97,I96))","v":""},{"$f":"IF(J96<0,\"\",IF(J96>J97,J97,J96))","v":""},{"$f":"IF(B96=\"\",\"\",IF(ISTEXT(K96),K96,IF(ISTEXT(K97),K97,\"\")))","v":""},null,{"$f":"RESULTS!S12","v":" Block 1 Player 7"},{"$f":"RESULTS!T12","v":-1E-3},{"$f":"RESULTS!U12","v":-1E-3}]
[null,null,null,null,null,null,null,null,{"$f":"RESULTS!S13","v":" Block 1 Player 6"},{"$f":"RESULTS!T13","v":-1E-3},{"$f":"RESULTS!U13","v":-1E-3}]
[]
[]
[]
[null,{"$f":"NAMES!$C$61","v":"BLOCK 2"}]
[null,{"$f":"IF(J102<0,\"\",IF(J102>J103,I102,I103))","v":""},{"$f":"IF(J102<0,\"\",IF(J102>J103,J102,J103))","v":""},"d.",{"$f":"IF(J102<0,\"\",IF(J102>J103,I103,I102))","v":""},{"$f":"IF(J102<0,\"\",IF(J102>J103,J103,J102))","v":""},{"$f":"IF(B102=\"\",\"\",IF(ISTEXT(K102),K102,IF(ISTEXT(K103),K103,\"\")))","v":""},null,{"$f":"RESULTS!C28","v":" Block 2 Player 1"},{"$f":"RESULTS!D28","v":-1E-3},{"$f":"RESULTS!E28","v":-1E-3}]
[null,null,null,null,null,null,null,null,{"$f":"RESULTS!C29","v":" Block 2 Player 10"},{"$f":"RESULTS!D29","v":-1E-3},{"$f":"RESULTS!E29","v":-1E-3}]
[null,{"$f":"IF(J104<0,\"\",IF(J104>J105,I104,I105))","v":""},{"$f":"IF(J104<0,\"\",IF(J104>J105,J104,J105))","v":""},"d.",{"$f":"IF(J104<0,\"\",IF(J104>J105,I105,I104))","v":""},{"$f":"IF(J104<0,\"\",IF(J104>J105,J105,J104))","v":""},{"$f":"IF(B104=\"\",\"\",IF(ISTEXT(K104),K104,IF(ISTEXT(K105),K105,\"\")))","v":""},null,{"$f":"RESULTS!C30","v":" Block 2 Player 2"},{"$f":"RESULTS!D30","v":-1E-3},{"$f":"RESULTS!E30","v":-1E-3}]
[null,null,null,null,null,null,null,null,{"$f":"RESULTS!C31","v":" Block 2 Player 9"},{"$f":"RESULTS!D31","v":-1E-3},{"$f":"RESULTS!E31","v":-1E-3}]
[null,{"$f":"IF(J106<0,\"\",IF(J106>J107,I106,I107))","v":""},{"$f":"IF(J106<0,\"\",IF(J106>J107,J106,J107))","v":""},"d.",{"$f":"IF(J106<0,\"\",IF(J106>J107,I107,I106))","v":""},{"$f":"IF(J106<0,\"\",IF(J106>J107,J107,J106))","v":""},{"$f":"IF(B106=\"\",\"\",IF(ISTEXT(K106),K106,IF(ISTEXT(K107),K107,\"\")))","v":""},null,{"$f":"RESULTS!C32","v":" Block 2 Player 3"},{"$f":"RESULTS!D32","v":-1E-3},{"$f":"RESULTS!E32","v":-1E-3}]
[null,null,null,null,null,null,null,null,{"$f":"RESULTS!C33","v":" Block 2 Player 8"},{"$f":"RESULTS!D33","v":-1E-3},{"$f":"RESULTS!E33","v":-1E-3}]
[null,{"$f":"IF(J108<0,\"\",IF(J108>J109,I108,I109))","v":""},{"$f":"IF(J108<0,\"\",IF(J108>J109,J108,J109))","v":""},"d.",{"$f":"IF(J108<0,\"\",IF(J108>J109,I109,I108))","v":""},{"$f":"IF(J108<0,\"\",IF(J108>J109,J109,J108))","v":""},{"$f":"IF(B108=\"\",\"\",IF(ISTEXT(K108),K108,IF(ISTEXT(K109),K109,\"\")))","v":""},null,{"$f":"RESULTS!C34","v":" Block 2 Player 4"},{"$f":"RESULTS!D34","v":-1E-3},{"$f":"RESULTS!E34","v":-1E-3}]
[null,null,null,null,null,null,null,null,{"$f":"RESULTS!C35","v":" Block 2 Player 7"},{"$f":"RESULTS!D35","v":-1E-3},{"$f":"RESULTS!E35","v":-1E-3}]
[null,{"$f":"IF(J110<0,\"\",IF(J110>J111,I110,I111))","v":""},{"$f":"IF(J110<0,\"\",IF(J110>J111,J110,J111))","v":""},"d.",{"$f":"IF(J110<0,\"\",IF(J110>J111,I111,I110))","v":""},{"$f":"IF(J110<0,\"\",IF(J110>J111,J111,J110))","v":""},{"$f":"IF(B110=\"\",\"\",IF(ISTEXT(K110),K110,IF(ISTEXT(K111),K111,\"\")))","v":""},null,{"$f":"RESULTS!C36","v":" Block 2 Player 5"},{"$f":"RESULTS!D36","v":-1E-3},{"$f":"RESULTS!E36","v":-1E-3}]
[null,null,null,null,null,null,null,null,{"$f":"RESULTS!C37","v":" Block 2 Player 6"},{"$f":"RESULTS!D37","v":-1E-3},{"$f":"RESULTS!E37","v":-1E-3}]
[null,{"$f":"IF(J112<0,\"\",IF(J112>J113,I112,I113))","v":""},{"$f":"IF(J112<0,\"\",IF(J112>J113,J112,J113))","v":""},"d.",{"$f":"IF(J112<0,\"\",IF(J112>J113,I113,I112))","v":""},{"$f":"IF(J112<0,\"\",IF(J112>J113,J113,J112))","v":""},{"$f":"IF(B112=\"\",\"\",IF(ISTEXT(K112),K112,IF(ISTEXT(K113),K113,\"\")))","v":""},null,{"$f":"RESULTS!C38","v":" Block 2 Player 1"},{"$f":"RESULTS!D38","v":-1E-3},{"$f":"RESULTS!E38","v":-1E-3}]
[null,null,null,null,null,null,null,null,{"$f":"RESULTS!C39","v":" Block 2 Player 9"},{"$f":"RESULTS!D39","v":-1E-3},{"$f":"RESULTS!E39","v":-1E-3}]
[null,{"$f":"IF(J114<0,\"\",IF(J114>J115,I114,I115))","v":""},{"$f":"IF(J114<0,\"\",IF(J114>J115,J114,J115))","v":""},"d.",{"$f":"IF(J114<0,\"\",IF(J114>J115,I115,I114))","v":""},{"$f":"IF(J114<0,\"\",IF(J114>J115,J115,J114))","v":""},{"$f":"IF(B114=\"\",\"\",IF(ISTEXT(K114),K114,IF(ISTEXT(K115),K115,\"\")))","v":""},null,{"$f":"RESULTS!C40","v":" Block 2 Player 8"},{"$f":"RESULTS!D40","v":-1E-3},{"$f":"RESULTS!E40","v":-1E-3}]
[null,null,null,null,null,null,null,null,{"$f":"RESULTS!C41","v":" Block 2 Player 10"},{"$f":"RESULTS!D41","v":-1E-3},{"$f":"RESULTS!E41","v":-1E-3}]
[null,{"$f":"IF(J116<0,\"\",IF(J116>J117,I116,I117))","v":""},{"$f":"IF(J116<0,\"\",IF(J116>J117,J116,J117))","v":""},"d.",{"$f":"IF(J116<0,\"\",IF(J116>J117,I117,I116))","v":""},{"$f":"IF(J116<0,\"\",IF(J116>J117,J117,J116))","v":""},{"$f":"IF(B116=\"\",\"\",IF(ISTEXT(K116),K116,IF(ISTEXT(K117),K117,\"\")))","v":""},null,{"$f":"RESULTS!C42","v":" Block 2 Player 7"},{"$f":"RESULTS!D42","v":-1E-3},{"$f":"RESULTS!E42","v":-1E-3}]
[null,null,null,null,null,null,null,null,{"$f":"RESULTS!C43","v":" Block 2 Player 2"},{"$f":"RESULTS!D43","v":-1E-3},{"$f":"RESULTS!E43","v":-1E-3}]
[null,{"$f":"IF(J118<0,\"\",IF(J118>J119,I118,I119))","v":""},{"$f":"IF(J118<0,\"\",IF(J118>J119,J118,J119))","v":""},"d.",{"$f":"IF(J118<0,\"\",IF(J118>J119,I119,I118))","v":""},{"$f":"IF(J118<0,\"\",IF(J118>J119,J119,J118))","v":""},{"$f":"IF(B118=\"\",\"\",IF(ISTEXT(K118),K118,IF(ISTEXT(K119),K119,\"\")))","v":""},null,{"$f":"RESULTS!C44","v":" Block 2 Player 6"},{"$f":"RESULTS!D44","v":-1E-3},{"$f":"RESULTS!E44","v":-1E-3}]
[null,null,null,null,null,null,null,null,{"$f":"RESULTS!C45","v":" Block 2 Player 3"},{"$f":"RESULTS!D45","v":-1E-3},{"$f":"RESULTS!E45","v":-1E-3}]
[null,{"$f":"IF(J120<0,\"\",IF(J120>J121,I120,I121))","v":""},{"$f":"IF(J120<0,\"\",IF(J120>J121,J120,J121))","v":""},"d.",{"$f":"IF(J120<0,\"\",IF(J120>J121,I121,I120))","v":""},{"$f":"IF(J120<0,\"\",IF(J120>J121,J121,J120))","v":""},{"$f":"IF(B120=\"\",\"\",IF(ISTEXT(K120),K120,IF(ISTEXT(K121),K121,\"\")))","v":""},null,{"$f":"RESULTS!C46","v":" Block 2 Player 5"},{"$f":"RESULTS!D46","v":-1E-3},{"$f":"RESULTS!E46","v":-1E-3}]
[null,null,null,null,null,null,null,null,{"$f":"RESULTS!C47","v":" Block 2 Player 4"},{"$f":"RESULTS!D47","v":-1E-3},{"$f":"RESULTS!E47","v":-1E-3}]
[null,{"$f":"IF(J122<0,\"\",IF(J122>J123,I122,I123))","v":""},{"$f":"IF(J122<0,\"\",IF(J122>J123,J122,J123))","v":""},"d.",{"$f":"IF(J122<0,\"\",IF(J122>J123,I123,I122))","v":""},{"$f":"IF(J122<0,\"\",IF(J122>J123,J123,J122))","v":""},{"$f":"IF(B122=\"\",\"\",IF(ISTEXT(K122),K122,IF(ISTEXT(K123),K123,\"\")))","v":""},null,{"$f":"RESULTS!G28","v":" Block 2 Player 1"},{"$f":"RESULTS!H28","v":-1E-3},{"$f":"RESULTS!I28","v":-1E-3}]
[null,null,null,null,null,null,null,null,{"$f":"RESULTS!G29","v":" Block 2 Player 8"},{"$f":"RESULTS!H29","v":-1E-3},{"$f":"RESULTS!I29","v":-1E-3}]
[null,{"$f":"IF(J124<0,\"\",IF(J124>J125,I124,I125))","v":""},{"$f":"IF(J124<0,\"\",IF(J124>J125,J124,J125))","v":""},"d.",{"$f":"IF(J124<0,\"\",IF(J124>J125,I125,I124))","v":""},{"$f":"IF(J124<0,\"\",IF(J124>J125,J125,J124))","v":""},{"$f":"IF(B124=\"\",\"\",IF(ISTEXT(K124),K124,IF(ISTEXT(K125),K125,\"\")))","v":""},null,{"$f":"RESULTS!G30","v":" Block 2 Player 7"},{"$f":"RESULTS!H30","v":-1E-3},{"$f":"RESULTS!I30","v":-1E-3}]
[null,null,null,null,null,null,null,null,{"$f":"RESULTS!G31","v":" Block 2 Player 9"},{"$f":"RESULTS!H31","v":-1E-3},{"$f":"RESULTS!I31","v":-1E-3}]
[null,{"$f":"IF(J126<0,\"\",IF(J126>J127,I126,I127))","v":""},{"$f":"IF(J126<0,\"\",IF(J126>J127,J126,J127))","v":""},"d.",{"$f":"IF(J126<0,\"\",IF(J126>J127,I127,I126))","v":""},{"$f":"IF(J126<0,\"\",IF(J126>J127,J127,J126))","v":""},{"$f":"IF(B126=\"\",\"\",IF(ISTEXT(K126),K126,IF(ISTEXT(K127),K127,\"\")))","v":""},null,{"$f":"RESULTS!G32","v":" Block 2 Player 6"},{"$f":"RESULTS!H32","v":-1E-3},{"$f":"RESULTS!I32","v":-1E-3}]
[null,null,null,null,null,null,null,null,{"$f":"RESULTS!G33","v":" Block 2 Player 10"},{"$f":"RESULTS!H33","v":-1E-3},{"$f":"RESULTS!I33","v":-1E-3}]
[null,{"$f":"IF(J128<0,\"\",IF(J128>J129,I128,I129))","v":""},{"$f":"IF(J128<0,\"\",IF(J128>J129,J128,J129))","v":""},"d.",{"$f":"IF(J128<0,\"\",IF(J128>J129,I129,I128))","v":""},{"$f":"IF(J128<0,\"\",IF(J128>J129,J129,J128))","v":""},{"$f":"IF(B128=\"\",\"\",IF(ISTEXT(K128),K128,IF(ISTEXT(K129),K129,\"\")))","v":""},null,{"$f":"RESULTS!G34","v":" Block 2 Player 5"},{"$f":"RESULTS!H34","v":-1E-3},{"$f":"RESULTS!I34","v":-1E-3}]
[null,null,null,null,null,null,null,null,{"$f":"RESULTS!G35","v":" Block 2 Player 2"},{"$f":"RESULTS!H35","v":-1E-3},{"$f":"RESULTS!I35","v":-1E-3}]
[null,{"$f":"IF(J130<0,\"\",IF(J130>J131,I130,I131))","v":""},{"$f":"IF(J130<0,\"\",IF(J130>J131,J130,J131))","v":""},"d.",{"$f":"IF(J130<0,\"\",IF(J130>J131,I131,I130))","v":""},{"$f":"IF(J130<0,\"\",IF(J130>J131,J131,J130))","v":""},{"$f":"IF(B130=\"\",\"\",IF(ISTEXT(K130),K130,IF(ISTEXT(K131),K131,\"\")))","v":""},null,{"$f":"RESULTS!G36","v":" Block 2 Player 4"},{"$f":"RESULTS!H36","v":-1E-3},{"$f":"RESULTS!I36","v":-1E-3}]
[null,null,null,null,null,null,null,null,{"$f":"RESULTS!G37","v":" Block 2 Player 3"},{"$f":"RESULTS!H37","v":-1E-3},{"$f":"RESULTS!I37","v":-1E-3}]
[null,{"$f":"IF(J132<0,\"\",IF(J132>J133,I132,I133))","v":""},{"$f":"IF(J132<0,\"\",IF(J132>J133,J132,J133))","v":""},"d.",{"$f":"IF(J132<0,\"\",IF(J132>J133,I133,I132))","v":""},{"$f":"IF(J132<0,\"\",IF(J132>J133,J133,J132))","v":""},{"$f":"IF(B132=\"\",\"\",IF(ISTEXT(K132),K132,IF(ISTEXT(K133),K133,\"\")))","v":""},null,{"$f":"RESULTS!G38","v":" Block 2 Player 1"},{"$f":"RESULTS!H38","v":-1E-3},{"$f":"RESULTS!I38","v":-1E-3}]
[null,null,null,null,null,null,null,null,{"$f":"RESULTS!G39","v":" Block 2 Player 7"},{"$f":"RESULTS!H39","v":-1E-3},{"$f":"RESULTS!I39","v":-1E-3}]
[null,{"$f":"IF(J134<0,\"\",IF(J134>J135,I134,I135))","v":""},{"$f":"IF(J134<0,\"\",IF(J134>J135,J134,J135))","v":""},"d.",{"$f":"IF(J134<0,\"\",IF(J134>J135,I135,I134))","v":""},{"$f":"IF(J134<0,\"\",IF(J134>J135,J135,J134))","v":""},{"$f":"IF(B134=\"\",\"\",IF(ISTEXT(K134),K134,IF(ISTEXT(K135),K135,\"\")))","v":""},null,{"$f":"RESULTS!G40","v":" Block 2 Player 6"},{"$f":"RESULTS!H40","v":-1E-3},{"$f":"RESULTS!I40","v":-1E-3}]
[null,null,null,null,null,null,null,null,{"$f":"RESULTS!G41","v":" Block 2 Player 8"},{"$f":"RESULTS!H41","v":-1E-3},{"$f":"RESULTS!I41","v":-1E-3}]
[null,{"$f":"IF(J136<0,\"\",IF(J136>J137,I136,I137))","v":""},{"$f":"IF(J136<0,\"\",IF(J136>J137,J136,J137))","v":""},"d.",{"$f":"IF(J136<0,\"\",IF(J136>J137,I137,I136))","v":""},{"$f":"IF(J136<0,\"\",IF(J136>J137,J137,J136))","v":""},{"$f":"IF(B136=\"\",\"\",IF(ISTEXT(K136),K136,IF(ISTEXT(K137),K137,\"\")))","v":""},null,{"$f":"RESULTS!G42","v":" Block 2 Player 5"},{"$f":"RESULTS!H42","v":-1E-3},{"$f":"RESULTS!I42","v":-1E-3}]
[null,null,null,null,null,null,null,null,{"$f":"RESULTS!G43","v":" Block 2 Player 9"},{"$f":"RESULTS!H43","v":-1E-3},{"$f":"RESULTS!I43","v":-1E-3}]
[null,{"$f":"IF(J138<0,\"\",IF(J138>J139,I138,I139))","v":""},{"$f":"IF(J138<0,\"\",IF(J138>J139,J138,J139))","v":""},"d.",{"$f":"IF(J138<0,\"\",IF(J138>J139,I139,I138))","v":""},{"$f":"IF(J138<0,\"\",IF(J138>J139,J139,J138))","v":""},{"$f":"IF(B138=\"\",\"\",IF(ISTEXT(K138),K138,IF(ISTEXT(K139),K139,\"\")))","v":""},null,{"$f":"RESULTS!G44","v":" Block 2 Player 4"},{"$f":"RESULTS!H44","v":-1E-3},{"$f":"RESULTS!I44","v":-1E-3}]
[null,null,null,null,null,null,null,null,{"$f":"RESULTS!G45","v":" Block 2 Player 10"},{"$f":"RESULTS!H45","v":-1E-3},{"$f":"RESULTS!I45","v":-1E-3}]
[null,{"$f":"IF(J140<0,\"\",IF(J140>J141,I140,I141))","v":""},{"$f":"IF(J140<0,\"\",IF(J140>J141,J140,J141))","v":""},"d.",{"$f":"IF(J140<0,\"\",IF(J140>J141,I141,I140))","v":""},{"$f":"IF(J140<0,\"\",IF(J140>J141,J141,J140))","v":""},{"$f":"IF(B140=\"\",\"\",IF(ISTEXT(K140),K140,IF(ISTEXT(K141),K141,\"\")))","v":""},null,{"$f":"RESULTS!G46","v":" Block 2 Player 3"},{"$f":"RESULTS!H46","v":-1E-3},{"$f":"RESULTS!I46","v":-1E-3}]
[null,null,null,null,null,null,null,null,{"$f":"RESULTS!G47","v":" Block 2 Player 2"},{"$f":"RESULTS!H47","v":-1E-3},{"$f":"RESULTS!I47","v":-1E-3}]
[null,{"$f":"IF(J142<0,\"\",IF(J142>J143,I142,I143))","v":""},{"$f":"IF(J142<0,\"\",IF(J142>J143,J142,J143))","v":""},"d.",{"$f":"IF(J142<0,\"\",IF(J142>J143,I143,I142))","v":""},{"$f":"IF(J142<0,\"\",IF(J142>J143,J143,J142))","v":""},{"$f":"IF(B142=\"\",\"\",IF(ISTEXT(K142),K142,IF(ISTEXT(K143),K143,\"\")))","v":""},null,{"$f":"RESULTS!K28","v":" Block 2 Player 1"},{"$f":"RESULTS!L28","v":-1E-3},{"$f":"RESULTS!M28","v":-1E-3}]
[null,null,null,null,null,null,null,null,{"$f":"RESULTS!K29","v":" Block 2 Player 6"},{"$f":"RESULTS!L29","v":-1E-3},{"$f":"RESULTS!M29","v":-1E-3}]
[null,{"$f":"IF(J144<0,\"\",IF(J144>J145,I144,I145))","v":""},{"$f":"IF(J144<0,\"\",IF(J144>J145,J144,J145))","v":""},"d.",{"$f":"IF(J144<0,\"\",IF(J144>J145,I145,I144))","v":""},{"$f":"IF(J144<0,\"\",IF(J144>J145,J145,J144))","v":""},{"$f":"IF(B144=\"\",\"\",IF(ISTEXT(K144),K144,IF(ISTEXT(K145),K145,\"\")))","v":""},null,{"$f":"RESULTS!K30","v":" Block 2 Player 5"},{"$f":"RESULTS!L30","v":-1E-3},{"$f":"RESULTS!M30","v":-1E-3}]
[null,null,null,null,null,null,null,null,{"$f":"RESULTS!K31","v":" Block 2 Player 7"},{"$f":"RESULTS!L31","v":-1E-3},{"$f":"RESULTS!M31","v":-1E-3}]
[null,{"$f":"IF(J146<0,\"\",IF(J146>J147,I146,I147))","v":""},{"$f":"IF(J146<0,\"\",IF(J146>J147,J146,J147))","v":""},"d.",{"$f":"IF(J146<0,\"\",IF(J146>J147,I147,I146))","v":""},{"$f":"IF(J146<0,\"\",IF(J146>J147,J147,J146))","v":""},{"$f":"IF(B146=\"\",\"\",IF(ISTEXT(K146),K146,IF(ISTEXT(K147),K147,\"\")))","v":""},null,{"$f":"RESULTS!K32","v":" Block 2 Player 4"},{"$f":"RESULTS!L32","v":-1E-3},{"$f":"RESULTS!M32","v":-1E-3}]
[null,null,null,null,null,null,null,null,{"$f":"RESULTS!K33","v":" Block 2 Player 8"},{"$f":"RESULTS!L33","v":-1E-3},{"$f":"RESULTS!M33","v":-1E-3}]
[null,{"$f":"IF(J148<0,\"\",IF(J148>J149,I148,I149))","v":""},{"$f":"IF(J148<0,\"\",IF(J148>J149,J148,J149))","v":""},"d.",{"$f":"IF(J148<0,\"\",IF(J148>J149,I149,I148))","v":""},{"$f":"IF(J148<0,\"\",IF(J148>J149,J149,J148))","v":""},{"$f":"IF(B148=\"\",\"\",IF(ISTEXT(K148),K148,IF(ISTEXT(K149),K149,\"\")))","v":""},null,{"$f":"RESULTS!K34","v":" Block 2 Player 3"},{"$f":"RESULTS!L34","v":-1E-3},{"$f":"RESULTS!M34","v":-1E-3}]
[null,null,null,null,null,null,null,null,{"$f":"RESULTS!K35","v":" Block 2 Player 9"},{"$f":"RESULTS!L35","v":-1E-3},{"$f":"RESULTS!M35","v":-1E-3}]
[null,{"$f":"IF(J150<0,\"\",IF(J150>J151,I150,I151))","v":""},{"$f":"IF(J150<0,\"\",IF(J150>J151,J150,J151))","v":""},"d.",{"$f":"IF(J150<0,\"\",IF(J150>J151,I151,I150))","v":""},{"$f":"IF(J150<0,\"\",IF(J150>J151,J151,J150))","v":""},{"$f":"IF(B150=\"\",\"\",IF(ISTEXT(K150),K150,IF(ISTEXT(K151),K151,\"\")))","v":""},null,{"$f":"RESULTS!K36","v":" Block 2 Player 2"},{"$f":"RESULTS!L36","v":-1E-3},{"$f":"RESULTS!M36","v":-1E-3}]
[null,null,null,null,null,null,null,null,{"$f":"RESULTS!K37","v":" Block 2 Player 10"},{"$f":"RESULTS!L37","v":-1E-3},{"$f":"RESULTS!M37","v":-1E-3}]
[null,{"$f":"IF(J152<0,\"\",IF(J152>J153,I152,I153))","v":""},{"$f":"IF(J152<0,\"\",IF(J152>J153,J152,J153))","v":""},"d.",{"$f":"IF(J152<0,\"\",IF(J152>J153,I153,I152))","v":""},{"$f":"IF(J152<0,\"\",IF(J152>J153,J153,J152))","v":""},{"$f":"IF(B152=\"\",\"\",IF(ISTEXT(K152),K152,IF(ISTEXT(K153),K153,\"\")))","v":""},null,{"$f":"RESULTS!K38","v":" Block 2 Player 1"},{"$f":"RESULTS!L38","v":-1E-3},{"$f":"RESULTS!M38","v":-1E-3}]
[null,null,null,null,null,null,null,null,{"$f":"RESULTS!K39","v":" Block 2 Player 5"},{"$f":"RESULTS!L39","v":-1E-3},{"$f":"RESULTS!M39","v":-1E-3}]
[null,{"$f":"IF(J154<0,\"\",IF(J154>J155,I154,I155))","v":""},{"$f":"IF(J154<0,\"\",IF(J154>J155,J154,J155))","v":""},"d.",{"$f":"IF(J154<0,\"\",IF(J154>J155,I155,I154))","v":""},{"$f":"IF(J154<0,\"\",IF(J154>J155,J155,J154))","v":""},{"$f":"IF(B154=\"\",\"\",IF(ISTEXT(K154),K154,IF(ISTEXT(K155),K155,\"\")))","v":""},null,{"$f":"RESULTS!K40","v":" Block 2 Player 4"},{"$f":"RESULTS!L40","v":-1E-3},{"$f":"RESULTS!M40","v":-1E-3}]
[null,null,null,null,null,null,null,null,{"$f":"RESULTS!K41","v":" Block 2 Player 6"},{"$f":"RESULTS!L41","v":-1E-3},{"$f":"RESULTS!M41","v":-1E-3}]
[null,{"$f":"IF(J156<0,\"\",IF(J156>J157,I156,I157))","v":""},{"$f":"IF(J156<0,\"\",IF(J156>J157,J156,J157))","v":""},"d.",{"$f":"IF(J156<0,\"\",IF(J156>J157,I157,I156))","v":""},{"$f":"IF(J156<0,\"\",IF(J156>J157,J157,J156))","v":""},{"$f":"IF(B156=\"\",\"\",IF(ISTEXT(K156),K156,IF(ISTEXT(K157),K157,\"\")))","v":""},null,{"$f":"RESULTS!K42","v":" Block 2 Player 3"},{"$f":"RESULTS!L42","v":-1E-3},{"$f":"RESULTS!M42","v":-1E-3}]
[null,null,null,null,null,null,null,null,{"$f":"RESULTS!K43","v":" Block 2 Player 7"},{"$f":"RESULTS!L43","v":-1E-3},{"$f":"RESULTS!M43","v":-1E-3}]
[null,{"$f":"IF(J158<0,\"\",IF(J158>J159,I158,I159))","v":""},{"$f":"IF(J158<0,\"\",IF(J158>J159,J158,J159))","v":""},"d.",{"$f":"IF(J158<0,\"\",IF(J158>J159,I159,I158))","v":""},{"$f":"IF(J158<0,\"\",IF(J158>J159,J159,J158))","v":""},{"$f":"IF(B158=\"\",\"\",IF(ISTEXT(K158),K158,IF(ISTEXT(K159),K159,\"\")))","v":""},null,{"$f":"RESULTS!K44","v":" Block 2 Player 2"},{"$f":"RESULTS!L44","v":-1E-3},{"$f":"RESULTS!M44","v":-1E-3}]
[null,null,null,null,null,null,null,null,{"$f":"RESULTS!K45","v":" Block 2 Player 8"},{"$f":"RESULTS!L45","v":-1E-3},{"$f":"RESULTS!M45","v":-1E-3}]
[null,{"$f":"IF(J160<0,\"\",IF(J160>J161,I160,I161))","v":""},{"$f":"IF(J160<0,\"\",IF(J160>J161,J160,J161))","v":""},"d.",{"$f":"IF(J160<0,\"\",IF(J160>J161,I161,I160))","v":""},{"$f":"IF(J160<0,\"\",IF(J160>J161,J161,J160))","v":""},{"$f":"IF(B160=\"\",\"\",IF(ISTEXT(K160),K160,IF(ISTEXT(K161),K161,\"\")))","v":""},null,{"$f":"RESULTS!K46","v":" Block 2 Player 10"},{"$f":"RESULTS!L46","v":-1E-3},{"$f":"RESULTS!M46","v":-1E-3}]
[null,null,null,null,null,null,null,null,{"$f":"RESULTS!K47","v":" Block 2 Player 9"},{"$f":"RESULTS!L47","v":-1E-3},{"$f":"RESULTS!M47","v":-1E-3}]
[null,{"$f":"IF(J162<0,\"\",IF(J162>J163,I162,I163))","v":""},{"$f":"IF(J162<0,\"\",IF(J162>J163,J162,J163))","v":""},"d.",{"$f":"IF(J162<0,\"\",IF(J162>J163,I163,I162))","v":""},{"$f":"IF(J162<0,\"\",IF(J162>J163,J163,J162))","v":""},{"$f":"IF(B162=\"\",\"\",IF(ISTEXT(K162),K162,IF(ISTEXT(K163),K163,\"\")))","v":""},null,{"$f":"RESULTS!O28","v":" Block 2 Player 1"},{"$f":"RESULTS!P28","v":-1E-3},{"$f":"RESULTS!Q28","v":-1E-3}]
[null,null,null,null,null,null,null,null,{"$f":"RESULTS!O29","v":" Block 2 Player 4"},{"$f":"RESULTS!P29","v":-1E-3},{"$f":"RESULTS!Q29","v":-1E-3}]
[null,{"$f":"IF(J164<0,\"\",IF(J164>J165,I164,I165))","v":""},{"$f":"IF(J164<0,\"\",IF(J164>J165,J164,J165))","v":""},"d.",{"$f":"IF(J164<0,\"\",IF(J164>J165,I165,I164))","v":""},{"$f":"IF(J164<0,\"\",IF(J164>J165,J165,J164))","v":""},{"$f":"IF(B164=\"\",\"\",IF(ISTEXT(K164),K164,IF(ISTEXT(K165),K165,\"\")))","v":""},null,{"$f":"RESULTS!O30","v":" Block 2 Player 5"},{"$f":"RESULTS!P30","v":-1E-3},{"$f":"RESULTS!Q30","v":-1E-3}]
[null,null,null,null,null,null,null,null,{"$f":"RESULTS!O31","v":" Block 2 Player 3"},{"$f":"RESULTS!P31","v":-1E-3},{"$f":"RESULTS!Q31","v":-1E-3}]
[null,{"$f":"IF(J166<0,\"\",IF(J166>J167,I166,I167))","v":""},{"$f":"IF(J166<0,\"\",IF(J166>J167,J166,J167))","v":""},"d.",{"$f":"IF(J166<0,\"\",IF(J166>J167,I167,I166))","v":""},{"$f":"IF(J166<0,\"\",IF(J166>J167,J167,J166))","v":""},{"$f":"IF(B166=\"\",\"\",IF(ISTEXT(K166),K166,IF(ISTEXT(K167),K167,\"\")))","v":""},null,{"$f":"RESULTS!O32","v":" Block 2 Player 2"},{"$f":"RESULTS!P32","v":-1E-3},{"$f":"RESULTS!Q32","v":-1E-3}]
[null,null,null,null,null,null,null,null,{"$f":"RESULTS!O33","v":" Block 2 Player 6"},{"$f":"RESULTS!P33","v":-1E-3},{"$f":"RESULTS!Q33","v":-1E-3}]
[null,{"$f":"IF(J168<0,\"\",IF(J168>J169,I168,I169))","v":""},{"$f":"IF(J168<0,\"\",IF(J168>J169,J168,J169))","v":""},"d.",{"$f":"IF(J168<0,\"\",IF(J168>J169,I169,I168))","v":""},{"$f":"IF(J168<0,\"\",IF(J168>J169,J169,J168))","v":""},{"$f":"IF(B168=\"\",\"\",IF(ISTEXT(K168),K168,IF(ISTEXT(K169),K169,\"\")))","v":""},null,{"$f":"RESULTS!O34","v":" Block 2 Player 10"},{"$f":"RESULTS!P34","v":-1E-3},{"$f":"RESULTS!Q34","v":-1E-3}]
[null,null,null,null,null,null,null,null,{"$f":"RESULTS!O35","v":" Block 2 Player 7"},{"$f":"RESULTS!P35","v":-1E-3},{"$f":"RESULTS!Q35","v":-1E-3}]
[null,{"$f":"IF(J170<0,\"\",IF(J170>J171,I170,I171))","v":""},{"$f":"IF(J170<0,\"\",IF(J170>J171,J170,J171))","v":""},"d.",{"$f":"IF(J170<0,\"\",IF(J170>J171,I171,I170))","v":""},{"$f":"IF(J170<0,\"\",IF(J170>J171,J171,J170))","v":""},{"$f":"IF(B170=\"\",\"\",IF(ISTEXT(K170),K170,IF(ISTEXT(K171),K171,\"\")))","v":""},null,{"$f":"RESULTS!O36","v":" Block 2 Player 9"},{"$f":"RESULTS!P36","v":-1E-3},{"$f":"RESULTS!Q36","v":-1E-3}]
[null,null,null,null,null,null,null,null,{"$f":"RESULTS!O37","v":" Block 2 Player 8"},{"$f":"RESULTS!P37","v":-1E-3},{"$f":"RESULTS!Q37","v":-1E-3}]
[null,{"$f":"IF(J172<0,\"\",IF(J172>J173,I172,I173))","v":""},{"$f":"IF(J172<0,\"\",IF(J172>J173,J172,J173))","v":""},"d.",{"$f":"IF(J172<0,\"\",IF(J172>J173,I173,I172))","v":""},{"$f":"IF(J172<0,\"\",IF(J172>J173,J173,J172))","v":""},{"$f":"IF(B172=\"\",\"\",IF(ISTEXT(K172),K172,IF(ISTEXT(K173),K173,\"\")))","v":""},null,{"$f":"RESULTS!O38","v":" Block 2 Player 1"},{"$f":"RESULTS!P38","v":-1E-3},{"$f":"RESULTS!Q38","v":-1E-3}]
[null,null,null,null,null,null,null,null,{"$f":"RESULTS!O39","v":" Block 2 Player 3"},{"$f":"RESULTS!P39","v":-1E-3},{"$f":"RESULTS!Q39","v":-1E-3}]
[null,{"$f":"IF(J174<0,\"\",IF(J174>J175,I174,I175))","v":""},{"$f":"IF(J174<0,\"\",IF(J174>J175,J174,J175))","v":""},"d.",{"$f":"IF(J174<0,\"\",IF(J174>J175,I175,I174))","v":""},{"$f":"IF(J174<0,\"\",IF(J174>J175,J175,J174))","v":""},{"$f":"IF(B174=\"\",\"\",IF(ISTEXT(K174),K174,IF(ISTEXT(K175),K175,\"\")))","v":""},null,{"$f":"RESULTS!O40","v":" Block 2 Player 2"},{"$f":"RESULTS!P40","v":-1E-3},{"$f":"RESULTS!Q40","v":-1E-3}]
[null,null,null,null,null,null,null,null,{"$f":"RESULTS!O41","v":" Block 2 Player 4"},{"$f":"RESULTS!P41","v":-1E-3},{"$f":"RESULTS!Q41","v":-1E-3}]
[null,{"$f":"IF(J176<0,\"\",IF(J176>J177,I176,I177))","v":""},{"$f":"IF(J176<0,\"\",IF(J176>J177,J176,J177))","v":""},"d.",{"$f":"IF(J176<0,\"\",IF(J176>J177,I177,I176))","v":""},{"$f":"IF(J176<0,\"\",IF(J176>J177,J177,J176))","v":""},{"$f":"IF(B176=\"\",\"\",IF(ISTEXT(K176),K176,IF(ISTEXT(K177),K177,\"\")))","v":""},null,{"$f":"RESULTS!O42","v":" Block 2 Player 10"},{"$f":"RESULTS!P42","v":-1E-3},{"$f":"RESULTS!Q42","v":-1E-3}]
[null,null,null,null,null,null,null,null,{"$f":"RESULTS!O43","v":" Block 2 Player 5"},{"$f":"RESULTS!P43","v":-1E-3},{"$f":"RESULTS!Q43","v":-1E-3}]
[null,{"$f":"IF(J178<0,\"\",IF(J178>J179,I178,I179))","v":""},{"$f":"IF(J178<0,\"\",IF(J178>J179,J178,J179))","v":""},"d.",{"$f":"IF(J178<0,\"\",IF(J178>J179,I179,I178))","v":""},{"$f":"IF(J178<0,\"\",IF(J178>J179,J179,J178))","v":""},{"$f":"IF(B178=\"\",\"\",IF(ISTEXT(K178),K178,IF(ISTEXT(K179),K179,\"\")))","v":""},null,{"$f":"RESULTS!O44","v":" Block 2 Player 9"},{"$f":"RESULTS!P44","v":-1E-3},{"$f":"RESULTS!Q44","v":-1E-3}]
[null,null,null,null,null,null,null,null,{"$f":"RESULTS!O45","v":" Block 2 Player 6"},{"$f":"RESULTS!P45","v":-1E-3},{"$f":"RESULTS!Q45","v":-1E-3}]
[null,{"$f":"IF(J180<0,\"\",IF(J180>J181,I180,I181))","v":""},{"$f":"IF(J180<0,\"\",IF(J180>J181,J180,J181))","v":""},"d.",{"$f":"IF(J180<0,\"\",IF(J180>J181,I181,I180))","v":""},{"$f":"IF(J180<0,\"\",IF(J180>J181,J181,J180))","v":""},{"$f":"IF(B180=\"\",\"\",IF(ISTEXT(K180),K180,IF(ISTEXT(K181),K181,\"\")))","v":""},null,{"$f":"RESULTS!O46","v":" Block 2 Player 8"},{"$f":"RESULTS!P46","v":-1E-3},{"$f":"RESULTS!Q46","v":-1E-3}]
[null,null,null,null,null,null,null,null,{"$f":"RESULTS!O47","v":" Block 2 Player 7"},{"$f":"RESULTS!P47","v":-1E-3},{"$f":"RESULTS!Q47","v":-1E-3}]
[null,{"$f":"IF(J182<0,\"\",IF(J182>J183,I182,I183))","v":""},{"$f":"IF(J182<0,\"\",IF(J182>J183,J182,J183))","v":""},"d.",{"$f":"IF(J182<0,\"\",IF(J182>J183,I183,I182))","v":""},{"$f":"IF(J182<0,\"\",IF(J182>J183,J183,J182))","v":""},{"$f":"IF(B182=\"\",\"\",IF(ISTEXT(K182),K182,IF(ISTEXT(K183),K183,\"\")))","v":""},null,{"$f":"RESULTS!S28","v":" Block 2 Player 1"},{"$f":"RESULTS!T28","v":-1E-3},{"$f":"RESULTS!U28","v":-1E-3}]
[null,null,null,null,null,null,null,null,{"$f":"RESULTS!S29","v":" Block 2 Player 2"},{"$f":"RESULTS!T29","v":-1E-3},{"$f":"RESULTS!U29","v":-1E-3}]
[null,{"$f":"IF(J184<0,\"\",IF(J184>J185,I184,I185))","v":""},{"$f":"IF(J184<0,\"\",IF(J184>J185,J184,J185))","v":""},"d.",{"$f":"IF(J184<0,\"\",IF(J184>J185,I185,I184))","v":""},{"$f":"IF(J184<0,\"\",IF(J184>J185,J185,J184))","v":""},{"$f":"IF(B184=\"\",\"\",IF(ISTEXT(K184),K184,IF(ISTEXT(K185),K185,\"\")))","v":""},null,{"$f":"RESULTS!S30","v":" Block 2 Player 10"},{"$f":"RESULTS!T30","v":-1E-3},{"$f":"RESULTS!U30","v":-1E-3}]
[null,null,null,null,null,null,null,null,{"$f":"RESULTS!S31","v":" Block 2 Player 3"},{"$f":"RESULTS!T31","v":-1E-3},{"$f":"RESULTS!U31","v":-1E-3}]
[null,{"$f":"IF(J186<0,\"\",IF(J186>J187,I186,I187))","v":""},{"$f":"IF(J186<0,\"\",IF(J186>J187,J186,J187))","v":""},"d.",{"$f":"IF(J186<0,\"\",IF(J186>J187,I187,I186))","v":""},{"$f":"IF(J186<0,\"\",IF(J186>J187,J187,J186))","v":""},{"$f":"IF(B186=\"\",\"\",IF(ISTEXT(K186),K186,IF(ISTEXT(K187),K187,\"\")))","v":""},null,{"$f":"RESULTS!S32","v":" Block 2 Player 9"},{"$f":"RESULTS!T32","v":-1E-3},{"$f":"RESULTS!U32","v":-1E-3}]
[null,null,null,null,null,null,null,null,{"$f":"RESULTS!S33","v":" Block 2 Player 4"},{"$f":"RESULTS!T33","v":-1E-3},{"$f":"RESULTS!U33","v":-1E-3}]
[null,{"$f":"IF(J188<0,\"\",IF(J188>J189,I188,I189))","v":""},{"$f":"IF(J188<0,\"\",IF(J188>J189,J188,J189))","v":""},"d.",{"$f":"IF(J188<0,\"\",IF(J188>J189,I189,I188))","v":""},{"$f":"IF(J188<0,\"\",IF(J188>J189,J189,J188))","v":""},{"$f":"IF(B188=\"\",\"\",IF(ISTEXT(K188),K188,IF(ISTEXT(K189),K189,\"\")))","v":""},null,{"$f":"RESULTS!S34","v":" Block 2 Player 8"},{"$f":"RESULTS!T34","v":-1E-3},{"$f":"RESULTS!U34","v":-1E-3}]
[null,null,null,null,null,null,null,null,{"$f":"RESULTS!S35","v":" Block 2 Player 5"},{"$f":"RESULTS!T35","v":-1E-3},{"$f":"RESULTS!U35","v":-1E-3}]
[null,{"$f":"IF(J190<0,\"\",IF(J190>J191,I190,I191))","v":""},{"$f":"IF(J190<0,\"\",IF(J190>J191,J190,J191))","v":""},"d.",{"$f":"IF(J190<0,\"\",IF(J190>J191,I191,I190))","v":""},{"$f":"IF(J190<0,\"\",IF(J190>J191,J191,J190))","v":""},{"$f":"IF(B190=\"\",\"\",IF(ISTEXT(K190),K190,IF(ISTEXT(K191),K191,\"\")))","v":""},null,{"$f":"RESULTS!S36","v":" Block 2 Player 7"},{"$f":"RESULTS!T36","v":-1E-3},{"$f":"RESULTS!U36","v":-1E-3}]
[null,null,null,null,null,null,null,null,{"$f":"RESULTS!S37","v":" Block 2 Player 6"},{"$f":"RESULTS!T37","v":-1E-3},{"$f":"RESULTS!U37","v":-1E-3}]

{"sheet":"MISC","index":16,"n_rows":27,"n_cols":9,"rows_kept":27,"cut":false,"hidden":false,"merged":[[1,1,1,8],[2,1,3,2],[16,1,16,8],[4,1,4,8],[2,3,3,3],[2,5,3,5]]}
[]
[null,{"$f":"SEED!H2","v":"TOURNAMENT"}]
[null,"PLAYER",null,"H/CAP","BLOCK","WINS","POINTS","POINTS","NET"]
[null,null,null,null,"PLACE",null,"FOR","AGAINST","POINTS"]
[null,{"$f":"SEED!D5","v":"BLOCK 1"}]
[null,null,{"$f":"NAMES!C11 &\" \"& NAMES!C12","v":"Block 1 Player 1"},{"$f":"NAMES!C14","v":0},{"$f":"BLOCK!AM8","v":10},{"$f":"BLOCK!AH8","v":0},{"$f":"BLOCK!AI8","v":-9.0000000000000011E-3},{"$f":"BLOCK!AJ8","v":-9.0000000000000011E-3},{"$f":"BLOCK!AK8","v":0}]
[null,null,{"$f":"NAMES!C16 &\" \"& NAMES!C17","v":"Block 1 Player 2"},{"$f":"NAMES!C19","v":0},{"$f":"BLOCK!AM11","v":9},{"$f":"BLOCK!AH11","v":0},{"$f":"BLOCK!AI11","v":-9.0000000000000011E-3},{"$f":"BLOCK!AJ11","v":-9.0000000000000011E-3},{"$f":"BLOCK!AK11","v":0}]
[null,null,{"$f":"NAMES!C21 &\" \"& NAMES!C22","v":"Block 1 Player 3"},{"$f":"NAMES!C24","v":0},{"$f":"BLOCK!AM14","v":8},{"$f":"BLOCK!AH14","v":0},{"$f":"BLOCK!AI14","v":-9.0000000000000011E-3},{"$f":"BLOCK!AJ14","v":-9.0000000000000011E-3},{"$f":"BLOCK!AK14","v":0}]
[null,null,{"$f":"NAMES!C26&\" \"& NAMES!C27","v":"Block 1 Player 4"},{"$f":"NAMES!C29","v":0},{"$f":"BLOCK!AM17","v":7},{"$f":"BLOCK!AH17","v":0},{"$f":"BLOCK!AI17","v":-9.0000000000000011E-3},{"$f":"BLOCK!AJ17","v":-9.0000000000000011E-3},{"$f":"BLOCK!AK17","v":0}]
[null,null,{"$f":"NAMES!C31 &\" \"& NAMES!C32","v":"Block 1 Player 5"},{"$f":"NAMES!C34","v":0},{"$f":"BLOCK!AM20","v":6},{"$f":"BLOCK!AH20","v":0},{"$f":"BLOCK!AI20","v":-9.0000000000000011E-3},{"$f":"BLOCK!AJ20","v":-9.0000000000000011E-3},{"$f":"BLOCK!AK20","v":0}]
[null,null,{"$f":"NAMES!C36 &\" \"& NAMES!C37","v":"Block 1 Player 6"},{"$f":"NAMES!C39","v":0},{"$f":"BLOCK!AM23","v":5},{"$f":"BLOCK!AH23","v":0},{"$f":"BLOCK!AI23","v":-9.0000000000000011E-3},{"$f":"BLOCK!AJ23","v":-9.0000000000000011E-3},{"$f":"BLOCK!AK23","v":0}]
[null,null,{"$f":"NAMES!C41 &\" \"& NAMES!C42","v":"Block 1 Player 7"},{"$f":"NAMES!C44","v":0},{"$f":"BLOCK!AM26","v":4},{"$f":"BLOCK!AH26","v":0},{"$f":"BLOCK!AI26","v":-9.0000000000000011E-3},{"$f":"BLOCK!AJ26","v":-9.0000000000000011E-3},{"$f":"BLOCK!AK26","v":0}]
[null,null,{"$f":"NAMES!C46 &\" \"& NAMES!C47","v":"Block 1 Player 8"},{"$f":"NAMES!C49","v":0},{"$f":"BLOCK!AM29","v":3},{"$f":"BLOCK!AH29","v":0},{"$f":"BLOCK!AI29","v":-9.0000000000000011E-3},{"$f":"BLOCK!AJ29","v":-9.0000000000000011E-3},{"$f":"BLOCK!AK29","v":0}]
[null,null,{"$f":"NAMES!C51 &\" \"& NAMES!C52","v":"Block 1 Player 9"},{"$f":"NAMES!C54","v":0},{"$f":"BLOCK!AM32","v":2},{"$f":"BLOCK!AH32","v":0},{"$f":"BLOCK!AI32","v":-9.0000000000000011E-3},{"$f":"BLOCK!AJ32","v":-9.0000000000000011E-3},{"$f":"BLOCK!AK32","v":0}]
[null,null,{"$f":"NAMES!C56 &\" \"& NAMES!C57","v":"Block 1 Player 10"},{"$f":"NAMES!C59","v":0},{"$f":"BLOCK!AM35","v":1},{"$f":"BLOCK!AH35","v":0},{"$f":"BLOCK!AI35","v":-9.0000000000000011E-3},{"$f":"BLOCK!AJ35","v":-9.0000000000000011E-3},{"$f":"BLOCK!AK35","v":0}]
[]
[null,{"$f":"SEED!J5","v":"BLOCK 2"}]
[null,null,{"$f":"NAMES!C62 &\" \"& NAMES!C63","v":"Block 2 Player 1"},{"$f":"SEED!K7","v":0},{"$f":"BLOCK!AM45","v":10},{"$f":"BLOCK!AH45","v":0},{"$f":"BLOCK!AI45","v":-9.0000000000000011E-3},{"$f":"BLOCK!AJ45","v":-9.0000000000000011E-3},{"$f":"BLOCK!AK45","v":0}]
[null,null,{"$f":"NAMES!C67 &\" \"& NAMES!C68","v":"Block 2 Player 2"},{"$f":"SEED!K8","v":0},{"$f":"BLOCK!AM48","v":9},{"$f":"BLOCK!AH48","v":0},{"$f":"BLOCK!AI48","v":-9.0000000000000011E-3},{"$f":"BLOCK!AJ48","v":-9.0000000000000011E-3},{"$f":"BLOCK!AK48","v":0}]
[null,null,{"$f":"NAMES!C72 &\" \"& NAMES!C73","v":"Block 2 Player 3"},{"$f":"SEED!K9","v":0},{"$f":"BLOCK!AM51","v":8},{"$f":"BLOCK!AH51","v":0},{"$f":"BLOCK!AI51","v":-9.0000000000000011E-3},{"$f":"BLOCK!AJ51","v":-9.0000000000000011E-3},{"$f":"BLOCK!AK51","v":0}]
[null,null,{"$f":"NAMES!C77&\" \"& NAMES!C78","v":"Block 2 Player 4"},{"$f":"SEED!K10","v":0},{"$f":"BLOCK!AM54","v":7},{"$f":"BLOCK!AH54","v":0},{"$f":"BLOCK!AI54","v":-9.0000000000000011E-3},{"$f":"BLOCK!AJ54","v":-9.0000000000000011E-3},{"$f":"BLOCK!AK54","v":0}]
[null,null,{"$f":"NAMES!C82 &\" \"& NAMES!C83","v":"Block 2 Player 5"},{"$f":"SEED!K11","v":0},{"$f":"BLOCK!AM57","v":6},{"$f":"BLOCK!AH57","v":0},{"$f":"BLOCK!AI57","v":-9.0000000000000011E-3},{"$f":"BLOCK!AJ57","v":-9.0000000000000011E-3},{"$f":"BLOCK!AK57","v":0}]
[null,null,{"$f":"NAMES!C87 &\" \"& NAMES!C88","v":"Block 2 Player 6"},{"$f":"SEED!K12","v":0},{"$f":"BLOCK!AM60","v":5},{"$f":"BLOCK!AH60","v":0},{"$f":"BLOCK!AI60","v":-9.0000000000000011E-3},{"$f":"BLOCK!AJ60","v":-9.0000000000000011E-3},{"$f":"BLOCK!AK60","v":0}]
[null,null,{"$f":"NAMES!C92 &\" \"& NAMES!C93","v":"Block 2 Player 7"},{"$f":"NAMES!C95","v":0},{"$f":"BLOCK!AM63","v":4},{"$f":"BLOCK!AH63","v":0},{"$f":"BLOCK!AI63","v":-9.0000000000000011E-3},{"$f":"BLOCK!AJ63","v":-9.0000000000000011E-3},{"$f":"BLOCK!AK63","v":0}]
[null,null,{"$f":"NAMES!C97 &\" \"& NAMES!C98","v":"Block 2 Player 8"},{"$f":"NAMES!C100","v":0},{"$f":"BLOCK!AM66","v":3},{"$f":"BLOCK!AH66","v":0},{"$f":"BLOCK!AI66","v":-9.0000000000000011E-3},{"$f":"BLOCK!AJ66","v":-9.0000000000000011E-3},{"$f":"BLOCK!AK66","v":0}]
[null,null,{"$f":"NAMES!C102 &\" \"& NAMES!C103","v":"Block 2 Player 9"},{"$f":"NAMES!C105","v":0},{"$f":"BLOCK!AM69","v":2},{"$f":"BLOCK!AH69","v":0},{"$f":"BLOCK!AI69","v":-9.0000000000000011E-3},{"$f":"BLOCK!AJ69","v":-9.0000000000000011E-3},{"$f":"BLOCK!AK69","v":0}]
[null,null,{"$f":"NAMES!C107 &\" \"& NAMES!C108","v":"Block 2 Player 10"},{"$f":"NAMES!C110","v":0},{"$f":"BLOCK!AM72","v":1},{"$f":"BLOCK!AH72","v":0},{"$f":"BLOCK!AI72","v":-9.0000000000000011E-3},{"$f":"BLOCK!AJ72","v":-9.0000000000000011E-3},{"$f":"BLOCK!AK72","v":0}]

{"sheet":"BLOCK SCHEDULE","index":17,"n_rows":105,"n_cols":7,"rows_kept":105,"cut":false,"hidden":false,"merged":[[2,1,2,6],[4,1,4,6],[5,1,5,6],[6,1,6,6],[3,1,3,6],[10,4,10,6],[58,1,58,3],[58,4,58,6],[59,4,59,6],[7,1,7,6],[9,1,9,3],[9,4,9,6]]}
[]
[]
[null,{"$f":"NAMES!$C$7","v":"TOURNAMENT"}]
[null,{"$f":"NAMES!$C$9","v":"DATE"}]
[null,{"$f":"NAMES!E22","v":"Time limit 2.5 hours, Turn After Bell (61.1.6). Quadway hoops (3 11/16\"), Dawson International balls"}]
[null,{"$f":"NAMES!E23","v":"Games may start early. Please be at the venue at least 30 minutes earlier than the scheduled start time."}]
[null,{"$f":"NAMES!E24","v":"Entry Fee $40 will be invoiced by email. Please pay by EFT using the invoice No. as reference."}]
[null,{"$f":"NAMES!E25","v":"Players please assist with setting and clearing courts."}]
[]
[null,{"$f":"\"SCHEDULE     \" &NAMES!$C$10","v":"SCHEDULE     BLOCK 1"},null,null,{"$f":"NAMES!$C$8","v":"GROUP"}]
[null,"TIME","DAY","COURT","PLAYERS"]
[null,{"$f":"GAMES!B4","v":"00:00:00"},{"$f":"GAMES!C4","v":"00:00:00"},{"$f":"GAMES!D4","v":0},{"$f":"GAMES!E4","v":" Block 1 Player 2"},{"$f":"GAMES!F4","v":"vs"},{"$f":"GAMES!G4","v":" Block 1 Player 9"}]
[null,{"$f":"GAMES!B5","v":"00:00:00"},{"$f":"GAMES!C5","v":"00:00:00"},{"$f":"GAMES!D5","v":0},{"$f":"GAMES!E5","v":" Block 1 Player 3"},{"$f":"GAMES!F5","v":"vs"},{"$f":"GAMES!G5","v":" Block 1 Player 8"}]
[null,{"$f":"GAMES!B6","v":"00:00:00"},{"$f":"GAMES!C6","v":"00:00:00"},{"$f":"GAMES!D6","v":0},{"$f":"GAMES!E6","v":" Block 1 Player 4"},{"$f":"GAMES!F6","v":"vs"},{"$f":"GAMES!G6","v":" Block 1 Player 7"}]
[null,{"$f":"GAMES!B7","v":"00:00:00"},{"$f":"GAMES!C7","v":"00:00:00"},{"$f":"GAMES!D7","v":0},{"$f":"GAMES!E7","v":" Block 1 Player 5"},{"$f":"GAMES!F7","v":"vs"},{"$f":"GAMES!G7","v":" Block 1 Player 6"}]
[null,{"$f":"GAMES!B3","v":"00:00:00"},{"$f":"GAMES!C3","v":"00:00:00"},{"$f":"GAMES!D3","v":0},{"$f":"GAMES!E3","v":" Block 1 Player 1"},{"$f":"GAMES!F3","v":"vs"},{"$f":"GAMES!G3","v":" Block 1 Player 10"}]
[null,{"$f":"GAMES!B8","v":"00:00:00"},{"$f":"GAMES!C8","v":"00:00:00"},{"$f":"GAMES!D8","v":0},{"$f":"GAMES!E8","v":" Block 1 Player 1"},{"$f":"GAMES!F8","v":"vs"},{"$f":"GAMES!G8","v":" Block 1 Player 9"}]
[null,{"$f":"GAMES!B9","v":"00:00:00"},{"$f":"GAMES!C9","v":"00:00:00"},{"$f":"GAMES!D9","v":0},{"$f":"GAMES!E9","v":" Block 1 Player 8"},{"$f":"GAMES!F9","v":"vs"},{"$f":"GAMES!G9","v":" Block 1 Player 10"}]
[null,{"$f":"GAMES!B10","v":"00:00:00"},{"$f":"GAMES!C10","v":"00:00:00"},{"$f":"GAMES!D10","v":0},{"$f":"GAMES!E10","v":" Block 1 Player 7"},{"$f":"GAMES!F10","v":"vs"},{"$f":"GAMES!G10","v":" Block 1 Player 2"}]
[null,{"$f":"GAMES!B11","v":"00:00:00"},{"$f":"GAMES!C11","v":"00:00:00"},{"$f":"GAMES!D11","v":0},{"$f":"GAMES!E11","v":" Block 1 Player 6"},{"$f":"GAMES!F11","v":"vs"},{"$f":"GAMES!G11","v":" Block 1 Player 3"}]
[null,{"$f":"GAMES!B12","v":"00:00:00"},{"$f":"GAMES!C12","v":"00:00:00"},{"$f":"GAMES!D12","v":0},{"$f":"GAMES!E12","v":" Block 1 Player 5"},{"$f":"GAMES!F12","v":"vs"},{"$f":"GAMES!G12","v":" Block 1 Player 4"}]
[null,{"$f":"GAMES!B13","v":"00:00:00"},{"$f":"GAMES!C13","v":"00:00:00"},{"$f":"GAMES!D13","v":0},{"$f":"GAMES!E13","v":" Block 1 Player 1"},{"$f":"GAMES!F13","v":"vs"},{"$f":"GAMES!G13","v":" Block 1 Player 8"}]
[null,{"$f":"GAMES!B14","v":"00:00:00"},{"$f":"GAMES!C14","v":"00:00:00"},{"$f":"GAMES!D14","v":0},{"$f":"GAMES!E14","v":" Block 1 Player 7"},{"$f":"GAMES!F14","v":"vs"},{"$f":"GAMES!G14","v":" Block 1 Player 9"}]
[null,{"$f":"GAMES!B15","v":"00:00:00"},{"$f":"GAMES!C15","v":"00:00:00"},{"$f":"GAMES!D15","v":0},{"$f":"GAMES!E15","v":" Block 1 Player 6"},{"$f":"GAMES!F15","v":"vs"},{"$f":"GAMES!G15","v":" Block 1 Player 10"}]
[null,{"$f":"GAMES!B16","v":"00:00:00"},{"$f":"GAMES!C16","v":"00:00:00"},{"$f":"GAMES!D16","v":0},{"$f":"GAMES!E16","v":" Block 1 Player 5"},{"$f":"GAMES!F16","v":"vs"},{"$f":"GAMES!G16","v":" Block 1 Player 2"}]
[null,{"$f":"GAMES!B17","v":"00:00:00"},{"$f":"GAMES!C17","v":"00:00:00"},{"$f":"GAMES!D17","v":0},{"$f":"GAMES!E17","v":" Block 1 Player 4"},{"$f":"GAMES!F17","v":"vs"},{"$f":"GAMES!G17","v":" Block 1 Player 3"}]
[null,{"$f":"GAMES!B18","v":"00:00:00"},{"$f":"GAMES!C18","v":"00:00:00"},{"$f":"GAMES!D18","v":0},{"$f":"GAMES!E18","v":" Block 1 Player 1"},{"$f":"GAMES!F18","v":"vs"},{"$f":"GAMES!G18","v":" Block 1 Player 7"}]
[null,{"$f":"GAMES!B19","v":"00:00:00"},{"$f":"GAMES!C19","v":"00:00:00"},{"$f":"GAMES!D19","v":0},{"$f":"GAMES!E19","v":" Block 1 Player 6"},{"$f":"GAMES!F19","v":"vs"},{"$f":"GAMES!G19","v":" Block 1 Player 8"}]
[null,{"$f":"GAMES!B20","v":"00:00:00"},{"$f":"GAMES!C20","v":"00:00:00"},{"$f":"GAMES!D20","v":0},{"$f":"GAMES!E20","v":" Block 1 Player 5"},{"$f":"GAMES!F20","v":"vs"},{"$f":"GAMES!G20","v":" Block 1 Player 9"}]
[null,{"$f":"GAMES!B21","v":"00:00:00"},{"$f":"GAMES!C21","v":"00:00:00"},{"$f":"GAMES!D21","v":0},{"$f":"GAMES!E21","v":" Block 1 Player 4"},{"$f":"GAMES!F21","v":"vs"},{"$f":"GAMES!G21","v":" Block 1 Player 10"}]
[null,{"$f":"GAMES!B22","v":"00:00:00"},{"$f":"GAMES!C22","v":"00:00:00"},{"$f":"GAMES!D22","v":0},{"$f":"GAMES!E22","v":" Block 1 Player 3"},{"$f":"GAMES!F22","v":"vs"},{"$f":"GAMES!G22","v":" Block 1 Player 2"}]
[null,{"$f":"GAMES!B23","v":"00:00:00"},{"$f":"GAMES!C23","v":"00:00:00"},{"$f":"GAMES!D23","v":0},{"$f":"GAMES!E23","v":" Block 1 Player 1"},{"$f":"GAMES!F23","v":"vs"},{"$f":"GAMES!G23","v":" Block 1 Player 6"}]
[null,{"$f":"GAMES!B24","v":"00:00:00"},{"$f":"GAMES!C24","v":"00:00:00"},{"$f":"GAMES!D24","v":0},{"$f":"GAMES!E24","v":" Block 1 Player 5"},{"$f":"GAMES!F24","v":"vs"},{"$f":"GAMES!G24","v":" Block 1 Player 7"}]
[null,{"$f":"GAMES!B25","v":"00:00:00"},{"$f":"GAMES!C25","v":"00:00:00"},{"$f":"GAMES!D25","v":0},{"$f":"GAMES!E25","v":" Block 1 Player 4"},{"$f":"GAMES!F25","v":"vs"},{"$f":"GAMES!G25","v":" Block 1 Player 8"}]
[null,{"$f":"GAMES!B26","v":"00:00:00"},{"$f":"GAMES!C26","v":"00:00:00"},{"$f":"GAMES!D26","v":0},{"$f":"GAMES!E26","v":" Block 1 Player 3"},{"$f":"GAMES!F26","v":"vs"},{"$f":"GAMES!G26","v":" Block 1 Player 9"}]
[null,{"$f":"GAMES!B27","v":"00:00:00"},{"$f":"GAMES!C27","v":"00:00:00"},{"$f":"GAMES!D27","v":0},{"$f":"GAMES!E27","v":" Block 1 Player 2"},{"$f":"GAMES!F27","v":"vs"},{"$f":"GAMES!G27","v":" Block 1 Player 10"}]
[null,{"$f":"GAMES!B28","v":"00:00:00"},{"$f":"GAMES!C28","v":"00:00:00"},{"$f":"GAMES!D28","v":0},{"$f":"GAMES!E28","v":" Block 1 Player 1"},{"$f":"GAMES!F28","v":"vs"},{"$f":"GAMES!G28","v":" Block 1 Player 5"}]
[null,{"$f":"GAMES!B29","v":"00:00:00"},{"$f":"GAMES!C29","v":"00:00:00"},{"$f":"GAMES!D29","v":0},{"$f":"GAMES!E29","v":" Block 1 Player 4"},{"$f":"GAMES!F29","v":"vs"},{"$f":"GAMES!G29","v":" Block 1 Player 6"}]
[null,{"$f":"GAMES!B30","v":"00:00:00"},{"$f":"GAMES!C30","v":"00:00:00"},{"$f":"GAMES!D30","v":0},{"$f":"GAMES!E30","v":" Block 1 Player 3"},{"$f":"GAMES!F30","v":"vs"},{"$f":"GAMES!G30","v":" Block 1 Player 7"}]
[null,{"$f":"GAMES!B31","v":"00:00:00"},{"$f":"GAMES!C31","v":"00:00:00"},{"$f":"GAMES!D31","v":0},{"$f":"GAMES!E31","v":" Block 1 Player 2"},{"$f":"GAMES!F31","v":"vs"},{"$f":"GAMES!G31","v":" Block 1 Player 8"}]
[null,{"$f":"GAMES!B32","v":"00:00:00"},{"$f":"GAMES!C32","v":"00:00:00"},{"$f":"GAMES!D32","v":0},{"$f":"GAMES!E32","v":" Block 1 Player 10"},{"$f":"GAMES!F32","v":"vs"},{"$f":"GAMES!G32","v":" Block 1 Player 9"}]
[null,{"$f":"GAMES!B33","v":"00:00:00"},{"$f":"GAMES!C33","v":"00:00:00"},{"$f":"GAMES!D33","v":0},{"$f":"GAMES!E33","v":" Block 1 Player 1"},{"$f":"GAMES!F33","v":"vs"},{"$f":"GAMES!G33","v":" Block 1 Player 4"}]
[null,{"$f":"GAMES!B34","v":"00:00:00"},{"$f":"GAMES!C34","v":"00:00:00"},{"$f":"GAMES!D34","v":0},{"$f":"GAMES!E34","v":" Block 1 Player 5"},{"$f":"GAMES!F34","v":"vs"},{"$f":"GAMES!G34","v":" Block 1 Player 3"}]
[null,{"$f":"GAMES!B35","v":"00:00:00"},{"$f":"GAMES!C35","v":"00:00:00"},{"$f":"GAMES!D35","v":0},{"$f":"GAMES!E35","v":" Block 1 Player 2"},{"$f":"GAMES!F35","v":"vs"},{"$f":"GAMES!G35","v":" Block 1 Player 6"}]
[null,{"$f":"GAMES!B36","v":"00:00:00"},{"$f":"GAMES!C36","v":"00:00:00"},{"$f":"GAMES!D36","v":0},{"$f":"GAMES!E36","v":" Block 1 Player 10"},{"$f":"GAMES!F36","v":"vs"},{"$f":"GAMES!G36","v":" Block 1 Player 7"}]
[null,{"$f":"GAMES!B37","v":"00:00:00"},{"$f":"GAMES!C37","v":"00:00:00"},{"$f":"GAMES!D37","v":0},{"$f":"GAMES!E37","v":" Block 1 Player 9"},{"$f":"GAMES!F37","v":"vs"},{"$f":"GAMES!G37","v":" Block 1 Player 8"}]
[null,{"$f":"GAMES!B38","v":"00:00:00"},{"$f":"GAMES!C38","v":"00:00:00"},{"$f":"GAMES!D38","v":0},{"$f":"GAMES!E38","v":" Block 1 Player 1"},{"$f":"GAMES!F38","v":"vs"},{"$f":"GAMES!G38","v":" Block 1 Player 3"}]
[null,{"$f":"GAMES!B39","v":"00:00:00"},{"$f":"GAMES!C39","v":"00:00:00"},{"$f":"GAMES!D39","v":0},{"$f":"GAMES!E39","v":" Block 1 Player 2"},{"$f":"GAMES!F39","v":"vs"},{"$f":"GAMES!G39","v":" Block 1 Player 4"}]
[null,{"$f":"GAMES!B40","v":"00:00:00"},{"$f":"GAMES!C40","v":"00:00:00"},{"$f":"GAMES!D40","v":0},{"$f":"GAMES!E40","v":" Block 1 Player 10"},{"$f":"GAMES!F40","v":"vs"},{"$f":"GAMES!G40","v":" Block 1 Player 5"}]
[null,{"$f":"GAMES!B41","v":"00:00:00"},{"$f":"GAMES!C41","v":"00:00:00"},{"$f":"GAMES!D41","v":0},{"$f":"GAMES!E41","v":" Block 1 Player 9"},{"$f":"GAMES!F41","v":"vs"},{"$f":"GAMES!G41","v":" Block 1 Player 6"}]
[null,{"$f":"GAMES!B42","v":"00:00:00"},{"$f":"GAMES!C42","v":"00:00:00"},{"$f":"GAMES!D42","v":0},{"$f":"GAMES!E42","v":" Block 1 Player 8"},{"$f":"GAMES!F42","v":"vs"},{"$f":"GAMES!G42","v":" Block 1 Player 7"}]
[null,{"$f":"GAMES!B43","v":"00:00:00"},{"$f":"GAMES!C43","v":"00:00:00"},{"$f":"GAMES!D43","v":0},{"$f":"GAMES!E43","v":" Block 1 Player 1"},{"$f":"GAMES!F43","v":"vs"},{"$f":"GAMES!G43","v":" Block 1 Player 2"}]
[null,{"$f":"GAMES!B44","v":"00:00:00"},{"$f":"GAMES!C44","v":"00:00:00"},{"$f":"GAMES!D44","v":0},{"$f":"GAMES!E44","v":" Block 1 Player 10"},{"$f":"GAMES!F44","v":"vs"},{"$f":"GAMES!G44","v":" Block 1 Player 3"}]
[null,{"$f":"GAMES!B45","v":"00:00:00"},{"$f":"GAMES!C45","v":"00:00:00"},{"$f":"GAMES!D45","v":0},{"$f":"GAMES!E45","v":" Block 1 Player 9"},{"$f":"GAMES!F45","v":"vs"},{"$f":"GAMES!G45","v":" Block 1 Player 4"}]
[null,{"$f":"GAMES!B46","v":"00:00:00"},{"$f":"GAMES!C46","v":"00:00:00"},{"$f":"GAMES!D46","v":0},{"$f":"GAMES!E46","v":" Block 1 Player 8"},{"$f":"GAMES!F46","v":"vs"},{"$f":"GAMES!G46","v":" Block 1 Player 5"}]
[null,{"$f":"GAMES!B47","v":"00:00:00"},{"$f":"GAMES!C47","v":"00:00:00"},{"$f":"GAMES!D47","v":0},{"$f":"GAMES!E47","v":" Block 1 Player 7"},{"$f":"GAMES!F47","v":"vs"},{"$f":"GAMES!G47","v":" Block 1 Player 6"}]
[]
[]
[null,{"$f":"\"SCHEDULE     \" &NAMES!$C$61","v":"SCHEDULE     BLOCK 2"},null,null,{"$f":"NAMES!$C$8","v":"GROUP"}]
[null,"TIME","DAY","COURT","PLAYERS"]
[null,{"$f":"GAMES!B52","v":"00:00:00"},{"$f":"GAMES!C52","v":"00:00:00"},{"$f":"GAMES!D52","v":0},{"$f":"GAMES!E52","v":" Block 2 Player 2"},{"$f":"GAMES!F52","v":"vs"},{"$f":"GAMES!G52","v":" Block 2 Player 9"}]
[null,{"$f":"GAMES!B53","v":"00:00:00"},{"$f":"GAMES!C53","v":"00:00:00"},{"$f":"GAMES!D53","v":0},{"$f":"GAMES!E53","v":" Block 2 Player 3"},{"$f":"GAMES!F53","v":"vs"},{"$f":"GAMES!G53","v":" Block 2 Player 8"}]
[null,{"$f":"GAMES!B54","v":"00:00:00"},{"$f":"GAMES!C54","v":"00:00:00"},{"$f":"GAMES!D54","v":0},{"$f":"GAMES!E54","v":" Block 2 Player 4"},{"$f":"GAMES!F54","v":"vs"},{"$f":"GAMES!G54","v":" Block 2 Player 7"}]
[null,{"$f":"GAMES!B55","v":"00:00:00"},{"$f":"GAMES!C55","v":"00:00:00"},{"$f":"GAMES!D55","v":0},{"$f":"GAMES!E55","v":" Block 2 Player 5"},{"$f":"GAMES!F55","v":"vs"},{"$f":"GAMES!G55","v":" Block 2 Player 6"}]
[null,{"$f":"GAMES!B51","v":"00:00:00"},{"$f":"GAMES!C51","v":"00:00:00"},{"$f":"GAMES!D51","v":0},{"$f":"GAMES!E51","v":" Block 2 Player 1"},{"$f":"GAMES!F51","v":"vs"},{"$f":"GAMES!G51","v":" Block 2 Player 10"}]
[null,{"$f":"GAMES!B56","v":"00:00:00"},{"$f":"GAMES!C56","v":"00:00:00"},{"$f":"GAMES!D56","v":0},{"$f":"GAMES!E56","v":" Block 2 Player 1"},{"$f":"GAMES!F56","v":"vs"},{"$f":"GAMES!G56","v":" Block 2 Player 9"}]
[null,{"$f":"GAMES!B57","v":"00:00:00"},{"$f":"GAMES!C57","v":"00:00:00"},{"$f":"GAMES!D57","v":0},{"$f":"GAMES!E57","v":" Block 2 Player 8"},{"$f":"GAMES!F57","v":"vs"},{"$f":"GAMES!G57","v":" Block 2 Player 10"}]
[null,{"$f":"GAMES!B58","v":"00:00:00"},{"$f":"GAMES!C58","v":"00:00:00"},{"$f":"GAMES!D58","v":0},{"$f":"GAMES!E58","v":" Block 2 Player 7"},{"$f":"GAMES!F58","v":"vs"},{"$f":"GAMES!G58","v":" Block 2 Player 2"}]
[null,{"$f":"GAMES!B59","v":"00:00:00"},{"$f":"GAMES!C59","v":"00:00:00"},{"$f":"GAMES!D59","v":0},{"$f":"GAMES!E59","v":" Block 2 Player 6"},{"$f":"GAMES!F59","v":"vs"},{"$f":"GAMES!G59","v":" Block 2 Player 3"}]
[null,{"$f":"GAMES!B60","v":"00:00:00"},{"$f":"GAMES!C60","v":"00:00:00"},{"$f":"GAMES!D60","v":0},{"$f":"GAMES!E60","v":" Block 2 Player 5"},{"$f":"GAMES!F60","v":"vs"},{"$f":"GAMES!G60","v":" Block 2 Player 4"}]
[null,{"$f":"GAMES!B61","v":"00:00:00"},{"$f":"GAMES!C61","v":"00:00:00"},{"$f":"GAMES!D61","v":0},{"$f":"GAMES!E61","v":" Block 2 Player 1"},{"$f":"GAMES!F61","v":"vs"},{"$f":"GAMES!G61","v":" Block 2 Player 8"}]
[null,{"$f":"GAMES!B62","v":"00:00:00"},{"$f":"GAMES!C62","v":"00:00:00"},{"$f":"GAMES!D62","v":0},{"$f":"GAMES!E62","v":" Block 2 Player 7"},{"$f":"GAMES!F62","v":"vs"},{"$f":"GAMES!G62","v":" Block 2 Player 9"}]
[null,{"$f":"GAMES!B63","v":"00:00:00"},{"$f":"GAMES!C63","v":"00:00:00"},{"$f":"GAMES!D63","v":0},{"$f":"GAMES!E63","v":" Block 2 Player 6"},{"$f":"GAMES!F63","v":"vs"},{"$f":"GAMES!G63","v":" Block 2 Player 10"}]
[null,{"$f":"GAMES!B64","v":"00:00:00"},{"$f":"GAMES!C64","v":"00:00:00"},{"$f":"GAMES!D64","v":0},{"$f":"GAMES!E64","v":" Block 2 Player 5"},{"$f":"GAMES!F64","v":"vs"},{"$f":"GAMES!G64","v":" Block 2 Player 2"}]
[null,{"$f":"GAMES!B65","v":"00:00:00"},{"$f":"GAMES!C65","v":"00:00:00"},{"$f":"GAMES!D65","v":0},{"$f":"GAMES!E65","v":" Block 2 Player 4"},{"$f":"GAMES!F65","v":"vs"},{"$f":"GAMES!G65","v":" Block 2 Player 3"}]
[null,{"$f":"GAMES!B66","v":"00:00:00"},{"$f":"GAMES!C66","v":"00:00:00"},{"$f":"GAMES!D66","v":0},{"$f":"GAMES!E66","v":" Block 2 Player 1"},{"$f":"GAMES!F66","v":"vs"},{"$f":"GAMES!G66","v":" Block 2 Player 7"}]
[null,{"$f":"GAMES!B67","v":"00:00:00"},{"$f":"GAMES!C67","v":"00:00:00"},{"$f":"GAMES!D67","v":0},{"$f":"GAMES!E67","v":" Block 2 Player 6"},{"$f":"GAMES!F67","v":"vs"},{"$f":"GAMES!G67","v":" Block 2 Player 8"}]
[null,{"$f":"GAMES!B68","v":"00:00:00"},{"$f":"GAMES!C68","v":"00:00:00"},{"$f":"GAMES!D68","v":0},{"$f":"GAMES!E68","v":" Block 2 Player 5"},{"$f":"GAMES!F68","v":"vs"},{"$f":"GAMES!G68","v":" Block 2 Player 9"}]
[null,{"$f":"GAMES!B69","v":"00:00:00"},{"$f":"GAMES!C69","v":"00:00:00"},{"$f":"GAMES!D69","v":0},{"$f":"GAMES!E69","v":" Block 2 Player 4"},{"$f":"GAMES!F69","v":"vs"},{"$f":"GAMES!G69","v":" Block 2 Player 10"}]
[null,{"$f":"GAMES!B70","v":"00:00:00"},{"$f":"GAMES!C70","v":"00:00:00"},{"$f":"GAMES!D70","v":0},{"$f":"GAMES!E70","v":" Block 2 Player 3"},{"$f":"GAMES!F70","v":"vs"},{"$f":"GAMES!G70","v":" Block 2 Player 2"}]
[null,{"$f":"GAMES!B71","v":"00:00:00"},{"$f":"GAMES!C71","v":"00:00:00"},{"$f":"GAMES!D71","v":0},{"$f":"GAMES!E71","v":" Block 2 Player 1"},{"$f":"GAMES!F71","v":"vs"},{"$f":"GAMES!G71","v":" Block 2 Player 6"}]
[null,{"$f":"GAMES!B72","v":"00:00:00"},{"$f":"GAMES!C72","v":"00:00:00"},{"$f":"GAMES!D72","v":0},{"$f":"GAMES!E72","v":" Block 2 Player 5"},{"$f":"GAMES!F72","v":"vs"},{"$f":"GAMES!G72","v":" Block 2 Player 7"}]
[null,{"$f":"GAMES!B73","v":"00:00:00"},{"$f":"GAMES!C73","v":"00:00:00"},{"$f":"GAMES!D73","v":0},{"$f":"GAMES!E73","v":" Block 2 Player 4"},{"$f":"GAMES!F73","v":"vs"},{"$f":"GAMES!G73","v":" Block 2 Player 8"}]
[null,{"$f":"GAMES!B74","v":"00:00:00"},{"$f":"GAMES!C74","v":"00:00:00"},{"$f":"GAMES!D74","v":0},{"$f":"GAMES!E74","v":" Block 2 Player 3"},{"$f":"GAMES!F74","v":"vs"},{"$f":"GAMES!G74","v":" Block 2 Player 9"}]
[null,{"$f":"GAMES!B75","v":"00:00:00"},{"$f":"GAMES!C75","v":"00:00:00"},{"$f":"GAMES!D75","v":0},{"$f":"GAMES!E75","v":" Block 2 Player 2"},{"$f":"GAMES!F75","v":"vs"},{"$f":"GAMES!G75","v":" Block 2 Player 10"}]
[null,{"$f":"GAMES!B76","v":"00:00:00"},{"$f":"GAMES!C76","v":"00:00:00"},{"$f":"GAMES!D76","v":0},{"$f":"GAMES!E76","v":" Block 2 Player 1"},{"$f":"GAMES!F76","v":"vs"},{"$f":"GAMES!G76","v":" Block 2 Player 5"}]
[null,{"$f":"GAMES!B77","v":"00:00:00"},{"$f":"GAMES!C77","v":"00:00:00"},{"$f":"GAMES!D77","v":0},{"$f":"GAMES!E77","v":" Block 2 Player 4"},{"$f":"GAMES!F77","v":"vs"},{"$f":"GAMES!G77","v":" Block 2 Player 6"}]
[null,{"$f":"GAMES!B78","v":"00:00:00"},{"$f":"GAMES!C78","v":"00:00:00"},{"$f":"GAMES!D78","v":0},{"$f":"GAMES!E78","v":" Block 2 Player 3"},{"$f":"GAMES!F78","v":"vs"},{"$f":"GAMES!G78","v":" Block 2 Player 7"}]
[null,{"$f":"GAMES!B79","v":"00:00:00"},{"$f":"GAMES!C79","v":"00:00:00"},{"$f":"GAMES!D79","v":0},{"$f":"GAMES!E79","v":" Block 2 Player 2"},{"$f":"GAMES!F79","v":"vs"},{"$f":"GAMES!G79","v":" Block 2 Player 8"}]
[null,{"$f":"GAMES!B80","v":"00:00:00"},{"$f":"GAMES!C80","v":"00:00:00"},{"$f":"GAMES!D80","v":0},{"$f":"GAMES!E80","v":" Block 2 Player 10"},{"$f":"GAMES!F80","v":"vs"},{"$f":"GAMES!G80","v":" Block 2 Player 9"}]
[null,{"$f":"GAMES!B81","v":"00:00:00"},{"$f":"GAMES!C81","v":"00:00:00"},{"$f":"GAMES!D81","v":0},{"$f":"GAMES!E81","v":" Block 2 Player 1"},{"$f":"GAMES!F81","v":"vs"},{"$f":"GAMES!G81","v":" Block 2 Player 4"}]
[null,{"$f":"GAMES!B82","v":"00:00:00"},{"$f":"GAMES!C82","v":"00:00:00"},{"$f":"GAMES!D82","v":0},{"$f":"GAMES!E82","v":" Block 2 Player 5"},{"$f":"GAMES!F82","v":"vs"},{"$f":"GAMES!G82","v":" Block 2 Player 3"}]
[null,{"$f":"GAMES!B83","v":"00:00:00"},{"$f":"GAMES!C83","v":"00:00:00"},{"$f":"GAMES!D83","v":0},{"$f":"GAMES!E83","v":" Block 2 Player 2"},{"$f":"GAMES!F83","v":"vs"},{"$f":"GAMES!G83","v":" Block 2 Player 6"}]
[null,{"$f":"GAMES!B84","v":"00:00:00"},{"$f":"GAMES!C84","v":"00:00:00"},{"$f":"GAMES!D84","v":0},{"$f":"GAMES!E84","v":" Block 2 Player 10"},{"$f":"GAMES!F84","v":"vs"},{"$f":"GAMES!G84","v":" Block 2 Player 7"}]
[null,{"$f":"GAMES!B85","v":"00:00:00"},{"$f":"GAMES!C85","v":"00:00:00"},{"$f":"GAMES!D85","v":0},{"$f":"GAMES!E85","v":" Block 2 Player 9"},{"$f":"GAMES!F85","v":"vs"},{"$f":"GAMES!G85","v":" Block 2 Player 8"}]
[null,{"$f":"GAMES!B86","v":"00:00:00"},{"$f":"GAMES!C86","v":"00:00:00"},{"$f":"GAMES!D86","v":0},{"$f":"GAMES!E86","v":" Block 2 Player 1"},{"$f":"GAMES!F86","v":"vs"},{"$f":"GAMES!G86","v":" Block 2 Player 3"}]
[null,{"$f":"GAMES!B87","v":"00:00:00"},{"$f":"GAMES!C87","v":"00:00:00"},{"$f":"GAMES!D87","v":0},{"$f":"GAMES!E87","v":" Block 2 Player 2"},{"$f":"GAMES!F87","v":"vs"},{"$f":"GAMES!G87","v":" Block 2 Player 4"}]
[null,{"$f":"GAMES!B88","v":"00:00:00"},{"$f":"GAMES!C88","v":"00:00:00"},{"$f":"GAMES!D88","v":0},{"$f":"GAMES!E88","v":" Block 2 Player 10"},{"$f":"GAMES!F88","v":"vs"},{"$f":"GAMES!G88","v":" Block 2 Player 5"}]
[null,{"$f":"GAMES!B89","v":"00:00:00"},{"$f":"GAMES!C89","v":"00:00:00"},{"$f":"GAMES!D89","v":0},{"$f":"GAMES!E89","v":" Block 2 Player 9"},{"$f":"GAMES!F89","v":"vs"},{"$f":"GAMES!G89","v":" Block 2 Player 6"}]
[null,{"$f":"GAMES!B90","v":"00:00:00"},{"$f":"GAMES!C90","v":"00:00:00"},{"$f":"GAMES!D90","v":0},{"$f":"GAMES!E90","v":" Block 2 Player 8"},{"$f":"GAMES!F90","v":"vs"},{"$f":"GAMES!G90","v":" Block 2 Player 7"}]
[null,{"$f":"GAMES!B91","v":"00:00:00"},{"$f":"GAMES!C91","v":"00:00:00"},{"$f":"GAMES!D91","v":0},{"$f":"GAMES!E91","v":" Block 2 Player 1"},{"$f":"GAMES!F91","v":"vs"},{"$f":"GAMES!G91","v":" Block 2 Player 2"}]
[null,{"$f":"GAMES!B92","v":"00:00:00"},{"$f":"GAMES!C92","v":"00:00:00"},{"$f":"GAMES!D92","v":0},{"$f":"GAMES!E92","v":" Block 2 Player 10"},{"$f":"GAMES!F92","v":"vs"},{"$f":"GAMES!G92","v":" Block 2 Player 3"}]
[null,{"$f":"GAMES!B93","v":"00:00:00"},{"$f":"GAMES!C93","v":"00:00:00"},{"$f":"GAMES!D93","v":0},{"$f":"GAMES!E93","v":" Block 2 Player 9"},{"$f":"GAMES!F93","v":"vs"},{"$f":"GAMES!G93","v":" Block 2 Player 4"}]
[null,{"$f":"GAMES!B94","v":"00:00:00"},{"$f":"GAMES!C94","v":"00:00:00"},{"$f":"GAMES!D94","v":0},{"$f":"GAMES!E94","v":" Block 2 Player 8"},{"$f":"GAMES!F94","v":"vs"},{"$f":"GAMES!G94","v":" Block 2 Player 5"}]
[null,{"$f":"GAMES!B95","v":"00:00:00"},{"$f":"GAMES!C95","v":"00:00:00"},{"$f":"GAMES!D95","v":0},{"$f":"GAMES!E95","v":" Block 2 Player 7"},{"$f":"GAMES!F95","v":"vs"},{"$f":"GAMES!G95","v":" Block 2 Player 6"}]

{"sheet":"SCHEDULE","index":18,"n_rows":92,"n_cols":7,"rows_kept":92,"cut":false,"hidden":false,"merged":[]}
[]
[null,"TIME","DAY","COURT","PLAYER 1","vs","PLAYER 2"]
[null,{"$f":"GAMES!B3","v":"00:00:00"},{"$f":"GAMES!C3","v":"00:00:00"},{"$f":"GAMES!D3","v":0},{"$f":"GAMES!E3","v":" Block 1 Player 1"},{"$f":"GAMES!F3","v":"vs"},{"$f":"GAMES!G3","v":" Block 1 Player 10"}]
[null,{"$f":"GAMES!B4","v":"00:00:00"},{"$f":"GAMES!C4","v":"00:00:00"},{"$f":"GAMES!D4","v":0},{"$f":"GAMES!E4","v":" Block 1 Player 2"},{"$f":"GAMES!F4","v":"vs"},{"$f":"GAMES!G4","v":" Block 1 Player 9"}]
[null,{"$f":"GAMES!B5","v":"00:00:00"},{"$f":"GAMES!C5","v":"00:00:00"},{"$f":"GAMES!D5","v":0},{"$f":"GAMES!E5","v":" Block 1 Player 3"},{"$f":"GAMES!F5","v":"vs"},{"$f":"GAMES!G5","v":" Block 1 Player 8"}]
[null,{"$f":"GAMES!B6","v":"00:00:00"},{"$f":"GAMES!C6","v":"00:00:00"},{"$f":"GAMES!D6","v":0},{"$f":"GAMES!E6","v":" Block 1 Player 4"},{"$f":"GAMES!F6","v":"vs"},{"$f":"GAMES!G6","v":" Block 1 Player 7"}]
[null,{"$f":"GAMES!B7","v":"00:00:00"},{"$f":"GAMES!C7","v":"00:00:00"},{"$f":"GAMES!D7","v":0},{"$f":"GAMES!E7","v":" Block 1 Player 5"},{"$f":"GAMES!F7","v":"vs"},{"$f":"GAMES!G7","v":" Block 1 Player 6"}]
[null,{"$f":"GAMES!B8","v":"00:00:00"},{"$f":"GAMES!C8","v":"00:00:00"},{"$f":"GAMES!D8","v":0},{"$f":"GAMES!E8","v":" Block 1 Player 1"},{"$f":"GAMES!F8","v":"vs"},{"$f":"GAMES!G8","v":" Block 1 Player 9"}]
[null,{"$f":"GAMES!B9","v":"00:00:00"},{"$f":"GAMES!C9","v":"00:00:00"},{"$f":"GAMES!D9","v":0},{"$f":"GAMES!E9","v":" Block 1 Player 8"},{"$f":"GAMES!F9","v":"vs"},{"$f":"GAMES!G9","v":" Block 1 Player 10"}]
[null,{"$f":"GAMES!B10","v":"00:00:00"},{"$f":"GAMES!C10","v":"00:00:00"},{"$f":"GAMES!D10","v":0},{"$f":"GAMES!E10","v":" Block 1 Player 7"},{"$f":"GAMES!F10","v":"vs"},{"$f":"GAMES!G10","v":" Block 1 Player 2"}]
[null,{"$f":"GAMES!B11","v":"00:00:00"},{"$f":"GAMES!C11","v":"00:00:00"},{"$f":"GAMES!D11","v":0},{"$f":"GAMES!E11","v":" Block 1 Player 6"},{"$f":"GAMES!F11","v":"vs"},{"$f":"GAMES!G11","v":" Block 1 Player 3"}]
[null,{"$f":"GAMES!B12","v":"00:00:00"},{"$f":"GAMES!C12","v":"00:00:00"},{"$f":"GAMES!D12","v":0},{"$f":"GAMES!E12","v":" Block 1 Player 5"},{"$f":"GAMES!F12","v":"vs"},{"$f":"GAMES!G12","v":" Block 1 Player 4"}]
[null,{"$f":"GAMES!B13","v":"00:00:00"},{"$f":"GAMES!C13","v":"00:00:00"},{"$f":"GAMES!D13","v":0},{"$f":"GAMES!E13","v":" Block 1 Player 1"},{"$f":"GAMES!F13","v":"vs"},{"$f":"GAMES!G13","v":" Block 1 Player 8"}]
[null,{"$f":"GAMES!B14","v":"00:00:00"},{"$f":"GAMES!C14","v":"00:00:00"},{"$f":"GAMES!D14","v":0},{"$f":"GAMES!E14","v":" Block 1 Player 7"},{"$f":"GAMES!F14","v":"vs"},{"$f":"GAMES!G14","v":" Block 1 Player 9"}]
[null,{"$f":"GAMES!B15","v":"00:00:00"},{"$f":"GAMES!C15","v":"00:00:00"},{"$f":"GAMES!D15","v":0},{"$f":"GAMES!E15","v":" Block 1 Player 6"},{"$f":"GAMES!F15","v":"vs"},{"$f":"GAMES!G15","v":" Block 1 Player 10"}]
[null,{"$f":"GAMES!B16","v":"00:00:00"},{"$f":"GAMES!C16","v":"00:00:00"},{"$f":"GAMES!D16","v":0},{"$f":"GAMES!E16","v":" Block 1 Player 5"},{"$f":"GAMES!F16","v":"vs"},{"$f":"GAMES!G16","v":" Block 1 Player 2"}]
[null,{"$f":"GAMES!B17","v":"00:00:00"},{"$f":"GAMES!C17","v":"00:00:00"},{"$f":"GAMES!D17","v":0},{"$f":"GAMES!E17","v":" Block 1 Player 4"},{"$f":"GAMES!F17","v":"vs"},{"$f":"GAMES!G17","v":" Block 1 Player 3"}]
[null,{"$f":"GAMES!B18","v":"00:00:00"},{"$f":"GAMES!C18","v":"00:00:00"},{"$f":"GAMES!D18","v":0},{"$f":"GAMES!E18","v":" Block 1 Player 1"},{"$f":"GAMES!F18","v":"vs"},{"$f":"GAMES!G18","v":" Block 1 Player 7"}]
[null,{"$f":"GAMES!B19","v":"00:00:00"},{"$f":"GAMES!C19","v":"00:00:00"},{"$f":"GAMES!D19","v":0},{"$f":"GAMES!E19","v":" Block 1 Player 6"},{"$f":"GAMES!F19","v":"vs"},{"$f":"GAMES!G19","v":" Block 1 Player 8"}]
[null,{"$f":"GAMES!B20","v":"00:00:00"},{"$f":"GAMES!C20","v":"00:00:00"},{"$f":"GAMES!D20","v":0},{"$f":"GAMES!E20","v":" Block 1 Player 5"},{"$f":"GAMES!F20","v":"vs"},{"$f":"GAMES!G20","v":" Block 1 Player 9"}]
[null,{"$f":"GAMES!B21","v":"00:00:00"},{"$f":"GAMES!C21","v":"00:00:00"},{"$f":"GAMES!D21","v":0},{"$f":"GAMES!E21","v":" Block 1 Player 4"},{"$f":"GAMES!F21","v":"vs"},{"$f":"GAMES!G21","v":" Block 1 Player 10"}]
[null,{"$f":"GAMES!B22","v":"00:00:00"},{"$f":"GAMES!C22","v":"00:00:00"},{"$f":"GAMES!D22","v":0},{"$f":"GAMES!E22","v":" Block 1 Player 3"},{"$f":"GAMES!F22","v":"vs"},{"$f":"GAMES!G22","v":" Block 1 Player 2"}]
[null,{"$f":"GAMES!B23","v":"00:00:00"},{"$f":"GAMES!C23","v":"00:00:00"},{"$f":"GAMES!D23","v":0},{"$f":"GAMES!E23","v":" Block 1 Player 1"},{"$f":"GAMES!F23","v":"vs"},{"$f":"GAMES!G23","v":" Block 1 Player 6"}]
[null,{"$f":"GAMES!B24","v":"00:00:00"},{"$f":"GAMES!C24","v":"00:00:00"},{"$f":"GAMES!D24","v":0},{"$f":"GAMES!E24","v":" Block 1 Player 5"},{"$f":"GAMES!F24","v":"vs"},{"$f":"GAMES!G24","v":" Block 1 Player 7"}]
[null,{"$f":"GAMES!B25","v":"00:00:00"},{"$f":"GAMES!C25","v":"00:00:00"},{"$f":"GAMES!D25","v":0},{"$f":"GAMES!E25","v":" Block 1 Player 4"},{"$f":"GAMES!F25","v":"vs"},{"$f":"GAMES!G25","v":" Block 1 Player 8"}]
[null,{"$f":"GAMES!B26","v":"00:00:00"},{"$f":"GAMES!C26","v":"00:00:00"},{"$f":"GAMES!D26","v":0},{"$f":"GAMES!E26","v":" Block 1 Player 3"},{"$f":"GAMES!F26","v":"vs"},{"$f":"GAMES!G26","v":" Block 1 Player 9"}]
[null,{"$f":"GAMES!B27","v":"00:00:00"},{"$f":"GAMES!C27","v":"00:00:00"},{"$f":"GAMES!D27","v":0},{"$f":"GAMES!E27","v":" Block 1 Player 2"},{"$f":"GAMES!F27","v":"vs"},{"$f":"GAMES!G27","v":" Block 1 Player 10"}]
[null,{"$f":"GAMES!B28","v":"00:00:00"},{"$f":"GAMES!C28","v":"00:00:00"},{"$f":"GAMES!D28","v":0},{"$f":"GAMES!E28","v":" Block 1 Player 1"},{"$f":"GAMES!F28","v":"vs"},{"$f":"GAMES!G28","v":" Block 1 Player 5"}]
[null,{"$f":"GAMES!B29","v":"00:00:00"},{"$f":"GAMES!C29","v":"00:00:00"},{"$f":"GAMES!D29","v":0},{"$f":"GAMES!E29","v":" Block 1 Player 4"},{"$f":"GAMES!F29","v":"vs"},{"$f":"GAMES!G29","v":" Block 1 Player 6"}]
[null,{"$f":"GAMES!B30","v":"00:00:00"},{"$f":"GAMES!C30","v":"00:00:00"},{"$f":"GAMES!D30","v":0},{"$f":"GAMES!E30","v":" Block 1 Player 3"},{"$f":"GAMES!F30","v":"vs"},{"$f":"GAMES!G30","v":" Block 1 Player 7"}]
[null,{"$f":"GAMES!B31","v":"00:00:00"},{"$f":"GAMES!C31","v":"00:00:00"},{"$f":"GAMES!D31","v":0},{"$f":"GAMES!E31","v":" Block 1 Player 2"},{"$f":"GAMES!F31","v":"vs"},{"$f":"GAMES!G31","v":" Block 1 Player 8"}]
[null,{"$f":"GAMES!B32","v":"00:00:00"},{"$f":"GAMES!C32","v":"00:00:00"},{"$f":"GAMES!D32","v":0},{"$f":"GAMES!E32","v":" Block 1 Player 10"},{"$f":"GAMES!F32","v":"vs"},{"$f":"GAMES!G32","v":" Block 1 Player 9"}]
[null,{"$f":"GAMES!B33","v":"00:00:00"},{"$f":"GAMES!C33","v":"00:00:00"},{"$f":"GAMES!D33","v":0},{"$f":"GAMES!E33","v":" Block 1 Player 1"},{"$f":"GAMES!F33","v":"vs"},{"$f":"GAMES!G33","v":" Block 1 Player 4"}]
[null,{"$f":"GAMES!B34","v":"00:00:00"},{"$f":"GAMES!C34","v":"00:00:00"},{"$f":"GAMES!D34","v":0},{"$f":"GAMES!E34","v":" Block 1 Player 5"},{"$f":"GAMES!F34","v":"vs"},{"$f":"GAMES!G34","v":" Block 1 Player 3"}]
[null,{"$f":"GAMES!B35","v":"00:00:00"},{"$f":"GAMES!C35","v":"00:00:00"},{"$f":"GAMES!D35","v":0},{"$f":"GAMES!E35","v":" Block 1 Player 2"},{"$f":"GAMES!F35","v":"vs"},{"$f":"GAMES!G35","v":" Block 1 Player 6"}]
[null,{"$f":"GAMES!B36","v":"00:00:00"},{"$f":"GAMES!C36","v":"00:00:00"},{"$f":"GAMES!D36","v":0},{"$f":"GAMES!E36","v":" Block 1 Player 10"},{"$f":"GAMES!F36","v":"vs"},{"$f":"GAMES!G36","v":" Block 1 Player 7"}]
[null,{"$f":"GAMES!B37","v":"00:00:00"},{"$f":"GAMES!C37","v":"00:00:00"},{"$f":"GAMES!D37","v":0},{"$f":"GAMES!E37","v":" Block 1 Player 9"},{"$f":"GAMES!F37","v":"vs"},{"$f":"GAMES!G37","v":" Block 1 Player 8"}]
[null,{"$f":"GAMES!B38","v":"00:00:00"},{"$f":"GAMES!C38","v":"00:00:00"},{"$f":"GAMES!D38","v":0},{"$f":"GAMES!E38","v":" Block 1 Player 1"},{"$f":"GAMES!F38","v":"vs"},{"$f":"GAMES!G38","v":" Block 1 Player 3"}]
[null,{"$f":"GAMES!B39","v":"00:00:00"},{"$f":"GAMES!C39","v":"00:00:00"},{"$f":"GAMES!D39","v":0},{"$f":"GAMES!E39","v":" Block 1 Player 2"},{"$f":"GAMES!F39","v":"vs"},{"$f":"GAMES!G39","v":" Block 1 Player 4"}]
[null,{"$f":"GAMES!B40","v":"00:00:00"},{"$f":"GAMES!C40","v":"00:00:00"},{"$f":"GAMES!D40","v":0},{"$f":"GAMES!E40","v":" Block 1 Player 10"},{"$f":"GAMES!F40","v":"vs"},{"$f":"GAMES!G40","v":" Block 1 Player 5"}]
[null,{"$f":"GAMES!B41","v":"00:00:00"},{"$f":"GAMES!C41","v":"00:00:00"},{"$f":"GAMES!D41","v":0},{"$f":"GAMES!E41","v":" Block 1 Player 9"},{"$f":"GAMES!F41","v":"vs"},{"$f":"GAMES!G41","v":" Block 1 Player 6"}]
[null,{"$f":"GAMES!B42","v":"00:00:00"},{"$f":"GAMES!C42","v":"00:00:00"},{"$f":"GAMES!D42","v":0},{"$f":"GAMES!E42","v":" Block 1 Player 8"},{"$f":"GAMES!F42","v":"vs"},{"$f":"GAMES!G42","v":" Block 1 Player 7"}]
[null,{"$f":"GAMES!B43","v":"00:00:00"},{"$f":"GAMES!C43","v":"00:00:00"},{"$f":"GAMES!D43","v":0},{"$f":"GAMES!E43","v":" Block 1 Player 1"},{"$f":"GAMES!F43","v":"vs"},{"$f":"GAMES!G43","v":" Block 1 Player 2"}]
[null,{"$f":"GAMES!B44","v":"00:00:00"},{"$f":"GAMES!C44","v":"00:00:00"},{"$f":"GAMES!D44","v":0},{"$f":"GAMES!E44","v":" Block 1 Player 10"},{"$f":"GAMES!F44","v":"vs"},{"$f":"GAMES!G44","v":" Block 1 Player 3"}]
[null,{"$f":"GAMES!B45","v":"00:00:00"},{"$f":"GAMES!C45","v":"00:00:00"},{"$f":"GAMES!D45","v":0},{"$f":"GAMES!E45","v":" Block 1 Player 9"},{"$f":"GAMES!F45","v":"vs"},{"$f":"GAMES!G45","v":" Block 1 Player 4"}]
[null,{"$f":"GAMES!B46","v":"00:00:00"},{"$f":"GAMES!C46","v":"00:00:00"},{"$f":"GAMES!D46","v":0},{"$f":"GAMES!E46","v":" Block 1 Player 8"},{"$f":"GAMES!F46","v":"vs"},{"$f":"GAMES!G46","v":" Block 1 Player 5"}]
[null,{"$f":"GAMES!B47","v":"00:00:00"},{"$f":"GAMES!C47","v":"00:00:00"},{"$f":"GAMES!D47","v":0},{"$f":"GAMES!E47","v":" Block 1 Player 7"},{"$f":"GAMES!F47","v":"vs"},{"$f":"GAMES!G47","v":" Block 1 Player 6"}]
[null,{"$f":"GAMES!B51","v":"00:00:00"},{"$f":"GAMES!C51","v":"00:00:00"},{"$f":"GAMES!D51","v":0},{"$f":"GAMES!E51","v":" Block 2 Player 1"},{"$f":"GAMES!F51","v":"vs"},{"$f":"GAMES!G51","v":" Block 2 Player 10"}]
[null,{"$f":"GAMES!B52","v":"00:00:00"},{"$f":"GAMES!C52","v":"00:00:00"},{"$f":"GAMES!D52","v":0},{"$f":"GAMES!E52","v":" Block 2 Player 2"},{"$f":"GAMES!F52","v":"vs"},{"$f":"GAMES!G52","v":" Block 2 Player 9"}]
[null,{"$f":"GAMES!B53","v":"00:00:00"},{"$f":"GAMES!C53","v":"00:00:00"},{"$f":"GAMES!D53","v":0},{"$f":"GAMES!E53","v":" Block 2 Player 3"},{"$f":"GAMES!F53","v":"vs"},{"$f":"GAMES!G53","v":" Block 2 Player 8"}]
[null,{"$f":"GAMES!B54","v":"00:00:00"},{"$f":"GAMES!C54","v":"00:00:00"},{"$f":"GAMES!D54","v":0},{"$f":"GAMES!E54","v":" Block 2 Player 4"},{"$f":"GAMES!F54","v":"vs"},{"$f":"GAMES!G54","v":" Block 2 Player 7"}]
[null,{"$f":"GAMES!B55","v":"00:00:00"},{"$f":"GAMES!C55","v":"00:00:00"},{"$f":"GAMES!D55","v":0},{"$f":"GAMES!E55","v":" Block 2 Player 5"},{"$f":"GAMES!F55","v":"vs"},{"$f":"GAMES!G55","v":" Block 2 Player 6"}]
[null,{"$f":"GAMES!B56","v":"00:00:00"},{"$f":"GAMES!C56","v":"00:00:00"},{"$f":"GAMES!D56","v":0},{"$f":"GAMES!E56","v":" Block 2 Player 1"},{"$f":"GAMES!F56","v":"vs"},{"$f":"GAMES!G56","v":" Block 2 Player 9"}]
[null,{"$f":"GAMES!B57","v":"00:00:00"},{"$f":"GAMES!C57","v":"00:00:00"},{"$f":"GAMES!D57","v":0},{"$f":"GAMES!E57","v":" Block 2 Player 8"},{"$f":"GAMES!F57","v":"vs"},{"$f":"GAMES!G57","v":" Block 2 Player 10"}]
[null,{"$f":"GAMES!B58","v":"00:00:00"},{"$f":"GAMES!C58","v":"00:00:00"},{"$f":"GAMES!D58","v":0},{"$f":"GAMES!E58","v":" Block 2 Player 7"},{"$f":"GAMES!F58","v":"vs"},{"$f":"GAMES!G58","v":" Block 2 Player 2"}]
[null,{"$f":"GAMES!B59","v":"00:00:00"},{"$f":"GAMES!C59","v":"00:00:00"},{"$f":"GAMES!D59","v":0},{"$f":"GAMES!E59","v":" Block 2 Player 6"},{"$f":"GAMES!F59","v":"vs"},{"$f":"GAMES!G59","v":" Block 2 Player 3"}]
[null,{"$f":"GAMES!B60","v":"00:00:00"},{"$f":"GAMES!C60","v":"00:00:00"},{"$f":"GAMES!D60","v":0},{"$f":"GAMES!E60","v":" Block 2 Player 5"},{"$f":"GAMES!F60","v":"vs"},{"$f":"GAMES!G60","v":" Block 2 Player 4"}]
[null,{"$f":"GAMES!B61","v":"00:00:00"},{"$f":"GAMES!C61","v":"00:00:00"},{"$f":"GAMES!D61","v":0},{"$f":"GAMES!E61","v":" Block 2 Player 1"},{"$f":"GAMES!F61","v":"vs"},{"$f":"GAMES!G61","v":" Block 2 Player 8"}]
[null,{"$f":"GAMES!B62","v":"00:00:00"},{"$f":"GAMES!C62","v":"00:00:00"},{"$f":"GAMES!D62","v":0},{"$f":"GAMES!E62","v":" Block 2 Player 7"},{"$f":"GAMES!F62","v":"vs"},{"$f":"GAMES!G62","v":" Block 2 Player 9"}]
[null,{"$f":"GAMES!B63","v":"00:00:00"},{"$f":"GAMES!C63","v":"00:00:00"},{"$f":"GAMES!D63","v":0},{"$f":"GAMES!E63","v":" Block 2 Player 6"},{"$f":"GAMES!F63","v":"vs"},{"$f":"GAMES!G63","v":" Block 2 Player 10"}]
[null,{"$f":"GAMES!B64","v":"00:00:00"},{"$f":"GAMES!C64","v":"00:00:00"},{"$f":"GAMES!D64","v":0},{"$f":"GAMES!E64","v":" Block 2 Player 5"},{"$f":"GAMES!F64","v":"vs"},{"$f":"GAMES!G64","v":" Block 2 Player 2"}]
[null,{"$f":"GAMES!B65","v":"00:00:00"},{"$f":"GAMES!C65","v":"00:00:00"},{"$f":"GAMES!D65","v":0},{"$f":"GAMES!E65","v":" Block 2 Player 4"},{"$f":"GAMES!F65","v":"vs"},{"$f":"GAMES!G65","v":" Block 2 Player 3"}]
[null,{"$f":"GAMES!B66","v":"00:00:00"},{"$f":"GAMES!C66","v":"00:00:00"},{"$f":"GAMES!D66","v":0},{"$f":"GAMES!E66","v":" Block 2 Player 1"},{"$f":"GAMES!F66","v":"vs"},{"$f":"GAMES!G66","v":" Block 2 Player 7"}]
[null,{"$f":"GAMES!B67","v":"00:00:00"},{"$f":"GAMES!C67","v":"00:00:00"},{"$f":"GAMES!D67","v":0},{"$f":"GAMES!E67","v":" Block 2 Player 6"},{"$f":"GAMES!F67","v":"vs"},{"$f":"GAMES!G67","v":" Block 2 Player 8"}]
[null,{"$f":"GAMES!B68","v":"00:00:00"},{"$f":"GAMES!C68","v":"00:00:00"},{"$f":"GAMES!D68","v":0},{"$f":"GAMES!E68","v":" Block 2 Player 5"},{"$f":"GAMES!F68","v":"vs"},{"$f":"GAMES!G68","v":" Block 2 Player 9"}]
[null,{"$f":"GAMES!B69","v":"00:00:00"},{"$f":"GAMES!C69","v":"00:00:00"},{"$f":"GAMES!D69","v":0},{"$f":"GAMES!E69","v":" Block 2 Player 4"},{"$f":"GAMES!F69","v":"vs"},{"$f":"GAMES!G69","v":" Block 2 Player 10"}]
[null,{"$f":"GAMES!B70","v":"00:00:00"},{"$f":"GAMES!C70","v":"00:00:00"},{"$f":"GAMES!D70","v":0},{"$f":"GAMES!E70","v":" Block 2 Player 3"},{"$f":"GAMES!F70","v":"vs"},{"$f":"GAMES!G70","v":" Block 2 Player 2"}]
[null,{"$f":"GAMES!B71","v":"00:00:00"},{"$f":"GAMES!C71","v":"00:00:00"},{"$f":"GAMES!D71","v":0},{"$f":"GAMES!E71","v":" Block 2 Player 1"},{"$f":"GAMES!F71","v":"vs"},{"$f":"GAMES!G71","v":" Block 2 Player 6"}]
[null,{"$f":"GAMES!B72","v":"00:00:00"},{"$f":"GAMES!C72","v":"00:00:00"},{"$f":"GAMES!D72","v":0},{"$f":"GAMES!E72","v":" Block 2 Player 5"},{"$f":"GAMES!F72","v":"vs"},{"$f":"GAMES!G72","v":" Block 2 Player 7"}]
[null,{"$f":"GAMES!B73","v":"00:00:00"},{"$f":"GAMES!C73","v":"00:00:00"},{"$f":"GAMES!D73","v":0},{"$f":"GAMES!E73","v":" Block 2 Player 4"},{"$f":"GAMES!F73","v":"vs"},{"$f":"GAMES!G73","v":" Block 2 Player 8"}]
[null,{"$f":"GAMES!B74","v":"00:00:00"},{"$f":"GAMES!C74","v":"00:00:00"},{"$f":"GAMES!D74","v":0},{"$f":"GAMES!E74","v":" Block 2 Player 3"},{"$f":"GAMES!F74","v":"vs"},{"$f":"GAMES!G74","v":" Block 2 Player 9"}]
[null,{"$f":"GAMES!B75","v":"00:00:00"},{"$f":"GAMES!C75","v":"00:00:00"},{"$f":"GAMES!D75","v":0},{"$f":"GAMES!E75","v":" Block 2 Player 2"},{"$f":"GAMES!F75","v":"vs"},{"$f":"GAMES!G75","v":" Block 2 Player 10"}]
[null,{"$f":"GAMES!B76","v":"00:00:00"},{"$f":"GAMES!C76","v":"00:00:00"},{"$f":"GAMES!D76","v":0},{"$f":"GAMES!E76","v":" Block 2 Player 1"},{"$f":"GAMES!F76","v":"vs"},{"$f":"GAMES!G76","v":" Block 2 Player 5"}]
[null,{"$f":"GAMES!B77","v":"00:00:00"},{"$f":"GAMES!C77","v":"00:00:00"},{"$f":"GAMES!D77","v":0},{"$f":"GAMES!E77","v":" Block 2 Player 4"},{"$f":"GAMES!F77","v":"vs"},{"$f":"GAMES!G77","v":" Block 2 Player 6"}]
[null,{"$f":"GAMES!B78","v":"00:00:00"},{"$f":"GAMES!C78","v":"00:00:00"},{"$f":"GAMES!D78","v":0},{"$f":"GAMES!E78","v":" Block 2 Player 3"},{"$f":"GAMES!F78","v":"vs"},{"$f":"GAMES!G78","v":" Block 2 Player 7"}]
[null,{"$f":"GAMES!B79","v":"00:00:00"},{"$f":"GAMES!C79","v":"00:00:00"},{"$f":"GAMES!D79","v":0},{"$f":"GAMES!E79","v":" Block 2 Player 2"},{"$f":"GAMES!F79","v":"vs"},{"$f":"GAMES!G79","v":" Block 2 Player 8"}]
[null,{"$f":"GAMES!B80","v":"00:00:00"},{"$f":"GAMES!C80","v":"00:00:00"},{"$f":"GAMES!D80","v":0},{"$f":"GAMES!E80","v":" Block 2 Player 10"},{"$f":"GAMES!F80","v":"vs"},{"$f":"GAMES!G80","v":" Block 2 Player 9"}]
[null,{"$f":"GAMES!B81","v":"00:00:00"},{"$f":"GAMES!C81","v":"00:00:00"},{"$f":"GAMES!D81","v":0},{"$f":"GAMES!E81","v":" Block 2 Player 1"},{"$f":"GAMES!F81","v":"vs"},{"$f":"GAMES!G81","v":" Block 2 Player 4"}]
[null,{"$f":"GAMES!B82","v":"00:00:00"},{"$f":"GAMES!C82","v":"00:00:00"},{"$f":"GAMES!D82","v":0},{"$f":"GAMES!E82","v":" Block 2 Player 5"},{"$f":"GAMES!F82","v":"vs"},{"$f":"GAMES!G82","v":" Block 2 Player 3"}]
[null,{"$f":"GAMES!B83","v":"00:00:00"},{"$f":"GAMES!C83","v":"00:00:00"},{"$f":"GAMES!D83","v":0},{"$f":"GAMES!E83","v":" Block 2 Player 2"},{"$f":"GAMES!F83","v":"vs"},{"$f":"GAMES!G83","v":" Block 2 Player 6"}]
[null,{"$f":"GAMES!B84","v":"00:00:00"},{"$f":"GAMES!C84","v":"00:00:00"},{"$f":"GAMES!D84","v":0},{"$f":"GAMES!E84","v":" Block 2 Player 10"},{"$f":"GAMES!F84","v":"vs"},{"$f":"GAMES!G84","v":" Block 2 Player 7"}]
[null,{"$f":"GAMES!B85","v":"00:00:00"},{"$f":"GAMES!C85","v":"00:00:00"},{"$f":"GAMES!D85","v":0},{"$f":"GAMES!E85","v":" Block 2 Player 9"},{"$f":"GAMES!F85","v":"vs"},{"$f":"GAMES!G85","v":" Block 2 Player 8"}]
[null,{"$f":"GAMES!B86","v":"00:00:00"},{"$f":"GAMES!C86","v":"00:00:00"},{"$f":"GAMES!D86","v":0},{"$f":"GAMES!E86","v":" Block 2 Player 1"},{"$f":"GAMES!F86","v":"vs"},{"$f":"GAMES!G86","v":" Block 2 Player 3"}]
[null,{"$f":"GAMES!B87","v":"00:00:00"},{"$f":"GAMES!C87","v":"00:00:00"},{"$f":"GAMES!D87","v":0},{"$f":"GAMES!E87","v":" Block 2 Player 2"},{"$f":"GAMES!F87","v":"vs"},{"$f":"GAMES!G87","v":" Block 2 Player 4"}]
[null,{"$f":"GAMES!B88","v":"00:00:00"},{"$f":"GAMES!C88","v":"00:00:00"},{"$f":"GAMES!D88","v":0},{"$f":"GAMES!E88","v":" Block 2 Player 10"},{"$f":"GAMES!F88","v":"vs"},{"$f":"GAMES!G88","v":" Block 2 Player 5"}]
[null,{"$f":"GAMES!B89","v":"00:00:00"},{"$f":"GAMES!C89","v":"00:00:00"},{"$f":"GAMES!D89","v":0},{"$f":"GAMES!E89","v":" Block 2 Player 9"},{"$f":"GAMES!F89","v":"vs"},{"$f":"GAMES!G89","v":" Block 2 Player 6"}]
[null,{"$f":"GAMES!B90","v":"00:00:00"},{"$f":"GAMES!C90","v":"00:00:00"},{"$f":"GAMES!D90","v":0},{"$f":"GAMES!E90","v":" Block 2 Player 8"},{"$f":"GAMES!F90","v":"vs"},{"$f":"GAMES!G90","v":" Block 2 Player 7"}]
[null,{"$f":"GAMES!B91","v":"00:00:00"},{"$f":"GAMES!C91","v":"00:00:00"},{"$f":"GAMES!D91","v":0},{"$f":"GAMES!E91","v":" Block 2 Player 1"},{"$f":"GAMES!F91","v":"vs"},{"$f":"GAMES!G91","v":" Block 2 Player 2"}]
[null,{"$f":"GAMES!B92","v":"00:00:00"},{"$f":"GAMES!C92","v":"00:00:00"},{"$f":"GAMES!D92","v":0},{"$f":"GAMES!E92","v":" Block 2 Player 10"},{"$f":"GAMES!F92","v":"vs"},{"$f":"GAMES!G92","v":" Block 2 Player 3"}]
[null,{"$f":"GAMES!B93","v":"00:00:00"},{"$f":"GAMES!C93","v":"00:00:00"},{"$f":"GAMES!D93","v":0},{"$f":"GAMES!E93","v":" Block 2 Player 9"},{"$f":"GAMES!F93","v":"vs"},{"$f":"GAMES!G93","v":" Block 2 Player 4"}]
[null,{"$f":"GAMES!B94","v":"00:00:00"},{"$f":"GAMES!C94","v":"00:00:00"},{"$f":"GAMES!D94","v":0},{"$f":"GAMES!E94","v":" Block 2 Player 8"},{"$f":"GAMES!F94","v":"vs"},{"$f":"GAMES!G94","v":" Block 2 Player 5"}]
[null,{"$f":"GAMES!B95","v":"00:00:00"},{"$f":"GAMES!C95","v":"00:00:00"},{"$f":"GAMES!D95","v":0},{"$f":"GAMES!E95","v":" Block 2 Player 7"},{"$f":"GAMES!F95","v":"vs"},{"$f":"GAMES!G95","v":" Block 2 Player 6"}]

{"sheet":"WAIT","index":19,"n_rows":0,"n_cols":0,"rows_kept":0,"cut":false,"hidden":true,"merged":[]}

{"sheet":"TABLE","index":20,"n_rows":72,"n_cols":31,"rows_kept":72,"cut":false,"hidden":true,"merged":[[41,3,41,30],[42,3,42,30],[44,1,71,1],[6,4,6,27],[8,3,8,30],[9,3,9,30],[11,1,38,1]]}
[]
[null,"WIN=1",1]
[]
[null,"PLAYER",1]
[null,"OPPONENT",1]
[]
[null,"RESULTS",{"$f":"IF(C2>0,(VLOOKUP(C4,WIN,(MATCH(C5,D11:AE11,0)+1))),(VLOOKUP(C4,LOSE,(MATCH(C5,D44:AE44,0)+1))))","v":10},"<----","IF(B2>0,(VLOOKUP(B4,WIN,(MATCH(B5,C11:AE11,0)+1))),(VLOOKUP(B4,LOSE,(MATCH(B5,C45:AE45,0)+1))))"]
[]
[null,null,null,"WIN TABLE"]
[null,null,null,"OPPONENT HANDICAP"]
[null,null,null,-2,-1.5,-1,-0.5,0,0.5,1,1.5,2,2.5,3,3.5,4,4.5,5,6,7,8,9,10,11,12,14,16,18,20,22,24]
[null,"PLAYER HANDICAP",-2,10,6,3,2,1,1,1,1,1,1,1,1,1,1,1,1,1,1,1,1,1,1,1,1,1,1,1,1]
[null,null,-1.5,14,10,7,4,3,2,2,1,1,1,1,1,1,1,1,1,1,1,1,1,1,1,1,1,1,1,1,1]
[null,null,-1,17,13,10,7,5,4,3,3,2,2,1,1,1,1,1,1,1,1,1,1,1,1,1,1,1,1,1,1]
[null,null,-0.5,18,16,13,10,8,7,6,5,4,3,3,2,2,1,1,1,1,1,1,1,1,1,1,1,1,1,1,1]
[null,null,0,19,17,15,12,10,9,8,7,6,5,4,3,3,2,2,1,1,1,1,1,1,1,1,1,1,1,1,1]
[null,null,0.5,19,18,16,13,11,10,9,8,7,6,5,4,3,3,2,2,1,1,1,1,1,1,1,1,1,1,1,1]
[null,null,1,19,18,17,14,12,11,10,9,8,7,6,5,4,3,3,2,2,1,1,1,1,1,1,1,1,1,1,1]
[null,null,1.5,19,19,17,15,13,12,11,10,9,8,7,6,5,4,3,3,2,2,1,1,1,1,1,1,1,1,1,1]
[null,null,2,19,19,18,16,14,13,12,11,10,9,8,7,6,5,4,3,3,2,2,1,1,1,1,1,1,1,1,1]
[null,null,2.5,19,19,18,17,15,14,13,12,11,10,9,8,7,6,5,4,3,3,2,2,1,1,1,1,1,1,1,1]
[null,null,3,19,19,19,17,16,15,14,13,12,11,10,9,8,7,6,5,4,3,3,2,2,1,1,1,1,1,1,1]
[null,null,3.5,19,19,19,18,17,16,15,14,13,12,11,10,9,8,7,6,5,4,3,3,2,2,1,1,1,1,1,1]
[null,null,4,19,19,19,18,17,17,16,15,14,13,12,11,10,9,8,7,6,5,4,3,3,2,2,1,1,1,1,1]
[null,null,4.5,19,19,19,19,18,17,17,16,15,14,13,12,11,10,9,8,7,6,5,4,3,3,2,2,1,1,1,1]
[null,null,5,19,19,19,19,18,18,17,17,16,15,14,13,12,11,10,9,8,7,6,5,4,3,3,2,2,1,1,1]
[null,null,6,19,19,19,19,19,18,18,17,17,16,15,14,13,12,11,10,9,8,7,6,5,4,3,3,2,2,1,1]
[null,null,7,19,19,19,19,19,19,18,18,17,17,16,15,14,13,12,11,10,9,8,7,6,5,4,3,3,2,2,1]
[null,null,8,19,19,19,19,19,19,19,18,18,17,17,16,15,14,13,12,11,10,9,8,7,6,5,4,3,3,2,2]
[null,null,9,19,19,19,19,19,19,19,19,18,18,17,17,16,15,14,13,12,11,10,9,8,7,6,5,4,3,3,2]
[null,null,10,19,19,19,19,19,19,19,19,19,18,18,17,17,16,15,14,13,12,11,10,9,8,7,6,5,4,3,3]
[null,null,11,19,19,19,19,19,19,19,19,19,19,18,18,17,17,16,15,14,13,12,11,10,9,8,7,6,5,4,3]
[null,null,12,19,19,19,19,19,19,19,19,19,19,19,18,18,17,17,16,15,14,13,12,11,10,9,8,7,6,5,4]
[null,null,14,19,19,19,19,19,19,19,19,19,19,19,19,18,18,17,17,16,15,14,13,12,11,10,9,8,7,6,5]
[null,null,16,19,19,19,19,19,19,19,19,19,19,19,19,19,18,18,17,17,16,15,14,13,12,11,10,9,8,7,6]
[null,null,18,19,19,19,19,19,19,19,19,19,19,19,19,19,19,18,18,17,17,16,15,14,13,12,11,10,9,8,7]
[null,null,20,19,19,19,19,19,19,19,19,19,19,19,19,19,19,19,18,18,17,17,16,15,14,13,12,11,10,9,8]
[null,null,22,19,19,19,19,19,19,19,19,19,19,19,19,19,19,19,19,18,18,17,17,16,15,14,13,12,11,10,9]
[null,null,24,19,19,19,19,19,19,19,19,19,19,19,19,19,19,19,19,19,18,18,17,17,16,15,14,13,12,11,10]
[]
[]
[null,null,null,"LOSE TABLE"]
[null,null,null,"OPPONENT HANDICAP"]
[null,null,null,-2,-1.5,-1,-0.5,0,0.5,1,1.5,2,2.5,3,3.5,4,4.5,5,6,7,8,9,10,11,12,14,16,18,20,22,24]
[null,"PLAYER HANDICAP",-2,-10,-14,-17,-18,-19,-19,-19,-19,-19,-19,-19,-19,-19,-19,-19,-19,-19,-19,-19,-19,-19,-19,-19,-19,-19,-19,-19,-19]
[null,null,-1.5,-6,-10,-13,-16,-17,-18,-19,-19,-19,-19,-19,-19,-19,-19,-19,-19,-19,-19,-19,-19,-19,-19,-19,-19,-19,-19,-19,-19]
[null,null,-1,-3,-7,-10,-13,-15,-16,-17,-17,-18,-18,-19,-19,-19,-19,-19,-19,-19,-19,-19,-19,-19,-19,-19,-19,-19,-19,-19,-19]
[null,null,-0.5,-2,-4,-7,-10,-12,-13,-14,-15,-16,-17,-17,-18,-18,-19,-19,-19,-19,-19,-19,-19,-19,-19,-19,-19,-19,-19,-19,-19]
[null,null,0,-1,-3,-5,-8,-10,-11,-12,-13,-14,-15,-16,-17,-17,-18,-18,-19,-19,-19,-19,-19,-19,-19,-19,-19,-19,-19,-19,-19]
[null,null,0.5,-1,-2,-4,-7,-9,-10,-11,-12,-13,-14,-15,-16,-17,-17,-18,-18,-19,-19,-19,-19,-19,-19,-19,-19,-19,-19,-19,-19]
[null,null,1,-1,-2,-3,-6,-8,-9,-10,-11,-12,-13,-14,-15,-16,-17,-17,-18,-18,-19,-19,-19,-19,-19,-19,-19,-19,-19,-19,-19]
[null,null,1.5,-1,-1,-3,-5,-7,-8,-9,-10,-11,-12,-13,-14,-15,-16,-17,-17,-18,-18,-19,-19,-19,-19,-19,-19,-19,-19,-19,-19]
[null,null,2,-1,-1,-2,-4,-6,-7,-8,-9,-10,-11,-12,-13,-14,-15,-16,-17,-17,-18,-18,-19,-19,-19,-19,-19,-19,-19,-19,-19]
[null,null,2.5,-1,-1,-2,-3,-5,-6,-7,-8,-9,-10,-11,-12,-13,-14,-15,-16,-17,-17,-18,-18,-19,-19,-19,-19,-19,-19,-19,-19]
[null,null,3,-1,-1,-1,-3,-4,-5,-6,-7,-8,-9,-10,-11,-12,-13,-14,-15,-16,-17,-17,-18,-18,-19,-19,-19,-19,-19,-19,-19]
[null,null,3.5,-1,-1,-1,-2,-3,-4,-5,-6,-7,-8,-9,-10,-11,-12,-13,-14,-15,-16,-17,-17,-18,-18,-19,-19,-19,-19,-19,-19]
[null,null,4,-1,-1,-1,-2,-3,-3,-4,-5,-6,-7,-8,-9,-10,-11,-12,-13,-14,-15,-16,-17,-17,-18,-18,-19,-19,-19,-19,-19]
[null,null,4.5,-1,-1,-1,-1,-2,-3,-3,-4,-5,-6,-7,-8,-9,-10,-11,-12,-13,-14,-15,-16,-17,-17,-18,-18,-19,-19,-19,-19]
[null,null,5,-1,-1,-1,-1,-2,-2,-3,-3,-4,-5,-6,-7,-8,-9,-10,-11,-12,-13,-14,-15,-16,-17,-17,-18,-18,-19,-19,-19]
[null,null,6,-1,-1,-1,-1,-1,-2,-2,-3,-3,-4,-5,-6,-7,-8,-9,-10,-11,-12,-13,-14,-15,-16,-17,-17,-18,-18,-19,-19]
[null,null,7,-1,-1,-1,-1,-1,-1,-2,-2,-3,-3,-4,-5,-6,-7,-8,-9,-10,-11,-12,-13,-14,-15,-16,-17,-17,-18,-18,-19]
[null,null,8,-1,-1,-1,-1,-1,-1,-1,-2,-2,-3,-3,-4,-5,-6,-7,-8,-9,-10,-11,-12,-13,-14,-15,-16,-17,-17,-18,-18]
[null,null,9,-1,-1,-1,-1,-1,-1,-1,-1,-2,-2,-3,-3,-4,-5,-6,-7,-8,-9,-10,-11,-12,-13,-14,-15,-16,-17,-17,-18]
[null,null,10,-1,-1,-1,-1,-1,-1,-1,-1,-1,-2,-2,-3,-3,-4,-5,-6,-7,-8,-9,-10,-11,-12,-13,-14,-15,-16,-17,-17]
[null,null,11,-1,-1,-1,-1,-1,-1,-1,-1,-1,-1,-2,-2,-3,-3,-4,-5,-6,-7,-8,-9,-10,-11,-12,-13,-14,-15,-16,-17]
[null,null,12,-1,-1,-1,-1,-1,-1,-1,-1,-1,-1,-1,-2,-2,-3,-3,-4,-5,-6,-7,-8,-9,-10,-11,-12,-13,-14,-15,-16]
[null,null,14,-1,-1,-1,-1,-1,-1,-1,-1,-1,-1,-1,-1,-2,-2,-3,-3,-4,-5,-6,-7,-8,-9,-10,-11,-12,-13,-14,-15]
[null,null,16,-1,-1,-1,-1,-1,-1,-1,-1,-1,-1,-1,-1,-1,-2,-2,-3,-3,-4,-5,-6,-7,-8,-9,-10,-11,-12,-13,-14]
[null,null,18,-1,-1,-1,-1,-1,-1,-1,-1,-1,-1,-1,-1,-1,-1,-2,-2,-3,-3,-4,-5,-6,-7,-8,-9,-10,-11,-12,-13]
[null,null,20,-1,-1,-1,-1,-1,-1,-1,-1,-1,-1,-1,-1,-1,-1,-1,-2,-2,-3,-3,-4,-5,-6,-7,-8,-9,-10,-11,-12]
[null,null,22,-1,-1,-1,-1,-1,-1,-1,-1,-1,-1,-1,-1,-1,-1,-1,-1,-2,-2,-3,-3,-4,-5,-6,-7,-8,-9,-10,-11]
[null,null,24,-1,-1,-1,-1,-1,-1,-1,-1,-1,-1,-1,-1,-1,-1,-1,-1,-1,-2,-2,-3,-3,-4,-5,-6,-7,-8,-9,-10]